Workbook
Name Acoua: villes!$B$8:$B$9
Name Bandraboua: villes!$C$8:$C$12
Name Bandrélé: villes!$D$8:$D$13
Name Bouéni: villes!$E$8:$E$13
Name Chiconi: villes!$F$8:$F$9
Name Chirongui: villes!$G$8:$G$13
Name Circos: data!$F$43:$F$54
Name Classe: #REF!
Name Classes: data!$I$43:$K$43
Name Communes: data!$F$14:$F$30
Name Dembéni: villes!$H$8:$H$12
Name departements: data!$N$5:$O$112
Name DzaoudziLab: villes!$I$8:$I$9
Name Ecoles: data!$B$4:$B$19
Name Ecoles_de_votre_circo: Aremplir!$H$6:$H$7
Name élém: data!$J$44:$J$53
Name Fiches_communes: data!$B$24:$D$51
Name KaniKéli: villes!$J$8:$J$13
Name Koungou: villes!$K$8:$K$13
Name Mamoudzou: villes!$L$8:$L$16
Name mat: data!$I$44:$I$48
Name Mtsamboro: villes!$M$8:$M$10
Name Mtsangamouji: villes!$N$8:$N$10
Name Ouangani: villes!$O$8:$O$12
Name Pamandzi: villes!$P$8
Name prim: data!$K$44:$K$59
Name Sada: villes!$Q$8:$Q$9
Name Tsingoni: villes!$R$8:$R$11
Name Ville_trouve: #REF!
Name Villes: villes!$B$7:$R$7

Sheet Aremplir
A1: =E6-E6+1 -> 1
A2: =A1+1 -> 2
A3: =A2+1 -> 3
A4: =IF(A3>=$E$6,"",A3+1) | E4: 2022 | F4: ="/" &$E$4+1 -> /2023
A5: =IF(A4>=$E$6,"",A4+1) | H5: Ecoles de votre circo | J5: Fiches : | K5: Liste des enseignants | L5: Fiche saisie
A6: =IF(A5>=$E$6,"",A5+1) | G6: =E6-1 -> -1 | J6: =IF(A1="","","Fiche "&A1) -> Fiche 1 | K6: =fiche1!$C8&" "&fiche1!$D8 -> 1
A7: =IF(A6>=$E$6,"",A6+1) | J7: =IF(A2="","","Fiche "&A2) -> Fiche 2 | K7: =fiche1!$C9&" "&fiche1!$D9 -> 2
A8: =IF(A7>=$E$6,"",A7+1) | J8: =IF(A3="","","Fiche "&A3) -> Fiche 3 | K8: =fiche1!$C10&" "&fiche1!$D10 -> 3
A9: =IF(A8>=$E$6,"",A8+1) | E9: =$E$5 -> 0 | J9: =IF(A4="","","Fiche "&A4) | K9: =fiche1!$C11&" "&fiche1!$D11 -> 4
A10: =IF(A9>=$E$6,"",A9+1) | J10: =IF(A5="","","Fiche "&A5) | K10: =fiche1!$C12&" "&fiche1!$D12 -> 5
A11: =IF(A10>=$E$6,"",A10+1) | C11: Enseignant : | J11: =IF(A6="","","Fiche "&A6) | K11: =fiche1!$C13&" "&fiche1!$D13 -> 6
A12: =IF(A11>=$E$6,"",A11+1) | J12: =IF(A7="","","Fiche "&A7) | K12: =fiche1!$C14&" "&fiche1!$D14 -> 7
A13: =IF(A12>=$E$6,"",A12+1) | J13: =IF(A8="","","Fiche "&A8) | K13: =fiche1!$C15&" "&fiche1!$D15 -> 8
A14: =IF(A13>=$E$6,"",A13+1) | J14: =IF(A9="","","Fiche "&A9) | K14: =fiche1!$C16&" "&fiche1!$D16 -> 9
A15: =IF(A14>=$E$6,"",A14+1) | J15: =IF(A10="","","Fiche "&A10) | K15: =fiche1!$C17&" "&fiche1!$D17 -> 10
A16: =IF(A15>=$E$6,"",A15+1) | J16: =IF(A11="","","Fiche "&A11) | K16: =fiche1!$C18&" "&fiche1!$D18 -> 11
A17: =IF(A16>=$E$6,"",A16+1) | J17: =IF(A12="","","Fiche "&A12) | K17: =fiche1!$C19&" "&fiche1!$D19 -> 12
A18: =IF(A17>=$E$6,"",A17+1) | J18: =IF(A13="","","Fiche "&A13) | K18: =fiche1!$C20&" "&fiche1!$D20 -> 13
A19: =IF(A18>=$E$6,"",A18+1) | J19: =IF(A14="","","Fiche "&A14) | K19: =fiche1!$C21&" "&fiche1!$D21 -> 14
A20: =IF(A19>=$E$6,"",A19+1) | J20: =IF(A15="","","Fiche "&A15) | K20: =fiche1!$C22&" "&fiche1!$D22 -> 15
A21: =IF(A20>=$E$6,"",A20+1) | J21: =IF(A16="","","Fiche "&A16) | K21: =fiche1!$C23&" "&fiche1!$D23 -> 16
A22: =IF(A21>=$E$6,"",A21+1) | J22: =IF(A17="","","Fiche "&A17) | K22: =fiche1!$C24&" "&fiche1!$D24 -> 17
A23: =IF(A22>=$E$6,"",A22+1) | J23: =IF(A18="","","Fiche "&A18) | K23: =fiche1!$C25&" "&fiche1!$D25 -> 18
... A48: =IF(A47>=$E$6,"",A47+1) | J48: =IF(A43="","","Fiche "&A43) | K48: =fiche1!$C50&" "&fiche1!$D50 -> 43
J49: =IF(A44="","","Fiche "&A44) | K49: =fiche1!$C51&" "&fiche1!$D51 -> 44
J50: =IF(A45="","","Fiche "&A45) | K50: =fiche1!$C52&" "&fiche1!$D52 -> 45
J51: =IF(A46="","","Fiche "&A46)

Sheet fiche1
C2: TABLEAU 1
M3: Année Scolaire :
A5: N° de la fiche | B5: civilité | C5: Enseignants | E5: École d'affectation | F5: Statut | G5: Fonction | H5: Poste | I5: Téléphone 1 | J5: Téléphone 2
C6: Nom | D6: Prénom
A7: Fiches | B7: Civilité | C7: Nom | D7: Prénom | E7: Ecole | F7: Statut | G7: Fonction | H7: Poste | I7: Telephone 1 | J7: Téléphone 2 | K7: Email pro. | L7: Candidat | M7: Examen | N7: Colonne1
A8: Fiche 1 | B8: Mme | C8: 1 | E8: Ecole 2 | F8: PE >T6 | G8: Adjoint | H8: Définitif | I8: 202 | N8: =IF(LEN(SyntheseCirco[[#This Row],[Nom]])>0,1,0) -> 1
A9: Fiche 2 | B9: Mme | C9: 2 | E9: Ecole 3 | F9: PE >T6 | G9: Adjoint | H9: Définitif | I9: 20 | N9: =IF(LEN(SyntheseCirco[[#This Row],[Nom]])>0,1,0) -> 1
A10: Fiche 3 | B10: Mr | C10: 3 | E10: Ecole 4 | F10: PE | G10: Directeur | H10: Définitif | I10: 202 | N10: =IF(LEN(SyntheseCirco[[#This Row],[Nom]])>0,1,0) -> 1
A11: Fiche 4 | B11: Mme | C11: 4 | E11: Ecole 5 | F11: PE | G11: Adjoint | H11: Définitif | I11: 302020 | N11: =IF(LEN(SyntheseCirco[[#This Row],[Nom]])>0,1,0) -> 1
A12: Fiche 5 | B12: Mme | C12: 5 | E12: Ecole 6 | F12: PE | G12: Adjoint | H12: Définitif | N12: =IF(LEN(SyntheseCirco[[#This Row],[Nom]])>0,1,0) -> 1
A13: Fiche 6 | B13: Mme | C13: 6 | E13: Ecole 7 | F13: PE | G13: Adjoint | H13: Définitif | N13: =IF(LEN(SyntheseCirco[[#This Row],[Nom]])>0,1,0) -> 1
A14: Fiche 7 | B14: Mr | C14: 7 | E14: Ecole 8 | F14: PE | G14: Adjoint | H14: Définitif | N14: =IF(LEN(SyntheseCirco[[#This Row],[Nom]])>0,1,0) -> 1
A15: Fiche 8 | B15: Mme | C15: 8 | E15: Ecole 9 | F15: Contr. C6 | I15: 20202 | N15: =IF(LEN(SyntheseCirco[[#This Row],[Nom]])>0,1,0) -> 1
A16: Fiche 9 | C16: 9 | N16: =IF(LEN(SyntheseCirco[[#This Row],[Nom]])>0,1,0) -> 1
A17: Fiche 1 | B17: Mme | C17: 10 | F17: PE | I17: 10101 | N17: =IF(LEN(SyntheseCirco[[#This Row],[Nom]])>0,1,0) -> 1
A18: Fiche 2 | B18: Mme | C18: 11 | E18: Ecole 2 | F18: PE >T6 | I18: 2030202 | N18: =IF(LEN(SyntheseCirco[[#This Row],[Nom]])>0,1,0) -> 1
A19: Fiche 3 | B19: Mme | C19: 12 | E19: Ecole 3 | F19: PE | H19: Définitif | N19: =IF(LEN(SyntheseCirco[[#This Row],[Nom]])>0,1,0) -> 1
A20: Fiche 4 | B20: Mr | C20: 13 | E20: Ecole 4 | F20: PE | G20: ZIL | I20: 252513 | N20: =IF(LEN(SyntheseCirco[[#This Row],[Nom]])>0,1,0) -> 1
A21: Fiche 5 | B21: Mme | C21: 14 | E21: Ecole 5 | F21: PE T1 | N21: =IF(LEN(SyntheseCirco[[#This Row],[Nom]])>0,1,0) -> 1
A22: Fiche 6 | B22: Mme | C22: 15 | E22: Ecole 6 | F22: PE | G22: ZIL | N22: =IF(LEN(SyntheseCirco[[#This Row],[Nom]])>0,1,0) -> 1
A23: Fiche 7 | B23: Mr | C23: 16 | E23: Ecole 7 | F23: PE T6 | H23: Définitif | I23: 2023565 | N23: =IF(LEN(SyntheseCirco[[#This Row],[Nom]])>0,1,0) -> 1
A24: Fiche 8 | B24: Mr | C24: 17 | E24: Ecole 8 | F24: PE | I24: 64612 | N24: =IF(LEN(SyntheseCirco[[#This Row],[Nom]])>0,1,0) -> 1
A25: Fiche 9 | B25: Mr | C25: 18 | E25: Ecole 9 | F25: PE | N25: =IF(LEN(SyntheseCirco[[#This Row],[Nom]])>0,1,0) -> 1
A26: Fiche 10 | B26: Mme | C26: 19 | F26: PE | N26: =IF(LEN(SyntheseCirco[[#This Row],[Nom]])>0,1,0) -> 1
A27: Fiche 11 | B27: Mme | C27: 20 | F27: PE T3 | H27: Définitif | N27: =IF(LEN(SyntheseCirco[[#This Row],[Nom]])>0,1,0) -> 1
A28: Fiche 12 | B28: Mr | C28: 21 | E28: Ecole 2 | F28: PE | N28: =IF(LEN(SyntheseCirco[[#This Row],[Nom]])>0,1,0) -> 1
A29: Fiche 13 | B29: Mme | C29: 22 | E29: Ecole 3 | F29: PE | N29: =IF(LEN(SyntheseCirco[[#This Row],[Nom]])>0,1,0) -> 1
A30: Fiche 14 | B30: Mr | C30: 23 | E30: Ecole 4 | F30: PE T3 | H30: Définitif | N30: =IF(LEN(SyntheseCirco[[#This Row],[Nom]])>0,1,0) -> 1
A31: Fiche 15 | B31: Mme | C31: 24 | E31: Ecole 5 | F31: PE | I31: 1165 | N31: =IF(LEN(SyntheseCirco[[#This Row],[Nom]])>0,1,0) -> 1
A32: Fiche 16 | B32: Mme | C32: 25 | E32: Ecole 6 | F32: PE T3 | H32: Définitif | I32: 1165 | N32: =IF(LEN(SyntheseCirco[[#This Row],[Nom]])>0,1,0) -> 1
A33: Fiche 17 | B33: Mr | C33: 26 | E33: Ecole 7 | F33: PE T4 | H33: Définitif | I33: 1165 | N33: =IF(LEN(SyntheseCirco[[#This Row],[Nom]])>0,1,0) -> 1
A34: Fiche 18 | B34: Mr | C34: 27 | E34: Ecole 8 | F34: PE T5 | I34: 1165 | N34: =IF(LEN(SyntheseCirco[[#This Row],[Nom]])>0,1,0) -> 1
A35: Fiche 19 | B35: Mr | C35: 28 | E35: Ecole 9 | F35: PE T6 | H35: Définitif | I35: 1165 | N35: =IF(LEN(SyntheseCirco[[#This Row],[Nom]])>0,1,0) -> 1
A36: Fiche 20 | B36: Mme | C36: 29 | F36: PE T7 | I36: 1165 | N36: =IF(LEN(SyntheseCirco[[#This Row],[Nom]])>0,1,0) -> 1
A37: Fiche 21 | B37: Mme | C37: 30 | F37: PE T8 | H37: Définitif | I37: 221234 | N37: =IF(LEN(SyntheseCirco[[#This Row],[Nom]])>0,1,0) -> 1
A38: Fiche 22 | B38: Mme | C38: 31 | E38: Ecole 2 | F38: PE T9 | H38: Provisoire | I38: 2155 | N38: =IF(LEN(SyntheseCirco[[#This Row],[Nom]])>0,1,0) -> 1
A39: Fiche 23 | B39: Mme | C39: 32 | E39: Ecole 3 | F39: PE T10 | H39: Provisoire | I39: -216924 | N39: =IF(LEN(SyntheseCirco[[#This Row],[Nom]])>0,1,0) -> 1
A40: Fiche 24 | B40: Mme | C40: 33 | E40: Ecole 4 | F40: PE T11 | H40: Provisoire | I40: -436003 | N40: =IF(LEN(SyntheseCirco[[#This Row],[Nom]])>0,1,0) -> 1
A41: Fiche 25 | B41: Mme | C41: 34 | E41: Ecole 5 | F41: PE T12 | H41: Provisoire | I41: -655082 | N41: =IF(LEN(SyntheseCirco[[#This Row],[Nom]])>0,1,0) -> 1
A42: Fiche 26 | B42: Mr | C42: 35 | E42: Ecole 6 | F42: PE T13 | H42: Définitif | I42: -874161 | N42: =IF(LEN(SyntheseCirco[[#This Row],[Nom]])>0,1,0) -> 1
A43: Fiche 27 | B43: Mr | C43: 36 | E43: Ecole 7 | F43: PE T14 | H43: Définitif | I43: -1093240 | N43: =IF(LEN(SyntheseCirco[[#This Row],[Nom]])>0,1,0) -> 1
A44: Fiche 28 | B44: Mme | C44: 37 | E44: Ecole 8 | F44: PE T15 | H44: Définitif | I44: -1312319 | N44: =IF(LEN(SyntheseCirco[[#This Row],[Nom]])>0,1,0) -> 1
A45: Fiche 29 | B45: Mr | C45: 38 | E45: Ecole 9 | F45: PE T16 | G45: ZIL | H45: Provisoire | I45: -1531398 | N45: =IF(LEN(SyntheseCirco[[#This Row],[Nom]])>0,1,0) -> 1
A46: Fiche 30 | B46: Mme | C46: 39 | F46: PE T17 | G46: ZIL | I46: -1750477 | N46: =IF(LEN(SyntheseCirco[[#This Row],[Nom]])>0,1,0) -> 1
A47: Fiche 31 | B47: Mme | C47: 40 | G47: ZIL | H47: Provisoire | I47: -1969556 | N47: =IF(LEN(SyntheseCirco[[#This Row],[Nom]])>0,1,0) -> 1
A48: Fiche 32 | B48: Mr | C48: 41 | G48: ZIL | H48: Définitif | N48: =IF(LEN(SyntheseCirco[[#This Row],[Nom]])>0,1,0) -> 1
A49: Fiche 33 | B49: Mr | C49: 42 | E49: Ecole 2 | G49: ZIL | H49: Définitif | N49: =IF(LEN(SyntheseCirco[[#This Row],[Nom]])>0,1,0) -> 1
A50: Fiche 34 | B50: Mme | C50: 43 | E50: Ecole 3 | G50: ZIL | I50: 20202 | L50: OUI | M50: CRPE Int. | N50: =IF(LEN(SyntheseCirco[[#This Row],[Nom]])>0,1,0) -> 1
A51: Fiche 35 | B51: Mme | C51: 44 | E51: Ecole 4 | G51: ZIL | H51: Provisoire | I51: 20216494 | N51: =IF(LEN(SyntheseCirco[[#This Row],[Nom]])>0,1,0) -> 1
A52: Fiche 36 | C52: 45 | E52: Ecole 5 | N52: =IF(LEN(SyntheseCirco[[#This Row],[Nom]])>0,1,0) -> 1
A53: Fiche 1 | B53: Mr | C53: 46 | E53: Ecole 6 | G53: Directeur | H53: Définitif | N53: =IF(LEN(SyntheseCirco[[#This Row],[Nom]])>0,1,0) -> 1
A54: Fiche 2 | B54: Mr | C54: 47 | E54: Ecole 7 | G54: Adjoint | H54: Définitif | N54: =IF(LEN(SyntheseCirco[[#This Row],[Nom]])>0,1,0) -> 1
A55: Fiche 3 | B55: Mme | C55: 48 | E55: Ecole 8 | G55: Adjoint | H55: Définitif | N55: =IF(LEN(SyntheseCirco[[#This Row],[Nom]])>0,1,0) -> 1
A56: Fiche 4 | B56: Mme | C56: 49 | E56: Ecole 9 | F56: PE T2 | G56: Adjoint | H56: Définitif | N56: =IF(LEN(SyntheseCirco[[#This Row],[Nom]])>0,1,0) -> 1
A57: Fiche 5 | B57: Mr | C57: 50 | F57: PE T1 | G57: Adjoint | H57: Définitif | L57: OUI | N57: =IF(LEN(SyntheseCirco[[#This Row],[Nom]])>0,1,0) -> 1
A58: Fiche 6 | B58: Mme | C58: 51 | F58: PE T0 | G58: Adjoint | H58: Définitif | N58: =IF(LEN(SyntheseCirco[[#This Row],[Nom]])>0,1,0) -> 1
A59: Fiche 7 | B59: Mme | C59: 52 | F59: PE T1 | G59: Adjoint | H59: Définitif | N59: =IF(LEN(SyntheseCirco[[#This Row],[Nom]])>0,1,0) -> 1
A60: Fiche 8 | B60: Mme | C60: 53 | F60: IERM | G60: Adjoint | H60: Définitif | N60: =IF(LEN(SyntheseCirco[[#This Row],[Nom]])>0,1,0) -> 1
A61: Fiche 9 | B61: Mme | C61: 54 | E61: Ecole 2 | F61: PE | G61: Adjoint | H61: Définitif | N61: =IF(LEN(SyntheseCirco[[#This Row],[Nom]])>0,1,0) -> 1
A62: Fiche 10 | B62: Mme | C62: 55 | E62: Ecole 3 | F62: PE T1 | G62: Adjoint | H62: Définitif | N62: =IF(LEN(SyntheseCirco[[#This Row],[Nom]])>0,1,0) -> 1
A63: Fiche 11 | B63: Mme | C63: 56 | E63: Ecole 4 | F63: PE | G63: Adjoint | H63: Définitif | N63: =IF(LEN(SyntheseCirco[[#This Row],[Nom]])>0,1,0) -> 1
A64: Fiche 12 | B64: Mme | C64: 57 | E64: Ecole 5 | F64: PE | G64: Adjoint | H64: Définitif | N64: =IF(LEN(SyntheseCirco[[#This Row],[Nom]])>0,1,0) -> 1
A65: Fiche 13 | B65: Mr | C65: 58 | E65: Ecole 6 | F65: PE | G65: ZIL | H65: Définitif | N65: =IF(LEN(SyntheseCirco[[#This Row],[Nom]])>0,1,0) -> 1
A66: Fiche 14 | B66: Mr | C66: 59 | E66: Ecole 7 | F66: PE T1 | G66: Adjoint | H66: Provisoire | N66: =IF(LEN(SyntheseCirco[[#This Row],[Nom]])>0,1,0) -> 1
A67: Fiche 15 | B67: Mr | C67: 60 | E67: Ecole 8 | F67: PE | G67: Adjoint | H67: Définitif | I67: 20102 | N67: =IF(LEN(SyntheseCirco[[#This Row],[Nom]])>0,1,0) -> 1
A68: Fiche 16 | B68: Mme | C68: 61 | E68: Ecole 9 | F68: PE T1 | H68: Provisoire | I68: 212 | N68: =IF(LEN(SyntheseCirco[[#This Row],[Nom]])>0,1,0) -> 1
A69: Fiche 17 | C69: 62 | N69: =IF(LEN(SyntheseCirco[[#This Row],[Nom]])>0,1,0) -> 1
A70: Fiche 1 | B70: Mr | C70: 63 | F70: PE >T6 | G70: Directeur | H70: Définitif | N70: =IF(LEN(SyntheseCirco[[#This Row],[Nom]])>0,1,0) -> 1
A71: Fiche 2 | B71: Mme | C71: 64 | F71: PE T2 | G71: Adjoint | H71: Définitif | N71: =IF(LEN(SyntheseCirco[[#This Row],[Nom]])>0,1,0) -> 1
A72: Fiche 3 | B72: Mme | C72: 65 | E72: Ecole 2 | F72: PE >T6 | G72: Adjoint | H72: Définitif | L72: OUI | N72: =IF(LEN(SyntheseCirco[[#This Row],[Nom]])>0,1,0) -> 1
A73: Fiche 4 | B73: Mme | C73: 66 | E73: Ecole 3 | F73: PE >T6 | G73: Adjoint | H73: Définitif | N73: =IF(LEN(SyntheseCirco[[#This Row],[Nom]])>0,1,0) -> 1
A74: Fiche 5 | B74: Mme | C74: 67 | E74: Ecole 4 | F74: PE >T6 | G74: Adjoint | H74: Définitif | N74: =IF(LEN(SyntheseCirco[[#This Row],[Nom]])>0,1,0) -> 1
A75: Fiche 6 | B75: Mme | C75: 68 | E75: Ecole 5 | F75: PE >T6 | G75: Adjoint | H75: Définitif | N75: =IF(LEN(SyntheseCirco[[#This Row],[Nom]])>0,1,0) -> 1
A76: Fiche 7 | B76: Mme | C76: 69 | E76: Ecole 6 | F76: PE T2 | G76: Adjoint | H76: Définitif | N76: =IF(LEN(SyntheseCirco[[#This Row],[Nom]])>0,1,0) -> 1
A77: Fiche 8 | B77: Mme | C77: 70 | E77: Ecole 7 | F77: PE >T6 | G77: Adjoint | H77: Définitif | N77: =IF(LEN(SyntheseCirco[[#This Row],[Nom]])>0,1,0) -> 1
A78: Fiche 9 | B78: Mme | C78: 71 | E78: Ecole 8 | F78: PE T1 | G78: Adjoint | H78: Définitif | N78: =IF(LEN(SyntheseCirco[[#This Row],[Nom]])>0,1,0) -> 1
A79: Fiche 10 | B79: Mr | C79: 72 | E79: Ecole 9 | F79: PE >T6 | G79: Adjoint | H79: Définitif | N79: =IF(LEN(SyntheseCirco[[#This Row],[Nom]])>0,1,0) -> 1
A80: Fiche 11 | B80: Mme | C80: 73 | F80: IERM T6 | G80: Adjoint | H80: Définitif | L80: OUI | N80: =IF(LEN(SyntheseCirco[[#This Row],[Nom]])>0,1,0) -> 1
A81: Fiche 12 | B81: Mr | C81: 74 | F81: PE >T6 | G81: Adjoint | H81: Définitif | N81: =IF(LEN(SyntheseCirco[[#This Row],[Nom]])>0,1,0) -> 1
A82: Fiche 11 | B82: Mr | C82: 75 | E82: Combani 2 élémentaire | F82: PE >T6 | G82: Adjoint | N82: =IF(LEN(SyntheseCirco[[#This Row],[Nom]])>0,1,0) -> 1
A83: Fiche 12 | C83: 76 | E83: Combani 2 élémentaire | F83: PE | G83: FAEX | H83: Définitif | N83: =IF(LEN(SyntheseCirco[[#This Row],[Nom]])>0,1,0) -> 1
A84: Fiche 13 | B84: Mr | C84: 77 | E84: Combani 2 élémentaire | F84: PE | G84: Adjoint | H84: Définitif | N84: =IF(LEN(SyntheseCirco[[#This Row],[Nom]])>0,1,0) -> 1
A85: Fiche 14 | B85: Mr | C85: 78 | E85: Combani 2 élémentaire | F85: PES2 | N85: =IF(LEN(SyntheseCirco[[#This Row],[Nom]])>0,1,0) -> 1
A86: Fiche 15 | B86: Mme | C86: 79 | E86: Combani 2 élémentaire | F86: PE | G86: Adjoint | H86: Définitif | N86: =IF(LEN(SyntheseCirco[[#This Row],[Nom]])>0,1,0) -> 1
A87: Fiche 16 | B87: Mr | C87: 80 | E87: Combani 2 élémentaire | F87: PE | G87: Adjoint | H87: Définitif | I87: 2010 | N87: =IF(LEN(SyntheseCirco[[#This Row],[Nom]])>0,1,0) -> 1
A88: Fiche 17 | B88: Mr | C88: 81 | E88: Combani 2 élémentaire | F88: PE | G88: Adjoint | I88: 2022 | N88: =IF(LEN(SyntheseCirco[[#This Row],[Nom]])>0,1,0) -> 1
A89: Fiche 18 | B89: Mme | C89: 82 | E89: Combani 2 élémentaire | F89: PE | G89: Adjoint | I89: 2002 | N89: =IF(LEN(SyntheseCirco[[#This Row],[Nom]])>0,1,0) -> 1
A90: Fiche 19 | B90: Mme | C90: 83 | E90: Ecole 2 | F90: PE T2 | G90: Adjoint | I90: 2003.3333 | N90: =IF(LEN(SyntheseCirco[[#This Row],[Nom]])>0,1,0) -> 1
A91: Fiche 20 | B91: Mme | C91: 84 | E91: Ecole 3 | F91: PE | G91: Adjoint | I91: 1999.3333 | N91: =IF(LEN(SyntheseCirco[[#This Row],[Nom]])>0,1,0) -> 1
A92: Fiche 21 | B92: Mr | C92: 85 | E92: Ecole 4 | F92: PE | G92: Adjoint | I92: 1995.3333 | N92: =IF(LEN(SyntheseCirco[[#This Row],[Nom]])>0,1,0) -> 1
A93: Fiche 22 | B93: Mr | C93: 86 | E93: Ecole 5 | F93: PE | G93: Adjoint | H93: Définitif | I93: 1991.3333 | N93: =IF(LEN(SyntheseCirco[[#This Row],[Nom]])>0,1,0) -> 1
A94: Fiche 23 | B94: Mr | C94: 87 | E94: Ecole 6 | F94: PE | G94: Adjoint | I94: 1987.3333 | N94: =IF(LEN(SyntheseCirco[[#This Row],[Nom]])>0,1,0) -> 1
A95: Fiche 24 | B95: Mr | C95: 88 | E95: Ecole 7 | G95: Adjoint | I95: 1983.3333 | N95: =IF(LEN(SyntheseCirco[[#This Row],[Nom]])>0,1,0) -> 1
A96: Fiche 25 | B96: Mr | C96: 89 | E96: Ecole 8 | G96: Directeur | H96: Définitif | I96: 1979.3333 | N96: =IF(LEN(SyntheseCirco[[#This Row],[Nom]])>0,1,0) -> 1
A97: Fiche 26 | B97: Mr | C97: 90 | E97: Ecole 9 | G97: Adjoint | I97: 1975.3333 | N97: =IF(LEN(SyntheseCirco[[#This Row],[Nom]])>0,1,0) -> 1
A98: Fiche 27 | B98: Mme | C98: 91 | G98: Adjoint | I98: 1971.3333 | N98: =IF(LEN(SyntheseCirco[[#This Row],[Nom]])>0,1,0) -> 1
A99: Fiche 28 | B99: Mr | C99: 92 | G99: Adjoint | I99: 1967.3333 | L99: OUI | N99: =IF(LEN(SyntheseCirco[[#This Row],[Nom]])>0,1,0) -> 1
A100: Fiche 29 | B100: Mme | C100: 93 | E100: Ecole 2 | G100: ZIL | H100: Provisoire | I100: 1963.3333 | L100: OUI | N100: =IF(LEN(SyntheseCirco[[#This Row],[Nom]])>0,1,0) -> 1
A101: Fiche 30 | C101: 94 | E101: Ecole 3 | I101: 1959.3333 | N101: =IF(LEN(SyntheseCirco[[#This Row],[Nom]])>0,1,0) -> 1
A102: Fiche 1 | B102: Mme | C102: 95 | E102: Ecole 4 | H102: Définitif | N102: =IF(LEN(SyntheseCirco[[#This Row],[Nom]])>0,1,0) -> 1
...

Sheet fiche1 après remplacement
C2: TABLEAU 1
M3: Année Scolaire :
A5: N° de la fiche | B5: civilité | C5: Enseignants | E5: École d'affectation | F5: Statut | G5: Fonction | H5: Poste | I5: Téléphone 1 | J5: Téléphone 2
C6: Nom | D6: Prénom
A7: Fiches | B7: Civilité | C7: Nom | D7: Prénom | E7: Ecole | F7: Statut | G7: Fonction | H7: Poste | I7: Telephone 1 | J7: Téléphone 2 | K7: Email pro. | L7: Candidat | M7: Examen | N7: Colonne1
A8: Fiche 1 | B8: Mme | C8: 1 | E8: Ecole 2 | F8: PE >T6 | G8: Adjoint | H8: Définitif | I8: 202 | N8: =IF(LEN(SyntheseCirco4[[#This Row],[Nom]])>0,1,0) -> 1
A9: Fiche 2 | B9: Mme | C9: 2 | E9: Ecole 3 | F9: PE >T6 | G9: Adjoint | H9: Définitif | I9: 20 | N9: =IF(LEN(SyntheseCirco4[[#This Row],[Nom]])>0,1,0) -> 1
A10: Fiche 3 | B10: Mr | C10: 3 | E10: Ecole 4 | F10: PE | G10: Directeur | H10: Définitif | I10: 202 | N10: =IF(LEN(SyntheseCirco4[[#This Row],[Nom]])>0,1,0) -> 1
A11: Fiche 4 | B11: Mme | C11: 4 | E11: Ecole 5 | F11: PE | G11: Adjoint | H11: Définitif | I11: 302020 | N11: =IF(LEN(SyntheseCirco4[[#This Row],[Nom]])>0,1,0) -> 1
A12: Fiche 5 | B12: Mme | C12: 5 | E12: Ecole 6 | F12: PE | G12: Adjoint | H12: Définitif | N12: =IF(LEN(SyntheseCirco4[[#This Row],[Nom]])>0,1,0) -> 1
A13: Fiche 6 | B13: Mme | C13: 6 | E13: Ecole 7 | F13: PE | G13: Adjoint | H13: Définitif | N13: =IF(LEN(SyntheseCirco4[[#This Row],[Nom]])>0,1,0) -> 1
A14: Fiche 7 | B14: Mr | C14: 7 | E14: Ecole 8 | F14: PE | G14: Adjoint | H14: Définitif | N14: =IF(LEN(SyntheseCirco4[[#This Row],[Nom]])>0,1,0) -> 1
A15: Fiche 8 | B15: Mme | C15: 8 | E15: Ecole 9 | F15: Contr. C6 | I15: 20202 | N15: =IF(LEN(SyntheseCirco4[[#This Row],[Nom]])>0,1,0) -> 1
A16: Fiche 9 | C16: 9 | N16: =IF(LEN(SyntheseCirco4[[#This Row],[Nom]])>0,1,0) -> 1
A17: Fiche 1 | B17: Mme | C17: 10 | F17: PE | I17: 10101 | N17: =IF(LEN(SyntheseCirco4[[#This Row],[Nom]])>0,1,0) -> 1
A18: Fiche 2 | B18: Mme | C18: 11 | E18: Ecole 2 | F18: PE >T6 | I18: 2030202 | N18: =IF(LEN(SyntheseCirco4[[#This Row],[Nom]])>0,1,0) -> 1
A19: Fiche 3 | B19: Mme | C19: 12 | E19: Ecole 3 | F19: PE | H19: Définitif | N19: =IF(LEN(SyntheseCirco4[[#This Row],[Nom]])>0,1,0) -> 1
A20: Fiche 4 | B20: Mr | C20: 13 | E20: Ecole 4 | F20: PE | G20: ZIL | I20: 252513 | N20: =IF(LEN(SyntheseCirco4[[#This Row],[Nom]])>0,1,0) -> 1
A21: Fiche 5 | B21: Mme | C21: 14 | E21: Ecole 5 | F21: PE T1 | N21: =IF(LEN(SyntheseCirco4[[#This Row],[Nom]])>0,1,0) -> 1
A22: Fiche 6 | B22: Mme | C22: 15 | E22: Ecole 6 | F22: PE | G22: ZIL | N22: =IF(LEN(SyntheseCirco4[[#This Row],[Nom]])>0,1,0) -> 1
A23: Fiche 7 | B23: Mr | C23: 16 | E23: Ecole 7 | F23: PE T6 | H23: Définitif | I23: 2023565 | N23: =IF(LEN(SyntheseCirco4[[#This Row],[Nom]])>0,1,0) -> 1
A24: Fiche 8 | B24: Mr | C24: 17 | E24: Ecole 8 | F24: PE | I24: 64612 | N24: =IF(LEN(SyntheseCirco4[[#This Row],[Nom]])>0,1,0) -> 1
A25: Fiche 9 | B25: Mr | C25: 18 | E25: Ecole 9 | F25: PE | N25: =IF(LEN(SyntheseCirco4[[#This Row],[Nom]])>0,1,0) -> 1
A26: Fiche 10 | B26: Mme | C26: 19 | F26: PE | N26: =IF(LEN(SyntheseCirco4[[#This Row],[Nom]])>0,1,0) -> 1
A27: Fiche 11 | B27: Mme | C27: 20 | F27: PE T3 | H27: Définitif | N27: =IF(LEN(SyntheseCirco4[[#This Row],[Nom]])>0,1,0) -> 1
A28: Fiche 12 | B28: Mr | C28: 21 | E28: Ecole 2 | F28: PE | N28: =IF(LEN(SyntheseCirco4[[#This Row],[Nom]])>0,1,0) -> 1
A29: Fiche 13 | B29: Mme | C29: 22 | E29: Ecole 3 | F29: PE | N29: =IF(LEN(SyntheseCirco4[[#This Row],[Nom]])>0,1,0) -> 1
A30: Fiche 14 | B30: Mr | C30: 23 | E30: Ecole 4 | F30: PE T3 | H30: Définitif | N30: =IF(LEN(SyntheseCirco4[[#This Row],[Nom]])>0,1,0) -> 1
A31: Fiche 15 | B31: Mme | C31: 24 | E31: Ecole 5 | F31: PE | I31: 1165 | N31: =IF(LEN(SyntheseCirco4[[#This Row],[Nom]])>0,1,0) -> 1
A32: Fiche 16 | B32: Mme | C32: 25 | E32: Ecole 6 | F32: PE T3 | H32: Définitif | I32: 1165 | N32: =IF(LEN(SyntheseCirco4[[#This Row],[Nom]])>0,1,0) -> 1
A33: Fiche 17 | B33: Mr | C33: 26 | E33: Ecole 7 | F33: PE T4 | H33: Définitif | I33: 1165 | N33: =IF(LEN(SyntheseCirco4[[#This Row],[Nom]])>0,1,0) -> 1
A34: Fiche 18 | B34: Mr | C34: 27 | E34: Ecole 8 | F34: PE T5 | I34: 1165 | N34: =IF(LEN(SyntheseCirco4[[#This Row],[Nom]])>0,1,0) -> 1
A35: Fiche 19 | B35: Mr | C35: 28 | E35: Ecole 9 | F35: PE T6 | H35: Définitif | I35: 1165 | N35: =IF(LEN(SyntheseCirco4[[#This Row],[Nom]])>0,1,0) -> 1
A36: Fiche 20 | B36: Mme | C36: 29 | F36: PE T7 | I36: 1165 | N36: =IF(LEN(SyntheseCirco4[[#This Row],[Nom]])>0,1,0) -> 1
A37: Fiche 21 | B37: Mme | C37: 30 | F37: PE T8 | H37: Définitif | I37: 221234 | N37: =IF(LEN(SyntheseCirco4[[#This Row],[Nom]])>0,1,0) -> 1
A38: Fiche 22 | B38: Mme | C38: 31 | E38: Ecole 2 | F38: PE T9 | H38: Provisoire | I38: 2155 | N38: =IF(LEN(SyntheseCirco4[[#This Row],[Nom]])>0,1,0) -> 1
A39: Fiche 23 | B39: Mme | C39: 32 | E39: Ecole 3 | F39: PE T10 | H39: Provisoire | I39: -216924 | N39: =IF(LEN(SyntheseCirco4[[#This Row],[Nom]])>0,1,0) -> 1
A40: Fiche 24 | B40: Mme | C40: 33 | E40: Ecole 4 | F40: PE T11 | H40: Provisoire | I40: -436003 | N40: =IF(LEN(SyntheseCirco4[[#This Row],[Nom]])>0,1,0) -> 1
A41: Fiche 25 | B41: Mme | C41: 34 | E41: Ecole 5 | F41: PE T12 | H41: Provisoire | I41: -655082 | N41: =IF(LEN(SyntheseCirco4[[#This Row],[Nom]])>0,1,0) -> 1
A42: Fiche 26 | B42: Mr | C42: 35 | E42: Ecole 6 | F42: PE T13 | H42: Définitif | I42: -874161 | N42: =IF(LEN(SyntheseCirco4[[#This Row],[Nom]])>0,1,0) -> 1
A43: Fiche 27 | B43: Mr | C43: 36 | E43: Ecole 7 | F43: PE T14 | H43: Définitif | I43: -1093240 | N43: =IF(LEN(SyntheseCirco4[[#This Row],[Nom]])>0,1,0) -> 1
A44: Fiche 28 | B44: Mme | C44: 37 | E44: Ecole 8 | F44: PE T15 | H44: Définitif | I44: -1312319 | N44: =IF(LEN(SyntheseCirco4[[#This Row],[Nom]])>0,1,0) -> 1
A45: Fiche 29 | B45: Mr | C45: 38 | E45: Ecole 9 | F45: PE T16 | G45: ZIL | H45: Provisoire | I45: -1531398 | N45: =IF(LEN(SyntheseCirco4[[#This Row],[Nom]])>0,1,0) -> 1
A46: Fiche 30 | B46: Mme | C46: 39 | F46: PE T17 | G46: ZIL | I46: -1750477 | N46: =IF(LEN(SyntheseCirco4[[#This Row],[Nom]])>0,1,0) -> 1
A47: Fiche 31 | B47: Mme | C47: 40 | G47: ZIL | H47: Provisoire | I47: -1969556 | N47: =IF(LEN(SyntheseCirco4[[#This Row],[Nom]])>0,1,0) -> 1
A48: Fiche 32 | B48: Mr | C48: 41 | G48: ZIL | H48: Définitif | N48: =IF(LEN(SyntheseCirco4[[#This Row],[Nom]])>0,1,0) -> 1
A49: Fiche 33 | B49: Mr | C49: 42 | E49: Ecole 2 | G49: ZIL | H49: Définitif | N49: =IF(LEN(SyntheseCirco4[[#This Row],[Nom]])>0,1,0) -> 1
A50: Fiche 34 | B50: Mme | C50: 43 | E50: Ecole 3 | G50: ZIL | I50: 20202 | L50: OUI | M50: CRPE Int. | N50: =IF(LEN(SyntheseCirco4[[#This Row],[Nom]])>0,1,0) -> 1
A51: Fiche 35 | B51: Mme | C51: 44 | E51: Ecole 4 | G51: ZIL | H51: Provisoire | I51: 20216494 | N51: =IF(LEN(SyntheseCirco4[[#This Row],[Nom]])>0,1,0) -> 1
A52: Fiche 36 | C52: 45 | E52: Ecole 5 | N52: =IF(LEN(SyntheseCirco4[[#This Row],[Nom]])>0,1,0) -> 1
A53: Fiche 1 | B53: Mr | C53: 46 | E53: Ecole 6 | G53: Directeur | H53: Définitif | N53: =IF(LEN(SyntheseCirco4[[#This Row],[Nom]])>0,1,0) -> 1
A54: Fiche 2 | B54: Mr | C54: 47 | E54: Ecole 7 | G54: Adjoint | H54: Définitif | N54: =IF(LEN(SyntheseCirco4[[#This Row],[Nom]])>0,1,0) -> 1
A55: Fiche 3 | B55: Mme | C55: 48 | E55: Ecole 8 | G55: Adjoint | H55: Définitif | N55: =IF(LEN(SyntheseCirco4[[#This Row],[Nom]])>0,1,0) -> 1
A56: Fiche 4 | B56: Mme | C56: 49 | E56: Ecole 9 | F56: PE T2 | G56: Adjoint | H56: Définitif | N56: =IF(LEN(SyntheseCirco4[[#This Row],[Nom]])>0,1,0) -> 1
A57: Fiche 5 | B57: Mr | C57: 50 | F57: PE T1 | G57: Adjoint | H57: Définitif | L57: OUI | N57: =IF(LEN(SyntheseCirco4[[#This Row],[Nom]])>0,1,0) -> 1
A58: Fiche 6 | B58: Mme | C58: 51 | F58: PE T0 | G58: Adjoint | H58: Définitif | N58: =IF(LEN(SyntheseCirco4[[#This Row],[Nom]])>0,1,0) -> 1
A59: Fiche 7 | B59: Mme | C59: 52 | F59: PE T1 | G59: Adjoint | H59: Définitif | N59: =IF(LEN(SyntheseCirco4[[#This Row],[Nom]])>0,1,0) -> 1
A60: Fiche 8 | B60: Mme | C60: 53 | F60: IERM | G60: Adjoint | H60: Définitif | N60: =IF(LEN(SyntheseCirco4[[#This Row],[Nom]])>0,1,0) -> 1
A61: Fiche 9 | B61: Mme | C61: 54 | E61: Ecole 2 | F61: PE | G61: Adjoint | H61: Définitif | N61: =IF(LEN(SyntheseCirco4[[#This Row],[Nom]])>0,1,0) -> 1
A62: Fiche 10 | B62: Mme | C62: 55 | E62: Ecole 3 | F62: PE T1 | G62: Adjoint | H62: Définitif | N62: =IF(LEN(SyntheseCirco4[[#This Row],[Nom]])>0,1,0) -> 1
A63: Fiche 11 | B63: Mme | C63: 56 | E63: Ecole 4 | F63: PE | G63: Adjoint | H63: Définitif | N63: =IF(LEN(SyntheseCirco4[[#This Row],[Nom]])>0,1,0) -> 1
A64: Fiche 12 | B64: Mme | C64: 57 | E64: Ecole 5 | F64: PE | G64: Adjoint | H64: Définitif | N64: =IF(LEN(SyntheseCirco4[[#This Row],[Nom]])>0,1,0) -> 1
A65: Fiche 13 | B65: Mr | C65: 58 | E65: Ecole 6 | F65: PE | G65: ZIL | H65: Définitif | N65: =IF(LEN(SyntheseCirco4[[#This Row],[Nom]])>0,1,0) -> 1
A66: Fiche 14 | B66: Mr | C66: 59 | E66: Ecole 7 | F66: PE T1 | G66: Adjoint | H66: Provisoire | N66: =IF(LEN(SyntheseCirco4[[#This Row],[Nom]])>0,1,0) -> 1
A67: Fiche 15 | B67: Mr | C67: 60 | E67: Ecole 8 | F67: PE | G67: Adjoint | H67: Définitif | I67: 20102 | N67: =IF(LEN(SyntheseCirco4[[#This Row],[Nom]])>0,1,0) -> 1
A68: Fiche 16 | B68: Mme | C68: 61 | E68: Ecole 9 | F68: PE T1 | H68: Provisoire | I68: 212 | N68: =IF(LEN(SyntheseCirco4[[#This Row],[Nom]])>0,1,0) -> 1
A69: Fiche 17 | C69: 62 | N69: =IF(LEN(SyntheseCirco4[[#This Row],[Nom]])>0,1,0) -> 1
A70: Fiche 1 | B70: Mr | C70: 63 | F70: PE >T6 | G70: Directeur | H70: Définitif | N70: =IF(LEN(SyntheseCirco4[[#This Row],[Nom]])>0,1,0) -> 1
A71: Fiche 2 | B71: Mme | C71: 64 | F71: PE T2 | G71: Adjoint | H71: Définitif | N71: =IF(LEN(SyntheseCirco4[[#This Row],[Nom]])>0,1,0) -> 1
A72: Fiche 3 | B72: Mme | C72: 65 | E72: Ecole 2 | F72: PE >T6 | G72: Adjoint | H72: Définitif | L72: OUI | N72: =IF(LEN(SyntheseCirco4[[#This Row],[Nom]])>0,1,0) -> 1
A73: Fiche 4 | B73: Mme | C73: 66 | E73: Ecole 3 | F73: PE >T6 | G73: Adjoint | H73: Définitif | N73: =IF(LEN(SyntheseCirco4[[#This Row],[Nom]])>0,1,0) -> 1
A74: Fiche 5 | B74: Mme | C74: 67 | E74: Ecole 4 | F74: PE >T6 | G74: Adjoint | H74: Définitif | N74: =IF(LEN(SyntheseCirco4[[#This Row],[Nom]])>0,1,0) -> 1
A75: Fiche 6 | B75: Mme | C75: 68 | E75: Ecole 5 | F75: PE >T6 | G75: Adjoint | H75: Définitif | N75: =IF(LEN(SyntheseCirco4[[#This Row],[Nom]])>0,1,0) -> 1
A76: Fiche 7 | B76: Mme | C76: 69 | E76: Ecole 6 | F76: PE T2 | G76: Adjoint | H76: Définitif | N76: =IF(LEN(SyntheseCirco4[[#This Row],[Nom]])>0,1,0) -> 1
A77: Fiche 8 | B77: Mme | C77: 70 | E77: Ecole 7 | F77: PE >T6 | G77: Adjoint | H77: Définitif | N77: =IF(LEN(SyntheseCirco4[[#This Row],[Nom]])>0,1,0) -> 1
A78: Fiche 9 | B78: Mme | C78: 71 | E78: Ecole 8 | F78: PE T1 | G78: Adjoint | H78: Définitif | N78: =IF(LEN(SyntheseCirco4[[#This Row],[Nom]])>0,1,0) -> 1
A79: Fiche 10 | B79: Mr | C79: 72 | E79: Ecole 9 | F79: PE >T6 | G79: Adjoint | H79: Définitif | N79: =IF(LEN(SyntheseCirco4[[#This Row],[Nom]])>0,1,0) -> 1
A80: Fiche 11 | B80: Mme | C80: 73 | F80: IERM T6 | G80: Adjoint | H80: Définitif | L80: OUI | N80: =IF(LEN(SyntheseCirco4[[#This Row],[Nom]])>0,1,0) -> 1
A81: Fiche 12 | B81: Mr | C81: 74 | F81: PE >T6 | G81: Adjoint | H81: Définitif | N81: =IF(LEN(SyntheseCirco4[[#This Row],[Nom]])>0,1,0) -> 1
A82: Fiche 11 | B82: Mr | C82: 75 | E82: Combani 2 élémentaire | F82: PE >T6 | G82: Adjoint | N82: =IF(LEN(SyntheseCirco4[[#This Row],[Nom]])>0,1,0) -> 1
A83: Fiche 12 | C83: 76 | E83: Combani 2 élémentaire | F83: PE | G83: FAEX | H83: Définitif | N83: =IF(LEN(SyntheseCirco4[[#This Row],[Nom]])>0,1,0) -> 1
A84: Fiche 13 | B84: Mr | C84: 77 | E84: Combani 2 élémentaire | F84: PE | G84: Adjoint | H84: Définitif | N84: =IF(LEN(SyntheseCirco4[[#This Row],[Nom]])>0,1,0) -> 1
A85: Fiche 14 | B85: Mr | C85: 78 | E85: Combani 2 élémentaire | F85: PES2 | N85: =IF(LEN(SyntheseCirco4[[#This Row],[Nom]])>0,1,0) -> 1
A86: Fiche 15 | B86: Mme | C86: 79 | E86: Combani 2 élémentaire | F86: PE | G86: Adjoint | H86: Définitif | N86: =IF(LEN(SyntheseCirco4[[#This Row],[Nom]])>0,1,0) -> 1
A87: Fiche 16 | B87: Mr | C87: 80 | E87: Combani 2 élémentaire | F87: PE | G87: Adjoint | H87: Définitif | I87: 2010 | N87: =IF(LEN(SyntheseCirco4[[#This Row],[Nom]])>0,1,0) -> 1
A88: Fiche 17 | B88: Mr | C88: 81 | E88: Combani 2 élémentaire | F88: PE | G88: Adjoint | I88: 2022 | N88: =IF(LEN(SyntheseCirco4[[#This Row],[Nom]])>0,1,0) -> 1
A89: Fiche 18 | B89: Mme | C89: 82 | E89: Combani 2 élémentaire | F89: PE | G89: Adjoint | I89: 2002 | N89: =IF(LEN(SyntheseCirco4[[#This Row],[Nom]])>0,1,0) -> 1
A90: Fiche 19 | B90: Mme | C90: 83 | E90: Ecole 2 | F90: PE T2 | G90: Adjoint | I90: 2003.3333 | N90: =IF(LEN(SyntheseCirco4[[#This Row],[Nom]])>0,1,0) -> 1
A91: Fiche 20 | B91: Mme | C91: 84 | E91: Ecole 3 | F91: PE | G91: Adjoint | I91: 1999.3333 | N91: =IF(LEN(SyntheseCirco4[[#This Row],[Nom]])>0,1,0) -> 1
A92: Fiche 21 | B92: Mr | C92: 85 | E92: Ecole 4 | F92: PE | G92: Adjoint | I92: 1995.3333 | N92: =IF(LEN(SyntheseCirco4[[#This Row],[Nom]])>0,1,0) -> 1
A93: Fiche 22 | B93: Mr | C93: 86 | E93: Ecole 5 | F93: PE | G93: Adjoint | H93: Définitif | I93: 1991.3333 | N93: =IF(LEN(SyntheseCirco4[[#This Row],[Nom]])>0,1,0) -> 1
A94: Fiche 23 | B94: Mr | C94: 87 | E94: Ecole 6 | F94: PE | G94: Adjoint | I94: 1987.3333 | N94: =IF(LEN(SyntheseCirco4[[#This Row],[Nom]])>0,1,0) -> 1
A95: Fiche 24 | B95: Mr | C95: 88 | E95: Ecole 7 | G95: Adjoint | I95: 1983.3333 | N95: =IF(LEN(SyntheseCirco4[[#This Row],[Nom]])>0,1,0) -> 1
A96: Fiche 25 | B96: Mr | C96: 89 | E96: Ecole 8 | G96: Directeur | H96: Définitif | I96: 1979.3333 | N96: =IF(LEN(SyntheseCirco4[[#This Row],[Nom]])>0,1,0) -> 1
A97: Fiche 26 | B97: Mr | C97: 90 | E97: Ecole 9 | G97: Adjoint | I97: 1975.3333 | N97: =IF(LEN(SyntheseCirco4[[#This Row],[Nom]])>0,1,0) -> 1
A98: Fiche 27 | B98: Mme | C98: 91 | G98: Adjoint | I98: 1971.3333 | N98: =IF(LEN(SyntheseCirco4[[#This Row],[Nom]])>0,1,0) -> 1
A99: Fiche 28 | B99: Mr | C99: 92 | G99: Adjoint | I99: 1967.3333 | L99: OUI | N99: =IF(LEN(SyntheseCirco4[[#This Row],[Nom]])>0,1,0) -> 1
A100: Fiche 29 | B100: Mme | C100: 93 | E100: Ecole 2 | G100: ZIL | H100: Provisoire | I100: 1963.3333 | L100: OUI | N100: =IF(LEN(SyntheseCirco4[[#This Row],[Nom]])>0,1,0) -> 1
A101: Fiche 30 | C101: 94 | E101: Ecole 3 | I101: 1959.3333 | N101: =IF(LEN(SyntheseCirco4[[#This Row],[Nom]])>0,1,0) -> 1
A102: Fiche 1 | B102: Mme | C102: 95 | E102: Ecole 4 | H102: Définitif | N102: =IF(LEN(SyntheseCirco4[[#This Row],[Nom]])>0,1,0) -> 1
...

Sheet data
J1: BESSEAU Bruno IAI Tsingoni 2020 2021 2022
B3: Ecoles | C3: maternelle
B4: Tsingoni maternelle | C4: P.S | N4: n° | O4: Département
B5: Tsingoni élémentaire | C5: PS/MS | F5: Contractuels | G5: T1 | I5: CAFIPEMF | N5: 01 | O5: Ain
B6: M'roalé primaire | C6: MS | F6: 1ère année | G6: T2 | I6: CAPPEI | N6: 02 | O6: Aisne
B7: Combani 1 maternelle | C7: MS/GS | F7: 2ème année | G7: T3 | I7: CAPASH | N7: 03 | O7: Allier
B8: Combani 1A élém. | C8: GS | F8: 3ème année | G8: T4 | I8: FLE | N8: 04 | O8: Alpes-de-Haute-Provence
B9: Combani 1B élém. | C9: elementaire | F9: 4ème année | G9: T5 | N9: 05 | O9: Hautes-Alpes
B10: Combani 2 maternelle | C10: CP | F10: 5ème année | G10: T6 | K10: Domaine | N10: 06 | O10: Alpes-Maritimes
B11: Combani 2 élémentaire | C11: CE1 | F11: 6ème année | G11: >T6 | K11: Artistique | N11: 07 | O11: Ardèche
B12: Kahani élémentaire | C12: CE2 | K12: EPS | N12: 08 | O12: Ardennes
B13: Kahani maternelle | C13: CE2/CM1 | F13: Communes | G13: Code Postal | K13: Langue vivante | N13: 09 | O13: Ariège
B14: Barakani maternelle | C14: CM1 | F14: Acoua | G14: 97630 | K14: Lettres | N14: 10 | O14: Aube
B15: Barakani 1 élém. | C15: CM1/CM2 | F15: Bandraboua | G15: 97650 | K15: Numérique | N15: 11 | O15: Aude
B16: Barakani 2 élém. | C16: CM2 | F16: Bandrélé | G16: 97660 | I16: CAFIPEMF | K16: Hist-Géo | N16: 12 | O16: Aveyron
B17: Ouangani maternelle | C17: ZIL | F17: Bouéni | G17: 97620 | I17: Arts-visuels | K17: Scientifique | N17: 13 | O17: Bouches-du-Rhône
B18: Ouangani 1 élém. | C18: ULIS | F18: Chiconi | G18: 97670 | I18: E.P.S. | K18: Secourisme | N18: 14 | O18: Calvados
B19: Ouangani 2 élém. | F19: Chirongui | G19: 97620 | I19: Éducation musicale | K19: BAFA | N19: 15 | O19: Cantal
F20: Dembéni | G20: 97660 | I20: Maternelle | K20: Autre | N20: 16 | O20: Charente
F21: Dzaoudzi/ Labattoir | G21: 97615 | I21: Langues & cultures | N21: 17 | O21: Charente-Maritime
F22: Kani-Kéli | G22: 97625 | I22: LVE | N22: 18 | O22: Cher
F23: Koungou | G23: 97600 | I23: Numérique | N23: 19 | O23: Corrèze
B24: Fiches | C24: Communes 01 | D24: Communes 02 | F24: Mamoudzou | G24: 97600 | N24: 2A | O24: Corse-du-Sud
B25: Fiche 1 | C25: =INDIRECT("'"&B25&"'!C11") -> #REF! | D25: =IF($C25="M'tsamboro","Mtsamboro",IF($C25="M'tsangamouji","Mtsangamouji",IF($C25="Kani-Kéli","KaniKéli",IF($C25="Dzaoudzi/ Labattoir","DzaoudziLab", $C25)))) -> #REF! | F25: M'tsamboro | G25: 97630 | N25: 2B | O25: Haute-Corse
B26: Fiche 2 | C26: =INDIRECT("'"&B26&"'!C11") -> #REF! | D26: =IF($C26="M'tsamboro","Mtsamboro",IF($C26="M'tsangamouji","Mtsangamouji",IF($C26="Kani-Kéli","KaniKéli",IF($C26="Dzaoudzi/ Labattoir","DzaoudziLab", $C26)))) -> #REF! | F26: M'tsangamouji | G26: 97650 | N26: 21 | O26: Côte-d'Or
B27: Fiche 3 | C27: =INDIRECT("'"&B27&"'!C11") -> #REF! | D27: =IF($C27="M'tsamboro","Mtsamboro",IF($C27="M'tsangamouji","Mtsangamouji",IF($C27="Kani-Kéli","KaniKéli",IF($C27="Dzaoudzi/ Labattoir","DzaoudziLab", $C27)))) -> #REF! | F27: Ouangani | G27: 97670 | N27: 22 | O27: Côtes-d'Armor
B28: Fiche 4 | C28: =INDIRECT("'"&B28&"'!C11") -> #REF! | D28: =IF($C28="M'tsamboro","Mtsamboro",IF($C28="M'tsangamouji","Mtsangamouji",IF($C28="Kani-Kéli","KaniKéli",IF($C28="Dzaoudzi/ Labattoir","DzaoudziLab", $C28)))) -> #REF! | F28: Pamandzi | G28: 97615 | I28: Habilitation LVE | N28: 23 | O28: Creuse
B29: Fiche 5 | C29: =INDIRECT("'"&B29&"'!C11") -> #REF! | D29: =IF($C29="M'tsamboro","Mtsamboro",IF($C29="M'tsangamouji","Mtsangamouji",IF($C29="Kani-Kéli","KaniKéli",IF($C29="Dzaoudzi/ Labattoir","DzaoudziLab", $C29)))) -> #REF! | F29: Sada | G29: 97640 | I29: provisoire en anglais | J29: provisoire | N29: 24 | O29: Dordogne
B30: Fiche 6 | C30: =INDIRECT("'"&B30&"'!C11") -> #REF! | D30: =IF($C30="M'tsamboro","Mtsamboro",IF($C30="M'tsangamouji","Mtsangamouji",IF($C30="Kani-Kéli","KaniKéli",IF($C30="Dzaoudzi/ Labattoir","DzaoudziLab", $C30)))) -> #REF! | F30: Tsingoni | G30: 97680 | I30: provisoire en espagnol | J30: définitive | N30: 25 | O30: Doubs
B31: Fiche 7 | C31: =INDIRECT("'"&B31&"'!C11") -> #REF! | D31: =IF($C31="M'tsamboro","Mtsamboro",IF($C31="M'tsangamouji","Mtsangamouji",IF($C31="Kani-Kéli","KaniKéli",IF($C31="Dzaoudzi/ Labattoir","DzaoudziLab", $C31)))) -> #REF! | I31: provisoire en arabe | N31: 26 | O31: Drôme
B32: Fiche 8 | C32: =INDIRECT("'"&B32&"'!C11") -> #REF! | D32: =IF($C32="M'tsamboro","Mtsamboro",IF($C32="M'tsangamouji","Mtsangamouji",IF($C32="Kani-Kéli","KaniKéli",IF($C32="Dzaoudzi/ Labattoir","DzaoudziLab", $C32)))) -> #REF! | I32: provisoire en allemand | J32: en anglais | N32: 27 | O32: Eure
B33: Fiche 9 | C33: =INDIRECT("'"&B33&"'!C11") -> #REF! | D33: =IF($C33="M'tsamboro","Mtsamboro",IF($C33="M'tsangamouji","Mtsangamouji",IF($C33="Kani-Kéli","KaniKéli",IF($C33="Dzaoudzi/ Labattoir","DzaoudziLab", $C33)))) -> #REF! | F33: Syndicale | I33: définitive en anglais | J33: en espagnol | N33: 28 | O33: Eure-et-Loir
B34: Fiche 10 | C34: =INDIRECT("'"&B34&"'!C11") -> #REF! | D34: =IF($C34="M'tsamboro","Mtsamboro",IF($C34="M'tsangamouji","Mtsangamouji",IF($C34="Kani-Kéli","KaniKéli",IF($C34="Dzaoudzi/ Labattoir","DzaoudziLab", $C34)))) -> #REF! | F34: Déchargé 25% | I34: définitive en espagnol | J34: en arabe | N34: 29 | O34: Finistère
B35: Fiche 11 | C35: =INDIRECT("'"&B35&"'!C11") -> #REF! | D35: =IF($C35="M'tsamboro","Mtsamboro",IF($C35="M'tsangamouji","Mtsangamouji",IF($C35="Kani-Kéli","KaniKéli",IF($C35="Dzaoudzi/ Labattoir","DzaoudziLab", $C35)))) -> #REF! | F35: Déchargé 50% | I35: définitive en arabe | J35: en allemand | N35: 30 | O35: Gard
B36: Fiche 12 | C36: =INDIRECT("'"&B36&"'!C11") -> #REF! | D36: =IF($C36="M'tsamboro","Mtsamboro",IF($C36="M'tsangamouji","Mtsangamouji",IF($C36="Kani-Kéli","KaniKéli",IF($C36="Dzaoudzi/ Labattoir","DzaoudziLab", $C36)))) -> #REF! | F36: Déchargé 100% | I36: définitive en allemand | N36: 31 | O36: Haute-Garonne
B37: Fiche 13 | C37: =INDIRECT("'"&B37&"'!C11") -> #REF! | D37: =IF($C37="M'tsamboro","Mtsamboro",IF($C37="M'tsangamouji","Mtsangamouji",IF($C37="Kani-Kéli","KaniKéli",IF($C37="Dzaoudzi/ Labattoir","DzaoudziLab", $C37)))) -> #REF! | F37: Élu (e) | N37: 32 | O37: Gers
B38: Fiche 14 | C38: =INDIRECT("'"&B38&"'!C11") -> #REF! | D38: =IF($C38="M'tsamboro","Mtsamboro",IF($C38="M'tsangamouji","Mtsangamouji",IF($C38="Kani-Kéli","KaniKéli",IF($C38="Dzaoudzi/ Labattoir","DzaoudziLab", $C38)))) -> #REF! | F38: Autre | N38: 33 | O38: Gironde
B39: Fiche 15 | C39: =INDIRECT("'"&B39&"'!C11") -> #REF! | D39: =IF($C39="M'tsamboro","Mtsamboro",IF($C39="M'tsangamouji","Mtsangamouji",IF($C39="Kani-Kéli","KaniKéli",IF($C39="Dzaoudzi/ Labattoir","DzaoudziLab", $C39)))) -> #REF! | N39: 34 | O39: Hérault
B40: Fiche 16 | C40: =INDIRECT("'"&B40&"'!C11") -> #REF! | D40: =IF($C40="M'tsamboro","Mtsamboro",IF($C40="M'tsangamouji","Mtsangamouji",IF($C40="Kani-Kéli","KaniKéli",IF($C40="Dzaoudzi/ Labattoir","DzaoudziLab", $C40)))) -> #REF! | N40: 35 | O40: Ille-et-Vilaine
B41: Fiche 17 | C41: =INDIRECT("'"&B41&"'!C11") -> #REF! | D41: =IF($C41="M'tsamboro","Mtsamboro",IF($C41="M'tsangamouji","Mtsangamouji",IF($C41="Kani-Kéli","KaniKéli",IF($C41="Dzaoudzi/ Labattoir","DzaoudziLab", $C41)))) -> #REF! | N41: 36 | O41: Indre
B42: Fiche 18 | C42: =INDIRECT("'"&B42&"'!C11") -> #REF! | D42: =IF($C42="M'tsamboro","Mtsamboro",IF($C42="M'tsangamouji","Mtsangamouji",IF($C42="Kani-Kéli","KaniKéli",IF($C42="Dzaoudzi/ Labattoir","DzaoudziLab", $C42)))) -> #REF! | F42: Circonscriptions | N42: 37 | O42: Indre-et-Loire
B43: Fiche 19 | C43: =INDIRECT("'"&B43&"'!C11") -> #REF! | D43: =IF($C43="M'tsamboro","Mtsamboro",IF($C43="M'tsangamouji","Mtsangamouji",IF($C43="Kani-Kéli","KaniKéli",IF($C43="Dzaoudzi/ Labattoir","DzaoudziLab", $C43)))) -> #REF! | F43: Acoua | I43: mat | J43: élém | K43: prim | N43: 38 | O43: Isère
B44: Fiche 20 | C44: =INDIRECT("'"&B44&"'!C11") -> #REF! | D44: =IF($C44="M'tsamboro","Mtsamboro",IF($C44="M'tsangamouji","Mtsangamouji",IF($C44="Kani-Kéli","KaniKéli",IF($C44="Dzaoudzi/ Labattoir","DzaoudziLab", $C44)))) -> #REF! | F44: Bandraboua | I44: PS | J44: CP | K44: PS | N44: 39 | O44: Jura
B45: Fiche 21 | C45: =INDIRECT("'"&B45&"'!C11") -> #REF! | D45: =IF($C45="M'tsamboro","Mtsamboro",IF($C45="M'tsangamouji","Mtsangamouji",IF($C45="Kani-Kéli","KaniKéli",IF($C45="Dzaoudzi/ Labattoir","DzaoudziLab", $C45)))) -> #REF! | F45: Dembéni | I45: PS/MS | J45: CP/CE1 | K45: PS/MS | N45: 40 | O45: Landes
B46: Fiche 22 | C46: =INDIRECT("'"&B46&"'!C11") -> #REF! | D46: =IF($C46="M'tsamboro","Mtsamboro",IF($C46="M'tsangamouji","Mtsangamouji",IF($C46="Kani-Kéli","KaniKéli",IF($C46="Dzaoudzi/ Labattoir","DzaoudziLab", $C46)))) -> #REF! | F46: Bouéni | I46: MS | J46: CE1 | K46: MS | N46: 41 | O46: Loir-et-Cher
B47: Fiche 23 | C47: =INDIRECT("'"&B47&"'!C11") -> #REF! | D47: =IF($C47="M'tsamboro","Mtsamboro",IF($C47="M'tsangamouji","Mtsangamouji",IF($C47="Kani-Kéli","KaniKéli",IF($C47="Dzaoudzi/ Labattoir","DzaoudziLab", $C47)))) -> #REF! | F47: Sada | I47: MS/GS | J47: CE1/CE2 | K47: MS/GS | N47: 42 | O47: Loire
B48: Fiche 24 | C48: =INDIRECT("'"&B48&"'!C11") -> #REF! | D48: =IF($C48="M'tsamboro","Mtsamboro",IF($C48="M'tsangamouji","Mtsangamouji",IF($C48="Kani-Kéli","KaniKéli",IF($C48="Dzaoudzi/ Labattoir","DzaoudziLab", $C48)))) -> #REF! | F48: Dzaoudzi | I48: GS | J48: CE2 | K48: GS | N48: 43 | O48: Haute-Loire
B49: Fiche 25 | C49: =INDIRECT("'"&B49&"'!C11") -> #REF! | D49: =IF($C49="M'tsamboro","Mtsamboro",IF($C49="M'tsangamouji","Mtsangamouji",IF($C49="Kani-Kéli","KaniKéli",IF($C49="Dzaoudzi/ Labattoir","DzaoudziLab", $C49)))) -> #REF! | F49: Koungou | J49: CM1 | K49: CP | N49: 44 | O49: Loire-Atlantique
B50: Fiche 26 | C50: =INDIRECT("'"&B50&"'!C11") -> #REF! | D50: =IF($C50="M'tsamboro","Mtsamboro",IF($C50="M'tsangamouji","Mtsangamouji",IF($C50="Kani-Kéli","KaniKéli",IF($C50="Dzaoudzi/ Labattoir","DzaoudziLab", $C50)))) -> #REF! | F50: Mamoudzou Nord | J50: CM1/CM2 | K50: CP/CE1 | N50: 45 | O50: Loiret
B51: Fiche 27 | C51: =INDIRECT("'"&B51&"'!C11") -> #REF! | D51: =IF($C51="M'tsamboro","Mtsamboro",IF($C51="M'tsangamouji","Mtsangamouji",IF($C51="Kani-Kéli","KaniKéli",IF($C51="Dzaoudzi/ Labattoir","DzaoudziLab", $C51)))) -> #REF! | F51: Mamoudzou Centre | J51: CM2 | K51: CE1 | N51: 46 | O51: Lot
B52: Fiche 28 | C52: =INDIRECT("'"&B52&"'!C11") -> #REF! | D52: =IF($C52="M'tsamboro","Mtsamboro",IF($C52="M'tsangamouji","Mtsangamouji",IF($C52="Kani-Kéli","KaniKéli",IF($C52="Dzaoudzi/ Labattoir","DzaoudziLab", $C52)))) -> #REF! | F52: Mamoudzou Sud | J52: ZIL | K52: CE1/CE2 | N52: 47 | O52: Lot-et-Garonne
B53: Fiche 29 | C53: =INDIRECT("'"&B53&"'!C11") -> #REF! | D53: =IF($C53="M'tsamboro","Mtsamboro",IF($C53="M'tsangamouji","Mtsangamouji",IF($C53="Kani-Kéli","KaniKéli",IF($C53="Dzaoudzi/ Labattoir","DzaoudziLab", $C53)))) -> #REF! | F53: Tsingoni | J53: ULIS | K53: CE2 | N53: 48 | O53: Lozère
B54: Fiche 30 | C54: =INDIRECT("'"&B54&"'!C11") -> #REF! | D54: =IF($C54="M'tsamboro","Mtsamboro",IF($C54="M'tsangamouji","Mtsangamouji",IF($C54="Kani-Kéli","KaniKéli",IF($C54="Dzaoudzi/ Labattoir","DzaoudziLab", $C54)))) -> #REF! | F54: ASH Mamoudzou | K54: CM1 | N54: 49 | O54: Maine-et-Loire
B55: Fiche 31 | C55: =INDIRECT("'"&B55&"'!C11") -> #REF! | D55: =IF($C55="M'tsamboro","Mtsamboro",IF($C55="M'tsangamouji","Mtsangamouji",IF($C55="Kani-Kéli","KaniKéli",IF($C55="Dzaoudzi/ Labattoir","DzaoudziLab", $C55)))) -> #REF! | K55: CM1/CM2 | N55: 50 | O55: Manche
B56: Fiche 32 | C56: =INDIRECT("'"&B56&"'!C11") -> #REF! | D56: =IF($C56="M'tsamboro","Mtsamboro",IF($C56="M'tsangamouji","Mtsangamouji",IF($C56="Kani-Kéli","KaniKéli",IF($C56="Dzaoudzi/ Labattoir","DzaoudziLab", $C56)))) -> #REF! | K56: CM2 | N56: 51 | O56: Marne
B57: Fiche 33 | C57: =INDIRECT("'"&B57&"'!C11") -> #REF! | D57: =IF($C57="M'tsamboro","Mtsamboro",IF($C57="M'tsangamouji","Mtsangamouji",IF($C57="Kani-Kéli","KaniKéli",IF($C57="Dzaoudzi/ Labattoir","DzaoudziLab", $C57)))) -> #REF! | K57: ZIL | N57: 52 | O57: Haute-Marne
B58: Fiche 34 | C58: =INDIRECT("'"&B58&"'!C11") -> #REF! | D58: =IF($C58="M'tsamboro","Mtsamboro",IF($C58="M'tsangamouji","Mtsangamouji",IF($C58="Kani-Kéli","KaniKéli",IF($C58="Dzaoudzi/ Labattoir","DzaoudziLab", $C58)))) -> #REF! | K58: Autre | N58: 53 | O58: Mayenne
B59: Fiche 35 | C59: =INDIRECT("'"&B59&"'!C11") -> #REF! | D59: =IF($C59="M'tsamboro","Mtsamboro",IF($C59="M'tsangamouji","Mtsangamouji",IF($C59="Kani-Kéli","KaniKéli",IF($C59="Dzaoudzi/ Labattoir","DzaoudziLab", $C59)))) -> #REF! | K59: ULIS | N59: 54 | O59: Meurthe-et-Moselle
B60: Fiche 36 | C60: =INDIRECT("'"&B60&"'!C11") -> #REF! | D60: =IF($C60="M'tsamboro","Mtsamboro",IF($C60="M'tsangamouji","Mtsangamouji",IF($C60="Kani-Kéli","KaniKéli",IF($C60="Dzaoudzi/ Labattoir","DzaoudziLab", $C60)))) -> #REF! | N60: 55 | O60: Meuse
B61: Fiche 37 | C61: =INDIRECT("'"&B61&"'!C11") -> #REF! | D61: =IF($C61="M'tsamboro","Mtsamboro",IF($C61="M'tsangamouji","Mtsangamouji",IF($C61="Kani-Kéli","KaniKéli",IF($C61="Dzaoudzi/ Labattoir","DzaoudziLab", $C61)))) -> #REF! | N61: 56 | O61: Morbihan
B62: Fiche 38 | C62: =INDIRECT("'"&B62&"'!C11") -> #REF! | D62: =IF($C62="M'tsamboro","Mtsamboro",IF($C62="M'tsangamouji","Mtsangamouji",IF($C62="Kani-Kéli","KaniKéli",IF($C62="Dzaoudzi/ Labattoir","DzaoudziLab", $C62)))) -> #REF! | N62: 57 | O62: Moselle
B63: Fiche 39 | C63: =INDIRECT("'"&B63&"'!C11") -> #REF! | D63: =IF($C63="M'tsamboro","Mtsamboro",IF($C63="M'tsangamouji","Mtsangamouji",IF($C63="Kani-Kéli","KaniKéli",IF($C63="Dzaoudzi/ Labattoir","DzaoudziLab", $C63)))) -> #REF! | N63: 58 | O63: Nièvre
B64: Fiche 40 | C64: =INDIRECT("'"&B64&"'!C11") -> #REF! | D64: =IF($C64="M'tsamboro","Mtsamboro",IF($C64="M'tsangamouji","Mtsangamouji",IF($C64="Kani-Kéli","KaniKéli",IF($C64="Dzaoudzi/ Labattoir","DzaoudziLab", $C64)))) -> #REF! | N64: 59 | O64: Nord
B65: Fiche 41 | C65: =INDIRECT("'"&B65&"'!C11") -> #REF! | D65: =IF($C65="M'tsamboro","Mtsamboro",IF($C65="M'tsangamouji","Mtsangamouji",IF($C65="Kani-Kéli","KaniKéli",IF($C65="Dzaoudzi/ Labattoir","DzaoudziLab", $C65)))) -> #REF! | N65: 60 | O65: Oise
B66: Fiche 42 | C66: =INDIRECT("'"&B66&"'!C11") -> #REF! | D66: =IF($C66="M'tsamboro","Mtsamboro",IF($C66="M'tsangamouji","Mtsangamouji",IF($C66="Kani-Kéli","KaniKéli",IF($C66="Dzaoudzi/ Labattoir","DzaoudziLab", $C66)))) -> #REF! | N66: 61 | O66: Orne
B67: Fiche 43 | C67: =INDIRECT("'"&B67&"'!C11") -> #REF! | D67: =IF($C67="M'tsamboro","Mtsamboro",IF($C67="M'tsangamouji","Mtsangamouji",IF($C67="Kani-Kéli","KaniKéli",IF($C67="Dzaoudzi/ Labattoir","DzaoudziLab", $C67)))) -> #REF! | N67: 62 | O67: Pas-de-Calais
B68: Fiche 44 | C68: =INDIRECT("'"&B68&"'!C11") -> #REF! | D68: =IF($C68="M'tsamboro","Mtsamboro",IF($C68="M'tsangamouji","Mtsangamouji",IF($C68="Kani-Kéli","KaniKéli",IF($C68="Dzaoudzi/ Labattoir","DzaoudziLab", $C68)))) -> #REF! | N68: 63 | O68: Puy-de-Dôme
B69: Fiche 45 | C69: =INDIRECT("'"&B69&"'!C11") -> #REF! | D69: =IF($C69="M'tsamboro","Mtsamboro",IF($C69="M'tsangamouji","Mtsangamouji",IF($C69="Kani-Kéli","KaniKéli",IF($C69="Dzaoudzi/ Labattoir","DzaoudziLab", $C69)))) -> #REF! | N69: 64 | O69: Pyrénées-Atlantiques
N70: 65 | O70: Hautes-Pyrénées
N71: 66 | O71: Pyrénées-Orientales
N72: 67 | O72: Bas-Rhin
N73: 68 | O73: Haut-Rhin
N74: 69 | O74: Rhône
N75: 70 | O75: Haute-Saône
N76: 71 | O76: Saône-et-Loire
N77: 72 | O77: Sarthe
N78: 73 | O78: Savoie
N79: 74 | O79: Haute-Savoie
N80: 75 | O80: Paris
N81: 76 | O81: Seine-Maritime
... N112: 000 | O112: Autre

Sheet villes
Q2: BESSEAU Bruno IAI Tsingoni 2021
E3: Villes & villages pour les menus
B6: 97630 | C6: 97650 | D6: 97660 | E6: 97620 | F6: 97670 | G6: 97620 | H6: 97660 | I6: 97615 | J6: 97625 | K6: 97600 | L6: 97600 | M6: 97630 | N6: 97650 | O6: 97670 | P6: 97615 | Q6: 97640 | R6: 97680
B7: Acoua | C7: Bandraboua | D7: Bandrélé | E7: Bouéni | F7: Chiconi | G7: Chirongui | H7: Dembéni | I7: DzaoudziLabattoir | J7: KaniKéli | K7: Koungou | L7: Mamoudzou | M7: Mtsamboro | N7: Mtsangamouji | O7: Ouangani | P7: Pamandzi | Q7: Sada | R7: Tsingoni
B8: Acoua | C8: Bandraboua | D8: Bandrélé | E8: Bouéni | F8: Chiconi | G8: Chirongui | H8: Dembéni | I8: Dzaoudzi | J8: Choungui | K8: Majicavo Koropa | L8: Doujani | M8: Hamjago | N8: Chembényoumba | O8: Barakani | P8: Pamandzi | Q8: Manjagou | R8: Combani
B9: M'tsangadoua | C9: Bouyouni | D9: Bambo-Est | E9: Bambo-Ouest | F9: Sohoa | G9: Malamani | H9: Iloni | I9: Labattoir | J9: Kani-Kéli | K9: Majicavo Lamir | L9: Kavani | M9: M'tsamboro | N9: M'Tsangamouji | O9: Coconi | Q9: Sada | R9: Miréréni
C10: Dzoumogné | D10: Dapani | E10: Hagnoundrou | G10: Miréréni | H10: Ongoujou | J10: Kani-Bé | K10: Koungou | L10: Kawéni | M10: M'tsahara | N10: M'liha | O10: Hapandzo | R10: M'roalé
C11: Handrema | D11: Hamouro | E11: M'bouanatsa | G11: M'ramadoudou | H11: Tsararano | J11: Passy-Kéli | K11: Trévani | L11: Mamoudzou | O11: Kahani | R11: Tsingoni
C12: M'tsangamboua | D12: M'tsamoudou | E12: Moinatrindi | G12: Poroani | H12: Hajangoua | J12: M'bouini | K12: Longoni | L12: M'tsapéré | O12: Ouangani
D13: Nyambadao | E13: M'zouazia | G13: Tsimkoura | J13: M'ronabéja | K13: Kangani | L13: Passamainty
L14: Tsoundzou I
L15: Tsoundzou II
L16: Vahibé
B18: Circonscriptions
B19: Acoua | C19: Bandraboua | D19: Dembéni | E19: Bouéni | F19: Sada | G19: Dzaoudzi | H19: Koungou | I19: Mamoudzou Nord | J19: Mamoudzou Centre | K19: Mamoudzou Sud | L19: Tsingoni | M19: ASH Mamoudzou
B20: Acoua | C20: Bandraboua | D20: Dembéni | E20: Bouéni | F20: Sada | G20: Dzaoudzi | H20: Koungou | I20: Kawéni | J20: Mamoudzou | K20: Doujani | L20: Tsingoni
B21: M'tsangamouji | C21: Dzoumognié | D21: Bandrélé | E21: Kani-Kéli | F21: Chiconi | G21: Labattoir | H21: Majicavo Koropa | J21: Kavani | K21: Passamainty | L21: Ouangani
B22: Mtsamboro | C22: Longoni | D22: M'tsamoudou | F22: Poroani | H22: Majicavo Lamir | J22: M'tsapéré | K22: Tsoundzou 1
C23: Kangani | D23: Dapani | F23: Miréréni | H23: Trévani | K23: Tsoundzou 2
F24: Malamani | K24: Vahibé
B33: BESSEAU Bruno IAI Tsingoni 2021
