Workbook

Sheet Doc à compléter
Y1: ATTENTION | Z1: dans le barème 12,8km/h devrait donner une note de 2,71 et pas 2,64
G4: Sortie Tir | H4: Entrée Tir | I4: Sortie Tir | J4: Entrée Tir | K4: Arrivée | L4: Réussite au tir | S4: Course 1 | T4: Course 2 | U4: Tir 1 | V4: Tir 2 | W4: Tir 3 | X4: Total C1+C2 | AA4: Vitesse arrondie | AB4: AFL1 /7pts
B5: NOM | C5: Prénom | D5: Classe | E5: Sexe | F5: Départ | M5: Départ | N5: Sortie Tir | O5: Entrée Tir | P5: Sortie Tir | Q5: Entrée Tir | R5: Arrivée | Y5: Temps en sec | Z5: Vitesse | AB5: Vitesse
A6: 1 | E6: G | F6: 0.14 | G6: 0.51 | H6: 2.13 | I6: 3.04 | J6: 4.46 | K6: 5.36 | L6: 13 | M6: =((INT(F6)*60)+((F6-INT(F6))*100))/60/60/24 -> 0.00016203704 | N6: =(((INT(G6)*60)+((G6-INT(G6))*100))/60/60/24)-M6 -> 0.00042824074 | O6: =(((INT(H6)*60)+((H6-INT(H6))*100))/60/60/24)-M6 -> 0.0013773148 | P6: =(((INT(I6)*60)+((I6-INT(I6))*100))/60/60/24)-M6 -> 0.0019675926 | Q6: =(((INT(J6)*60)+((J6-INT(J6))*100))/60/60/24)-M6 -> 0.0031481481 | R6: =(((INT(K6)*60)+((K6-INT(K6))*100))/60/60/24)-M6 -> 0.0037268519 | S6: =O6-N6 -> 0.00094907407 | T6: =Q6-P6 -> 0.0011805556 | U6: =N6 -> 0.00042824074 | V6: =P6-O6 -> 0.00059027778 | W6: =R6-Q6 -> 0.0005787037 | X6: =SUM(S6:T6) -> 0.0021296296 | Y6: =X6*86400 -> 184 | Z6: =(654*3.6)/Y6 -> 12.795652 | AA6: =ROUND(ROUNDUP(Z6,1),1) -> 12.8 | AB6: =IF(E6="F",VLOOKUP(AA6,barème!$A:$B,2,FALSE),IF(E6="G",VLOOKUP(AA6,barème!$D:$E,2,FALSE))) -> 2.71
A7: 2 | F7: 0 | M7: =((INT(F7)*60)+((F7-INT(F7))*100))/60/60/24 -> 0 | N7: =(((INT(G7)*60)+((G7-INT(G7))*100))/60/60/24)-M7 -> 0 | O7: =(((INT(H7)*60)+((H7-INT(H7))*100))/60/60/24)-M7 -> 0 | P7: =(((INT(I7)*60)+((I7-INT(I7))*100))/60/60/24)-M7 -> 0 | Q7: =(((INT(J7)*60)+((J7-INT(J7))*100))/60/60/24)-M7 -> 0 | R7: =(((INT(K7)*60)+((K7-INT(K7))*100))/60/60/24)-M7 -> 0 | S7: =O7-N7 -> 0 | T7: =Q7-P7 -> 0 | U7: =N7 -> 0 | V7: =P7-O7 -> 0 | W7: =R7-Q7 -> 0 | X7: =SUM(S7:T7) -> 0 | Y7: =X7*86400 -> 0 | Z7: =(654*3.6)/Y7 -> #DIV/0! | AA7: =ROUND(ROUNDUP(Z7,1),1) -> #DIV/0! | AB7: =IF(E7="F",VLOOKUP(AA7,barème!$A:$B,2,FALSE),IF(E7="G",VLOOKUP(AA7,barème!$D:$E,2,FALSE))) -> FALSE
A8: 3 | F8: 0 | M8: =((INT(F8)*60)+((F8-INT(F8))*100))/60/60/24 -> 0 | N8: =(((INT(G8)*60)+((G8-INT(G8))*100))/60/60/24)-M8 -> 0 | O8: =(((INT(H8)*60)+((H8-INT(H8))*100))/60/60/24)-M8 -> 0 | P8: =(((INT(I8)*60)+((I8-INT(I8))*100))/60/60/24)-M8 -> 0 | Q8: =(((INT(J8)*60)+((J8-INT(J8))*100))/60/60/24)-M8 -> 0 | R8: =(((INT(K8)*60)+((K8-INT(K8))*100))/60/60/24)-M8 -> 0 | S8: =O8-N8 -> 0 | T8: =Q8-P8 -> 0 | U8: =N8 -> 0 | V8: =P8-O8 -> 0 | W8: =R8-Q8 -> 0 | X8: =SUM(S8:T8) -> 0 | Y8: =X8*86400 -> 0 | Z8: =(654*3.6)/Y8 -> #DIV/0! | AA8: =ROUND(ROUNDUP(Z8,1),1) -> #DIV/0! | AB8: =IF(E8="F",VLOOKUP(AA8,barème!$A:$B,2,FALSE),IF(E8="G",VLOOKUP(AA8,barème!$D:$E,2,FALSE))) -> FALSE
A9: 4 | F9: 0 | M9: =((INT(F9)*60)+((F9-INT(F9))*100))/60/60/24 -> 0 | N9: =(((INT(G9)*60)+((G9-INT(G9))*100))/60/60/24)-M9 -> 0 | O9: =(((INT(H9)*60)+((H9-INT(H9))*100))/60/60/24)-M9 -> 0 | P9: =(((INT(I9)*60)+((I9-INT(I9))*100))/60/60/24)-M9 -> 0 | Q9: =(((INT(J9)*60)+((J9-INT(J9))*100))/60/60/24)-M9 -> 0 | R9: =(((INT(K9)*60)+((K9-INT(K9))*100))/60/60/24)-M9 -> 0 | S9: =O9-N9 -> 0 | T9: =Q9-P9 -> 0 | U9: =N9 -> 0 | V9: =P9-O9 -> 0 | W9: =R9-Q9 -> 0 | X9: =SUM(S9:T9) -> 0 | Y9: =X9*86400 -> 0 | Z9: =(654*3.6)/Y9 -> #DIV/0! | AA9: =ROUND(ROUNDUP(Z9,1),1) -> #DIV/0! | AB9: =IF(E9="F",VLOOKUP(AA9,barème!$A:$B,2,FALSE),IF(E9="G",VLOOKUP(AA9,barème!$D:$E,2,FALSE))) -> FALSE
A10: 5 | F10: 0 | M10: =((INT(F10)*60)+((F10-INT(F10))*100))/60/60/24 -> 0 | N10: =(((INT(G10)*60)+((G10-INT(G10))*100))/60/60/24)-M10 -> 0 | O10: =(((INT(H10)*60)+((H10-INT(H10))*100))/60/60/24)-M10 -> 0 | P10: =(((INT(I10)*60)+((I10-INT(I10))*100))/60/60/24)-M10 -> 0 | Q10: =(((INT(J10)*60)+((J10-INT(J10))*100))/60/60/24)-M10 -> 0 | R10: =(((INT(K10)*60)+((K10-INT(K10))*100))/60/60/24)-M10 -> 0 | S10: =O10-N10 -> 0 | T10: =Q10-P10 -> 0 | U10: =N10 -> 0 | V10: =P10-O10 -> 0 | W10: =R10-Q10 -> 0 | X10: =SUM(S10:T10) -> 0 | Y10: =X10*86400 -> 0 | Z10: =(654*3.6)/Y10 -> #DIV/0! | AA10: =ROUND(ROUNDUP(Z10,1),1) -> #DIV/0! | AB10: =IF(E10="F",VLOOKUP(AA10,barème!$A:$B,2,FALSE),IF(E10="G",VLOOKUP(AA10,barème!$D:$E,2,FALSE))) -> FALSE
A11: 6 | F11: 0 | M11: =((INT(F11)*60)+((F11-INT(F11))*100))/60/60/24 -> 0 | N11: =(((INT(G11)*60)+((G11-INT(G11))*100))/60/60/24)-M11 -> 0 | O11: =(((INT(H11)*60)+((H11-INT(H11))*100))/60/60/24)-M11 -> 0 | P11: =(((INT(I11)*60)+((I11-INT(I11))*100))/60/60/24)-M11 -> 0 | Q11: =(((INT(J11)*60)+((J11-INT(J11))*100))/60/60/24)-M11 -> 0 | R11: =(((INT(K11)*60)+((K11-INT(K11))*100))/60/60/24)-M11 -> 0 | S11: =O11-N11 -> 0 | T11: =Q11-P11 -> 0 | U11: =N11 -> 0 | V11: =P11-O11 -> 0 | W11: =R11-Q11 -> 0 | X11: =SUM(S11:T11) -> 0 | Y11: =X11*86400 -> 0 | Z11: =(654*3.6)/Y11 -> #DIV/0! | AA11: =ROUND(ROUNDUP(Z11,1),1) -> #DIV/0! | AB11: =IF(E11="F",VLOOKUP(AA11,barème!$A:$B,2,FALSE),IF(E11="G",VLOOKUP(AA11,barème!$D:$E,2,FALSE))) -> FALSE
A12: 7 | F12: 0 | M12: =((INT(F12)*60)+((F12-INT(F12))*100))/60/60/24 -> 0 | N12: =(((INT(G12)*60)+((G12-INT(G12))*100))/60/60/24)-M12 -> 0 | O12: =(((INT(H12)*60)+((H12-INT(H12))*100))/60/60/24)-M12 -> 0 | P12: =(((INT(I12)*60)+((I12-INT(I12))*100))/60/60/24)-M12 -> 0 | Q12: =(((INT(J12)*60)+((J12-INT(J12))*100))/60/60/24)-M12 -> 0 | R12: =(((INT(K12)*60)+((K12-INT(K12))*100))/60/60/24)-M12 -> 0 | S12: =O12-N12 -> 0 | T12: =Q12-P12 -> 0 | U12: =N12 -> 0 | V12: =P12-O12 -> 0 | W12: =R12-Q12 -> 0 | X12: =SUM(S12:T12) -> 0 | Y12: =X12*86400 -> 0 | Z12: =(654*3.6)/Y12 -> #DIV/0! | AA12: =ROUND(ROUNDUP(Z12,1),1) -> #DIV/0! | AB12: =IF(E12="F",VLOOKUP(AA12,barème!$A:$B,2,FALSE),IF(E12="G",VLOOKUP(AA12,barème!$D:$E,2,FALSE))) -> FALSE
A13: 8 | F13: 0 | M13: =((INT(F13)*60)+((F13-INT(F13))*100))/60/60/24 -> 0 | N13: =(((INT(G13)*60)+((G13-INT(G13))*100))/60/60/24)-M13 -> 0 | O13: =(((INT(H13)*60)+((H13-INT(H13))*100))/60/60/24)-M13 -> 0 | P13: =(((INT(I13)*60)+((I13-INT(I13))*100))/60/60/24)-M13 -> 0 | Q13: =(((INT(J13)*60)+((J13-INT(J13))*100))/60/60/24)-M13 -> 0 | R13: =(((INT(K13)*60)+((K13-INT(K13))*100))/60/60/24)-M13 -> 0 | S13: =O13-N13 -> 0 | T13: =Q13-P13 -> 0 | U13: =N13 -> 0 | V13: =P13-O13 -> 0 | W13: =R13-Q13 -> 0 | X13: =SUM(S13:T13) -> 0 | Y13: =X13*86400 -> 0 | Z13: =(654*3.6)/Y13 -> #DIV/0! | AA13: =ROUND(ROUNDUP(Z13,1),1) -> #DIV/0! | AB13: =IF(E13="F",VLOOKUP(AA13,barème!$A:$B,2,FALSE),IF(E13="G",VLOOKUP(AA13,barème!$D:$E,2,FALSE))) -> FALSE
A14: 9 | F14: 0 | M14: =((INT(F14)*60)+((F14-INT(F14))*100))/60/60/24 -> 0 | N14: =(((INT(G14)*60)+((G14-INT(G14))*100))/60/60/24)-M14 -> 0 | O14: =(((INT(H14)*60)+((H14-INT(H14))*100))/60/60/24)-M14 -> 0 | P14: =(((INT(I14)*60)+((I14-INT(I14))*100))/60/60/24)-M14 -> 0 | Q14: =(((INT(J14)*60)+((J14-INT(J14))*100))/60/60/24)-M14 -> 0 | R14: =(((INT(K14)*60)+((K14-INT(K14))*100))/60/60/24)-M14 -> 0 | S14: =O14-N14 -> 0 | T14: =Q14-P14 -> 0 | U14: =N14 -> 0 | V14: =P14-O14 -> 0 | W14: =R14-Q14 -> 0 | X14: =SUM(S14:T14) -> 0 | Y14: =X14*86400 -> 0 | Z14: =(654*3.6)/Y14 -> #DIV/0! | AA14: =ROUND(ROUNDUP(Z14,1),1) -> #DIV/0! | AB14: =IF(E14="F",VLOOKUP(AA14,barème!$A:$B,2,FALSE),IF(E14="G",VLOOKUP(AA14,barème!$D:$E,2,FALSE))) -> FALSE
A15: 10 | F15: 0 | M15: =((INT(F15)*60)+((F15-INT(F15))*100))/60/60/24 -> 0 | N15: =(((INT(G15)*60)+((G15-INT(G15))*100))/60/60/24)-M15 -> 0 | O15: =(((INT(H15)*60)+((H15-INT(H15))*100))/60/60/24)-M15 -> 0 | P15: =(((INT(I15)*60)+((I15-INT(I15))*100))/60/60/24)-M15 -> 0 | Q15: =(((INT(J15)*60)+((J15-INT(J15))*100))/60/60/24)-M15 -> 0 | R15: =(((INT(K15)*60)+((K15-INT(K15))*100))/60/60/24)-M15 -> 0 | S15: =O15-N15 -> 0 | T15: =Q15-P15 -> 0 | U15: =N15 -> 0 | V15: =P15-O15 -> 0 | W15: =R15-Q15 -> 0 | X15: =SUM(S15:T15) -> 0 | Y15: =X15*86400 -> 0 | Z15: =(654*3.6)/Y15 -> #DIV/0! | AA15: =ROUND(ROUNDUP(Z15,1),1) -> #DIV/0! | AB15: =IF(E15="F",VLOOKUP(AA15,barème!$A:$B,2,FALSE),IF(E15="G",VLOOKUP(AA15,barème!$D:$E,2,FALSE))) -> FALSE

Sheet barème
A1: Vitesse de course Filles | B1: Note /7 | D1: Vitesse de course Garçons | E1: Note /7
A2: 6.5 | B2: 0 | D2: 6.9 | E2: 0
A3: 6.6 | B3: 0 | D3: 7 | E3: 0
A4: 6.7 | B4: 0 | D4: 7.1 | E4: 0
A5: 6.8 | B5: 0 | D5: 7.2 | E5: 0
A6: 6.9 | B6: 0.54 | D6: 7.3 | E6: 0
A7: 7 | B7: 0.61 | D7: 7.4 | E7: 0
A8: 7.1 | B8: 0.68 | D8: 7.5 | E8: 0
A9: 7.2 | B9: 0.75 | D9: 7.6 | E9: 0
A10: 7.3 | B10: 0.82 | D10: 7.7 | E10: 0
A11: 7.4 | B11: 0.89 | D11: 7.8 | E11: 0
A12: 7.5 | B12: 0.96 | D12: 7.9 | E12: 0
A13: 7.6 | B13: 1.03 | D13: 8 | E13: 0
... A107: 17.4 | B107: 7 | D107: 17.4 | E107: 6.9
D108: 17.5 | E108: 7
D109: 17.6 | E109: 7
D110: 17.7 | E110: 7
D111: 17.8 | E111: 7
D112: 17.9 | E112: 7
D113: 18 | E113: 7
D114: 18.1 | E114: 7
D115: 18.2 | E115: 7
D116: 18.3 | E116: 7
D117: 18.4 | E117: 7
D118: 18.5 | E118: 7
D119: 18.6 | E119: 7
D120: 18.7 | E120: 7
