Workbook

Sheet Feuil1
D1: Echéancier théorique
B2: clé_identifi° | D2: Échéance 1 | E2: Échéance 2 | F2: Échéance 3 | G2: Échéance 4 | H2: Échéance 5 | I2: Échéance 6 | J2: Échéance 7 | K2: Échéance 8 | L2: Échéance 9 | M2: Échéance 10
B3: 106318 | D3: 44902 | E3: 45057 | F3: 45743 | G3: 46796 | H3: 47238 | I3: 48493 | J3: 48593 | K3: 49780 | L3: 50561 | M3: 51053
B4: 104756 | D4: 44867 | E4: 45571 | F4: 45704 | G4: 46601 | H4: 47307 | I4: 48068 | J4: 48702 | K4: 50009 | L4: 50123 | M4: 51462
B5: 108026 | D5: 44568 | E5: 45190 | F5: 46166 | G5: 46578 | H5: 47198 | I5: 47850 | J5: 48759 | K5: 49996 | L5: 50719 | M5: 51051
B6: 103273 | D6: 44912 | E6: 45497 | F6: 46043 | G6: 46855 | H6: 47841 | I6: 48574 | J6: 48997 | K6: 49997 | L6: 50468 | M6: 51105
B7: 107617 | D7: 44669 | E7: 45478 | F7: 45935 | G7: 46453 | H7: 47837 | I7: 48435 | J7: 48880 | K7: 49782 | L7: 50311 | M7: 51281
B8: 102384 | D8: 44685 | E8: 45070 | F8: 46332 | G8: 46617 | H8: 47470 | I8: 48164 | J8: 49263 | K8: 49710 | L8: 50131 | M8: 51221
B9: 102541 | D9: 44204 | E9: 45428 | F9: 46256 | G9: 46878 | H9: 47530 | I9: 48513 | J9: 48612 | K9: 49847 | L9: 50753 | M9: 51070
B10: 107579 | D10: 44476 | E10: 45647 | F10: 46188 | G10: 46710 | H10: 47480 | I10: 47914 | J10: 48898 | K10: 49937 | L10: 50669 | M10: 51091
B11: 109235 | D11: 44520 | E11: 45656 | F11: 45837 | G11: 46971 | H11: 47248 | I11: 48387 | J11: 49290 | K11: 49491 | L11: 50658 | M11: 51140
B12: 105654 | D12: 44724 | E12: 45349 | F12: 45973 | G12: 46518 | H12: 47267 | I12: 48140 | J12: 49125 | K12: 49381 | L12: 50535 | M12: 50990
B13: 106625 | D13: 44671 | E13: 45409 | F13: 46122 | G13: 47056 | H13: 47425 | I13: 48009 | J13: 48639 | K13: 49385 | L13: 50389 | M13: 50906
B14: 109528 | D14: 44699 | E14: 45163 | F14: 45792 | G14: 46488 | H14: 47382 | I14: 48088 | J14: 48968 | K14: 49738 | L14: 50283 | M14: 51174
... B101: 105419 | D101: 44891 | E101: 45210 | F101: 45748 | G101: 46782 | H101: 47709 | I101: 47910 | J101: 49250 | K101: 49488 | L101: 50066 | M101: 51312

Sheet Feuil2
D1: Echéancier réel
B2: clé_identifi° | D2: Échéance 1 | E2: Échéance 2 | F2: Échéance 3 | G2: Échéance 4 | H2: Échéance 5 | I2: Échéance 6 | J2: Échéance 7 | K2: Échéance 8 | L2: Échéance 9 | M2: Échéance 10
B3: 106318 | D3: 44901 | E3: 45060 | F3: 45743 | G3: 46796 | H3: 47238 | I3: 48493 | J3: 48593 | K3: 49780 | L3: 50561 | M3: 51053
B4: 104756 | D4: 44867 | E4: 45571 | F4: 45704 | G4: 46601 | H4: 47307 | I4: 48068 | J4: 48702 | K4: 50009 | L4: 50123 | M4: 51462
B5: 108026 | D5: 44568 | E5: 45190 | F5: 46166 | G5: 46578 | H5: 47198 | I5: 47850 | J5: 48759 | K5: 49996 | L5: 50719 | M5: 51051
B6: 103273 | D6: 44912 | E6: 45497 | F6: 46043 | G6: 46855 | H6: 47841 | I6: 48574 | J6: 48997 | K6: 49997 | L6: 50468 | M6: 51105
B7: 107617 | D7: 44669 | E7: 45478 | F7: 45935 | G7: 46453 | H7: 47837 | I7: 48435 | J7: 48880 | K7: 49782 | L7: 50311 | M7: 51281
B8: 102384 | D8: 44685 | E8: 45070 | F8: 46332 | G8: 46617 | H8: 47470 | I8: 48164 | J8: 49263 | K8: 49710 | L8: 50131 | M8: 51221
B9: 102541 | D9: 44204 | E9: 45428 | F9: 46256 | G9: 46878 | H9: 47530 | I9: 48513 | J9: 48612 | K9: 49847 | L9: 50753 | M9: 51070
B10: 107579 | D10: 44476 | E10: 45647 | F10: 46188 | G10: 46710 | H10: 47480 | I10: 47914 | J10: 48898 | K10: 49937 | L10: 50669 | M10: 51091
B11: 109235 | D11: 44520 | E11: 45656 | F11: 45837 | G11: 46971 | H11: 47248 | I11: 48387 | J11: 49290 | K11: 49491 | L11: 50658 | M11: 51140
B12: 105654 | D12: 44724 | E12: 45349 | F12: 45973 | G12: 46518 | H12: 47267 | I12: 48140 | J12: 49125 | K12: 49381 | L12: 50535 | M12: 50990
B13: 106625 | D13: 44671 | E13: 45409 | F13: 46122 | G13: 47056 | H13: 47425 | I13: 48009 | J13: 48639 | K13: 49385 | L13: 50389 | M13: 50906
B14: 109528 | D14: 44699 | E14: 45163 | F14: 45792 | G14: 46488 | H14: 47382 | I14: 48088 | J14: 48968 | K14: 49738 | L14: 50283 | M14: 51174
... B101: 105419 | D101: 44891 | E101: 45210 | F101: 45748 | G101: 46782 | H101: 47709 | I101: 47910 | J101: 49250 | K101: 49488 | L101: 50066 | M101: 51312

Sheet Comparaison
D1: Echéancier réel
B2: clé_identifi° | D2: Échéance 1 | E2: Échéance 2 | F2: Échéance 3 | G2: Échéance 4 | H2: Échéance 5 | I2: Échéance 6 | J2: Échéance 7 | K2: Échéance 8 | L2: Échéance 9 | M2: Échéance 10
B3: 106318 | D3: =TEXT(Feuil2!D3,"jj/mm/aaaa")&IF(Feuil2!D3<>Feuil1!D3," ("&Feuil2!D3-Feuil1!D3&")","") -> 06/12/2022 (-1) | E3: =TEXT(Feuil2!E3,"jj/mm/aaaa")&IF(Feuil2!E3<>Feuil1!E3," ("&Feuil2!E3-Feuil1!E3&")","") -> 14/05/2023 (3) | F3: =TEXT(Feuil2!F3,"jj/mm/aaaa")&IF(Feuil2!F3<>Feuil1!F3," ("&Feuil2!F3-Feuil1!F3&")","") -> 27/03/2025 | G3: =TEXT(Feuil2!G3,"jj/mm/aaaa")&IF(Feuil2!G3<>Feuil1!G3," ("&Feuil2!G3-Feuil1!G3&")","") -> 13/02/2028 | H3: =TEXT(Feuil2!H3,"jj/mm/aaaa")&IF(Feuil2!H3<>Feuil1!H3," ("&Feuil2!H3-Feuil1!H3&")","") -> 30/04/2029 | I3: =TEXT(Feuil2!I3,"jj/mm/aaaa")&IF(Feuil2!I3<>Feuil1!I3," ("&Feuil2!I3-Feuil1!I3&")","") -> 06/10/2032 | J3: =TEXT(Feuil2!J3,"jj/mm/aaaa")&IF(Feuil2!J3<>Feuil1!J3," ("&Feuil2!J3-Feuil1!J3&")","") -> 14/01/2033 | K3: =TEXT(Feuil2!K3,"jj/mm/aaaa")&IF(Feuil2!K3<>Feuil1!K3," ("&Feuil2!K3-Feuil1!K3&")","") -> 15/04/2036 | ... M3: =TEXT(Feuil2!M3,"jj/mm/aaaa")&IF(Feuil2!M3<>Feuil1!M3," ("&Feuil2!M3-Feuil1!M3&")","") -> 10/10/2039
B4: 104756 | D4: =TEXT(Feuil2!D4,"jj/mm/aaaa")&IF(Feuil2!D4<>Feuil1!D4," ("&Feuil2!D4-Feuil1!D4&")","") -> 02/11/2022 | E4: =TEXT(Feuil2!E4,"jj/mm/aaaa")&IF(Feuil2!E4<>Feuil1!E4," ("&Feuil2!E4-Feuil1!E4&")","") -> 06/10/2024 | F4: =TEXT(Feuil2!F4,"jj/mm/aaaa")&IF(Feuil2!F4<>Feuil1!F4," ("&Feuil2!F4-Feuil1!F4&")","") -> 16/02/2025 | G4: =TEXT(Feuil2!G4,"jj/mm/aaaa")&IF(Feuil2!G4<>Feuil1!G4," ("&Feuil2!G4-Feuil1!G4&")","") -> 02/08/2027 | H4: =TEXT(Feuil2!H4,"jj/mm/aaaa")&IF(Feuil2!H4<>Feuil1!H4," ("&Feuil2!H4-Feuil1!H4&")","") -> 08/07/2029 | I4: =TEXT(Feuil2!I4,"jj/mm/aaaa")&IF(Feuil2!I4<>Feuil1!I4," ("&Feuil2!I4-Feuil1!I4&")","") -> 08/08/2031 | J4: =TEXT(Feuil2!J4,"jj/mm/aaaa")&IF(Feuil2!J4<>Feuil1!J4," ("&Feuil2!J4-Feuil1!J4&")","") -> 03/05/2033 | K4: =TEXT(Feuil2!K4,"jj/mm/aaaa")&IF(Feuil2!K4<>Feuil1!K4," ("&Feuil2!K4-Feuil1!K4&")","") -> 30/11/2036 | ... M4: =TEXT(Feuil2!M4,"jj/mm/aaaa")&IF(Feuil2!M4<>Feuil1!M4," ("&Feuil2!M4-Feuil1!M4&")","") -> 22/11/2040
B5: 108026 | D5: =TEXT(Feuil2!D5,"jj/mm/aaaa")&IF(Feuil2!D5<>Feuil1!D5," ("&Feuil2!D5-Feuil1!D5&")","") -> 07/01/2022 | E5: =TEXT(Feuil2!E5,"jj/mm/aaaa")&IF(Feuil2!E5<>Feuil1!E5," ("&Feuil2!E5-Feuil1!E5&")","") -> 21/09/2023 | F5: =TEXT(Feuil2!F5,"jj/mm/aaaa")&IF(Feuil2!F5<>Feuil1!F5," ("&Feuil2!F5-Feuil1!F5&")","") -> 24/05/2026 | G5: =TEXT(Feuil2!G5,"jj/mm/aaaa")&IF(Feuil2!G5<>Feuil1!G5," ("&Feuil2!G5-Feuil1!G5&")","") -> 10/07/2027 | H5: =TEXT(Feuil2!H5,"jj/mm/aaaa")&IF(Feuil2!H5<>Feuil1!H5," ("&Feuil2!H5-Feuil1!H5&")","") -> 21/03/2029 | I5: =TEXT(Feuil2!I5,"jj/mm/aaaa")&IF(Feuil2!I5<>Feuil1!I5," ("&Feuil2!I5-Feuil1!I5&")","") -> 02/01/2031 | J5: =TEXT(Feuil2!J5,"jj/mm/aaaa")&IF(Feuil2!J5<>Feuil1!J5," ("&Feuil2!J5-Feuil1!J5&")","") -> 29/06/2033 | K5: =TEXT(Feuil2!K5,"jj/mm/aaaa")&IF(Feuil2!K5<>Feuil1!K5," ("&Feuil2!K5-Feuil1!K5&")","") -> 17/11/2036 | ... M5: =TEXT(Feuil2!M5,"jj/mm/aaaa")&IF(Feuil2!M5<>Feuil1!M5," ("&Feuil2!M5-Feuil1!M5&")","") -> 08/10/2039
B6: 103273 | D6: =TEXT(Feuil2!D6,"jj/mm/aaaa")&IF(Feuil2!D6<>Feuil1!D6," ("&Feuil2!D6-Feuil1!D6&")","") -> 17/12/2022 | E6: =TEXT(Feuil2!E6,"jj/mm/aaaa")&IF(Feuil2!E6<>Feuil1!E6," ("&Feuil2!E6-Feuil1!E6&")","") -> 24/07/2024 | F6: =TEXT(Feuil2!F6,"jj/mm/aaaa")&IF(Feuil2!F6<>Feuil1!F6," ("&Feuil2!F6-Feuil1!F6&")","") -> 21/01/2026 | G6: =TEXT(Feuil2!G6,"jj/mm/aaaa")&IF(Feuil2!G6<>Feuil1!G6," ("&Feuil2!G6-Feuil1!G6&")","") -> 12/04/2028 | H6: =TEXT(Feuil2!H6,"jj/mm/aaaa")&IF(Feuil2!H6<>Feuil1!H6," ("&Feuil2!H6-Feuil1!H6&")","") -> 24/12/2030 | I6: =TEXT(Feuil2!I6,"jj/mm/aaaa")&IF(Feuil2!I6<>Feuil1!I6," ("&Feuil2!I6-Feuil1!I6&")","") -> 26/12/2032 | J6: =TEXT(Feuil2!J6,"jj/mm/aaaa")&IF(Feuil2!J6<>Feuil1!J6," ("&Feuil2!J6-Feuil1!J6&")","") -> 22/02/2034 | K6: =TEXT(Feuil2!K6,"jj/mm/aaaa")&IF(Feuil2!K6<>Feuil1!K6," ("&Feuil2!K6-Feuil1!K6&")","") -> 18/11/2036 | ... M6: =TEXT(Feuil2!M6,"jj/mm/aaaa")&IF(Feuil2!M6<>Feuil1!M6," ("&Feuil2!M6-Feuil1!M6&")","") -> 01/12/2039
B7: 107617 | D7: =TEXT(Feuil2!D7,"jj/mm/aaaa")&IF(Feuil2!D7<>Feuil1!D7," ("&Feuil2!D7-Feuil1!D7&")","") -> 18/04/2022 | E7: =TEXT(Feuil2!E7,"jj/mm/aaaa")&IF(Feuil2!E7<>Feuil1!E7," ("&Feuil2!E7-Feuil1!E7&")","") -> 05/07/2024 | F7: =TEXT(Feuil2!F7,"jj/mm/aaaa")&IF(Feuil2!F7<>Feuil1!F7," ("&Feuil2!F7-Feuil1!F7&")","") -> 05/10/2025 | G7: =TEXT(Feuil2!G7,"jj/mm/aaaa")&IF(Feuil2!G7<>Feuil1!G7," ("&Feuil2!G7-Feuil1!G7&")","") -> 07/03/2027 | H7: =TEXT(Feuil2!H7,"jj/mm/aaaa")&IF(Feuil2!H7<>Feuil1!H7," ("&Feuil2!H7-Feuil1!H7&")","") -> 20/12/2030 | I7: =TEXT(Feuil2!I7,"jj/mm/aaaa")&IF(Feuil2!I7<>Feuil1!I7," ("&Feuil2!I7-Feuil1!I7&")","") -> 09/08/2032 | J7: =TEXT(Feuil2!J7,"jj/mm/aaaa")&IF(Feuil2!J7<>Feuil1!J7," ("&Feuil2!J7-Feuil1!J7&")","") -> 28/10/2033 | K7: =TEXT(Feuil2!K7,"jj/mm/aaaa")&IF(Feuil2!K7<>Feuil1!K7," ("&Feuil2!K7-Feuil1!K7&")","") -> 17/04/2036 | ... M7: =TEXT(Feuil2!M7,"jj/mm/aaaa")&IF(Feuil2!M7<>Feuil1!M7," ("&Feuil2!M7-Feuil1!M7&")","") -> 25/05/2040
B8: 102384 | D8: =TEXT(Feuil2!D8,"jj/mm/aaaa")&IF(Feuil2!D8<>Feuil1!D8," ("&Feuil2!D8-Feuil1!D8&")","") -> 04/05/2022 | E8: =TEXT(Feuil2!E8,"jj/mm/aaaa")&IF(Feuil2!E8<>Feuil1!E8," ("&Feuil2!E8-Feuil1!E8&")","") -> 24/05/2023 | F8: =TEXT(Feuil2!F8,"jj/mm/aaaa")&IF(Feuil2!F8<>Feuil1!F8," ("&Feuil2!F8-Feuil1!F8&")","") -> 06/11/2026 | G8: =TEXT(Feuil2!G8,"jj/mm/aaaa")&IF(Feuil2!G8<>Feuil1!G8," ("&Feuil2!G8-Feuil1!G8&")","") -> 18/08/2027 | H8: =TEXT(Feuil2!H8,"jj/mm/aaaa")&IF(Feuil2!H8<>Feuil1!H8," ("&Feuil2!H8-Feuil1!H8&")","") -> 18/12/2029 | I8: =TEXT(Feuil2!I8,"jj/mm/aaaa")&IF(Feuil2!I8<>Feuil1!I8," ("&Feuil2!I8-Feuil1!I8&")","") -> 12/11/2031 | J8: =TEXT(Feuil2!J8,"jj/mm/aaaa")&IF(Feuil2!J8<>Feuil1!J8," ("&Feuil2!J8-Feuil1!J8&")","") -> 15/11/2034 | K8: =TEXT(Feuil2!K8,"jj/mm/aaaa")&IF(Feuil2!K8<>Feuil1!K8," ("&Feuil2!K8-Feuil1!K8&")","") -> 05/02/2036 | ... M8: =TEXT(Feuil2!M8,"jj/mm/aaaa")&IF(Feuil2!M8<>Feuil1!M8," ("&Feuil2!M8-Feuil1!M8&")","") -> 26/03/2040
B9: 102541 | D9: =TEXT(Feuil2!D9,"jj/mm/aaaa")&IF(Feuil2!D9<>Feuil1!D9," ("&Feuil2!D9-Feuil1!D9&")","") -> 08/01/2021 | E9: =TEXT(Feuil2!E9,"jj/mm/aaaa")&IF(Feuil2!E9<>Feuil1!E9," ("&Feuil2!E9-Feuil1!E9&")","") -> 16/05/2024 | F9: =TEXT(Feuil2!F9,"jj/mm/aaaa")&IF(Feuil2!F9<>Feuil1!F9," ("&Feuil2!F9-Feuil1!F9&")","") -> 22/08/2026 | G9: =TEXT(Feuil2!G9,"jj/mm/aaaa")&IF(Feuil2!G9<>Feuil1!G9," ("&Feuil2!G9-Feuil1!G9&")","") -> 05/05/2028 | H9: =TEXT(Feuil2!H9,"jj/mm/aaaa")&IF(Feuil2!H9<>Feuil1!H9," ("&Feuil2!H9-Feuil1!H9&")","") -> 16/02/2030 | I9: =TEXT(Feuil2!I9,"jj/mm/aaaa")&IF(Feuil2!I9<>Feuil1!I9," ("&Feuil2!I9-Feuil1!I9&")","") -> 26/10/2032 | J9: =TEXT(Feuil2!J9,"jj/mm/aaaa")&IF(Feuil2!J9<>Feuil1!J9," ("&Feuil2!J9-Feuil1!J9&")","") -> 02/02/2033 | K9: =TEXT(Feuil2!K9,"jj/mm/aaaa")&IF(Feuil2!K9<>Feuil1!K9," ("&Feuil2!K9-Feuil1!K9&")","") -> 21/06/2036 | ... M9: =TEXT(Feuil2!M9,"jj/mm/aaaa")&IF(Feuil2!M9<>Feuil1!M9," ("&Feuil2!M9-Feuil1!M9&")","") -> 27/10/2039
B10: 107579 | D10: =TEXT(Feuil2!D10,"jj/mm/aaaa")&IF(Feuil2!D10<>Feuil1!D10," ("&Feuil2!D10-Feuil1!D10&")","") -> 07/10/2021 | E10: =TEXT(Feuil2!E10,"jj/mm/aaaa")&IF(Feuil2!E10<>Feuil1!E10," ("&Feuil2!E10-Feuil1!E10&")","") -> 21/12/2024 | F10: =TEXT(Feuil2!F10,"jj/mm/aaaa")&IF(Feuil2!F10<>Feuil1!F10," ("&Feuil2!F10-Feuil1!F10&")","") -> 15/06/2026 | G10: =TEXT(Feuil2!G10,"jj/mm/aaaa")&IF(Feuil2!G10<>Feuil1!G10," ("&Feuil2!G10-Feuil1!G10&")","") -> 19/11/2027 | H10: =TEXT(Feuil2!H10,"jj/mm/aaaa")&IF(Feuil2!H10<>Feuil1!H10," ("&Feuil2!H10-Feuil1!H10&")","") -> 28/12/2029 | I10: =TEXT(Feuil2!I10,"jj/mm/aaaa")&IF(Feuil2!I10<>Feuil1!I10," ("&Feuil2!I10-Feuil1!I10&")","") -> 07/03/2031 | J10: =TEXT(Feuil2!J10,"jj/mm/aaaa")&IF(Feuil2!J10<>Feuil1!J10," ("&Feuil2!J10-Feuil1!J10&")","") -> 15/11/2033 | K10: =TEXT(Feuil2!K10,"jj/mm/aaaa")&IF(Feuil2!K10<>Feuil1!K10," ("&Feuil2!K10-Feuil1!K10&")","") -> 19/09/2036 | ... M10: =TEXT(Feuil2!M10,"jj/mm/aaaa")&IF(Feuil2!M10<>Feuil1!M10," ("&Feuil2!M10-Feuil1!M10&")","") -> 17/11/2039
B11: 109235 | D11: =TEXT(Feuil2!D11,"jj/mm/aaaa")&IF(Feuil2!D11<>Feuil1!D11," ("&Feuil2!D11-Feuil1!D11&")","") -> 20/11/2021 | E11: =TEXT(Feuil2!E11,"jj/mm/aaaa")&IF(Feuil2!E11<>Feuil1!E11," ("&Feuil2!E11-Feuil1!E11&")","") -> 30/12/2024 | F11: =TEXT(Feuil2!F11,"jj/mm/aaaa")&IF(Feuil2!F11<>Feuil1!F11," ("&Feuil2!F11-Feuil1!F11&")","") -> 29/06/2025 | G11: =TEXT(Feuil2!G11,"jj/mm/aaaa")&IF(Feuil2!G11<>Feuil1!G11," ("&Feuil2!G11-Feuil1!G11&")","") -> 06/08/2028 | H11: =TEXT(Feuil2!H11,"jj/mm/aaaa")&IF(Feuil2!H11<>Feuil1!H11," ("&Feuil2!H11-Feuil1!H11&")","") -> 10/05/2029 | I11: =TEXT(Feuil2!I11,"jj/mm/aaaa")&IF(Feuil2!I11<>Feuil1!I11," ("&Feuil2!I11-Feuil1!I11&")","") -> 22/06/2032 | J11: =TEXT(Feuil2!J11,"jj/mm/aaaa")&IF(Feuil2!J11<>Feuil1!J11," ("&Feuil2!J11-Feuil1!J11&")","") -> 12/12/2034 | K11: =TEXT(Feuil2!K11,"jj/mm/aaaa")&IF(Feuil2!K11<>Feuil1!K11," ("&Feuil2!K11-Feuil1!K11&")","") -> 01/07/2035 | ... M11: =TEXT(Feuil2!M11,"jj/mm/aaaa")&IF(Feuil2!M11<>Feuil1!M11," ("&Feuil2!M11-Feuil1!M11&")","") -> 05/01/2040
B12: 105654 | D12: =TEXT(Feuil2!D12,"jj/mm/aaaa")&IF(Feuil2!D12<>Feuil1!D12," ("&Feuil2!D12-Feuil1!D12&")","") -> 12/06/2022 | E12: =TEXT(Feuil2!E12,"jj/mm/aaaa")&IF(Feuil2!E12<>Feuil1!E12," ("&Feuil2!E12-Feuil1!E12&")","") -> 27/02/2024 | F12: =TEXT(Feuil2!F12,"jj/mm/aaaa")&IF(Feuil2!F12<>Feuil1!F12," ("&Feuil2!F12-Feuil1!F12&")","") -> 12/11/2025 | G12: =TEXT(Feuil2!G12,"jj/mm/aaaa")&IF(Feuil2!G12<>Feuil1!G12," ("&Feuil2!G12-Feuil1!G12&")","") -> 11/05/2027 | H12: =TEXT(Feuil2!H12,"jj/mm/aaaa")&IF(Feuil2!H12<>Feuil1!H12," ("&Feuil2!H12-Feuil1!H12&")","") -> 29/05/2029 | I12: =TEXT(Feuil2!I12,"jj/mm/aaaa")&IF(Feuil2!I12<>Feuil1!I12," ("&Feuil2!I12-Feuil1!I12&")","") -> 19/10/2031 | J12: =TEXT(Feuil2!J12,"jj/mm/aaaa")&IF(Feuil2!J12<>Feuil1!J12," ("&Feuil2!J12-Feuil1!J12&")","") -> 30/06/2034 | K12: =TEXT(Feuil2!K12,"jj/mm/aaaa")&IF(Feuil2!K12<>Feuil1!K12," ("&Feuil2!K12-Feuil1!K12&")","") -> 13/03/2035 | ... M12: =TEXT(Feuil2!M12,"jj/mm/aaaa")&IF(Feuil2!M12<>Feuil1!M12," ("&Feuil2!M12-Feuil1!M12&")","") -> 08/08/2039
B13: 106625 | D13: =TEXT(Feuil2!D13,"jj/mm/aaaa")&IF(Feuil2!D13<>Feuil1!D13," ("&Feuil2!D13-Feuil1!D13&")","") -> 20/04/2022 | E13: =TEXT(Feuil2!E13,"jj/mm/aaaa")&IF(Feuil2!E13<>Feuil1!E13," ("&Feuil2!E13-Feuil1!E13&")","") -> 27/04/2024 | F13: =TEXT(Feuil2!F13,"jj/mm/aaaa")&IF(Feuil2!F13<>Feuil1!F13," ("&Feuil2!F13-Feuil1!F13&")","") -> 10/04/2026 | G13: =TEXT(Feuil2!G13,"jj/mm/aaaa")&IF(Feuil2!G13<>Feuil1!G13," ("&Feuil2!G13-Feuil1!G13&")","") -> 30/10/2028 | H13: =TEXT(Feuil2!H13,"jj/mm/aaaa")&IF(Feuil2!H13<>Feuil1!H13," ("&Feuil2!H13-Feuil1!H13&")","") -> 03/11/2029 | I13: =TEXT(Feuil2!I13,"jj/mm/aaaa")&IF(Feuil2!I13<>Feuil1!I13," ("&Feuil2!I13-Feuil1!I13&")","") -> 10/06/2031 | J13: =TEXT(Feuil2!J13,"jj/mm/aaaa")&IF(Feuil2!J13<>Feuil1!J13," ("&Feuil2!J13-Feuil1!J13&")","") -> 01/03/2033 | K13: =TEXT(Feuil2!K13,"jj/mm/aaaa")&IF(Feuil2!K13<>Feuil1!K13," ("&Feuil2!K13-Feuil1!K13&")","") -> 17/03/2035 | ... M13: =TEXT(Feuil2!M13,"jj/mm/aaaa")&IF(Feuil2!M13<>Feuil1!M13," ("&Feuil2!M13-Feuil1!M13&")","") -> 16/05/2039
B14: 109528 | D14: =TEXT(Feuil2!D14,"jj/mm/aaaa")&IF(Feuil2!D14<>Feuil1!D14," ("&Feuil2!D14-Feuil1!D14&")","") -> 18/05/2022 | E14: =TEXT(Feuil2!E14,"jj/mm/aaaa")&IF(Feuil2!E14<>Feuil1!E14," ("&Feuil2!E14-Feuil1!E14&")","") -> 25/08/2023 | F14: =TEXT(Feuil2!F14,"jj/mm/aaaa")&IF(Feuil2!F14<>Feuil1!F14," ("&Feuil2!F14-Feuil1!F14&")","") -> 15/05/2025 | G14: =TEXT(Feuil2!G14,"jj/mm/aaaa")&IF(Feuil2!G14<>Feuil1!G14," ("&Feuil2!G14-Feuil1!G14&")","") -> 11/04/2027 | H14: =TEXT(Feuil2!H14,"jj/mm/aaaa")&IF(Feuil2!H14<>Feuil1!H14," ("&Feuil2!H14-Feuil1!H14&")","") -> 21/09/2029 | I14: =TEXT(Feuil2!I14,"jj/mm/aaaa")&IF(Feuil2!I14<>Feuil1!I14," ("&Feuil2!I14-Feuil1!I14&")","") -> 28/08/2031 | J14: =TEXT(Feuil2!J14,"jj/mm/aaaa")&IF(Feuil2!J14<>Feuil1!J14," ("&Feuil2!J14-Feuil1!J14&")","") -> 24/01/2034 | K14: =TEXT(Feuil2!K14,"jj/mm/aaaa")&IF(Feuil2!K14<>Feuil1!K14," ("&Feuil2!K14-Feuil1!K14&")","") -> 04/03/2036 | ... M14: =TEXT(Feuil2!M14,"jj/mm/aaaa")&IF(Feuil2!M14<>Feuil1!M14," ("&Feuil2!M14-Feuil1!M14&")","") -> 08/02/2040
... B101: 105419 | D101: =TEXT(Feuil2!D101,"jj/mm/aaaa")&IF(Feuil2!D101<>Feuil1!D101," ("&Feuil2!D101-Feuil1!D101&")","") -> 26/11/2022 | E101: =TEXT(Feuil2!E101,"jj/mm/aaaa")&IF(Feuil2!E101<>Feuil1!E101," ("&Feuil2!E101-Feuil1!E101&")","") -> 11/10/2023 | F101: =TEXT(Feuil2!F101,"jj/mm/aaaa")&IF(Feuil2!F101<>Feuil1!F101," ("&Feuil2!F101-Feuil1!F101&")","") -> 01/04/2025 | G101: =TEXT(Feuil2!G101,"jj/mm/aaaa")&IF(Feuil2!G101<>Feuil1!G101," ("&Feuil2!G101-Feuil1!G101&")","") -> 30/01/2028 | H101: =TEXT(Feuil2!H101,"jj/mm/aaaa")&IF(Feuil2!H101<>Feuil1!H101," ("&Feuil2!H101-Feuil1!H101&")","") -> 14/08/2030 | I101: =TEXT(Feuil2!I101,"jj/mm/aaaa")&IF(Feuil2!I101<>Feuil1!I101," ("&Feuil2!I101-Feuil1!I101&")","") -> 03/03/2031 | J101: =TEXT(Feuil2!J101,"jj/mm/aaaa")&IF(Feuil2!J101<>Feuil1!J101," ("&Feuil2!J101-Feuil1!J101&")","") -> 02/11/2034 | K101: =TEXT(Feuil2!K101,"jj/mm/aaaa")&IF(Feuil2!K101<>Feuil1!K101," ("&Feuil2!K101-Feuil1!K101&")","") -> 28/06/2035 | ... M101: =TEXT(Feuil2!M101,"jj/mm/aaaa")&IF(Feuil2!M101<>Feuil1!M101," ("&Feuil2!M101-Feuil1!M101&")","") -> 25/06/2040
