Workbook
Name EMPLOIE: EMPLGEN!$A$1:$R$51

Sheet EMPLGEN
A1: Heure | B1: Jour | C1: 6M1 | D1: salle | E1: 6M2 | F1: salle | G1: 6M3 | H1: Salle | I1: 6M4 | J1: salle | K1: 6M5 | L1: salle | M1: 6M6 | N1: Salle | O1: 6M7 | P1: salle | Q1: 6M8 | R1: salle | V1: CLASSES
A2: 1 | B2: Lundi | E2: M2 | F2: 3LBA | G2: P4 | H2: Gymnase | I2: F7 | J2: MAD | K2: P3 | L2: stade | M2: M7 | N2: FAC | O2: M8 | P2: SAL6 | V2: 6M1
A3: 2 | E3: M2 | F3: 3LBA | G3: P4 | H3: Gymnase | I3: F7 | J3: MAD | K3: P3 | L3: stade | M3: M7 | N3: FAC | O3: M8 | P3: SAL6 | V3: 6M2
A4: 3 | E4: A2 | F4: Annexe | G4: C3 | H4: Labo1 | I4: P2 | J4: STADE | K4: H4 | L4: 3LBA | M4: A4 | N4: MAD | O4: F8 | P4: BLE | V4: 6M3
A5: 4 | E5: A2 | F5: Annexe | G5: C3 | H5: Labo1 | I5: P2 | J5: STADE | K5: H4 | L5: 3LBA | M5: A4 | N5: MAD | O5: F8 | P5: BLE | V5: 6M4
A6: 5 | E6: F4 | F6: MAD | G6: F7 | H6: Annexe | I6: A2 | J6: FAC | K6: M7 | L6: PYS1 | M6: C5 | N6: 3LBA | O6: H5 | P6: SAL6 | V6: 6M5
A7: 6 | E7: F4 | F7: MAD | G7: F7 | H7: Annexe | I7: A2 | J7: FAC | K7: M7 | L7: PYS1 | M7: C5 | N7: 3LBA | O7: H5 | P7: SAL6 | V7: 6M6
A8: 7 | V8: 6M7
A9: 8 | V9: 6M8
A10: 9
A11: 10
A12: 1 | B12: Mardi | C12: P2 | D12: Stade | G12: A4 | H12: annexe | I12: M6 | J12: fac | M12: F6 | N12: 3LBA | Q12: P3 | R12: gymnase | T12: la zone bleue je l'ai appelé EMPLOIE
A13: 2 | C13: P2 | D13: Stade | G13: A4 | H13: annexe | I13: M6 | J13: fac | M13: F6 | N13: 3LBA | Q13: P3 | R13: gymnase | T13: le bleu ne sert qu'à vous expliquer, son nom est affiché en haut à gauche dans la zone texte de la feuille
A14: 3 | C14: A2 | D14: annexe | G14: M6 | H14: mad | I14: H4 | J14: sal5 | M14: P2 | N14: Stade | Q14: C5 | R14: Labo
A15: 4 | C15: A2 | D15: annexe | G15: M6 | H15: mad | I15: H4 | J15: sal5 | M15: P2 | N15: Stade | Q15: C5 | R15: Labo
A16: 5 | C16: H1 | D16: Mad | G16: S1 | H16: labo1 | I16: C4 | J16: Labo2 | M16: H4 | N16: Amphy | Q16: S3 | R16: Sal3
A17: 6 | C17: H1 | D17: Mad | G17: S1 | H17: labo1 | I17: C4 | J17: Labo2 | M17: H4 | N17: Amphy | Q17: S3 | R17: Sal3
A18: 7
A19: 8
A20: 9
A21: 10
A22: 1 | B22: Mercredi | C22: M2 | D22: Mad | E22: P3 | F22: Gymn | I22: F7 | J22: sal4 | K22: M7 | L22: sal5 | O22: F8 | P22: Sal6 | Q22: A4 | R22: Langue1
A23: 2 | C23: M2 | D23: Mad | E23: P3 | F23: Gymn | I23: F7 | J23: sal4 | K23: M7 | L23: Sal5 | O23: F8 | P23: Sal6 | Q23: A4 | R23: langue1
A24: 3 | C24: F4 | D24: annexe | E24: H1 | F24: MAD | I24: S3 | J24: Labo1 | K24: F6 | L24: Amphy | O24: P3 | P24: stade | Q24: F8 | R24: Sal4
A25: 4 | C25: F4 | D25: annexe | E25: H1 | F25: MAD | I25: S3 | J25: Labo1 | K25: F6 | L25: Amphy | O25: P3 | P25: stade | Q25: F8 | R25: Sal4
A26: 5 | C26: H1 | D26: annexe | E26: S2 | F26: labo1 | I26: M6 | J26: MAD | K26: A4 | L26: Langue1 | O26: S3 | P26: lab1 | Q26: M8 | R26: Sal4
A27: 6 | C27: S3 | D27: annexe | E27: S2 | F27: labo1 | I27: M6 | J27: MAD | K27: A4 | L27: Langue1 | O27: H5 | P27: Sal6 | Q27: M8 | R27: Sal4
A28: 7
A29: 8
A30: 9
A31: 10
A32: 1 | B32: Jeudi | C32: S3 | E32: F4 | G32: F7 | H32: Poly | K32: C4 | M32: M7 | O32: M8 | R32: F8
A33: 2 | C33: S3 | E33: F4 | G33: F7 | H33: Poly | K33: C4 | M33: M7 | O33: M8 | R33: F8
A34: 3 | C34: F4 | E34: M2 | G34: H1 | K34: S3 | M34: F6 | O34: F8 | R34: M8
A35: 4 | C35: F4 | E35: M2 | G35: S1 | K35: S3 | M35: F6 | O35: F8 | R35: M8
A36: 5 | C36: M2 | E36: S2 | G36: M6 | K36: F6 | M36: S3 | O36: C4 | R36: H5
A37: 6 | C37: M2 | E37: H1 | G37: M6 | K37: F6 | M37: S3 | O37: C4 | R37: H5
A38: 7
A39: 8
A40: 9
A41: 10
A42: 1 | B42: Vendredi | C42: M2 | E42: C3 | G42: H1 | I42: F7 | J42: poly | K42: F6 | M42: S3 | O42: M8 | R42: H5
A43: 2 | C43: M2 | E43: C3 | G43: H1 | I43: F7 | J43: poly | K43: F6 | M43: H4 | O43: M8 | R43: S3
A44: 3 | C44: F4 | E44: M2 | G44: F7 | H44: Poly | I44: M6 | K44: M7 | M44: F6 | O44: S3 | R44: M8
A45: 4 | C45: F4 | E45: M2 | G45: F7 | H45: Poly | I45: M6 | K45: M7 | M45: F6 | O45: S3 | R45: M8
A46: 5 | C46: C3 | E46: F4 | G46: M6 | I46: H4 | K46: S3 | M46: M7 | O46: A4 | R46: F8
A47: 6 | C47: C3 | E47: F4 | G47: M6 | I47: S3 | K47: H4 | M47: M7 | O47: A4 | R47: F8
A48: 7
A49: 8
A50: 9
A51: 10

Sheet CLASSE
A4: CLASSE | B4: 6M1
A6: Heure | B6: LUNDI | C6: MARDI | D6: MERCREDI | E6: JEUDI | F6: VENDREDI | G6: SAMEDI
A7: 1 | B7: =HLOOKUP($B$4,EMPLOIE,ROW()-5,FALSE) -> 0 | C7: =IF($B$4="6m1",EMPLGEN!$C12,IF($B$4="6m2",EMPLGEN!$E12,IF($B$4="6m3",EMPLGEN!$G12,IF($B$4="6m4",EMPLGEN!$I12,IF($B$4="6m5",EMPLGEN!$K12,IF($B$4="6m6",EMPLGEN!$M12,IF($B$4="6m7",EMPLGEN!$O12,IF($B$4="6m8",EMPLGEN!$R12," ")))))))) -> P2 | D7: =IF($B$4="6m1",EMPLGEN!$C22,IF($B$4="6m2",EMPLGEN!$E22,IF($B$4="6m3",EMPLGEN!$G22,IF($B$4="6m4",EMPLGEN!$I22,IF($B$4="6m5",EMPLGEN!$K22,IF($B$4="6m6",EMPLGEN!$M22,IF($B$4="6m7",EMPLGEN!$O22,IF($B$4="6m8",EMPLGEN!$R22," ")))))))) -> M2 | E7: =IF($B$4="6m1",EMPLGEN!$C32,IF($B$4="6m2",EMPLGEN!$E32,IF($B$4="6m3",EMPLGEN!$G32,IF($B$4="6m4",EMPLGEN!$I32,IF($B$4="6m5",EMPLGEN!$K32,IF($B$4="6m6",EMPLGEN!$M32,IF($B$4="6m7",EMPLGEN!$O32,IF($B$4="6m8",EMPLGEN!$R32," ")))))))) -> S3 | F7: =IF($B$4="6m1",EMPLGEN!$C42,IF($B$4="6m2",EMPLGEN!$E42,IF($B$4="6m3",EMPLGEN!$G42,IF($B$4="6m4",EMPLGEN!$I42,IF($B$4="6m5",EMPLGEN!$K42,IF($B$4="6m6",EMPLGEN!$M42,IF($B$4="6m7",EMPLGEN!$O42,IF($B$4="6m8",EMPLGEN!$R42," ")))))))) -> M2 | G7: =IF($B$4="6m1",EMPLGEN!$C52,IF($B$4="6m2",EMPLGEN!$E52,IF($B$4="6m3",EMPLGEN!$G52,IF($B$4="6m4",EMPLGEN!$I52,IF($B$4="6m5",EMPLGEN!$K52,IF($B$4="6m6",EMPLGEN!$M52,IF($B$4="6m7",EMPLGEN!$O52,IF($B$4="6m8",EMPLGEN!$R52," ")))))))) -> 0
A8: 2 | B8: =HLOOKUP($B$4,EMPLOIE,ROW()-5,FALSE) -> 0 | C8: =IF($B$4="6m1",EMPLGEN!$C13,IF($B$4="6m2",EMPLGEN!$E13,IF($B$4="6m3",EMPLGEN!$G13,IF($B$4="6m4",EMPLGEN!$I13,IF($B$4="6m5",EMPLGEN!$K13,IF($B$4="6m6",EMPLGEN!$M13,IF($B$4="6m7",EMPLGEN!$O13,IF($B$4="6m8",EMPLGEN!$R13," ")))))))) -> P2 | D8: =IF($B$4="6m1",EMPLGEN!$C23,IF($B$4="6m2",EMPLGEN!$E23,IF($B$4="6m3",EMPLGEN!$G23,IF($B$4="6m4",EMPLGEN!$I23,IF($B$4="6m5",EMPLGEN!$K23,IF($B$4="6m6",EMPLGEN!$M23,IF($B$4="6m7",EMPLGEN!$O23,IF($B$4="6m8",EMPLGEN!$R23," ")))))))) -> M2 | E8: =IF($B$4="6m1",EMPLGEN!$C33,IF($B$4="6m2",EMPLGEN!$E33,IF($B$4="6m3",EMPLGEN!$G33,IF($B$4="6m4",EMPLGEN!$I33,IF($B$4="6m5",EMPLGEN!$K33,IF($B$4="6m6",EMPLGEN!$M33,IF($B$4="6m7",EMPLGEN!$O33,IF($B$4="6m8",EMPLGEN!$R33," ")))))))) -> S3 | F8: =IF($B$4="6m1",EMPLGEN!$C43,IF($B$4="6m2",EMPLGEN!$E43,IF($B$4="6m3",EMPLGEN!$G43,IF($B$4="6m4",EMPLGEN!$I43,IF($B$4="6m5",EMPLGEN!$K43,IF($B$4="6m6",EMPLGEN!$M43,IF($B$4="6m7",EMPLGEN!$O43,IF($B$4="6m8",EMPLGEN!$R43," ")))))))) -> M2 | G8: =IF($B$4="6m1",EMPLGEN!$C53,IF($B$4="6m2",EMPLGEN!$E53,IF($B$4="6m3",EMPLGEN!$G53,IF($B$4="6m4",EMPLGEN!$I53,IF($B$4="6m5",EMPLGEN!$K53,IF($B$4="6m6",EMPLGEN!$M53,IF($B$4="6m7",EMPLGEN!$O53,IF($B$4="6m8",EMPLGEN!$R53," ")))))))) -> 0
A9: 3 | B9: =HLOOKUP($B$4,EMPLOIE,ROW()-5,FALSE) -> 0 | C9: =IF($B$4="6m1",EMPLGEN!$C14,IF($B$4="6m2",EMPLGEN!$E14,IF($B$4="6m3",EMPLGEN!$G14,IF($B$4="6m4",EMPLGEN!$I14,IF($B$4="6m5",EMPLGEN!$K14,IF($B$4="6m6",EMPLGEN!$M14,IF($B$4="6m7",EMPLGEN!$O14,IF($B$4="6m8",EMPLGEN!$R14," ")))))))) -> A2 | D9: =IF($B$4="6m1",EMPLGEN!$C24,IF($B$4="6m2",EMPLGEN!$E24,IF($B$4="6m3",EMPLGEN!$G24,IF($B$4="6m4",EMPLGEN!$I24,IF($B$4="6m5",EMPLGEN!$K24,IF($B$4="6m6",EMPLGEN!$M24,IF($B$4="6m7",EMPLGEN!$O24,IF($B$4="6m8",EMPLGEN!$R24," ")))))))) -> F4 | E9: =IF($B$4="6m1",EMPLGEN!$C34,IF($B$4="6m2",EMPLGEN!$E34,IF($B$4="6m3",EMPLGEN!$G34,IF($B$4="6m4",EMPLGEN!$I34,IF($B$4="6m5",EMPLGEN!$K34,IF($B$4="6m6",EMPLGEN!$M34,IF($B$4="6m7",EMPLGEN!$O34,IF($B$4="6m8",EMPLGEN!$R34," ")))))))) -> F4 | F9: =IF($B$4="6m1",EMPLGEN!$C44,IF($B$4="6m2",EMPLGEN!$E44,IF($B$4="6m3",EMPLGEN!$G44,IF($B$4="6m4",EMPLGEN!$I44,IF($B$4="6m5",EMPLGEN!$K44,IF($B$4="6m6",EMPLGEN!$M44,IF($B$4="6m7",EMPLGEN!$O44,IF($B$4="6m8",EMPLGEN!$R44," ")))))))) -> F4 | G9: =IF($B$4="6m1",EMPLGEN!$C54,IF($B$4="6m2",EMPLGEN!$E54,IF($B$4="6m3",EMPLGEN!$G54,IF($B$4="6m4",EMPLGEN!$I54,IF($B$4="6m5",EMPLGEN!$K54,IF($B$4="6m6",EMPLGEN!$M54,IF($B$4="6m7",EMPLGEN!$O54,IF($B$4="6m8",EMPLGEN!$R54," ")))))))) -> 0
A10: 4 | B10: =HLOOKUP($B$4,EMPLOIE,ROW()-5,FALSE) -> 0 | C10: =IF($B$4="6m1",EMPLGEN!$C15,IF($B$4="6m2",EMPLGEN!$E15,IF($B$4="6m3",EMPLGEN!$G15,IF($B$4="6m4",EMPLGEN!$I15,IF($B$4="6m5",EMPLGEN!$K15,IF($B$4="6m6",EMPLGEN!$M15,IF($B$4="6m7",EMPLGEN!$O15,IF($B$4="6m8",EMPLGEN!$R15," ")))))))) -> A2 | D10: =IF($B$4="6m1",EMPLGEN!$C25,IF($B$4="6m2",EMPLGEN!$E25,IF($B$4="6m3",EMPLGEN!$G25,IF($B$4="6m4",EMPLGEN!$I25,IF($B$4="6m5",EMPLGEN!$K25,IF($B$4="6m6",EMPLGEN!$M25,IF($B$4="6m7",EMPLGEN!$O25,IF($B$4="6m8",EMPLGEN!$R25," ")))))))) -> F4 | E10: =IF($B$4="6m1",EMPLGEN!$C35,IF($B$4="6m2",EMPLGEN!$E35,IF($B$4="6m3",EMPLGEN!$G35,IF($B$4="6m4",EMPLGEN!$I35,IF($B$4="6m5",EMPLGEN!$K35,IF($B$4="6m6",EMPLGEN!$M35,IF($B$4="6m7",EMPLGEN!$O35,IF($B$4="6m8",EMPLGEN!$R35," ")))))))) -> F4 | F10: =IF($B$4="6m1",EMPLGEN!$C45,IF($B$4="6m2",EMPLGEN!$E45,IF($B$4="6m3",EMPLGEN!$G45,IF($B$4="6m4",EMPLGEN!$I45,IF($B$4="6m5",EMPLGEN!$K45,IF($B$4="6m6",EMPLGEN!$M45,IF($B$4="6m7",EMPLGEN!$O45,IF($B$4="6m8",EMPLGEN!$R45," ")))))))) -> F4 | G10: =IF($B$4="6m1",EMPLGEN!$C55,IF($B$4="6m2",EMPLGEN!$E55,IF($B$4="6m3",EMPLGEN!$G55,IF($B$4="6m4",EMPLGEN!$I55,IF($B$4="6m5",EMPLGEN!$K55,IF($B$4="6m6",EMPLGEN!$M55,IF($B$4="6m7",EMPLGEN!$O55,IF($B$4="6m8",EMPLGEN!$R55," ")))))))) -> 0
A11: 5 | B11: =HLOOKUP($B$4,EMPLOIE,ROW()-5,FALSE) -> 0 | C11: =IF($B$4="6m1",EMPLGEN!$C16,IF($B$4="6m2",EMPLGEN!$E16,IF($B$4="6m3",EMPLGEN!$G16,IF($B$4="6m4",EMPLGEN!$I16,IF($B$4="6m5",EMPLGEN!$K16,IF($B$4="6m6",EMPLGEN!$M16,IF($B$4="6m7",EMPLGEN!$O16,IF($B$4="6m8",EMPLGEN!$R16," ")))))))) -> H1 | D11: =IF($B$4="6m1",EMPLGEN!$C26,IF($B$4="6m2",EMPLGEN!$E26,IF($B$4="6m3",EMPLGEN!$G26,IF($B$4="6m4",EMPLGEN!$I26,IF($B$4="6m5",EMPLGEN!$K26,IF($B$4="6m6",EMPLGEN!$M26,IF($B$4="6m7",EMPLGEN!$O26,IF($B$4="6m8",EMPLGEN!$R26," ")))))))) -> H1 | E11: =IF($B$4="6m1",EMPLGEN!$C36,IF($B$4="6m2",EMPLGEN!$E36,IF($B$4="6m3",EMPLGEN!$G36,IF($B$4="6m4",EMPLGEN!$I36,IF($B$4="6m5",EMPLGEN!$K36,IF($B$4="6m6",EMPLGEN!$M36,IF($B$4="6m7",EMPLGEN!$O36,IF($B$4="6m8",EMPLGEN!$R36," ")))))))) -> M2 | F11: =IF($B$4="6m1",EMPLGEN!$C46,IF($B$4="6m2",EMPLGEN!$E46,IF($B$4="6m3",EMPLGEN!$G46,IF($B$4="6m4",EMPLGEN!$I46,IF($B$4="6m5",EMPLGEN!$K46,IF($B$4="6m6",EMPLGEN!$M46,IF($B$4="6m7",EMPLGEN!$O46,IF($B$4="6m8",EMPLGEN!$R46," ")))))))) -> C3 | G11: =IF($B$4="6m1",EMPLGEN!$C56,IF($B$4="6m2",EMPLGEN!$E56,IF($B$4="6m3",EMPLGEN!$G56,IF($B$4="6m4",EMPLGEN!$I56,IF($B$4="6m5",EMPLGEN!$K56,IF($B$4="6m6",EMPLGEN!$M56,IF($B$4="6m7",EMPLGEN!$O56,IF($B$4="6m8",EMPLGEN!$R56," ")))))))) -> 0
A12: 6 | B12: =HLOOKUP($B$4,EMPLOIE,ROW()-5,FALSE) -> 0 | C12: =IF($B$4="6m1",EMPLGEN!$C17,IF($B$4="6m2",EMPLGEN!$E17,IF($B$4="6m3",EMPLGEN!$G17,IF($B$4="6m4",EMPLGEN!$I17,IF($B$4="6m5",EMPLGEN!$K17,IF($B$4="6m6",EMPLGEN!$M17,IF($B$4="6m7",EMPLGEN!$O17,IF($B$4="6m8",EMPLGEN!$R17," ")))))))) -> H1 | D12: =IF($B$4="6m1",EMPLGEN!$C27,IF($B$4="6m2",EMPLGEN!$E27,IF($B$4="6m3",EMPLGEN!$G27,IF($B$4="6m4",EMPLGEN!$I27,IF($B$4="6m5",EMPLGEN!$K27,IF($B$4="6m6",EMPLGEN!$M27,IF($B$4="6m7",EMPLGEN!$O27,IF($B$4="6m8",EMPLGEN!$R27," ")))))))) -> S3 | E12: =IF($B$4="6m1",EMPLGEN!$C37,IF($B$4="6m2",EMPLGEN!$E37,IF($B$4="6m3",EMPLGEN!$G37,IF($B$4="6m4",EMPLGEN!$I37,IF($B$4="6m5",EMPLGEN!$K37,IF($B$4="6m6",EMPLGEN!$M37,IF($B$4="6m7",EMPLGEN!$O37,IF($B$4="6m8",EMPLGEN!$R37," ")))))))) -> M2 | F12: =IF($B$4="6m1",EMPLGEN!$C47,IF($B$4="6m2",EMPLGEN!$E47,IF($B$4="6m3",EMPLGEN!$G47,IF($B$4="6m4",EMPLGEN!$I47,IF($B$4="6m5",EMPLGEN!$K47,IF($B$4="6m6",EMPLGEN!$M47,IF($B$4="6m7",EMPLGEN!$O47,IF($B$4="6m8",EMPLGEN!$R47," ")))))))) -> C3 | G12: =IF($B$4="6m1",EMPLGEN!$C57,IF($B$4="6m2",EMPLGEN!$E57,IF($B$4="6m3",EMPLGEN!$G57,IF($B$4="6m4",EMPLGEN!$I57,IF($B$4="6m5",EMPLGEN!$K57,IF($B$4="6m6",EMPLGEN!$M57,IF($B$4="6m7",EMPLGEN!$O57,IF($B$4="6m8",EMPLGEN!$R57," ")))))))) -> 0
A13: 7 | B13: =HLOOKUP($B$4,EMPLOIE,ROW()-5,FALSE) -> 0 | C13: =IF($B$4="6m1",EMPLGEN!$C18,IF($B$4="6m2",EMPLGEN!$E18,IF($B$4="6m3",EMPLGEN!$G18,IF($B$4="6m4",EMPLGEN!$I18,IF($B$4="6m5",EMPLGEN!$K18,IF($B$4="6m6",EMPLGEN!$M18,IF($B$4="6m7",EMPLGEN!$O18,IF($B$4="6m8",EMPLGEN!$R18," ")))))))) -> 0 | D13: =IF($B$4="6m1",EMPLGEN!$C28,IF($B$4="6m2",EMPLGEN!$E28,IF($B$4="6m3",EMPLGEN!$G28,IF($B$4="6m4",EMPLGEN!$I28,IF($B$4="6m5",EMPLGEN!$K28,IF($B$4="6m6",EMPLGEN!$M28,IF($B$4="6m7",EMPLGEN!$O28,IF($B$4="6m8",EMPLGEN!$R28," ")))))))) -> 0 | E13: =IF($B$4="6m1",EMPLGEN!$C38,IF($B$4="6m2",EMPLGEN!$E38,IF($B$4="6m3",EMPLGEN!$G38,IF($B$4="6m4",EMPLGEN!$I38,IF($B$4="6m5",EMPLGEN!$K38,IF($B$4="6m6",EMPLGEN!$M38,IF($B$4="6m7",EMPLGEN!$O38,IF($B$4="6m8",EMPLGEN!$R38," ")))))))) -> 0 | F13: =IF($B$4="6m1",EMPLGEN!$C48,IF($B$4="6m2",EMPLGEN!$E48,IF($B$4="6m3",EMPLGEN!$G48,IF($B$4="6m4",EMPLGEN!$I48,IF($B$4="6m5",EMPLGEN!$K48,IF($B$4="6m6",EMPLGEN!$M48,IF($B$4="6m7",EMPLGEN!$O48,IF($B$4="6m8",EMPLGEN!$R48," ")))))))) -> 0
A14: 8 | B14: =HLOOKUP($B$4,EMPLOIE,ROW()-5,FALSE) -> 0 | C14: =IF($B$4="6m1",EMPLGEN!$C19,IF($B$4="6m2",EMPLGEN!$E19,IF($B$4="6m3",EMPLGEN!$G19,IF($B$4="6m4",EMPLGEN!$I19,IF($B$4="6m5",EMPLGEN!$K19,IF($B$4="6m6",EMPLGEN!$M19,IF($B$4="6m7",EMPLGEN!$O19,IF($B$4="6m8",EMPLGEN!$R19," ")))))))) -> 0 | D14: =IF($B$4="6m1",EMPLGEN!$C29,IF($B$4="6m2",EMPLGEN!$E29,IF($B$4="6m3",EMPLGEN!$G29,IF($B$4="6m4",EMPLGEN!$I29,IF($B$4="6m5",EMPLGEN!$K29,IF($B$4="6m6",EMPLGEN!$M29,IF($B$4="6m7",EMPLGEN!$O29,IF($B$4="6m8",EMPLGEN!$R29," ")))))))) -> 0 | E14: =IF($B$4="6m1",EMPLGEN!$C39,IF($B$4="6m2",EMPLGEN!$E39,IF($B$4="6m3",EMPLGEN!$G39,IF($B$4="6m4",EMPLGEN!$I39,IF($B$4="6m5",EMPLGEN!$K39,IF($B$4="6m6",EMPLGEN!$M39,IF($B$4="6m7",EMPLGEN!$O39,IF($B$4="6m8",EMPLGEN!$R39," ")))))))) -> 0 | F14: =IF($B$4="6m1",EMPLGEN!$C49,IF($B$4="6m2",EMPLGEN!$E49,IF($B$4="6m3",EMPLGEN!$G49,IF($B$4="6m4",EMPLGEN!$I49,IF($B$4="6m5",EMPLGEN!$K49,IF($B$4="6m6",EMPLGEN!$M49,IF($B$4="6m7",EMPLGEN!$O49,IF($B$4="6m8",EMPLGEN!$R49," ")))))))) -> 0
A15: 9 | B15: =HLOOKUP($B$4,EMPLOIE,ROW()-5,FALSE) -> 0 | C15: =IF($B$4="6m1",EMPLGEN!$C20,IF($B$4="6m2",EMPLGEN!$E20,IF($B$4="6m3",EMPLGEN!$G20,IF($B$4="6m4",EMPLGEN!$I20,IF($B$4="6m5",EMPLGEN!$K20,IF($B$4="6m6",EMPLGEN!$M20,IF($B$4="6m7",EMPLGEN!$O20,IF($B$4="6m8",EMPLGEN!$R20," ")))))))) -> 0 | D15: =IF($B$4="6m1",EMPLGEN!$C30,IF($B$4="6m2",EMPLGEN!$E30,IF($B$4="6m3",EMPLGEN!$G30,IF($B$4="6m4",EMPLGEN!$I30,IF($B$4="6m5",EMPLGEN!$K30,IF($B$4="6m6",EMPLGEN!$M30,IF($B$4="6m7",EMPLGEN!$O30,IF($B$4="6m8",EMPLGEN!$R30," ")))))))) -> 0 | E15: =IF($B$4="6m1",EMPLGEN!$C40,IF($B$4="6m2",EMPLGEN!$E40,IF($B$4="6m3",EMPLGEN!$G40,IF($B$4="6m4",EMPLGEN!$I40,IF($B$4="6m5",EMPLGEN!$K40,IF($B$4="6m6",EMPLGEN!$M40,IF($B$4="6m7",EMPLGEN!$O40,IF($B$4="6m8",EMPLGEN!$R40," ")))))))) -> 0 | F15: =IF($B$4="6m1",EMPLGEN!$C50,IF($B$4="6m2",EMPLGEN!$E50,IF($B$4="6m3",EMPLGEN!$G50,IF($B$4="6m4",EMPLGEN!$I50,IF($B$4="6m5",EMPLGEN!$K50,IF($B$4="6m6",EMPLGEN!$M50,IF($B$4="6m7",EMPLGEN!$O50,IF($B$4="6m8",EMPLGEN!$R50," ")))))))) -> 0
A16: 10 | B16: =HLOOKUP($B$4,EMPLOIE,ROW()-5,FALSE) -> 0 | C16: =IF($B$4="6m1",EMPLGEN!$C21,IF($B$4="6m2",EMPLGEN!$E21,IF($B$4="6m3",EMPLGEN!$G21,IF($B$4="6m4",EMPLGEN!$I21,IF($B$4="6m5",EMPLGEN!$K21,IF($B$4="6m6",EMPLGEN!$M21,IF($B$4="6m7",EMPLGEN!$O21,IF($B$4="6m8",EMPLGEN!$R21," ")))))))) -> 0 | D16: =IF($B$4="6m1",EMPLGEN!$C31,IF($B$4="6m2",EMPLGEN!$E31,IF($B$4="6m3",EMPLGEN!$G31,IF($B$4="6m4",EMPLGEN!$I31,IF($B$4="6m5",EMPLGEN!$K31,IF($B$4="6m6",EMPLGEN!$M31,IF($B$4="6m7",EMPLGEN!$O31,IF($B$4="6m8",EMPLGEN!$R31," ")))))))) -> 0 | E16: =IF($B$4="6m1",EMPLGEN!$C41,IF($B$4="6m2",EMPLGEN!$E41,IF($B$4="6m3",EMPLGEN!$G41,IF($B$4="6m4",EMPLGEN!$I41,IF($B$4="6m5",EMPLGEN!$K41,IF($B$4="6m6",EMPLGEN!$M41,IF($B$4="6m7",EMPLGEN!$O41,IF($B$4="6m8",EMPLGEN!$R41," ")))))))) -> 0 | F16: =IF($B$4="6m1",EMPLGEN!$C51,IF($B$4="6m2",EMPLGEN!$E51,IF($B$4="6m3",EMPLGEN!$G51,IF($B$4="6m4",EMPLGEN!$I51,IF($B$4="6m5",EMPLGEN!$K51,IF($B$4="6m6",EMPLGEN!$M51,IF($B$4="6m7",EMPLGEN!$O51,IF($B$4="6m8",EMPLGEN!$R51," ")))))))) -> 0

Sheet PROF
B4: F7
B5: Classes tenues :
A7: Heure | B7: LUNDI | C7: salle | D7: MARDI | E7: salle | F7: MERCREDI | G7: Salle | H7: JEUDI | I7: Salle | J7: VENDREDI | K7: Salle | L7: SAMEDI | M7: salle
A8: 1 | B8: =IFERROR(INDEX(EMPLGEN!$C$1:$R$1,1,MATCH(PROF!$B$4,OFFSET(EMPLGEN!$C1:$R1,MATCH(B$7,EMPLGEN!$B$2:$B$51,0),0),0)),"") -> 6M4 | C8: =IFERROR(INDEX(EMPLGEN!$C$2:$R$51,MATCH(B$7,EMPLGEN!$B$2:$B$51,0)+ROW()-ROW(C$8),MATCH(B8,EMPLGEN!$C$1:$R$1,0)+1),"") -> MAD | D8: =IFERROR(INDEX(EMPLGEN!$E$1:$R$1,1,MATCH(PROF!$B$4,OFFSET(EMPLGEN!$E1:$R1,MATCH(D$7,EMPLGEN!$B$2:$B$51,0),0),0)),"") | E8: =IFERROR(INDEX(EMPLGEN!$C$2:$R$51,MATCH(D$7,EMPLGEN!$B$2:$B$51,0)+ROW()-ROW(E$8),MATCH(D8,EMPLGEN!$C$1:$R$1,0)+1),"") | F8: =IFERROR(INDEX(EMPLGEN!$E$1:$R$1,1,MATCH(PROF!$B$4,OFFSET(EMPLGEN!$E1:$R1,MATCH(F$7,EMPLGEN!$B$2:$B$51,0),0),0)),"") -> 6M4 | G8: =IFERROR(INDEX(EMPLGEN!$C$2:$R$51,MATCH(F$7,EMPLGEN!$B$2:$B$51,0)+ROW()-ROW(G$8),MATCH(F8,EMPLGEN!$C$1:$R$1,0)+1),"") -> sal4 | H8: =IFERROR(INDEX(EMPLGEN!$E$1:$R$1,1,MATCH(PROF!$B$4,OFFSET(EMPLGEN!$E1:$R1,MATCH(H$7,EMPLGEN!$B$2:$B$51,0),0),0)),"") -> 6M3 | I8: =IFERROR(INDEX(EMPLGEN!$C$2:$R$51,MATCH(H$7,EMPLGEN!$B$2:$B$51,0)+ROW()-ROW(I$8),MATCH(H8,EMPLGEN!$C$1:$R$1,0)+1),"") -> Poly | J8: =IFERROR(INDEX(EMPLGEN!$E$1:$R$1,1,MATCH(PROF!$B$4,OFFSET(EMPLGEN!$E1:$R1,MATCH(J$7,EMPLGEN!$B$2:$B$51,0),0),0)),"") -> 6M4 | K8: =IFERROR(INDEX(EMPLGEN!$C$2:$R$51,MATCH(J$7,EMPLGEN!$B$2:$B$51,0)+ROW()-ROW(K$8),MATCH(J8,EMPLGEN!$C$1:$R$1,0)+1),"") -> poly | L8: =IFERROR(INDEX(EMPLGEN!$E$1:$R$1,1,MATCH(PROF!$B$4,OFFSET(EMPLGEN!$E1:$R1,MATCH(L$7,EMPLGEN!$B$2:$B$51,0),0),0)),"") | M8: =IFERROR(INDEX(EMPLGEN!$C$2:$R$51,MATCH(L$7,EMPLGEN!$B$2:$B$51,0)+ROW()-ROW(M$8),MATCH(L8,EMPLGEN!$C$1:$R$1,0)+1),"")
A9: 2 | B9: =IFERROR(INDEX(EMPLGEN!$E$1:$R$1,1,MATCH(PROF!$B$4,OFFSET(EMPLGEN!$E2:$R2,MATCH(B$7,EMPLGEN!$B$2:$B$51,0),0),0)),"") -> 6M4 | C9: =IFERROR(INDEX(EMPLGEN!$C$2:$R$51,MATCH(B$7,EMPLGEN!$B$2:$B$51,0)+ROW()-ROW(C$8),MATCH(B9,EMPLGEN!$C$1:$R$1,0)+1),"") -> MAD | D9: =IFERROR(INDEX(EMPLGEN!$E$1:$R$1,1,MATCH(PROF!$B$4,OFFSET(EMPLGEN!$E2:$R2,MATCH(D$7,EMPLGEN!$B$2:$B$51,0),0),0)),"") | E9: =IFERROR(INDEX(EMPLGEN!$C$2:$R$51,MATCH(D$7,EMPLGEN!$B$2:$B$51,0)+ROW()-ROW(E$8),MATCH(D9,EMPLGEN!$C$1:$R$1,0)+1),"") | F9: =IFERROR(INDEX(EMPLGEN!$E$1:$R$1,1,MATCH(PROF!$B$4,OFFSET(EMPLGEN!$E2:$R2,MATCH(F$7,EMPLGEN!$B$2:$B$51,0),0),0)),"") -> 6M4 | G9: =IFERROR(INDEX(EMPLGEN!$C$2:$R$51,MATCH(F$7,EMPLGEN!$B$2:$B$51,0)+ROW()-ROW(G$8),MATCH(F9,EMPLGEN!$C$1:$R$1,0)+1),"") -> sal4 | H9: =IFERROR(INDEX(EMPLGEN!$E$1:$R$1,1,MATCH(PROF!$B$4,OFFSET(EMPLGEN!$E2:$R2,MATCH(H$7,EMPLGEN!$B$2:$B$51,0),0),0)),"") -> 6M3 | I9: =IFERROR(INDEX(EMPLGEN!$C$2:$R$51,MATCH(H$7,EMPLGEN!$B$2:$B$51,0)+ROW()-ROW(I$8),MATCH(H9,EMPLGEN!$C$1:$R$1,0)+1),"") -> Poly | J9: =IFERROR(INDEX(EMPLGEN!$E$1:$R$1,1,MATCH(PROF!$B$4,OFFSET(EMPLGEN!$E2:$R2,MATCH(J$7,EMPLGEN!$B$2:$B$51,0),0),0)),"") -> 6M4 | K9: =IFERROR(INDEX(EMPLGEN!$C$2:$R$51,MATCH(J$7,EMPLGEN!$B$2:$B$51,0)+ROW()-ROW(K$8),MATCH(J9,EMPLGEN!$C$1:$R$1,0)+1),"") -> poly | L9: =IFERROR(INDEX(EMPLGEN!$E$1:$R$1,1,MATCH(PROF!$B$4,OFFSET(EMPLGEN!$E2:$R2,MATCH(L$7,EMPLGEN!$B$2:$B$51,0),0),0)),"") | M9: =IFERROR(INDEX(EMPLGEN!$C$2:$R$51,MATCH(L$7,EMPLGEN!$B$2:$B$51,0)+ROW()-ROW(M$8),MATCH(L9,EMPLGEN!$C$1:$R$1,0)+1),"")
A10: 3 | B10: =IFERROR(INDEX(EMPLGEN!$E$1:$R$1,1,MATCH(PROF!$B$4,OFFSET(EMPLGEN!$E3:$R3,MATCH(B$7,EMPLGEN!$B$2:$B$51,0),0),0)),"") | C10: =IFERROR(INDEX(EMPLGEN!$C$2:$R$51,MATCH(B$7,EMPLGEN!$B$2:$B$51,0)+ROW()-ROW(C$8),MATCH(B10,EMPLGEN!$C$1:$R$1,0)+1),"") | D10: =IFERROR(INDEX(EMPLGEN!$E$1:$R$1,1,MATCH(PROF!$B$4,OFFSET(EMPLGEN!$E3:$R3,MATCH(D$7,EMPLGEN!$B$2:$B$51,0),0),0)),"") | E10: =IFERROR(INDEX(EMPLGEN!$C$2:$R$51,MATCH(D$7,EMPLGEN!$B$2:$B$51,0)+ROW()-ROW(E$8),MATCH(D10,EMPLGEN!$C$1:$R$1,0)+1),"") | F10: =IFERROR(INDEX(EMPLGEN!$E$1:$R$1,1,MATCH(PROF!$B$4,OFFSET(EMPLGEN!$E3:$R3,MATCH(F$7,EMPLGEN!$B$2:$B$51,0),0),0)),"") | G10: =IFERROR(INDEX(EMPLGEN!$C$2:$R$51,MATCH(F$7,EMPLGEN!$B$2:$B$51,0)+ROW()-ROW(G$8),MATCH(F10,EMPLGEN!$C$1:$R$1,0)+1),"") | H10: =IFERROR(INDEX(EMPLGEN!$E$1:$R$1,1,MATCH(PROF!$B$4,OFFSET(EMPLGEN!$E3:$R3,MATCH(H$7,EMPLGEN!$B$2:$B$51,0),0),0)),"") | I10: =IFERROR(INDEX(EMPLGEN!$C$2:$R$51,MATCH(H$7,EMPLGEN!$B$2:$B$51,0)+ROW()-ROW(I$8),MATCH(H10,EMPLGEN!$C$1:$R$1,0)+1),"") | J10: =IFERROR(INDEX(EMPLGEN!$E$1:$R$1,1,MATCH(PROF!$B$4,OFFSET(EMPLGEN!$E3:$R3,MATCH(J$7,EMPLGEN!$B$2:$B$51,0),0),0)),"") -> 6M3 | K10: =IFERROR(INDEX(EMPLGEN!$C$2:$R$51,MATCH(J$7,EMPLGEN!$B$2:$B$51,0)+ROW()-ROW(K$8),MATCH(J10,EMPLGEN!$C$1:$R$1,0)+1),"") -> Poly | L10: =IFERROR(INDEX(EMPLGEN!$E$1:$R$1,1,MATCH(PROF!$B$4,OFFSET(EMPLGEN!$E3:$R3,MATCH(L$7,EMPLGEN!$B$2:$B$51,0),0),0)),"") | M10: =IFERROR(INDEX(EMPLGEN!$C$2:$R$51,MATCH(L$7,EMPLGEN!$B$2:$B$51,0)+ROW()-ROW(M$8),MATCH(L10,EMPLGEN!$C$1:$R$1,0)+1),"")
A11: 4 | B11: =IFERROR(INDEX(EMPLGEN!$E$1:$R$1,1,MATCH(PROF!$B$4,OFFSET(EMPLGEN!$E4:$R4,MATCH(B$7,EMPLGEN!$B$2:$B$51,0),0),0)),"") | C11: =IFERROR(INDEX(EMPLGEN!$C$2:$R$51,MATCH(B$7,EMPLGEN!$B$2:$B$51,0)+ROW()-ROW(C$8),MATCH(B11,EMPLGEN!$C$1:$R$1,0)+1),"") | D11: =IFERROR(INDEX(EMPLGEN!$E$1:$R$1,1,MATCH(PROF!$B$4,OFFSET(EMPLGEN!$E4:$R4,MATCH(D$7,EMPLGEN!$B$2:$B$51,0),0),0)),"") | E11: =IFERROR(INDEX(EMPLGEN!$C$2:$R$51,MATCH(D$7,EMPLGEN!$B$2:$B$51,0)+ROW()-ROW(E$8),MATCH(D11,EMPLGEN!$C$1:$R$1,0)+1),"") | F11: =IFERROR(INDEX(EMPLGEN!$E$1:$R$1,1,MATCH(PROF!$B$4,OFFSET(EMPLGEN!$E4:$R4,MATCH(F$7,EMPLGEN!$B$2:$B$51,0),0),0)),"") | G11: =IFERROR(INDEX(EMPLGEN!$C$2:$R$51,MATCH(F$7,EMPLGEN!$B$2:$B$51,0)+ROW()-ROW(G$8),MATCH(F11,EMPLGEN!$C$1:$R$1,0)+1),"") | H11: =IFERROR(INDEX(EMPLGEN!$E$1:$R$1,1,MATCH(PROF!$B$4,OFFSET(EMPLGEN!$E4:$R4,MATCH(H$7,EMPLGEN!$B$2:$B$51,0),0),0)),"") | I11: =IFERROR(INDEX(EMPLGEN!$C$2:$R$51,MATCH(H$7,EMPLGEN!$B$2:$B$51,0)+ROW()-ROW(I$8),MATCH(H11,EMPLGEN!$C$1:$R$1,0)+1),"") | J11: =IFERROR(INDEX(EMPLGEN!$E$1:$R$1,1,MATCH(PROF!$B$4,OFFSET(EMPLGEN!$E4:$R4,MATCH(J$7,EMPLGEN!$B$2:$B$51,0),0),0)),"") -> 6M3 | K11: =IFERROR(INDEX(EMPLGEN!$C$2:$R$51,MATCH(J$7,EMPLGEN!$B$2:$B$51,0)+ROW()-ROW(K$8),MATCH(J11,EMPLGEN!$C$1:$R$1,0)+1),"") -> Poly | L11: =IFERROR(INDEX(EMPLGEN!$E$1:$R$1,1,MATCH(PROF!$B$4,OFFSET(EMPLGEN!$E4:$R4,MATCH(L$7,EMPLGEN!$B$2:$B$51,0),0),0)),"") | M11: =IFERROR(INDEX(EMPLGEN!$C$2:$R$51,MATCH(L$7,EMPLGEN!$B$2:$B$51,0)+ROW()-ROW(M$8),MATCH(L11,EMPLGEN!$C$1:$R$1,0)+1),"")
A12: 5 | B12: =IFERROR(INDEX(EMPLGEN!$E$1:$R$1,1,MATCH(PROF!$B$4,OFFSET(EMPLGEN!$E5:$R5,MATCH(B$7,EMPLGEN!$B$2:$B$51,0),0),0)),"") -> 6M3 | C12: =IFERROR(INDEX(EMPLGEN!$C$2:$R$51,MATCH(B$7,EMPLGEN!$B$2:$B$51,0)+ROW()-ROW(C$8),MATCH(B12,EMPLGEN!$C$1:$R$1,0)+1),"") -> Annexe | D12: =IFERROR(INDEX(EMPLGEN!$E$1:$R$1,1,MATCH(PROF!$B$4,OFFSET(EMPLGEN!$E5:$R5,MATCH(D$7,EMPLGEN!$B$2:$B$51,0),0),0)),"") | E12: =IFERROR(INDEX(EMPLGEN!$C$2:$R$51,MATCH(D$7,EMPLGEN!$B$2:$B$51,0)+ROW()-ROW(E$8),MATCH(D12,EMPLGEN!$C$1:$R$1,0)+1),"") | F12: =IFERROR(INDEX(EMPLGEN!$E$1:$R$1,1,MATCH(PROF!$B$4,OFFSET(EMPLGEN!$E5:$R5,MATCH(F$7,EMPLGEN!$B$2:$B$51,0),0),0)),"") | G12: =IFERROR(INDEX(EMPLGEN!$C$2:$R$51,MATCH(F$7,EMPLGEN!$B$2:$B$51,0)+ROW()-ROW(G$8),MATCH(F12,EMPLGEN!$C$1:$R$1,0)+1),"") | H12: =IFERROR(INDEX(EMPLGEN!$E$1:$R$1,1,MATCH(PROF!$B$4,OFFSET(EMPLGEN!$E5:$R5,MATCH(H$7,EMPLGEN!$B$2:$B$51,0),0),0)),"") | I12: =IFERROR(INDEX(EMPLGEN!$C$2:$R$51,MATCH(H$7,EMPLGEN!$B$2:$B$51,0)+ROW()-ROW(I$8),MATCH(H12,EMPLGEN!$C$1:$R$1,0)+1),"") | J12: =IFERROR(INDEX(EMPLGEN!$E$1:$R$1,1,MATCH(PROF!$B$4,OFFSET(EMPLGEN!$E5:$R5,MATCH(J$7,EMPLGEN!$B$2:$B$51,0),0),0)),"") | K12: =IFERROR(INDEX(EMPLGEN!$C$2:$R$51,MATCH(J$7,EMPLGEN!$B$2:$B$51,0)+ROW()-ROW(K$8),MATCH(J12,EMPLGEN!$C$1:$R$1,0)+1),"") | L12: =IFERROR(INDEX(EMPLGEN!$E$1:$R$1,1,MATCH(PROF!$B$4,OFFSET(EMPLGEN!$E5:$R5,MATCH(L$7,EMPLGEN!$B$2:$B$51,0),0),0)),"") | M12: =IFERROR(INDEX(EMPLGEN!$C$2:$R$51,MATCH(L$7,EMPLGEN!$B$2:$B$51,0)+ROW()-ROW(M$8),MATCH(L12,EMPLGEN!$C$1:$R$1,0)+1),"")
A13: 6 | B13: =IFERROR(INDEX(EMPLGEN!$E$1:$R$1,1,MATCH(PROF!$B$4,OFFSET(EMPLGEN!$E6:$R6,MATCH(B$7,EMPLGEN!$B$2:$B$51,0),0),0)),"") -> 6M3 | C13: =IFERROR(INDEX(EMPLGEN!$C$2:$R$51,MATCH(B$7,EMPLGEN!$B$2:$B$51,0)+ROW()-ROW(C$8),MATCH(B13,EMPLGEN!$C$1:$R$1,0)+1),"") -> Annexe | D13: =IFERROR(INDEX(EMPLGEN!$E$1:$R$1,1,MATCH(PROF!$B$4,OFFSET(EMPLGEN!$E6:$R6,MATCH(D$7,EMPLGEN!$B$2:$B$51,0),0),0)),"") | E13: =IFERROR(INDEX(EMPLGEN!$C$2:$R$51,MATCH(D$7,EMPLGEN!$B$2:$B$51,0)+ROW()-ROW(E$8),MATCH(D13,EMPLGEN!$C$1:$R$1,0)+1),"") | F13: =IFERROR(INDEX(EMPLGEN!$E$1:$R$1,1,MATCH(PROF!$B$4,OFFSET(EMPLGEN!$E6:$R6,MATCH(F$7,EMPLGEN!$B$2:$B$51,0),0),0)),"") | G13: =IFERROR(INDEX(EMPLGEN!$C$2:$R$51,MATCH(F$7,EMPLGEN!$B$2:$B$51,0)+ROW()-ROW(G$8),MATCH(F13,EMPLGEN!$C$1:$R$1,0)+1),"") | H13: =IFERROR(INDEX(EMPLGEN!$E$1:$R$1,1,MATCH(PROF!$B$4,OFFSET(EMPLGEN!$E6:$R6,MATCH(H$7,EMPLGEN!$B$2:$B$51,0),0),0)),"") | I13: =IFERROR(INDEX(EMPLGEN!$C$2:$R$51,MATCH(H$7,EMPLGEN!$B$2:$B$51,0)+ROW()-ROW(I$8),MATCH(H13,EMPLGEN!$C$1:$R$1,0)+1),"") | J13: =IFERROR(INDEX(EMPLGEN!$E$1:$R$1,1,MATCH(PROF!$B$4,OFFSET(EMPLGEN!$E6:$R6,MATCH(J$7,EMPLGEN!$B$2:$B$51,0),0),0)),"") | K13: =IFERROR(INDEX(EMPLGEN!$C$2:$R$51,MATCH(J$7,EMPLGEN!$B$2:$B$51,0)+ROW()-ROW(K$8),MATCH(J13,EMPLGEN!$C$1:$R$1,0)+1),"") | L13: =IFERROR(INDEX(EMPLGEN!$E$1:$R$1,1,MATCH(PROF!$B$4,OFFSET(EMPLGEN!$E6:$R6,MATCH(L$7,EMPLGEN!$B$2:$B$51,0),0),0)),"") | M13: =IFERROR(INDEX(EMPLGEN!$C$2:$R$51,MATCH(L$7,EMPLGEN!$B$2:$B$51,0)+ROW()-ROW(M$8),MATCH(L13,EMPLGEN!$C$1:$R$1,0)+1),"")
A14: 7 | B14: =IFERROR(INDEX(EMPLGEN!$E$1:$R$1,1,MATCH(PROF!$B$4,OFFSET(EMPLGEN!$E7:$R7,MATCH(B$7,EMPLGEN!$B$2:$B$51,0),0),0)),"") | C14: =IFERROR(INDEX(EMPLGEN!$C$2:$R$51,MATCH(B$7,EMPLGEN!$B$2:$B$51,0)+ROW()-ROW(C$8),MATCH(B14,EMPLGEN!$C$1:$R$1,0)+1),"") | D14: =IFERROR(INDEX(EMPLGEN!$E$1:$R$1,1,MATCH(PROF!$B$4,OFFSET(EMPLGEN!$E7:$R7,MATCH(D$7,EMPLGEN!$B$2:$B$51,0),0),0)),"") | E14: =IFERROR(INDEX(EMPLGEN!$C$2:$R$51,MATCH(D$7,EMPLGEN!$B$2:$B$51,0)+ROW()-ROW(E$8),MATCH(D14,EMPLGEN!$C$1:$R$1,0)+1),"") | F14: =IFERROR(INDEX(EMPLGEN!$E$1:$R$1,1,MATCH(PROF!$B$4,OFFSET(EMPLGEN!$E7:$R7,MATCH(F$7,EMPLGEN!$B$2:$B$51,0),0),0)),"") | G14: =IFERROR(INDEX(EMPLGEN!$C$2:$R$51,MATCH(F$7,EMPLGEN!$B$2:$B$51,0)+ROW()-ROW(G$8),MATCH(F14,EMPLGEN!$C$1:$R$1,0)+1),"") | H14: =IFERROR(INDEX(EMPLGEN!$E$1:$R$1,1,MATCH(PROF!$B$4,OFFSET(EMPLGEN!$E7:$R7,MATCH(H$7,EMPLGEN!$B$2:$B$51,0),0),0)),"") | I14: =IFERROR(INDEX(EMPLGEN!$C$2:$R$51,MATCH(H$7,EMPLGEN!$B$2:$B$51,0)+ROW()-ROW(I$8),MATCH(H14,EMPLGEN!$C$1:$R$1,0)+1),"") | J14: =IFERROR(INDEX(EMPLGEN!$E$1:$R$1,1,MATCH(PROF!$B$4,OFFSET(EMPLGEN!$E7:$R7,MATCH(J$7,EMPLGEN!$B$2:$B$51,0),0),0)),"") | K14: =IFERROR(INDEX(EMPLGEN!$C$2:$R$51,MATCH(J$7,EMPLGEN!$B$2:$B$51,0)+ROW()-ROW(K$8),MATCH(J14,EMPLGEN!$C$1:$R$1,0)+1),"") | M14: =IFERROR(INDEX(EMPLGEN!$C$2:$R$51,MATCH(L$7,EMPLGEN!$B$2:$B$51,0)+ROW()-ROW(M$8),MATCH(L14,EMPLGEN!$C$1:$R$1,0)+1),"")
A15: 8 | B15: =IFERROR(INDEX(EMPLGEN!$E$1:$R$1,1,MATCH(PROF!$B$4,OFFSET(EMPLGEN!$E8:$R8,MATCH(B$7,EMPLGEN!$B$2:$B$51,0),0),0)),"") | C15: =IFERROR(INDEX(EMPLGEN!$C$2:$R$51,MATCH(B$7,EMPLGEN!$B$2:$B$51,0)+ROW()-ROW(C$8),MATCH(B15,EMPLGEN!$C$1:$R$1,0)+1),"") | D15: =IFERROR(INDEX(EMPLGEN!$E$1:$R$1,1,MATCH(PROF!$B$4,OFFSET(EMPLGEN!$E8:$R8,MATCH(D$7,EMPLGEN!$B$2:$B$51,0),0),0)),"") | E15: =IFERROR(INDEX(EMPLGEN!$C$2:$R$51,MATCH(D$7,EMPLGEN!$B$2:$B$51,0)+ROW()-ROW(E$8),MATCH(D15,EMPLGEN!$C$1:$R$1,0)+1),"") | F15: =IFERROR(INDEX(EMPLGEN!$E$1:$R$1,1,MATCH(PROF!$B$4,OFFSET(EMPLGEN!$E8:$R8,MATCH(F$7,EMPLGEN!$B$2:$B$51,0),0),0)),"") | G15: =IFERROR(INDEX(EMPLGEN!$C$2:$R$51,MATCH(F$7,EMPLGEN!$B$2:$B$51,0)+ROW()-ROW(G$8),MATCH(F15,EMPLGEN!$C$1:$R$1,0)+1),"") | H15: =IFERROR(INDEX(EMPLGEN!$E$1:$R$1,1,MATCH(PROF!$B$4,OFFSET(EMPLGEN!$E8:$R8,MATCH(H$7,EMPLGEN!$B$2:$B$51,0),0),0)),"") | I15: =IFERROR(INDEX(EMPLGEN!$C$2:$R$51,MATCH(H$7,EMPLGEN!$B$2:$B$51,0)+ROW()-ROW(I$8),MATCH(H15,EMPLGEN!$C$1:$R$1,0)+1),"") | J15: =IFERROR(INDEX(EMPLGEN!$E$1:$R$1,1,MATCH(PROF!$B$4,OFFSET(EMPLGEN!$E8:$R8,MATCH(J$7,EMPLGEN!$B$2:$B$51,0),0),0)),"") | K15: =IFERROR(INDEX(EMPLGEN!$C$2:$R$51,MATCH(J$7,EMPLGEN!$B$2:$B$51,0)+ROW()-ROW(K$8),MATCH(J15,EMPLGEN!$C$1:$R$1,0)+1),"") | M15: =IFERROR(INDEX(EMPLGEN!$C$2:$R$51,MATCH(L$7,EMPLGEN!$B$2:$B$51,0)+ROW()-ROW(M$8),MATCH(L15,EMPLGEN!$C$1:$R$1,0)+1),"")
A16: 9 | B16: =IFERROR(INDEX(EMPLGEN!$E$1:$R$1,1,MATCH(PROF!$B$4,OFFSET(EMPLGEN!$E9:$R9,MATCH(B$7,EMPLGEN!$B$2:$B$51,0),0),0)),"") | C16: =IFERROR(INDEX(EMPLGEN!$C$2:$R$51,MATCH(B$7,EMPLGEN!$B$2:$B$51,0)+ROW()-ROW(C$8),MATCH(B16,EMPLGEN!$C$1:$R$1,0)+1),"") | D16: =IFERROR(INDEX(EMPLGEN!$E$1:$R$1,1,MATCH(PROF!$B$4,OFFSET(EMPLGEN!$E9:$R9,MATCH(D$7,EMPLGEN!$B$2:$B$51,0),0),0)),"") | E16: =IFERROR(INDEX(EMPLGEN!$C$2:$R$51,MATCH(D$7,EMPLGEN!$B$2:$B$51,0)+ROW()-ROW(E$8),MATCH(D16,EMPLGEN!$C$1:$R$1,0)+1),"") | F16: =IFERROR(INDEX(EMPLGEN!$E$1:$R$1,1,MATCH(PROF!$B$4,OFFSET(EMPLGEN!$E9:$R9,MATCH(F$7,EMPLGEN!$B$2:$B$51,0),0),0)),"") | G16: =IFERROR(INDEX(EMPLGEN!$C$2:$R$51,MATCH(F$7,EMPLGEN!$B$2:$B$51,0)+ROW()-ROW(G$8),MATCH(F16,EMPLGEN!$C$1:$R$1,0)+1),"") | H16: =IFERROR(INDEX(EMPLGEN!$E$1:$R$1,1,MATCH(PROF!$B$4,OFFSET(EMPLGEN!$E9:$R9,MATCH(H$7,EMPLGEN!$B$2:$B$51,0),0),0)),"") | I16: =IFERROR(INDEX(EMPLGEN!$C$2:$R$51,MATCH(H$7,EMPLGEN!$B$2:$B$51,0)+ROW()-ROW(I$8),MATCH(H16,EMPLGEN!$C$1:$R$1,0)+1),"") | J16: =IFERROR(INDEX(EMPLGEN!$E$1:$R$1,1,MATCH(PROF!$B$4,OFFSET(EMPLGEN!$E9:$R9,MATCH(J$7,EMPLGEN!$B$2:$B$51,0),0),0)),"") | K16: =IFERROR(INDEX(EMPLGEN!$C$2:$R$51,MATCH(J$7,EMPLGEN!$B$2:$B$51,0)+ROW()-ROW(K$8),MATCH(J16,EMPLGEN!$C$1:$R$1,0)+1),"") | M16: =IFERROR(INDEX(EMPLGEN!$C$2:$R$51,MATCH(L$7,EMPLGEN!$B$2:$B$51,0)+ROW()-ROW(M$8),MATCH(L16,EMPLGEN!$C$1:$R$1,0)+1),"")
A17: 10 | B17: =IFERROR(INDEX(EMPLGEN!$E$1:$R$1,1,MATCH(PROF!$B$4,OFFSET(EMPLGEN!$E10:$R10,MATCH(B$7,EMPLGEN!$B$2:$B$51,0),0),0)),"") | C17: =IFERROR(INDEX(EMPLGEN!$C$2:$R$51,MATCH(B$7,EMPLGEN!$B$2:$B$51,0)+ROW()-ROW(C$8),MATCH(B17,EMPLGEN!$C$1:$R$1,0)+1),"") | D17: =IFERROR(INDEX(EMPLGEN!$E$1:$R$1,1,MATCH(PROF!$B$4,OFFSET(EMPLGEN!$E10:$R10,MATCH(D$7,EMPLGEN!$B$2:$B$51,0),0),0)),"") | E17: =IFERROR(INDEX(EMPLGEN!$C$2:$R$51,MATCH(D$7,EMPLGEN!$B$2:$B$51,0)+ROW()-ROW(E$8),MATCH(D17,EMPLGEN!$C$1:$R$1,0)+1),"") | F17: =IFERROR(INDEX(EMPLGEN!$E$1:$R$1,1,MATCH(PROF!$B$4,OFFSET(EMPLGEN!$E10:$R10,MATCH(F$7,EMPLGEN!$B$2:$B$51,0),0),0)),"") | G17: =IFERROR(INDEX(EMPLGEN!$C$2:$R$51,MATCH(F$7,EMPLGEN!$B$2:$B$51,0)+ROW()-ROW(G$8),MATCH(F17,EMPLGEN!$C$1:$R$1,0)+1),"") | H17: =IFERROR(INDEX(EMPLGEN!$E$1:$R$1,1,MATCH(PROF!$B$4,OFFSET(EMPLGEN!$E10:$R10,MATCH(H$7,EMPLGEN!$B$2:$B$51,0),0),0)),"") | I17: =IFERROR(INDEX(EMPLGEN!$C$2:$R$51,MATCH(H$7,EMPLGEN!$B$2:$B$51,0)+ROW()-ROW(I$8),MATCH(H17,EMPLGEN!$C$1:$R$1,0)+1),"") | J17: =IFERROR(INDEX(EMPLGEN!$E$1:$R$1,1,MATCH(PROF!$B$4,OFFSET(EMPLGEN!$E10:$R10,MATCH(J$7,EMPLGEN!$B$2:$B$51,0),0),0)),"") | K17: =IFERROR(INDEX(EMPLGEN!$C$2:$R$51,MATCH(J$7,EMPLGEN!$B$2:$B$51,0)+ROW()-ROW(K$8),MATCH(J17,EMPLGEN!$C$1:$R$1,0)+1),"") | M17: =IFERROR(INDEX(EMPLGEN!$C$2:$R$51,MATCH(L$7,EMPLGEN!$B$2:$B$51,0)+ROW()-ROW(M$8),MATCH(L17,EMPLGEN!$C$1:$R$1,0)+1),"")
