Workbook

Sheet Source
A1: CLIENT | B1: CA | C1: Pourcentage
A2: 2001787 | B2: 121714.78 | C2: =B2/SUM(B:B) -> 0.081795883
A3: 2241522 | B3: 107509.27 | C3: =B3/SUM(B:B) -> 0.072249366
A4: 2972087 | B4: 94724.1 | C4: =B4/SUM(B:B) -> 0.063657359
A5: 2002045 | B5: 83986.29 | C5: =B5/SUM(B:B) -> 0.056441237
A6: 2813936 | B6: 77279.32 | C6: =B6/SUM(B:B) -> 0.051933958
A7: 2824230 | B7: 36919.21 | C7: =B7/SUM(B:B) -> 0.024810786
A8: 2790275 | B8: 35155.23 | C8: =B8/SUM(B:B) -> 0.02362534
A9: 2001790 | B9: 22052.04 | C9: =B9/SUM(B:B) -> 0.014819614
A10: 2798410 | B10: 18513.15 | C10: =B10/SUM(B:B) -> 0.012441377
A11: 1769021 | B11: 14732.04 | C11: =B11/SUM(B:B) -> 0.0099003607
A12: 2983366 | B12: 14247.02 | C12: =B12/SUM(B:B) -> 0.0095744131
A13: 2786541 | B13: 11758.99 | C13: =B13/SUM(B:B) -> 0.0079023844
... A200: 2002010 | B200: 2328.72 | C200: =B200/SUM(B:B) -> 0.0015649678

Sheet tri pourcentage général
A3: Étiquettes de lignes | B3: Somme de CA
A4: 2001787 | B4: 0.081795883
A5: 2241522 | B5: 0.072249366
A6: 2972087 | B6: 0.063657359
A7: 2002045 | B7: 0.056441237
A8: 2813936 | B8: 0.051933958
A9: 2824230 | B9: 0.024810786
A10: 2790275 | B10: 0.02362534
A11: 2001790 | B11: 0.014819614
A12: 2798410 | B12: 0.012441377
A13: 1769021 | B13: 0.0099003607
A14: 2983366 | B14: 0.0095744131
A15: 2786541 | B15: 0.0079023844
... A203: Total général | B203: 1

Sheet Groupe par pourcentage
A3: Étiquettes de lignes | B3: Nombre de CLIENT
A4: 0,001-0,002 | B4: 50
A5: 0,002-0,003 | B5: 66
A6: 0,003-0,004 | B6: 35
A7: 0,004-0,005 | B7: 13
A8: 0,005-0,006 | B8: 9
A9: 0,006-0,007 | B9: 13
A10: 0,007-0,008 | B10: 2
A11: 0,009-0,01 | B11: 2
A12: 0,012-0,013 | B12: 1
A13: 0,014-0,015 | B13: 1
A14: 0,023-0,024 | B14: 1
A15: 0,024-0,025 | B15: 1
... A21: Total général | B21: 199

Sheet Nombre par classe
A1: %inf | B1: %sup | C1: Nb clients
A2: 0 | B2: =A2+5% -> 0.05 | C2: =COUNTIFS(Source!$C:$C,">="&A2,Source!$C:$C,"<="&B2) -> 194
A3: =B2 -> 0.05 | B3: =A3+5% -> 0.1 | C3: =COUNTIFS(Source!$C:$C,">="&A3,Source!$C:$C,"<="&B3) -> 5
A4: =B3 -> 0.1 | B4: =A4+5% -> 0.15 | C4: =COUNTIFS(Source!$C:$C,">="&A4,Source!$C:$C,"<="&B4) -> 0
A5: =B4 -> 0.15 | B5: =A5+5% -> 0.2 | C5: =COUNTIFS(Source!$C:$C,">="&A5,Source!$C:$C,"<="&B5) -> 0
A6: =B5 -> 0.2 | B6: =A6+5% -> 0.25 | C6: =COUNTIFS(Source!$C:$C,">="&A6,Source!$C:$C,"<="&B6) -> 0
A7: =B6 -> 0.25 | B7: =A7+5% -> 0.3 | C7: =COUNTIFS(Source!$C:$C,">="&A7,Source!$C:$C,"<="&B7) -> 0
A8: =B7 -> 0.3 | B8: =A8+5% -> 0.35 | C8: =COUNTIFS(Source!$C:$C,">="&A8,Source!$C:$C,"<="&B8) -> 0
A9: =B8 -> 0.35 | B9: =A9+5% -> 0.4 | C9: =COUNTIFS(Source!$C:$C,">="&A9,Source!$C:$C,"<="&B9) -> 0
A10: =B9 -> 0.4 | B10: =A10+5% -> 0.45 | C10: =COUNTIFS(Source!$C:$C,">="&A10,Source!$C:$C,"<="&B10) -> 0
A11: =B10 -> 0.45 | B11: =A11+5% -> 0.5 | C11: =COUNTIFS(Source!$C:$C,">="&A11,Source!$C:$C,"<="&B11) -> 0
A12: =B11 -> 0.5 | B12: =A12+5% -> 0.55 | C12: =COUNTIFS(Source!$C:$C,">="&A12,Source!$C:$C,"<="&B12) -> 0
A13: =B12 -> 0.55 | B13: =A13+5% -> 0.6 | C13: =COUNTIFS(Source!$C:$C,">="&A13,Source!$C:$C,"<="&B13) -> 0
A14: =B13 -> 0.6 | B14: =A14+5% -> 0.65 | C14: =COUNTIFS(Source!$C:$C,">="&A14,Source!$C:$C,"<="&B14) -> 0
... A21: =B20 -> 0.95 | B21: =A21+5% -> 1 | C21: =COUNTIFS(Source!$C:$C,">="&A21,Source!$C:$C,"<="&B21) -> 0
