Workbook
Name cot_exp: 'Méthode d''évaluation'!$K$6:$K$9
Name cot_freq: 'Méthode d''évaluation'!$I$6:$I$9
Name cot_grav: 'Méthode d''évaluation'!$B$5:$B$8
Name cot_mait: 'Méthode d''évaluation'!$B$12:$B$15
Name cotation_gravite: 'Méthode d''évaluation'!$B$5:$C$8
Name Duree: 'Méthode d''évaluation'!$L$6:$L$9
Name Durée: 'Méthode d''évaluation'!$L$6:$L$9
Name Frequence: 'Méthode d''évaluation'!$J$6:$J$9
Name Fréquence: 'Méthode d''évaluation'!$J$6:$J$9
Name Gravite: 'Méthode d''évaluation'!$C$5:$C$8
Name Gravité: 'Méthode d''évaluation'!$C$5:$C$8
Name Maîtrise: 'Méthode d''évaluation'!$C$12:$C$15
Name Postes: Identification!$C$4:$C$12

Sheet Identification
B3: Unité | C3: Identification Brailab | D3: Description du poste | E3: Rythme de travail / Périmètre géographique
B4: Unité n°1 | C4: Application Consultants
B5: Unité n°2 | C5: Application Trainer
B6: Unité n°3 | C6: Area Account Manager
B7: Unité n°4 | C7: Area Sales Manager
B8: Unité n°5 | C8: Director Sales
B9: Unité n°6 | C9: Project Manager
B10: Unité n°7 | C10: Regional Manager
B11: Unité n°8 | C11: Support Specialist
B12: Unité n°9 | C12: Technical Sales Rep | D12: Responsable régional des ventes pour les produits orthopédiques | E12: Horaires Variables / Home working - Déplacements (Hôpitaux, clinique)

Sheet Méthode d'évaluation
A1: UPDATE/ | C1: 2018
B2: Méthode d'évaluation
B3: Indice de gravité (G) | I3: Indice d'exposition (E)
B4: Cotation | C4: Qualificaiton | D4: Description | I4: Fréquence d'exposition | K4: Durée d'exposition | O4: Fréquence d'exposition | T4: Durée x Fréquence | U4: Indice d'exposition
B5: 1 | C5: Bénin | D5: Incident bénin sans conséquence sur les personnes ou les biens matériels (enregistrement sur le registre de la médecine du travail). | I5: Cotation | J5: Description | K5: Cotation | L5: Description | N5: Durée d'exposition | O5: 1 | P5: 2 | Q5: 3 | R5: 4 | T5: 1 à 2 | U5: 1
B6: 3 | C6: Sérieux | D6: Accident du travail déclaré ne nécessitant pas d’arrêt de travail ou indisponibilité d’appareils entraînant un arrêt temporaire. | I6: 1 | J6: Rare : moins d'une fois par mois | K6: 1 | L6: <15 min | N6: 1 | O6: 1 | P6: 2 | Q6: 3 | R6: 4 | T6: 3 à 4 | U6: 3
B7: 6 | C7: Grave | D7: Indispositions, maladies, accidents corporels importants nécessitant un arrêt de travail ou une indisponibilité d’appareils entraînant un arrêt prolongé. | I7: 2 | J7: Assez fréquent : tous les mois à plusieurs fois par mois | K7: 2 | L7: 15 min à 2h | N7: 2 | O7: 2 | P7: 4 | Q7: 6 | R7: 8 | T7: 6 à 9 | U7: 6
B8: 10 | C8: Très grave | D8: Maladies pouvant entraîner des séquelles irréversibles sur la santé, accidents mortels (internes ou externes), incendies ou explosions susceptibles d’entraîner des conséquences externes. | I8: 3 | J8: Fréquent : toutes les semaines à plusieurs fois par semaine | K8: 3 | L8: 2h à 4h | N8: 3 | O8: 3 | P8: 6 | Q8: 9 | R8: 12 | T8: 12 à 16 | U8: 10
I9: 4 | J9: Très fréquent : tous les jours à plusieurs fois par jour | K9: 4 | L9: 4h à 8h | N9: 4 | O9: 4 | P9: 8 | Q9: 12 | R9: 16
B10: Indice de maîtrise (M)
B11: Cotation | C11: Qualificaiton | D11: Description
B12: 1 | C12: Maîtrisé | D12: Les protections collectives sont mises en place ainsi que toutes les autres mesures de prévention.
B13: 3 | C13: Partiellement maîtrisé | D13: Les protections individuelles sont mises en œuvre mais pas les protections collectives qui sont difficiles à mettre en place.
B14: 6 | C14: Faiblement maîtrisé | D14: Les protections individuelles sont mises en œuvre mais pas les protections collectives qui sont faciles à mettre en place.
B15: 10 | C15: Non maîtrisé | D15: Absence de protections collectives, absence de protections individuelles, absences de mesures de prévention.
B17: Cotation du risque
B18: La multiplication des 3 critères de significativité permet d’obtenir la valeur totale du risque.
B23: Les risques sont alors affectés d’une valeur entre 1 et 1000.
B24: Cotation | C24: Qualification | D24: Indication colorimétrique
B25: <50 | C25: Bénin
B26: 50-100 | C26: Sérieux
B27: 100-150 | C27: Grave
B28: >150 | C28: Très grave

Sheet DUERP
A4: Poste de travail | B4: Catégorie de risques | C4: Dangers | D4: Description du risque | E4: Mesures mises en place sur le site | F4: Gravité | G4: G | H4: Fréquence | I4: Durée | J4: D | K4: Maîtrise | L4: Valeur
A5: Technical Sales Rep | F5: Grave | G5: =IFERROR(INDEX(cotation_gravite,MATCH(F5,Gravite,0),1),"") -> 6 | H5: Très fréquent : tous les jours à plusieurs fois par jour | I5: 4h à 8h | J5: =IFERROR(LOOKUP(I5,Duree,cot_exp),"") -> 4 | K5: Faiblement maîtrisé
A6: Director Sales

Sheet Index
A3: Poste de travail | B3: G | C3: Fréq | D3: D | E3: F | F3: M | G3: Valeur
A4: =IF(DUERP!A5=0,"",DUERP!A5) -> Technical Sales Rep | B4: =IFERROR(LOOKUP(DUERP!F5,Gravité,cot_grav),"") -> 1 | C4: =IFERROR(LOOKUP(DUERP!H5,Frequence,cot_freq),"") -> 4 | D4: =IFERROR(LOOKUP(DUERP!I5,Duree,cot_exp),"") -> 4 | E4: =IFERROR((C4*D4),"") -> 16 | F4: =IFERROR(LOOKUP(DUERP!K5,Maîtrise,cot_mait),"") | G4: =IFERROR((B4*F4*E4),"")
A5: =IF(DUERP!A6=0,"",DUERP!A6) -> Director Sales | B5: =IFERROR(LOOKUP(DUERP!F6,Gravité,cot_grav),"") | C5: =IFERROR(LOOKUP(DUERP!H6,Frequence,cot_freq),"") | D5: =IFERROR(LOOKUP(DUERP!I6,Duree,cot_exp),"") | E5: =IFERROR((C5*D5),"")
A6: =IF(DUERP!A7=0,"",DUERP!A7) | B6: =IFERROR(LOOKUP(DUERP!F7,Gravité,cot_grav),"") | C6: =IFERROR(LOOKUP(DUERP!H7,Frequence,cot_freq),"") | D6: =IFERROR(LOOKUP(DUERP!I7,Duree,cot_exp),"") | E6: =IFERROR((C6*D6),"")
A7: =IF(DUERP!A8=0,"",DUERP!A8) | B7: =IFERROR(LOOKUP(DUERP!F8,Gravité,cot_grav),"") | C7: =IFERROR(LOOKUP(DUERP!H8,Frequence,cot_freq),"") | D7: =IFERROR(LOOKUP(DUERP!I8,Duree,cot_exp),"") | E7: =IFERROR((C7*D7),"")
A8: =IF(DUERP!A9=0,"",DUERP!A9) | B8: =IFERROR(LOOKUP(DUERP!F9,Gravité,cot_grav),"") | C8: =IFERROR(LOOKUP(DUERP!H9,Frequence,cot_freq),"") | D8: =IFERROR(LOOKUP(DUERP!I9,Duree,cot_exp),"") | E8: =IFERROR((C8*D8),"")
A9: =IF(DUERP!A10=0,"",DUERP!A10) | B9: =IFERROR(LOOKUP(DUERP!F10,Gravité,cot_grav),"") | C9: =IFERROR(LOOKUP(DUERP!H10,Frequence,cot_freq),"") | D9: =IFERROR(LOOKUP(DUERP!I10,Duree,cot_exp),"") | E9: =IFERROR((C9*D9),"")
A10: =IF(DUERP!A11=0,"",DUERP!A11) | B10: =IFERROR(LOOKUP(DUERP!F11,Gravité,cot_grav),"") | C10: =IFERROR(LOOKUP(DUERP!H11,Frequence,cot_freq),"") | D10: =IFERROR(LOOKUP(DUERP!I11,Duree,cot_exp),"") | E10: =IFERROR((C10*D10),"")
A11: =IF(DUERP!A12=0,"",DUERP!A12) | B11: =IFERROR(LOOKUP(DUERP!F12,Gravité,cot_grav),"") | C11: =IFERROR(LOOKUP(DUERP!H12,Frequence,cot_freq),"") | D11: =IFERROR(LOOKUP(DUERP!I12,Duree,cot_exp),"") | E11: =IFERROR((C11*D11),"")
A12: =IF(DUERP!A13=0,"",DUERP!A13) | B12: =IFERROR(LOOKUP(DUERP!F13,Gravité,cot_grav),"") | C12: =IFERROR(LOOKUP(DUERP!H13,Frequence,cot_freq),"") | D12: =IFERROR(LOOKUP(DUERP!I13,Duree,cot_exp),"") | E12: =IFERROR((C12*D12),"")
A13: =IF(DUERP!A14=0,"",DUERP!A14) | B13: =IFERROR(LOOKUP(DUERP!F14,Gravité,cot_grav),"") | C13: =IFERROR(LOOKUP(DUERP!H14,Frequence,cot_freq),"") | D13: =IFERROR(LOOKUP(DUERP!I14,Duree,cot_exp),"") | E13: =IFERROR((C13*D13),"")
A14: =IF(DUERP!A15=0,"",DUERP!A15) | B14: =IFERROR(LOOKUP(DUERP!F15,Gravité,cot_grav),"") | C14: =IFERROR(LOOKUP(DUERP!H15,Frequence,cot_freq),"") | D14: =IFERROR(LOOKUP(DUERP!I15,Duree,cot_exp),"") | E14: =IFERROR((C14*D14),"")
A15: =IF(DUERP!A16=0,"",DUERP!A16) | B15: =IFERROR(LOOKUP(DUERP!F16,Gravité,cot_grav),"") | C15: =IFERROR(LOOKUP(DUERP!H16,Frequence,cot_freq),"") | D15: =IFERROR(LOOKUP(DUERP!I16,Duree,cot_exp),"") | E15: =IFERROR((C15*D15),"")
A16: =IF(DUERP!A17=0,"",DUERP!A17) | B16: =IFERROR(LOOKUP(DUERP!F17,Gravité,cot_grav),"") | C16: =IFERROR(LOOKUP(DUERP!H17,Frequence,cot_freq),"") | D16: =IFERROR(LOOKUP(DUERP!I17,Duree,cot_exp),"") | E16: =IFERROR((C16*D16),"")
... A200: =IF(DUERP!A201=0,"",DUERP!A201) | B200: =IFERROR(LOOKUP(DUERP!F201,Gravité,cot_grav),"") | C200: =IFERROR(LOOKUP(DUERP!H201,Frequence,cot_freq),"") | D200: =IFERROR(LOOKUP(DUERP!I201,Duree,cot_exp),"") | E200: =IFERROR((C200*D200),"")

Sheet Results
