Workbook
Name a: tournée!#REF!
Name agences: tournée!$B$2
Name b: tournée!#REF!
Name tournée: 'ram ou '!$A:$A

Sheet tournée
A1: AMILLY + SENS
A2: A/A + PARC BAIN | D2: Heure de début de service | E2: Tournée
A3: AGEN | D3: 16H00 | E3: AMILLY + SENS
A4: AGEN DIM | D4: 17H | E4: A/A + PARC BAIN
A5: AMILLY / SENS | D5: 16H15 | E5: AGEN
A6: ANGERS + BASES | D6: 15H | E6: AGEN DIM
A7: ATHIS 1 FERIE 17H30 | D7: 18H45 | E7: AMILLY / SENS
A8: BASES 23H | D8: 18H | E8: ANGERS + BASES
A9: BASES DIM | D9: 17H30 | E9: ATHIS 1 FERIE 17H30
A10: CAEN FERIE 17H | D10: 23H00 | E10: BASES 23H
A11: CLERMONT FERIE 18H15 | D11: 21H30 | E11: BASES DIM
A12: CONGES | D12: 17H | E12: CAEN FERIE 17H
A13: DIJON FERIE 14H | D13: 18H15 | E13: CLERMONT FERIE 18H15
A14: INDISPO | D14: 0 | E14: CONGES
A15: INTER DEPOTS DIM | D15: 14H | E15: DIJON FERIE 14H
A16: JACQUET SA | D16: 0 | E16: INDISPO
A17: LANGRES FERIE | D17: 16H00 | E17: INTER DEPOTS DIM
A18: LE MANS A/A | D18: 12H00 | E18: JACQUET SA
A19: NANTES + BASES | D19: 15H | E19: LANGRES FERIE
A20: NAV ATHIS 2 | D20: 15H30 | E20: LE MANS A/A
A21: NAV CHATEAUBOUR | D21: 20H30 | E21: NANTES + BASES
A22: NAV CHAULNES | D22: 20H45 | E22: NAV ATHIS 2
A23: NAV CLERMONT | D23: 15H15 | E23: NAV CHATEAUBOUR
A24: NAV DIJON | D24: 18H30 | E24: NAV CHAULNES
A25: NAV LANGRES | D25: 18H | E25: NAV CLERMONT
A26: NAV LILLE | D26: 14H45 | E26: NAV DIJON
A27: NAV NIORT | D27: 17H | E27: NAV LANGRES
A28: NAV NIORT 21H15 | D28: 18H00 | E28: NAV LILLE
... A87: RETOUR AGEN | D87: 9H30 | E87: RAM SAM 9H30
A88: RETOUR ORLEANS | D88: 0 | E88: RCR
A89: RETOUR ORLEANS LU | D89: 0 | E89: REPOS
A90: RETOUR ORLEANS SA | D90: 16H00 | E90: RETOUR AGEN
A91: ROUEN + BASES | D91: 14H15 | E91: RETOUR ORLEANS
A92: SU FONTENAY | D92: 11H00 | E92: RETOUR ORLEANS LU
A93: SU FONTENAY 12H | D93: 13H15 | E93: RETOUR ORLEANS SA
A94: SU IFS + BASES | D94: 11H | E94: RAM SAM 11H
A95: SUP A/A PARIS | D95: 20H15 | E95: ROUEN + BASES
A96: VEH EMBALLAGES | D96: 12H | E96: SU FONTENAY
A97: VENDEE | D97: 15H45 | E97: NAV LANGRE DIM
D98: 12H | E98: SU FONTENAY 12H
D99: 20H | E99: SU IFS + BASES
D100: 14H | E100: SUP A/A PARIS
D101: 9H | E101: VEH EMBALLAGES
D102: 16H | E102: VENDEE

Sheet ram ou 
A1: NAV ATHIS 2
A2: NAV CHATEAUBOUR
A3: NAV CHAULNES
A4: NAV CLERMONT
A5: NAV DIJON
A6: NAV LANGRES
A7: NAV LILLE
A8: NAV NIORT
A9: NAV ST SEVER
A10: NAV VELAINES
A11: RAM + NANTES 21H
A12: RAM + 20H TOURS
... A37: NAV TOURS

Sheet chauffeur
B2: RAMASSE NAVETTE | C2: GRANDE LIGNE | D2: INTERIMAIRE
B3: NOMS | C3: NOMS | D3: NOMS
B4: ARZAC | C4: DENIS | D4: BELLOIR
B5: AUPIED | C5: GUYOT | D5: BENARD
B6: BARRE | C6: LETARD | D6: CAUDRON
B7: BELHARCH | C7: VIVIER | D7: DIARRA
B8: BERTHELOT | D8: DUPE
B9: BEZIEL | D9: EVRARD
B10: BRILLET | D10: HENRY Y
B11: CARREAU | D11: HOCHART
B12: CHAUVIN | D12: KOUPRAVA
B13: CHIKHA | D13: LEMIERE
B14: CHOTARD | D14: LEROUYER
B15: CHRETIEN | D15: METAYER
B16: DEGUELDRE | D16: RAVACHE
B17: DELALANDE | D17: ROUAULT
B18: DUAULT | D18: UZEL
B19: DUGUE | D19: HUET
B20: DUGUE A
B21: EL MANDILI
B22: FEVRIER
B23: FOUCAUD
B24: GUESDON
B25: GUEZENNEC
B26: HABASQUE
B27: HENRY
B28: HORVAIS
B29: HUARD
B30: HUS
B31: JALU
... B54: VISSEICHE

Sheet planing annuel
B2: DATE | C2: BARRE | D2: BRILLET | E2: CHAUVIN | F2: CHOTARD | G2: DELALANDE | H2: DUGUE A | I2: FOUCAUD | J2: GUEZENNEC | K2: HENRY | L2: HORVAIS | M2: LAABID R | N2: LEMARCHAND | O2: MACE | P2: MEURDRAC | Q2: NICOL | R2: NOLLET | S2: PETIT | T2: RAZE | U2: ROUAUD | V2: SINIVASSIN | W2: VISSEICHE | X2: DENIS | Y2: GUYOT | Z2: LETARD | AA2: VIVIER | AB2: BELLOIR | AC2: BENARD | AD2: CAUDRON | AE2: DIARRA | AF2: DUPE | AG2: EVRARD | AH2: HENRY Y | AI2: HOCHART | AJ2: KOUPRAVA | AK2: LEMIERE | AL2: LEROUYER | AM2: METAYER | AN2: RAVACHE | AO2: Colonne1 | AP2: Colonne2 | AQ2: ROUAULT | AR2: UZEL | AS2: HUET | AT2: test
B3: =DATEVALUE("1/1/2019")+ROW()-ROW($B$3) -> 43466
B4: =DATEVALUE("1/1/2019")+ROW()-ROW($B$4) -> 43466 | D4: RAM + CAEN 21H15 | J4: NAV LILLE | Q4: NAV LANGRES | U4: NAV CHAULNES | V4: NAV NIORT | W4: NAV VELAINES | AA4: AGEN | AU4: NAV ATHIS 2 | AV4: AMILLY + SENS
B5: =DATEVALUE("1/1/2019")+ROW()-ROW($B$4) -> 43467 | C5: RAM 14H00 | E5: NAV LILLE | F5: RAM + ATHIS 1 | G5: RAM + ANGERS 21H30 | H5: RAM + ATHIS 1 | I5: NAV VELAINES | J5: RAM + NANTES 1 | L5: RAM + CAEN 21H15 | N5: NAV DIJON | O5: NAV ATHIS 2 | P5: RAM 14H00 | Q5: RAM + ANGERS 21H30 | R5: RAM + 20H TOURS | T5: NAV CHAULNES | U5: RAM + NANTES 21H | V5: RAM + 20H TOURS | W5: NAV LANGRES | X5: AMILLY / SENS | AA5: RETOUR AGEN | AU5: NAV CHATEAUBOUR | AV5: A/A + PARC BAIN
B6: =DATEVALUE("1/1/2019")+ROW()-ROW($B$4) -> 43468 | C6: RAM + CAEN 21H15 | D6: RAM + ORLEANS 21H | E6: AGEN | F6: NAV CHATEAUBOUR | G6: NAV LILLE | H6: NAV VELAINES | I6: RAM + ORLEANS 21H | J6: NAV NIORT | L6: RAM + NANTES 1 | N6: RAM 14H00 | O6: NAV ATHIS 2 | P6: RAM 14H00 | Q6: RAM + ANGERS 21H30 | R6: NAV DIJON | T6: RAM + ATHIS 1 | U6: NAV CHATEAUBOUR | V6: NAV CHAULNES | W6: NAV LANGRES | X6: RETOUR ORLEANS | AA6: AMILLY / SENS | AU6: NAV CHAULNES | AV6: AGEN
B7: =DATEVALUE("1/1/2019")+ROW()-ROW($B$4) -> 43469 | C7: RAM + 21h30 TOURS | D7: NAV CLERMONT | E7: RETOUR AGEN | F7: RAM + NANTES 21H | H7: RAM + ATHIS 1 | I7: NAV DIJON | L7: RAM + CAEN 21H15 | N7: RAM + NANTES 1 | P7: RAM 14H00 | Q7: RAM + ANGERS 21H30 | R7: RAM + NANTES 21H | T7: NAV LILLE | U7: NAV CHATEAUBOUR | W7: NAV CHAULNES | AA7: RETOUR ORLEANS | AU7: NAV CLERMONT | AV7: AGEN DIM
B8: =DATEVALUE("1/1/2019")+ROW()-ROW($B$4) -> 43470 | AU8: NAV DIJON | AV8: AMILLY / SENS
B9: =DATEVALUE("1/1/2019")+ROW()-ROW($B$4) -> 43471 | G9: AMILLY / SENS | X9: AGEN DIM | AU9: NAV LANGRES | AV9: ANGERS + BASES
B10: =DATEVALUE("1/1/2019")+ROW()-ROW($B$4) -> 43472 | C10: RAM + 20H TOURS | D10: RAM 14H00 | F10: NAV DIJON | G10: RETOUR ORLEANS LU | H10: SU FONTENAY 12H | I10: NAV NIORT | J10: NAV ATHIS 2 | K10: NAV CLERMONT | L10: RAM + NANTES 21H | N10: NAV VELAINES | O10: ROUEN + BASES | Q10: RAM + CAEN 21H15 | S10: RAM 14H00 | T10: RAM MALO + LAVAL | U10: RAM + NANTES 1 | V10: RAM + 21h30 TOURS | W10: RAM + ATHIS 1 | X10: RETOUR AGEN | Y10: NAV LANGRES | Z10: AMILLY / SENS | AA10: AGEN | AU10: NAV LILLE | AV10: ATHIS 1 FERIE 17H30
B11: =DATEVALUE("1/1/2019")+ROW()-ROW($B$4) -> 43473 | C11: NAV LILLE | D11: NAV CHAULNES | E11: AGEN | F11: RAM + ANGERS 21H30 | G11: RAM + ORLEANS 21H | H11: RAM + ATHIS 1 | I11: RAM + 21h30 TOURS | J11: NAV NIORT | K11: NAV ATHIS 2 | N11: NAV CLERMONT | O11: ROUEN + BASES | Q11: RAM + CAEN 21H15 | R11: NAV LANGRES | S11: NAV DIJON | T11: RAM 14H00 | U11: RAM + NANTES 1 | V11: RAM 14H00 | W11: RAM + NANTES 21H | X11: AMILLY / SENS | Y11: NAV VELAINES | Z11: RETOUR ORLEANS | AA11: RETOUR AGEN | AU11: NAV NIORT | AV11: BASES 23H
B12: =DATEVALUE("1/1/2019")+ROW()-ROW($B$4) -> 43474 | C12: NAV CHAULNES | D12: NAV LANGRES | E12: RETOUR AGEN | F12: RAM + NANTES 1 | G12: NAV LILLE | H12: RAM + ATHIS 1 | I12: RAM + 20H TOURS | J12: RAM + 21h30 TOURS | K12: NAV NIORT | L12: RAM + CAEN 21H15 | N12: NAV ATHIS 2 | O12: ROUEN + BASES | Q12: RAM + NANTES 21H | R12: NAV CLERMONT | S12: RAM 14H00 | T12: NAV DIJON | U12: NAV CHATEAUBOUR | V12: RAM 14H00 | W12: RAM MALO + LAVAL | X12: RETOUR ORLEANS | Y12: AGEN | Z12: NAV VELAINES | AA12: AMILLY / SENS | AU12: NAV ST SEVER | AV12: BASES DIM
B13: =DATEVALUE("1/1/2019")+ROW()-ROW($B$4) -> 43475 | C13: RAM + ORLEANS 21H | D13: NAV LILLE | E13: NAV LANGRES | F13: RAM + NANTES 1 | G13: NAV CHAULNES | H13: RAM + ATHIS 1 | I13: NAV CLERMONT | J13: NAV VELAINES | K13: RAM + 21h30 TOURS | L13: RAM + CAEN 21H15 | N13: NAV NIORT | O13: ROUEN + BASES | Q13: RAM + ANGERS 21H30 | R13: NAV ATHIS 2 | S13: RAM + NANTES 21H | T13: RAM 14H00 | U13: NAV CHATEAUBOUR | V13: NAV DIJON | W13: RAM 14H00 | X13: AGEN | Y13: RETOUR AGEN | Z13: AMILLY / SENS | AA13: RETOUR ORLEANS | AU13: NAV VELAINES | AV13: CAEN FERIE 17H
B14: =DATEVALUE("1/1/2019")+ROW()-ROW($B$4) -> 43476 | C14: NAV LANGRES | D14: RAM + 20H TOURS | E14: PARIS 13H30 | H14: RAM + ATHIS 1 | I14: NAV ATHIS 2 | K14: NAV VELAINES | L14: RAM + CAEN 21H15 | N14: RAM + 21h30 TOURS | O14: ROUEN + BASES | Q14: RAM + ANGERS 21H30 | R14: NAV NIORT | S14: RAM + ORLEANS 21H | T14: RAM + NANTES 21H | U14: RAM + NANTES 1 | W14: NAV DIJON | X14: RETOUR AGEN | Y14: VENDEE | Z14: RETOUR ORLEANS | AU14: RAM + NANTES 21H | AV14: CLERMONT FERIE 18H15
B15: =DATEVALUE("1/1/2019")+ROW()-ROW($B$4) -> 43477 | E15: JACQUET SA | L15: SU FONTENAY 12H | O15: NAV ST SEVER | R15: LE MANS A/A | AU15: RAM + 20H TOURS | AV15: CONGES
B16: =DATEVALUE("1/1/2019")+ROW()-ROW($B$4) -> 43478 | F16: NAV LANGRE DIM | G16: AMILLY / SENS | J16: PLAINTEL DIM | O16: ROUEN + BASES | V16: NAV TOURS | AA16: AGEN DIM | AU16: RAM + 21h30 TOURS | AV16: DIJON FERIE 14H
B17: =DATEVALUE("1/1/2019")+ROW()-ROW($B$4) -> 43479 | AU17: RAM + ANGERS 21H30 | AV17: INDISPO
B18: =DATEVALUE("1/1/2019")+ROW()-ROW($B$4) -> 43480 | AU18: RAM + ATHIS 1 | AV18: INTER DEPOTS DIM
B19: =DATEVALUE("1/1/2019")+ROW()-ROW($B$4) -> 43481 | AU19: RAM + CAEN 21H15 | AV19: JACQUET SA
B20: =DATEVALUE("1/1/2019")+ROW()-ROW($B$4) -> 43482 | AU20: RAM + NANTES 1 | AV20: LANGRES FERIE
B21: =DATEVALUE("1/1/2019")+ROW()-ROW($B$4) -> 43483 | AU21: RAM + ORLEANS 21H | AV21: LE MANS A/A
B22: =DATEVALUE("1/1/2019")+ROW()-ROW($B$4) -> 43484 | AU22: RAM 14H00 | AV22: NANTES + BASES
B23: =DATEVALUE("1/1/2019")+ROW()-ROW($B$4) -> 43485 | AU23: AGEN | AV23: NAV ATHIS 2
B24: =DATEVALUE("1/1/2019")+ROW()-ROW($B$4) -> 43486 | AU24: AGEN DIM | AV24: NAV CHATEAUBOUR
B25: =DATEVALUE("1/1/2019")+ROW()-ROW($B$4) -> 43487 | AU25: AMILLY / SENS | AV25: NAV CHAULNES
B26: =DATEVALUE("1/1/2019")+ROW()-ROW($B$4) -> 43488 | AU26: JACQUET SA | AV26: NAV CLERMONT
B27: =DATEVALUE("1/1/2019")+ROW()-ROW($B$4) -> 43489 | AU27: PARIS 13H30 | AV27: NAV DIJON
B28: =DATEVALUE("1/1/2019")+ROW()-ROW($B$4) -> 43490 | AU28: RETOUR AGEN | AV28: NAV LANGRES
... B40: =DATEVALUE("1/1/2019")+ROW()-ROW($B$4) -> 43502 | AU40: NAV TOURS | AV40: PARC DIM
B41: =DATEVALUE("1/1/2019")+ROW()-ROW($B$4) -> 43503 | AV41: PARC JOUR
B42: =DATEVALUE("1/1/2019")+ROW()-ROW($B$4) -> 43504 | AV42: PARC STEF BAIN 1
B43: =DATEVALUE("1/1/2019")+ROW()-ROW($B$4) -> 43505 | AV43: PARC STEF BAIN 2
B44: =DATEVALUE("1/1/2019")+ROW()-ROW($B$4) -> 43506 | AV44: PARIS 13H30
B45: =DATEVALUE("1/1/2019")+ROW()-ROW($B$4) -> 43507 | AV45: PLAINTEL + LIV 35
B46: =DATEVALUE("1/1/2019")+ROW()-ROW($B$4) -> 43508 | AV46: PLAINTEL DIM
B47: =DATEVALUE("1/1/2019")+ROW()-ROW($B$4) -> 43509 | AV47: QUIMPER SUP
B48: =DATEVALUE("1/1/2019")+ROW()-ROW($B$4) -> 43510 | AV48: RAM + NANTES 21H
B49: =DATEVALUE("1/1/2019")+ROW()-ROW($B$4) -> 43511 | AV49: RAM + 20H TOURS
B50: =DATEVALUE("1/1/2019")+ROW()-ROW($B$4) -> 43512 | AV50: RAM + 21h30 TOURS
B51: =DATEVALUE("1/1/2019")+ROW()-ROW($B$4) -> 43513 | AV51: RAM + ANGERS 21H30
B52: =DATEVALUE("1/1/2019")+ROW()-ROW($B$4) -> 43514 | AV52: RAM + ATHIS 1
... B103: =DATEVALUE("1/1/2019")+ROW()-ROW($B$4) -> 43565 | AV103: VENDEE
B104: =DATEVALUE("1/1/2019")+ROW()-ROW($B$4) -> 43566
B105: =DATEVALUE("1/1/2019")+ROW()-ROW($B$4) -> 43567
B106: =DATEVALUE("1/1/2019")+ROW()-ROW($B$4) -> 43568
B107: =DATEVALUE("1/1/2019")+ROW()-ROW($B$4) -> 43569
B108: =DATEVALUE("1/1/2019")+ROW()-ROW($B$4) -> 43570
B109: =DATEVALUE("1/1/2019")+ROW()-ROW($B$4) -> 43571
B110: =DATEVALUE("1/1/2019")+ROW()-ROW($B$4) -> 43572
B111: =DATEVALUE("1/1/2019")+ROW()-ROW($B$4) -> 43573
B112: =DATEVALUE("1/1/2019")+ROW()-ROW($B$4) -> 43574
B113: =DATEVALUE("1/1/2019")+ROW()-ROW($B$4) -> 43575
B114: =DATEVALUE("1/1/2019")+ROW()-ROW($B$4) -> 43576
B115: =DATEVALUE("1/1/2019")+ROW()-ROW($B$4) -> 43577
... B369: =DATEVALUE("1/1/2019")+ROW()-ROW($B$4) -> 43831

Sheet BDD
A1: Chauffeur | B1: Tournée | C1: Nb
A2: =INDEX(Tableau1[[#Headers],[BARRE]:[HUET]],1,1+(ROW()-2)/COUNTA('ram ou '!$A:$A)) -> BARRE | B2: =INDEX('ram ou '!$A:$A,ROW(BDD!B1)-COUNTA('ram ou '!A:A)*ROUNDDOWN((ROW()-ROW(BDD!$B$2))/COUNTA('ram ou '!$A:$A),0),1) -> NAV ATHIS 2 | C2: =SUMPRODUCT((Tableau1[[#Headers],[BARRE]:[HUET]]=BDD[[#This Row],[Chauffeur]])*(Tableau1[[BARRE]:[HUET]]=BDD[[#This Row],[Tournée]])) -> 0
A3: =INDEX(Tableau1[[#Headers],[BARRE]:[HUET]],1,1+(ROW()-2)/COUNTA('ram ou '!$A:$A)) -> BARRE | B3: =INDEX('ram ou '!$A:$A,ROW(BDD!B2)-COUNTA('ram ou '!A:A)*ROUNDDOWN((ROW()-ROW(BDD!$B$2))/COUNTA('ram ou '!$A:$A),0),1) -> NAV CHATEAUBOUR | C3: =SUMPRODUCT((Tableau1[[#Headers],[BARRE]:[HUET]]=BDD[[#This Row],[Chauffeur]])*(Tableau1[[BARRE]:[HUET]]=BDD[[#This Row],[Tournée]])) -> 0
A4: =INDEX(Tableau1[[#Headers],[BARRE]:[HUET]],1,1+(ROW()-2)/COUNTA('ram ou '!$A:$A)) -> BARRE | B4: =INDEX('ram ou '!$A:$A,ROW(BDD!B3)-COUNTA('ram ou '!A:A)*ROUNDDOWN((ROW()-ROW(BDD!$B$2))/COUNTA('ram ou '!$A:$A),0),1) -> NAV CHAULNES | C4: =SUMPRODUCT((Tableau1[[#Headers],[BARRE]:[HUET]]=BDD[[#This Row],[Chauffeur]])*(Tableau1[[BARRE]:[HUET]]=BDD[[#This Row],[Tournée]])) -> 1
A5: =INDEX(Tableau1[[#Headers],[BARRE]:[HUET]],1,1+(ROW()-2)/COUNTA('ram ou '!$A:$A)) -> BARRE | B5: =INDEX('ram ou '!$A:$A,ROW(BDD!B4)-COUNTA('ram ou '!A:A)*ROUNDDOWN((ROW()-ROW(BDD!$B$2))/COUNTA('ram ou '!$A:$A),0),1) -> NAV CLERMONT | C5: =SUMPRODUCT((Tableau1[[#Headers],[BARRE]:[HUET]]=BDD[[#This Row],[Chauffeur]])*(Tableau1[[BARRE]:[HUET]]=BDD[[#This Row],[Tournée]])) -> 0
A6: =INDEX(Tableau1[[#Headers],[BARRE]:[HUET]],1,1+(ROW()-2)/COUNTA('ram ou '!$A:$A)) -> BARRE | B6: =INDEX('ram ou '!$A:$A,ROW(BDD!B5)-COUNTA('ram ou '!A:A)*ROUNDDOWN((ROW()-ROW(BDD!$B$2))/COUNTA('ram ou '!$A:$A),0),1) -> NAV DIJON | C6: =SUMPRODUCT((Tableau1[[#Headers],[BARRE]:[HUET]]=BDD[[#This Row],[Chauffeur]])*(Tableau1[[BARRE]:[HUET]]=BDD[[#This Row],[Tournée]])) -> 0
A7: =INDEX(Tableau1[[#Headers],[BARRE]:[HUET]],1,1+(ROW()-2)/COUNTA('ram ou '!$A:$A)) -> BARRE | B7: =INDEX('ram ou '!$A:$A,ROW(BDD!B6)-COUNTA('ram ou '!A:A)*ROUNDDOWN((ROW()-ROW(BDD!$B$2))/COUNTA('ram ou '!$A:$A),0),1) -> NAV LANGRES | C7: =SUMPRODUCT((Tableau1[[#Headers],[BARRE]:[HUET]]=BDD[[#This Row],[Chauffeur]])*(Tableau1[[BARRE]:[HUET]]=BDD[[#This Row],[Tournée]])) -> 1
A8: =INDEX(Tableau1[[#Headers],[BARRE]:[HUET]],1,1+(ROW()-2)/COUNTA('ram ou '!$A:$A)) -> BARRE | B8: =INDEX('ram ou '!$A:$A,ROW(BDD!B7)-COUNTA('ram ou '!A:A)*ROUNDDOWN((ROW()-ROW(BDD!$B$2))/COUNTA('ram ou '!$A:$A),0),1) -> NAV LILLE | C8: =SUMPRODUCT((Tableau1[[#Headers],[BARRE]:[HUET]]=BDD[[#This Row],[Chauffeur]])*(Tableau1[[BARRE]:[HUET]]=BDD[[#This Row],[Tournée]])) -> 1
A9: =INDEX(Tableau1[[#Headers],[BARRE]:[HUET]],1,1+(ROW()-2)/COUNTA('ram ou '!$A:$A)) -> BARRE | B9: =INDEX('ram ou '!$A:$A,ROW(BDD!B8)-COUNTA('ram ou '!A:A)*ROUNDDOWN((ROW()-ROW(BDD!$B$2))/COUNTA('ram ou '!$A:$A),0),1) -> NAV NIORT | C9: =SUMPRODUCT((Tableau1[[#Headers],[BARRE]:[HUET]]=BDD[[#This Row],[Chauffeur]])*(Tableau1[[BARRE]:[HUET]]=BDD[[#This Row],[Tournée]])) -> 0
A10: =INDEX(Tableau1[[#Headers],[BARRE]:[HUET]],1,1+(ROW()-2)/COUNTA('ram ou '!$A:$A)) -> BARRE | B10: =INDEX('ram ou '!$A:$A,ROW(BDD!B9)-COUNTA('ram ou '!A:A)*ROUNDDOWN((ROW()-ROW(BDD!$B$2))/COUNTA('ram ou '!$A:$A),0),1) -> NAV ST SEVER | C10: =SUMPRODUCT((Tableau1[[#Headers],[BARRE]:[HUET]]=BDD[[#This Row],[Chauffeur]])*(Tableau1[[BARRE]:[HUET]]=BDD[[#This Row],[Tournée]])) -> 0
A11: =INDEX(Tableau1[[#Headers],[BARRE]:[HUET]],1,1+(ROW()-2)/COUNTA('ram ou '!$A:$A)) -> BARRE | B11: =INDEX('ram ou '!$A:$A,ROW(BDD!B10)-COUNTA('ram ou '!A:A)*ROUNDDOWN((ROW()-ROW(BDD!$B$2))/COUNTA('ram ou '!$A:$A),0),1) -> NAV VELAINES | C11: =SUMPRODUCT((Tableau1[[#Headers],[BARRE]:[HUET]]=BDD[[#This Row],[Chauffeur]])*(Tableau1[[BARRE]:[HUET]]=BDD[[#This Row],[Tournée]])) -> 0
A12: =INDEX(Tableau1[[#Headers],[BARRE]:[HUET]],1,1+(ROW()-2)/COUNTA('ram ou '!$A:$A)) -> BARRE | B12: =INDEX('ram ou '!$A:$A,ROW(BDD!B11)-COUNTA('ram ou '!A:A)*ROUNDDOWN((ROW()-ROW(BDD!$B$2))/COUNTA('ram ou '!$A:$A),0),1) -> RAM + NANTES 21H | C12: =SUMPRODUCT((Tableau1[[#Headers],[BARRE]:[HUET]]=BDD[[#This Row],[Chauffeur]])*(Tableau1[[BARRE]:[HUET]]=BDD[[#This Row],[Tournée]])) -> 0
A13: =INDEX(Tableau1[[#Headers],[BARRE]:[HUET]],1,1+(ROW()-2)/COUNTA('ram ou '!$A:$A)) -> BARRE | B13: =INDEX('ram ou '!$A:$A,ROW(BDD!B12)-COUNTA('ram ou '!A:A)*ROUNDDOWN((ROW()-ROW(BDD!$B$2))/COUNTA('ram ou '!$A:$A),0),1) -> RAM + 20H TOURS | C13: =SUMPRODUCT((Tableau1[[#Headers],[BARRE]:[HUET]]=BDD[[#This Row],[Chauffeur]])*(Tableau1[[BARRE]:[HUET]]=BDD[[#This Row],[Tournée]])) -> 1
... A1592: =INDEX(Tableau1[[#Headers],[BARRE]:[HUET]],1,1+(ROW()-2)/COUNTA('ram ou '!$A:$A)) -> HUET | B1592: =INDEX('ram ou '!$A:$A,ROW(BDD!B1591)-COUNTA('ram ou '!A:A)*ROUNDDOWN((ROW()-ROW(BDD!$B$2))/COUNTA('ram ou '!$A:$A),0),1) -> NAV TOURS | C1592: =SUMPRODUCT((Tableau1[[#Headers],[BARRE]:[HUET]]=BDD[[#This Row],[Chauffeur]])*(Tableau1[[BARRE]:[HUET]]=BDD[[#This Row],[Tournée]])) -> 0

Sheet Synthèse par tournée
A1: Tournée | B1: (Tous)
A3: Étiquettes de lignes | B3: Somme de Nb
A4: BARRE | B4: 8
A5: BRILLET | B5: 8
A6: CHAUVIN | B6: 8
A7: CHOTARD | B7: 8
A8: DELALANDE | B8: 8
A9: DENIS | B9: 8
A10: DUGUE A | B10: 8
A11: FOUCAUD | B11: 8
A12: GUEZENNEC | B12: 8
A13: GUYOT | B13: 5
A14: HENRY | B14: 5
A15: HORVAIS | B15: 8
... A29: Total général | B29: 171

Sheet Synthèse type tournée
A3: Somme de Nb | B3: Étiquettes de colonnes
B4: NAV | C4: RAM+NAV | D4: LIGNE | E4: SU FONTENAY 12H | F4: PLAINTEL DIM | G4: ROUEN + BASES | H4: LE MANS A/A | I4: NAV TOURS | J4: Total général
A5: Étiquettes de lignes | E5: SU FONTENAY 12H | F5: PLAINTEL DIM | G5: ROUEN + BASES | H5: LE MANS A/A | I5: NAV TOURS
A6: BARRE | B6: 3 | C6: 5 | D6: 0 | E6: 0 | F6: 0 | G6: 0 | H6: 0 | I6: 0 | J6: 8
A7: BRILLET | B7: 4 | C7: 4 | D7: 0 | E7: 0 | F7: 0 | G7: 0 | H7: 0 | I7: 0 | J7: 8
A8: CHAUVIN | B8: 2 | C8: 0 | D8: 6 | E8: 0 | F8: 0 | G8: 0 | H8: 0 | I8: 0 | J8: 8
A9: CHOTARD | B9: 3 | C9: 5 | D9: 0 | E9: 0 | F9: 0 | G9: 0 | H9: 0 | I9: 0 | J9: 8
A10: DELALANDE | B10: 3 | C10: 2 | D10: 3 | E10: 0 | F10: 0 | G10: 0 | H10: 0 | I10: 0 | J10: 8
A11: DENIS | B11: 0 | C11: 0 | D11: 8 | E11: 0 | F11: 0 | G11: 0 | H11: 0 | I11: 0 | J11: 8
A12: DUGUE A | B12: 1 | C12: 6 | D12: 0 | E12: 1 | F12: 0 | G12: 0 | H12: 0 | I12: 0 | J12: 8
A13: FOUCAUD | B13: 5 | C13: 3 | D13: 0 | E13: 0 | F13: 0 | G13: 0 | H13: 0 | I13: 0 | J13: 8
A14: GUEZENNEC | B14: 5 | C14: 2 | D14: 0 | E14: 0 | F14: 1 | G14: 0 | H14: 0 | I14: 0 | J14: 8
A15: GUYOT | B15: 3 | C15: 0 | D15: 2 | E15: 0 | F15: 0 | G15: 0 | H15: 0 | I15: 0 | J15: 5
A16: HORVAIS | B16: 0 | C16: 7 | D16: 0 | E16: 1 | F16: 0 | G16: 0 | H16: 0 | I16: 0 | J16: 8
A17: LAABID R | B17: 0 | C17: 0 | D17: 0 | E17: 0 | F17: 0 | G17: 0 | H17: 0 | I17: 0 | J17: 0
... A27: VISSEICHE | B27: 5 | C27: 4 | D27: 0 | E27: 0 | F27: 0 | G27: 0 | H27: 0 | I27: 0 | J27: 9
A28: VIVIER | B28: 0 | J28: 0
A29: Total général | B29: 60 | C29: 71 | D29: 19 | E29: 2 | F29: 1 | G29: 6 | H29: 1 | I29: 1 | J29: 161

Sheet s1 a s2

Sheet Feuil1
