Workbook

Sheet véhicule péage quand prix
A1: Immatriculation | B1: Date et heure PEAGE | C1: PEAGE | D1: Prix TTC | E1: CALCUL de qui est le conducteur au volant au péage qui a consommé le PRIX
A2: AB-123-CD | B2: 43645.431 | C2: INCARVILLE | D2: 4.2 | E2: {=INDEX('véhicule conducteur DEB FIN'!$B$1:$B$27,MIN(IF(('véhicule conducteur DEB FIN'!$C$2:$C$27+'véhicule conducteur DEB FIN'!$D$2:$D$27<=B2)*('véhicule conducteur DEB FIN'!$E$2:$E$27+'véhicule conducteur DEB FIN'!$F$2:$F$27>=B2)*('véhicule conducteur DEB FIN'!$A$2:$A$27=A2),ROW('véhicule conducteur DEB FIN'!$B$2:$B$27),"")),1)} -> A
A3: AB-123-CD | B3: 43643.628 | C3: HAUDRICOURT | D3: 13.9 | E3: {=INDEX('véhicule conducteur DEB FIN'!$B$1:$B$27,MIN(IF(('véhicule conducteur DEB FIN'!$C$2:$C$27+'véhicule conducteur DEB FIN'!$D$2:$D$27<=B3)*('véhicule conducteur DEB FIN'!$E$2:$E$27+'véhicule conducteur DEB FIN'!$F$2:$F$27>=B3)*('véhicule conducteur DEB FIN'!$A$2:$A$27='véhicule péage quand prix'!A3),ROW('véhicule conducteur DEB FIN'!$B$2:$B$27),"")),1)} -> F
A4: AB-123-CD | B4: 43643.585 | C4: JULES VERNE | D4: 19.6 | E4: {=INDEX('véhicule conducteur DEB FIN'!$B$1:$B$27,MIN(IF(('véhicule conducteur DEB FIN'!$C$2:$C$27+'véhicule conducteur DEB FIN'!$D$2:$D$27<=B4)*('véhicule conducteur DEB FIN'!$E$2:$E$27+'véhicule conducteur DEB FIN'!$F$2:$F$27>=B4)*('véhicule conducteur DEB FIN'!$A$2:$A$27='véhicule péage quand prix'!A4),ROW('véhicule conducteur DEB FIN'!$B$2:$B$27),"")),1)} -> F
A5: AB-123-CD | B5: 43642.675 | C5: INCARVILLE | D5: 4.2 | E5: {=INDEX('véhicule conducteur DEB FIN'!$B$1:$B$27,MIN(IF(('véhicule conducteur DEB FIN'!$C$2:$C$27+'véhicule conducteur DEB FIN'!$D$2:$D$27<=B5)*('véhicule conducteur DEB FIN'!$E$2:$E$27+'véhicule conducteur DEB FIN'!$F$2:$F$27>=B5)*('véhicule conducteur DEB FIN'!$A$2:$A$27='véhicule péage quand prix'!A5),ROW('véhicule conducteur DEB FIN'!$B$2:$B$27),"")),1)} -> C
A6: AB-123-CD | B6: 43642.652 | C6: BOURNEVILLE | D6: 7 | E6: {=INDEX('véhicule conducteur DEB FIN'!$B$1:$B$27,MIN(IF(('véhicule conducteur DEB FIN'!$C$2:$C$27+'véhicule conducteur DEB FIN'!$D$2:$D$27<=B6)*('véhicule conducteur DEB FIN'!$E$2:$E$27+'véhicule conducteur DEB FIN'!$F$2:$F$27>=B6)*('véhicule conducteur DEB FIN'!$A$2:$A$27='véhicule péage quand prix'!A6),ROW('véhicule conducteur DEB FIN'!$B$2:$B$27),"")),1)} -> C
A7: AB-123-CD | B7: 43642.645 | C7: PONT DE TANCARVILLE | D7: 3.8 | E7: {=INDEX('véhicule conducteur DEB FIN'!$B$1:$B$27,MIN(IF(('véhicule conducteur DEB FIN'!$C$2:$C$27+'véhicule conducteur DEB FIN'!$D$2:$D$27<=B7)*('véhicule conducteur DEB FIN'!$E$2:$E$27+'véhicule conducteur DEB FIN'!$F$2:$F$27>=B7)*('véhicule conducteur DEB FIN'!$A$2:$A$27='véhicule péage quand prix'!A7),ROW('véhicule conducteur DEB FIN'!$B$2:$B$27),"")),1)} -> C
A8: AB-123-CD | B8: 43642.588 | C8: EPRETOT BPV | D8: 9.9 | E8: {=INDEX('véhicule conducteur DEB FIN'!$B$1:$B$27,MIN(IF(('véhicule conducteur DEB FIN'!$C$2:$C$27+'véhicule conducteur DEB FIN'!$D$2:$D$27<=B8)*('véhicule conducteur DEB FIN'!$E$2:$E$27+'véhicule conducteur DEB FIN'!$F$2:$F$27>=B8)*('véhicule conducteur DEB FIN'!$A$2:$A$27='véhicule péage quand prix'!A8),ROW('véhicule conducteur DEB FIN'!$B$2:$B$27),"")),1)} -> C
A9: AB-123-CD | B9: 43642.515 | C9: YVETOT | D9: 0 | E9: {=INDEX('véhicule conducteur DEB FIN'!$B$1:$B$27,MIN(IF(('véhicule conducteur DEB FIN'!$C$2:$C$27+'véhicule conducteur DEB FIN'!$D$2:$D$27<=B9)*('véhicule conducteur DEB FIN'!$E$2:$E$27+'véhicule conducteur DEB FIN'!$F$2:$F$27>=B9)*('véhicule conducteur DEB FIN'!$A$2:$A$27='véhicule péage quand prix'!A9),ROW('véhicule conducteur DEB FIN'!$B$2:$B$27),"")),1)} -> C
A10: AB-123-CD | B10: 43642.515 | C10: LIMITE SAPN-ALBEA | D10: 6.7 | E10: {=INDEX('véhicule conducteur DEB FIN'!$B$1:$B$27,MIN(IF(('véhicule conducteur DEB FIN'!$C$2:$C$27+'véhicule conducteur DEB FIN'!$D$2:$D$27<=B10)*('véhicule conducteur DEB FIN'!$E$2:$E$27+'véhicule conducteur DEB FIN'!$F$2:$F$27>=B10)*('véhicule conducteur DEB FIN'!$A$2:$A$27='véhicule péage quand prix'!A10),ROW('véhicule conducteur DEB FIN'!$B$2:$B$27),"")),1)} -> C
A11: AB-123-CD | B11: 43642.423 | C11: BOUVILLE | D11: 6.7 | E11: {=INDEX('véhicule conducteur DEB FIN'!$B$1:$B$27,MIN(IF(('véhicule conducteur DEB FIN'!$C$2:$C$27+'véhicule conducteur DEB FIN'!$D$2:$D$27<=B11)*('véhicule conducteur DEB FIN'!$E$2:$E$27+'véhicule conducteur DEB FIN'!$F$2:$F$27>=B11)*('véhicule conducteur DEB FIN'!$A$2:$A$27='véhicule péage quand prix'!A11),ROW('véhicule conducteur DEB FIN'!$B$2:$B$27),"")),1)} -> C
A12: AB-123-CD | B12: 43642.423 | C12: LIMITE ALBEA-SAPN | D12: 0 | E12: {=INDEX('véhicule conducteur DEB FIN'!$B$1:$B$27,MIN(IF(('véhicule conducteur DEB FIN'!$C$2:$C$27+'véhicule conducteur DEB FIN'!$D$2:$D$27<=B12)*('véhicule conducteur DEB FIN'!$E$2:$E$27+'véhicule conducteur DEB FIN'!$F$2:$F$27>=B12)*('véhicule conducteur DEB FIN'!$A$2:$A$27='véhicule péage quand prix'!A12),ROW('véhicule conducteur DEB FIN'!$B$2:$B$27),"")),1)} -> C
A13: AB-123-CD | B13: 43642.285 | C13: YVETOT | D13: 0 | E13: {=INDEX('véhicule conducteur DEB FIN'!$B$1:$B$27,MIN(IF(('véhicule conducteur DEB FIN'!$C$2:$C$27+'véhicule conducteur DEB FIN'!$D$2:$D$27<=B13)*('véhicule conducteur DEB FIN'!$E$2:$E$27+'véhicule conducteur DEB FIN'!$F$2:$F$27>=B13)*('véhicule conducteur DEB FIN'!$A$2:$A$27='véhicule péage quand prix'!A13),ROW('véhicule conducteur DEB FIN'!$B$2:$B$27),"")),1)} -> C
A14: AB-123-CD | B14: 43642.285 | C14: LIMITE SAPN-ALBEA | D14: 6.7 | E14: {=INDEX('véhicule conducteur DEB FIN'!$B$1:$B$27,MIN(IF(('véhicule conducteur DEB FIN'!$C$2:$C$27+'véhicule conducteur DEB FIN'!$D$2:$D$27<=B14)*('véhicule conducteur DEB FIN'!$E$2:$E$27+'véhicule conducteur DEB FIN'!$F$2:$F$27>=B14)*('véhicule conducteur DEB FIN'!$A$2:$A$27='véhicule péage quand prix'!A14),ROW('véhicule conducteur DEB FIN'!$B$2:$B$27),"")),1)} -> C
... A36: AB-123-CD | B36: 43617.324 | C36: INCARVILLE | D36: 4.2 | E36: {=INDEX('véhicule conducteur DEB FIN'!$B$1:$B$27,MIN(IF(('véhicule conducteur DEB FIN'!$C$2:$C$27+'véhicule conducteur DEB FIN'!$D$2:$D$27<=B36)*('véhicule conducteur DEB FIN'!$E$2:$E$27+'véhicule conducteur DEB FIN'!$F$2:$F$27>=B36)*('véhicule conducteur DEB FIN'!$A$2:$A$27='véhicule péage quand prix'!A36),ROW('véhicule conducteur DEB FIN'!$B$2:$B$27),"")),1)} -> A

Sheet véhicule conducteur DEB FIN
A1: Immatriculation | B1: conducteur | C1: date début | D1: heure début | E1: date fin | F1: heure fin
A2: AB-123-CD | B2: A | C2: 43617 | D2: 0.079861111 | E2: 43617 | F2: 0.083333333
A3: AB-123-CD | B3: A | C3: 43617 | D3: 0.083333333 | E3: 43617 | F3: 0.35
A4: AB-123-CD | B4: B | C4: 43619 | D4: 0.21319444 | E4: 43619 | F4: 0.81111111
A5: AB-123-CD | B5: B | C5: 43620 | D5: 0.30416667 | E5: 43620 | F5: 0.53472222
A6: AB-123-CD | B6: B | C6: 43621 | D6: 0.25694444 | E6: 43621 | F6: 0.73819444
A7: AB-123-CD | B7: B | C7: 43622 | D7: 0.25277778 | E7: 43622 | F7: 0.71805556
A8: AB-123-CD | B8: B | C8: 43623 | D8: 0.23402778 | E8: 43623 | F8: 0.79097222
A9: AB-123-CD | B9: B | C9: 43624 | D9: 0.16666667 | E9: 43624 | F9: 0.47569444
A10: AB-123-CD | B10: B | C10: 43627 | D10: 0.20902778 | E10: 43627 | F10: 0.70277778
A11: AB-123-CD | B11: B | C11: 43628 | D11: 0.22847222 | E11: 43628 | F11: 0.67986111
A12: AB-123-CD | B12: B | C12: 43629 | D12: 0.21319444 | E12: 43629 | F12: 0.62638889
A13: AB-123-CD | B13: B | C13: 43630 | D13: 0.25416667 | E13: 43630 | F13: 0.4625
... A27: AB-123-CD | B27: A | C27: 43645 | D27: 0.12430556 | E27: 43645 | F27: 0.44791667
