Workbook

Sheet Feuil1
B3: 8h | C3: 9h | D3: 10h | E3: 11h | F3: 12h | G3: 13h | H3: 14h | I3: 15h | J3: 16h | K3: 17h | L3: 18h
A4: Bureau 1 | B4: P1 | C4: P2 | D4: P3 | E4: P4 | F4: P5 | G4: P3 | H4: P2 | I4: P6 | J4: P9 | K4: P11 | L4: P8
A6: Bureau 2 | C6: P6 | D6: P7 | E6: P8 | G6: P7 | H6: P9 | I6: P8 | J6: P10 | K6: P4 | L6: P11
A8: Bureau 3 | B8: P16 | C8: P17 | D8: P8 | E8: P17 | F8: P18 | G8: P19 | H8: P20 | I8: P9 | J8: P21 | K8: P22 | L8: P9

Sheet Feuil2
B1: Heure
A2: Personne | B2: 8h | C2: 9h | D2: 10h | E2: 11h | F2: 12h | G2: 13h | H2: 14h | I2: 15h | J2: 16h | K2: 17h | L2: 18h
A3: P1 | B3: =IFERROR(INDEX(Feuil1!$A$4:$A$8,MATCH($A3,Feuil1!B$4:B$8,0)),"") -> Bureau 1 | C3: =IFERROR(INDEX(Feuil1!$A$4:$A$8,MATCH($A3,Feuil1!C$4:C$8,0)),"") | D3: =IFERROR(INDEX(Feuil1!$A$4:$A$8,MATCH($A3,Feuil1!D$4:D$8,0)),"") | E3: =IFERROR(INDEX(Feuil1!$A$4:$A$8,MATCH($A3,Feuil1!E$4:E$8,0)),"") | F3: =IFERROR(INDEX(Feuil1!$A$4:$A$8,MATCH($A3,Feuil1!F$4:F$8,0)),"") | G3: =IFERROR(INDEX(Feuil1!$A$4:$A$8,MATCH($A3,Feuil1!G$4:G$8,0)),"") | H3: =IFERROR(INDEX(Feuil1!$A$4:$A$8,MATCH($A3,Feuil1!H$4:H$8,0)),"") | I3: =IFERROR(INDEX(Feuil1!$A$4:$A$8,MATCH($A3,Feuil1!I$4:I$8,0)),"") | ... L3: =IFERROR(INDEX(Feuil1!$A$4:$A$8,MATCH($A3,Feuil1!L$4:L$8,0)),"")
A4: P2 | B4: =IFERROR(INDEX(Feuil1!$A$4:$A$8,MATCH($A4,Feuil1!B$4:B$8,0)),"") | C4: =IFERROR(INDEX(Feuil1!$A$4:$A$8,MATCH($A4,Feuil1!C$4:C$8,0)),"") -> Bureau 1 | D4: =IFERROR(INDEX(Feuil1!$A$4:$A$8,MATCH($A4,Feuil1!D$4:D$8,0)),"") | E4: =IFERROR(INDEX(Feuil1!$A$4:$A$8,MATCH($A4,Feuil1!E$4:E$8,0)),"") | F4: =IFERROR(INDEX(Feuil1!$A$4:$A$8,MATCH($A4,Feuil1!F$4:F$8,0)),"") | G4: =IFERROR(INDEX(Feuil1!$A$4:$A$8,MATCH($A4,Feuil1!G$4:G$8,0)),"") | H4: =IFERROR(INDEX(Feuil1!$A$4:$A$8,MATCH($A4,Feuil1!H$4:H$8,0)),"") -> Bureau 1 | I4: =IFERROR(INDEX(Feuil1!$A$4:$A$8,MATCH($A4,Feuil1!I$4:I$8,0)),"") | ... L4: =IFERROR(INDEX(Feuil1!$A$4:$A$8,MATCH($A4,Feuil1!L$4:L$8,0)),"")
A5: P3 | B5: =IFERROR(INDEX(Feuil1!$A$4:$A$8,MATCH($A5,Feuil1!B$4:B$8,0)),"") | C5: =IFERROR(INDEX(Feuil1!$A$4:$A$8,MATCH($A5,Feuil1!C$4:C$8,0)),"") | D5: =IFERROR(INDEX(Feuil1!$A$4:$A$8,MATCH($A5,Feuil1!D$4:D$8,0)),"") -> Bureau 1 | E5: =IFERROR(INDEX(Feuil1!$A$4:$A$8,MATCH($A5,Feuil1!E$4:E$8,0)),"") | F5: =IFERROR(INDEX(Feuil1!$A$4:$A$8,MATCH($A5,Feuil1!F$4:F$8,0)),"") | G5: =IFERROR(INDEX(Feuil1!$A$4:$A$8,MATCH($A5,Feuil1!G$4:G$8,0)),"") -> Bureau 1 | H5: =IFERROR(INDEX(Feuil1!$A$4:$A$8,MATCH($A5,Feuil1!H$4:H$8,0)),"") | I5: =IFERROR(INDEX(Feuil1!$A$4:$A$8,MATCH($A5,Feuil1!I$4:I$8,0)),"") | ... L5: =IFERROR(INDEX(Feuil1!$A$4:$A$8,MATCH($A5,Feuil1!L$4:L$8,0)),"")
A6: P4 | B6: =IFERROR(INDEX(Feuil1!$A$4:$A$8,MATCH($A6,Feuil1!B$4:B$8,0)),"") | C6: =IFERROR(INDEX(Feuil1!$A$4:$A$8,MATCH($A6,Feuil1!C$4:C$8,0)),"") | D6: =IFERROR(INDEX(Feuil1!$A$4:$A$8,MATCH($A6,Feuil1!D$4:D$8,0)),"") | E6: =IFERROR(INDEX(Feuil1!$A$4:$A$8,MATCH($A6,Feuil1!E$4:E$8,0)),"") -> Bureau 1 | F6: =IFERROR(INDEX(Feuil1!$A$4:$A$8,MATCH($A6,Feuil1!F$4:F$8,0)),"") | G6: =IFERROR(INDEX(Feuil1!$A$4:$A$8,MATCH($A6,Feuil1!G$4:G$8,0)),"") | H6: =IFERROR(INDEX(Feuil1!$A$4:$A$8,MATCH($A6,Feuil1!H$4:H$8,0)),"") | I6: =IFERROR(INDEX(Feuil1!$A$4:$A$8,MATCH($A6,Feuil1!I$4:I$8,0)),"") | ... L6: =IFERROR(INDEX(Feuil1!$A$4:$A$8,MATCH($A6,Feuil1!L$4:L$8,0)),"")
A7: P5 | B7: =IFERROR(INDEX(Feuil1!$A$4:$A$8,MATCH($A7,Feuil1!B$4:B$8,0)),"") | C7: =IFERROR(INDEX(Feuil1!$A$4:$A$8,MATCH($A7,Feuil1!C$4:C$8,0)),"") | D7: =IFERROR(INDEX(Feuil1!$A$4:$A$8,MATCH($A7,Feuil1!D$4:D$8,0)),"") | E7: =IFERROR(INDEX(Feuil1!$A$4:$A$8,MATCH($A7,Feuil1!E$4:E$8,0)),"") | F7: =IFERROR(INDEX(Feuil1!$A$4:$A$8,MATCH($A7,Feuil1!F$4:F$8,0)),"") -> Bureau 1 | G7: =IFERROR(INDEX(Feuil1!$A$4:$A$8,MATCH($A7,Feuil1!G$4:G$8,0)),"") | H7: =IFERROR(INDEX(Feuil1!$A$4:$A$8,MATCH($A7,Feuil1!H$4:H$8,0)),"") | I7: =IFERROR(INDEX(Feuil1!$A$4:$A$8,MATCH($A7,Feuil1!I$4:I$8,0)),"") | ... L7: =IFERROR(INDEX(Feuil1!$A$4:$A$8,MATCH($A7,Feuil1!L$4:L$8,0)),"")
A8: P6 | B8: =IFERROR(INDEX(Feuil1!$A$4:$A$8,MATCH($A8,Feuil1!B$4:B$8,0)),"") | C8: =IFERROR(INDEX(Feuil1!$A$4:$A$8,MATCH($A8,Feuil1!C$4:C$8,0)),"") -> Bureau 2 | D8: =IFERROR(INDEX(Feuil1!$A$4:$A$8,MATCH($A8,Feuil1!D$4:D$8,0)),"") | E8: =IFERROR(INDEX(Feuil1!$A$4:$A$8,MATCH($A8,Feuil1!E$4:E$8,0)),"") | F8: =IFERROR(INDEX(Feuil1!$A$4:$A$8,MATCH($A8,Feuil1!F$4:F$8,0)),"") | G8: =IFERROR(INDEX(Feuil1!$A$4:$A$8,MATCH($A8,Feuil1!G$4:G$8,0)),"") | H8: =IFERROR(INDEX(Feuil1!$A$4:$A$8,MATCH($A8,Feuil1!H$4:H$8,0)),"") | I8: =IFERROR(INDEX(Feuil1!$A$4:$A$8,MATCH($A8,Feuil1!I$4:I$8,0)),"") -> Bureau 1 | ... L8: =IFERROR(INDEX(Feuil1!$A$4:$A$8,MATCH($A8,Feuil1!L$4:L$8,0)),"")
A9: P7 | B9: =IFERROR(INDEX(Feuil1!$A$4:$A$8,MATCH($A9,Feuil1!B$4:B$8,0)),"") | C9: =IFERROR(INDEX(Feuil1!$A$4:$A$8,MATCH($A9,Feuil1!C$4:C$8,0)),"") | D9: =IFERROR(INDEX(Feuil1!$A$4:$A$8,MATCH($A9,Feuil1!D$4:D$8,0)),"") -> Bureau 2 | E9: =IFERROR(INDEX(Feuil1!$A$4:$A$8,MATCH($A9,Feuil1!E$4:E$8,0)),"") | F9: =IFERROR(INDEX(Feuil1!$A$4:$A$8,MATCH($A9,Feuil1!F$4:F$8,0)),"") | G9: =IFERROR(INDEX(Feuil1!$A$4:$A$8,MATCH($A9,Feuil1!G$4:G$8,0)),"") -> Bureau 2 | H9: =IFERROR(INDEX(Feuil1!$A$4:$A$8,MATCH($A9,Feuil1!H$4:H$8,0)),"") | I9: =IFERROR(INDEX(Feuil1!$A$4:$A$8,MATCH($A9,Feuil1!I$4:I$8,0)),"") | ... L9: =IFERROR(INDEX(Feuil1!$A$4:$A$8,MATCH($A9,Feuil1!L$4:L$8,0)),"")
A10: P8 | B10: =IFERROR(INDEX(Feuil1!$A$4:$A$8,MATCH($A10,Feuil1!B$4:B$8,0)),"") | C10: =IFERROR(INDEX(Feuil1!$A$4:$A$8,MATCH($A10,Feuil1!C$4:C$8,0)),"") | D10: =IFERROR(INDEX(Feuil1!$A$4:$A$8,MATCH($A10,Feuil1!D$4:D$8,0)),"") -> Bureau 3 | E10: =IFERROR(INDEX(Feuil1!$A$4:$A$8,MATCH($A10,Feuil1!E$4:E$8,0)),"") -> Bureau 2 | F10: =IFERROR(INDEX(Feuil1!$A$4:$A$8,MATCH($A10,Feuil1!F$4:F$8,0)),"") | G10: =IFERROR(INDEX(Feuil1!$A$4:$A$8,MATCH($A10,Feuil1!G$4:G$8,0)),"") | H10: =IFERROR(INDEX(Feuil1!$A$4:$A$8,MATCH($A10,Feuil1!H$4:H$8,0)),"") | I10: =IFERROR(INDEX(Feuil1!$A$4:$A$8,MATCH($A10,Feuil1!I$4:I$8,0)),"") -> Bureau 2 | ... L10: =IFERROR(INDEX(Feuil1!$A$4:$A$8,MATCH($A10,Feuil1!L$4:L$8,0)),"") -> Bureau 1
A11: P9 | B11: =IFERROR(INDEX(Feuil1!$A$4:$A$8,MATCH($A11,Feuil1!B$4:B$8,0)),"") | C11: =IFERROR(INDEX(Feuil1!$A$4:$A$8,MATCH($A11,Feuil1!C$4:C$8,0)),"") | D11: =IFERROR(INDEX(Feuil1!$A$4:$A$8,MATCH($A11,Feuil1!D$4:D$8,0)),"") | E11: =IFERROR(INDEX(Feuil1!$A$4:$A$8,MATCH($A11,Feuil1!E$4:E$8,0)),"") | F11: =IFERROR(INDEX(Feuil1!$A$4:$A$8,MATCH($A11,Feuil1!F$4:F$8,0)),"") | G11: =IFERROR(INDEX(Feuil1!$A$4:$A$8,MATCH($A11,Feuil1!G$4:G$8,0)),"") | H11: =IFERROR(INDEX(Feuil1!$A$4:$A$8,MATCH($A11,Feuil1!H$4:H$8,0)),"") -> Bureau 2 | I11: =IFERROR(INDEX(Feuil1!$A$4:$A$8,MATCH($A11,Feuil1!I$4:I$8,0)),"") -> Bureau 3 | ... L11: =IFERROR(INDEX(Feuil1!$A$4:$A$8,MATCH($A11,Feuil1!L$4:L$8,0)),"") -> Bureau 3
A12: P10 | B12: =IFERROR(INDEX(Feuil1!$A$4:$A$8,MATCH($A12,Feuil1!B$4:B$8,0)),"") | C12: =IFERROR(INDEX(Feuil1!$A$4:$A$8,MATCH($A12,Feuil1!C$4:C$8,0)),"") | D12: =IFERROR(INDEX(Feuil1!$A$4:$A$8,MATCH($A12,Feuil1!D$4:D$8,0)),"") | E12: =IFERROR(INDEX(Feuil1!$A$4:$A$8,MATCH($A12,Feuil1!E$4:E$8,0)),"") | F12: =IFERROR(INDEX(Feuil1!$A$4:$A$8,MATCH($A12,Feuil1!F$4:F$8,0)),"") | G12: =IFERROR(INDEX(Feuil1!$A$4:$A$8,MATCH($A12,Feuil1!G$4:G$8,0)),"") | H12: =IFERROR(INDEX(Feuil1!$A$4:$A$8,MATCH($A12,Feuil1!H$4:H$8,0)),"") | I12: =IFERROR(INDEX(Feuil1!$A$4:$A$8,MATCH($A12,Feuil1!I$4:I$8,0)),"") | ... L12: =IFERROR(INDEX(Feuil1!$A$4:$A$8,MATCH($A12,Feuil1!L$4:L$8,0)),"")
A13: P11 | B13: =IFERROR(INDEX(Feuil1!$A$4:$A$8,MATCH($A13,Feuil1!B$4:B$8,0)),"") | C13: =IFERROR(INDEX(Feuil1!$A$4:$A$8,MATCH($A13,Feuil1!C$4:C$8,0)),"") | D13: =IFERROR(INDEX(Feuil1!$A$4:$A$8,MATCH($A13,Feuil1!D$4:D$8,0)),"") | E13: =IFERROR(INDEX(Feuil1!$A$4:$A$8,MATCH($A13,Feuil1!E$4:E$8,0)),"") | F13: =IFERROR(INDEX(Feuil1!$A$4:$A$8,MATCH($A13,Feuil1!F$4:F$8,0)),"") | G13: =IFERROR(INDEX(Feuil1!$A$4:$A$8,MATCH($A13,Feuil1!G$4:G$8,0)),"") | H13: =IFERROR(INDEX(Feuil1!$A$4:$A$8,MATCH($A13,Feuil1!H$4:H$8,0)),"") | I13: =IFERROR(INDEX(Feuil1!$A$4:$A$8,MATCH($A13,Feuil1!I$4:I$8,0)),"") | ... L13: =IFERROR(INDEX(Feuil1!$A$4:$A$8,MATCH($A13,Feuil1!L$4:L$8,0)),"") -> Bureau 2
A14: P16 | B14: =IFERROR(INDEX(Feuil1!$A$4:$A$8,MATCH($A14,Feuil1!B$4:B$8,0)),"") -> Bureau 3 | C14: =IFERROR(INDEX(Feuil1!$A$4:$A$8,MATCH($A14,Feuil1!C$4:C$8,0)),"") | D14: =IFERROR(INDEX(Feuil1!$A$4:$A$8,MATCH($A14,Feuil1!D$4:D$8,0)),"") | E14: =IFERROR(INDEX(Feuil1!$A$4:$A$8,MATCH($A14,Feuil1!E$4:E$8,0)),"") | F14: =IFERROR(INDEX(Feuil1!$A$4:$A$8,MATCH($A14,Feuil1!F$4:F$8,0)),"") | G14: =IFERROR(INDEX(Feuil1!$A$4:$A$8,MATCH($A14,Feuil1!G$4:G$8,0)),"") | H14: =IFERROR(INDEX(Feuil1!$A$4:$A$8,MATCH($A14,Feuil1!H$4:H$8,0)),"") | I14: =IFERROR(INDEX(Feuil1!$A$4:$A$8,MATCH($A14,Feuil1!I$4:I$8,0)),"") | ... L14: =IFERROR(INDEX(Feuil1!$A$4:$A$8,MATCH($A14,Feuil1!L$4:L$8,0)),"")
... A20: P22 | B20: =IFERROR(INDEX(Feuil1!$A$4:$A$8,MATCH($A20,Feuil1!B$4:B$8,0)),"") | C20: =IFERROR(INDEX(Feuil1!$A$4:$A$8,MATCH($A20,Feuil1!C$4:C$8,0)),"") | D20: =IFERROR(INDEX(Feuil1!$A$4:$A$8,MATCH($A20,Feuil1!D$4:D$8,0)),"") | E20: =IFERROR(INDEX(Feuil1!$A$4:$A$8,MATCH($A20,Feuil1!E$4:E$8,0)),"") | F20: =IFERROR(INDEX(Feuil1!$A$4:$A$8,MATCH($A20,Feuil1!F$4:F$8,0)),"") | G20: =IFERROR(INDEX(Feuil1!$A$4:$A$8,MATCH($A20,Feuil1!G$4:G$8,0)),"") | H20: =IFERROR(INDEX(Feuil1!$A$4:$A$8,MATCH($A20,Feuil1!H$4:H$8,0)),"") | I20: =IFERROR(INDEX(Feuil1!$A$4:$A$8,MATCH($A20,Feuil1!I$4:I$8,0)),"") | ... L20: =IFERROR(INDEX(Feuil1!$A$4:$A$8,MATCH($A20,Feuil1!L$4:L$8,0)),"")
