Workbook

Sheet Feuil1
B1: Viandes | C1: Quantités | D1: Brochettes | E1: Quantités | F1: Burgers | G1: Sauces | H1: Crudités | I1: Quantités | J1: Croquettes | K1: Quantités | L1: Boissons | M1: Quantités | N1: Sauces | O1: Quantités | P1: Frites | Q1: Quantités | R1: Total
A3: Prénom/Nom
B4: Fricandelle | C4: 1 | D4: Oignon | E4: 1 | F4: Chicken | G4: Moutarde | H4: Salade/tomate/oignon | I4: 2 | J4: Fromage | K4: 4 | L4: Ice-Tea | M4: 2 | N4: Americaine | O4: 2 | P4: oui | Q4: 1 | R4: =IFERROR(VLOOKUP(B4,Feuil2!$C:$D,2,FALSE),0)*C4+IFERROR(VLOOKUP(D4,Feuil2!$G:$H,2,FALSE),0)*E4+IFERROR(VLOOKUP(F4,Feuil2!$E:$F,2,FALSE),0)*I4+IFERROR(VLOOKUP(J4,Feuil2!$K:$L,2,FALSE),0)*K4+IFERROR(VLOOKUP(L4,Feuil2!M:N,2,FALSE),0)*M4+IFERROR(VLOOKUP(N4,Feuil2!I:J,2,FALSE),0)*O4+IF(P4="oui",2.35)*Q4 -> 23.15
R5: =IFERROR(VLOOKUP(B5,Feuil2!$C:$D,2,FALSE),0)*C5+IFERROR(VLOOKUP(D5,Feuil2!$G:$H,2,FALSE),0)*E5+IFERROR(VLOOKUP(F5,Feuil2!$E:$F,2,FALSE),0)+(IFERROR(VLOOKUP(G5,Feuil2!$I:$J,2,FALSE),0))*I5+IFERROR(VLOOKUP(J5,Feuil2!$K:$L,2,FALSE),0)*K5+IFERROR(VLOOKUP(L5,Feuil2!M:N,2,FALSE),0)*M5+IFERROR(VLOOKUP(N5,Feuil2!I:J,2,FALSE),0)*O5+IF(P5="oui",2.35)*Q5 -> 0
R6: =IFERROR(VLOOKUP(B6,Feuil2!$C:$D,2,FALSE),0)*C6+IFERROR(VLOOKUP(D6,Feuil2!$G:$H,2,FALSE),0)*E6+IFERROR(VLOOKUP(F6,Feuil2!$E:$F,2,FALSE),0)+(IFERROR(VLOOKUP(G6,Feuil2!$I:$J,2,FALSE),0))*I6+IFERROR(VLOOKUP(J6,Feuil2!$K:$L,2,FALSE),0)*K6+IFERROR(VLOOKUP(L6,Feuil2!M:N,2,FALSE),0)*M6+IFERROR(VLOOKUP(N6,Feuil2!I:J,2,FALSE),0)*O6+IF(P6="oui",2.35)*Q6 -> 0
R7: =IFERROR(VLOOKUP(B7,Feuil2!$C:$D,2,FALSE),0)*C7+IFERROR(VLOOKUP(D7,Feuil2!$G:$H,2,FALSE),0)*E7+IFERROR(VLOOKUP(F7,Feuil2!$E:$F,2,FALSE),0)+(IFERROR(VLOOKUP(G7,Feuil2!$I:$J,2,FALSE),0))*I7+IFERROR(VLOOKUP(J7,Feuil2!$K:$L,2,FALSE),0)*K7+IFERROR(VLOOKUP(L7,Feuil2!M:N,2,FALSE),0)*M7+IFERROR(VLOOKUP(N7,Feuil2!I:J,2,FALSE),0)*O7+IF(P7="oui",2.35)*Q7 -> 0
R8: =IFERROR(VLOOKUP(B8,Feuil2!$C:$D,2,FALSE),0)*C8+IFERROR(VLOOKUP(D8,Feuil2!$G:$H,2,FALSE),0)*E8+IFERROR(VLOOKUP(F8,Feuil2!$E:$F,2,FALSE),0)+(IFERROR(VLOOKUP(G8,Feuil2!$I:$J,2,FALSE),0))*I8+IFERROR(VLOOKUP(J8,Feuil2!$K:$L,2,FALSE),0)*K8+IFERROR(VLOOKUP(L8,Feuil2!M:N,2,FALSE),0)*M8+IFERROR(VLOOKUP(N8,Feuil2!I:J,2,FALSE),0)*O8+IF(P8="oui",2.35)*Q8 -> 0
R9: =IFERROR(VLOOKUP(B9,Feuil2!$C:$D,2,FALSE),0)*C9+IFERROR(VLOOKUP(D9,Feuil2!$G:$H,2,FALSE),0)*E9+IFERROR(VLOOKUP(F9,Feuil2!$E:$F,2,FALSE),0)+(IFERROR(VLOOKUP(G9,Feuil2!$I:$J,2,FALSE),0))*I9+IFERROR(VLOOKUP(J9,Feuil2!$K:$L,2,FALSE),0)*K9+IFERROR(VLOOKUP(L9,Feuil2!M:N,2,FALSE),0)*M9+IFERROR(VLOOKUP(N9,Feuil2!I:J,2,FALSE),0)*O9+IF(P9="oui",2.35)*Q9 -> 0
R10: =IFERROR(VLOOKUP(B10,Feuil2!$C:$D,2,FALSE),0)*C10+IFERROR(VLOOKUP(D10,Feuil2!$G:$H,2,FALSE),0)*E10+IFERROR(VLOOKUP(F10,Feuil2!$E:$F,2,FALSE),0)+(IFERROR(VLOOKUP(G10,Feuil2!$I:$J,2,FALSE),0))*I10+IFERROR(VLOOKUP(J10,Feuil2!$K:$L,2,FALSE),0)*K10+IFERROR(VLOOKUP(L10,Feuil2!M:N,2,FALSE),0)*M10+IFERROR(VLOOKUP(N10,Feuil2!I:J,2,FALSE),0)*O10+IF(P10="oui",2.35)*Q10 -> 0
R11: =IFERROR(VLOOKUP(B11,Feuil2!$C:$D,2,FALSE),0)*C11+IFERROR(VLOOKUP(D11,Feuil2!$G:$H,2,FALSE),0)*E11+IFERROR(VLOOKUP(F11,Feuil2!$E:$F,2,FALSE),0)+(IFERROR(VLOOKUP(G11,Feuil2!$I:$J,2,FALSE),0))*I11+IFERROR(VLOOKUP(J11,Feuil2!$K:$L,2,FALSE),0)*K11+IFERROR(VLOOKUP(L11,Feuil2!M:N,2,FALSE),0)*M11+IFERROR(VLOOKUP(N11,Feuil2!I:J,2,FALSE),0)*O11+IF(P11="oui",2.35)*Q11 -> 0
R12: =IFERROR(VLOOKUP(B12,Feuil2!$C:$D,2,FALSE),0)*C12+IFERROR(VLOOKUP(D12,Feuil2!$G:$H,2,FALSE),0)*E12+IFERROR(VLOOKUP(F12,Feuil2!$E:$F,2,FALSE),0)+(IFERROR(VLOOKUP(G12,Feuil2!$I:$J,2,FALSE),0))*I12+IFERROR(VLOOKUP(J12,Feuil2!$K:$L,2,FALSE),0)*K12+IFERROR(VLOOKUP(L12,Feuil2!M:N,2,FALSE),0)*M12+IFERROR(VLOOKUP(N12,Feuil2!I:J,2,FALSE),0)*O12+IF(P12="oui",2.35)*Q12 -> 0
R13: =IFERROR(VLOOKUP(B13,Feuil2!$C:$D,2,FALSE),0)*C13+IFERROR(VLOOKUP(D13,Feuil2!$G:$H,2,FALSE),0)*E13+IFERROR(VLOOKUP(F13,Feuil2!$E:$F,2,FALSE),0)+(IFERROR(VLOOKUP(G13,Feuil2!$I:$J,2,FALSE),0))*I13+IFERROR(VLOOKUP(J13,Feuil2!$K:$L,2,FALSE),0)*K13+IFERROR(VLOOKUP(L13,Feuil2!M:N,2,FALSE),0)*M13+IFERROR(VLOOKUP(N13,Feuil2!I:J,2,FALSE),0)*O13+IF(P13="oui",2.35)*Q13 -> 0
R14: =IFERROR(VLOOKUP(B14,Feuil2!$C:$D,2,FALSE),0)*C14+IFERROR(VLOOKUP(D14,Feuil2!$G:$H,2,FALSE),0)*E14+IFERROR(VLOOKUP(F14,Feuil2!$E:$F,2,FALSE),0)+(IFERROR(VLOOKUP(G14,Feuil2!$I:$J,2,FALSE),0))*I14+IFERROR(VLOOKUP(J14,Feuil2!$K:$L,2,FALSE),0)*K14+IFERROR(VLOOKUP(L14,Feuil2!M:N,2,FALSE),0)*M14+IFERROR(VLOOKUP(N14,Feuil2!I:J,2,FALSE),0)*O14+IF(P14="oui",2.35)*Q14 -> 0
R15: =IFERROR(VLOOKUP(B15,Feuil2!$C:$D,2,FALSE),0)*C15+IFERROR(VLOOKUP(D15,Feuil2!$G:$H,2,FALSE),0)*E15+IFERROR(VLOOKUP(F15,Feuil2!$E:$F,2,FALSE),0)+(IFERROR(VLOOKUP(G15,Feuil2!$I:$J,2,FALSE),0))*I15+IFERROR(VLOOKUP(J15,Feuil2!$K:$L,2,FALSE),0)*K15+IFERROR(VLOOKUP(L15,Feuil2!M:N,2,FALSE),0)*M15+IFERROR(VLOOKUP(N15,Feuil2!I:J,2,FALSE),0)*O15+IF(P15="oui",2.35)*Q15 -> 0
R16: =IFERROR(VLOOKUP(B16,Feuil2!$C:$D,2,FALSE),0)*C16+IFERROR(VLOOKUP(D16,Feuil2!$G:$H,2,FALSE),0)*E16+IFERROR(VLOOKUP(F16,Feuil2!$E:$F,2,FALSE),0)+(IFERROR(VLOOKUP(G16,Feuil2!$I:$J,2,FALSE),0))*I16+IFERROR(VLOOKUP(J16,Feuil2!$K:$L,2,FALSE),0)*K16+IFERROR(VLOOKUP(L16,Feuil2!M:N,2,FALSE),0)*M16+IFERROR(VLOOKUP(N16,Feuil2!I:J,2,FALSE),0)*O16+IF(P16="oui",2.35)*Q16 -> 0
... R29: =IFERROR(VLOOKUP(B29,Feuil2!$C:$D,2,FALSE),0)*C29+IFERROR(VLOOKUP(D29,Feuil2!$G:$H,2,FALSE),0)*E29+IFERROR(VLOOKUP(F29,Feuil2!$E:$F,2,FALSE),0)+(IFERROR(VLOOKUP(G29,Feuil2!$I:$J,2,FALSE),0))*I29+IFERROR(VLOOKUP(J29,Feuil2!$K:$L,2,FALSE),0)*K29+IFERROR(VLOOKUP(L29,Feuil2!M:N,2,FALSE),0)*M29+IFERROR(VLOOKUP(N29,Feuil2!I:J,2,FALSE),0)*O29+IF(P29="oui",2.35)*Q29 -> 0
I54: Tartare

Sheet Feuil2
A6: Salade/tomate/oignon | C6: Viandes | E6: Burgers | G6: Brochettes | I6: Sauces | K6: Croquettes | M6: Boissons | O6: Quantités
A7: Salade/tomate | Q7: oui
A8: Salade/oignon | C8: Belcanto | D8: 2.5 | E8: Bicky | F8: 3 | G8: Ailes de poulet | H8: 3.5 | I8: Americaine | J8: 0.65 | K8: Fromage | L8: 1.4 | M8: Coca-Cola | N8: 1.4 | O8: 1 | Q8: non
A9: Salade | C9: Boulette friture | D9: 1.8 | E9: Cheese | F9: 3 | G9: Ardennaise | H9: 2.5 | I9: Aigre doux | J9: 0.65 | K9: Viande | L9: 1.5 | M9: Coca zéro | N9: 1.4 | O9: 2
A10: Tomate | C10: Cervela | D10: 1.8 | E10: Chicken | F10: 3.1 | G10: Dinde | H10: 2.5 | I10: Andalouse | J10: 0.65 | K10: Volaille | L10: 1.5 | M10: Fanta | N10: 1.4 | O10: 3
A11: Oignon | C11: Fricandelle | D11: 1.4 | E11: Hamburger | F11: 3 | G11: Oignon | H11: 3.5 | I11: Aïoli | J11: 0.65 | M11: Ice-Tea | N11: 1.4 | O11: 4
A12: Tomate/oignon | C12: Fricandelle spé | D12: 1.7 | G12: Grizzly | H12: 2.5 | I12: Bernaise | J12: 0.65 | M12: Oasis | N12: 1.4 | O12: 5
C13: Loempia | D13: 2.5 | I13: Brazil | J13: 0.65 | M13: Sprite | N13: 1.4 | O13: 6
C14: Pouli croque | D14: 2.5 | I14: Bicky | J14: 0.65 | M14: Jupiler | N14: 4.6
C15: Viandelle | D15: 2.5 | I15: Cocktail | J15: 0.65 | M15: Eau plate | N15: 1.2
I16: Curry-Ketchup | J16: 0.65 | M16: Eau pétillante | N16: 1.2
I17: Curry | J17: 0.65
I18: Ketchup | J18: 0.65
I19: Joppie | J19: 0.65
I20: Mammout | J20: 0.65
I21: Mayonnaise | J21: 0.65
I22: Barbecue | J22: 0.65
I23: Moutarde | J23: 0.65
I24: Poivre | J24: 0.65
I25: Pili-Pili | J25: 0.65
I26: Riche | J26: 0.65
I27: Samouraï | J27: 0.65
I28: Tartare | J28: 0.65
