Workbook
Name _GoBack: 'DEVIS VERSION (2)'!#REF!
Name _GoBack: PROTECTION!#REF!
Name CARRELAGE: CARRELAGE!$D$4:$D$231
Name DEMOLITION: DÉMOLITION!$D$4:$D$231
Name DEPOSE: DÉPOSE!$D$4:$D$231
Name ELECTRICITE: ÉLECTRICITÉ!$D$4:$D$231
Name LOTS: LOTS!$E$3:$E$15
Name MENUISERIE: MENUISERIE!$D$4:$D$231
Name NETTOYAGE: NETTOYAGE!$D$4:$D$231
Name PEINTURE: PEINTURE!$D$4:$D$231
Name PLATRERIE: PLATRERIE!$D$4:$D$231
Name PLOMBERIE: PLOMBERIE!$D$4:$D$231
Name PROTECTION: PROTECTION!$D$4:$D$231

Sheet DEVIS VERSION (2)
A2: Réf. / chantier : | I2: Objet :
I3: Saisi par : | J3: ROBIN
A5: Réf. | B5: Lot | C5: Support | E5: Désignation Ouvrage | J5: Quantité | L5: U | M5: Base et Prix Unit. | N5: Montant HT € | Q5: TVA
A6: GÉNÉRALE
A7: 1 | B7: PROTECTION | E7: LISTE PROTECTTION - FEUILLE PROTECTION +255 CARACTERES 888888888888888888888888888888888888888888888888888888888888888888888888888888888888888888888888888888888888888888888888888888888888888888888888888888888888888888888888888888888888888888888888888888888888888888888888888888888888888888888888888888888888 | J7: 1 | L7: {=IFERROR((VLOOKUP(LEFT(E7,200),LEFT(INDIRECT("'"&$B7&"'!$D$5:$G$231"),200),3,FALSE)),"")} -> M² | M7: {=IFERROR((VLOOKUP(LEFT(E7,200),LEFT(INDIRECT("'"&$B7&"'!$D$5:$G$231"),200),4,FALSE)),"")} -> 255 | N7: =IF(M7="",0,J7*M7) -> 255
A8: =IF(E8="","",A7+1) -> 2 | B8: PROTECTION | E8: . PROTECTION ET ENTRETIEN SOL EN SITE OCCUPÉ . _ POSE SCOTCHÉ BACHE DE PROTECTION _ NETTOYAGE JOURNALIER CHANTIER | L8: =IFERROR(VLOOKUP(E8,PROTECTION!$D$4:$H$231,3,FALSE),"") -> AA | M8: =IFERROR((((IF(B8="PROTECTION",VLOOKUP(E8,PROTECTION!$D$5:$G$231,4,FALSE)))+(IF(B8="NETTOYAGE",VLOOKUP(E8,NETTOYAGE!$D$5:$G$231,4,FALSE)))+(IF(B8="PEINTURE",VLOOKUP(E8,PEINTURE!$D$5:$G$231,4,FALSE)))+(IF(B8="PLATRERIE",VLOOKUP(E8,PLATRERIE!$D$5:$G$231,4,FALSE)))+(IF(B8="CARRELAGE",VLOOKUP(E8,CARRELAGE!$D$5:$G$231,4,FALSE)))+(IF(B8="MENUISERIE",VLOOKUP(E8,MENUISERIE!$D$5:$G$231,4,FALSE)))+(IF(B8="+ELECTRICITE",VLOOKUP(E8,ÉLECTRICITÉ!$D$5:$G$231,4,FALSE)))+(IF(B8="PLOMBERIE",VLOOKUP(E8,PLOMBERIE!$D$5:$G$231,4,FALSE)))+(IF(B8="DEMOLITION",VLOOKUP(E8,DÉMOLITION!$D$5:$G$231,4,FALSE)))+(IF(B8="DEPOSE",VLOOKUP(E8,DÉPOSE!$D$5:$G$231,4,FALSE))))),"") -> 6 | N8: =IF(M8="",0,J8*M8) -> 0
A9: =IF(E9="","",A8+1) | L9: =IFERROR(VLOOKUP(E9,PROTECTION!$D$4:$H$231,3,FALSE),"") | M9: =IFERROR(((((IF(B9="PROTECTION",VLOOKUP(E9,PROTECTION!$D$5:$G$231,4,FALSE))))+(IF(B9="NETTOYAGE",VLOOKUP(E9,NETTOYAGE!$D$5:$G$231,4,FALSE)))+(IF(B9="PEINTURE",VLOOKUP(E9,PEINTURE!$D$5:$G$231,4,FALSE)))+(IF(B9="PLATRERIE",VLOOKUP(E9,PLATRERIE!$D$5:$G$231,4,FALSE)))+(IF(B9="CARRELAGE",VLOOKUP(E9,CARRELAGE!$D$5:$G$231,4,FALSE)))+(IF(B9="MENUISERIE",VLOOKUP(E9,MENUISERIE!$D$5:$G$231,4,FALSE)))+(IF(B9="+ELECTRICITE",VLOOKUP(E9,ÉLECTRICITÉ!$D$5:$G$231,4,FALSE)))+(IF(B9="PLOMBERIE",VLOOKUP(E9,PLOMBERIE!$D$5:$G$231,4,FALSE)))+(IF(B9="DEMOLITION",VLOOKUP(E9,DÉMOLITION!$D$5:$G$231,4,FALSE)))+(IF(B9="DEPOSE",VLOOKUP(E9,DÉPOSE!$D$5:$G$231,4,FALSE))))),"") -> 0 | N9: =IF(M9="",0,J9*M9) -> 0
A10: =IF(E10="","",A9+1) | L10: =IFERROR(VLOOKUP(E10,PROTECTION!$D$4:$H$231,3,FALSE),"") | M10: =IFERROR((((IF(B10="PROTECTION",VLOOKUP(E10,PROTECTION!$D$5:$G$231,4,FALSE)))+(IF(B10="NETTOYAGE",VLOOKUP(E10,NETTOYAGE!$D$5:$G$231,4,FALSE)))+(IF(B10="PEINTURE",VLOOKUP(E10,PEINTURE!$D$5:$G$231,4,FALSE)))+(IF(B10="PLATRERIE",VLOOKUP(E10,PLATRERIE!$D$5:$G$231,4,FALSE)))+(IF(B10="CARRELAGE",VLOOKUP(E10,CARRELAGE!$D$5:$G$231,4,FALSE)))+(IF(B10="MENUISERIE",VLOOKUP(E10,MENUISERIE!$D$5:$G$231,4,FALSE)))+(IF(B10="+ELECTRICITE",VLOOKUP(E10,ÉLECTRICITÉ!$D$5:$G$231,4,FALSE)))+(IF(B10="PLOMBERIE",VLOOKUP(E10,PLOMBERIE!$D$5:$G$231,4,FALSE)))+(IF(B10="DEMOLITION",VLOOKUP(E10,DÉMOLITION!$D$5:$G$231,4,FALSE)))+(IF(B10="DEPOSE",VLOOKUP(E10,DÉPOSE!$D$5:$G$231,4,FALSE))))),"") -> 0 | N10: =IF(M10="",0,J10*M10) -> 0
A11: =IF(E11="","",A10+1) | L11: =IFERROR(VLOOKUP(E11,PROTECTION!$D$4:$H$231,3,FALSE),"") | M11: =IFERROR((((IF(B11="PROTECTION",VLOOKUP(E11,PROTECTION!$D$5:$G$231,4,FALSE)))+(IF(B11="NETTOYAGE",VLOOKUP(E11,NETTOYAGE!$D$5:$G$231,4,FALSE)))+(IF(B11="PEINTURE",VLOOKUP(E11,PEINTURE!$D$5:$G$231,4,FALSE)))+(IF(B11="PLATRERIE",VLOOKUP(E11,PLATRERIE!$D$5:$G$231,4,FALSE)))+(IF(B11="CARRELAGE",VLOOKUP(E11,CARRELAGE!$D$5:$G$231,4,FALSE)))+(IF(B11="MENUISERIE",VLOOKUP(E11,MENUISERIE!$D$5:$G$231,4,FALSE)))+(IF(B11="+ELECTRICITE",VLOOKUP(E11,ÉLECTRICITÉ!$D$5:$G$231,4,FALSE)))+(IF(B11="PLOMBERIE",VLOOKUP(E11,PLOMBERIE!$D$5:$G$231,4,FALSE)))+(IF(B11="DEMOLITION",VLOOKUP(E11,DÉMOLITION!$D$5:$G$231,4,FALSE)))+(IF(B11="DEPOSE",VLOOKUP(E11,DÉPOSE!$D$5:$G$231,4,FALSE))))),"") -> 0 | N11: =IF(M11="",0,J11*M11) -> 0
A12: =IF(E12="","",A11+1) | L12: =IFERROR(VLOOKUP(E12,PROTECTION!$D$4:$H$231,3,FALSE),"") | M12: =IFERROR((((IF(B12="PROTECTION",VLOOKUP(E12,PROTECTION!$D$5:$G$231,4,FALSE)))+(IF(B12="NETTOYAGE",VLOOKUP(E12,NETTOYAGE!$D$5:$G$231,4,FALSE)))+(IF(B12="PEINTURE",VLOOKUP(E12,PEINTURE!$D$5:$G$231,4,FALSE)))+(IF(B12="PLATRERIE",VLOOKUP(E12,PLATRERIE!$D$5:$G$231,4,FALSE)))+(IF(B12="CARRELAGE",VLOOKUP(E12,CARRELAGE!$D$5:$G$231,4,FALSE)))+(IF(B12="MENUISERIE",VLOOKUP(E12,MENUISERIE!$D$5:$G$231,4,FALSE)))+(IF(B12="+ELECTRICITE",VLOOKUP(E12,ÉLECTRICITÉ!$D$5:$G$231,4,FALSE)))+(IF(B12="PLOMBERIE",VLOOKUP(E12,PLOMBERIE!$D$5:$G$231,4,FALSE)))+(IF(B12="DEMOLITION",VLOOKUP(E12,DÉMOLITION!$D$5:$G$231,4,FALSE)))+(IF(B12="DEPOSE",VLOOKUP(E12,DÉPOSE!$D$5:$G$231,4,FALSE))))),"") -> 0 | N12: =IF(M12="",0,J12*M12) -> 0
A13: =IF(E13="","",A12+1) | L13: =IFERROR(VLOOKUP(E13,PROTECTION!$D$4:$H$231,3,FALSE),"") | M13: =IFERROR((((IF(B13="PROTECTION",VLOOKUP(E13,PROTECTION!$D$5:$G$231,4,FALSE)))+(IF(B13="NETTOYAGE",VLOOKUP(E13,NETTOYAGE!$D$5:$G$231,4,FALSE)))+(IF(B13="PEINTURE",VLOOKUP(E13,PEINTURE!$D$5:$G$231,4,FALSE)))+(IF(B13="PLATRERIE",VLOOKUP(E13,PLATRERIE!$D$5:$G$231,4,FALSE)))+(IF(B13="CARRELAGE",VLOOKUP(E13,CARRELAGE!$D$5:$G$231,4,FALSE)))+(IF(B13="MENUISERIE",VLOOKUP(E13,MENUISERIE!$D$5:$G$231,4,FALSE)))+(IF(B13="+ELECTRICITE",VLOOKUP(E13,ÉLECTRICITÉ!$D$5:$G$231,4,FALSE)))+(IF(B13="PLOMBERIE",VLOOKUP(E13,PLOMBERIE!$D$5:$G$231,4,FALSE)))+(IF(B13="DEMOLITION",VLOOKUP(E13,DÉMOLITION!$D$5:$G$231,4,FALSE)))+(IF(B13="DEPOSE",VLOOKUP(E13,DÉPOSE!$D$5:$G$231,4,FALSE))))),"") -> 0 | N13: =IF(M13="",0,J13*M13) -> 0
A14: =IF(E14="","",A13+1) | L14: =IFERROR(VLOOKUP(E14,PROTECTION!$D$4:$H$231,3,FALSE),"") | M14: =IFERROR((((IF(B14="PROTECTION",VLOOKUP(E14,PROTECTION!$D$5:$G$231,4,FALSE)))+(IF(B14="NETTOYAGE",VLOOKUP(E14,NETTOYAGE!$D$5:$G$231,4,FALSE)))+(IF(B14="PEINTURE",VLOOKUP(E14,PEINTURE!$D$5:$G$231,4,FALSE)))+(IF(B14="PLATRERIE",VLOOKUP(E14,PLATRERIE!$D$5:$G$231,4,FALSE)))+(IF(B14="CARRELAGE",VLOOKUP(E14,CARRELAGE!$D$5:$G$231,4,FALSE)))+(IF(B14="MENUISERIE",VLOOKUP(E14,MENUISERIE!$D$5:$G$231,4,FALSE)))+(IF(B14="+ELECTRICITE",VLOOKUP(E14,ÉLECTRICITÉ!$D$5:$G$231,4,FALSE)))+(IF(B14="PLOMBERIE",VLOOKUP(E14,PLOMBERIE!$D$5:$G$231,4,FALSE)))+(IF(B14="DEMOLITION",VLOOKUP(E14,DÉMOLITION!$D$5:$G$231,4,FALSE)))+(IF(B14="DEPOSE",VLOOKUP(E14,DÉPOSE!$D$5:$G$231,4,FALSE))))),"") -> 0 | N14: =IF(M14="",0,J14*M14) -> 0
A15: =IF(E15="","",A14+1) | L15: =IFERROR(VLOOKUP(E15,PROTECTION!$D$4:$H$231,3,FALSE),"") | M15: =IFERROR((((IF(B15="PROTECTION",VLOOKUP(E15,PROTECTION!$D$5:$G$231,4,FALSE)))+(IF(B15="NETTOYAGE",VLOOKUP(E15,NETTOYAGE!$D$5:$G$231,4,FALSE)))+(IF(B15="PEINTURE",VLOOKUP(E15,PEINTURE!$D$5:$G$231,4,FALSE)))+(IF(B15="PLATRERIE",VLOOKUP(E15,PLATRERIE!$D$5:$G$231,4,FALSE)))+(IF(B15="CARRELAGE",VLOOKUP(E15,CARRELAGE!$D$5:$G$231,4,FALSE)))+(IF(B15="MENUISERIE",VLOOKUP(E15,MENUISERIE!$D$5:$G$231,4,FALSE)))+(IF(B15="+ELECTRICITE",VLOOKUP(E15,ÉLECTRICITÉ!$D$5:$G$231,4,FALSE)))+(IF(B15="PLOMBERIE",VLOOKUP(E15,PLOMBERIE!$D$5:$G$231,4,FALSE)))+(IF(B15="DEMOLITION",VLOOKUP(E15,DÉMOLITION!$D$5:$G$231,4,FALSE)))+(IF(B15="DEPOSE",VLOOKUP(E15,DÉPOSE!$D$5:$G$231,4,FALSE))))),"") -> 0 | N15: =IF(M15="",0,J15*M15) -> 0
A16: =IF(E16="","",A15+1) | L16: =IFERROR(VLOOKUP(E16,PROTECTION!$D$4:$H$231,3,FALSE),"") | M16: =IFERROR((((IF(B16="PROTECTION",VLOOKUP(E16,PROTECTION!$D$5:$G$231,4,FALSE)))+(IF(B16="NETTOYAGE",VLOOKUP(E16,NETTOYAGE!$D$5:$G$231,4,FALSE)))+(IF(B16="PEINTURE",VLOOKUP(E16,PEINTURE!$D$5:$G$231,4,FALSE)))+(IF(B16="PLATRERIE",VLOOKUP(E16,PLATRERIE!$D$5:$G$231,4,FALSE)))+(IF(B16="CARRELAGE",VLOOKUP(E16,CARRELAGE!$D$5:$G$231,4,FALSE)))+(IF(B16="MENUISERIE",VLOOKUP(E16,MENUISERIE!$D$5:$G$231,4,FALSE)))+(IF(B16="+ELECTRICITE",VLOOKUP(E16,ÉLECTRICITÉ!$D$5:$G$231,4,FALSE)))+(IF(B16="PLOMBERIE",VLOOKUP(E16,PLOMBERIE!$D$5:$G$231,4,FALSE)))+(IF(B16="DEMOLITION",VLOOKUP(E16,DÉMOLITION!$D$5:$G$231,4,FALSE)))+(IF(B16="DEPOSE",VLOOKUP(E16,DÉPOSE!$D$5:$G$231,4,FALSE))))),"") -> 0 | N16: =IF(M16="",0,J16*M16) -> 0
A17: =IF(E17="","",#REF!+1) | L17: =IFERROR(VLOOKUP(E17,PROTECTION!$D$4:$H$231,3,FALSE),"") | M17: =IFERROR((((IF(B17="PROTECTION",VLOOKUP(E17,PROTECTION!$D$5:$G$231,4,FALSE)))+(IF(B17="NETTOYAGE",VLOOKUP(E17,NETTOYAGE!$D$5:$G$231,4,FALSE)))+(IF(B17="PEINTURE",VLOOKUP(E17,PEINTURE!$D$5:$G$231,4,FALSE)))+(IF(B17="PLATRERIE",VLOOKUP(E17,PLATRERIE!$D$5:$G$231,4,FALSE)))+(IF(B17="CARRELAGE",VLOOKUP(E17,CARRELAGE!$D$5:$G$231,4,FALSE)))+(IF(B17="MENUISERIE",VLOOKUP(E17,MENUISERIE!$D$5:$G$231,4,FALSE)))+(IF(B17="+ELECTRICITE",VLOOKUP(E17,ÉLECTRICITÉ!$D$5:$G$231,4,FALSE)))+(IF(B17="PLOMBERIE",VLOOKUP(E17,PLOMBERIE!$D$5:$G$231,4,FALSE)))+(IF(B17="DEMOLITION",VLOOKUP(E17,DÉMOLITION!$D$5:$G$231,4,FALSE)))+(IF(B17="DEPOSE",VLOOKUP(E17,DÉPOSE!$D$5:$G$231,4,FALSE))))),"") -> 0 | N17: =IF(M17="",0,J17*M17) -> 0
I18: TOTAL HT (À REPORTER PAGE 1) | N18: =SUM(N7:P14) -> 255

Sheet LOTS
E2: Liste des Lots
E3: PROTECTION
E4: NETTOYAGE
E5: PEINTURE
E6: PLATRERIE
E7: CARRELAGE
E8: MENUISERIE
E9: ÉLECTRICITÉ
E10: PLOMBERIE
E11: DÉMOLITION
E12: DÉPOSE
E13: .
... E15: .

Sheet PROTECTION
A2: Surfaces et références | D2: Désignation Ouvrage | E2: Quantité | F2: U | G2: Base et Prix Unit. | H2: Montant HT € | I2: TVA
D4: PROTECTION | F4: .
A5: =IF(D5="","",A4+1) -> 1 | D5: . PROTECTION ET ENTRETIEN SOL EN SITE OCCUPÉ . _ POSE SCOTCHÉ BACHE DE PROTECTION _ NETTOYAGE JOURNALIER CHANTIER | F5: AA | G5: 6
A6: =IF(D6="","",A5+1) -> 2 | D6: . PROTECTION ET ENTRETIEN SOL . _ POSE SCOTCHÉ BACHE DE PROTECTION PLASTIQUE _ NETTOYAGE JOURNALIER CHANTIER | F6: ZZ | G6: 3
A7: =IF(D7="","",A6+1) -> 3 | D7: . PROTECTION ET ENTRETIEN SOL FRAGILE . _ POSE SCOTCHÉ BACHE DE PROTECTION CARTONNÉ _ NETTOYAGE JOURNALIER CHANTIER | F7: EE | G7: 5
A8: =IF(D8="","",A7+1) -> 4 | D8: . PROTECTION DES SURFACES EN CONSERVATION . _ POSE DE SCOTCH DE MASQUAGE POUR PROTECTION EN L'ÉTAT (PORTES, FENÊTRES, CADRES, …) | F8: ML | G8: 3
A9: =IF(D9="","",A8+1) -> 5 | D9: LISTE PROTECTTION - FEUILLE PROTECTION +255 CARACTERES 888888888888888888888888888888888888888888888888888888888888888888888888888888888888888888888888888888888888888888888888888888888888888888888888888888888888888888888888888888888888888888888888888888888888888888888888888888888888888888888888888888888888 | F9: M² | G9: 255 | K9: =LEN(D9) -> 307
A10: =IF(D10="","",A9+1)
A11: =IF(D11="","",A10+1)
A12: =IF(D12="","",A11+1)
A13: =IF(D13="","",A12+1)
A14: =IF(D14="","",A13+1)
A15: =IF(D15="","",A14+1)
A16: =IF(D16="","",A15+1)
A17: =IF(D17="","",A16+1)
A18: =IF(D18="","",A17+1)
A19: =IF(D19="","",A18+1)
A20: =IF(D20="","",A19+1)
A21: =IF(D21="","",A20+1)
... A231: =IF(D231="","",A230+1)

Sheet NETTOYAGE
A2: Surfaces et références | D2: Désignation Ouvrage | E2: Quantité | F2: U | G2: Base et Prix Unit. | H2: Montant HT € | I2: TVA
D4: NETTOYAGE | F4: .
A5: =IF(D5="","",A4+1) -> 1 | D5: . ASSAINISSEMENT AVANT TRAVAUX PEINTURE . _ LESSIVAGE AVEC RINÇAGE, DES SURFACES EN DEVANTURE HORS GRATTAGE DES RÉSIDUS DURS | F5: RR | G5: 7
A6: =IF(D6="","",A5+1) -> 2 | D6: . ASSAINISSEMENT AVANT TRAVAUX PEINTURE . _ LESSIVAGE AVEC RINÇAGE, DES SURFACES EN DEVANTURE ET AVEC GRATTAGE DES RÉSIDUS DURS | F6: TT | G6: 7
A7: =IF(D7="","",A6+1) | F7: YY | G7: 50
A8: =IF(D8="","",A7+1)
A9: =IF(D9="","",A8+1)
A10: =IF(D10="","",A9+1)
A11: =IF(D11="","",A10+1)
A12: =IF(D12="","",A11+1)
A13: =IF(D13="","",A12+1)
A14: =IF(D14="","",A13+1)
A15: =IF(D15="","",A14+1)
A16: =IF(D16="","",A15+1)
A17: =IF(D17="","",A16+1)
A18: =IF(D18="","",A17+1)
A19: =IF(D19="","",A18+1)
... A231: =IF(D231="","",A230+1)

Sheet PEINTURE
A2: Surfaces et références | D2: Désignation Ouvrage | E2: Quantité | F2: U | G2: Base et Prix Unit. | H2: Montant HT € | I2: TVA
D4: PEINTURE | F4: .
A5: =IF(D5="","",A4+1) -> 1 | D5: . FINITION PEINTURE SUR PLAFOND . _ PONÇAGE MÉCANIQUE AVEC ASPIRATION - ABRASIF P80 _ FINITION PEINTURE AQUEUSE BLANC - 2 COUCHES - ASPECT : POCHÉ SIKKENS ALPHAXYLAN SF - ASPECT : MAT | F5: YY | G5: 30
A6: =IF(D6="","",A5+1) -> 2 | D6: . FINITION PEINTURE SUR MUR . _ PONÇAGE MÉCANIQUE AVEC ASPIRATION - ABRASIF P80 _ FINITION PEINTURE AQUEUSE BLANC - 2 COUCHES - ASPECT : POCHÉ SIKKENS ALPHAXYLAN SF - ASPECT : MAT | F6: UU | G6: 40
A7: =IF(D7="","",A6+1) -> 3 | D7: . FINITION PEINTURE SUR HUISSERIE . _ PONÇAGE MÉCANIQUE AVEC ASPIRATION - ABRASIF P80 _ FINITION PEINTURE AQUEUSE BLANC - 2 COUCHES - ASPECT : POCHÉ SIKKENS ALPHAXYLAN SF - ASPECT : MAT | F7: II | G7: 50
A8: =IF(D8="","",A7+1) -> 4 | D8: 0
A9: =IF(D9="","",A8+1)
A10: =IF(D10="","",A9+1)
A11: =IF(D11="","",A10+1)
A12: =IF(D12="","",A11+1)
A13: =IF(D13="","",A12+1)
A14: =IF(D14="","",A13+1)
A15: =IF(D15="","",A14+1)
A16: =IF(D16="","",A15+1)
A17: =IF(D17="","",A16+1)
A18: =IF(D18="","",A17+1)
A19: =IF(D19="","",A18+1)
A20: =IF(D20="","",A19+1)
... A231: =IF(D231="","",A230+1)

Sheet PLATRERIE
A2: Surfaces et références | D2: Désignation Ouvrage | E2: Quantité | F2: U | G2: Base et Prix Unit. | H2: Montant HT € | I2: TVA
D4: PLÂTRERIE | F4: .
A5: =IF(D5="","",A4+1) -> 1 | D5: aa | F5: UU | G5: 30
A6: =IF(D6="","",A5+1) -> 2 | D6: zz | F6: II | G6: 40
A7: =IF(D7="","",A6+1) -> 3 | D7: ee | F7: OO | G7: 50
A8: =IF(D8="","",A7+1) -> 4 | D8: 0
A9: =IF(D9="","",A8+1)
A10: =IF(D10="","",A9+1)
A11: =IF(D11="","",A10+1)
A12: =IF(D12="","",A11+1)
A13: =IF(D13="","",A12+1)
A14: =IF(D14="","",A13+1)
A15: =IF(D15="","",A14+1)
A16: =IF(D16="","",A15+1)
A17: =IF(D17="","",A16+1)
A18: =IF(D18="","",A17+1)
A19: =IF(D19="","",A18+1)
A20: =IF(D20="","",A19+1)
... A231: =IF(D231="","",A230+1)

Sheet CARRELAGE
A2: Surfaces et références | D2: Désignation Ouvrage | E2: Quantité | F2: U | G2: Base et Prix Unit. | H2: Montant HT € | I2: TVA
D4: CARRELAGE | F4: .
A5: =IF(D5="","",A4+1) -> 1 | D5: CA | F5: PP | G5: 100
A6: =IF(D6="","",A5+1) -> 2 | D6: CAR | F6: QQ | G6: 200
A7: =IF(D7="","",A6+1) -> 3 | D7: CARL | F7: SS | G7: 300
A8: =IF(D8="","",A7+1) -> 4 | D8: 0
A9: =IF(D9="","",A8+1)
A10: =IF(D10="","",A9+1)
A11: =IF(D11="","",A10+1)
A12: =IF(D12="","",A11+1)
A13: =IF(D13="","",A12+1)
A14: =IF(D14="","",A13+1)
A15: =IF(D15="","",A14+1)
A16: =IF(D16="","",A15+1)
A17: =IF(D17="","",A16+1)
A18: =IF(D18="","",A17+1)
A19: =IF(D19="","",A18+1)
A20: =IF(D20="","",A19+1)
... A231: =IF(D231="","",A230+1)

Sheet MENUISERIE
A2: Surfaces et références | D2: Désignation Ouvrage | E2: Quantité | F2: U | G2: Base et Prix Unit. | H2: Montant HT € | I2: TVA
D4: MENUISERIE | F4: .
A5: =IF(D5="","",A4+1) -> 1 | D5: aaaa | F5: DD | G5: 154
A6: =IF(D6="","",A5+1) -> 2 | D6: zzzz | F6: FF | G6: 40
A7: =IF(D7="","",A6+1) -> 3 | D7: eeee | F7: GG | G7: 50
A8: =IF(D8="","",A7+1) -> 4 | D8: 0
A9: =IF(D9="","",A8+1)
A10: =IF(D10="","",A9+1)
A11: =IF(D11="","",A10+1)
A12: =IF(D12="","",A11+1)
A13: =IF(D13="","",A12+1)
A14: =IF(D14="","",A13+1)
A15: =IF(D15="","",A14+1)
A16: =IF(D16="","",A15+1)
A17: =IF(D17="","",A16+1)
A18: =IF(D18="","",A17+1)
A19: =IF(D19="","",A18+1)
A20: =IF(D20="","",A19+1)
... A231: =IF(D231="","",A230+1)

Sheet ÉLECTRICITÉ
A2: Surfaces et références | D2: Désignation Ouvrage | E2: Quantité | F2: U | G2: Base et Prix Unit. | H2: Montant HT € | I2: TVA
D4: ELECTRICITE | F4: .
A5: =IF(D5="","",A4+1) -> 1 | D5: aaaaaa | F5: HH | G5: 30
A6: =IF(D6="","",A5+1) -> 2 | D6: zzzzzz | F6: JJ | G6: 40
A7: =IF(D7="","",A6+1) -> 3 | D7: eeeeee | F7: KK | G7: 50
A8: =IF(D8="","",A7+1) -> 4 | D8: 0
A9: =IF(D9="","",A8+1)
A10: =IF(D10="","",A9+1)
A11: =IF(D11="","",A10+1)
A12: =IF(D12="","",A11+1)
A13: =IF(D13="","",A12+1)
A14: =IF(D14="","",A13+1)
A15: =IF(D15="","",A14+1)
A16: =IF(D16="","",A15+1)
A17: =IF(D17="","",A16+1)
A18: =IF(D18="","",A17+1)
A19: =IF(D19="","",A18+1)
A20: =IF(D20="","",A19+1)
... A231: =IF(D231="","",A230+1)

Sheet PLOMBERIE
A2: Surfaces et références | D2: Désignation Ouvrage | E2: Quantité | F2: U | G2: Base et Prix Unit. | H2: Montant HT € | I2: TVA
D4: PLOMBERIE | F4: .
A5: =IF(D5="","",A4+1) -> 1 | D5: aaaaa | E5: 44 | F5: LL | G5: 30
A6: =IF(D6="","",A5+1) -> 2 | D6: zzzzz | E6: 44 | F6: MM | G6: 40
A7: =IF(D7="","",A6+1) -> 3 | D7: eeeee | E7: 44 | F7: WW | G7: 50
A8: =IF(D8="","",A7+1) -> 4 | D8: 0
A9: =IF(D9="","",A8+1)
A10: =IF(D10="","",A9+1)
A11: =IF(D11="","",A10+1)
A12: =IF(D12="","",A11+1)
A13: =IF(D13="","",A12+1)
A14: =IF(D14="","",A13+1)
A15: =IF(D15="","",A14+1)
A16: =IF(D16="","",A15+1)
A17: =IF(D17="","",A16+1)
A18: =IF(D18="","",A17+1)
A19: =IF(D19="","",A18+1)
A20: =IF(D20="","",A19+1)
... A231: =IF(D231="","",A230+1)

Sheet DÉMOLITION
A2: Surfaces et références | D2: Désignation Ouvrage | E2: Quantité | F2: U | G2: Base et Prix Unit. | H2: Montant HT € | I2: TVA
D4: DÉMOLITION | F4: .
A5: =IF(D5="","",A4+1) -> 1 | D5: azazazaz | F5: XX | G5: 30
A6: =IF(D6="","",A5+1) -> 2 | D6: zezezezeze | F6: CC | G6: 40
A7: =IF(D7="","",A6+1) -> 3 | D7: erererrer | F7: VV | G7: 50
A8: =IF(D8="","",A7+1) -> 4 | D8: 0
A9: =IF(D9="","",A8+1)
A10: =IF(D10="","",A9+1)
A11: =IF(D11="","",A10+1)
A12: =IF(D12="","",A11+1)
A13: =IF(D13="","",A12+1)
A14: =IF(D14="","",A13+1)
A15: =IF(D15="","",A14+1)
A16: =IF(D16="","",A15+1)
A17: =IF(D17="","",A16+1)
A18: =IF(D18="","",A17+1)
A19: =IF(D19="","",A18+1)
A20: =IF(D20="","",A19+1)
... A231: =IF(D231="","",A230+1)

Sheet DÉPOSE
A2: Surfaces et références | D2: Désignation Ouvrage | E2: Quantité | F2: U | G2: Base et Prix Unit. | H2: Montant HT € | I2: TVA
D4: DÉPOSE | F4: .
A5: =IF(D5="","",A4+1) -> 1 | D5: aeezfzar | F5: BB | G5: 999
A6: =IF(D6="","",A5+1) -> 2 | D6: zezezzzzaa | F6: NN | G6: 40
A7: =IF(D7="","",A6+1) -> 3 | D7: rttrtrtrt | F7: NA | G7: 50
A8: =IF(D8="","",A7+1) -> 4 | D8: 0
A9: =IF(D9="","",A8+1)
A10: =IF(D10="","",A9+1)
A11: =IF(D11="","",A10+1)
A12: =IF(D12="","",A11+1)
A13: =IF(D13="","",A12+1)
A14: =IF(D14="","",A13+1)
A15: =IF(D15="","",A14+1)
A16: =IF(D16="","",A15+1)
A17: =IF(D17="","",A16+1)
A18: =IF(D18="","",A17+1)
A19: =IF(D19="","",A18+1)
A20: =IF(D20="","",A19+1)
... A231: =IF(D231="","",A230+1)
