Workbook
Name DebNuit: Paramètres!$B$2
Name FinNuit: Paramètres!$B$1
Name JF: 'Jours Fériés'!$B$2:$Q$13
Name TAUX1: Paramètres!$B$4
Name TAUX2: Paramètres!$B$5
Name TAUX3: Paramètres!$B$6
Name TAUX4: Paramètres!$B$7
Name véhicule: Paramètres!$B$9:$B$14

Sheet Données
A1: Date | B1: Garde / Interv. | C1: Véhicule | D1: Motif | E1: Hdébut garde | F1: Hfin garde | G1: Hdébut interv. | H1: Hfin Interv. | I1: Hdébut corrigé | J1: Hfin corrigée | K1: Début Dim ou Férié | L1: JOUR1 | M1: NUIT1.1 | N1: NUIT1.2 | O1: Fin Dim ou Férié | P1: JOUR2 | Q1: NUIT2.1 | R1: NUIT2.2 | S1: Interv. hors poste | T1: Durée sans interv. | U1: Durée interv. jour | V1: Durée interv. dim ou férié | W1: Durée interv. nuit
A2: 43239 | B2: =IF(data[[#This Row],[Hdébut garde]]<>"","Garde",IF(data[[#This Row],[Hdébut corrigé]]<>"","Intervention","")) -> Garde | E2: 0.5 | F2: 0.33333333 | I2: =IF(data[[#This Row],[Hdébut garde]]<>"", data[[#This Row],[Hdébut garde]], data[[#This Row],[Hdébut interv.]]+IF(data[[#This Row],[Hdébut interv.]]<SUMPRODUCT((data[Date]=data[[#This Row],[Date]])*data[Hdébut garde]),1,0) ) -> 0.5 | J2: =IF(data[[#This Row],[Hfin garde]]<>"", data[[#This Row],[Hfin garde]]+IF(data[[#This Row],[Hfin garde]]<=data[[#This Row],[Hdébut garde]],1,0), IF(data[[#This Row],[Hfin Interv.]]="",0, data[[#This Row],[Hfin Interv.]] +IF(data[[#This Row],[Hfin Interv.]]>data[[#This Row],[Hdébut interv.]],0,1)) +IF(data[[#This Row],[Hdébut interv.]]<SUMPRODUCT((data[Date]=data[[#This Row],[Date]])*data[Hdébut garde]),1,0) ) -> 1.3333333 | K2: =IF(OR(WEEKDAY(data[[#This Row],[Date]],2)=7,COUNTIF(JF,data[[#This Row],[Date]])=1),"oui","non") -> non | L2: =MAX(0,(MIN(1,data[[#This Row],[Hfin corrigée]])-data[[#This Row],[Hdébut corrigé]])-data[[#This Row],[NUIT1.1]]-data[[#This Row],[NUIT1.2]]) -> 0.41666667 | M2: =IF(data[[#This Row],[Hfin Interv.]]="",0,( MIN(FinNuit,MIN(1,data[[#This Row],[Hfin corrigée]]))-MIN(FinNuit,data[[#This Row],[Hdébut corrigé]]) )) -> 0 | N2: =MAX(0,(MAX(0,(MIN(1,data[[#This Row],[Hfin corrigée]])-DebNuit))-MAX(0,(data[[#This Row],[Hdébut corrigé]]-DebNuit)))) -> 0.083333333 | O2: =IF(OR(WEEKDAY(data[[#This Row],[Date]]+data[[#This Row],[Hfin corrigée]],2)=7,COUNTIF(JF,INT(data[[#This Row],[Date]]+data[[#This Row],[Hfin corrigée]]))=1),"oui","non") -> oui | P2: =MAX(0,data[[#This Row],[Hfin corrigée]]-MAX(1,data[[#This Row],[Hdébut corrigé]]))-data[[#This Row],[NUIT2.1]]-data[[#This Row],[NUIT2.2]] -> 0.041666667 | Q2: =MAX(0,MIN(1+FinNuit,data[[#This Row],[Hfin corrigée]])-MAX(1,data[[#This Row],[Hdébut corrigé]])) -> 0.29166667 | R2: =MAX(0,(data[[#This Row],[Hfin corrigée]]-DebNuit-1)) -> 0 | S2: =IF(data[[#This Row],[Garde / Interv.]]="Intervention",MAX(0,data[[#This Row],[Hfin corrigée]]-SUMPRODUCT((data[Date]=data[[#This Row],[Date]])*(data[Garde / Interv.]="Garde")*data[Hfin corrigée])),0) -> 0 | T2: =MAX(0,IF(data[[#This Row],[Garde / Interv.]]="Garde",data[[#This Row],[Hfin corrigée]]-data[[#This Row],[Hdébut corrigé]]+SUMPRODUCT((data[Date]=data[[#This Row],[Date]])*data[Interv. hors poste])-SUMPRODUCT((data[Date]=data[[#This Row],[Date]])*(data[[Durée interv. jour]:[Durée interv. nuit]])),0)) -> 0.77777778 | U2: =MAX(0,IF(data[[#This Row],[Garde / Interv.]]="Intervention",(data[[#This Row],[Fin Dim ou Férié]]="non")*data[[#This Row],[JOUR2]]+(data[[#This Row],[Début Dim ou Férié]]="non")*data[[#This Row],[JOUR1]],0)) -> 0 | V2: =IF(data[[#This Row],[Garde / Interv.]]="Intervention",(data[[#This Row],[Fin Dim ou Férié]]="oui")*data[[#This Row],[JOUR2]]+(data[[#This Row],[Début Dim ou Férié]]="oui")*data[[#This Row],[JOUR1]],0) -> 0 | W2: =MAX(0,IF(data[[#This Row],[Garde / Interv.]]="Intervention",data[[#This Row],[NUIT1.1]]+data[[#This Row],[NUIT1.2]]+data[[#This Row],[NUIT2.1]]+data[[#This Row],[NUIT2.2]],0)) -> 0
A3: 43239 | B3: =IF(data[[#This Row],[Hdébut garde]]<>"","Garde",IF(data[[#This Row],[Hdébut corrigé]]<>"","Intervention","")) -> Intervention | C3: VSAV | G3: 0.65277778 | H3: 0.70833333 | I3: =IF(data[[#This Row],[Hdébut garde]]<>"", data[[#This Row],[Hdébut garde]], data[[#This Row],[Hdébut interv.]]+IF(data[[#This Row],[Hdébut interv.]]<SUMPRODUCT((data[Date]=data[[#This Row],[Date]])*data[Hdébut garde]),1,0) ) -> 0.65277778 | J3: =IF(data[[#This Row],[Hfin garde]]<>"", data[[#This Row],[Hfin garde]]+IF(data[[#This Row],[Hfin garde]]<=data[[#This Row],[Hdébut garde]],1,0), IF(data[[#This Row],[Hfin Interv.]]="",0, data[[#This Row],[Hfin Interv.]] +IF(data[[#This Row],[Hfin Interv.]]>data[[#This Row],[Hdébut interv.]],0,1)) +IF(data[[#This Row],[Hdébut interv.]]<SUMPRODUCT((data[Date]=data[[#This Row],[Date]])*data[Hdébut garde]),1,0) ) -> 0.70833333 | K3: =IF(OR(WEEKDAY(data[[#This Row],[Date]],2)=7,COUNTIF(JF,data[[#This Row],[Date]])=1),"oui","non") -> non | L3: =MAX(0,(MIN(1,data[[#This Row],[Hfin corrigée]])-data[[#This Row],[Hdébut corrigé]])-data[[#This Row],[NUIT1.1]]-data[[#This Row],[NUIT1.2]]) -> 0.055555556 | M3: =IF(data[[#This Row],[Hfin Interv.]]="",0,( MIN(FinNuit,MIN(1,data[[#This Row],[Hfin corrigée]]))-MIN(FinNuit,data[[#This Row],[Hdébut corrigé]]) )) -> 0 | N3: =MAX(0,(MAX(0,(MIN(1,data[[#This Row],[Hfin corrigée]])-DebNuit))-MAX(0,(data[[#This Row],[Hdébut corrigé]]-DebNuit)))) -> 0 | O3: =IF(OR(WEEKDAY(data[[#This Row],[Date]]+data[[#This Row],[Hfin corrigée]],2)=7,COUNTIF(JF,INT(data[[#This Row],[Date]]+data[[#This Row],[Hfin corrigée]]))=1),"oui","non") -> non | P3: =MAX(0,data[[#This Row],[Hfin corrigée]]-MAX(1,data[[#This Row],[Hdébut corrigé]]))-data[[#This Row],[NUIT2.1]]-data[[#This Row],[NUIT2.2]] -> 0 | Q3: =MAX(0,MIN(1+FinNuit,data[[#This Row],[Hfin corrigée]])-MAX(1,data[[#This Row],[Hdébut corrigé]])) -> 0 | R3: =MAX(0,(data[[#This Row],[Hfin corrigée]]-DebNuit-1)) -> 0 | S3: =IF(data[[#This Row],[Garde / Interv.]]="Intervention",MAX(0,data[[#This Row],[Hfin corrigée]]-SUMPRODUCT((data[Date]=data[[#This Row],[Date]])*(data[Garde / Interv.]="Garde")*data[Hfin corrigée])),0) -> 0 | T3: =MAX(0,IF(data[[#This Row],[Garde / Interv.]]="Garde",data[[#This Row],[Hfin corrigée]]-data[[#This Row],[Hdébut corrigé]]+SUMPRODUCT((data[Date]=data[[#This Row],[Date]])*data[Interv. hors poste])-SUMPRODUCT((data[Date]=data[[#This Row],[Date]])*(data[[Durée interv. jour]:[Durée interv. nuit]])),0)) -> 0 | U3: =MAX(0,IF(data[[#This Row],[Garde / Interv.]]="Intervention",(data[[#This Row],[Fin Dim ou Férié]]="non")*data[[#This Row],[JOUR2]]+(data[[#This Row],[Début Dim ou Férié]]="non")*data[[#This Row],[JOUR1]],0)) -> 0.055555556 | V3: =IF(data[[#This Row],[Garde / Interv.]]="Intervention",(data[[#This Row],[Fin Dim ou Férié]]="oui")*data[[#This Row],[JOUR2]]+(data[[#This Row],[Début Dim ou Férié]]="oui")*data[[#This Row],[JOUR1]],0) -> 0 | W3: =MAX(0,IF(data[[#This Row],[Garde / Interv.]]="Intervention",data[[#This Row],[NUIT1.1]]+data[[#This Row],[NUIT1.2]]+data[[#This Row],[NUIT2.1]]+data[[#This Row],[NUIT2.2]],0)) -> 0
A4: 43253 | B4: =IF(data[[#This Row],[Hdébut garde]]<>"","Garde",IF(data[[#This Row],[Hdébut corrigé]]<>"","Intervention","")) -> Garde | E4: 0.83333333 | F4: 0.33333333 | I4: =IF(data[[#This Row],[Hdébut garde]]<>"", data[[#This Row],[Hdébut garde]], data[[#This Row],[Hdébut interv.]]+IF(data[[#This Row],[Hdébut interv.]]<SUMPRODUCT((data[Date]=data[[#This Row],[Date]])*data[Hdébut garde]),1,0) ) -> 0.83333333 | J4: =IF(data[[#This Row],[Hfin garde]]<>"", data[[#This Row],[Hfin garde]]+IF(data[[#This Row],[Hfin garde]]<=data[[#This Row],[Hdébut garde]],1,0), IF(data[[#This Row],[Hfin Interv.]]="",0, data[[#This Row],[Hfin Interv.]] +IF(data[[#This Row],[Hfin Interv.]]>data[[#This Row],[Hdébut interv.]],0,1)) +IF(data[[#This Row],[Hdébut interv.]]<SUMPRODUCT((data[Date]=data[[#This Row],[Date]])*data[Hdébut garde]),1,0) ) -> 1.3333333 | K4: =IF(OR(WEEKDAY(data[[#This Row],[Date]],2)=7,COUNTIF(JF,data[[#This Row],[Date]])=1),"oui","non") -> non | L4: =MAX(0,(MIN(1,data[[#This Row],[Hfin corrigée]])-data[[#This Row],[Hdébut corrigé]])-data[[#This Row],[NUIT1.1]]-data[[#This Row],[NUIT1.2]]) -> 0.083333333 | M4: =IF(data[[#This Row],[Hfin Interv.]]="",0,( MIN(FinNuit,MIN(1,data[[#This Row],[Hfin corrigée]]))-MIN(FinNuit,data[[#This Row],[Hdébut corrigé]]) )) -> 0 | N4: =MAX(0,(MAX(0,(MIN(1,data[[#This Row],[Hfin corrigée]])-DebNuit))-MAX(0,(data[[#This Row],[Hdébut corrigé]]-DebNuit)))) -> 0.083333333 | O4: =IF(OR(WEEKDAY(data[[#This Row],[Date]]+data[[#This Row],[Hfin corrigée]],2)=7,COUNTIF(JF,INT(data[[#This Row],[Date]]+data[[#This Row],[Hfin corrigée]]))=1),"oui","non") -> oui | P4: =MAX(0,data[[#This Row],[Hfin corrigée]]-MAX(1,data[[#This Row],[Hdébut corrigé]]))-data[[#This Row],[NUIT2.1]]-data[[#This Row],[NUIT2.2]] -> 0.041666667 | Q4: =MAX(0,MIN(1+FinNuit,data[[#This Row],[Hfin corrigée]])-MAX(1,data[[#This Row],[Hdébut corrigé]])) -> 0.29166667 | R4: =MAX(0,(data[[#This Row],[Hfin corrigée]]-DebNuit-1)) -> 0 | S4: =IF(data[[#This Row],[Garde / Interv.]]="Intervention",MAX(0,data[[#This Row],[Hfin corrigée]]-SUMPRODUCT((data[Date]=data[[#This Row],[Date]])*(data[Garde / Interv.]="Garde")*data[Hfin corrigée])),0) -> 0 | T4: =MAX(0,IF(data[[#This Row],[Garde / Interv.]]="Garde",data[[#This Row],[Hfin corrigée]]-data[[#This Row],[Hdébut corrigé]]+SUMPRODUCT((data[Date]=data[[#This Row],[Date]])*data[Interv. hors poste])-SUMPRODUCT((data[Date]=data[[#This Row],[Date]])*(data[[Durée interv. jour]:[Durée interv. nuit]])),0)) -> 0.5 | U4: =MAX(0,IF(data[[#This Row],[Garde / Interv.]]="Intervention",(data[[#This Row],[Fin Dim ou Férié]]="non")*data[[#This Row],[JOUR2]]+(data[[#This Row],[Début Dim ou Férié]]="non")*data[[#This Row],[JOUR1]],0)) -> 0 | V4: =IF(data[[#This Row],[Garde / Interv.]]="Intervention",(data[[#This Row],[Fin Dim ou Férié]]="oui")*data[[#This Row],[JOUR2]]+(data[[#This Row],[Début Dim ou Férié]]="oui")*data[[#This Row],[JOUR1]],0) -> 0 | W4: =MAX(0,IF(data[[#This Row],[Garde / Interv.]]="Intervention",data[[#This Row],[NUIT1.1]]+data[[#This Row],[NUIT1.2]]+data[[#This Row],[NUIT2.1]]+data[[#This Row],[NUIT2.2]],0)) -> 0
A5: 43253 | B5: =IF(data[[#This Row],[Hdébut garde]]<>"","Garde",IF(data[[#This Row],[Hdébut corrigé]]<>"","Intervention","")) -> Intervention | C5: STANDARD | I5: =IF(data[[#This Row],[Hdébut garde]]<>"", data[[#This Row],[Hdébut garde]], data[[#This Row],[Hdébut interv.]]+IF(data[[#This Row],[Hdébut interv.]]<SUMPRODUCT((data[Date]=data[[#This Row],[Date]])*data[Hdébut garde]),1,0) ) -> 1 | J5: =IF(data[[#This Row],[Hfin garde]]<>"", data[[#This Row],[Hfin garde]]+IF(data[[#This Row],[Hfin garde]]<=data[[#This Row],[Hdébut garde]],1,0), IF(data[[#This Row],[Hfin Interv.]]="",0, data[[#This Row],[Hfin Interv.]] +IF(data[[#This Row],[Hfin Interv.]]>data[[#This Row],[Hdébut interv.]],0,1)) +IF(data[[#This Row],[Hdébut interv.]]<SUMPRODUCT((data[Date]=data[[#This Row],[Date]])*data[Hdébut garde]),1,0) ) -> 1 | K5: =IF(OR(WEEKDAY(data[[#This Row],[Date]],2)=7,COUNTIF(JF,data[[#This Row],[Date]])=1),"oui","non") -> non | L5: =MAX(0,(MIN(1,data[[#This Row],[Hfin corrigée]])-data[[#This Row],[Hdébut corrigé]])-data[[#This Row],[NUIT1.1]]-data[[#This Row],[NUIT1.2]]) -> 0 | M5: =IF(data[[#This Row],[Hfin Interv.]]="",0,( MIN(FinNuit,MIN(1,data[[#This Row],[Hfin corrigée]]))-MIN(FinNuit,data[[#This Row],[Hdébut corrigé]]) )) -> 0 | N5: =MAX(0,(MAX(0,(MIN(1,data[[#This Row],[Hfin corrigée]])-DebNuit))-MAX(0,(data[[#This Row],[Hdébut corrigé]]-DebNuit)))) -> 0 | O5: =IF(OR(WEEKDAY(data[[#This Row],[Date]]+data[[#This Row],[Hfin corrigée]],2)=7,COUNTIF(JF,INT(data[[#This Row],[Date]]+data[[#This Row],[Hfin corrigée]]))=1),"oui","non") -> oui | P5: =MAX(0,data[[#This Row],[Hfin corrigée]]-MAX(1,data[[#This Row],[Hdébut corrigé]]))-data[[#This Row],[NUIT2.1]]-data[[#This Row],[NUIT2.2]] -> 0 | Q5: =MAX(0,MIN(1+FinNuit,data[[#This Row],[Hfin corrigée]])-MAX(1,data[[#This Row],[Hdébut corrigé]])) -> 0 | R5: =MAX(0,(data[[#This Row],[Hfin corrigée]]-DebNuit-1)) -> 0 | S5: =IF(data[[#This Row],[Garde / Interv.]]="Intervention",MAX(0,data[[#This Row],[Hfin corrigée]]-SUMPRODUCT((data[Date]=data[[#This Row],[Date]])*(data[Garde / Interv.]="Garde")*data[Hfin corrigée])),0) -> 0 | T5: =MAX(0,IF(data[[#This Row],[Garde / Interv.]]="Garde",data[[#This Row],[Hfin corrigée]]-data[[#This Row],[Hdébut corrigé]]+SUMPRODUCT((data[Date]=data[[#This Row],[Date]])*data[Interv. hors poste])-SUMPRODUCT((data[Date]=data[[#This Row],[Date]])*(data[[Durée interv. jour]:[Durée interv. nuit]])),0)) -> 0 | U5: =MAX(0,IF(data[[#This Row],[Garde / Interv.]]="Intervention",(data[[#This Row],[Fin Dim ou Férié]]="non")*data[[#This Row],[JOUR2]]+(data[[#This Row],[Début Dim ou Férié]]="non")*data[[#This Row],[JOUR1]],0)) -> 0 | V5: =IF(data[[#This Row],[Garde / Interv.]]="Intervention",(data[[#This Row],[Fin Dim ou Férié]]="oui")*data[[#This Row],[JOUR2]]+(data[[#This Row],[Début Dim ou Férié]]="oui")*data[[#This Row],[JOUR1]],0) -> 0 | W5: =MAX(0,IF(data[[#This Row],[Garde / Interv.]]="Intervention",data[[#This Row],[NUIT1.1]]+data[[#This Row],[NUIT1.2]]+data[[#This Row],[NUIT2.1]]+data[[#This Row],[NUIT2.2]],0)) -> 0
A6: 43258 | B6: =IF(data[[#This Row],[Hdébut garde]]<>"","Garde",IF(data[[#This Row],[Hdébut corrigé]]<>"","Intervention","")) -> Garde | E6: 0.33333333 | F6: 0.33333333 | I6: =IF(data[[#This Row],[Hdébut garde]]<>"", data[[#This Row],[Hdébut garde]], data[[#This Row],[Hdébut interv.]]+IF(data[[#This Row],[Hdébut interv.]]<SUMPRODUCT((data[Date]=data[[#This Row],[Date]])*data[Hdébut garde]),1,0) ) -> 0.33333333 | J6: =IF(data[[#This Row],[Hfin garde]]<>"", data[[#This Row],[Hfin garde]]+IF(data[[#This Row],[Hfin garde]]<=data[[#This Row],[Hdébut garde]],1,0), IF(data[[#This Row],[Hfin Interv.]]="",0, data[[#This Row],[Hfin Interv.]] +IF(data[[#This Row],[Hfin Interv.]]>data[[#This Row],[Hdébut interv.]],0,1)) +IF(data[[#This Row],[Hdébut interv.]]<SUMPRODUCT((data[Date]=data[[#This Row],[Date]])*data[Hdébut garde]),1,0) ) -> 1.3333333 | K6: =IF(OR(WEEKDAY(data[[#This Row],[Date]],2)=7,COUNTIF(JF,data[[#This Row],[Date]])=1),"oui","non") -> non | L6: =MAX(0,(MIN(1,data[[#This Row],[Hfin corrigée]])-data[[#This Row],[Hdébut corrigé]])-data[[#This Row],[NUIT1.1]]-data[[#This Row],[NUIT1.2]]) -> 0.58333333 | M6: =IF(data[[#This Row],[Hfin Interv.]]="",0,( MIN(FinNuit,MIN(1,data[[#This Row],[Hfin corrigée]]))-MIN(FinNuit,data[[#This Row],[Hdébut corrigé]]) )) -> 0 | N6: =MAX(0,(MAX(0,(MIN(1,data[[#This Row],[Hfin corrigée]])-DebNuit))-MAX(0,(data[[#This Row],[Hdébut corrigé]]-DebNuit)))) -> 0.083333333 | O6: =IF(OR(WEEKDAY(data[[#This Row],[Date]]+data[[#This Row],[Hfin corrigée]],2)=7,COUNTIF(JF,INT(data[[#This Row],[Date]]+data[[#This Row],[Hfin corrigée]]))=1),"oui","non") -> non | P6: =MAX(0,data[[#This Row],[Hfin corrigée]]-MAX(1,data[[#This Row],[Hdébut corrigé]]))-data[[#This Row],[NUIT2.1]]-data[[#This Row],[NUIT2.2]] -> 0.041666667 | Q6: =MAX(0,MIN(1+FinNuit,data[[#This Row],[Hfin corrigée]])-MAX(1,data[[#This Row],[Hdébut corrigé]])) -> 0.29166667 | R6: =MAX(0,(data[[#This Row],[Hfin corrigée]]-DebNuit-1)) -> 0 | S6: =IF(data[[#This Row],[Garde / Interv.]]="Intervention",MAX(0,data[[#This Row],[Hfin corrigée]]-SUMPRODUCT((data[Date]=data[[#This Row],[Date]])*(data[Garde / Interv.]="Garde")*data[Hfin corrigée])),0) -> 0 | T6: =MAX(0,IF(data[[#This Row],[Garde / Interv.]]="Garde",data[[#This Row],[Hfin corrigée]]-data[[#This Row],[Hdébut corrigé]]+SUMPRODUCT((data[Date]=data[[#This Row],[Date]])*data[Interv. hors poste])-SUMPRODUCT((data[Date]=data[[#This Row],[Date]])*(data[[Durée interv. jour]:[Durée interv. nuit]])),0)) -> 1 | U6: =MAX(0,IF(data[[#This Row],[Garde / Interv.]]="Intervention",(data[[#This Row],[Fin Dim ou Férié]]="non")*data[[#This Row],[JOUR2]]+(data[[#This Row],[Début Dim ou Férié]]="non")*data[[#This Row],[JOUR1]],0)) -> 0 | V6: =IF(data[[#This Row],[Garde / Interv.]]="Intervention",(data[[#This Row],[Fin Dim ou Férié]]="oui")*data[[#This Row],[JOUR2]]+(data[[#This Row],[Début Dim ou Férié]]="oui")*data[[#This Row],[JOUR1]],0) -> 0 | W6: =MAX(0,IF(data[[#This Row],[Garde / Interv.]]="Intervention",data[[#This Row],[NUIT1.1]]+data[[#This Row],[NUIT1.2]]+data[[#This Row],[NUIT2.1]]+data[[#This Row],[NUIT2.2]],0)) -> 0
B7: =IF(data[[#This Row],[Hdébut garde]]<>"","Garde",IF(data[[#This Row],[Hdébut corrigé]]<>"","Intervention","")) -> Intervention | I7: =IF(data[[#This Row],[Hdébut garde]]<>"", data[[#This Row],[Hdébut garde]], data[[#This Row],[Hdébut interv.]]+IF(data[[#This Row],[Hdébut interv.]]<SUMPRODUCT((data[Date]=data[[#This Row],[Date]])*data[Hdébut garde]),1,0) ) -> 0 | J7: =IF(data[[#This Row],[Hfin garde]]<>"", data[[#This Row],[Hfin garde]]+IF(data[[#This Row],[Hfin garde]]<=data[[#This Row],[Hdébut garde]],1,0), IF(data[[#This Row],[Hfin Interv.]]="",0, data[[#This Row],[Hfin Interv.]] +IF(data[[#This Row],[Hfin Interv.]]>data[[#This Row],[Hdébut interv.]],0,1)) +IF(data[[#This Row],[Hdébut interv.]]<SUMPRODUCT((data[Date]=data[[#This Row],[Date]])*data[Hdébut garde]),1,0) ) -> 0 | K7: =IF(OR(WEEKDAY(data[[#This Row],[Date]],2)=7,COUNTIF(JF,data[[#This Row],[Date]])=1),"oui","non") -> non | L7: =MAX(0,(MIN(1,data[[#This Row],[Hfin corrigée]])-data[[#This Row],[Hdébut corrigé]])-data[[#This Row],[NUIT1.1]]-data[[#This Row],[NUIT1.2]]) -> 0 | M7: =IF(data[[#This Row],[Hfin Interv.]]="",0,( MIN(FinNuit,MIN(1,data[[#This Row],[Hfin corrigée]]))-MIN(FinNuit,data[[#This Row],[Hdébut corrigé]]) )) -> 0 | N7: =MAX(0,(MAX(0,(MIN(1,data[[#This Row],[Hfin corrigée]])-DebNuit))-MAX(0,(data[[#This Row],[Hdébut corrigé]]-DebNuit)))) -> 0 | O7: =IF(OR(WEEKDAY(data[[#This Row],[Date]]+data[[#This Row],[Hfin corrigée]],2)=7,COUNTIF(JF,INT(data[[#This Row],[Date]]+data[[#This Row],[Hfin corrigée]]))=1),"oui","non") -> non | P7: =MAX(0,data[[#This Row],[Hfin corrigée]]-MAX(1,data[[#This Row],[Hdébut corrigé]]))-data[[#This Row],[NUIT2.1]]-data[[#This Row],[NUIT2.2]] -> 0 | Q7: =MAX(0,MIN(1+FinNuit,data[[#This Row],[Hfin corrigée]])-MAX(1,data[[#This Row],[Hdébut corrigé]])) -> 0 | R7: =MAX(0,(data[[#This Row],[Hfin corrigée]]-DebNuit-1)) -> 0 | S7: =IF(data[[#This Row],[Garde / Interv.]]="Intervention",MAX(0,data[[#This Row],[Hfin corrigée]]-SUMPRODUCT((data[Date]=data[[#This Row],[Date]])*(data[Garde / Interv.]="Garde")*data[Hfin corrigée])),0) -> 0 | T7: =MAX(0,IF(data[[#This Row],[Garde / Interv.]]="Garde",data[[#This Row],[Hfin corrigée]]-data[[#This Row],[Hdébut corrigé]]+SUMPRODUCT((data[Date]=data[[#This Row],[Date]])*data[Interv. hors poste])-SUMPRODUCT((data[Date]=data[[#This Row],[Date]])*(data[[Durée interv. jour]:[Durée interv. nuit]])),0)) -> 0 | U7: =MAX(0,IF(data[[#This Row],[Garde / Interv.]]="Intervention",(data[[#This Row],[Fin Dim ou Férié]]="non")*data[[#This Row],[JOUR2]]+(data[[#This Row],[Début Dim ou Férié]]="non")*data[[#This Row],[JOUR1]],0)) -> 0 | V7: =IF(data[[#This Row],[Garde / Interv.]]="Intervention",(data[[#This Row],[Fin Dim ou Férié]]="oui")*data[[#This Row],[JOUR2]]+(data[[#This Row],[Début Dim ou Férié]]="oui")*data[[#This Row],[JOUR1]],0) -> 0 | W7: =MAX(0,IF(data[[#This Row],[Garde / Interv.]]="Intervention",data[[#This Row],[NUIT1.1]]+data[[#This Row],[NUIT1.2]]+data[[#This Row],[NUIT2.1]]+data[[#This Row],[NUIT2.2]],0)) -> 0
A8: 43265 | B8: =IF(data[[#This Row],[Hdébut garde]]<>"","Garde",IF(data[[#This Row],[Hdébut corrigé]]<>"","Intervention","")) -> Garde | E8: 0.33333333 | F8: 0.33333333 | I8: =IF(data[[#This Row],[Hdébut garde]]<>"", data[[#This Row],[Hdébut garde]], data[[#This Row],[Hdébut interv.]]+IF(data[[#This Row],[Hdébut interv.]]<SUMPRODUCT((data[Date]=data[[#This Row],[Date]])*data[Hdébut garde]),1,0) ) -> 0.33333333 | J8: =IF(data[[#This Row],[Hfin garde]]<>"", data[[#This Row],[Hfin garde]]+IF(data[[#This Row],[Hfin garde]]<=data[[#This Row],[Hdébut garde]],1,0), IF(data[[#This Row],[Hfin Interv.]]="",0, data[[#This Row],[Hfin Interv.]] +IF(data[[#This Row],[Hfin Interv.]]>data[[#This Row],[Hdébut interv.]],0,1)) +IF(data[[#This Row],[Hdébut interv.]]<SUMPRODUCT((data[Date]=data[[#This Row],[Date]])*data[Hdébut garde]),1,0) ) -> 1.3333333 | K8: =IF(OR(WEEKDAY(data[[#This Row],[Date]],2)=7,COUNTIF(JF,data[[#This Row],[Date]])=1),"oui","non") -> non | L8: =MAX(0,(MIN(1,data[[#This Row],[Hfin corrigée]])-data[[#This Row],[Hdébut corrigé]])-data[[#This Row],[NUIT1.1]]-data[[#This Row],[NUIT1.2]]) -> 0.58333333 | M8: =IF(data[[#This Row],[Hfin Interv.]]="",0,( MIN(FinNuit,MIN(1,data[[#This Row],[Hfin corrigée]]))-MIN(FinNuit,data[[#This Row],[Hdébut corrigé]]) )) -> 0 | N8: =MAX(0,(MAX(0,(MIN(1,data[[#This Row],[Hfin corrigée]])-DebNuit))-MAX(0,(data[[#This Row],[Hdébut corrigé]]-DebNuit)))) -> 0.083333333 | O8: =IF(OR(WEEKDAY(data[[#This Row],[Date]]+data[[#This Row],[Hfin corrigée]],2)=7,COUNTIF(JF,INT(data[[#This Row],[Date]]+data[[#This Row],[Hfin corrigée]]))=1),"oui","non") -> non | P8: =MAX(0,data[[#This Row],[Hfin corrigée]]-MAX(1,data[[#This Row],[Hdébut corrigé]]))-data[[#This Row],[NUIT2.1]]-data[[#This Row],[NUIT2.2]] -> 0.041666667 | Q8: =MAX(0,MIN(1+FinNuit,data[[#This Row],[Hfin corrigée]])-MAX(1,data[[#This Row],[Hdébut corrigé]])) -> 0.29166667 | R8: =MAX(0,(data[[#This Row],[Hfin corrigée]]-DebNuit-1)) -> 0 | S8: =IF(data[[#This Row],[Garde / Interv.]]="Intervention",MAX(0,data[[#This Row],[Hfin corrigée]]-SUMPRODUCT((data[Date]=data[[#This Row],[Date]])*(data[Garde / Interv.]="Garde")*data[Hfin corrigée])),0) -> 0 | T8: =MAX(0,IF(data[[#This Row],[Garde / Interv.]]="Garde",data[[#This Row],[Hfin corrigée]]-data[[#This Row],[Hdébut corrigé]]+SUMPRODUCT((data[Date]=data[[#This Row],[Date]])*data[Interv. hors poste])-SUMPRODUCT((data[Date]=data[[#This Row],[Date]])*(data[[Durée interv. jour]:[Durée interv. nuit]])),0)) -> 1 | U8: =MAX(0,IF(data[[#This Row],[Garde / Interv.]]="Intervention",(data[[#This Row],[Fin Dim ou Férié]]="non")*data[[#This Row],[JOUR2]]+(data[[#This Row],[Début Dim ou Férié]]="non")*data[[#This Row],[JOUR1]],0)) -> 0 | V8: =IF(data[[#This Row],[Garde / Interv.]]="Intervention",(data[[#This Row],[Fin Dim ou Férié]]="oui")*data[[#This Row],[JOUR2]]+(data[[#This Row],[Début Dim ou Férié]]="oui")*data[[#This Row],[JOUR1]],0) -> 0 | W8: =MAX(0,IF(data[[#This Row],[Garde / Interv.]]="Intervention",data[[#This Row],[NUIT1.1]]+data[[#This Row],[NUIT1.2]]+data[[#This Row],[NUIT2.1]]+data[[#This Row],[NUIT2.2]],0)) -> 0
B9: =IF(data[[#This Row],[Hdébut garde]]<>"","Garde",IF(data[[#This Row],[Hdébut corrigé]]<>"","Intervention","")) -> Intervention | I9: =IF(data[[#This Row],[Hdébut garde]]<>"", data[[#This Row],[Hdébut garde]], data[[#This Row],[Hdébut interv.]]+IF(data[[#This Row],[Hdébut interv.]]<SUMPRODUCT((data[Date]=data[[#This Row],[Date]])*data[Hdébut garde]),1,0) ) -> 0 | J9: =IF(data[[#This Row],[Hfin garde]]<>"", data[[#This Row],[Hfin garde]]+IF(data[[#This Row],[Hfin garde]]<=data[[#This Row],[Hdébut garde]],1,0), IF(data[[#This Row],[Hfin Interv.]]="",0, data[[#This Row],[Hfin Interv.]] +IF(data[[#This Row],[Hfin Interv.]]>data[[#This Row],[Hdébut interv.]],0,1)) +IF(data[[#This Row],[Hdébut interv.]]<SUMPRODUCT((data[Date]=data[[#This Row],[Date]])*data[Hdébut garde]),1,0) ) -> 0 | K9: =IF(OR(WEEKDAY(data[[#This Row],[Date]],2)=7,COUNTIF(JF,data[[#This Row],[Date]])=1),"oui","non") -> non | L9: =MAX(0,(MIN(1,data[[#This Row],[Hfin corrigée]])-data[[#This Row],[Hdébut corrigé]])-data[[#This Row],[NUIT1.1]]-data[[#This Row],[NUIT1.2]]) -> 0 | M9: =IF(data[[#This Row],[Hfin Interv.]]="",0,( MIN(FinNuit,MIN(1,data[[#This Row],[Hfin corrigée]]))-MIN(FinNuit,data[[#This Row],[Hdébut corrigé]]) )) -> 0 | N9: =MAX(0,(MAX(0,(MIN(1,data[[#This Row],[Hfin corrigée]])-DebNuit))-MAX(0,(data[[#This Row],[Hdébut corrigé]]-DebNuit)))) -> 0 | O9: =IF(OR(WEEKDAY(data[[#This Row],[Date]]+data[[#This Row],[Hfin corrigée]],2)=7,COUNTIF(JF,INT(data[[#This Row],[Date]]+data[[#This Row],[Hfin corrigée]]))=1),"oui","non") -> non | P9: =MAX(0,data[[#This Row],[Hfin corrigée]]-MAX(1,data[[#This Row],[Hdébut corrigé]]))-data[[#This Row],[NUIT2.1]]-data[[#This Row],[NUIT2.2]] -> 0 | Q9: =MAX(0,MIN(1+FinNuit,data[[#This Row],[Hfin corrigée]])-MAX(1,data[[#This Row],[Hdébut corrigé]])) -> 0 | R9: =MAX(0,(data[[#This Row],[Hfin corrigée]]-DebNuit-1)) -> 0 | S9: =IF(data[[#This Row],[Garde / Interv.]]="Intervention",MAX(0,data[[#This Row],[Hfin corrigée]]-SUMPRODUCT((data[Date]=data[[#This Row],[Date]])*(data[Garde / Interv.]="Garde")*data[Hfin corrigée])),0) -> 0 | T9: =MAX(0,IF(data[[#This Row],[Garde / Interv.]]="Garde",data[[#This Row],[Hfin corrigée]]-data[[#This Row],[Hdébut corrigé]]+SUMPRODUCT((data[Date]=data[[#This Row],[Date]])*data[Interv. hors poste])-SUMPRODUCT((data[Date]=data[[#This Row],[Date]])*(data[[Durée interv. jour]:[Durée interv. nuit]])),0)) -> 0 | U9: =MAX(0,IF(data[[#This Row],[Garde / Interv.]]="Intervention",(data[[#This Row],[Fin Dim ou Férié]]="non")*data[[#This Row],[JOUR2]]+(data[[#This Row],[Début Dim ou Férié]]="non")*data[[#This Row],[JOUR1]],0)) -> 0 | V9: =IF(data[[#This Row],[Garde / Interv.]]="Intervention",(data[[#This Row],[Fin Dim ou Férié]]="oui")*data[[#This Row],[JOUR2]]+(data[[#This Row],[Début Dim ou Férié]]="oui")*data[[#This Row],[JOUR1]],0) -> 0 | W9: =MAX(0,IF(data[[#This Row],[Garde / Interv.]]="Intervention",data[[#This Row],[NUIT1.1]]+data[[#This Row],[NUIT1.2]]+data[[#This Row],[NUIT2.1]]+data[[#This Row],[NUIT2.2]],0)) -> 0
A10: 43272 | B10: =IF(data[[#This Row],[Hdébut garde]]<>"","Garde",IF(data[[#This Row],[Hdébut corrigé]]<>"","Intervention","")) -> Garde | E10: 0.33333333 | F10: 0.33333333 | I10: =IF(data[[#This Row],[Hdébut garde]]<>"", data[[#This Row],[Hdébut garde]], data[[#This Row],[Hdébut interv.]]+IF(data[[#This Row],[Hdébut interv.]]<SUMPRODUCT((data[Date]=data[[#This Row],[Date]])*data[Hdébut garde]),1,0) ) -> 0.33333333 | J10: =IF(data[[#This Row],[Hfin garde]]<>"", data[[#This Row],[Hfin garde]]+IF(data[[#This Row],[Hfin garde]]<=data[[#This Row],[Hdébut garde]],1,0), IF(data[[#This Row],[Hfin Interv.]]="",0, data[[#This Row],[Hfin Interv.]] +IF(data[[#This Row],[Hfin Interv.]]>data[[#This Row],[Hdébut interv.]],0,1)) +IF(data[[#This Row],[Hdébut interv.]]<SUMPRODUCT((data[Date]=data[[#This Row],[Date]])*data[Hdébut garde]),1,0) ) -> 1.3333333 | K10: =IF(OR(WEEKDAY(data[[#This Row],[Date]],2)=7,COUNTIF(JF,data[[#This Row],[Date]])=1),"oui","non") -> non | L10: =MAX(0,(MIN(1,data[[#This Row],[Hfin corrigée]])-data[[#This Row],[Hdébut corrigé]])-data[[#This Row],[NUIT1.1]]-data[[#This Row],[NUIT1.2]]) -> 0.58333333 | M10: =IF(data[[#This Row],[Hfin Interv.]]="",0,( MIN(FinNuit,MIN(1,data[[#This Row],[Hfin corrigée]]))-MIN(FinNuit,data[[#This Row],[Hdébut corrigé]]) )) -> 0 | N10: =MAX(0,(MAX(0,(MIN(1,data[[#This Row],[Hfin corrigée]])-DebNuit))-MAX(0,(data[[#This Row],[Hdébut corrigé]]-DebNuit)))) -> 0.083333333 | O10: =IF(OR(WEEKDAY(data[[#This Row],[Date]]+data[[#This Row],[Hfin corrigée]],2)=7,COUNTIF(JF,INT(data[[#This Row],[Date]]+data[[#This Row],[Hfin corrigée]]))=1),"oui","non") -> non | P10: =MAX(0,data[[#This Row],[Hfin corrigée]]-MAX(1,data[[#This Row],[Hdébut corrigé]]))-data[[#This Row],[NUIT2.1]]-data[[#This Row],[NUIT2.2]] -> 0.041666667 | Q10: =MAX(0,MIN(1+FinNuit,data[[#This Row],[Hfin corrigée]])-MAX(1,data[[#This Row],[Hdébut corrigé]])) -> 0.29166667 | R10: =MAX(0,(data[[#This Row],[Hfin corrigée]]-DebNuit-1)) -> 0 | S10: =IF(data[[#This Row],[Garde / Interv.]]="Intervention",MAX(0,data[[#This Row],[Hfin corrigée]]-SUMPRODUCT((data[Date]=data[[#This Row],[Date]])*(data[Garde / Interv.]="Garde")*data[Hfin corrigée])),0) -> 0 | T10: =MAX(0,IF(data[[#This Row],[Garde / Interv.]]="Garde",data[[#This Row],[Hfin corrigée]]-data[[#This Row],[Hdébut corrigé]]+SUMPRODUCT((data[Date]=data[[#This Row],[Date]])*data[Interv. hors poste])-SUMPRODUCT((data[Date]=data[[#This Row],[Date]])*(data[[Durée interv. jour]:[Durée interv. nuit]])),0)) -> 1 | U10: =MAX(0,IF(data[[#This Row],[Garde / Interv.]]="Intervention",(data[[#This Row],[Fin Dim ou Férié]]="non")*data[[#This Row],[JOUR2]]+(data[[#This Row],[Début Dim ou Férié]]="non")*data[[#This Row],[JOUR1]],0)) -> 0 | V10: =IF(data[[#This Row],[Garde / Interv.]]="Intervention",(data[[#This Row],[Fin Dim ou Férié]]="oui")*data[[#This Row],[JOUR2]]+(data[[#This Row],[Début Dim ou Férié]]="oui")*data[[#This Row],[JOUR1]],0) -> 0 | W10: =MAX(0,IF(data[[#This Row],[Garde / Interv.]]="Intervention",data[[#This Row],[NUIT1.1]]+data[[#This Row],[NUIT1.2]]+data[[#This Row],[NUIT2.1]]+data[[#This Row],[NUIT2.2]],0)) -> 0
B11: =IF(data[[#This Row],[Hdébut garde]]<>"","Garde",IF(data[[#This Row],[Hdébut corrigé]]<>"","Intervention","")) -> Intervention | I11: =IF(data[[#This Row],[Hdébut garde]]<>"", data[[#This Row],[Hdébut garde]], data[[#This Row],[Hdébut interv.]]+IF(data[[#This Row],[Hdébut interv.]]<SUMPRODUCT((data[Date]=data[[#This Row],[Date]])*data[Hdébut garde]),1,0) ) -> 0 | J11: =IF(data[[#This Row],[Hfin garde]]<>"", data[[#This Row],[Hfin garde]]+IF(data[[#This Row],[Hfin garde]]<=data[[#This Row],[Hdébut garde]],1,0), IF(data[[#This Row],[Hfin Interv.]]="",0, data[[#This Row],[Hfin Interv.]] +IF(data[[#This Row],[Hfin Interv.]]>data[[#This Row],[Hdébut interv.]],0,1)) +IF(data[[#This Row],[Hdébut interv.]]<SUMPRODUCT((data[Date]=data[[#This Row],[Date]])*data[Hdébut garde]),1,0) ) -> 0 | K11: =IF(OR(WEEKDAY(data[[#This Row],[Date]],2)=7,COUNTIF(JF,data[[#This Row],[Date]])=1),"oui","non") -> non | L11: =MAX(0,(MIN(1,data[[#This Row],[Hfin corrigée]])-data[[#This Row],[Hdébut corrigé]])-data[[#This Row],[NUIT1.1]]-data[[#This Row],[NUIT1.2]]) -> 0 | M11: =IF(data[[#This Row],[Hfin Interv.]]="",0,( MIN(FinNuit,MIN(1,data[[#This Row],[Hfin corrigée]]))-MIN(FinNuit,data[[#This Row],[Hdébut corrigé]]) )) -> 0 | N11: =MAX(0,(MAX(0,(MIN(1,data[[#This Row],[Hfin corrigée]])-DebNuit))-MAX(0,(data[[#This Row],[Hdébut corrigé]]-DebNuit)))) -> 0 | O11: =IF(OR(WEEKDAY(data[[#This Row],[Date]]+data[[#This Row],[Hfin corrigée]],2)=7,COUNTIF(JF,INT(data[[#This Row],[Date]]+data[[#This Row],[Hfin corrigée]]))=1),"oui","non") -> non | P11: =MAX(0,data[[#This Row],[Hfin corrigée]]-MAX(1,data[[#This Row],[Hdébut corrigé]]))-data[[#This Row],[NUIT2.1]]-data[[#This Row],[NUIT2.2]] -> 0 | Q11: =MAX(0,MIN(1+FinNuit,data[[#This Row],[Hfin corrigée]])-MAX(1,data[[#This Row],[Hdébut corrigé]])) -> 0 | R11: =MAX(0,(data[[#This Row],[Hfin corrigée]]-DebNuit-1)) -> 0 | S11: =IF(data[[#This Row],[Garde / Interv.]]="Intervention",MAX(0,data[[#This Row],[Hfin corrigée]]-SUMPRODUCT((data[Date]=data[[#This Row],[Date]])*(data[Garde / Interv.]="Garde")*data[Hfin corrigée])),0) -> 0 | T11: =MAX(0,IF(data[[#This Row],[Garde / Interv.]]="Garde",data[[#This Row],[Hfin corrigée]]-data[[#This Row],[Hdébut corrigé]]+SUMPRODUCT((data[Date]=data[[#This Row],[Date]])*data[Interv. hors poste])-SUMPRODUCT((data[Date]=data[[#This Row],[Date]])*(data[[Durée interv. jour]:[Durée interv. nuit]])),0)) -> 0 | U11: =MAX(0,IF(data[[#This Row],[Garde / Interv.]]="Intervention",(data[[#This Row],[Fin Dim ou Férié]]="non")*data[[#This Row],[JOUR2]]+(data[[#This Row],[Début Dim ou Férié]]="non")*data[[#This Row],[JOUR1]],0)) -> 0 | V11: =IF(data[[#This Row],[Garde / Interv.]]="Intervention",(data[[#This Row],[Fin Dim ou Férié]]="oui")*data[[#This Row],[JOUR2]]+(data[[#This Row],[Début Dim ou Férié]]="oui")*data[[#This Row],[JOUR1]],0) -> 0 | W11: =MAX(0,IF(data[[#This Row],[Garde / Interv.]]="Intervention",data[[#This Row],[NUIT1.1]]+data[[#This Row],[NUIT1.2]]+data[[#This Row],[NUIT2.1]]+data[[#This Row],[NUIT2.2]],0)) -> 0
A12: 43279 | B12: =IF(data[[#This Row],[Hdébut garde]]<>"","Garde",IF(data[[#This Row],[Hdébut corrigé]]<>"","Intervention","")) -> Garde | E12: 0.33333333 | F12: 0.33333333 | I12: =IF(data[[#This Row],[Hdébut garde]]<>"", data[[#This Row],[Hdébut garde]], data[[#This Row],[Hdébut interv.]]+IF(data[[#This Row],[Hdébut interv.]]<SUMPRODUCT((data[Date]=data[[#This Row],[Date]])*data[Hdébut garde]),1,0) ) -> 0.33333333 | J12: =IF(data[[#This Row],[Hfin garde]]<>"", data[[#This Row],[Hfin garde]]+IF(data[[#This Row],[Hfin garde]]<=data[[#This Row],[Hdébut garde]],1,0), IF(data[[#This Row],[Hfin Interv.]]="",0, data[[#This Row],[Hfin Interv.]] +IF(data[[#This Row],[Hfin Interv.]]>data[[#This Row],[Hdébut interv.]],0,1)) +IF(data[[#This Row],[Hdébut interv.]]<SUMPRODUCT((data[Date]=data[[#This Row],[Date]])*data[Hdébut garde]),1,0) ) -> 1.3333333 | K12: =IF(OR(WEEKDAY(data[[#This Row],[Date]],2)=7,COUNTIF(JF,data[[#This Row],[Date]])=1),"oui","non") -> non | L12: =MAX(0,(MIN(1,data[[#This Row],[Hfin corrigée]])-data[[#This Row],[Hdébut corrigé]])-data[[#This Row],[NUIT1.1]]-data[[#This Row],[NUIT1.2]]) -> 0.58333333 | M12: =IF(data[[#This Row],[Hfin Interv.]]="",0,( MIN(FinNuit,MIN(1,data[[#This Row],[Hfin corrigée]]))-MIN(FinNuit,data[[#This Row],[Hdébut corrigé]]) )) -> 0 | N12: =MAX(0,(MAX(0,(MIN(1,data[[#This Row],[Hfin corrigée]])-DebNuit))-MAX(0,(data[[#This Row],[Hdébut corrigé]]-DebNuit)))) -> 0.083333333 | O12: =IF(OR(WEEKDAY(data[[#This Row],[Date]]+data[[#This Row],[Hfin corrigée]],2)=7,COUNTIF(JF,INT(data[[#This Row],[Date]]+data[[#This Row],[Hfin corrigée]]))=1),"oui","non") -> non | P12: =MAX(0,data[[#This Row],[Hfin corrigée]]-MAX(1,data[[#This Row],[Hdébut corrigé]]))-data[[#This Row],[NUIT2.1]]-data[[#This Row],[NUIT2.2]] -> 0.041666667 | Q12: =MAX(0,MIN(1+FinNuit,data[[#This Row],[Hfin corrigée]])-MAX(1,data[[#This Row],[Hdébut corrigé]])) -> 0.29166667 | R12: =MAX(0,(data[[#This Row],[Hfin corrigée]]-DebNuit-1)) -> 0 | S12: =IF(data[[#This Row],[Garde / Interv.]]="Intervention",MAX(0,data[[#This Row],[Hfin corrigée]]-SUMPRODUCT((data[Date]=data[[#This Row],[Date]])*(data[Garde / Interv.]="Garde")*data[Hfin corrigée])),0) -> 0 | T12: =MAX(0,IF(data[[#This Row],[Garde / Interv.]]="Garde",data[[#This Row],[Hfin corrigée]]-data[[#This Row],[Hdébut corrigé]]+SUMPRODUCT((data[Date]=data[[#This Row],[Date]])*data[Interv. hors poste])-SUMPRODUCT((data[Date]=data[[#This Row],[Date]])*(data[[Durée interv. jour]:[Durée interv. nuit]])),0)) -> 0.875 | U12: =MAX(0,IF(data[[#This Row],[Garde / Interv.]]="Intervention",(data[[#This Row],[Fin Dim ou Férié]]="non")*data[[#This Row],[JOUR2]]+(data[[#This Row],[Début Dim ou Férié]]="non")*data[[#This Row],[JOUR1]],0)) -> 0 | V12: =IF(data[[#This Row],[Garde / Interv.]]="Intervention",(data[[#This Row],[Fin Dim ou Férié]]="oui")*data[[#This Row],[JOUR2]]+(data[[#This Row],[Début Dim ou Férié]]="oui")*data[[#This Row],[JOUR1]],0) -> 0 | W12: =MAX(0,IF(data[[#This Row],[Garde / Interv.]]="Intervention",data[[#This Row],[NUIT1.1]]+data[[#This Row],[NUIT1.2]]+data[[#This Row],[NUIT2.1]]+data[[#This Row],[NUIT2.2]],0)) -> 0
A13: 43279 | B13: =IF(data[[#This Row],[Hdébut garde]]<>"","Garde",IF(data[[#This Row],[Hdébut corrigé]]<>"","Intervention","")) -> Intervention | C13: VSAV | G13: 0.83333333 | H13: 0.95833333 | I13: =IF(data[[#This Row],[Hdébut garde]]<>"", data[[#This Row],[Hdébut garde]], data[[#This Row],[Hdébut interv.]]+IF(data[[#This Row],[Hdébut interv.]]<SUMPRODUCT((data[Date]=data[[#This Row],[Date]])*data[Hdébut garde]),1,0) ) -> 0.83333333 | J13: =IF(data[[#This Row],[Hfin garde]]<>"", data[[#This Row],[Hfin garde]]+IF(data[[#This Row],[Hfin garde]]<=data[[#This Row],[Hdébut garde]],1,0), IF(data[[#This Row],[Hfin Interv.]]="",0, data[[#This Row],[Hfin Interv.]] +IF(data[[#This Row],[Hfin Interv.]]>data[[#This Row],[Hdébut interv.]],0,1)) +IF(data[[#This Row],[Hdébut interv.]]<SUMPRODUCT((data[Date]=data[[#This Row],[Date]])*data[Hdébut garde]),1,0) ) -> 0.95833333 | K13: =IF(OR(WEEKDAY(data[[#This Row],[Date]],2)=7,COUNTIF(JF,data[[#This Row],[Date]])=1),"oui","non") -> non | L13: =MAX(0,(MIN(1,data[[#This Row],[Hfin corrigée]])-data[[#This Row],[Hdébut corrigé]])-data[[#This Row],[NUIT1.1]]-data[[#This Row],[NUIT1.2]]) -> 0.083333333 | M13: =IF(data[[#This Row],[Hfin Interv.]]="",0,( MIN(FinNuit,MIN(1,data[[#This Row],[Hfin corrigée]]))-MIN(FinNuit,data[[#This Row],[Hdébut corrigé]]) )) -> 0 | N13: =MAX(0,(MAX(0,(MIN(1,data[[#This Row],[Hfin corrigée]])-DebNuit))-MAX(0,(data[[#This Row],[Hdébut corrigé]]-DebNuit)))) -> 0.041666667 | O13: =IF(OR(WEEKDAY(data[[#This Row],[Date]]+data[[#This Row],[Hfin corrigée]],2)=7,COUNTIF(JF,INT(data[[#This Row],[Date]]+data[[#This Row],[Hfin corrigée]]))=1),"oui","non") -> non | P13: =MAX(0,data[[#This Row],[Hfin corrigée]]-MAX(1,data[[#This Row],[Hdébut corrigé]]))-data[[#This Row],[NUIT2.1]]-data[[#This Row],[NUIT2.2]] -> 0 | Q13: =MAX(0,MIN(1+FinNuit,data[[#This Row],[Hfin corrigée]])-MAX(1,data[[#This Row],[Hdébut corrigé]])) -> 0 | R13: =MAX(0,(data[[#This Row],[Hfin corrigée]]-DebNuit-1)) -> 0 | S13: =IF(data[[#This Row],[Garde / Interv.]]="Intervention",MAX(0,data[[#This Row],[Hfin corrigée]]-SUMPRODUCT((data[Date]=data[[#This Row],[Date]])*(data[Garde / Interv.]="Garde")*data[Hfin corrigée])),0) -> 0 | T13: =MAX(0,IF(data[[#This Row],[Garde / Interv.]]="Garde",data[[#This Row],[Hfin corrigée]]-data[[#This Row],[Hdébut corrigé]]+SUMPRODUCT((data[Date]=data[[#This Row],[Date]])*data[Interv. hors poste])-SUMPRODUCT((data[Date]=data[[#This Row],[Date]])*(data[[Durée interv. jour]:[Durée interv. nuit]])),0)) -> 0 | U13: =MAX(0,IF(data[[#This Row],[Garde / Interv.]]="Intervention",(data[[#This Row],[Fin Dim ou Férié]]="non")*data[[#This Row],[JOUR2]]+(data[[#This Row],[Début Dim ou Férié]]="non")*data[[#This Row],[JOUR1]],0)) -> 0.083333333 | V13: =IF(data[[#This Row],[Garde / Interv.]]="Intervention",(data[[#This Row],[Fin Dim ou Férié]]="oui")*data[[#This Row],[JOUR2]]+(data[[#This Row],[Début Dim ou Férié]]="oui")*data[[#This Row],[JOUR1]],0) -> 0 | W13: =MAX(0,IF(data[[#This Row],[Garde / Interv.]]="Intervention",data[[#This Row],[NUIT1.1]]+data[[#This Row],[NUIT1.2]]+data[[#This Row],[NUIT2.1]]+data[[#This Row],[NUIT2.2]],0)) -> 0.041666667

Sheet Test sur jour nuit
A1: Hdébut corrigé | B1: Hfin corrigée | C1: JOUR1 | D1: NUIT1.1 | E1: NUIT1.2 | F1: JOUR2 | G1: NUIT2.1 | H1: NUIT2.2
A2: 0.16666667 | B2: 0.20833333 | C2: =MAX(0,(MIN(1,test[[#This Row],[Hfin corrigée]])-test[[#This Row],[Hdébut corrigé]])-test[[#This Row],[NUIT1.1]]-test[[#This Row],[NUIT1.2]]) -> 0 | D2: =MIN(FinNuit,MIN(1,test[[#This Row],[Hfin corrigée]]))-MIN(FinNuit,test[[#This Row],[Hdébut corrigé]]) -> 0.041666667 | E2: =MAX(0,(MAX(0,(MIN(1,test[[#This Row],[Hfin corrigée]])-DebNuit))-MAX(0,(test[[#This Row],[Hdébut corrigé]]-DebNuit)))) -> 0 | F2: =MAX(0,test[[#This Row],[Hfin corrigée]]-MAX(1,test[[#This Row],[Hdébut corrigé]]))-test[[#This Row],[NUIT2.1]]-test[[#This Row],[NUIT2.2]] -> 0 | G2: =MAX(0,MIN(1+FinNuit,test[[#This Row],[Hfin corrigée]])-MAX(1,test[[#This Row],[Hdébut corrigé]])) -> 0 | H2: =MAX(0,(test[[#This Row],[Hfin corrigée]]-DebNuit-1)) -> 0
A3: 0.16666667 | B3: 0.375 | C3: =MAX(0,(MIN(1,test[[#This Row],[Hfin corrigée]])-test[[#This Row],[Hdébut corrigé]])-test[[#This Row],[NUIT1.1]]-test[[#This Row],[NUIT1.2]]) -> 0.083333333 | D3: =MIN(FinNuit,MIN(1,test[[#This Row],[Hfin corrigée]]))-MIN(FinNuit,test[[#This Row],[Hdébut corrigé]]) -> 0.125 | E3: =MAX(0,(MAX(0,(MIN(1,test[[#This Row],[Hfin corrigée]])-DebNuit))-MAX(0,(test[[#This Row],[Hdébut corrigé]]-DebNuit)))) -> 0 | F3: =MAX(0,test[[#This Row],[Hfin corrigée]]-MAX(1,test[[#This Row],[Hdébut corrigé]]))-test[[#This Row],[NUIT2.1]]-test[[#This Row],[NUIT2.2]] -> 0 | G3: =MAX(0,MIN(1+FinNuit,test[[#This Row],[Hfin corrigée]])-MAX(1,test[[#This Row],[Hdébut corrigé]])) -> 0 | H3: =MAX(0,(test[[#This Row],[Hfin corrigée]]-DebNuit-1)) -> 0
A4: 0.16666667 | B4: 0.75 | C4: =MAX(0,(MIN(1,test[[#This Row],[Hfin corrigée]])-test[[#This Row],[Hdébut corrigé]])-test[[#This Row],[NUIT1.1]]-test[[#This Row],[NUIT1.2]]) -> 0.45833333 | D4: =MIN(FinNuit,MIN(1,test[[#This Row],[Hfin corrigée]]))-MIN(FinNuit,test[[#This Row],[Hdébut corrigé]]) -> 0.125 | E4: =MAX(0,(MAX(0,(MIN(1,test[[#This Row],[Hfin corrigée]])-DebNuit))-MAX(0,(test[[#This Row],[Hdébut corrigé]]-DebNuit)))) -> 0 | F4: =MAX(0,test[[#This Row],[Hfin corrigée]]-MAX(1,test[[#This Row],[Hdébut corrigé]]))-test[[#This Row],[NUIT2.1]]-test[[#This Row],[NUIT2.2]] -> 0 | G4: =MAX(0,MIN(1+FinNuit,test[[#This Row],[Hfin corrigée]])-MAX(1,test[[#This Row],[Hdébut corrigé]])) -> 0 | H4: =MAX(0,(test[[#This Row],[Hfin corrigée]]-DebNuit-1)) -> 0
A5: 0.33333333 | B5: 0.95833333 | C5: =MAX(0,(MIN(1,test[[#This Row],[Hfin corrigée]])-test[[#This Row],[Hdébut corrigé]])-test[[#This Row],[NUIT1.1]]-test[[#This Row],[NUIT1.2]]) -> 0.58333333 | D5: =MIN(FinNuit,MIN(1,test[[#This Row],[Hfin corrigée]]))-MIN(FinNuit,test[[#This Row],[Hdébut corrigé]]) -> 0 | E5: =MAX(0,(MAX(0,(MIN(1,test[[#This Row],[Hfin corrigée]])-DebNuit))-MAX(0,(test[[#This Row],[Hdébut corrigé]]-DebNuit)))) -> 0.041666667 | F5: =MAX(0,test[[#This Row],[Hfin corrigée]]-MAX(1,test[[#This Row],[Hdébut corrigé]]))-test[[#This Row],[NUIT2.1]]-test[[#This Row],[NUIT2.2]] -> 0 | G5: =MAX(0,MIN(1+FinNuit,test[[#This Row],[Hfin corrigée]])-MAX(1,test[[#This Row],[Hdébut corrigé]])) -> 0 | H5: =MAX(0,(test[[#This Row],[Hfin corrigée]]-DebNuit-1)) -> 0
A6: 1.0416667 | B6: 1.3333333 | C6: =MAX(0,(MIN(1,test[[#This Row],[Hfin corrigée]])-test[[#This Row],[Hdébut corrigé]])-test[[#This Row],[NUIT1.1]]-test[[#This Row],[NUIT1.2]]) -> 0 | D6: =MIN(FinNuit,MIN(1,test[[#This Row],[Hfin corrigée]]))-MIN(FinNuit,test[[#This Row],[Hdébut corrigé]]) -> 0 | E6: =MAX(0,(MAX(0,(MIN(1,test[[#This Row],[Hfin corrigée]])-DebNuit))-MAX(0,(test[[#This Row],[Hdébut corrigé]]-DebNuit)))) -> 0 | F6: =MAX(0,test[[#This Row],[Hfin corrigée]]-MAX(1,test[[#This Row],[Hdébut corrigé]]))-test[[#This Row],[NUIT2.1]]-test[[#This Row],[NUIT2.2]] -> 0.041666667 | G6: =MAX(0,MIN(1+FinNuit,test[[#This Row],[Hfin corrigée]])-MAX(1,test[[#This Row],[Hdébut corrigé]])) -> 0.25 | H6: =MAX(0,(test[[#This Row],[Hfin corrigée]]-DebNuit-1)) -> 0
A7: 0.16666667 | B7: 0.95833333 | C7: =MAX(0,(MIN(1,test[[#This Row],[Hfin corrigée]])-test[[#This Row],[Hdébut corrigé]])-test[[#This Row],[NUIT1.1]]-test[[#This Row],[NUIT1.2]]) -> 0.625 | D7: =MIN(FinNuit,MIN(1,test[[#This Row],[Hfin corrigée]]))-MIN(FinNuit,test[[#This Row],[Hdébut corrigé]]) -> 0.125 | E7: =MAX(0,(MAX(0,(MIN(1,test[[#This Row],[Hfin corrigée]])-DebNuit))-MAX(0,(test[[#This Row],[Hdébut corrigé]]-DebNuit)))) -> 0.041666667 | F7: =MAX(0,test[[#This Row],[Hfin corrigée]]-MAX(1,test[[#This Row],[Hdébut corrigé]]))-test[[#This Row],[NUIT2.1]]-test[[#This Row],[NUIT2.2]] -> 0 | G7: =MAX(0,MIN(1+FinNuit,test[[#This Row],[Hfin corrigée]])-MAX(1,test[[#This Row],[Hdébut corrigé]])) -> 0 | H7: =MAX(0,(test[[#This Row],[Hfin corrigée]]-DebNuit-1)) -> 0
A8: 0.5 | B8: 1.6666667 | C8: =MAX(0,(MIN(1,test[[#This Row],[Hfin corrigée]])-test[[#This Row],[Hdébut corrigé]])-test[[#This Row],[NUIT1.1]]-test[[#This Row],[NUIT1.2]]) -> 0.41666667 | D8: =MIN(FinNuit,MIN(1,test[[#This Row],[Hfin corrigée]]))-MIN(FinNuit,test[[#This Row],[Hdébut corrigé]]) -> 0 | E8: =MAX(0,(MAX(0,(MIN(1,test[[#This Row],[Hfin corrigée]])-DebNuit))-MAX(0,(test[[#This Row],[Hdébut corrigé]]-DebNuit)))) -> 0.083333333 | F8: =MAX(0,test[[#This Row],[Hfin corrigée]]-MAX(1,test[[#This Row],[Hdébut corrigé]]))-test[[#This Row],[NUIT2.1]]-test[[#This Row],[NUIT2.2]] -> 0.375 | G8: =MAX(0,MIN(1+FinNuit,test[[#This Row],[Hfin corrigée]])-MAX(1,test[[#This Row],[Hdébut corrigé]])) -> 0.29166667 | H8: =MAX(0,(test[[#This Row],[Hfin corrigée]]-DebNuit-1)) -> 0
A9: 0 | B9: 2 | C9: =MAX(0,(MIN(1,test[[#This Row],[Hfin corrigée]])-test[[#This Row],[Hdébut corrigé]])-test[[#This Row],[NUIT1.1]]-test[[#This Row],[NUIT1.2]]) -> 0.625 | D9: =MIN(FinNuit,MIN(1,test[[#This Row],[Hfin corrigée]]))-MIN(FinNuit,test[[#This Row],[Hdébut corrigé]]) -> 0.29166667 | E9: =MAX(0,(MAX(0,(MIN(1,test[[#This Row],[Hfin corrigée]])-DebNuit))-MAX(0,(test[[#This Row],[Hdébut corrigé]]-DebNuit)))) -> 0.083333333 | F9: =MAX(0,test[[#This Row],[Hfin corrigée]]-MAX(1,test[[#This Row],[Hdébut corrigé]]))-test[[#This Row],[NUIT2.1]]-test[[#This Row],[NUIT2.2]] -> 0.625 | G9: =MAX(0,MIN(1+FinNuit,test[[#This Row],[Hfin corrigée]])-MAX(1,test[[#This Row],[Hdébut corrigé]])) -> 0.29166667 | H9: =MAX(0,(test[[#This Row],[Hfin corrigée]]-DebNuit-1)) -> 0.083333333

Sheet Synthèse
B3: Valeurs
A4: Date | B4: Somme de Durée sans interv. | C4: Somme de Durée interv. jour | D4: Somme de Durée interv. dim ou férié | E4: Somme de Durée interv. nuit | F4: Somme de Arrondi sans interv. | G4: Somme de Arrondi interv. jour | H4: Somme de Arrondi interv. dim ou férié | I4: Somme de Arrondi interv. nuit
A5: 43239 | B5: 0.77777778 | C5: 0.055555556 | D5: 0 | E5: 0 | F5: 0.78125 | G5: 0.0625 | H5: 0 | I5: 0
A6: 43253 | B6: 0.5 | C6: 0 | D6: 0 | E6: 0 | F6: 0.5 | G6: 0 | H6: 0 | I6: 0
A7: 43258 | B7: 1 | C7: 0 | D7: 0 | E7: 0 | F7: 1 | G7: 0 | H7: 0 | I7: 0
A8: 43265 | B8: 1 | C8: 0 | D8: 0 | E8: 0 | F8: 1 | G8: 0 | H8: 0 | I8: 0
A9: 43272 | B9: 1 | C9: 0 | D9: 0 | E9: 0 | F9: 1 | G9: 0 | H9: 0 | I9: 0
A10: 43279 | B10: 0.875 | C10: 0.083333333 | D10: 0 | E10: 0.041666667 | F10: 0.875 | G10: 0.083333333 | H10: 0 | I10: 0.041666667
A11: (vide) | B11: 0 | C11: 0 | D11: 0 | E11: 0 | F11: 0 | G11: 0 | H11: 0 | I11: 0
A12: Total général | B12: 5.1527778 | C12: 0.13888889 | D12: 0 | E12: 0.041666667 | F12: 5.15625 | G12: 0.14583333 | H12: 0 | I12: 0.041666667

Sheet Calcul indemnités mensuelles
A1: année | B1: mois | C1: indemnités
A2: 2018 | B2: =TEXT(DATE(YEAR(A2),ROW()-1,1),"mmm") -> janv | C2: =IFERROR((TAUX1*GETPIVOTDATA("Somme de Arrondi sans interv.",Synthèse!$A$3,"Date",ROW()-1,"Années",$A$2)+TAUX2*GETPIVOTDATA("Somme de Arrondi interv. jour",Synthèse!$A$3,"Date",ROW()-1,"Années",$A$2)+TAUX3*GETPIVOTDATA("Somme de Arrondi interv. dim ou férié",Synthèse!$A$3,"Date",ROW()-1,"Années",$A$2)+TAUX4*GETPIVOTDATA("Somme de Arrondi interv. nuit",Synthèse!$A$3,"Date",ROW()-1,"Années",$A$2))*24,0) -> 0
B3: =TEXT(DATE(YEAR(A3),ROW()-1,1),"mmm") -> févr | C3: =IFERROR((TAUX1*GETPIVOTDATA("Somme de Arrondi sans interv.",Synthèse!$A$3,"Date",ROW()-1,"Années",$A$2)+TAUX2*GETPIVOTDATA("Somme de Arrondi interv. jour",Synthèse!$A$3,"Date",ROW()-1,"Années",$A$2)+TAUX3*GETPIVOTDATA("Somme de Arrondi interv. dim ou férié",Synthèse!$A$3,"Date",ROW()-1,"Années",$A$2)+TAUX4*GETPIVOTDATA("Somme de Arrondi interv. nuit",Synthèse!$A$3,"Date",ROW()-1,"Années",$A$2))*24,0) -> 0
B4: =TEXT(DATE(YEAR(A4),ROW()-1,1),"mmm") -> mars | C4: =IFERROR((TAUX1*GETPIVOTDATA("Somme de Arrondi sans interv.",Synthèse!$A$3,"Date",ROW()-1,"Années",$A$2)+TAUX2*GETPIVOTDATA("Somme de Arrondi interv. jour",Synthèse!$A$3,"Date",ROW()-1,"Années",$A$2)+TAUX3*GETPIVOTDATA("Somme de Arrondi interv. dim ou férié",Synthèse!$A$3,"Date",ROW()-1,"Années",$A$2)+TAUX4*GETPIVOTDATA("Somme de Arrondi interv. nuit",Synthèse!$A$3,"Date",ROW()-1,"Années",$A$2))*24,0) -> 0
B5: =TEXT(DATE(YEAR(A5),ROW()-1,1),"mmm") -> avr | C5: =IFERROR((TAUX1*GETPIVOTDATA("Somme de Arrondi sans interv.",Synthèse!$A$3,"Date",ROW()-1,"Années",$A$2)+TAUX2*GETPIVOTDATA("Somme de Arrondi interv. jour",Synthèse!$A$3,"Date",ROW()-1,"Années",$A$2)+TAUX3*GETPIVOTDATA("Somme de Arrondi interv. dim ou férié",Synthèse!$A$3,"Date",ROW()-1,"Années",$A$2)+TAUX4*GETPIVOTDATA("Somme de Arrondi interv. nuit",Synthèse!$A$3,"Date",ROW()-1,"Années",$A$2))*24,0) -> 0
B6: =TEXT(DATE(YEAR(A6),ROW()-1,1),"mmm") -> mai | C6: =IFERROR((TAUX1*GETPIVOTDATA("Somme de Arrondi sans interv.",Synthèse!$A$3,"Date",ROW()-1,"Années",$A$2)+TAUX2*GETPIVOTDATA("Somme de Arrondi interv. jour",Synthèse!$A$3,"Date",ROW()-1,"Années",$A$2)+TAUX3*GETPIVOTDATA("Somme de Arrondi interv. dim ou férié",Synthèse!$A$3,"Date",ROW()-1,"Années",$A$2)+TAUX4*GETPIVOTDATA("Somme de Arrondi interv. nuit",Synthèse!$A$3,"Date",ROW()-1,"Années",$A$2))*24,0) -> 0
B7: =TEXT(DATE(YEAR(A7),ROW()-1,1),"mmm") -> juin | C7: =IFERROR((TAUX1*GETPIVOTDATA("Somme de Arrondi sans interv.",Synthèse!$A$3,"Date",ROW()-1,"Années",$A$2)+TAUX2*GETPIVOTDATA("Somme de Arrondi interv. jour",Synthèse!$A$3,"Date",ROW()-1,"Années",$A$2)+TAUX3*GETPIVOTDATA("Somme de Arrondi interv. dim ou férié",Synthèse!$A$3,"Date",ROW()-1,"Années",$A$2)+TAUX4*GETPIVOTDATA("Somme de Arrondi interv. nuit",Synthèse!$A$3,"Date",ROW()-1,"Années",$A$2))*24,0) -> 0
B8: =TEXT(DATE(YEAR(A8),ROW()-1,1),"mmm") -> juil | C8: =IFERROR((TAUX1*GETPIVOTDATA("Somme de Arrondi sans interv.",Synthèse!$A$3,"Date",ROW()-1,"Années",$A$2)+TAUX2*GETPIVOTDATA("Somme de Arrondi interv. jour",Synthèse!$A$3,"Date",ROW()-1,"Années",$A$2)+TAUX3*GETPIVOTDATA("Somme de Arrondi interv. dim ou férié",Synthèse!$A$3,"Date",ROW()-1,"Années",$A$2)+TAUX4*GETPIVOTDATA("Somme de Arrondi interv. nuit",Synthèse!$A$3,"Date",ROW()-1,"Années",$A$2))*24,0) -> 0
B9: =TEXT(DATE(YEAR(A9),ROW()-1,1),"mmm") -> août | C9: =IFERROR((TAUX1*GETPIVOTDATA("Somme de Arrondi sans interv.",Synthèse!$A$3,"Date",ROW()-1,"Années",$A$2)+TAUX2*GETPIVOTDATA("Somme de Arrondi interv. jour",Synthèse!$A$3,"Date",ROW()-1,"Années",$A$2)+TAUX3*GETPIVOTDATA("Somme de Arrondi interv. dim ou férié",Synthèse!$A$3,"Date",ROW()-1,"Années",$A$2)+TAUX4*GETPIVOTDATA("Somme de Arrondi interv. nuit",Synthèse!$A$3,"Date",ROW()-1,"Années",$A$2))*24,0) -> 0
B10: =TEXT(DATE(YEAR(A10),ROW()-1,1),"mmm") -> sept | C10: =IFERROR((TAUX1*GETPIVOTDATA("Somme de Arrondi sans interv.",Synthèse!$A$3,"Date",ROW()-1,"Années",$A$2)+TAUX2*GETPIVOTDATA("Somme de Arrondi interv. jour",Synthèse!$A$3,"Date",ROW()-1,"Années",$A$2)+TAUX3*GETPIVOTDATA("Somme de Arrondi interv. dim ou férié",Synthèse!$A$3,"Date",ROW()-1,"Années",$A$2)+TAUX4*GETPIVOTDATA("Somme de Arrondi interv. nuit",Synthèse!$A$3,"Date",ROW()-1,"Années",$A$2))*24,0) -> 0
B11: =TEXT(DATE(YEAR(A11),ROW()-1,1),"mmm") -> oct | C11: =IFERROR((TAUX1*GETPIVOTDATA("Somme de Arrondi sans interv.",Synthèse!$A$3,"Date",ROW()-1,"Années",$A$2)+TAUX2*GETPIVOTDATA("Somme de Arrondi interv. jour",Synthèse!$A$3,"Date",ROW()-1,"Années",$A$2)+TAUX3*GETPIVOTDATA("Somme de Arrondi interv. dim ou férié",Synthèse!$A$3,"Date",ROW()-1,"Années",$A$2)+TAUX4*GETPIVOTDATA("Somme de Arrondi interv. nuit",Synthèse!$A$3,"Date",ROW()-1,"Années",$A$2))*24,0) -> 0
B12: =TEXT(DATE(YEAR(A12),ROW()-1,1),"mmm") -> nov | C12: =IFERROR((TAUX1*GETPIVOTDATA("Somme de Arrondi sans interv.",Synthèse!$A$3,"Date",ROW()-1,"Années",$A$2)+TAUX2*GETPIVOTDATA("Somme de Arrondi interv. jour",Synthèse!$A$3,"Date",ROW()-1,"Années",$A$2)+TAUX3*GETPIVOTDATA("Somme de Arrondi interv. dim ou férié",Synthèse!$A$3,"Date",ROW()-1,"Années",$A$2)+TAUX4*GETPIVOTDATA("Somme de Arrondi interv. nuit",Synthèse!$A$3,"Date",ROW()-1,"Années",$A$2))*24,0) -> 0
B13: =TEXT(DATE(YEAR(A13),ROW()-1,1),"mmm") -> déc | C13: =IFERROR((TAUX1*GETPIVOTDATA("Somme de Arrondi sans interv.",Synthèse!$A$3,"Date",ROW()-1,"Années",$A$2)+TAUX2*GETPIVOTDATA("Somme de Arrondi interv. jour",Synthèse!$A$3,"Date",ROW()-1,"Années",$A$2)+TAUX3*GETPIVOTDATA("Somme de Arrondi interv. dim ou férié",Synthèse!$A$3,"Date",ROW()-1,"Années",$A$2)+TAUX4*GETPIVOTDATA("Somme de Arrondi interv. nuit",Synthèse!$A$3,"Date",ROW()-1,"Années",$A$2))*24,0) -> 0
B14: Total | C14: =SUM(C2:C13) -> 0

Sheet Jours Fériés
A1: Jours fériés | B1: 2018 | C1: 2019 | D1: 2020 | E1: 2021 | F1: 2022 | G1: 2023 | H1: 2024 | I1: 2025 | J1: 2026 | K1: 2027 | L1: 2028 | M1: 2029 | N1: 2030 | O1: 2031 | P1: 2032 | Q1: 2033
A2: Premier de l'AN | B2: =DATE(B1,1,1) -> 43101 | C2: =DATE(C1,1,1) -> 43466 | D2: =DATE(D1,1,1) -> 43831 | E2: =DATE(E1,1,1) -> 44197 | F2: =DATE(F1,1,1) -> 44562 | G2: =DATE(G1,1,1) -> 44927 | H2: =DATE(H1,1,1) -> 45292 | I2: =DATE(I1,1,1) -> 45658 | ... Q2: =DATE(Q1,1,1) -> 48580
A3: Pâques | B3: =ROUND(DATE(B1,4,MOD(234-11*MOD(B1,19),30))/7,0)*7-6 -> 43191 | C3: =ROUND(DATE(C1,4,MOD(234-11*MOD(C1,19),30))/7,0)*7-6 -> 43576 | D3: =ROUND(DATE(D1,4,MOD(234-11*MOD(D1,19),30))/7,0)*7-6 -> 43933 | E3: =ROUND(DATE(E1,4,MOD(234-11*MOD(E1,19),30))/7,0)*7-6 -> 44290 | F3: =ROUND(DATE(F1,4,MOD(234-11*MOD(F1,19),30))/7,0)*7-6 -> 44668 | G3: =ROUND(DATE(G1,4,MOD(234-11*MOD(G1,19),30))/7,0)*7-6 -> 45025 | H3: =ROUND(DATE(H1,4,MOD(234-11*MOD(H1,19),30))/7,0)*7-6 -> 45382 | I3: =ROUND(DATE(I1,4,MOD(234-11*MOD(I1,19),30))/7,0)*7-6 -> 45767 | ... Q3: =ROUND(DATE(Q1,4,MOD(234-11*MOD(Q1,19),30))/7,0)*7-6 -> 48686
A4: Lundi de Pâques | B4: =B3+1 -> 43192 | C4: =C3+1 -> 43577 | D4: =D3+1 -> 43934 | E4: =E3+1 -> 44291 | F4: =F3+1 -> 44669 | G4: =G3+1 -> 45026 | H4: =H3+1 -> 45383 | I4: =I3+1 -> 45768 | ... Q4: =Q3+1 -> 48687
A5: Fête du travail | B5: =DATE(B1,5,1) -> 43221 | C5: =DATE(C1,5,1) -> 43586 | D5: =DATE(D1,5,1) -> 43952 | E5: =DATE(E1,5,1) -> 44317 | F5: =DATE(F1,5,1) -> 44682 | G5: =DATE(G1,5,1) -> 45047 | H5: =DATE(H1,5,1) -> 45413 | I5: =DATE(I1,5,1) -> 45778 | ... Q5: =DATE(Q1,5,1) -> 48700
A6: Victoire de 1945 | B6: =DATE(B1,5,8) -> 43228 | C6: =DATE(C1,5,8) -> 43593 | D6: =DATE(D1,5,8) -> 43959 | E6: =DATE(E1,5,8) -> 44324 | F6: =DATE(F1,5,8) -> 44689 | G6: =DATE(G1,5,8) -> 45054 | H6: =DATE(H1,5,8) -> 45420 | I6: =DATE(I1,5,8) -> 45785 | ... Q6: =DATE(Q1,5,8) -> 48707
A7: Ascension | B7: =B3+39 -> 43230 | C7: =C3+39 -> 43615 | D7: =D3+39 -> 43972 | E7: =E3+39 -> 44329 | F7: =F3+39 -> 44707 | G7: =G3+39 -> 45064 | H7: =H3+39 -> 45421 | I7: =I3+39 -> 45806 | ... Q7: =Q3+39 -> 48725
A8: Pentecôte | B8: =B3+50 -> 43241 | C8: =C3+50 -> 43626 | D8: =D3+50 -> 43983 | E8: =E3+50 -> 44340 | F8: =F3+50 -> 44718 | G8: =G3+50 -> 45075 | H8: =H3+50 -> 45432 | I8: =I3+50 -> 45817 | ... Q8: =Q3+50 -> 48736
A9: Fête nationale | B9: =DATE(B1,7,14) -> 43295 | C9: =DATE(C1,7,14) -> 43660 | D9: =DATE(D1,7,14) -> 44026 | E9: =DATE(E1,7,14) -> 44391 | F9: =DATE(F1,7,14) -> 44756 | G9: =DATE(G1,7,14) -> 45121 | H9: =DATE(H1,7,14) -> 45487 | I9: =DATE(I1,7,14) -> 45852 | ... Q9: =DATE(Q1,7,14) -> 48774
A10: Assomption | B10: =DATE(B1,8,15) -> 43327 | C10: =DATE(C1,8,15) -> 43692 | D10: =DATE(D1,8,15) -> 44058 | E10: =DATE(E1,8,15) -> 44423 | F10: =DATE(F1,8,15) -> 44788 | G10: =DATE(G1,8,15) -> 45153 | H10: =DATE(H1,8,15) -> 45519 | I10: =DATE(I1,8,15) -> 45884 | ... Q10: =DATE(Q1,8,15) -> 48806
A11: Toussaint | B11: =DATE(B1,11,1) -> 43405 | C11: =DATE(C1,11,1) -> 43770 | D11: =DATE(D1,11,1) -> 44136 | E11: =DATE(E1,11,1) -> 44501 | F11: =DATE(F1,11,1) -> 44866 | G11: =DATE(G1,11,1) -> 45231 | H11: =DATE(H1,11,1) -> 45597 | I11: =DATE(I1,11,1) -> 45962 | ... Q11: =DATE(Q1,11,1) -> 48884
A12: Armistice | B12: =DATE(B1,11,11) -> 43415 | C12: =DATE(C1,11,11) -> 43780 | D12: =DATE(D1,11,11) -> 44146 | E12: =DATE(E1,11,11) -> 44511 | F12: =DATE(F1,11,11) -> 44876 | G12: =DATE(G1,11,11) -> 45241 | H12: =DATE(H1,11,11) -> 45607 | I12: =DATE(I1,11,11) -> 45972 | ... Q12: =DATE(Q1,11,11) -> 48894
A13: Noël | B13: =DATE(B1,12,25) -> 43459 | C13: =DATE(C1,12,25) -> 43824 | D13: =DATE(D1,12,25) -> 44190 | E13: =DATE(E1,12,25) -> 44555 | F13: =DATE(F1,12,25) -> 44920 | G13: =DATE(G1,12,25) -> 45285 | H13: =DATE(H1,12,25) -> 45651 | I13: =DATE(I1,12,25) -> 46016 | ... Q13: =DATE(Q1,12,25) -> 48938

Sheet Paramètres
A1: Fin Nuit | B1: 0.29166667
A2: Début Nuit | B2: 0.91666667
A4: Taux sans interv. | B4: 5.74
A5: Taux interv. jour | B5: 7.66
A6: Taux interv. dim ou férié | B6: 15.32
A7: Taux interv. nuit | B7: 11.49
A9: Véhicules | B9: VSAV
B10: CCF
B11: FPTL
B12: VLOD
B13: CCGC
B14: STANDARD
