Workbook
Name DebNuit: Paramètres!$B$2
Name FinNuit: Paramètres!$B$1
Name Heures: Paramètres!$E$2:$E$1441
Name JF: 'Jours Fériés'!$B$2:$Q$13
Name Motifs: Paramètres!$B$16:$B$30
Name réponses: Paramètres!$H$2:$H$4
Name TAUX1: Paramètres!$B$4
Name TAUX2: Paramètres!$B$5
Name TAUX3: Paramètres!$B$6
Name TAUX4: Paramètres!$B$7
Name véhicule: Paramètres!$B$9:$B$14

Sheet Données
A1: Date | B1: Garde / Interv. | C1: Hdébut garde | D1: Hfin garde | E1: >24h | F1: Motif Départ | G1: Véhicule | H1: Hdébut interv. | I1: Hfin Interv. | J1: Hdébut corrigé | K1: Hfin corrigée | L1: Début Dim ou Férié | M1: JOUR1 | N1: NUIT1.1 | O1: NUIT1.2 | P1: Fin Dim ou Férié | Q1: JOUR2 | R1: NUIT2.1 | S1: NUIT2.2 | T1: Interv. hors poste | U1: Durée sans interv. | V1: Durée interv. jour | W1: Durée interv. dim ou férié | X1: Durée interv. nuit
A2: 43102 | B2: =IF(data[[#This Row],[Hdébut garde]]<>"","Garde",IF(data[[#This Row],[Hdébut corrigé]]<>"","Intervention","")) -> Garde | C2: 0.33333333 | D2: 0.33333333 | J2: =IF(data[[#This Row],[Hdébut garde]]<>"", data[[#This Row],[Hdébut garde]], data[[#This Row],[Hdébut interv.]]+IF(data[[#This Row],[Hdébut interv.]]<SUMPRODUCT((data[Date]=data[[#This Row],[Date]])*data[Hdébut garde]),1,0) ) -> 0.33333333 | K2: =IF(data[[#This Row],[Hfin garde]]<>"", data[[#This Row],[Hfin garde]]+IF(data[[#This Row],[Hfin garde]]<=data[[#This Row],[Hdébut garde]],1,0)+IF(data[[#This Row],[>24h]]<>"",1,0), IF(data[[#This Row],[Hfin Interv.]]="",0, data[[#This Row],[Hfin Interv.]] +IF(data[[#This Row],[Hfin Interv.]]>data[[#This Row],[Hdébut interv.]],0,1)) +IF(data[[#This Row],[Hdébut interv.]]<SUMPRODUCT((data[Date]=data[[#This Row],[Date]])*data[Hdébut garde]),1,0) ) -> 1.3333333 | L2: =IF(OR(WEEKDAY(data[[#This Row],[Date]],2)=7,COUNTIF(JF,data[[#This Row],[Date]])=1),"oui","non") -> non | M2: =MAX(0,(MIN(1,data[[#This Row],[Hfin corrigée]])-data[[#This Row],[Hdébut corrigé]])-data[[#This Row],[NUIT1.1]]-data[[#This Row],[NUIT1.2]]) -> 0.58333333 | N2: =IF(data[[#This Row],[Hfin Interv.]]="",0,( MIN(FinNuit,MIN(1,data[[#This Row],[Hfin corrigée]]))-MIN(FinNuit,data[[#This Row],[Hdébut corrigé]]) )) -> 0 | O2: =MAX(0,(MAX(0,(MIN(1,data[[#This Row],[Hfin corrigée]])-DebNuit))-MAX(0,(data[[#This Row],[Hdébut corrigé]]-DebNuit)))) -> 0.083333333 | P2: =IF(OR(WEEKDAY(data[[#This Row],[Date]]+data[[#This Row],[Hfin corrigée]],2)=7,COUNTIF(JF,INT(data[[#This Row],[Date]]+data[[#This Row],[Hfin corrigée]]))=1),"oui","non") -> non | Q2: =MAX(0,data[[#This Row],[Hfin corrigée]]-MAX(1,data[[#This Row],[Hdébut corrigé]]))-data[[#This Row],[NUIT2.1]]-data[[#This Row],[NUIT2.2]] -> 0.041666667 | R2: =MAX(0,MIN(1+FinNuit,data[[#This Row],[Hfin corrigée]])-MAX(1,data[[#This Row],[Hdébut corrigé]])) -> 0.29166667 | S2: =MAX(0,(data[[#This Row],[Hfin corrigée]]-DebNuit-1)) -> 0 | T2: =IF(data[[#This Row],[Garde / Interv.]]="Intervention",MAX(0,data[[#This Row],[Hfin corrigée]]-SUMPRODUCT((data[Date]=data[[#This Row],[Date]])*(data[Garde / Interv.]="Garde")*data[Hfin corrigée])),0) -> 0 | U2: =MAX(0,IF(data[[#This Row],[Garde / Interv.]]="Garde",data[[#This Row],[Hfin corrigée]]-data[[#This Row],[Hdébut corrigé]]+SUMPRODUCT((data[Date]=data[[#This Row],[Date]])*data[Interv. hors poste])-SUMPRODUCT((data[Date]=data[[#This Row],[Date]])*(data[[Durée interv. jour]:[Durée interv. nuit]])),0)) -> 0.87013889 | V2: =MAX(0,IF(data[[#This Row],[Garde / Interv.]]="Intervention",(data[[#This Row],[Fin Dim ou Férié]]="non")*data[[#This Row],[JOUR2]]+(data[[#This Row],[Début Dim ou Férié]]="non")*data[[#This Row],[JOUR1]],0)) -> 0 | W2: =IF(data[[#This Row],[Garde / Interv.]]="Intervention",(data[[#This Row],[Fin Dim ou Férié]]="oui")*data[[#This Row],[JOUR2]]+(data[[#This Row],[Début Dim ou Férié]]="oui")*data[[#This Row],[JOUR1]],0) -> 0 | X2: =MAX(0,IF(data[[#This Row],[Garde / Interv.]]="Intervention",data[[#This Row],[NUIT1.1]]+data[[#This Row],[NUIT1.2]]+data[[#This Row],[NUIT2.1]]+data[[#This Row],[NUIT2.2]],0)) -> 0
A3: 43102 | B3: =IF(data[[#This Row],[Hdébut garde]]<>"","Garde",IF(data[[#This Row],[Hdébut corrigé]]<>"","Intervention","")) -> Intervention | G3: INC | H3: 0.61597222 | I3: 0.67152778 | J3: =IF(data[[#This Row],[Hdébut garde]]<>"", data[[#This Row],[Hdébut garde]], data[[#This Row],[Hdébut interv.]]+IF(data[[#This Row],[Hdébut interv.]]<SUMPRODUCT((data[Date]=data[[#This Row],[Date]])*data[Hdébut garde]),1,0) ) -> 0.61597222 | K3: =IF(data[[#This Row],[Hfin garde]]<>"", data[[#This Row],[Hfin garde]]+IF(data[[#This Row],[Hfin garde]]<=data[[#This Row],[Hdébut garde]],1,0)+IF(data[[#This Row],[>24h]]<>"",1,0), IF(data[[#This Row],[Hfin Interv.]]="",0, data[[#This Row],[Hfin Interv.]] +IF(data[[#This Row],[Hfin Interv.]]>data[[#This Row],[Hdébut interv.]],0,1)) +IF(data[[#This Row],[Hdébut interv.]]<SUMPRODUCT((data[Date]=data[[#This Row],[Date]])*data[Hdébut garde]),1,0) ) -> 0.67152778 | L3: =IF(OR(WEEKDAY(data[[#This Row],[Date]],2)=7,COUNTIF(JF,data[[#This Row],[Date]])=1),"oui","non") -> non | M3: =MAX(0,(MIN(1,data[[#This Row],[Hfin corrigée]])-data[[#This Row],[Hdébut corrigé]])-data[[#This Row],[NUIT1.1]]-data[[#This Row],[NUIT1.2]]) -> 0.055555556 | N3: =IF(data[[#This Row],[Hfin Interv.]]="",0,( MIN(FinNuit,MIN(1,data[[#This Row],[Hfin corrigée]]))-MIN(FinNuit,data[[#This Row],[Hdébut corrigé]]) )) -> 0 | O3: =MAX(0,(MAX(0,(MIN(1,data[[#This Row],[Hfin corrigée]])-DebNuit))-MAX(0,(data[[#This Row],[Hdébut corrigé]]-DebNuit)))) -> 0 | P3: =IF(OR(WEEKDAY(data[[#This Row],[Date]]+data[[#This Row],[Hfin corrigée]],2)=7,COUNTIF(JF,INT(data[[#This Row],[Date]]+data[[#This Row],[Hfin corrigée]]))=1),"oui","non") -> non | Q3: =MAX(0,data[[#This Row],[Hfin corrigée]]-MAX(1,data[[#This Row],[Hdébut corrigé]]))-data[[#This Row],[NUIT2.1]]-data[[#This Row],[NUIT2.2]] -> 0 | R3: =MAX(0,MIN(1+FinNuit,data[[#This Row],[Hfin corrigée]])-MAX(1,data[[#This Row],[Hdébut corrigé]])) -> 0 | S3: =MAX(0,(data[[#This Row],[Hfin corrigée]]-DebNuit-1)) -> 0 | T3: =IF(data[[#This Row],[Garde / Interv.]]="Intervention",MAX(0,data[[#This Row],[Hfin corrigée]]-SUMPRODUCT((data[Date]=data[[#This Row],[Date]])*(data[Garde / Interv.]="Garde")*data[Hfin corrigée])),0) -> 0 | U3: =MAX(0,IF(data[[#This Row],[Garde / Interv.]]="Garde",data[[#This Row],[Hfin corrigée]]-data[[#This Row],[Hdébut corrigé]]+SUMPRODUCT((data[Date]=data[[#This Row],[Date]])*data[Interv. hors poste])-SUMPRODUCT((data[Date]=data[[#This Row],[Date]])*(data[[Durée interv. jour]:[Durée interv. nuit]])),0)) -> 0 | V3: =MAX(0,IF(data[[#This Row],[Garde / Interv.]]="Intervention",(data[[#This Row],[Fin Dim ou Férié]]="non")*data[[#This Row],[JOUR2]]+(data[[#This Row],[Début Dim ou Férié]]="non")*data[[#This Row],[JOUR1]],0)) -> 0.055555556 | W3: =IF(data[[#This Row],[Garde / Interv.]]="Intervention",(data[[#This Row],[Fin Dim ou Férié]]="oui")*data[[#This Row],[JOUR2]]+(data[[#This Row],[Début Dim ou Férié]]="oui")*data[[#This Row],[JOUR1]],0) -> 0 | X3: =MAX(0,IF(data[[#This Row],[Garde / Interv.]]="Intervention",data[[#This Row],[NUIT1.1]]+data[[#This Row],[NUIT1.2]]+data[[#This Row],[NUIT2.1]]+data[[#This Row],[NUIT2.2]],0)) -> 0
A4: 43102 | B4: =IF(data[[#This Row],[Hdébut garde]]<>"","Garde",IF(data[[#This Row],[Hdébut corrigé]]<>"","Intervention","")) -> Intervention | G4: VSAV | H4: 0.76944444 | I4: 0.84375 | J4: =IF(data[[#This Row],[Hdébut garde]]<>"", data[[#This Row],[Hdébut garde]], data[[#This Row],[Hdébut interv.]]+IF(data[[#This Row],[Hdébut interv.]]<SUMPRODUCT((data[Date]=data[[#This Row],[Date]])*data[Hdébut garde]),1,0) ) -> 0.76944444 | K4: =IF(data[[#This Row],[Hfin garde]]<>"", data[[#This Row],[Hfin garde]]+IF(data[[#This Row],[Hfin garde]]<=data[[#This Row],[Hdébut garde]],1,0)+IF(data[[#This Row],[>24h]]<>"",1,0), IF(data[[#This Row],[Hfin Interv.]]="",0, data[[#This Row],[Hfin Interv.]] +IF(data[[#This Row],[Hfin Interv.]]>data[[#This Row],[Hdébut interv.]],0,1)) +IF(data[[#This Row],[Hdébut interv.]]<SUMPRODUCT((data[Date]=data[[#This Row],[Date]])*data[Hdébut garde]),1,0) ) -> 0.84375 | L4: =IF(OR(WEEKDAY(data[[#This Row],[Date]],2)=7,COUNTIF(JF,data[[#This Row],[Date]])=1),"oui","non") -> non | M4: =MAX(0,(MIN(1,data[[#This Row],[Hfin corrigée]])-data[[#This Row],[Hdébut corrigé]])-data[[#This Row],[NUIT1.1]]-data[[#This Row],[NUIT1.2]]) -> 0.074305556 | N4: =IF(data[[#This Row],[Hfin Interv.]]="",0,( MIN(FinNuit,MIN(1,data[[#This Row],[Hfin corrigée]]))-MIN(FinNuit,data[[#This Row],[Hdébut corrigé]]) )) -> 0 | O4: =MAX(0,(MAX(0,(MIN(1,data[[#This Row],[Hfin corrigée]])-DebNuit))-MAX(0,(data[[#This Row],[Hdébut corrigé]]-DebNuit)))) -> 0 | P4: =IF(OR(WEEKDAY(data[[#This Row],[Date]]+data[[#This Row],[Hfin corrigée]],2)=7,COUNTIF(JF,INT(data[[#This Row],[Date]]+data[[#This Row],[Hfin corrigée]]))=1),"oui","non") -> non | Q4: =MAX(0,data[[#This Row],[Hfin corrigée]]-MAX(1,data[[#This Row],[Hdébut corrigé]]))-data[[#This Row],[NUIT2.1]]-data[[#This Row],[NUIT2.2]] -> 0 | R4: =MAX(0,MIN(1+FinNuit,data[[#This Row],[Hfin corrigée]])-MAX(1,data[[#This Row],[Hdébut corrigé]])) -> 0 | S4: =MAX(0,(data[[#This Row],[Hfin corrigée]]-DebNuit-1)) -> 0 | T4: =IF(data[[#This Row],[Garde / Interv.]]="Intervention",MAX(0,data[[#This Row],[Hfin corrigée]]-SUMPRODUCT((data[Date]=data[[#This Row],[Date]])*(data[Garde / Interv.]="Garde")*data[Hfin corrigée])),0) -> 0 | U4: =MAX(0,IF(data[[#This Row],[Garde / Interv.]]="Garde",data[[#This Row],[Hfin corrigée]]-data[[#This Row],[Hdébut corrigé]]+SUMPRODUCT((data[Date]=data[[#This Row],[Date]])*data[Interv. hors poste])-SUMPRODUCT((data[Date]=data[[#This Row],[Date]])*(data[[Durée interv. jour]:[Durée interv. nuit]])),0)) -> 0 | V4: =MAX(0,IF(data[[#This Row],[Garde / Interv.]]="Intervention",(data[[#This Row],[Fin Dim ou Férié]]="non")*data[[#This Row],[JOUR2]]+(data[[#This Row],[Début Dim ou Férié]]="non")*data[[#This Row],[JOUR1]],0)) -> 0.074305556 | W4: =IF(data[[#This Row],[Garde / Interv.]]="Intervention",(data[[#This Row],[Fin Dim ou Férié]]="oui")*data[[#This Row],[JOUR2]]+(data[[#This Row],[Début Dim ou Férié]]="oui")*data[[#This Row],[JOUR1]],0) -> 0 | X4: =MAX(0,IF(data[[#This Row],[Garde / Interv.]]="Intervention",data[[#This Row],[NUIT1.1]]+data[[#This Row],[NUIT1.2]]+data[[#This Row],[NUIT2.1]]+data[[#This Row],[NUIT2.2]],0)) -> 0
A5: 43110 | B5: =IF(data[[#This Row],[Hdébut garde]]<>"","Garde",IF(data[[#This Row],[Hdébut corrigé]]<>"","Intervention","")) -> Garde | C5: 0.33333333 | D5: 0.33333333 | J5: =IF(data[[#This Row],[Hdébut garde]]<>"", data[[#This Row],[Hdébut garde]], data[[#This Row],[Hdébut interv.]]+IF(data[[#This Row],[Hdébut interv.]]<SUMPRODUCT((data[Date]=data[[#This Row],[Date]])*data[Hdébut garde]),1,0) ) -> 0.33333333 | K5: =IF(data[[#This Row],[Hfin garde]]<>"", data[[#This Row],[Hfin garde]]+IF(data[[#This Row],[Hfin garde]]<=data[[#This Row],[Hdébut garde]],1,0)+IF(data[[#This Row],[>24h]]<>"",1,0), IF(data[[#This Row],[Hfin Interv.]]="",0, data[[#This Row],[Hfin Interv.]] +IF(data[[#This Row],[Hfin Interv.]]>data[[#This Row],[Hdébut interv.]],0,1)) +IF(data[[#This Row],[Hdébut interv.]]<SUMPRODUCT((data[Date]=data[[#This Row],[Date]])*data[Hdébut garde]),1,0) ) -> 1.3333333 | L5: =IF(OR(WEEKDAY(data[[#This Row],[Date]],2)=7,COUNTIF(JF,data[[#This Row],[Date]])=1),"oui","non") -> non | M5: =MAX(0,(MIN(1,data[[#This Row],[Hfin corrigée]])-data[[#This Row],[Hdébut corrigé]])-data[[#This Row],[NUIT1.1]]-data[[#This Row],[NUIT1.2]]) -> 0.58333333 | N5: =IF(data[[#This Row],[Hfin Interv.]]="",0,( MIN(FinNuit,MIN(1,data[[#This Row],[Hfin corrigée]]))-MIN(FinNuit,data[[#This Row],[Hdébut corrigé]]) )) -> 0 | O5: =MAX(0,(MAX(0,(MIN(1,data[[#This Row],[Hfin corrigée]])-DebNuit))-MAX(0,(data[[#This Row],[Hdébut corrigé]]-DebNuit)))) -> 0.083333333 | P5: =IF(OR(WEEKDAY(data[[#This Row],[Date]]+data[[#This Row],[Hfin corrigée]],2)=7,COUNTIF(JF,INT(data[[#This Row],[Date]]+data[[#This Row],[Hfin corrigée]]))=1),"oui","non") -> non | Q5: =MAX(0,data[[#This Row],[Hfin corrigée]]-MAX(1,data[[#This Row],[Hdébut corrigé]]))-data[[#This Row],[NUIT2.1]]-data[[#This Row],[NUIT2.2]] -> 0.041666667 | R5: =MAX(0,MIN(1+FinNuit,data[[#This Row],[Hfin corrigée]])-MAX(1,data[[#This Row],[Hdébut corrigé]])) -> 0.29166667 | S5: =MAX(0,(data[[#This Row],[Hfin corrigée]]-DebNuit-1)) -> 0 | T5: =IF(data[[#This Row],[Garde / Interv.]]="Intervention",MAX(0,data[[#This Row],[Hfin corrigée]]-SUMPRODUCT((data[Date]=data[[#This Row],[Date]])*(data[Garde / Interv.]="Garde")*data[Hfin corrigée])),0) -> 0 | U5: =MAX(0,IF(data[[#This Row],[Garde / Interv.]]="Garde",data[[#This Row],[Hfin corrigée]]-data[[#This Row],[Hdébut corrigé]]+SUMPRODUCT((data[Date]=data[[#This Row],[Date]])*data[Interv. hors poste])-SUMPRODUCT((data[Date]=data[[#This Row],[Date]])*(data[[Durée interv. jour]:[Durée interv. nuit]])),0)) -> 0.67916667 | V5: =MAX(0,IF(data[[#This Row],[Garde / Interv.]]="Intervention",(data[[#This Row],[Fin Dim ou Férié]]="non")*data[[#This Row],[JOUR2]]+(data[[#This Row],[Début Dim ou Férié]]="non")*data[[#This Row],[JOUR1]],0)) -> 0 | W5: =IF(data[[#This Row],[Garde / Interv.]]="Intervention",(data[[#This Row],[Fin Dim ou Férié]]="oui")*data[[#This Row],[JOUR2]]+(data[[#This Row],[Début Dim ou Férié]]="oui")*data[[#This Row],[JOUR1]],0) -> 0 | X5: =MAX(0,IF(data[[#This Row],[Garde / Interv.]]="Intervention",data[[#This Row],[NUIT1.1]]+data[[#This Row],[NUIT1.2]]+data[[#This Row],[NUIT2.1]]+data[[#This Row],[NUIT2.2]],0)) -> 0
A6: 43110 | B6: =IF(data[[#This Row],[Hdébut garde]]<>"","Garde",IF(data[[#This Row],[Hdébut corrigé]]<>"","Intervention","")) -> Intervention | G6: VSAV | H6: 0.35 | I6: 0.41111111 | J6: =IF(data[[#This Row],[Hdébut garde]]<>"", data[[#This Row],[Hdébut garde]], data[[#This Row],[Hdébut interv.]]+IF(data[[#This Row],[Hdébut interv.]]<SUMPRODUCT((data[Date]=data[[#This Row],[Date]])*data[Hdébut garde]),1,0) ) -> 0.35 | K6: =IF(data[[#This Row],[Hfin garde]]<>"", data[[#This Row],[Hfin garde]]+IF(data[[#This Row],[Hfin garde]]<=data[[#This Row],[Hdébut garde]],1,0)+IF(data[[#This Row],[>24h]]<>"",1,0), IF(data[[#This Row],[Hfin Interv.]]="",0, data[[#This Row],[Hfin Interv.]] +IF(data[[#This Row],[Hfin Interv.]]>data[[#This Row],[Hdébut interv.]],0,1)) +IF(data[[#This Row],[Hdébut interv.]]<SUMPRODUCT((data[Date]=data[[#This Row],[Date]])*data[Hdébut garde]),1,0) ) -> 0.41111111 | L6: =IF(OR(WEEKDAY(data[[#This Row],[Date]],2)=7,COUNTIF(JF,data[[#This Row],[Date]])=1),"oui","non") -> non | M6: =MAX(0,(MIN(1,data[[#This Row],[Hfin corrigée]])-data[[#This Row],[Hdébut corrigé]])-data[[#This Row],[NUIT1.1]]-data[[#This Row],[NUIT1.2]]) -> 0.061111111 | N6: =IF(data[[#This Row],[Hfin Interv.]]="",0,( MIN(FinNuit,MIN(1,data[[#This Row],[Hfin corrigée]]))-MIN(FinNuit,data[[#This Row],[Hdébut corrigé]]) )) -> 0 | O6: =MAX(0,(MAX(0,(MIN(1,data[[#This Row],[Hfin corrigée]])-DebNuit))-MAX(0,(data[[#This Row],[Hdébut corrigé]]-DebNuit)))) -> 0 | P6: =IF(OR(WEEKDAY(data[[#This Row],[Date]]+data[[#This Row],[Hfin corrigée]],2)=7,COUNTIF(JF,INT(data[[#This Row],[Date]]+data[[#This Row],[Hfin corrigée]]))=1),"oui","non") -> non | Q6: =MAX(0,data[[#This Row],[Hfin corrigée]]-MAX(1,data[[#This Row],[Hdébut corrigé]]))-data[[#This Row],[NUIT2.1]]-data[[#This Row],[NUIT2.2]] -> 0 | R6: =MAX(0,MIN(1+FinNuit,data[[#This Row],[Hfin corrigée]])-MAX(1,data[[#This Row],[Hdébut corrigé]])) -> 0 | S6: =MAX(0,(data[[#This Row],[Hfin corrigée]]-DebNuit-1)) -> 0 | T6: =IF(data[[#This Row],[Garde / Interv.]]="Intervention",MAX(0,data[[#This Row],[Hfin corrigée]]-SUMPRODUCT((data[Date]=data[[#This Row],[Date]])*(data[Garde / Interv.]="Garde")*data[Hfin corrigée])),0) -> 0 | U6: =MAX(0,IF(data[[#This Row],[Garde / Interv.]]="Garde",data[[#This Row],[Hfin corrigée]]-data[[#This Row],[Hdébut corrigé]]+SUMPRODUCT((data[Date]=data[[#This Row],[Date]])*data[Interv. hors poste])-SUMPRODUCT((data[Date]=data[[#This Row],[Date]])*(data[[Durée interv. jour]:[Durée interv. nuit]])),0)) -> 0 | V6: =MAX(0,IF(data[[#This Row],[Garde / Interv.]]="Intervention",(data[[#This Row],[Fin Dim ou Férié]]="non")*data[[#This Row],[JOUR2]]+(data[[#This Row],[Début Dim ou Férié]]="non")*data[[#This Row],[JOUR1]],0)) -> 0.061111111 | W6: =IF(data[[#This Row],[Garde / Interv.]]="Intervention",(data[[#This Row],[Fin Dim ou Férié]]="oui")*data[[#This Row],[JOUR2]]+(data[[#This Row],[Début Dim ou Férié]]="oui")*data[[#This Row],[JOUR1]],0) -> 0 | X6: =MAX(0,IF(data[[#This Row],[Garde / Interv.]]="Intervention",data[[#This Row],[NUIT1.1]]+data[[#This Row],[NUIT1.2]]+data[[#This Row],[NUIT2.1]]+data[[#This Row],[NUIT2.2]],0)) -> 0
A7: 43110 | B7: =IF(data[[#This Row],[Hdébut garde]]<>"","Garde",IF(data[[#This Row],[Hdébut corrigé]]<>"","Intervention","")) -> Intervention | G7: VSAV | H7: 0.44513889 | I7: 0.49930556 | J7: =IF(data[[#This Row],[Hdébut garde]]<>"", data[[#This Row],[Hdébut garde]], data[[#This Row],[Hdébut interv.]]+IF(data[[#This Row],[Hdébut interv.]]<SUMPRODUCT((data[Date]=data[[#This Row],[Date]])*data[Hdébut garde]),1,0) ) -> 0.44513889 | K7: =IF(data[[#This Row],[Hfin garde]]<>"", data[[#This Row],[Hfin garde]]+IF(data[[#This Row],[Hfin garde]]<=data[[#This Row],[Hdébut garde]],1,0)+IF(data[[#This Row],[>24h]]<>"",1,0), IF(data[[#This Row],[Hfin Interv.]]="",0, data[[#This Row],[Hfin Interv.]] +IF(data[[#This Row],[Hfin Interv.]]>data[[#This Row],[Hdébut interv.]],0,1)) +IF(data[[#This Row],[Hdébut interv.]]<SUMPRODUCT((data[Date]=data[[#This Row],[Date]])*data[Hdébut garde]),1,0) ) -> 0.49930556 | L7: =IF(OR(WEEKDAY(data[[#This Row],[Date]],2)=7,COUNTIF(JF,data[[#This Row],[Date]])=1),"oui","non") -> non | M7: =MAX(0,(MIN(1,data[[#This Row],[Hfin corrigée]])-data[[#This Row],[Hdébut corrigé]])-data[[#This Row],[NUIT1.1]]-data[[#This Row],[NUIT1.2]]) -> 0.054166667 | N7: =IF(data[[#This Row],[Hfin Interv.]]="",0,( MIN(FinNuit,MIN(1,data[[#This Row],[Hfin corrigée]]))-MIN(FinNuit,data[[#This Row],[Hdébut corrigé]]) )) -> 0 | O7: =MAX(0,(MAX(0,(MIN(1,data[[#This Row],[Hfin corrigée]])-DebNuit))-MAX(0,(data[[#This Row],[Hdébut corrigé]]-DebNuit)))) -> 0 | P7: =IF(OR(WEEKDAY(data[[#This Row],[Date]]+data[[#This Row],[Hfin corrigée]],2)=7,COUNTIF(JF,INT(data[[#This Row],[Date]]+data[[#This Row],[Hfin corrigée]]))=1),"oui","non") -> non | Q7: =MAX(0,data[[#This Row],[Hfin corrigée]]-MAX(1,data[[#This Row],[Hdébut corrigé]]))-data[[#This Row],[NUIT2.1]]-data[[#This Row],[NUIT2.2]] -> 0 | R7: =MAX(0,MIN(1+FinNuit,data[[#This Row],[Hfin corrigée]])-MAX(1,data[[#This Row],[Hdébut corrigé]])) -> 0 | S7: =MAX(0,(data[[#This Row],[Hfin corrigée]]-DebNuit-1)) -> 0 | T7: =IF(data[[#This Row],[Garde / Interv.]]="Intervention",MAX(0,data[[#This Row],[Hfin corrigée]]-SUMPRODUCT((data[Date]=data[[#This Row],[Date]])*(data[Garde / Interv.]="Garde")*data[Hfin corrigée])),0) -> 0 | U7: =MAX(0,IF(data[[#This Row],[Garde / Interv.]]="Garde",data[[#This Row],[Hfin corrigée]]-data[[#This Row],[Hdébut corrigé]]+SUMPRODUCT((data[Date]=data[[#This Row],[Date]])*data[Interv. hors poste])-SUMPRODUCT((data[Date]=data[[#This Row],[Date]])*(data[[Durée interv. jour]:[Durée interv. nuit]])),0)) -> 0 | V7: =MAX(0,IF(data[[#This Row],[Garde / Interv.]]="Intervention",(data[[#This Row],[Fin Dim ou Férié]]="non")*data[[#This Row],[JOUR2]]+(data[[#This Row],[Début Dim ou Férié]]="non")*data[[#This Row],[JOUR1]],0)) -> 0.054166667 | W7: =IF(data[[#This Row],[Garde / Interv.]]="Intervention",(data[[#This Row],[Fin Dim ou Férié]]="oui")*data[[#This Row],[JOUR2]]+(data[[#This Row],[Début Dim ou Férié]]="oui")*data[[#This Row],[JOUR1]],0) -> 0 | X7: =MAX(0,IF(data[[#This Row],[Garde / Interv.]]="Intervention",data[[#This Row],[NUIT1.1]]+data[[#This Row],[NUIT1.2]]+data[[#This Row],[NUIT2.1]]+data[[#This Row],[NUIT2.2]],0)) -> 0
A8: 43110 | B8: =IF(data[[#This Row],[Hdébut garde]]<>"","Garde",IF(data[[#This Row],[Hdébut corrigé]]<>"","Intervention","")) -> Intervention | G8: VSAV | H8: 0.49930556 | I8: 0.5625 | J8: =IF(data[[#This Row],[Hdébut garde]]<>"", data[[#This Row],[Hdébut garde]], data[[#This Row],[Hdébut interv.]]+IF(data[[#This Row],[Hdébut interv.]]<SUMPRODUCT((data[Date]=data[[#This Row],[Date]])*data[Hdébut garde]),1,0) ) -> 0.49930556 | K8: =IF(data[[#This Row],[Hfin garde]]<>"", data[[#This Row],[Hfin garde]]+IF(data[[#This Row],[Hfin garde]]<=data[[#This Row],[Hdébut garde]],1,0)+IF(data[[#This Row],[>24h]]<>"",1,0), IF(data[[#This Row],[Hfin Interv.]]="",0, data[[#This Row],[Hfin Interv.]] +IF(data[[#This Row],[Hfin Interv.]]>data[[#This Row],[Hdébut interv.]],0,1)) +IF(data[[#This Row],[Hdébut interv.]]<SUMPRODUCT((data[Date]=data[[#This Row],[Date]])*data[Hdébut garde]),1,0) ) -> 0.5625 | L8: =IF(OR(WEEKDAY(data[[#This Row],[Date]],2)=7,COUNTIF(JF,data[[#This Row],[Date]])=1),"oui","non") -> non | M8: =MAX(0,(MIN(1,data[[#This Row],[Hfin corrigée]])-data[[#This Row],[Hdébut corrigé]])-data[[#This Row],[NUIT1.1]]-data[[#This Row],[NUIT1.2]]) -> 0.063194444 | N8: =IF(data[[#This Row],[Hfin Interv.]]="",0,( MIN(FinNuit,MIN(1,data[[#This Row],[Hfin corrigée]]))-MIN(FinNuit,data[[#This Row],[Hdébut corrigé]]) )) -> 0 | O8: =MAX(0,(MAX(0,(MIN(1,data[[#This Row],[Hfin corrigée]])-DebNuit))-MAX(0,(data[[#This Row],[Hdébut corrigé]]-DebNuit)))) -> 0 | P8: =IF(OR(WEEKDAY(data[[#This Row],[Date]]+data[[#This Row],[Hfin corrigée]],2)=7,COUNTIF(JF,INT(data[[#This Row],[Date]]+data[[#This Row],[Hfin corrigée]]))=1),"oui","non") -> non | Q8: =MAX(0,data[[#This Row],[Hfin corrigée]]-MAX(1,data[[#This Row],[Hdébut corrigé]]))-data[[#This Row],[NUIT2.1]]-data[[#This Row],[NUIT2.2]] -> 0 | R8: =MAX(0,MIN(1+FinNuit,data[[#This Row],[Hfin corrigée]])-MAX(1,data[[#This Row],[Hdébut corrigé]])) -> 0 | S8: =MAX(0,(data[[#This Row],[Hfin corrigée]]-DebNuit-1)) -> 0 | T8: =IF(data[[#This Row],[Garde / Interv.]]="Intervention",MAX(0,data[[#This Row],[Hfin corrigée]]-SUMPRODUCT((data[Date]=data[[#This Row],[Date]])*(data[Garde / Interv.]="Garde")*data[Hfin corrigée])),0) -> 0 | U8: =MAX(0,IF(data[[#This Row],[Garde / Interv.]]="Garde",data[[#This Row],[Hfin corrigée]]-data[[#This Row],[Hdébut corrigé]]+SUMPRODUCT((data[Date]=data[[#This Row],[Date]])*data[Interv. hors poste])-SUMPRODUCT((data[Date]=data[[#This Row],[Date]])*(data[[Durée interv. jour]:[Durée interv. nuit]])),0)) -> 0 | V8: =MAX(0,IF(data[[#This Row],[Garde / Interv.]]="Intervention",(data[[#This Row],[Fin Dim ou Férié]]="non")*data[[#This Row],[JOUR2]]+(data[[#This Row],[Début Dim ou Férié]]="non")*data[[#This Row],[JOUR1]],0)) -> 0.063194444 | W8: =IF(data[[#This Row],[Garde / Interv.]]="Intervention",(data[[#This Row],[Fin Dim ou Férié]]="oui")*data[[#This Row],[JOUR2]]+(data[[#This Row],[Début Dim ou Férié]]="oui")*data[[#This Row],[JOUR1]],0) -> 0 | X8: =MAX(0,IF(data[[#This Row],[Garde / Interv.]]="Intervention",data[[#This Row],[NUIT1.1]]+data[[#This Row],[NUIT1.2]]+data[[#This Row],[NUIT2.1]]+data[[#This Row],[NUIT2.2]],0)) -> 0 | Z8: Mois de janvier | AA8: =SUM(U2:U17) -> 2.375 | AB8: =SUM(V3:X17) -> 0.625 | AC8: =AA8-AB8 -> 1.75
A9: 43110 | B9: =IF(data[[#This Row],[Hdébut garde]]<>"","Garde",IF(data[[#This Row],[Hdébut corrigé]]<>"","Intervention","")) -> Intervention | G9: VSAV | H9: 0.63888889 | I9: 0.6625 | J9: =IF(data[[#This Row],[Hdébut garde]]<>"", data[[#This Row],[Hdébut garde]], data[[#This Row],[Hdébut interv.]]+IF(data[[#This Row],[Hdébut interv.]]<SUMPRODUCT((data[Date]=data[[#This Row],[Date]])*data[Hdébut garde]),1,0) ) -> 0.63888889 | K9: =IF(data[[#This Row],[Hfin garde]]<>"", data[[#This Row],[Hfin garde]]+IF(data[[#This Row],[Hfin garde]]<=data[[#This Row],[Hdébut garde]],1,0)+IF(data[[#This Row],[>24h]]<>"",1,0), IF(data[[#This Row],[Hfin Interv.]]="",0, data[[#This Row],[Hfin Interv.]] +IF(data[[#This Row],[Hfin Interv.]]>data[[#This Row],[Hdébut interv.]],0,1)) +IF(data[[#This Row],[Hdébut interv.]]<SUMPRODUCT((data[Date]=data[[#This Row],[Date]])*data[Hdébut garde]),1,0) ) -> 0.6625 | L9: =IF(OR(WEEKDAY(data[[#This Row],[Date]],2)=7,COUNTIF(JF,data[[#This Row],[Date]])=1),"oui","non") -> non | M9: =MAX(0,(MIN(1,data[[#This Row],[Hfin corrigée]])-data[[#This Row],[Hdébut corrigé]])-data[[#This Row],[NUIT1.1]]-data[[#This Row],[NUIT1.2]]) -> 0.023611111 | N9: =IF(data[[#This Row],[Hfin Interv.]]="",0,( MIN(FinNuit,MIN(1,data[[#This Row],[Hfin corrigée]]))-MIN(FinNuit,data[[#This Row],[Hdébut corrigé]]) )) -> 0 | O9: =MAX(0,(MAX(0,(MIN(1,data[[#This Row],[Hfin corrigée]])-DebNuit))-MAX(0,(data[[#This Row],[Hdébut corrigé]]-DebNuit)))) -> 0 | P9: =IF(OR(WEEKDAY(data[[#This Row],[Date]]+data[[#This Row],[Hfin corrigée]],2)=7,COUNTIF(JF,INT(data[[#This Row],[Date]]+data[[#This Row],[Hfin corrigée]]))=1),"oui","non") -> non | Q9: =MAX(0,data[[#This Row],[Hfin corrigée]]-MAX(1,data[[#This Row],[Hdébut corrigé]]))-data[[#This Row],[NUIT2.1]]-data[[#This Row],[NUIT2.2]] -> 0 | R9: =MAX(0,MIN(1+FinNuit,data[[#This Row],[Hfin corrigée]])-MAX(1,data[[#This Row],[Hdébut corrigé]])) -> 0 | S9: =MAX(0,(data[[#This Row],[Hfin corrigée]]-DebNuit-1)) -> 0 | T9: =IF(data[[#This Row],[Garde / Interv.]]="Intervention",MAX(0,data[[#This Row],[Hfin corrigée]]-SUMPRODUCT((data[Date]=data[[#This Row],[Date]])*(data[Garde / Interv.]="Garde")*data[Hfin corrigée])),0) -> 0 | U9: =MAX(0,IF(data[[#This Row],[Garde / Interv.]]="Garde",data[[#This Row],[Hfin corrigée]]-data[[#This Row],[Hdébut corrigé]]+SUMPRODUCT((data[Date]=data[[#This Row],[Date]])*data[Interv. hors poste])-SUMPRODUCT((data[Date]=data[[#This Row],[Date]])*(data[[Durée interv. jour]:[Durée interv. nuit]])),0)) -> 0 | V9: =MAX(0,IF(data[[#This Row],[Garde / Interv.]]="Intervention",(data[[#This Row],[Fin Dim ou Férié]]="non")*data[[#This Row],[JOUR2]]+(data[[#This Row],[Début Dim ou Férié]]="non")*data[[#This Row],[JOUR1]],0)) -> 0.023611111 | W9: =IF(data[[#This Row],[Garde / Interv.]]="Intervention",(data[[#This Row],[Fin Dim ou Férié]]="oui")*data[[#This Row],[JOUR2]]+(data[[#This Row],[Début Dim ou Férié]]="oui")*data[[#This Row],[JOUR1]],0) -> 0 | X9: =MAX(0,IF(data[[#This Row],[Garde / Interv.]]="Intervention",data[[#This Row],[NUIT1.1]]+data[[#This Row],[NUIT1.2]]+data[[#This Row],[NUIT2.1]]+data[[#This Row],[NUIT2.2]],0)) -> 0
A10: 43110 | B10: =IF(data[[#This Row],[Hdébut garde]]<>"","Garde",IF(data[[#This Row],[Hdébut corrigé]]<>"","Intervention","")) -> Intervention | G10: VSAV | H10: 0.70902778 | I10: 0.77777778 | J10: =IF(data[[#This Row],[Hdébut garde]]<>"", data[[#This Row],[Hdébut garde]], data[[#This Row],[Hdébut interv.]]+IF(data[[#This Row],[Hdébut interv.]]<SUMPRODUCT((data[Date]=data[[#This Row],[Date]])*data[Hdébut garde]),1,0) ) -> 0.70902778 | K10: =IF(data[[#This Row],[Hfin garde]]<>"", data[[#This Row],[Hfin garde]]+IF(data[[#This Row],[Hfin garde]]<=data[[#This Row],[Hdébut garde]],1,0)+IF(data[[#This Row],[>24h]]<>"",1,0), IF(data[[#This Row],[Hfin Interv.]]="",0, data[[#This Row],[Hfin Interv.]] +IF(data[[#This Row],[Hfin Interv.]]>data[[#This Row],[Hdébut interv.]],0,1)) +IF(data[[#This Row],[Hdébut interv.]]<SUMPRODUCT((data[Date]=data[[#This Row],[Date]])*data[Hdébut garde]),1,0) ) -> 0.77777778 | L10: =IF(OR(WEEKDAY(data[[#This Row],[Date]],2)=7,COUNTIF(JF,data[[#This Row],[Date]])=1),"oui","non") -> non | M10: =MAX(0,(MIN(1,data[[#This Row],[Hfin corrigée]])-data[[#This Row],[Hdébut corrigé]])-data[[#This Row],[NUIT1.1]]-data[[#This Row],[NUIT1.2]]) -> 0.06875 | N10: =IF(data[[#This Row],[Hfin Interv.]]="",0,( MIN(FinNuit,MIN(1,data[[#This Row],[Hfin corrigée]]))-MIN(FinNuit,data[[#This Row],[Hdébut corrigé]]) )) -> 0 | O10: =MAX(0,(MAX(0,(MIN(1,data[[#This Row],[Hfin corrigée]])-DebNuit))-MAX(0,(data[[#This Row],[Hdébut corrigé]]-DebNuit)))) -> 0 | P10: =IF(OR(WEEKDAY(data[[#This Row],[Date]]+data[[#This Row],[Hfin corrigée]],2)=7,COUNTIF(JF,INT(data[[#This Row],[Date]]+data[[#This Row],[Hfin corrigée]]))=1),"oui","non") -> non | Q10: =MAX(0,data[[#This Row],[Hfin corrigée]]-MAX(1,data[[#This Row],[Hdébut corrigé]]))-data[[#This Row],[NUIT2.1]]-data[[#This Row],[NUIT2.2]] -> 0 | R10: =MAX(0,MIN(1+FinNuit,data[[#This Row],[Hfin corrigée]])-MAX(1,data[[#This Row],[Hdébut corrigé]])) -> 0 | S10: =MAX(0,(data[[#This Row],[Hfin corrigée]]-DebNuit-1)) -> 0 | T10: =IF(data[[#This Row],[Garde / Interv.]]="Intervention",MAX(0,data[[#This Row],[Hfin corrigée]]-SUMPRODUCT((data[Date]=data[[#This Row],[Date]])*(data[Garde / Interv.]="Garde")*data[Hfin corrigée])),0) -> 0 | U10: =MAX(0,IF(data[[#This Row],[Garde / Interv.]]="Garde",data[[#This Row],[Hfin corrigée]]-data[[#This Row],[Hdébut corrigé]]+SUMPRODUCT((data[Date]=data[[#This Row],[Date]])*data[Interv. hors poste])-SUMPRODUCT((data[Date]=data[[#This Row],[Date]])*(data[[Durée interv. jour]:[Durée interv. nuit]])),0)) -> 0 | V10: =MAX(0,IF(data[[#This Row],[Garde / Interv.]]="Intervention",(data[[#This Row],[Fin Dim ou Férié]]="non")*data[[#This Row],[JOUR2]]+(data[[#This Row],[Début Dim ou Férié]]="non")*data[[#This Row],[JOUR1]],0)) -> 0.06875 | W10: =IF(data[[#This Row],[Garde / Interv.]]="Intervention",(data[[#This Row],[Fin Dim ou Férié]]="oui")*data[[#This Row],[JOUR2]]+(data[[#This Row],[Début Dim ou Férié]]="oui")*data[[#This Row],[JOUR1]],0) -> 0 | X10: =MAX(0,IF(data[[#This Row],[Garde / Interv.]]="Intervention",data[[#This Row],[NUIT1.1]]+data[[#This Row],[NUIT1.2]]+data[[#This Row],[NUIT2.1]]+data[[#This Row],[NUIT2.2]],0)) -> 0
A11: 43110 | B11: =IF(data[[#This Row],[Hdébut garde]]<>"","Garde",IF(data[[#This Row],[Hdébut corrigé]]<>"","Intervention","")) -> Intervention | G11: VSAV | H11: 0.78472222 | I11: 0.81875 | J11: =IF(data[[#This Row],[Hdébut garde]]<>"", data[[#This Row],[Hdébut garde]], data[[#This Row],[Hdébut interv.]]+IF(data[[#This Row],[Hdébut interv.]]<SUMPRODUCT((data[Date]=data[[#This Row],[Date]])*data[Hdébut garde]),1,0) ) -> 0.78472222 | K11: =IF(data[[#This Row],[Hfin garde]]<>"", data[[#This Row],[Hfin garde]]+IF(data[[#This Row],[Hfin garde]]<=data[[#This Row],[Hdébut garde]],1,0)+IF(data[[#This Row],[>24h]]<>"",1,0), IF(data[[#This Row],[Hfin Interv.]]="",0, data[[#This Row],[Hfin Interv.]] +IF(data[[#This Row],[Hfin Interv.]]>data[[#This Row],[Hdébut interv.]],0,1)) +IF(data[[#This Row],[Hdébut interv.]]<SUMPRODUCT((data[Date]=data[[#This Row],[Date]])*data[Hdébut garde]),1,0) ) -> 0.81875 | L11: =IF(OR(WEEKDAY(data[[#This Row],[Date]],2)=7,COUNTIF(JF,data[[#This Row],[Date]])=1),"oui","non") -> non | M11: =MAX(0,(MIN(1,data[[#This Row],[Hfin corrigée]])-data[[#This Row],[Hdébut corrigé]])-data[[#This Row],[NUIT1.1]]-data[[#This Row],[NUIT1.2]]) -> 0.034027778 | N11: =IF(data[[#This Row],[Hfin Interv.]]="",0,( MIN(FinNuit,MIN(1,data[[#This Row],[Hfin corrigée]]))-MIN(FinNuit,data[[#This Row],[Hdébut corrigé]]) )) -> 0 | O11: =MAX(0,(MAX(0,(MIN(1,data[[#This Row],[Hfin corrigée]])-DebNuit))-MAX(0,(data[[#This Row],[Hdébut corrigé]]-DebNuit)))) -> 0 | P11: =IF(OR(WEEKDAY(data[[#This Row],[Date]]+data[[#This Row],[Hfin corrigée]],2)=7,COUNTIF(JF,INT(data[[#This Row],[Date]]+data[[#This Row],[Hfin corrigée]]))=1),"oui","non") -> non | Q11: =MAX(0,data[[#This Row],[Hfin corrigée]]-MAX(1,data[[#This Row],[Hdébut corrigé]]))-data[[#This Row],[NUIT2.1]]-data[[#This Row],[NUIT2.2]] -> 0 | R11: =MAX(0,MIN(1+FinNuit,data[[#This Row],[Hfin corrigée]])-MAX(1,data[[#This Row],[Hdébut corrigé]])) -> 0 | S11: =MAX(0,(data[[#This Row],[Hfin corrigée]]-DebNuit-1)) -> 0 | T11: =IF(data[[#This Row],[Garde / Interv.]]="Intervention",MAX(0,data[[#This Row],[Hfin corrigée]]-SUMPRODUCT((data[Date]=data[[#This Row],[Date]])*(data[Garde / Interv.]="Garde")*data[Hfin corrigée])),0) -> 0 | U11: =MAX(0,IF(data[[#This Row],[Garde / Interv.]]="Garde",data[[#This Row],[Hfin corrigée]]-data[[#This Row],[Hdébut corrigé]]+SUMPRODUCT((data[Date]=data[[#This Row],[Date]])*data[Interv. hors poste])-SUMPRODUCT((data[Date]=data[[#This Row],[Date]])*(data[[Durée interv. jour]:[Durée interv. nuit]])),0)) -> 0 | V11: =MAX(0,IF(data[[#This Row],[Garde / Interv.]]="Intervention",(data[[#This Row],[Fin Dim ou Férié]]="non")*data[[#This Row],[JOUR2]]+(data[[#This Row],[Début Dim ou Férié]]="non")*data[[#This Row],[JOUR1]],0)) -> 0.034027778 | W11: =IF(data[[#This Row],[Garde / Interv.]]="Intervention",(data[[#This Row],[Fin Dim ou Férié]]="oui")*data[[#This Row],[JOUR2]]+(data[[#This Row],[Début Dim ou Férié]]="oui")*data[[#This Row],[JOUR1]],0) -> 0 | X11: =MAX(0,IF(data[[#This Row],[Garde / Interv.]]="Intervention",data[[#This Row],[NUIT1.1]]+data[[#This Row],[NUIT1.2]]+data[[#This Row],[NUIT2.1]]+data[[#This Row],[NUIT2.2]],0)) -> 0
A12: 43110 | B12: =IF(data[[#This Row],[Hdébut garde]]<>"","Garde",IF(data[[#This Row],[Hdébut corrigé]]<>"","Intervention","")) -> Intervention | G12: VSAV | H12: 0.93194444 | I12: 0.94791667 | J12: =IF(data[[#This Row],[Hdébut garde]]<>"", data[[#This Row],[Hdébut garde]], data[[#This Row],[Hdébut interv.]]+IF(data[[#This Row],[Hdébut interv.]]<SUMPRODUCT((data[Date]=data[[#This Row],[Date]])*data[Hdébut garde]),1,0) ) -> 0.93194444 | K12: =IF(data[[#This Row],[Hfin garde]]<>"", data[[#This Row],[Hfin garde]]+IF(data[[#This Row],[Hfin garde]]<=data[[#This Row],[Hdébut garde]],1,0)+IF(data[[#This Row],[>24h]]<>"",1,0), IF(data[[#This Row],[Hfin Interv.]]="",0, data[[#This Row],[Hfin Interv.]] +IF(data[[#This Row],[Hfin Interv.]]>data[[#This Row],[Hdébut interv.]],0,1)) +IF(data[[#This Row],[Hdébut interv.]]<SUMPRODUCT((data[Date]=data[[#This Row],[Date]])*data[Hdébut garde]),1,0) ) -> 0.94791667 | L12: =IF(OR(WEEKDAY(data[[#This Row],[Date]],2)=7,COUNTIF(JF,data[[#This Row],[Date]])=1),"oui","non") -> non | M12: =MAX(0,(MIN(1,data[[#This Row],[Hfin corrigée]])-data[[#This Row],[Hdébut corrigé]])-data[[#This Row],[NUIT1.1]]-data[[#This Row],[NUIT1.2]]) -> 0 | N12: =IF(data[[#This Row],[Hfin Interv.]]="",0,( MIN(FinNuit,MIN(1,data[[#This Row],[Hfin corrigée]]))-MIN(FinNuit,data[[#This Row],[Hdébut corrigé]]) )) -> 0 | O12: =MAX(0,(MAX(0,(MIN(1,data[[#This Row],[Hfin corrigée]])-DebNuit))-MAX(0,(data[[#This Row],[Hdébut corrigé]]-DebNuit)))) -> 0.015972222 | P12: =IF(OR(WEEKDAY(data[[#This Row],[Date]]+data[[#This Row],[Hfin corrigée]],2)=7,COUNTIF(JF,INT(data[[#This Row],[Date]]+data[[#This Row],[Hfin corrigée]]))=1),"oui","non") -> non | Q12: =MAX(0,data[[#This Row],[Hfin corrigée]]-MAX(1,data[[#This Row],[Hdébut corrigé]]))-data[[#This Row],[NUIT2.1]]-data[[#This Row],[NUIT2.2]] -> 0 | R12: =MAX(0,MIN(1+FinNuit,data[[#This Row],[Hfin corrigée]])-MAX(1,data[[#This Row],[Hdébut corrigé]])) -> 0 | S12: =MAX(0,(data[[#This Row],[Hfin corrigée]]-DebNuit-1)) -> 0 | T12: =IF(data[[#This Row],[Garde / Interv.]]="Intervention",MAX(0,data[[#This Row],[Hfin corrigée]]-SUMPRODUCT((data[Date]=data[[#This Row],[Date]])*(data[Garde / Interv.]="Garde")*data[Hfin corrigée])),0) -> 0 | U12: =MAX(0,IF(data[[#This Row],[Garde / Interv.]]="Garde",data[[#This Row],[Hfin corrigée]]-data[[#This Row],[Hdébut corrigé]]+SUMPRODUCT((data[Date]=data[[#This Row],[Date]])*data[Interv. hors poste])-SUMPRODUCT((data[Date]=data[[#This Row],[Date]])*(data[[Durée interv. jour]:[Durée interv. nuit]])),0)) -> 0 | V12: =MAX(0,IF(data[[#This Row],[Garde / Interv.]]="Intervention",(data[[#This Row],[Fin Dim ou Férié]]="non")*data[[#This Row],[JOUR2]]+(data[[#This Row],[Début Dim ou Férié]]="non")*data[[#This Row],[JOUR1]],0)) -> 0 | W12: =IF(data[[#This Row],[Garde / Interv.]]="Intervention",(data[[#This Row],[Fin Dim ou Férié]]="oui")*data[[#This Row],[JOUR2]]+(data[[#This Row],[Début Dim ou Férié]]="oui")*data[[#This Row],[JOUR1]],0) -> 0 | X12: =MAX(0,IF(data[[#This Row],[Garde / Interv.]]="Intervention",data[[#This Row],[NUIT1.1]]+data[[#This Row],[NUIT1.2]]+data[[#This Row],[NUIT2.1]]+data[[#This Row],[NUIT2.2]],0)) -> 0.015972222
A13: 43116 | B13: =IF(data[[#This Row],[Hdébut garde]]<>"","Garde",IF(data[[#This Row],[Hdébut corrigé]]<>"","Intervention","")) -> Garde | C13: 0.33333333 | D13: 0.33333333 | J13: =IF(data[[#This Row],[Hdébut garde]]<>"", data[[#This Row],[Hdébut garde]], data[[#This Row],[Hdébut interv.]]+IF(data[[#This Row],[Hdébut interv.]]<SUMPRODUCT((data[Date]=data[[#This Row],[Date]])*data[Hdébut garde]),1,0) ) -> 0.33333333 | K13: =IF(data[[#This Row],[Hfin garde]]<>"", data[[#This Row],[Hfin garde]]+IF(data[[#This Row],[Hfin garde]]<=data[[#This Row],[Hdébut garde]],1,0)+IF(data[[#This Row],[>24h]]<>"",1,0), IF(data[[#This Row],[Hfin Interv.]]="",0, data[[#This Row],[Hfin Interv.]] +IF(data[[#This Row],[Hfin Interv.]]>data[[#This Row],[Hdébut interv.]],0,1)) +IF(data[[#This Row],[Hdébut interv.]]<SUMPRODUCT((data[Date]=data[[#This Row],[Date]])*data[Hdébut garde]),1,0) ) -> 1.3333333 | L13: =IF(OR(WEEKDAY(data[[#This Row],[Date]],2)=7,COUNTIF(JF,data[[#This Row],[Date]])=1),"oui","non") -> non | M13: =MAX(0,(MIN(1,data[[#This Row],[Hfin corrigée]])-data[[#This Row],[Hdébut corrigé]])-data[[#This Row],[NUIT1.1]]-data[[#This Row],[NUIT1.2]]) -> 0.58333333 | N13: =IF(data[[#This Row],[Hfin Interv.]]="",0,( MIN(FinNuit,MIN(1,data[[#This Row],[Hfin corrigée]]))-MIN(FinNuit,data[[#This Row],[Hdébut corrigé]]) )) -> 0 | O13: =MAX(0,(MAX(0,(MIN(1,data[[#This Row],[Hfin corrigée]])-DebNuit))-MAX(0,(data[[#This Row],[Hdébut corrigé]]-DebNuit)))) -> 0.083333333 | P13: =IF(OR(WEEKDAY(data[[#This Row],[Date]]+data[[#This Row],[Hfin corrigée]],2)=7,COUNTIF(JF,INT(data[[#This Row],[Date]]+data[[#This Row],[Hfin corrigée]]))=1),"oui","non") -> non | Q13: =MAX(0,data[[#This Row],[Hfin corrigée]]-MAX(1,data[[#This Row],[Hdébut corrigé]]))-data[[#This Row],[NUIT2.1]]-data[[#This Row],[NUIT2.2]] -> 0.041666667 | R13: =MAX(0,MIN(1+FinNuit,data[[#This Row],[Hfin corrigée]])-MAX(1,data[[#This Row],[Hdébut corrigé]])) -> 0.29166667 | S13: =MAX(0,(data[[#This Row],[Hfin corrigée]]-DebNuit-1)) -> 0 | T13: =IF(data[[#This Row],[Garde / Interv.]]="Intervention",MAX(0,data[[#This Row],[Hfin corrigée]]-SUMPRODUCT((data[Date]=data[[#This Row],[Date]])*(data[Garde / Interv.]="Garde")*data[Hfin corrigée])),0) -> 0 | U13: =MAX(0,IF(data[[#This Row],[Garde / Interv.]]="Garde",data[[#This Row],[Hfin corrigée]]-data[[#This Row],[Hdébut corrigé]]+SUMPRODUCT((data[Date]=data[[#This Row],[Date]])*data[Interv. hors poste])-SUMPRODUCT((data[Date]=data[[#This Row],[Date]])*(data[[Durée interv. jour]:[Durée interv. nuit]])),0)) -> 0.82569444 | V13: =MAX(0,IF(data[[#This Row],[Garde / Interv.]]="Intervention",(data[[#This Row],[Fin Dim ou Férié]]="non")*data[[#This Row],[JOUR2]]+(data[[#This Row],[Début Dim ou Férié]]="non")*data[[#This Row],[JOUR1]],0)) -> 0 | W13: =IF(data[[#This Row],[Garde / Interv.]]="Intervention",(data[[#This Row],[Fin Dim ou Férié]]="oui")*data[[#This Row],[JOUR2]]+(data[[#This Row],[Début Dim ou Férié]]="oui")*data[[#This Row],[JOUR1]],0) -> 0 | X13: =MAX(0,IF(data[[#This Row],[Garde / Interv.]]="Intervention",data[[#This Row],[NUIT1.1]]+data[[#This Row],[NUIT1.2]]+data[[#This Row],[NUIT2.1]]+data[[#This Row],[NUIT2.2]],0)) -> 0
A14: 43116 | B14: =IF(data[[#This Row],[Hdébut garde]]<>"","Garde",IF(data[[#This Row],[Hdébut corrigé]]<>"","Intervention","")) -> Intervention | G14: VSAV | H14: 0.67777778 | I14: 0.68541667 | J14: =IF(data[[#This Row],[Hdébut garde]]<>"", data[[#This Row],[Hdébut garde]], data[[#This Row],[Hdébut interv.]]+IF(data[[#This Row],[Hdébut interv.]]<SUMPRODUCT((data[Date]=data[[#This Row],[Date]])*data[Hdébut garde]),1,0) ) -> 0.67777778 | K14: =IF(data[[#This Row],[Hfin garde]]<>"", data[[#This Row],[Hfin garde]]+IF(data[[#This Row],[Hfin garde]]<=data[[#This Row],[Hdébut garde]],1,0)+IF(data[[#This Row],[>24h]]<>"",1,0), IF(data[[#This Row],[Hfin Interv.]]="",0, data[[#This Row],[Hfin Interv.]] +IF(data[[#This Row],[Hfin Interv.]]>data[[#This Row],[Hdébut interv.]],0,1)) +IF(data[[#This Row],[Hdébut interv.]]<SUMPRODUCT((data[Date]=data[[#This Row],[Date]])*data[Hdébut garde]),1,0) ) -> 0.68541667 | L14: =IF(OR(WEEKDAY(data[[#This Row],[Date]],2)=7,COUNTIF(JF,data[[#This Row],[Date]])=1),"oui","non") -> non | M14: =MAX(0,(MIN(1,data[[#This Row],[Hfin corrigée]])-data[[#This Row],[Hdébut corrigé]])-data[[#This Row],[NUIT1.1]]-data[[#This Row],[NUIT1.2]]) -> 0.0076388889 | N14: =IF(data[[#This Row],[Hfin Interv.]]="",0,( MIN(FinNuit,MIN(1,data[[#This Row],[Hfin corrigée]]))-MIN(FinNuit,data[[#This Row],[Hdébut corrigé]]) )) -> 0 | O14: =MAX(0,(MAX(0,(MIN(1,data[[#This Row],[Hfin corrigée]])-DebNuit))-MAX(0,(data[[#This Row],[Hdébut corrigé]]-DebNuit)))) -> 0 | P14: =IF(OR(WEEKDAY(data[[#This Row],[Date]]+data[[#This Row],[Hfin corrigée]],2)=7,COUNTIF(JF,INT(data[[#This Row],[Date]]+data[[#This Row],[Hfin corrigée]]))=1),"oui","non") -> non | Q14: =MAX(0,data[[#This Row],[Hfin corrigée]]-MAX(1,data[[#This Row],[Hdébut corrigé]]))-data[[#This Row],[NUIT2.1]]-data[[#This Row],[NUIT2.2]] -> 0 | R14: =MAX(0,MIN(1+FinNuit,data[[#This Row],[Hfin corrigée]])-MAX(1,data[[#This Row],[Hdébut corrigé]])) -> 0 | S14: =MAX(0,(data[[#This Row],[Hfin corrigée]]-DebNuit-1)) -> 0 | T14: =IF(data[[#This Row],[Garde / Interv.]]="Intervention",MAX(0,data[[#This Row],[Hfin corrigée]]-SUMPRODUCT((data[Date]=data[[#This Row],[Date]])*(data[Garde / Interv.]="Garde")*data[Hfin corrigée])),0) -> 0 | U14: =MAX(0,IF(data[[#This Row],[Garde / Interv.]]="Garde",data[[#This Row],[Hfin corrigée]]-data[[#This Row],[Hdébut corrigé]]+SUMPRODUCT((data[Date]=data[[#This Row],[Date]])*data[Interv. hors poste])-SUMPRODUCT((data[Date]=data[[#This Row],[Date]])*(data[[Durée interv. jour]:[Durée interv. nuit]])),0)) -> 0 | V14: =MAX(0,IF(data[[#This Row],[Garde / Interv.]]="Intervention",(data[[#This Row],[Fin Dim ou Férié]]="non")*data[[#This Row],[JOUR2]]+(data[[#This Row],[Début Dim ou Férié]]="non")*data[[#This Row],[JOUR1]],0)) -> 0.0076388889 | W14: =IF(data[[#This Row],[Garde / Interv.]]="Intervention",(data[[#This Row],[Fin Dim ou Férié]]="oui")*data[[#This Row],[JOUR2]]+(data[[#This Row],[Début Dim ou Férié]]="oui")*data[[#This Row],[JOUR1]],0) -> 0 | X14: =MAX(0,IF(data[[#This Row],[Garde / Interv.]]="Intervention",data[[#This Row],[NUIT1.1]]+data[[#This Row],[NUIT1.2]]+data[[#This Row],[NUIT2.1]]+data[[#This Row],[NUIT2.2]],0)) -> 0
A15: 43116 | B15: =IF(data[[#This Row],[Hdébut garde]]<>"","Garde",IF(data[[#This Row],[Hdébut corrigé]]<>"","Intervention","")) -> Intervention | G15: VSAV | H15: 0.69722222 | I15: 0.75694444 | J15: =IF(data[[#This Row],[Hdébut garde]]<>"", data[[#This Row],[Hdébut garde]], data[[#This Row],[Hdébut interv.]]+IF(data[[#This Row],[Hdébut interv.]]<SUMPRODUCT((data[Date]=data[[#This Row],[Date]])*data[Hdébut garde]),1,0) ) -> 0.69722222 | K15: =IF(data[[#This Row],[Hfin garde]]<>"", data[[#This Row],[Hfin garde]]+IF(data[[#This Row],[Hfin garde]]<=data[[#This Row],[Hdébut garde]],1,0)+IF(data[[#This Row],[>24h]]<>"",1,0), IF(data[[#This Row],[Hfin Interv.]]="",0, data[[#This Row],[Hfin Interv.]] +IF(data[[#This Row],[Hfin Interv.]]>data[[#This Row],[Hdébut interv.]],0,1)) +IF(data[[#This Row],[Hdébut interv.]]<SUMPRODUCT((data[Date]=data[[#This Row],[Date]])*data[Hdébut garde]),1,0) ) -> 0.75694444 | L15: =IF(OR(WEEKDAY(data[[#This Row],[Date]],2)=7,COUNTIF(JF,data[[#This Row],[Date]])=1),"oui","non") -> non | M15: =MAX(0,(MIN(1,data[[#This Row],[Hfin corrigée]])-data[[#This Row],[Hdébut corrigé]])-data[[#This Row],[NUIT1.1]]-data[[#This Row],[NUIT1.2]]) -> 0.059722222 | N15: =IF(data[[#This Row],[Hfin Interv.]]="",0,( MIN(FinNuit,MIN(1,data[[#This Row],[Hfin corrigée]]))-MIN(FinNuit,data[[#This Row],[Hdébut corrigé]]) )) -> 0 | O15: =MAX(0,(MAX(0,(MIN(1,data[[#This Row],[Hfin corrigée]])-DebNuit))-MAX(0,(data[[#This Row],[Hdébut corrigé]]-DebNuit)))) -> 0 | P15: =IF(OR(WEEKDAY(data[[#This Row],[Date]]+data[[#This Row],[Hfin corrigée]],2)=7,COUNTIF(JF,INT(data[[#This Row],[Date]]+data[[#This Row],[Hfin corrigée]]))=1),"oui","non") -> non | Q15: =MAX(0,data[[#This Row],[Hfin corrigée]]-MAX(1,data[[#This Row],[Hdébut corrigé]]))-data[[#This Row],[NUIT2.1]]-data[[#This Row],[NUIT2.2]] -> 0 | R15: =MAX(0,MIN(1+FinNuit,data[[#This Row],[Hfin corrigée]])-MAX(1,data[[#This Row],[Hdébut corrigé]])) -> 0 | S15: =MAX(0,(data[[#This Row],[Hfin corrigée]]-DebNuit-1)) -> 0 | T15: =IF(data[[#This Row],[Garde / Interv.]]="Intervention",MAX(0,data[[#This Row],[Hfin corrigée]]-SUMPRODUCT((data[Date]=data[[#This Row],[Date]])*(data[Garde / Interv.]="Garde")*data[Hfin corrigée])),0) -> 0 | U15: =MAX(0,IF(data[[#This Row],[Garde / Interv.]]="Garde",data[[#This Row],[Hfin corrigée]]-data[[#This Row],[Hdébut corrigé]]+SUMPRODUCT((data[Date]=data[[#This Row],[Date]])*data[Interv. hors poste])-SUMPRODUCT((data[Date]=data[[#This Row],[Date]])*(data[[Durée interv. jour]:[Durée interv. nuit]])),0)) -> 0 | V15: =MAX(0,IF(data[[#This Row],[Garde / Interv.]]="Intervention",(data[[#This Row],[Fin Dim ou Férié]]="non")*data[[#This Row],[JOUR2]]+(data[[#This Row],[Début Dim ou Férié]]="non")*data[[#This Row],[JOUR1]],0)) -> 0.059722222 | W15: =IF(data[[#This Row],[Garde / Interv.]]="Intervention",(data[[#This Row],[Fin Dim ou Férié]]="oui")*data[[#This Row],[JOUR2]]+(data[[#This Row],[Début Dim ou Férié]]="oui")*data[[#This Row],[JOUR1]],0) -> 0 | X15: =MAX(0,IF(data[[#This Row],[Garde / Interv.]]="Intervention",data[[#This Row],[NUIT1.1]]+data[[#This Row],[NUIT1.2]]+data[[#This Row],[NUIT2.1]]+data[[#This Row],[NUIT2.2]],0)) -> 0
A16: 43116 | B16: =IF(data[[#This Row],[Hdébut garde]]<>"","Garde",IF(data[[#This Row],[Hdébut corrigé]]<>"","Intervention","")) -> Intervention | G16: VSAV | H16: 0.87291667 | I16: 0.91041667 | J16: =IF(data[[#This Row],[Hdébut garde]]<>"", data[[#This Row],[Hdébut garde]], data[[#This Row],[Hdébut interv.]]+IF(data[[#This Row],[Hdébut interv.]]<SUMPRODUCT((data[Date]=data[[#This Row],[Date]])*data[Hdébut garde]),1,0) ) -> 0.87291667 | K16: =IF(data[[#This Row],[Hfin garde]]<>"", data[[#This Row],[Hfin garde]]+IF(data[[#This Row],[Hfin garde]]<=data[[#This Row],[Hdébut garde]],1,0)+IF(data[[#This Row],[>24h]]<>"",1,0), IF(data[[#This Row],[Hfin Interv.]]="",0, data[[#This Row],[Hfin Interv.]] +IF(data[[#This Row],[Hfin Interv.]]>data[[#This Row],[Hdébut interv.]],0,1)) +IF(data[[#This Row],[Hdébut interv.]]<SUMPRODUCT((data[Date]=data[[#This Row],[Date]])*data[Hdébut garde]),1,0) ) -> 0.91041667 | L16: =IF(OR(WEEKDAY(data[[#This Row],[Date]],2)=7,COUNTIF(JF,data[[#This Row],[Date]])=1),"oui","non") -> non | M16: =MAX(0,(MIN(1,data[[#This Row],[Hfin corrigée]])-data[[#This Row],[Hdébut corrigé]])-data[[#This Row],[NUIT1.1]]-data[[#This Row],[NUIT1.2]]) -> 0.0375 | N16: =IF(data[[#This Row],[Hfin Interv.]]="",0,( MIN(FinNuit,MIN(1,data[[#This Row],[Hfin corrigée]]))-MIN(FinNuit,data[[#This Row],[Hdébut corrigé]]) )) -> 0 | O16: =MAX(0,(MAX(0,(MIN(1,data[[#This Row],[Hfin corrigée]])-DebNuit))-MAX(0,(data[[#This Row],[Hdébut corrigé]]-DebNuit)))) -> 0 | P16: =IF(OR(WEEKDAY(data[[#This Row],[Date]]+data[[#This Row],[Hfin corrigée]],2)=7,COUNTIF(JF,INT(data[[#This Row],[Date]]+data[[#This Row],[Hfin corrigée]]))=1),"oui","non") -> non | Q16: =MAX(0,data[[#This Row],[Hfin corrigée]]-MAX(1,data[[#This Row],[Hdébut corrigé]]))-data[[#This Row],[NUIT2.1]]-data[[#This Row],[NUIT2.2]] -> 0 | R16: =MAX(0,MIN(1+FinNuit,data[[#This Row],[Hfin corrigée]])-MAX(1,data[[#This Row],[Hdébut corrigé]])) -> 0 | S16: =MAX(0,(data[[#This Row],[Hfin corrigée]]-DebNuit-1)) -> 0 | T16: =IF(data[[#This Row],[Garde / Interv.]]="Intervention",MAX(0,data[[#This Row],[Hfin corrigée]]-SUMPRODUCT((data[Date]=data[[#This Row],[Date]])*(data[Garde / Interv.]="Garde")*data[Hfin corrigée])),0) -> 0 | U16: =MAX(0,IF(data[[#This Row],[Garde / Interv.]]="Garde",data[[#This Row],[Hfin corrigée]]-data[[#This Row],[Hdébut corrigé]]+SUMPRODUCT((data[Date]=data[[#This Row],[Date]])*data[Interv. hors poste])-SUMPRODUCT((data[Date]=data[[#This Row],[Date]])*(data[[Durée interv. jour]:[Durée interv. nuit]])),0)) -> 0 | V16: =MAX(0,IF(data[[#This Row],[Garde / Interv.]]="Intervention",(data[[#This Row],[Fin Dim ou Férié]]="non")*data[[#This Row],[JOUR2]]+(data[[#This Row],[Début Dim ou Férié]]="non")*data[[#This Row],[JOUR1]],0)) -> 0.0375 | W16: =IF(data[[#This Row],[Garde / Interv.]]="Intervention",(data[[#This Row],[Fin Dim ou Férié]]="oui")*data[[#This Row],[JOUR2]]+(data[[#This Row],[Début Dim ou Férié]]="oui")*data[[#This Row],[JOUR1]],0) -> 0 | X16: =MAX(0,IF(data[[#This Row],[Garde / Interv.]]="Intervention",data[[#This Row],[NUIT1.1]]+data[[#This Row],[NUIT1.2]]+data[[#This Row],[NUIT2.1]]+data[[#This Row],[NUIT2.2]],0)) -> 0 | AD16: inter réel pdt la garde
A17: 43116 | B17: =IF(data[[#This Row],[Hdébut garde]]<>"","Garde",IF(data[[#This Row],[Hdébut corrigé]]<>"","Intervention","")) -> Intervention | G17: VSAV | H17: 0.91944444 | I17: 0.98888889 | J17: =IF(data[[#This Row],[Hdébut garde]]<>"", data[[#This Row],[Hdébut garde]], data[[#This Row],[Hdébut interv.]]+IF(data[[#This Row],[Hdébut interv.]]<SUMPRODUCT((data[Date]=data[[#This Row],[Date]])*data[Hdébut garde]),1,0) ) -> 0.91944444 | K17: =IF(data[[#This Row],[Hfin garde]]<>"", data[[#This Row],[Hfin garde]]+IF(data[[#This Row],[Hfin garde]]<=data[[#This Row],[Hdébut garde]],1,0)+IF(data[[#This Row],[>24h]]<>"",1,0), IF(data[[#This Row],[Hfin Interv.]]="",0, data[[#This Row],[Hfin Interv.]] +IF(data[[#This Row],[Hfin Interv.]]>data[[#This Row],[Hdébut interv.]],0,1)) +IF(data[[#This Row],[Hdébut interv.]]<SUMPRODUCT((data[Date]=data[[#This Row],[Date]])*data[Hdébut garde]),1,0) ) -> 0.98888889 | L17: =IF(OR(WEEKDAY(data[[#This Row],[Date]],2)=7,COUNTIF(JF,data[[#This Row],[Date]])=1),"oui","non") -> non | M17: =MAX(0,(MIN(1,data[[#This Row],[Hfin corrigée]])-data[[#This Row],[Hdébut corrigé]])-data[[#This Row],[NUIT1.1]]-data[[#This Row],[NUIT1.2]]) -> 0 | N17: =IF(data[[#This Row],[Hfin Interv.]]="",0,( MIN(FinNuit,MIN(1,data[[#This Row],[Hfin corrigée]]))-MIN(FinNuit,data[[#This Row],[Hdébut corrigé]]) )) -> 0 | O17: =MAX(0,(MAX(0,(MIN(1,data[[#This Row],[Hfin corrigée]])-DebNuit))-MAX(0,(data[[#This Row],[Hdébut corrigé]]-DebNuit)))) -> 0.069444444 | P17: =IF(OR(WEEKDAY(data[[#This Row],[Date]]+data[[#This Row],[Hfin corrigée]],2)=7,COUNTIF(JF,INT(data[[#This Row],[Date]]+data[[#This Row],[Hfin corrigée]]))=1),"oui","non") -> non | Q17: =MAX(0,data[[#This Row],[Hfin corrigée]]-MAX(1,data[[#This Row],[Hdébut corrigé]]))-data[[#This Row],[NUIT2.1]]-data[[#This Row],[NUIT2.2]] -> 0 | R17: =MAX(0,MIN(1+FinNuit,data[[#This Row],[Hfin corrigée]])-MAX(1,data[[#This Row],[Hdébut corrigé]])) -> 0 | S17: =MAX(0,(data[[#This Row],[Hfin corrigée]]-DebNuit-1)) -> 0 | T17: =IF(data[[#This Row],[Garde / Interv.]]="Intervention",MAX(0,data[[#This Row],[Hfin corrigée]]-SUMPRODUCT((data[Date]=data[[#This Row],[Date]])*(data[Garde / Interv.]="Garde")*data[Hfin corrigée])),0) -> 0 | U17: =MAX(0,IF(data[[#This Row],[Garde / Interv.]]="Garde",data[[#This Row],[Hfin corrigée]]-data[[#This Row],[Hdébut corrigé]]+SUMPRODUCT((data[Date]=data[[#This Row],[Date]])*data[Interv. hors poste])-SUMPRODUCT((data[Date]=data[[#This Row],[Date]])*(data[[Durée interv. jour]:[Durée interv. nuit]])),0)) -> 0 | V17: =MAX(0,IF(data[[#This Row],[Garde / Interv.]]="Intervention",(data[[#This Row],[Fin Dim ou Férié]]="non")*data[[#This Row],[JOUR2]]+(data[[#This Row],[Début Dim ou Férié]]="non")*data[[#This Row],[JOUR1]],0)) -> 0 | W17: =IF(data[[#This Row],[Garde / Interv.]]="Intervention",(data[[#This Row],[Fin Dim ou Férié]]="oui")*data[[#This Row],[JOUR2]]+(data[[#This Row],[Début Dim ou Férié]]="oui")*data[[#This Row],[JOUR1]],0) -> 0 | X17: =MAX(0,IF(data[[#This Row],[Garde / Interv.]]="Intervention",data[[#This Row],[NUIT1.1]]+data[[#This Row],[NUIT1.2]]+data[[#This Row],[NUIT2.1]]+data[[#This Row],[NUIT2.2]],0)) -> 0.069444444 | AD17: dernière inter | AE17: 7h47 à 9h27
A18: 43182 | B18: =IF(data[[#This Row],[Hdébut garde]]<>"","Garde",IF(data[[#This Row],[Hdébut corrigé]]<>"","Intervention","")) -> Garde | C18: 0.33333333 | D18: 0.39375 | E18: Oui | J18: =IF(data[[#This Row],[Hdébut garde]]<>"", data[[#This Row],[Hdébut garde]], data[[#This Row],[Hdébut interv.]]+IF(data[[#This Row],[Hdébut interv.]]<SUMPRODUCT((data[Date]=data[[#This Row],[Date]])*data[Hdébut garde]),1,0) ) -> 0.33333333 | K18: =IF(data[[#This Row],[Hfin garde]]<>"", data[[#This Row],[Hfin garde]]+IF(data[[#This Row],[Hfin garde]]<=data[[#This Row],[Hdébut garde]],1,0)+IF(data[[#This Row],[>24h]]<>"",1,0), IF(data[[#This Row],[Hfin Interv.]]="",0, data[[#This Row],[Hfin Interv.]] +IF(data[[#This Row],[Hfin Interv.]]>data[[#This Row],[Hdébut interv.]],0,1)) +IF(data[[#This Row],[Hdébut interv.]]<SUMPRODUCT((data[Date]=data[[#This Row],[Date]])*data[Hdébut garde]),1,0) ) -> 1.39375 | L18: =IF(OR(WEEKDAY(data[[#This Row],[Date]],2)=7,COUNTIF(JF,data[[#This Row],[Date]])=1),"oui","non") -> non | M18: =MAX(0,(MIN(1,data[[#This Row],[Hfin corrigée]])-data[[#This Row],[Hdébut corrigé]])-data[[#This Row],[NUIT1.1]]-data[[#This Row],[NUIT1.2]]) -> 0.58333333 | N18: =IF(data[[#This Row],[Hfin Interv.]]="",0,( MIN(FinNuit,MIN(1,data[[#This Row],[Hfin corrigée]]))-MIN(FinNuit,data[[#This Row],[Hdébut corrigé]]) )) -> 0 | O18: =MAX(0,(MAX(0,(MIN(1,data[[#This Row],[Hfin corrigée]])-DebNuit))-MAX(0,(data[[#This Row],[Hdébut corrigé]]-DebNuit)))) -> 0.083333333 | P18: =IF(OR(WEEKDAY(data[[#This Row],[Date]]+data[[#This Row],[Hfin corrigée]],2)=7,COUNTIF(JF,INT(data[[#This Row],[Date]]+data[[#This Row],[Hfin corrigée]]))=1),"oui","non") -> non | Q18: =MAX(0,data[[#This Row],[Hfin corrigée]]-MAX(1,data[[#This Row],[Hdébut corrigé]]))-data[[#This Row],[NUIT2.1]]-data[[#This Row],[NUIT2.2]] -> 0.10208333 | R18: =MAX(0,MIN(1+FinNuit,data[[#This Row],[Hfin corrigée]])-MAX(1,data[[#This Row],[Hdébut corrigé]])) -> 0.29166667 | S18: =MAX(0,(data[[#This Row],[Hfin corrigée]]-DebNuit-1)) -> 0 | T18: =IF(data[[#This Row],[Garde / Interv.]]="Intervention",MAX(0,data[[#This Row],[Hfin corrigée]]-SUMPRODUCT((data[Date]=data[[#This Row],[Date]])*(data[Garde / Interv.]="Garde")*data[Hfin corrigée])),0) -> 0 | U18: =MAX(0,IF(data[[#This Row],[Garde / Interv.]]="Garde",data[[#This Row],[Hfin corrigée]]-data[[#This Row],[Hdébut corrigé]]+SUMPRODUCT((data[Date]=data[[#This Row],[Date]])*data[Interv. hors poste])-SUMPRODUCT((data[Date]=data[[#This Row],[Date]])*(data[[Durée interv. jour]:[Durée interv. nuit]])),0)) -> 0.79375 | V18: =MAX(0,IF(data[[#This Row],[Garde / Interv.]]="Intervention",(data[[#This Row],[Fin Dim ou Férié]]="non")*data[[#This Row],[JOUR2]]+(data[[#This Row],[Début Dim ou Férié]]="non")*data[[#This Row],[JOUR1]],0)) -> 0 | W18: =IF(data[[#This Row],[Garde / Interv.]]="Intervention",(data[[#This Row],[Fin Dim ou Férié]]="oui")*data[[#This Row],[JOUR2]]+(data[[#This Row],[Début Dim ou Férié]]="oui")*data[[#This Row],[JOUR1]],0) -> 0 | X18: =MAX(0,IF(data[[#This Row],[Garde / Interv.]]="Intervention",data[[#This Row],[NUIT1.1]]+data[[#This Row],[NUIT1.2]]+data[[#This Row],[NUIT2.1]]+data[[#This Row],[NUIT2.2]],0)) -> 0 | Z18: Mois de mars | AB18: inter pdt la garde | AE18: 8h - 7h47 | AF18: heure sup
A19: 43182 | B19: =IF(data[[#This Row],[Hdébut garde]]<>"","Garde",IF(data[[#This Row],[Hdébut corrigé]]<>"","Intervention","")) -> Intervention | G19: VSAV | H19: 0.47916667 | I19: 0.54375 | J19: =IF(data[[#This Row],[Hdébut garde]]<>"", data[[#This Row],[Hdébut garde]], data[[#This Row],[Hdébut interv.]]+IF(data[[#This Row],[Hdébut interv.]]<SUMPRODUCT((data[Date]=data[[#This Row],[Date]])*data[Hdébut garde]),1,0) ) -> 0.47916667 | K19: =IF(data[[#This Row],[Hfin garde]]<>"", data[[#This Row],[Hfin garde]]+IF(data[[#This Row],[Hfin garde]]<=data[[#This Row],[Hdébut garde]],1,0)+IF(data[[#This Row],[>24h]]<>"",1,0), IF(data[[#This Row],[Hfin Interv.]]="",0, data[[#This Row],[Hfin Interv.]] +IF(data[[#This Row],[Hfin Interv.]]>data[[#This Row],[Hdébut interv.]],0,1)) +IF(data[[#This Row],[Hdébut interv.]]<SUMPRODUCT((data[Date]=data[[#This Row],[Date]])*data[Hdébut garde]),1,0) ) -> 0.54375 | L19: =IF(OR(WEEKDAY(data[[#This Row],[Date]],2)=7,COUNTIF(JF,data[[#This Row],[Date]])=1),"oui","non") -> non | M19: =MAX(0,(MIN(1,data[[#This Row],[Hfin corrigée]])-data[[#This Row],[Hdébut corrigé]])-data[[#This Row],[NUIT1.1]]-data[[#This Row],[NUIT1.2]]) -> 0.064583333 | N19: =IF(data[[#This Row],[Hfin Interv.]]="",0,( MIN(FinNuit,MIN(1,data[[#This Row],[Hfin corrigée]]))-MIN(FinNuit,data[[#This Row],[Hdébut corrigé]]) )) -> 0 | O19: =MAX(0,(MAX(0,(MIN(1,data[[#This Row],[Hfin corrigée]])-DebNuit))-MAX(0,(data[[#This Row],[Hdébut corrigé]]-DebNuit)))) -> 0 | P19: =IF(OR(WEEKDAY(data[[#This Row],[Date]]+data[[#This Row],[Hfin corrigée]],2)=7,COUNTIF(JF,INT(data[[#This Row],[Date]]+data[[#This Row],[Hfin corrigée]]))=1),"oui","non") -> non | Q19: =MAX(0,data[[#This Row],[Hfin corrigée]]-MAX(1,data[[#This Row],[Hdébut corrigé]]))-data[[#This Row],[NUIT2.1]]-data[[#This Row],[NUIT2.2]] -> 0 | R19: =MAX(0,MIN(1+FinNuit,data[[#This Row],[Hfin corrigée]])-MAX(1,data[[#This Row],[Hdébut corrigé]])) -> 0 | S19: =MAX(0,(data[[#This Row],[Hfin corrigée]]-DebNuit-1)) -> 0 | T19: =IF(data[[#This Row],[Garde / Interv.]]="Intervention",MAX(0,data[[#This Row],[Hfin corrigée]]-SUMPRODUCT((data[Date]=data[[#This Row],[Date]])*(data[Garde / Interv.]="Garde")*data[Hfin corrigée])),0) -> 0 | U19: =MAX(0,IF(data[[#This Row],[Garde / Interv.]]="Garde",data[[#This Row],[Hfin corrigée]]-data[[#This Row],[Hdébut corrigé]]+SUMPRODUCT((data[Date]=data[[#This Row],[Date]])*data[Interv. hors poste])-SUMPRODUCT((data[Date]=data[[#This Row],[Date]])*(data[[Durée interv. jour]:[Durée interv. nuit]])),0)) -> 0 | V19: =MAX(0,IF(data[[#This Row],[Garde / Interv.]]="Intervention",(data[[#This Row],[Fin Dim ou Férié]]="non")*data[[#This Row],[JOUR2]]+(data[[#This Row],[Début Dim ou Férié]]="non")*data[[#This Row],[JOUR1]],0)) -> 0.064583333 | W19: =IF(data[[#This Row],[Garde / Interv.]]="Intervention",(data[[#This Row],[Fin Dim ou Férié]]="oui")*data[[#This Row],[JOUR2]]+(data[[#This Row],[Début Dim ou Férié]]="oui")*data[[#This Row],[JOUR1]],0) -> 0 | X19: =MAX(0,IF(data[[#This Row],[Garde / Interv.]]="Intervention",data[[#This Row],[NUIT1.1]]+data[[#This Row],[NUIT1.2]]+data[[#This Row],[NUIT2.1]]+data[[#This Row],[NUIT2.2]],0)) -> 0 | Z19: 1ère garde | AA19: 1 | AB19: =SUM(V19:X25) -> 0.26666667 | AC19: =AA19-AB19 -> 0.73333333 | AD19: =SUM(V19:X24)+AE19 -> 0.20625 | AE19: 0.0090277778 | AF19: 0.060416667
A20: 43182 | B20: =IF(data[[#This Row],[Hdébut garde]]<>"","Garde",IF(data[[#This Row],[Hdébut corrigé]]<>"","Intervention","")) -> Intervention | G20: VSAV | H20: 0.74166667 | I20: 0.74583333 | J20: =IF(data[[#This Row],[Hdébut garde]]<>"", data[[#This Row],[Hdébut garde]], data[[#This Row],[Hdébut interv.]]+IF(data[[#This Row],[Hdébut interv.]]<SUMPRODUCT((data[Date]=data[[#This Row],[Date]])*data[Hdébut garde]),1,0) ) -> 0.74166667 | K20: =IF(data[[#This Row],[Hfin garde]]<>"", data[[#This Row],[Hfin garde]]+IF(data[[#This Row],[Hfin garde]]<=data[[#This Row],[Hdébut garde]],1,0)+IF(data[[#This Row],[>24h]]<>"",1,0), IF(data[[#This Row],[Hfin Interv.]]="",0, data[[#This Row],[Hfin Interv.]] +IF(data[[#This Row],[Hfin Interv.]]>data[[#This Row],[Hdébut interv.]],0,1)) +IF(data[[#This Row],[Hdébut interv.]]<SUMPRODUCT((data[Date]=data[[#This Row],[Date]])*data[Hdébut garde]),1,0) ) -> 0.74583333 | L20: =IF(OR(WEEKDAY(data[[#This Row],[Date]],2)=7,COUNTIF(JF,data[[#This Row],[Date]])=1),"oui","non") -> non | M20: =MAX(0,(MIN(1,data[[#This Row],[Hfin corrigée]])-data[[#This Row],[Hdébut corrigé]])-data[[#This Row],[NUIT1.1]]-data[[#This Row],[NUIT1.2]]) -> 0.0041666667 | N20: =IF(data[[#This Row],[Hfin Interv.]]="",0,( MIN(FinNuit,MIN(1,data[[#This Row],[Hfin corrigée]]))-MIN(FinNuit,data[[#This Row],[Hdébut corrigé]]) )) -> 0 | O20: =MAX(0,(MAX(0,(MIN(1,data[[#This Row],[Hfin corrigée]])-DebNuit))-MAX(0,(data[[#This Row],[Hdébut corrigé]]-DebNuit)))) -> 0 | P20: =IF(OR(WEEKDAY(data[[#This Row],[Date]]+data[[#This Row],[Hfin corrigée]],2)=7,COUNTIF(JF,INT(data[[#This Row],[Date]]+data[[#This Row],[Hfin corrigée]]))=1),"oui","non") -> non | Q20: =MAX(0,data[[#This Row],[Hfin corrigée]]-MAX(1,data[[#This Row],[Hdébut corrigé]]))-data[[#This Row],[NUIT2.1]]-data[[#This Row],[NUIT2.2]] -> 0 | R20: =MAX(0,MIN(1+FinNuit,data[[#This Row],[Hfin corrigée]])-MAX(1,data[[#This Row],[Hdébut corrigé]])) -> 0 | S20: =MAX(0,(data[[#This Row],[Hfin corrigée]]-DebNuit-1)) -> 0 | T20: =IF(data[[#This Row],[Garde / Interv.]]="Intervention",MAX(0,data[[#This Row],[Hfin corrigée]]-SUMPRODUCT((data[Date]=data[[#This Row],[Date]])*(data[Garde / Interv.]="Garde")*data[Hfin corrigée])),0) -> 0 | U20: =MAX(0,IF(data[[#This Row],[Garde / Interv.]]="Garde",data[[#This Row],[Hfin corrigée]]-data[[#This Row],[Hdébut corrigé]]+SUMPRODUCT((data[Date]=data[[#This Row],[Date]])*data[Interv. hors poste])-SUMPRODUCT((data[Date]=data[[#This Row],[Date]])*(data[[Durée interv. jour]:[Durée interv. nuit]])),0)) -> 0 | V20: =MAX(0,IF(data[[#This Row],[Garde / Interv.]]="Intervention",(data[[#This Row],[Fin Dim ou Férié]]="non")*data[[#This Row],[JOUR2]]+(data[[#This Row],[Début Dim ou Férié]]="non")*data[[#This Row],[JOUR1]],0)) -> 0.0041666667 | W20: =IF(data[[#This Row],[Garde / Interv.]]="Intervention",(data[[#This Row],[Fin Dim ou Férié]]="oui")*data[[#This Row],[JOUR2]]+(data[[#This Row],[Début Dim ou Férié]]="oui")*data[[#This Row],[JOUR1]],0) -> 0 | X20: =MAX(0,IF(data[[#This Row],[Garde / Interv.]]="Intervention",data[[#This Row],[NUIT1.1]]+data[[#This Row],[NUIT1.2]]+data[[#This Row],[NUIT2.1]]+data[[#This Row],[NUIT2.2]],0)) -> 0 | Z20: 2ème garde | AA20: 0.83333333 | AB20: =SUM(V27:V33) -> 0.33611111 | AC20: =AA20-AB20 -> 0.49722222 | AD20: =SUM(V27:V33) -> 0.33611111
A21: 43182 | B21: =IF(data[[#This Row],[Hdébut garde]]<>"","Garde",IF(data[[#This Row],[Hdébut corrigé]]<>"","Intervention","")) -> Intervention | G21: VSAV | H21: 0.74652778 | I21: 0.80208333 | J21: =IF(data[[#This Row],[Hdébut garde]]<>"", data[[#This Row],[Hdébut garde]], data[[#This Row],[Hdébut interv.]]+IF(data[[#This Row],[Hdébut interv.]]<SUMPRODUCT((data[Date]=data[[#This Row],[Date]])*data[Hdébut garde]),1,0) ) -> 0.74652778 | K21: =IF(data[[#This Row],[Hfin garde]]<>"", data[[#This Row],[Hfin garde]]+IF(data[[#This Row],[Hfin garde]]<=data[[#This Row],[Hdébut garde]],1,0)+IF(data[[#This Row],[>24h]]<>"",1,0), IF(data[[#This Row],[Hfin Interv.]]="",0, data[[#This Row],[Hfin Interv.]] +IF(data[[#This Row],[Hfin Interv.]]>data[[#This Row],[Hdébut interv.]],0,1)) +IF(data[[#This Row],[Hdébut interv.]]<SUMPRODUCT((data[Date]=data[[#This Row],[Date]])*data[Hdébut garde]),1,0) ) -> 0.80208333 | L21: =IF(OR(WEEKDAY(data[[#This Row],[Date]],2)=7,COUNTIF(JF,data[[#This Row],[Date]])=1),"oui","non") -> non | M21: =MAX(0,(MIN(1,data[[#This Row],[Hfin corrigée]])-data[[#This Row],[Hdébut corrigé]])-data[[#This Row],[NUIT1.1]]-data[[#This Row],[NUIT1.2]]) -> 0.055555556 | N21: =IF(data[[#This Row],[Hfin Interv.]]="",0,( MIN(FinNuit,MIN(1,data[[#This Row],[Hfin corrigée]]))-MIN(FinNuit,data[[#This Row],[Hdébut corrigé]]) )) -> 0 | O21: =MAX(0,(MAX(0,(MIN(1,data[[#This Row],[Hfin corrigée]])-DebNuit))-MAX(0,(data[[#This Row],[Hdébut corrigé]]-DebNuit)))) -> 0 | P21: =IF(OR(WEEKDAY(data[[#This Row],[Date]]+data[[#This Row],[Hfin corrigée]],2)=7,COUNTIF(JF,INT(data[[#This Row],[Date]]+data[[#This Row],[Hfin corrigée]]))=1),"oui","non") -> non | Q21: =MAX(0,data[[#This Row],[Hfin corrigée]]-MAX(1,data[[#This Row],[Hdébut corrigé]]))-data[[#This Row],[NUIT2.1]]-data[[#This Row],[NUIT2.2]] -> 0 | R21: =MAX(0,MIN(1+FinNuit,data[[#This Row],[Hfin corrigée]])-MAX(1,data[[#This Row],[Hdébut corrigé]])) -> 0 | S21: =MAX(0,(data[[#This Row],[Hfin corrigée]]-DebNuit-1)) -> 0 | T21: =IF(data[[#This Row],[Garde / Interv.]]="Intervention",MAX(0,data[[#This Row],[Hfin corrigée]]-SUMPRODUCT((data[Date]=data[[#This Row],[Date]])*(data[Garde / Interv.]="Garde")*data[Hfin corrigée])),0) -> 0 | U21: =MAX(0,IF(data[[#This Row],[Garde / Interv.]]="Garde",data[[#This Row],[Hfin corrigée]]-data[[#This Row],[Hdébut corrigé]]+SUMPRODUCT((data[Date]=data[[#This Row],[Date]])*data[Interv. hors poste])-SUMPRODUCT((data[Date]=data[[#This Row],[Date]])*(data[[Durée interv. jour]:[Durée interv. nuit]])),0)) -> 0 | V21: =MAX(0,IF(data[[#This Row],[Garde / Interv.]]="Intervention",(data[[#This Row],[Fin Dim ou Férié]]="non")*data[[#This Row],[JOUR2]]+(data[[#This Row],[Début Dim ou Férié]]="non")*data[[#This Row],[JOUR1]],0)) -> 0.055555556 | W21: =IF(data[[#This Row],[Garde / Interv.]]="Intervention",(data[[#This Row],[Fin Dim ou Férié]]="oui")*data[[#This Row],[JOUR2]]+(data[[#This Row],[Début Dim ou Férié]]="oui")*data[[#This Row],[JOUR1]],0) -> 0 | X21: =MAX(0,IF(data[[#This Row],[Garde / Interv.]]="Intervention",data[[#This Row],[NUIT1.1]]+data[[#This Row],[NUIT1.2]]+data[[#This Row],[NUIT2.1]]+data[[#This Row],[NUIT2.2]],0)) -> 0 | Z21: total | AA21: =SUM(AA19:AA20) -> 1.8333333 | AB21: =SUM(AB19:AB20) -> 0.60277778 | AC21: =AA21-AB21 -> 1.2305556 | AD21: =SUM(AD19:AD20) -> 0.54236111 | AE21: =AA21-AD21 -> 1.2909722
A22: 43182 | B22: =IF(data[[#This Row],[Hdébut garde]]<>"","Garde",IF(data[[#This Row],[Hdébut corrigé]]<>"","Intervention","")) -> Intervention | G22: VSAV | H22: 0.84513889 | I22: 0.84722222 | J22: =IF(data[[#This Row],[Hdébut garde]]<>"", data[[#This Row],[Hdébut garde]], data[[#This Row],[Hdébut interv.]]+IF(data[[#This Row],[Hdébut interv.]]<SUMPRODUCT((data[Date]=data[[#This Row],[Date]])*data[Hdébut garde]),1,0) ) -> 0.84513889 | K22: =IF(data[[#This Row],[Hfin garde]]<>"", data[[#This Row],[Hfin garde]]+IF(data[[#This Row],[Hfin garde]]<=data[[#This Row],[Hdébut garde]],1,0)+IF(data[[#This Row],[>24h]]<>"",1,0), IF(data[[#This Row],[Hfin Interv.]]="",0, data[[#This Row],[Hfin Interv.]] +IF(data[[#This Row],[Hfin Interv.]]>data[[#This Row],[Hdébut interv.]],0,1)) +IF(data[[#This Row],[Hdébut interv.]]<SUMPRODUCT((data[Date]=data[[#This Row],[Date]])*data[Hdébut garde]),1,0) ) -> 0.84722222 | L22: =IF(OR(WEEKDAY(data[[#This Row],[Date]],2)=7,COUNTIF(JF,data[[#This Row],[Date]])=1),"oui","non") -> non | M22: =MAX(0,(MIN(1,data[[#This Row],[Hfin corrigée]])-data[[#This Row],[Hdébut corrigé]])-data[[#This Row],[NUIT1.1]]-data[[#This Row],[NUIT1.2]]) -> 0.0020833333 | N22: =IF(data[[#This Row],[Hfin Interv.]]="",0,( MIN(FinNuit,MIN(1,data[[#This Row],[Hfin corrigée]]))-MIN(FinNuit,data[[#This Row],[Hdébut corrigé]]) )) -> 0 | O22: =MAX(0,(MAX(0,(MIN(1,data[[#This Row],[Hfin corrigée]])-DebNuit))-MAX(0,(data[[#This Row],[Hdébut corrigé]]-DebNuit)))) -> 0 | P22: =IF(OR(WEEKDAY(data[[#This Row],[Date]]+data[[#This Row],[Hfin corrigée]],2)=7,COUNTIF(JF,INT(data[[#This Row],[Date]]+data[[#This Row],[Hfin corrigée]]))=1),"oui","non") -> non | Q22: =MAX(0,data[[#This Row],[Hfin corrigée]]-MAX(1,data[[#This Row],[Hdébut corrigé]]))-data[[#This Row],[NUIT2.1]]-data[[#This Row],[NUIT2.2]] -> 0 | R22: =MAX(0,MIN(1+FinNuit,data[[#This Row],[Hfin corrigée]])-MAX(1,data[[#This Row],[Hdébut corrigé]])) -> 0 | S22: =MAX(0,(data[[#This Row],[Hfin corrigée]]-DebNuit-1)) -> 0 | T22: =IF(data[[#This Row],[Garde / Interv.]]="Intervention",MAX(0,data[[#This Row],[Hfin corrigée]]-SUMPRODUCT((data[Date]=data[[#This Row],[Date]])*(data[Garde / Interv.]="Garde")*data[Hfin corrigée])),0) -> 0 | U22: =MAX(0,IF(data[[#This Row],[Garde / Interv.]]="Garde",data[[#This Row],[Hfin corrigée]]-data[[#This Row],[Hdébut corrigé]]+SUMPRODUCT((data[Date]=data[[#This Row],[Date]])*data[Interv. hors poste])-SUMPRODUCT((data[Date]=data[[#This Row],[Date]])*(data[[Durée interv. jour]:[Durée interv. nuit]])),0)) -> 0 | V22: =MAX(0,IF(data[[#This Row],[Garde / Interv.]]="Intervention",(data[[#This Row],[Fin Dim ou Férié]]="non")*data[[#This Row],[JOUR2]]+(data[[#This Row],[Début Dim ou Férié]]="non")*data[[#This Row],[JOUR1]],0)) -> 0.0020833333 | W22: =IF(data[[#This Row],[Garde / Interv.]]="Intervention",(data[[#This Row],[Fin Dim ou Férié]]="oui")*data[[#This Row],[JOUR2]]+(data[[#This Row],[Début Dim ou Férié]]="oui")*data[[#This Row],[JOUR1]],0) -> 0 | X22: =MAX(0,IF(data[[#This Row],[Garde / Interv.]]="Intervention",data[[#This Row],[NUIT1.1]]+data[[#This Row],[NUIT1.2]]+data[[#This Row],[NUIT2.1]]+data[[#This Row],[NUIT2.2]],0)) -> 0 | Z22: résultat en caserne
A23: 43182 | B23: =IF(data[[#This Row],[Hdébut garde]]<>"","Garde",IF(data[[#This Row],[Hdébut corrigé]]<>"","Intervention","")) -> Intervention | G23: VSAV | H23: 0.98819444 | I23: 0.0083333333 | J23: =IF(data[[#This Row],[Hdébut garde]]<>"", data[[#This Row],[Hdébut garde]], data[[#This Row],[Hdébut interv.]]+IF(data[[#This Row],[Hdébut interv.]]<SUMPRODUCT((data[Date]=data[[#This Row],[Date]])*data[Hdébut garde]),1,0) ) -> 0.98819444 | K23: =IF(data[[#This Row],[Hfin garde]]<>"", data[[#This Row],[Hfin garde]]+IF(data[[#This Row],[Hfin garde]]<=data[[#This Row],[Hdébut garde]],1,0)+IF(data[[#This Row],[>24h]]<>"",1,0), IF(data[[#This Row],[Hfin Interv.]]="",0, data[[#This Row],[Hfin Interv.]] +IF(data[[#This Row],[Hfin Interv.]]>data[[#This Row],[Hdébut interv.]],0,1)) +IF(data[[#This Row],[Hdébut interv.]]<SUMPRODUCT((data[Date]=data[[#This Row],[Date]])*data[Hdébut garde]),1,0) ) -> 1.0083333 | L23: =IF(OR(WEEKDAY(data[[#This Row],[Date]],2)=7,COUNTIF(JF,data[[#This Row],[Date]])=1),"oui","non") -> non | M23: =MAX(0,(MIN(1,data[[#This Row],[Hfin corrigée]])-data[[#This Row],[Hdébut corrigé]])-data[[#This Row],[NUIT1.1]]-data[[#This Row],[NUIT1.2]]) -> 0 | N23: =IF(data[[#This Row],[Hfin Interv.]]="",0,( MIN(FinNuit,MIN(1,data[[#This Row],[Hfin corrigée]]))-MIN(FinNuit,data[[#This Row],[Hdébut corrigé]]) )) -> 0 | O23: =MAX(0,(MAX(0,(MIN(1,data[[#This Row],[Hfin corrigée]])-DebNuit))-MAX(0,(data[[#This Row],[Hdébut corrigé]]-DebNuit)))) -> 0.011805556 | P23: =IF(OR(WEEKDAY(data[[#This Row],[Date]]+data[[#This Row],[Hfin corrigée]],2)=7,COUNTIF(JF,INT(data[[#This Row],[Date]]+data[[#This Row],[Hfin corrigée]]))=1),"oui","non") -> non | Q23: =MAX(0,data[[#This Row],[Hfin corrigée]]-MAX(1,data[[#This Row],[Hdébut corrigé]]))-data[[#This Row],[NUIT2.1]]-data[[#This Row],[NUIT2.2]] -> 0 | R23: =MAX(0,MIN(1+FinNuit,data[[#This Row],[Hfin corrigée]])-MAX(1,data[[#This Row],[Hdébut corrigé]])) -> 0.0083333333 | S23: =MAX(0,(data[[#This Row],[Hfin corrigée]]-DebNuit-1)) -> 0 | T23: =IF(data[[#This Row],[Garde / Interv.]]="Intervention",MAX(0,data[[#This Row],[Hfin corrigée]]-SUMPRODUCT((data[Date]=data[[#This Row],[Date]])*(data[Garde / Interv.]="Garde")*data[Hfin corrigée])),0) -> 0 | U23: =MAX(0,IF(data[[#This Row],[Garde / Interv.]]="Garde",data[[#This Row],[Hfin corrigée]]-data[[#This Row],[Hdébut corrigé]]+SUMPRODUCT((data[Date]=data[[#This Row],[Date]])*data[Interv. hors poste])-SUMPRODUCT((data[Date]=data[[#This Row],[Date]])*(data[[Durée interv. jour]:[Durée interv. nuit]])),0)) -> 0 | V23: =MAX(0,IF(data[[#This Row],[Garde / Interv.]]="Intervention",(data[[#This Row],[Fin Dim ou Férié]]="non")*data[[#This Row],[JOUR2]]+(data[[#This Row],[Début Dim ou Férié]]="non")*data[[#This Row],[JOUR1]],0)) -> 0 | W23: =IF(data[[#This Row],[Garde / Interv.]]="Intervention",(data[[#This Row],[Fin Dim ou Férié]]="oui")*data[[#This Row],[JOUR2]]+(data[[#This Row],[Début Dim ou Férié]]="oui")*data[[#This Row],[JOUR1]],0) -> 0 | X23: =MAX(0,IF(data[[#This Row],[Garde / Interv.]]="Intervention",data[[#This Row],[NUIT1.1]]+data[[#This Row],[NUIT1.2]]+data[[#This Row],[NUIT2.1]]+data[[#This Row],[NUIT2.2]],0)) -> 0.020138889
A24: 43182 | B24: =IF(data[[#This Row],[Hdébut garde]]<>"","Garde",IF(data[[#This Row],[Hdébut corrigé]]<>"","Intervention","")) -> Intervention | G24: VSAV | H24: 0.0083333333 | I24: 0.059027778 | J24: =IF(data[[#This Row],[Hdébut garde]]<>"", data[[#This Row],[Hdébut garde]], data[[#This Row],[Hdébut interv.]]+IF(data[[#This Row],[Hdébut interv.]]<SUMPRODUCT((data[Date]=data[[#This Row],[Date]])*data[Hdébut garde]),1,0) ) -> 1.0083333 | K24: =IF(data[[#This Row],[Hfin garde]]<>"", data[[#This Row],[Hfin garde]]+IF(data[[#This Row],[Hfin garde]]<=data[[#This Row],[Hdébut garde]],1,0)+IF(data[[#This Row],[>24h]]<>"",1,0), IF(data[[#This Row],[Hfin Interv.]]="",0, data[[#This Row],[Hfin Interv.]] +IF(data[[#This Row],[Hfin Interv.]]>data[[#This Row],[Hdébut interv.]],0,1)) +IF(data[[#This Row],[Hdébut interv.]]<SUMPRODUCT((data[Date]=data[[#This Row],[Date]])*data[Hdébut garde]),1,0) ) -> 1.0590278 | L24: =IF(OR(WEEKDAY(data[[#This Row],[Date]],2)=7,COUNTIF(JF,data[[#This Row],[Date]])=1),"oui","non") -> non | M24: =MAX(0,(MIN(1,data[[#This Row],[Hfin corrigée]])-data[[#This Row],[Hdébut corrigé]])-data[[#This Row],[NUIT1.1]]-data[[#This Row],[NUIT1.2]]) -> 0 | N24: =IF(data[[#This Row],[Hfin Interv.]]="",0,( MIN(FinNuit,MIN(1,data[[#This Row],[Hfin corrigée]]))-MIN(FinNuit,data[[#This Row],[Hdébut corrigé]]) )) -> 0 | O24: =MAX(0,(MAX(0,(MIN(1,data[[#This Row],[Hfin corrigée]])-DebNuit))-MAX(0,(data[[#This Row],[Hdébut corrigé]]-DebNuit)))) -> 0 | P24: =IF(OR(WEEKDAY(data[[#This Row],[Date]]+data[[#This Row],[Hfin corrigée]],2)=7,COUNTIF(JF,INT(data[[#This Row],[Date]]+data[[#This Row],[Hfin corrigée]]))=1),"oui","non") -> non | Q24: =MAX(0,data[[#This Row],[Hfin corrigée]]-MAX(1,data[[#This Row],[Hdébut corrigé]]))-data[[#This Row],[NUIT2.1]]-data[[#This Row],[NUIT2.2]] -> 0 | R24: =MAX(0,MIN(1+FinNuit,data[[#This Row],[Hfin corrigée]])-MAX(1,data[[#This Row],[Hdébut corrigé]])) -> 0.050694444 | S24: =MAX(0,(data[[#This Row],[Hfin corrigée]]-DebNuit-1)) -> 0 | T24: =IF(data[[#This Row],[Garde / Interv.]]="Intervention",MAX(0,data[[#This Row],[Hfin corrigée]]-SUMPRODUCT((data[Date]=data[[#This Row],[Date]])*(data[Garde / Interv.]="Garde")*data[Hfin corrigée])),0) -> 0 | U24: =MAX(0,IF(data[[#This Row],[Garde / Interv.]]="Garde",data[[#This Row],[Hfin corrigée]]-data[[#This Row],[Hdébut corrigé]]+SUMPRODUCT((data[Date]=data[[#This Row],[Date]])*data[Interv. hors poste])-SUMPRODUCT((data[Date]=data[[#This Row],[Date]])*(data[[Durée interv. jour]:[Durée interv. nuit]])),0)) -> 0 | V24: =MAX(0,IF(data[[#This Row],[Garde / Interv.]]="Intervention",(data[[#This Row],[Fin Dim ou Férié]]="non")*data[[#This Row],[JOUR2]]+(data[[#This Row],[Début Dim ou Férié]]="non")*data[[#This Row],[JOUR1]],0)) -> 0 | W24: =IF(data[[#This Row],[Garde / Interv.]]="Intervention",(data[[#This Row],[Fin Dim ou Férié]]="oui")*data[[#This Row],[JOUR2]]+(data[[#This Row],[Début Dim ou Férié]]="oui")*data[[#This Row],[JOUR1]],0) -> 0 | X24: =MAX(0,IF(data[[#This Row],[Garde / Interv.]]="Intervention",data[[#This Row],[NUIT1.1]]+data[[#This Row],[NUIT1.2]]+data[[#This Row],[NUIT2.1]]+data[[#This Row],[NUIT2.2]],0)) -> 0.050694444
A25: 43182 | B25: =IF(data[[#This Row],[Hdébut garde]]<>"","Garde",IF(data[[#This Row],[Hdébut corrigé]]<>"","Intervention","")) -> Intervention | G25: VSAV | H25: 0.32430556 | I25: 0.39375 | J25: =IF(data[[#This Row],[Hdébut garde]]<>"", data[[#This Row],[Hdébut garde]], data[[#This Row],[Hdébut interv.]]+IF(data[[#This Row],[Hdébut interv.]]<SUMPRODUCT((data[Date]=data[[#This Row],[Date]])*data[Hdébut garde]),1,0) ) -> 1.3243056 | K25: =IF(data[[#This Row],[Hfin garde]]<>"", data[[#This Row],[Hfin garde]]+IF(data[[#This Row],[Hfin garde]]<=data[[#This Row],[Hdébut garde]],1,0)+IF(data[[#This Row],[>24h]]<>"",1,0), IF(data[[#This Row],[Hfin Interv.]]="",0, data[[#This Row],[Hfin Interv.]] +IF(data[[#This Row],[Hfin Interv.]]>data[[#This Row],[Hdébut interv.]],0,1)) +IF(data[[#This Row],[Hdébut interv.]]<SUMPRODUCT((data[Date]=data[[#This Row],[Date]])*data[Hdébut garde]),1,0) ) -> 1.39375 | L25: =IF(OR(WEEKDAY(data[[#This Row],[Date]],2)=7,COUNTIF(JF,data[[#This Row],[Date]])=1),"oui","non") -> non | M25: =MAX(0,(MIN(1,data[[#This Row],[Hfin corrigée]])-data[[#This Row],[Hdébut corrigé]])-data[[#This Row],[NUIT1.1]]-data[[#This Row],[NUIT1.2]]) -> 0 | N25: =IF(data[[#This Row],[Hfin Interv.]]="",0,( MIN(FinNuit,MIN(1,data[[#This Row],[Hfin corrigée]]))-MIN(FinNuit,data[[#This Row],[Hdébut corrigé]]) )) -> 0 | O25: =MAX(0,(MAX(0,(MIN(1,data[[#This Row],[Hfin corrigée]])-DebNuit))-MAX(0,(data[[#This Row],[Hdébut corrigé]]-DebNuit)))) -> 0 | P25: =IF(OR(WEEKDAY(data[[#This Row],[Date]]+data[[#This Row],[Hfin corrigée]],2)=7,COUNTIF(JF,INT(data[[#This Row],[Date]]+data[[#This Row],[Hfin corrigée]]))=1),"oui","non") -> non | Q25: =MAX(0,data[[#This Row],[Hfin corrigée]]-MAX(1,data[[#This Row],[Hdébut corrigé]]))-data[[#This Row],[NUIT2.1]]-data[[#This Row],[NUIT2.2]] -> 0.069444444 | R25: =MAX(0,MIN(1+FinNuit,data[[#This Row],[Hfin corrigée]])-MAX(1,data[[#This Row],[Hdébut corrigé]])) -> 0 | S25: =MAX(0,(data[[#This Row],[Hfin corrigée]]-DebNuit-1)) -> 0 | T25: =IF(data[[#This Row],[Garde / Interv.]]="Intervention",MAX(0,data[[#This Row],[Hfin corrigée]]-SUMPRODUCT((data[Date]=data[[#This Row],[Date]])*(data[Garde / Interv.]="Garde")*data[Hfin corrigée])),0) -> 0 | U25: =MAX(0,IF(data[[#This Row],[Garde / Interv.]]="Garde",data[[#This Row],[Hfin corrigée]]-data[[#This Row],[Hdébut corrigé]]+SUMPRODUCT((data[Date]=data[[#This Row],[Date]])*data[Interv. hors poste])-SUMPRODUCT((data[Date]=data[[#This Row],[Date]])*(data[[Durée interv. jour]:[Durée interv. nuit]])),0)) -> 0 | V25: =MAX(0,IF(data[[#This Row],[Garde / Interv.]]="Intervention",(data[[#This Row],[Fin Dim ou Férié]]="non")*data[[#This Row],[JOUR2]]+(data[[#This Row],[Début Dim ou Férié]]="non")*data[[#This Row],[JOUR1]],0)) -> 0.069444444 | W25: =IF(data[[#This Row],[Garde / Interv.]]="Intervention",(data[[#This Row],[Fin Dim ou Férié]]="oui")*data[[#This Row],[JOUR2]]+(data[[#This Row],[Début Dim ou Férié]]="oui")*data[[#This Row],[JOUR1]],0) -> 0 | X25: =MAX(0,IF(data[[#This Row],[Garde / Interv.]]="Intervention",data[[#This Row],[NUIT1.1]]+data[[#This Row],[NUIT1.2]]+data[[#This Row],[NUIT2.1]]+data[[#This Row],[NUIT2.2]],0)) -> 0
A26: 43188 | B26: =IF(data[[#This Row],[Hdébut garde]]<>"","Garde",IF(data[[#This Row],[Hdébut corrigé]]<>"","Intervention","")) -> Garde | C26: 0.41666667 | D26: 0.25 | J26: =IF(data[[#This Row],[Hdébut garde]]<>"", data[[#This Row],[Hdébut garde]], data[[#This Row],[Hdébut interv.]]+IF(data[[#This Row],[Hdébut interv.]]<SUMPRODUCT((data[Date]=data[[#This Row],[Date]])*data[Hdébut garde]),1,0) ) -> 0.41666667 | K26: =IF(data[[#This Row],[Hfin garde]]<>"", data[[#This Row],[Hfin garde]]+IF(data[[#This Row],[Hfin garde]]<=data[[#This Row],[Hdébut garde]],1,0)+IF(data[[#This Row],[>24h]]<>"",1,0), IF(data[[#This Row],[Hfin Interv.]]="",0, data[[#This Row],[Hfin Interv.]] +IF(data[[#This Row],[Hfin Interv.]]>data[[#This Row],[Hdébut interv.]],0,1)) +IF(data[[#This Row],[Hdébut interv.]]<SUMPRODUCT((data[Date]=data[[#This Row],[Date]])*data[Hdébut garde]),1,0) ) -> 1.25 | L26: =IF(OR(WEEKDAY(data[[#This Row],[Date]],2)=7,COUNTIF(JF,data[[#This Row],[Date]])=1),"oui","non") -> non | M26: =MAX(0,(MIN(1,data[[#This Row],[Hfin corrigée]])-data[[#This Row],[Hdébut corrigé]])-data[[#This Row],[NUIT1.1]]-data[[#This Row],[NUIT1.2]]) -> 0.5 | N26: =IF(data[[#This Row],[Hfin Interv.]]="",0,( MIN(FinNuit,MIN(1,data[[#This Row],[Hfin corrigée]]))-MIN(FinNuit,data[[#This Row],[Hdébut corrigé]]) )) -> 0 | O26: =MAX(0,(MAX(0,(MIN(1,data[[#This Row],[Hfin corrigée]])-DebNuit))-MAX(0,(data[[#This Row],[Hdébut corrigé]]-DebNuit)))) -> 0.083333333 | P26: =IF(OR(WEEKDAY(data[[#This Row],[Date]]+data[[#This Row],[Hfin corrigée]],2)=7,COUNTIF(JF,INT(data[[#This Row],[Date]]+data[[#This Row],[Hfin corrigée]]))=1),"oui","non") -> non | Q26: =MAX(0,data[[#This Row],[Hfin corrigée]]-MAX(1,data[[#This Row],[Hdébut corrigé]]))-data[[#This Row],[NUIT2.1]]-data[[#This Row],[NUIT2.2]] -> 0 | R26: =MAX(0,MIN(1+FinNuit,data[[#This Row],[Hfin corrigée]])-MAX(1,data[[#This Row],[Hdébut corrigé]])) -> 0.25 | S26: =MAX(0,(data[[#This Row],[Hfin corrigée]]-DebNuit-1)) -> 0 | T26: =IF(data[[#This Row],[Garde / Interv.]]="Intervention",MAX(0,data[[#This Row],[Hfin corrigée]]-SUMPRODUCT((data[Date]=data[[#This Row],[Date]])*(data[Garde / Interv.]="Garde")*data[Hfin corrigée])),0) -> 0 | U26: =MAX(0,IF(data[[#This Row],[Garde / Interv.]]="Garde",data[[#This Row],[Hfin corrigée]]-data[[#This Row],[Hdébut corrigé]]+SUMPRODUCT((data[Date]=data[[#This Row],[Date]])*data[Interv. hors poste])-SUMPRODUCT((data[Date]=data[[#This Row],[Date]])*(data[[Durée interv. jour]:[Durée interv. nuit]])),0)) -> 0.49722222 | V26: =MAX(0,IF(data[[#This Row],[Garde / Interv.]]="Intervention",(data[[#This Row],[Fin Dim ou Férié]]="non")*data[[#This Row],[JOUR2]]+(data[[#This Row],[Début Dim ou Férié]]="non")*data[[#This Row],[JOUR1]],0)) -> 0 | W26: =IF(data[[#This Row],[Garde / Interv.]]="Intervention",(data[[#This Row],[Fin Dim ou Férié]]="oui")*data[[#This Row],[JOUR2]]+(data[[#This Row],[Début Dim ou Férié]]="oui")*data[[#This Row],[JOUR1]],0) -> 0 | X26: =MAX(0,IF(data[[#This Row],[Garde / Interv.]]="Intervention",data[[#This Row],[NUIT1.1]]+data[[#This Row],[NUIT1.2]]+data[[#This Row],[NUIT2.1]]+data[[#This Row],[NUIT2.2]],0)) -> 0
A27: 43188 | B27: =IF(data[[#This Row],[Hdébut garde]]<>"","Garde",IF(data[[#This Row],[Hdébut corrigé]]<>"","Intervention","")) -> Intervention | G27: VSAV | H27: 0.43333333 | I27: 0.48958333 | J27: =IF(data[[#This Row],[Hdébut garde]]<>"", data[[#This Row],[Hdébut garde]], data[[#This Row],[Hdébut interv.]]+IF(data[[#This Row],[Hdébut interv.]]<SUMPRODUCT((data[Date]=data[[#This Row],[Date]])*data[Hdébut garde]),1,0) ) -> 0.43333333 | K27: =IF(data[[#This Row],[Hfin garde]]<>"", data[[#This Row],[Hfin garde]]+IF(data[[#This Row],[Hfin garde]]<=data[[#This Row],[Hdébut garde]],1,0)+IF(data[[#This Row],[>24h]]<>"",1,0), IF(data[[#This Row],[Hfin Interv.]]="",0, data[[#This Row],[Hfin Interv.]] +IF(data[[#This Row],[Hfin Interv.]]>data[[#This Row],[Hdébut interv.]],0,1)) +IF(data[[#This Row],[Hdébut interv.]]<SUMPRODUCT((data[Date]=data[[#This Row],[Date]])*data[Hdébut garde]),1,0) ) -> 0.48958333 | L27: =IF(OR(WEEKDAY(data[[#This Row],[Date]],2)=7,COUNTIF(JF,data[[#This Row],[Date]])=1),"oui","non") -> non | M27: =MAX(0,(MIN(1,data[[#This Row],[Hfin corrigée]])-data[[#This Row],[Hdébut corrigé]])-data[[#This Row],[NUIT1.1]]-data[[#This Row],[NUIT1.2]]) -> 0.05625 | N27: =IF(data[[#This Row],[Hfin Interv.]]="",0,( MIN(FinNuit,MIN(1,data[[#This Row],[Hfin corrigée]]))-MIN(FinNuit,data[[#This Row],[Hdébut corrigé]]) )) -> 0 | O27: =MAX(0,(MAX(0,(MIN(1,data[[#This Row],[Hfin corrigée]])-DebNuit))-MAX(0,(data[[#This Row],[Hdébut corrigé]]-DebNuit)))) -> 0 | P27: =IF(OR(WEEKDAY(data[[#This Row],[Date]]+data[[#This Row],[Hfin corrigée]],2)=7,COUNTIF(JF,INT(data[[#This Row],[Date]]+data[[#This Row],[Hfin corrigée]]))=1),"oui","non") -> non | Q27: =MAX(0,data[[#This Row],[Hfin corrigée]]-MAX(1,data[[#This Row],[Hdébut corrigé]]))-data[[#This Row],[NUIT2.1]]-data[[#This Row],[NUIT2.2]] -> 0 | R27: =MAX(0,MIN(1+FinNuit,data[[#This Row],[Hfin corrigée]])-MAX(1,data[[#This Row],[Hdébut corrigé]])) -> 0 | S27: =MAX(0,(data[[#This Row],[Hfin corrigée]]-DebNuit-1)) -> 0 | T27: =IF(data[[#This Row],[Garde / Interv.]]="Intervention",MAX(0,data[[#This Row],[Hfin corrigée]]-SUMPRODUCT((data[Date]=data[[#This Row],[Date]])*(data[Garde / Interv.]="Garde")*data[Hfin corrigée])),0) -> 0 | U27: =MAX(0,IF(data[[#This Row],[Garde / Interv.]]="Garde",data[[#This Row],[Hfin corrigée]]-data[[#This Row],[Hdébut corrigé]]+SUMPRODUCT((data[Date]=data[[#This Row],[Date]])*data[Interv. hors poste])-SUMPRODUCT((data[Date]=data[[#This Row],[Date]])*(data[[Durée interv. jour]:[Durée interv. nuit]])),0)) -> 0 | V27: =MAX(0,IF(data[[#This Row],[Garde / Interv.]]="Intervention",(data[[#This Row],[Fin Dim ou Férié]]="non")*data[[#This Row],[JOUR2]]+(data[[#This Row],[Début Dim ou Férié]]="non")*data[[#This Row],[JOUR1]],0)) -> 0.05625 | W27: =IF(data[[#This Row],[Garde / Interv.]]="Intervention",(data[[#This Row],[Fin Dim ou Férié]]="oui")*data[[#This Row],[JOUR2]]+(data[[#This Row],[Début Dim ou Férié]]="oui")*data[[#This Row],[JOUR1]],0) -> 0 | X27: =MAX(0,IF(data[[#This Row],[Garde / Interv.]]="Intervention",data[[#This Row],[NUIT1.1]]+data[[#This Row],[NUIT1.2]]+data[[#This Row],[NUIT2.1]]+data[[#This Row],[NUIT2.2]],0)) -> 0
A28: 43188 | B28: =IF(data[[#This Row],[Hdébut garde]]<>"","Garde",IF(data[[#This Row],[Hdébut corrigé]]<>"","Intervention","")) -> Intervention | G28: VSAV | H28: 0.51458333 | I28: 0.57361111 | J28: =IF(data[[#This Row],[Hdébut garde]]<>"", data[[#This Row],[Hdébut garde]], data[[#This Row],[Hdébut interv.]]+IF(data[[#This Row],[Hdébut interv.]]<SUMPRODUCT((data[Date]=data[[#This Row],[Date]])*data[Hdébut garde]),1,0) ) -> 0.51458333 | K28: =IF(data[[#This Row],[Hfin garde]]<>"", data[[#This Row],[Hfin garde]]+IF(data[[#This Row],[Hfin garde]]<=data[[#This Row],[Hdébut garde]],1,0)+IF(data[[#This Row],[>24h]]<>"",1,0), IF(data[[#This Row],[Hfin Interv.]]="",0, data[[#This Row],[Hfin Interv.]] +IF(data[[#This Row],[Hfin Interv.]]>data[[#This Row],[Hdébut interv.]],0,1)) +IF(data[[#This Row],[Hdébut interv.]]<SUMPRODUCT((data[Date]=data[[#This Row],[Date]])*data[Hdébut garde]),1,0) ) -> 0.57361111 | L28: =IF(OR(WEEKDAY(data[[#This Row],[Date]],2)=7,COUNTIF(JF,data[[#This Row],[Date]])=1),"oui","non") -> non | M28: =MAX(0,(MIN(1,data[[#This Row],[Hfin corrigée]])-data[[#This Row],[Hdébut corrigé]])-data[[#This Row],[NUIT1.1]]-data[[#This Row],[NUIT1.2]]) -> 0.059027778 | N28: =IF(data[[#This Row],[Hfin Interv.]]="",0,( MIN(FinNuit,MIN(1,data[[#This Row],[Hfin corrigée]]))-MIN(FinNuit,data[[#This Row],[Hdébut corrigé]]) )) -> 0 | O28: =MAX(0,(MAX(0,(MIN(1,data[[#This Row],[Hfin corrigée]])-DebNuit))-MAX(0,(data[[#This Row],[Hdébut corrigé]]-DebNuit)))) -> 0 | P28: =IF(OR(WEEKDAY(data[[#This Row],[Date]]+data[[#This Row],[Hfin corrigée]],2)=7,COUNTIF(JF,INT(data[[#This Row],[Date]]+data[[#This Row],[Hfin corrigée]]))=1),"oui","non") -> non | Q28: =MAX(0,data[[#This Row],[Hfin corrigée]]-MAX(1,data[[#This Row],[Hdébut corrigé]]))-data[[#This Row],[NUIT2.1]]-data[[#This Row],[NUIT2.2]] -> 0 | R28: =MAX(0,MIN(1+FinNuit,data[[#This Row],[Hfin corrigée]])-MAX(1,data[[#This Row],[Hdébut corrigé]])) -> 0 | S28: =MAX(0,(data[[#This Row],[Hfin corrigée]]-DebNuit-1)) -> 0 | T28: =IF(data[[#This Row],[Garde / Interv.]]="Intervention",MAX(0,data[[#This Row],[Hfin corrigée]]-SUMPRODUCT((data[Date]=data[[#This Row],[Date]])*(data[Garde / Interv.]="Garde")*data[Hfin corrigée])),0) -> 0 | U28: =MAX(0,IF(data[[#This Row],[Garde / Interv.]]="Garde",data[[#This Row],[Hfin corrigée]]-data[[#This Row],[Hdébut corrigé]]+SUMPRODUCT((data[Date]=data[[#This Row],[Date]])*data[Interv. hors poste])-SUMPRODUCT((data[Date]=data[[#This Row],[Date]])*(data[[Durée interv. jour]:[Durée interv. nuit]])),0)) -> 0 | V28: =MAX(0,IF(data[[#This Row],[Garde / Interv.]]="Intervention",(data[[#This Row],[Fin Dim ou Férié]]="non")*data[[#This Row],[JOUR2]]+(data[[#This Row],[Début Dim ou Férié]]="non")*data[[#This Row],[JOUR1]],0)) -> 0.059027778 | W28: =IF(data[[#This Row],[Garde / Interv.]]="Intervention",(data[[#This Row],[Fin Dim ou Férié]]="oui")*data[[#This Row],[JOUR2]]+(data[[#This Row],[Début Dim ou Férié]]="oui")*data[[#This Row],[JOUR1]],0) -> 0 | X28: =MAX(0,IF(data[[#This Row],[Garde / Interv.]]="Intervention",data[[#This Row],[NUIT1.1]]+data[[#This Row],[NUIT1.2]]+data[[#This Row],[NUIT2.1]]+data[[#This Row],[NUIT2.2]],0)) -> 0
A29: 43188 | B29: =IF(data[[#This Row],[Hdébut garde]]<>"","Garde",IF(data[[#This Row],[Hdébut corrigé]]<>"","Intervention","")) -> Intervention | G29: VSAV | H29: 0.62638889 | I29: 0.67361111 | J29: =IF(data[[#This Row],[Hdébut garde]]<>"", data[[#This Row],[Hdébut garde]], data[[#This Row],[Hdébut interv.]]+IF(data[[#This Row],[Hdébut interv.]]<SUMPRODUCT((data[Date]=data[[#This Row],[Date]])*data[Hdébut garde]),1,0) ) -> 0.62638889 | K29: =IF(data[[#This Row],[Hfin garde]]<>"", data[[#This Row],[Hfin garde]]+IF(data[[#This Row],[Hfin garde]]<=data[[#This Row],[Hdébut garde]],1,0)+IF(data[[#This Row],[>24h]]<>"",1,0), IF(data[[#This Row],[Hfin Interv.]]="",0, data[[#This Row],[Hfin Interv.]] +IF(data[[#This Row],[Hfin Interv.]]>data[[#This Row],[Hdébut interv.]],0,1)) +IF(data[[#This Row],[Hdébut interv.]]<SUMPRODUCT((data[Date]=data[[#This Row],[Date]])*data[Hdébut garde]),1,0) ) -> 0.67361111 | L29: =IF(OR(WEEKDAY(data[[#This Row],[Date]],2)=7,COUNTIF(JF,data[[#This Row],[Date]])=1),"oui","non") -> non | M29: =MAX(0,(MIN(1,data[[#This Row],[Hfin corrigée]])-data[[#This Row],[Hdébut corrigé]])-data[[#This Row],[NUIT1.1]]-data[[#This Row],[NUIT1.2]]) -> 0.047222222 | N29: =IF(data[[#This Row],[Hfin Interv.]]="",0,( MIN(FinNuit,MIN(1,data[[#This Row],[Hfin corrigée]]))-MIN(FinNuit,data[[#This Row],[Hdébut corrigé]]) )) -> 0 | O29: =MAX(0,(MAX(0,(MIN(1,data[[#This Row],[Hfin corrigée]])-DebNuit))-MAX(0,(data[[#This Row],[Hdébut corrigé]]-DebNuit)))) -> 0 | P29: =IF(OR(WEEKDAY(data[[#This Row],[Date]]+data[[#This Row],[Hfin corrigée]],2)=7,COUNTIF(JF,INT(data[[#This Row],[Date]]+data[[#This Row],[Hfin corrigée]]))=1),"oui","non") -> non | Q29: =MAX(0,data[[#This Row],[Hfin corrigée]]-MAX(1,data[[#This Row],[Hdébut corrigé]]))-data[[#This Row],[NUIT2.1]]-data[[#This Row],[NUIT2.2]] -> 0 | R29: =MAX(0,MIN(1+FinNuit,data[[#This Row],[Hfin corrigée]])-MAX(1,data[[#This Row],[Hdébut corrigé]])) -> 0 | S29: =MAX(0,(data[[#This Row],[Hfin corrigée]]-DebNuit-1)) -> 0 | T29: =IF(data[[#This Row],[Garde / Interv.]]="Intervention",MAX(0,data[[#This Row],[Hfin corrigée]]-SUMPRODUCT((data[Date]=data[[#This Row],[Date]])*(data[Garde / Interv.]="Garde")*data[Hfin corrigée])),0) -> 0 | U29: =MAX(0,IF(data[[#This Row],[Garde / Interv.]]="Garde",data[[#This Row],[Hfin corrigée]]-data[[#This Row],[Hdébut corrigé]]+SUMPRODUCT((data[Date]=data[[#This Row],[Date]])*data[Interv. hors poste])-SUMPRODUCT((data[Date]=data[[#This Row],[Date]])*(data[[Durée interv. jour]:[Durée interv. nuit]])),0)) -> 0 | V29: =MAX(0,IF(data[[#This Row],[Garde / Interv.]]="Intervention",(data[[#This Row],[Fin Dim ou Férié]]="non")*data[[#This Row],[JOUR2]]+(data[[#This Row],[Début Dim ou Férié]]="non")*data[[#This Row],[JOUR1]],0)) -> 0.047222222 | W29: =IF(data[[#This Row],[Garde / Interv.]]="Intervention",(data[[#This Row],[Fin Dim ou Férié]]="oui")*data[[#This Row],[JOUR2]]+(data[[#This Row],[Début Dim ou Férié]]="oui")*data[[#This Row],[JOUR1]],0) -> 0 | X29: =MAX(0,IF(data[[#This Row],[Garde / Interv.]]="Intervention",data[[#This Row],[NUIT1.1]]+data[[#This Row],[NUIT1.2]]+data[[#This Row],[NUIT2.1]]+data[[#This Row],[NUIT2.2]],0)) -> 0
A30: 43188 | B30: =IF(data[[#This Row],[Hdébut garde]]<>"","Garde",IF(data[[#This Row],[Hdébut corrigé]]<>"","Intervention","")) -> Intervention | G30: VSAV | H30: 0.67361111 | I30: 0.72638889 | J30: =IF(data[[#This Row],[Hdébut garde]]<>"", data[[#This Row],[Hdébut garde]], data[[#This Row],[Hdébut interv.]]+IF(data[[#This Row],[Hdébut interv.]]<SUMPRODUCT((data[Date]=data[[#This Row],[Date]])*data[Hdébut garde]),1,0) ) -> 0.67361111 | K30: =IF(data[[#This Row],[Hfin garde]]<>"", data[[#This Row],[Hfin garde]]+IF(data[[#This Row],[Hfin garde]]<=data[[#This Row],[Hdébut garde]],1,0)+IF(data[[#This Row],[>24h]]<>"",1,0), IF(data[[#This Row],[Hfin Interv.]]="",0, data[[#This Row],[Hfin Interv.]] +IF(data[[#This Row],[Hfin Interv.]]>data[[#This Row],[Hdébut interv.]],0,1)) +IF(data[[#This Row],[Hdébut interv.]]<SUMPRODUCT((data[Date]=data[[#This Row],[Date]])*data[Hdébut garde]),1,0) ) -> 0.72638889 | L30: =IF(OR(WEEKDAY(data[[#This Row],[Date]],2)=7,COUNTIF(JF,data[[#This Row],[Date]])=1),"oui","non") -> non | M30: =MAX(0,(MIN(1,data[[#This Row],[Hfin corrigée]])-data[[#This Row],[Hdébut corrigé]])-data[[#This Row],[NUIT1.1]]-data[[#This Row],[NUIT1.2]]) -> 0.052777778 | N30: =IF(data[[#This Row],[Hfin Interv.]]="",0,( MIN(FinNuit,MIN(1,data[[#This Row],[Hfin corrigée]]))-MIN(FinNuit,data[[#This Row],[Hdébut corrigé]]) )) -> 0 | O30: =MAX(0,(MAX(0,(MIN(1,data[[#This Row],[Hfin corrigée]])-DebNuit))-MAX(0,(data[[#This Row],[Hdébut corrigé]]-DebNuit)))) -> 0 | P30: =IF(OR(WEEKDAY(data[[#This Row],[Date]]+data[[#This Row],[Hfin corrigée]],2)=7,COUNTIF(JF,INT(data[[#This Row],[Date]]+data[[#This Row],[Hfin corrigée]]))=1),"oui","non") -> non | Q30: =MAX(0,data[[#This Row],[Hfin corrigée]]-MAX(1,data[[#This Row],[Hdébut corrigé]]))-data[[#This Row],[NUIT2.1]]-data[[#This Row],[NUIT2.2]] -> 0 | R30: =MAX(0,MIN(1+FinNuit,data[[#This Row],[Hfin corrigée]])-MAX(1,data[[#This Row],[Hdébut corrigé]])) -> 0 | S30: =MAX(0,(data[[#This Row],[Hfin corrigée]]-DebNuit-1)) -> 0 | T30: =IF(data[[#This Row],[Garde / Interv.]]="Intervention",MAX(0,data[[#This Row],[Hfin corrigée]]-SUMPRODUCT((data[Date]=data[[#This Row],[Date]])*(data[Garde / Interv.]="Garde")*data[Hfin corrigée])),0) -> 0 | U30: =MAX(0,IF(data[[#This Row],[Garde / Interv.]]="Garde",data[[#This Row],[Hfin corrigée]]-data[[#This Row],[Hdébut corrigé]]+SUMPRODUCT((data[Date]=data[[#This Row],[Date]])*data[Interv. hors poste])-SUMPRODUCT((data[Date]=data[[#This Row],[Date]])*(data[[Durée interv. jour]:[Durée interv. nuit]])),0)) -> 0 | V30: =MAX(0,IF(data[[#This Row],[Garde / Interv.]]="Intervention",(data[[#This Row],[Fin Dim ou Férié]]="non")*data[[#This Row],[JOUR2]]+(data[[#This Row],[Début Dim ou Férié]]="non")*data[[#This Row],[JOUR1]],0)) -> 0.052777778 | W30: =IF(data[[#This Row],[Garde / Interv.]]="Intervention",(data[[#This Row],[Fin Dim ou Férié]]="oui")*data[[#This Row],[JOUR2]]+(data[[#This Row],[Début Dim ou Férié]]="oui")*data[[#This Row],[JOUR1]],0) -> 0 | X30: =MAX(0,IF(data[[#This Row],[Garde / Interv.]]="Intervention",data[[#This Row],[NUIT1.1]]+data[[#This Row],[NUIT1.2]]+data[[#This Row],[NUIT2.1]]+data[[#This Row],[NUIT2.2]],0)) -> 0
A31: 43188 | B31: =IF(data[[#This Row],[Hdébut garde]]<>"","Garde",IF(data[[#This Row],[Hdébut corrigé]]<>"","Intervention","")) -> Intervention | G31: VSAV | H31: 0.74652778 | I31: 0.77777778 | J31: =IF(data[[#This Row],[Hdébut garde]]<>"", data[[#This Row],[Hdébut garde]], data[[#This Row],[Hdébut interv.]]+IF(data[[#This Row],[Hdébut interv.]]<SUMPRODUCT((data[Date]=data[[#This Row],[Date]])*data[Hdébut garde]),1,0) ) -> 0.74652778 | K31: =IF(data[[#This Row],[Hfin garde]]<>"", data[[#This Row],[Hfin garde]]+IF(data[[#This Row],[Hfin garde]]<=data[[#This Row],[Hdébut garde]],1,0)+IF(data[[#This Row],[>24h]]<>"",1,0), IF(data[[#This Row],[Hfin Interv.]]="",0, data[[#This Row],[Hfin Interv.]] +IF(data[[#This Row],[Hfin Interv.]]>data[[#This Row],[Hdébut interv.]],0,1)) +IF(data[[#This Row],[Hdébut interv.]]<SUMPRODUCT((data[Date]=data[[#This Row],[Date]])*data[Hdébut garde]),1,0) ) -> 0.77777778 | L31: =IF(OR(WEEKDAY(data[[#This Row],[Date]],2)=7,COUNTIF(JF,data[[#This Row],[Date]])=1),"oui","non") -> non | M31: =MAX(0,(MIN(1,data[[#This Row],[Hfin corrigée]])-data[[#This Row],[Hdébut corrigé]])-data[[#This Row],[NUIT1.1]]-data[[#This Row],[NUIT1.2]]) -> 0.03125 | N31: =IF(data[[#This Row],[Hfin Interv.]]="",0,( MIN(FinNuit,MIN(1,data[[#This Row],[Hfin corrigée]]))-MIN(FinNuit,data[[#This Row],[Hdébut corrigé]]) )) -> 0 | O31: =MAX(0,(MAX(0,(MIN(1,data[[#This Row],[Hfin corrigée]])-DebNuit))-MAX(0,(data[[#This Row],[Hdébut corrigé]]-DebNuit)))) -> 0 | P31: =IF(OR(WEEKDAY(data[[#This Row],[Date]]+data[[#This Row],[Hfin corrigée]],2)=7,COUNTIF(JF,INT(data[[#This Row],[Date]]+data[[#This Row],[Hfin corrigée]]))=1),"oui","non") -> non | Q31: =MAX(0,data[[#This Row],[Hfin corrigée]]-MAX(1,data[[#This Row],[Hdébut corrigé]]))-data[[#This Row],[NUIT2.1]]-data[[#This Row],[NUIT2.2]] -> 0 | R31: =MAX(0,MIN(1+FinNuit,data[[#This Row],[Hfin corrigée]])-MAX(1,data[[#This Row],[Hdébut corrigé]])) -> 0 | S31: =MAX(0,(data[[#This Row],[Hfin corrigée]]-DebNuit-1)) -> 0 | T31: =IF(data[[#This Row],[Garde / Interv.]]="Intervention",MAX(0,data[[#This Row],[Hfin corrigée]]-SUMPRODUCT((data[Date]=data[[#This Row],[Date]])*(data[Garde / Interv.]="Garde")*data[Hfin corrigée])),0) -> 0 | U31: =MAX(0,IF(data[[#This Row],[Garde / Interv.]]="Garde",data[[#This Row],[Hfin corrigée]]-data[[#This Row],[Hdébut corrigé]]+SUMPRODUCT((data[Date]=data[[#This Row],[Date]])*data[Interv. hors poste])-SUMPRODUCT((data[Date]=data[[#This Row],[Date]])*(data[[Durée interv. jour]:[Durée interv. nuit]])),0)) -> 0 | V31: =MAX(0,IF(data[[#This Row],[Garde / Interv.]]="Intervention",(data[[#This Row],[Fin Dim ou Férié]]="non")*data[[#This Row],[JOUR2]]+(data[[#This Row],[Début Dim ou Férié]]="non")*data[[#This Row],[JOUR1]],0)) -> 0.03125 | W31: =IF(data[[#This Row],[Garde / Interv.]]="Intervention",(data[[#This Row],[Fin Dim ou Férié]]="oui")*data[[#This Row],[JOUR2]]+(data[[#This Row],[Début Dim ou Férié]]="oui")*data[[#This Row],[JOUR1]],0) -> 0 | X31: =MAX(0,IF(data[[#This Row],[Garde / Interv.]]="Intervention",data[[#This Row],[NUIT1.1]]+data[[#This Row],[NUIT1.2]]+data[[#This Row],[NUIT2.1]]+data[[#This Row],[NUIT2.2]],0)) -> 0
A32: 43188 | B32: =IF(data[[#This Row],[Hdébut garde]]<>"","Garde",IF(data[[#This Row],[Hdébut corrigé]]<>"","Intervention","")) -> Intervention | G32: VSAV | H32: 0.78472222 | I32: 0.86319444 | J32: =IF(data[[#This Row],[Hdébut garde]]<>"", data[[#This Row],[Hdébut garde]], data[[#This Row],[Hdébut interv.]]+IF(data[[#This Row],[Hdébut interv.]]<SUMPRODUCT((data[Date]=data[[#This Row],[Date]])*data[Hdébut garde]),1,0) ) -> 0.78472222 | K32: =IF(data[[#This Row],[Hfin garde]]<>"", data[[#This Row],[Hfin garde]]+IF(data[[#This Row],[Hfin garde]]<=data[[#This Row],[Hdébut garde]],1,0)+IF(data[[#This Row],[>24h]]<>"",1,0), IF(data[[#This Row],[Hfin Interv.]]="",0, data[[#This Row],[Hfin Interv.]] +IF(data[[#This Row],[Hfin Interv.]]>data[[#This Row],[Hdébut interv.]],0,1)) +IF(data[[#This Row],[Hdébut interv.]]<SUMPRODUCT((data[Date]=data[[#This Row],[Date]])*data[Hdébut garde]),1,0) ) -> 0.86319444 | L32: =IF(OR(WEEKDAY(data[[#This Row],[Date]],2)=7,COUNTIF(JF,data[[#This Row],[Date]])=1),"oui","non") -> non | M32: =MAX(0,(MIN(1,data[[#This Row],[Hfin corrigée]])-data[[#This Row],[Hdébut corrigé]])-data[[#This Row],[NUIT1.1]]-data[[#This Row],[NUIT1.2]]) -> 0.078472222 | N32: =IF(data[[#This Row],[Hfin Interv.]]="",0,( MIN(FinNuit,MIN(1,data[[#This Row],[Hfin corrigée]]))-MIN(FinNuit,data[[#This Row],[Hdébut corrigé]]) )) -> 0 | O32: =MAX(0,(MAX(0,(MIN(1,data[[#This Row],[Hfin corrigée]])-DebNuit))-MAX(0,(data[[#This Row],[Hdébut corrigé]]-DebNuit)))) -> 0 | P32: =IF(OR(WEEKDAY(data[[#This Row],[Date]]+data[[#This Row],[Hfin corrigée]],2)=7,COUNTIF(JF,INT(data[[#This Row],[Date]]+data[[#This Row],[Hfin corrigée]]))=1),"oui","non") -> non | Q32: =MAX(0,data[[#This Row],[Hfin corrigée]]-MAX(1,data[[#This Row],[Hdébut corrigé]]))-data[[#This Row],[NUIT2.1]]-data[[#This Row],[NUIT2.2]] -> 0 | R32: =MAX(0,MIN(1+FinNuit,data[[#This Row],[Hfin corrigée]])-MAX(1,data[[#This Row],[Hdébut corrigé]])) -> 0 | S32: =MAX(0,(data[[#This Row],[Hfin corrigée]]-DebNuit-1)) -> 0 | T32: =IF(data[[#This Row],[Garde / Interv.]]="Intervention",MAX(0,data[[#This Row],[Hfin corrigée]]-SUMPRODUCT((data[Date]=data[[#This Row],[Date]])*(data[Garde / Interv.]="Garde")*data[Hfin corrigée])),0) -> 0 | U32: =MAX(0,IF(data[[#This Row],[Garde / Interv.]]="Garde",data[[#This Row],[Hfin corrigée]]-data[[#This Row],[Hdébut corrigé]]+SUMPRODUCT((data[Date]=data[[#This Row],[Date]])*data[Interv. hors poste])-SUMPRODUCT((data[Date]=data[[#This Row],[Date]])*(data[[Durée interv. jour]:[Durée interv. nuit]])),0)) -> 0 | V32: =MAX(0,IF(data[[#This Row],[Garde / Interv.]]="Intervention",(data[[#This Row],[Fin Dim ou Férié]]="non")*data[[#This Row],[JOUR2]]+(data[[#This Row],[Début Dim ou Férié]]="non")*data[[#This Row],[JOUR1]],0)) -> 0.078472222 | W32: =IF(data[[#This Row],[Garde / Interv.]]="Intervention",(data[[#This Row],[Fin Dim ou Férié]]="oui")*data[[#This Row],[JOUR2]]+(data[[#This Row],[Début Dim ou Férié]]="oui")*data[[#This Row],[JOUR1]],0) -> 0 | X32: =MAX(0,IF(data[[#This Row],[Garde / Interv.]]="Intervention",data[[#This Row],[NUIT1.1]]+data[[#This Row],[NUIT1.2]]+data[[#This Row],[NUIT2.1]]+data[[#This Row],[NUIT2.2]],0)) -> 0
A33: 43188 | B33: =IF(data[[#This Row],[Hdébut garde]]<>"","Garde",IF(data[[#This Row],[Hdébut corrigé]]<>"","Intervention","")) -> Intervention | G33: INC | H33: 0.89583333 | I33: 0.90694444 | J33: =IF(data[[#This Row],[Hdébut garde]]<>"", data[[#This Row],[Hdébut garde]], data[[#This Row],[Hdébut interv.]]+IF(data[[#This Row],[Hdébut interv.]]<SUMPRODUCT((data[Date]=data[[#This Row],[Date]])*data[Hdébut garde]),1,0) ) -> 0.89583333 | K33: =IF(data[[#This Row],[Hfin garde]]<>"", data[[#This Row],[Hfin garde]]+IF(data[[#This Row],[Hfin garde]]<=data[[#This Row],[Hdébut garde]],1,0)+IF(data[[#This Row],[>24h]]<>"",1,0), IF(data[[#This Row],[Hfin Interv.]]="",0, data[[#This Row],[Hfin Interv.]] +IF(data[[#This Row],[Hfin Interv.]]>data[[#This Row],[Hdébut interv.]],0,1)) +IF(data[[#This Row],[Hdébut interv.]]<SUMPRODUCT((data[Date]=data[[#This Row],[Date]])*data[Hdébut garde]),1,0) ) -> 0.90694444 | L33: =IF(OR(WEEKDAY(data[[#This Row],[Date]],2)=7,COUNTIF(JF,data[[#This Row],[Date]])=1),"oui","non") -> non | M33: =MAX(0,(MIN(1,data[[#This Row],[Hfin corrigée]])-data[[#This Row],[Hdébut corrigé]])-data[[#This Row],[NUIT1.1]]-data[[#This Row],[NUIT1.2]]) -> 0.011111111 | N33: =IF(data[[#This Row],[Hfin Interv.]]="",0,( MIN(FinNuit,MIN(1,data[[#This Row],[Hfin corrigée]]))-MIN(FinNuit,data[[#This Row],[Hdébut corrigé]]) )) -> 0 | O33: =MAX(0,(MAX(0,(MIN(1,data[[#This Row],[Hfin corrigée]])-DebNuit))-MAX(0,(data[[#This Row],[Hdébut corrigé]]-DebNuit)))) -> 0 | P33: =IF(OR(WEEKDAY(data[[#This Row],[Date]]+data[[#This Row],[Hfin corrigée]],2)=7,COUNTIF(JF,INT(data[[#This Row],[Date]]+data[[#This Row],[Hfin corrigée]]))=1),"oui","non") -> non | Q33: =MAX(0,data[[#This Row],[Hfin corrigée]]-MAX(1,data[[#This Row],[Hdébut corrigé]]))-data[[#This Row],[NUIT2.1]]-data[[#This Row],[NUIT2.2]] -> 0 | R33: =MAX(0,MIN(1+FinNuit,data[[#This Row],[Hfin corrigée]])-MAX(1,data[[#This Row],[Hdébut corrigé]])) -> 0 | S33: =MAX(0,(data[[#This Row],[Hfin corrigée]]-DebNuit-1)) -> 0 | T33: =IF(data[[#This Row],[Garde / Interv.]]="Intervention",MAX(0,data[[#This Row],[Hfin corrigée]]-SUMPRODUCT((data[Date]=data[[#This Row],[Date]])*(data[Garde / Interv.]="Garde")*data[Hfin corrigée])),0) -> 0 | U33: =MAX(0,IF(data[[#This Row],[Garde / Interv.]]="Garde",data[[#This Row],[Hfin corrigée]]-data[[#This Row],[Hdébut corrigé]]+SUMPRODUCT((data[Date]=data[[#This Row],[Date]])*data[Interv. hors poste])-SUMPRODUCT((data[Date]=data[[#This Row],[Date]])*(data[[Durée interv. jour]:[Durée interv. nuit]])),0)) -> 0 | V33: =MAX(0,IF(data[[#This Row],[Garde / Interv.]]="Intervention",(data[[#This Row],[Fin Dim ou Férié]]="non")*data[[#This Row],[JOUR2]]+(data[[#This Row],[Début Dim ou Férié]]="non")*data[[#This Row],[JOUR1]],0)) -> 0.011111111 | W33: =IF(data[[#This Row],[Garde / Interv.]]="Intervention",(data[[#This Row],[Fin Dim ou Férié]]="oui")*data[[#This Row],[JOUR2]]+(data[[#This Row],[Début Dim ou Férié]]="oui")*data[[#This Row],[JOUR1]],0) -> 0 | X33: =MAX(0,IF(data[[#This Row],[Garde / Interv.]]="Intervention",data[[#This Row],[NUIT1.1]]+data[[#This Row],[NUIT1.2]]+data[[#This Row],[NUIT2.1]]+data[[#This Row],[NUIT2.2]],0)) -> 0 | AA33: garde postée | AB33: inter
A34: 43198 | B34: =IF(data[[#This Row],[Hdébut garde]]<>"","Garde",IF(data[[#This Row],[Hdébut corrigé]]<>"","Intervention","")) -> Garde | C34: 0.33333333 | D34: 0.25 | J34: =IF(data[[#This Row],[Hdébut garde]]<>"", data[[#This Row],[Hdébut garde]], data[[#This Row],[Hdébut interv.]]+IF(data[[#This Row],[Hdébut interv.]]<SUMPRODUCT((data[Date]=data[[#This Row],[Date]])*data[Hdébut garde]),1,0) ) -> 0.33333333 | K34: =IF(data[[#This Row],[Hfin garde]]<>"", data[[#This Row],[Hfin garde]]+IF(data[[#This Row],[Hfin garde]]<=data[[#This Row],[Hdébut garde]],1,0)+IF(data[[#This Row],[>24h]]<>"",1,0), IF(data[[#This Row],[Hfin Interv.]]="",0, data[[#This Row],[Hfin Interv.]] +IF(data[[#This Row],[Hfin Interv.]]>data[[#This Row],[Hdébut interv.]],0,1)) +IF(data[[#This Row],[Hdébut interv.]]<SUMPRODUCT((data[Date]=data[[#This Row],[Date]])*data[Hdébut garde]),1,0) ) -> 1.25 | L34: =IF(OR(WEEKDAY(data[[#This Row],[Date]],2)=7,COUNTIF(JF,data[[#This Row],[Date]])=1),"oui","non") -> oui | M34: =MAX(0,(MIN(1,data[[#This Row],[Hfin corrigée]])-data[[#This Row],[Hdébut corrigé]])-data[[#This Row],[NUIT1.1]]-data[[#This Row],[NUIT1.2]]) -> 0.58333333 | N34: =IF(data[[#This Row],[Hfin Interv.]]="",0,( MIN(FinNuit,MIN(1,data[[#This Row],[Hfin corrigée]]))-MIN(FinNuit,data[[#This Row],[Hdébut corrigé]]) )) -> 0 | O34: =MAX(0,(MAX(0,(MIN(1,data[[#This Row],[Hfin corrigée]])-DebNuit))-MAX(0,(data[[#This Row],[Hdébut corrigé]]-DebNuit)))) -> 0.083333333 | P34: =IF(OR(WEEKDAY(data[[#This Row],[Date]]+data[[#This Row],[Hfin corrigée]],2)=7,COUNTIF(JF,INT(data[[#This Row],[Date]]+data[[#This Row],[Hfin corrigée]]))=1),"oui","non") -> non | Q34: =MAX(0,data[[#This Row],[Hfin corrigée]]-MAX(1,data[[#This Row],[Hdébut corrigé]]))-data[[#This Row],[NUIT2.1]]-data[[#This Row],[NUIT2.2]] -> 0 | R34: =MAX(0,MIN(1+FinNuit,data[[#This Row],[Hfin corrigée]])-MAX(1,data[[#This Row],[Hdébut corrigé]])) -> 0.25 | S34: =MAX(0,(data[[#This Row],[Hfin corrigée]]-DebNuit-1)) -> 0 | T34: =IF(data[[#This Row],[Garde / Interv.]]="Intervention",MAX(0,data[[#This Row],[Hfin corrigée]]-SUMPRODUCT((data[Date]=data[[#This Row],[Date]])*(data[Garde / Interv.]="Garde")*data[Hfin corrigée])),0) -> 0 | U34: =MAX(0,IF(data[[#This Row],[Garde / Interv.]]="Garde",data[[#This Row],[Hfin corrigée]]-data[[#This Row],[Hdébut corrigé]]+SUMPRODUCT((data[Date]=data[[#This Row],[Date]])*data[Interv. hors poste])-SUMPRODUCT((data[Date]=data[[#This Row],[Date]])*(data[[Durée interv. jour]:[Durée interv. nuit]])),0)) -> 0.73333333 | V34: =MAX(0,IF(data[[#This Row],[Garde / Interv.]]="Intervention",(data[[#This Row],[Fin Dim ou Férié]]="non")*data[[#This Row],[JOUR2]]+(data[[#This Row],[Début Dim ou Férié]]="non")*data[[#This Row],[JOUR1]],0)) -> 0 | W34: =IF(data[[#This Row],[Garde / Interv.]]="Intervention",(data[[#This Row],[Fin Dim ou Férié]]="oui")*data[[#This Row],[JOUR2]]+(data[[#This Row],[Début Dim ou Férié]]="oui")*data[[#This Row],[JOUR1]],0) -> 0 | X34: =MAX(0,IF(data[[#This Row],[Garde / Interv.]]="Intervention",data[[#This Row],[NUIT1.1]]+data[[#This Row],[NUIT1.2]]+data[[#This Row],[NUIT2.1]]+data[[#This Row],[NUIT2.2]],0)) -> 0 | Z34: Mois d'avril | AA34: =SUM(U34) -> 0.73333333 | AB34: =SUM(V35:X37) -> 0.18333333 | AC34: =AA34-AB34 -> 0.55
A35: 43198 | B35: =IF(data[[#This Row],[Hdébut garde]]<>"","Garde",IF(data[[#This Row],[Hdébut corrigé]]<>"","Intervention","")) -> Intervention | G35: VSAV | H35: 0.4125 | I35: 0.49097222 | J35: =IF(data[[#This Row],[Hdébut garde]]<>"", data[[#This Row],[Hdébut garde]], data[[#This Row],[Hdébut interv.]]+IF(data[[#This Row],[Hdébut interv.]]<SUMPRODUCT((data[Date]=data[[#This Row],[Date]])*data[Hdébut garde]),1,0) ) -> 0.4125 | K35: =IF(data[[#This Row],[Hfin garde]]<>"", data[[#This Row],[Hfin garde]]+IF(data[[#This Row],[Hfin garde]]<=data[[#This Row],[Hdébut garde]],1,0)+IF(data[[#This Row],[>24h]]<>"",1,0), IF(data[[#This Row],[Hfin Interv.]]="",0, data[[#This Row],[Hfin Interv.]] +IF(data[[#This Row],[Hfin Interv.]]>data[[#This Row],[Hdébut interv.]],0,1)) +IF(data[[#This Row],[Hdébut interv.]]<SUMPRODUCT((data[Date]=data[[#This Row],[Date]])*data[Hdébut garde]),1,0) ) -> 0.49097222 | L35: =IF(OR(WEEKDAY(data[[#This Row],[Date]],2)=7,COUNTIF(JF,data[[#This Row],[Date]])=1),"oui","non") -> oui | M35: =MAX(0,(MIN(1,data[[#This Row],[Hfin corrigée]])-data[[#This Row],[Hdébut corrigé]])-data[[#This Row],[NUIT1.1]]-data[[#This Row],[NUIT1.2]]) -> 0.078472222 | N35: =IF(data[[#This Row],[Hfin Interv.]]="",0,( MIN(FinNuit,MIN(1,data[[#This Row],[Hfin corrigée]]))-MIN(FinNuit,data[[#This Row],[Hdébut corrigé]]) )) -> 0 | O35: =MAX(0,(MAX(0,(MIN(1,data[[#This Row],[Hfin corrigée]])-DebNuit))-MAX(0,(data[[#This Row],[Hdébut corrigé]]-DebNuit)))) -> 0 | P35: =IF(OR(WEEKDAY(data[[#This Row],[Date]]+data[[#This Row],[Hfin corrigée]],2)=7,COUNTIF(JF,INT(data[[#This Row],[Date]]+data[[#This Row],[Hfin corrigée]]))=1),"oui","non") -> oui | Q35: =MAX(0,data[[#This Row],[Hfin corrigée]]-MAX(1,data[[#This Row],[Hdébut corrigé]]))-data[[#This Row],[NUIT2.1]]-data[[#This Row],[NUIT2.2]] -> 0 | R35: =MAX(0,MIN(1+FinNuit,data[[#This Row],[Hfin corrigée]])-MAX(1,data[[#This Row],[Hdébut corrigé]])) -> 0 | S35: =MAX(0,(data[[#This Row],[Hfin corrigée]]-DebNuit-1)) -> 0 | T35: =IF(data[[#This Row],[Garde / Interv.]]="Intervention",MAX(0,data[[#This Row],[Hfin corrigée]]-SUMPRODUCT((data[Date]=data[[#This Row],[Date]])*(data[Garde / Interv.]="Garde")*data[Hfin corrigée])),0) -> 0 | U35: =MAX(0,IF(data[[#This Row],[Garde / Interv.]]="Garde",data[[#This Row],[Hfin corrigée]]-data[[#This Row],[Hdébut corrigé]]+SUMPRODUCT((data[Date]=data[[#This Row],[Date]])*data[Interv. hors poste])-SUMPRODUCT((data[Date]=data[[#This Row],[Date]])*(data[[Durée interv. jour]:[Durée interv. nuit]])),0)) -> 0 | V35: =MAX(0,IF(data[[#This Row],[Garde / Interv.]]="Intervention",(data[[#This Row],[Fin Dim ou Férié]]="non")*data[[#This Row],[JOUR2]]+(data[[#This Row],[Début Dim ou Férié]]="non")*data[[#This Row],[JOUR1]],0)) -> 0 | W35: =IF(data[[#This Row],[Garde / Interv.]]="Intervention",(data[[#This Row],[Fin Dim ou Férié]]="oui")*data[[#This Row],[JOUR2]]+(data[[#This Row],[Début Dim ou Férié]]="oui")*data[[#This Row],[JOUR1]],0) -> 0.078472222 | X35: =MAX(0,IF(data[[#This Row],[Garde / Interv.]]="Intervention",data[[#This Row],[NUIT1.1]]+data[[#This Row],[NUIT1.2]]+data[[#This Row],[NUIT2.1]]+data[[#This Row],[NUIT2.2]],0)) -> 0 | Z35: garde de 20h | AB35: =Z36-AB34 -> 0.65
A36: 43198 | B36: =IF(data[[#This Row],[Hdébut garde]]<>"","Garde",IF(data[[#This Row],[Hdébut corrigé]]<>"","Intervention","")) -> Intervention | G36: VSAV | H36: 0.49166667 | I36: 0.54305556 | J36: =IF(data[[#This Row],[Hdébut garde]]<>"", data[[#This Row],[Hdébut garde]], data[[#This Row],[Hdébut interv.]]+IF(data[[#This Row],[Hdébut interv.]]<SUMPRODUCT((data[Date]=data[[#This Row],[Date]])*data[Hdébut garde]),1,0) ) -> 0.49166667 | K36: =IF(data[[#This Row],[Hfin garde]]<>"", data[[#This Row],[Hfin garde]]+IF(data[[#This Row],[Hfin garde]]<=data[[#This Row],[Hdébut garde]],1,0)+IF(data[[#This Row],[>24h]]<>"",1,0), IF(data[[#This Row],[Hfin Interv.]]="",0, data[[#This Row],[Hfin Interv.]] +IF(data[[#This Row],[Hfin Interv.]]>data[[#This Row],[Hdébut interv.]],0,1)) +IF(data[[#This Row],[Hdébut interv.]]<SUMPRODUCT((data[Date]=data[[#This Row],[Date]])*data[Hdébut garde]),1,0) ) -> 0.54305556 | L36: =IF(OR(WEEKDAY(data[[#This Row],[Date]],2)=7,COUNTIF(JF,data[[#This Row],[Date]])=1),"oui","non") -> oui | M36: =MAX(0,(MIN(1,data[[#This Row],[Hfin corrigée]])-data[[#This Row],[Hdébut corrigé]])-data[[#This Row],[NUIT1.1]]-data[[#This Row],[NUIT1.2]]) -> 0.051388889 | N36: =IF(data[[#This Row],[Hfin Interv.]]="",0,( MIN(FinNuit,MIN(1,data[[#This Row],[Hfin corrigée]]))-MIN(FinNuit,data[[#This Row],[Hdébut corrigé]]) )) -> 0 | O36: =MAX(0,(MAX(0,(MIN(1,data[[#This Row],[Hfin corrigée]])-DebNuit))-MAX(0,(data[[#This Row],[Hdébut corrigé]]-DebNuit)))) -> 0 | P36: =IF(OR(WEEKDAY(data[[#This Row],[Date]]+data[[#This Row],[Hfin corrigée]],2)=7,COUNTIF(JF,INT(data[[#This Row],[Date]]+data[[#This Row],[Hfin corrigée]]))=1),"oui","non") -> oui | Q36: =MAX(0,data[[#This Row],[Hfin corrigée]]-MAX(1,data[[#This Row],[Hdébut corrigé]]))-data[[#This Row],[NUIT2.1]]-data[[#This Row],[NUIT2.2]] -> 0 | R36: =MAX(0,MIN(1+FinNuit,data[[#This Row],[Hfin corrigée]])-MAX(1,data[[#This Row],[Hdébut corrigé]])) -> 0 | S36: =MAX(0,(data[[#This Row],[Hfin corrigée]]-DebNuit-1)) -> 0 | T36: =IF(data[[#This Row],[Garde / Interv.]]="Intervention",MAX(0,data[[#This Row],[Hfin corrigée]]-SUMPRODUCT((data[Date]=data[[#This Row],[Date]])*(data[Garde / Interv.]="Garde")*data[Hfin corrigée])),0) -> 0 | U36: =MAX(0,IF(data[[#This Row],[Garde / Interv.]]="Garde",data[[#This Row],[Hfin corrigée]]-data[[#This Row],[Hdébut corrigé]]+SUMPRODUCT((data[Date]=data[[#This Row],[Date]])*data[Interv. hors poste])-SUMPRODUCT((data[Date]=data[[#This Row],[Date]])*(data[[Durée interv. jour]:[Durée interv. nuit]])),0)) -> 0 | V36: =MAX(0,IF(data[[#This Row],[Garde / Interv.]]="Intervention",(data[[#This Row],[Fin Dim ou Férié]]="non")*data[[#This Row],[JOUR2]]+(data[[#This Row],[Début Dim ou Férié]]="non")*data[[#This Row],[JOUR1]],0)) -> 0 | W36: =IF(data[[#This Row],[Garde / Interv.]]="Intervention",(data[[#This Row],[Fin Dim ou Férié]]="oui")*data[[#This Row],[JOUR2]]+(data[[#This Row],[Début Dim ou Férié]]="oui")*data[[#This Row],[JOUR1]],0) -> 0.051388889 | X36: =MAX(0,IF(data[[#This Row],[Garde / Interv.]]="Intervention",data[[#This Row],[NUIT1.1]]+data[[#This Row],[NUIT1.2]]+data[[#This Row],[NUIT2.1]]+data[[#This Row],[NUIT2.2]],0)) -> 0 | Z36: 0.83333333
A37: 43198 | B37: =IF(data[[#This Row],[Hdébut garde]]<>"","Garde",IF(data[[#This Row],[Hdébut corrigé]]<>"","Intervention","")) -> Intervention | G37: VSAV | H37: 0.84166667 | I37: 0.89513889 | J37: =IF(data[[#This Row],[Hdébut garde]]<>"", data[[#This Row],[Hdébut garde]], data[[#This Row],[Hdébut interv.]]+IF(data[[#This Row],[Hdébut interv.]]<SUMPRODUCT((data[Date]=data[[#This Row],[Date]])*data[Hdébut garde]),1,0) ) -> 0.84166667 | K37: =IF(data[[#This Row],[Hfin garde]]<>"", data[[#This Row],[Hfin garde]]+IF(data[[#This Row],[Hfin garde]]<=data[[#This Row],[Hdébut garde]],1,0)+IF(data[[#This Row],[>24h]]<>"",1,0), IF(data[[#This Row],[Hfin Interv.]]="",0, data[[#This Row],[Hfin Interv.]] +IF(data[[#This Row],[Hfin Interv.]]>data[[#This Row],[Hdébut interv.]],0,1)) +IF(data[[#This Row],[Hdébut interv.]]<SUMPRODUCT((data[Date]=data[[#This Row],[Date]])*data[Hdébut garde]),1,0) ) -> 0.89513889 | L37: =IF(OR(WEEKDAY(data[[#This Row],[Date]],2)=7,COUNTIF(JF,data[[#This Row],[Date]])=1),"oui","non") -> oui | M37: =MAX(0,(MIN(1,data[[#This Row],[Hfin corrigée]])-data[[#This Row],[Hdébut corrigé]])-data[[#This Row],[NUIT1.1]]-data[[#This Row],[NUIT1.2]]) -> 0.053472222 | N37: =IF(data[[#This Row],[Hfin Interv.]]="",0,( MIN(FinNuit,MIN(1,data[[#This Row],[Hfin corrigée]]))-MIN(FinNuit,data[[#This Row],[Hdébut corrigé]]) )) -> 0 | O37: =MAX(0,(MAX(0,(MIN(1,data[[#This Row],[Hfin corrigée]])-DebNuit))-MAX(0,(data[[#This Row],[Hdébut corrigé]]-DebNuit)))) -> 0 | P37: =IF(OR(WEEKDAY(data[[#This Row],[Date]]+data[[#This Row],[Hfin corrigée]],2)=7,COUNTIF(JF,INT(data[[#This Row],[Date]]+data[[#This Row],[Hfin corrigée]]))=1),"oui","non") -> oui | Q37: =MAX(0,data[[#This Row],[Hfin corrigée]]-MAX(1,data[[#This Row],[Hdébut corrigé]]))-data[[#This Row],[NUIT2.1]]-data[[#This Row],[NUIT2.2]] -> 0 | R37: =MAX(0,MIN(1+FinNuit,data[[#This Row],[Hfin corrigée]])-MAX(1,data[[#This Row],[Hdébut corrigé]])) -> 0 | S37: =MAX(0,(data[[#This Row],[Hfin corrigée]]-DebNuit-1)) -> 0 | T37: =IF(data[[#This Row],[Garde / Interv.]]="Intervention",MAX(0,data[[#This Row],[Hfin corrigée]]-SUMPRODUCT((data[Date]=data[[#This Row],[Date]])*(data[Garde / Interv.]="Garde")*data[Hfin corrigée])),0) -> 0 | U37: =MAX(0,IF(data[[#This Row],[Garde / Interv.]]="Garde",data[[#This Row],[Hfin corrigée]]-data[[#This Row],[Hdébut corrigé]]+SUMPRODUCT((data[Date]=data[[#This Row],[Date]])*data[Interv. hors poste])-SUMPRODUCT((data[Date]=data[[#This Row],[Date]])*(data[[Durée interv. jour]:[Durée interv. nuit]])),0)) -> 0 | V37: =MAX(0,IF(data[[#This Row],[Garde / Interv.]]="Intervention",(data[[#This Row],[Fin Dim ou Férié]]="non")*data[[#This Row],[JOUR2]]+(data[[#This Row],[Début Dim ou Férié]]="non")*data[[#This Row],[JOUR1]],0)) -> 0 | W37: =IF(data[[#This Row],[Garde / Interv.]]="Intervention",(data[[#This Row],[Fin Dim ou Férié]]="oui")*data[[#This Row],[JOUR2]]+(data[[#This Row],[Début Dim ou Férié]]="oui")*data[[#This Row],[JOUR1]],0) -> 0.053472222 | X37: =MAX(0,IF(data[[#This Row],[Garde / Interv.]]="Intervention",data[[#This Row],[NUIT1.1]]+data[[#This Row],[NUIT1.2]]+data[[#This Row],[NUIT2.1]]+data[[#This Row],[NUIT2.2]],0)) -> 0
A38: 43225 | B38: =IF(data[[#This Row],[Hdébut garde]]<>"","Garde",IF(data[[#This Row],[Hdébut corrigé]]<>"","Intervention","")) -> Garde | C38: 0.33333333 | D38: 0.33333333 | J38: =IF(data[[#This Row],[Hdébut garde]]<>"", data[[#This Row],[Hdébut garde]], data[[#This Row],[Hdébut interv.]]+IF(data[[#This Row],[Hdébut interv.]]<SUMPRODUCT((data[Date]=data[[#This Row],[Date]])*data[Hdébut garde]),1,0) ) -> 0.33333333 | K38: =IF(data[[#This Row],[Hfin garde]]<>"", data[[#This Row],[Hfin garde]]+IF(data[[#This Row],[Hfin garde]]<=data[[#This Row],[Hdébut garde]],1,0)+IF(data[[#This Row],[>24h]]<>"",1,0), IF(data[[#This Row],[Hfin Interv.]]="",0, data[[#This Row],[Hfin Interv.]] +IF(data[[#This Row],[Hfin Interv.]]>data[[#This Row],[Hdébut interv.]],0,1)) +IF(data[[#This Row],[Hdébut interv.]]<SUMPRODUCT((data[Date]=data[[#This Row],[Date]])*data[Hdébut garde]),1,0) ) -> 1.3333333 | L38: =IF(OR(WEEKDAY(data[[#This Row],[Date]],2)=7,COUNTIF(JF,data[[#This Row],[Date]])=1),"oui","non") -> non | M38: =MAX(0,(MIN(1,data[[#This Row],[Hfin corrigée]])-data[[#This Row],[Hdébut corrigé]])-data[[#This Row],[NUIT1.1]]-data[[#This Row],[NUIT1.2]]) -> 0.58333333 | N38: =IF(data[[#This Row],[Hfin Interv.]]="",0,( MIN(FinNuit,MIN(1,data[[#This Row],[Hfin corrigée]]))-MIN(FinNuit,data[[#This Row],[Hdébut corrigé]]) )) -> 0 | O38: =MAX(0,(MAX(0,(MIN(1,data[[#This Row],[Hfin corrigée]])-DebNuit))-MAX(0,(data[[#This Row],[Hdébut corrigé]]-DebNuit)))) -> 0.083333333 | P38: =IF(OR(WEEKDAY(data[[#This Row],[Date]]+data[[#This Row],[Hfin corrigée]],2)=7,COUNTIF(JF,INT(data[[#This Row],[Date]]+data[[#This Row],[Hfin corrigée]]))=1),"oui","non") -> oui | Q38: =MAX(0,data[[#This Row],[Hfin corrigée]]-MAX(1,data[[#This Row],[Hdébut corrigé]]))-data[[#This Row],[NUIT2.1]]-data[[#This Row],[NUIT2.2]] -> 0.041666667 | R38: =MAX(0,MIN(1+FinNuit,data[[#This Row],[Hfin corrigée]])-MAX(1,data[[#This Row],[Hdébut corrigé]])) -> 0.29166667 | S38: =MAX(0,(data[[#This Row],[Hfin corrigée]]-DebNuit-1)) -> 0 | T38: =IF(data[[#This Row],[Garde / Interv.]]="Intervention",MAX(0,data[[#This Row],[Hfin corrigée]]-SUMPRODUCT((data[Date]=data[[#This Row],[Date]])*(data[Garde / Interv.]="Garde")*data[Hfin corrigée])),0) -> 0 | U38: =MAX(0,IF(data[[#This Row],[Garde / Interv.]]="Garde",data[[#This Row],[Hfin corrigée]]-data[[#This Row],[Hdébut corrigé]]+SUMPRODUCT((data[Date]=data[[#This Row],[Date]])*data[Interv. hors poste])-SUMPRODUCT((data[Date]=data[[#This Row],[Date]])*(data[[Durée interv. jour]:[Durée interv. nuit]])),0)) -> 0.80208333 | V38: =MAX(0,IF(data[[#This Row],[Garde / Interv.]]="Intervention",(data[[#This Row],[Fin Dim ou Férié]]="non")*data[[#This Row],[JOUR2]]+(data[[#This Row],[Début Dim ou Férié]]="non")*data[[#This Row],[JOUR1]],0)) -> 0 | W38: =IF(data[[#This Row],[Garde / Interv.]]="Intervention",(data[[#This Row],[Fin Dim ou Férié]]="oui")*data[[#This Row],[JOUR2]]+(data[[#This Row],[Début Dim ou Férié]]="oui")*data[[#This Row],[JOUR1]],0) -> 0 | X38: =MAX(0,IF(data[[#This Row],[Garde / Interv.]]="Intervention",data[[#This Row],[NUIT1.1]]+data[[#This Row],[NUIT1.2]]+data[[#This Row],[NUIT2.1]]+data[[#This Row],[NUIT2.2]],0)) -> 0
A39: 43225 | B39: =IF(data[[#This Row],[Hdébut garde]]<>"","Garde",IF(data[[#This Row],[Hdébut corrigé]]<>"","Intervention","")) -> Intervention | G39: VSAV | H39: 0.60208333 | I39: 0.61111111 | J39: =IF(data[[#This Row],[Hdébut garde]]<>"", data[[#This Row],[Hdébut garde]], data[[#This Row],[Hdébut interv.]]+IF(data[[#This Row],[Hdébut interv.]]<SUMPRODUCT((data[Date]=data[[#This Row],[Date]])*data[Hdébut garde]),1,0) ) -> 0.60208333 | K39: =IF(data[[#This Row],[Hfin garde]]<>"", data[[#This Row],[Hfin garde]]+IF(data[[#This Row],[Hfin garde]]<=data[[#This Row],[Hdébut garde]],1,0)+IF(data[[#This Row],[>24h]]<>"",1,0), IF(data[[#This Row],[Hfin Interv.]]="",0, data[[#This Row],[Hfin Interv.]] +IF(data[[#This Row],[Hfin Interv.]]>data[[#This Row],[Hdébut interv.]],0,1)) +IF(data[[#This Row],[Hdébut interv.]]<SUMPRODUCT((data[Date]=data[[#This Row],[Date]])*data[Hdébut garde]),1,0) ) -> 0.61111111 | L39: =IF(OR(WEEKDAY(data[[#This Row],[Date]],2)=7,COUNTIF(JF,data[[#This Row],[Date]])=1),"oui","non") -> non | M39: =MAX(0,(MIN(1,data[[#This Row],[Hfin corrigée]])-data[[#This Row],[Hdébut corrigé]])-data[[#This Row],[NUIT1.1]]-data[[#This Row],[NUIT1.2]]) -> 0.0090277778 | N39: =IF(data[[#This Row],[Hfin Interv.]]="",0,( MIN(FinNuit,MIN(1,data[[#This Row],[Hfin corrigée]]))-MIN(FinNuit,data[[#This Row],[Hdébut corrigé]]) )) -> 0 | O39: =MAX(0,(MAX(0,(MIN(1,data[[#This Row],[Hfin corrigée]])-DebNuit))-MAX(0,(data[[#This Row],[Hdébut corrigé]]-DebNuit)))) -> 0 | P39: =IF(OR(WEEKDAY(data[[#This Row],[Date]]+data[[#This Row],[Hfin corrigée]],2)=7,COUNTIF(JF,INT(data[[#This Row],[Date]]+data[[#This Row],[Hfin corrigée]]))=1),"oui","non") -> non | Q39: =MAX(0,data[[#This Row],[Hfin corrigée]]-MAX(1,data[[#This Row],[Hdébut corrigé]]))-data[[#This Row],[NUIT2.1]]-data[[#This Row],[NUIT2.2]] -> 0 | R39: =MAX(0,MIN(1+FinNuit,data[[#This Row],[Hfin corrigée]])-MAX(1,data[[#This Row],[Hdébut corrigé]])) -> 0 | S39: =MAX(0,(data[[#This Row],[Hfin corrigée]]-DebNuit-1)) -> 0 | T39: =IF(data[[#This Row],[Garde / Interv.]]="Intervention",MAX(0,data[[#This Row],[Hfin corrigée]]-SUMPRODUCT((data[Date]=data[[#This Row],[Date]])*(data[Garde / Interv.]="Garde")*data[Hfin corrigée])),0) -> 0 | U39: =MAX(0,IF(data[[#This Row],[Garde / Interv.]]="Garde",data[[#This Row],[Hfin corrigée]]-data[[#This Row],[Hdébut corrigé]]+SUMPRODUCT((data[Date]=data[[#This Row],[Date]])*data[Interv. hors poste])-SUMPRODUCT((data[Date]=data[[#This Row],[Date]])*(data[[Durée interv. jour]:[Durée interv. nuit]])),0)) -> 0 | V39: =MAX(0,IF(data[[#This Row],[Garde / Interv.]]="Intervention",(data[[#This Row],[Fin Dim ou Férié]]="non")*data[[#This Row],[JOUR2]]+(data[[#This Row],[Début Dim ou Férié]]="non")*data[[#This Row],[JOUR1]],0)) -> 0.0090277778 | W39: =IF(data[[#This Row],[Garde / Interv.]]="Intervention",(data[[#This Row],[Fin Dim ou Férié]]="oui")*data[[#This Row],[JOUR2]]+(data[[#This Row],[Début Dim ou Férié]]="oui")*data[[#This Row],[JOUR1]],0) -> 0 | X39: =MAX(0,IF(data[[#This Row],[Garde / Interv.]]="Intervention",data[[#This Row],[NUIT1.1]]+data[[#This Row],[NUIT1.2]]+data[[#This Row],[NUIT2.1]]+data[[#This Row],[NUIT2.2]],0)) -> 0
A40: 43225 | B40: =IF(data[[#This Row],[Hdébut garde]]<>"","Garde",IF(data[[#This Row],[Hdébut corrigé]]<>"","Intervention","")) -> Intervention | G40: VSAV | H40: 0.62708333 | I40: 0.68611111 | J40: =IF(data[[#This Row],[Hdébut garde]]<>"", data[[#This Row],[Hdébut garde]], data[[#This Row],[Hdébut interv.]]+IF(data[[#This Row],[Hdébut interv.]]<SUMPRODUCT((data[Date]=data[[#This Row],[Date]])*data[Hdébut garde]),1,0) ) -> 0.62708333 | K40: =IF(data[[#This Row],[Hfin garde]]<>"", data[[#This Row],[Hfin garde]]+IF(data[[#This Row],[Hfin garde]]<=data[[#This Row],[Hdébut garde]],1,0)+IF(data[[#This Row],[>24h]]<>"",1,0), IF(data[[#This Row],[Hfin Interv.]]="",0, data[[#This Row],[Hfin Interv.]] +IF(data[[#This Row],[Hfin Interv.]]>data[[#This Row],[Hdébut interv.]],0,1)) +IF(data[[#This Row],[Hdébut interv.]]<SUMPRODUCT((data[Date]=data[[#This Row],[Date]])*data[Hdébut garde]),1,0) ) -> 0.68611111 | L40: =IF(OR(WEEKDAY(data[[#This Row],[Date]],2)=7,COUNTIF(JF,data[[#This Row],[Date]])=1),"oui","non") -> non | M40: =MAX(0,(MIN(1,data[[#This Row],[Hfin corrigée]])-data[[#This Row],[Hdébut corrigé]])-data[[#This Row],[NUIT1.1]]-data[[#This Row],[NUIT1.2]]) -> 0.059027778 | N40: =IF(data[[#This Row],[Hfin Interv.]]="",0,( MIN(FinNuit,MIN(1,data[[#This Row],[Hfin corrigée]]))-MIN(FinNuit,data[[#This Row],[Hdébut corrigé]]) )) -> 0 | O40: =MAX(0,(MAX(0,(MIN(1,data[[#This Row],[Hfin corrigée]])-DebNuit))-MAX(0,(data[[#This Row],[Hdébut corrigé]]-DebNuit)))) -> 0 | P40: =IF(OR(WEEKDAY(data[[#This Row],[Date]]+data[[#This Row],[Hfin corrigée]],2)=7,COUNTIF(JF,INT(data[[#This Row],[Date]]+data[[#This Row],[Hfin corrigée]]))=1),"oui","non") -> non | Q40: =MAX(0,data[[#This Row],[Hfin corrigée]]-MAX(1,data[[#This Row],[Hdébut corrigé]]))-data[[#This Row],[NUIT2.1]]-data[[#This Row],[NUIT2.2]] -> 0 | R40: =MAX(0,MIN(1+FinNuit,data[[#This Row],[Hfin corrigée]])-MAX(1,data[[#This Row],[Hdébut corrigé]])) -> 0 | S40: =MAX(0,(data[[#This Row],[Hfin corrigée]]-DebNuit-1)) -> 0 | T40: =IF(data[[#This Row],[Garde / Interv.]]="Intervention",MAX(0,data[[#This Row],[Hfin corrigée]]-SUMPRODUCT((data[Date]=data[[#This Row],[Date]])*(data[Garde / Interv.]="Garde")*data[Hfin corrigée])),0) -> 0 | U40: =MAX(0,IF(data[[#This Row],[Garde / Interv.]]="Garde",data[[#This Row],[Hfin corrigée]]-data[[#This Row],[Hdébut corrigé]]+SUMPRODUCT((data[Date]=data[[#This Row],[Date]])*data[Interv. hors poste])-SUMPRODUCT((data[Date]=data[[#This Row],[Date]])*(data[[Durée interv. jour]:[Durée interv. nuit]])),0)) -> 0 | V40: =MAX(0,IF(data[[#This Row],[Garde / Interv.]]="Intervention",(data[[#This Row],[Fin Dim ou Férié]]="non")*data[[#This Row],[JOUR2]]+(data[[#This Row],[Début Dim ou Férié]]="non")*data[[#This Row],[JOUR1]],0)) -> 0.059027778 | W40: =IF(data[[#This Row],[Garde / Interv.]]="Intervention",(data[[#This Row],[Fin Dim ou Férié]]="oui")*data[[#This Row],[JOUR2]]+(data[[#This Row],[Début Dim ou Férié]]="oui")*data[[#This Row],[JOUR1]],0) -> 0 | X40: =MAX(0,IF(data[[#This Row],[Garde / Interv.]]="Intervention",data[[#This Row],[NUIT1.1]]+data[[#This Row],[NUIT1.2]]+data[[#This Row],[NUIT2.1]]+data[[#This Row],[NUIT2.2]],0)) -> 0 | Z40: Mois de mai | AA40: =SUM(U38:U49) -> 2.8854167 | AB40: =SUM(V39:X49) -> 0.44791667 | AC40: =AA40-AB40 -> 2.4375
A41: 43225 | B41: =IF(data[[#This Row],[Hdébut garde]]<>"","Garde",IF(data[[#This Row],[Hdébut corrigé]]<>"","Intervention","")) -> Intervention | G41: VSAV | H41: 0.84930556 | I41: 0.91666667 | J41: =IF(data[[#This Row],[Hdébut garde]]<>"", data[[#This Row],[Hdébut garde]], data[[#This Row],[Hdébut interv.]]+IF(data[[#This Row],[Hdébut interv.]]<SUMPRODUCT((data[Date]=data[[#This Row],[Date]])*data[Hdébut garde]),1,0) ) -> 0.84930556 | K41: =IF(data[[#This Row],[Hfin garde]]<>"", data[[#This Row],[Hfin garde]]+IF(data[[#This Row],[Hfin garde]]<=data[[#This Row],[Hdébut garde]],1,0)+IF(data[[#This Row],[>24h]]<>"",1,0), IF(data[[#This Row],[Hfin Interv.]]="",0, data[[#This Row],[Hfin Interv.]] +IF(data[[#This Row],[Hfin Interv.]]>data[[#This Row],[Hdébut interv.]],0,1)) +IF(data[[#This Row],[Hdébut interv.]]<SUMPRODUCT((data[Date]=data[[#This Row],[Date]])*data[Hdébut garde]),1,0) ) -> 0.91666667 | L41: =IF(OR(WEEKDAY(data[[#This Row],[Date]],2)=7,COUNTIF(JF,data[[#This Row],[Date]])=1),"oui","non") -> non | M41: =MAX(0,(MIN(1,data[[#This Row],[Hfin corrigée]])-data[[#This Row],[Hdébut corrigé]])-data[[#This Row],[NUIT1.1]]-data[[#This Row],[NUIT1.2]]) -> 0.067361111 | N41: =IF(data[[#This Row],[Hfin Interv.]]="",0,( MIN(FinNuit,MIN(1,data[[#This Row],[Hfin corrigée]]))-MIN(FinNuit,data[[#This Row],[Hdébut corrigé]]) )) -> 0 | O41: =MAX(0,(MAX(0,(MIN(1,data[[#This Row],[Hfin corrigée]])-DebNuit))-MAX(0,(data[[#This Row],[Hdébut corrigé]]-DebNuit)))) -> 3.3306691e-16 | P41: =IF(OR(WEEKDAY(data[[#This Row],[Date]]+data[[#This Row],[Hfin corrigée]],2)=7,COUNTIF(JF,INT(data[[#This Row],[Date]]+data[[#This Row],[Hfin corrigée]]))=1),"oui","non") -> non | Q41: =MAX(0,data[[#This Row],[Hfin corrigée]]-MAX(1,data[[#This Row],[Hdébut corrigé]]))-data[[#This Row],[NUIT2.1]]-data[[#This Row],[NUIT2.2]] -> 0 | R41: =MAX(0,MIN(1+FinNuit,data[[#This Row],[Hfin corrigée]])-MAX(1,data[[#This Row],[Hdébut corrigé]])) -> 0 | S41: =MAX(0,(data[[#This Row],[Hfin corrigée]]-DebNuit-1)) -> 0 | T41: =IF(data[[#This Row],[Garde / Interv.]]="Intervention",MAX(0,data[[#This Row],[Hfin corrigée]]-SUMPRODUCT((data[Date]=data[[#This Row],[Date]])*(data[Garde / Interv.]="Garde")*data[Hfin corrigée])),0) -> 0 | U41: =MAX(0,IF(data[[#This Row],[Garde / Interv.]]="Garde",data[[#This Row],[Hfin corrigée]]-data[[#This Row],[Hdébut corrigé]]+SUMPRODUCT((data[Date]=data[[#This Row],[Date]])*data[Interv. hors poste])-SUMPRODUCT((data[Date]=data[[#This Row],[Date]])*(data[[Durée interv. jour]:[Durée interv. nuit]])),0)) -> 0 | V41: =MAX(0,IF(data[[#This Row],[Garde / Interv.]]="Intervention",(data[[#This Row],[Fin Dim ou Férié]]="non")*data[[#This Row],[JOUR2]]+(data[[#This Row],[Début Dim ou Férié]]="non")*data[[#This Row],[JOUR1]],0)) -> 0.067361111 | W41: =IF(data[[#This Row],[Garde / Interv.]]="Intervention",(data[[#This Row],[Fin Dim ou Férié]]="oui")*data[[#This Row],[JOUR2]]+(data[[#This Row],[Début Dim ou Férié]]="oui")*data[[#This Row],[JOUR1]],0) -> 0 | X41: =MAX(0,IF(data[[#This Row],[Garde / Interv.]]="Intervention",data[[#This Row],[NUIT1.1]]+data[[#This Row],[NUIT1.2]]+data[[#This Row],[NUIT2.1]]+data[[#This Row],[NUIT2.2]],0)) -> 3.3306691e-16
A42: 43225 | B42: =IF(data[[#This Row],[Hdébut garde]]<>"","Garde",IF(data[[#This Row],[Hdébut corrigé]]<>"","Intervention","")) -> Intervention | G42: VSAV | H42: 0.92361111 | I42: 0.98611111 | J42: =IF(data[[#This Row],[Hdébut garde]]<>"", data[[#This Row],[Hdébut garde]], data[[#This Row],[Hdébut interv.]]+IF(data[[#This Row],[Hdébut interv.]]<SUMPRODUCT((data[Date]=data[[#This Row],[Date]])*data[Hdébut garde]),1,0) ) -> 0.92361111 | K42: =IF(data[[#This Row],[Hfin garde]]<>"", data[[#This Row],[Hfin garde]]+IF(data[[#This Row],[Hfin garde]]<=data[[#This Row],[Hdébut garde]],1,0)+IF(data[[#This Row],[>24h]]<>"",1,0), IF(data[[#This Row],[Hfin Interv.]]="",0, data[[#This Row],[Hfin Interv.]] +IF(data[[#This Row],[Hfin Interv.]]>data[[#This Row],[Hdébut interv.]],0,1)) +IF(data[[#This Row],[Hdébut interv.]]<SUMPRODUCT((data[Date]=data[[#This Row],[Date]])*data[Hdébut garde]),1,0) ) -> 0.98611111 | L42: =IF(OR(WEEKDAY(data[[#This Row],[Date]],2)=7,COUNTIF(JF,data[[#This Row],[Date]])=1),"oui","non") -> non | M42: =MAX(0,(MIN(1,data[[#This Row],[Hfin corrigée]])-data[[#This Row],[Hdébut corrigé]])-data[[#This Row],[NUIT1.1]]-data[[#This Row],[NUIT1.2]]) -> 0 | N42: =IF(data[[#This Row],[Hfin Interv.]]="",0,( MIN(FinNuit,MIN(1,data[[#This Row],[Hfin corrigée]]))-MIN(FinNuit,data[[#This Row],[Hdébut corrigé]]) )) -> 0 | O42: =MAX(0,(MAX(0,(MIN(1,data[[#This Row],[Hfin corrigée]])-DebNuit))-MAX(0,(data[[#This Row],[Hdébut corrigé]]-DebNuit)))) -> 0.0625 | P42: =IF(OR(WEEKDAY(data[[#This Row],[Date]]+data[[#This Row],[Hfin corrigée]],2)=7,COUNTIF(JF,INT(data[[#This Row],[Date]]+data[[#This Row],[Hfin corrigée]]))=1),"oui","non") -> non | Q42: =MAX(0,data[[#This Row],[Hfin corrigée]]-MAX(1,data[[#This Row],[Hdébut corrigé]]))-data[[#This Row],[NUIT2.1]]-data[[#This Row],[NUIT2.2]] -> 0 | R42: =MAX(0,MIN(1+FinNuit,data[[#This Row],[Hfin corrigée]])-MAX(1,data[[#This Row],[Hdébut corrigé]])) -> 0 | S42: =MAX(0,(data[[#This Row],[Hfin corrigée]]-DebNuit-1)) -> 0 | T42: =IF(data[[#This Row],[Garde / Interv.]]="Intervention",MAX(0,data[[#This Row],[Hfin corrigée]]-SUMPRODUCT((data[Date]=data[[#This Row],[Date]])*(data[Garde / Interv.]="Garde")*data[Hfin corrigée])),0) -> 0 | U42: =MAX(0,IF(data[[#This Row],[Garde / Interv.]]="Garde",data[[#This Row],[Hfin corrigée]]-data[[#This Row],[Hdébut corrigé]]+SUMPRODUCT((data[Date]=data[[#This Row],[Date]])*data[Interv. hors poste])-SUMPRODUCT((data[Date]=data[[#This Row],[Date]])*(data[[Durée interv. jour]:[Durée interv. nuit]])),0)) -> 0 | V42: =MAX(0,IF(data[[#This Row],[Garde / Interv.]]="Intervention",(data[[#This Row],[Fin Dim ou Férié]]="non")*data[[#This Row],[JOUR2]]+(data[[#This Row],[Début Dim ou Férié]]="non")*data[[#This Row],[JOUR1]],0)) -> 0 | W42: =IF(data[[#This Row],[Garde / Interv.]]="Intervention",(data[[#This Row],[Fin Dim ou Férié]]="oui")*data[[#This Row],[JOUR2]]+(data[[#This Row],[Début Dim ou Férié]]="oui")*data[[#This Row],[JOUR1]],0) -> 0 | X42: =MAX(0,IF(data[[#This Row],[Garde / Interv.]]="Intervention",data[[#This Row],[NUIT1.1]]+data[[#This Row],[NUIT1.2]]+data[[#This Row],[NUIT2.1]]+data[[#This Row],[NUIT2.2]],0)) -> 0.0625
A43: 43233 | B43: =IF(data[[#This Row],[Hdébut garde]]<>"","Garde",IF(data[[#This Row],[Hdébut corrigé]]<>"","Intervention","")) -> Garde | C43: 0.41666667 | D43: 0.33333333 | J43: =IF(data[[#This Row],[Hdébut garde]]<>"", data[[#This Row],[Hdébut garde]], data[[#This Row],[Hdébut interv.]]+IF(data[[#This Row],[Hdébut interv.]]<SUMPRODUCT((data[Date]=data[[#This Row],[Date]])*data[Hdébut garde]),1,0) ) -> 0.41666667 | K43: =IF(data[[#This Row],[Hfin garde]]<>"", data[[#This Row],[Hfin garde]]+IF(data[[#This Row],[Hfin garde]]<=data[[#This Row],[Hdébut garde]],1,0)+IF(data[[#This Row],[>24h]]<>"",1,0), IF(data[[#This Row],[Hfin Interv.]]="",0, data[[#This Row],[Hfin Interv.]] +IF(data[[#This Row],[Hfin Interv.]]>data[[#This Row],[Hdébut interv.]],0,1)) +IF(data[[#This Row],[Hdébut interv.]]<SUMPRODUCT((data[Date]=data[[#This Row],[Date]])*data[Hdébut garde]),1,0) ) -> 1.3333333 | L43: =IF(OR(WEEKDAY(data[[#This Row],[Date]],2)=7,COUNTIF(JF,data[[#This Row],[Date]])=1),"oui","non") -> oui | M43: =MAX(0,(MIN(1,data[[#This Row],[Hfin corrigée]])-data[[#This Row],[Hdébut corrigé]])-data[[#This Row],[NUIT1.1]]-data[[#This Row],[NUIT1.2]]) -> 0.5 | N43: =IF(data[[#This Row],[Hfin Interv.]]="",0,( MIN(FinNuit,MIN(1,data[[#This Row],[Hfin corrigée]]))-MIN(FinNuit,data[[#This Row],[Hdébut corrigé]]) )) -> 0 | O43: =MAX(0,(MAX(0,(MIN(1,data[[#This Row],[Hfin corrigée]])-DebNuit))-MAX(0,(data[[#This Row],[Hdébut corrigé]]-DebNuit)))) -> 0.083333333 | P43: =IF(OR(WEEKDAY(data[[#This Row],[Date]]+data[[#This Row],[Hfin corrigée]],2)=7,COUNTIF(JF,INT(data[[#This Row],[Date]]+data[[#This Row],[Hfin corrigée]]))=1),"oui","non") -> non | Q43: =MAX(0,data[[#This Row],[Hfin corrigée]]-MAX(1,data[[#This Row],[Hdébut corrigé]]))-data[[#This Row],[NUIT2.1]]-data[[#This Row],[NUIT2.2]] -> 0.041666667 | R43: =MAX(0,MIN(1+FinNuit,data[[#This Row],[Hfin corrigée]])-MAX(1,data[[#This Row],[Hdébut corrigé]])) -> 0.29166667 | S43: =MAX(0,(data[[#This Row],[Hfin corrigée]]-DebNuit-1)) -> 0 | T43: =IF(data[[#This Row],[Garde / Interv.]]="Intervention",MAX(0,data[[#This Row],[Hfin corrigée]]-SUMPRODUCT((data[Date]=data[[#This Row],[Date]])*(data[Garde / Interv.]="Garde")*data[Hfin corrigée])),0) -> 0 | U43: =MAX(0,IF(data[[#This Row],[Garde / Interv.]]="Garde",data[[#This Row],[Hfin corrigée]]-data[[#This Row],[Hdébut corrigé]]+SUMPRODUCT((data[Date]=data[[#This Row],[Date]])*data[Interv. hors poste])-SUMPRODUCT((data[Date]=data[[#This Row],[Date]])*(data[[Durée interv. jour]:[Durée interv. nuit]])),0)) -> 0.84513889 | V43: =MAX(0,IF(data[[#This Row],[Garde / Interv.]]="Intervention",(data[[#This Row],[Fin Dim ou Férié]]="non")*data[[#This Row],[JOUR2]]+(data[[#This Row],[Début Dim ou Férié]]="non")*data[[#This Row],[JOUR1]],0)) -> 0 | W43: =IF(data[[#This Row],[Garde / Interv.]]="Intervention",(data[[#This Row],[Fin Dim ou Férié]]="oui")*data[[#This Row],[JOUR2]]+(data[[#This Row],[Début Dim ou Férié]]="oui")*data[[#This Row],[JOUR1]],0) -> 0 | X43: =MAX(0,IF(data[[#This Row],[Garde / Interv.]]="Intervention",data[[#This Row],[NUIT1.1]]+data[[#This Row],[NUIT1.2]]+data[[#This Row],[NUIT2.1]]+data[[#This Row],[NUIT2.2]],0)) -> 0
A44: 43233 | B44: =IF(data[[#This Row],[Hdébut garde]]<>"","Garde",IF(data[[#This Row],[Hdébut corrigé]]<>"","Intervention","")) -> Intervention | G44: VSAV | H44: 0.76180556 | I44: 0.83333333 | J44: =IF(data[[#This Row],[Hdébut garde]]<>"", data[[#This Row],[Hdébut garde]], data[[#This Row],[Hdébut interv.]]+IF(data[[#This Row],[Hdébut interv.]]<SUMPRODUCT((data[Date]=data[[#This Row],[Date]])*data[Hdébut garde]),1,0) ) -> 0.76180556 | K44: =IF(data[[#This Row],[Hfin garde]]<>"", data[[#This Row],[Hfin garde]]+IF(data[[#This Row],[Hfin garde]]<=data[[#This Row],[Hdébut garde]],1,0)+IF(data[[#This Row],[>24h]]<>"",1,0), IF(data[[#This Row],[Hfin Interv.]]="",0, data[[#This Row],[Hfin Interv.]] +IF(data[[#This Row],[Hfin Interv.]]>data[[#This Row],[Hdébut interv.]],0,1)) +IF(data[[#This Row],[Hdébut interv.]]<SUMPRODUCT((data[Date]=data[[#This Row],[Date]])*data[Hdébut garde]),1,0) ) -> 0.83333333 | L44: =IF(OR(WEEKDAY(data[[#This Row],[Date]],2)=7,COUNTIF(JF,data[[#This Row],[Date]])=1),"oui","non") -> oui | M44: =MAX(0,(MIN(1,data[[#This Row],[Hfin corrigée]])-data[[#This Row],[Hdébut corrigé]])-data[[#This Row],[NUIT1.1]]-data[[#This Row],[NUIT1.2]]) -> 0.071527778 | N44: =IF(data[[#This Row],[Hfin Interv.]]="",0,( MIN(FinNuit,MIN(1,data[[#This Row],[Hfin corrigée]]))-MIN(FinNuit,data[[#This Row],[Hdébut corrigé]]) )) -> 0 | O44: =MAX(0,(MAX(0,(MIN(1,data[[#This Row],[Hfin corrigée]])-DebNuit))-MAX(0,(data[[#This Row],[Hdébut corrigé]]-DebNuit)))) -> 0 | P44: =IF(OR(WEEKDAY(data[[#This Row],[Date]]+data[[#This Row],[Hfin corrigée]],2)=7,COUNTIF(JF,INT(data[[#This Row],[Date]]+data[[#This Row],[Hfin corrigée]]))=1),"oui","non") -> oui | Q44: =MAX(0,data[[#This Row],[Hfin corrigée]]-MAX(1,data[[#This Row],[Hdébut corrigé]]))-data[[#This Row],[NUIT2.1]]-data[[#This Row],[NUIT2.2]] -> 0 | R44: =MAX(0,MIN(1+FinNuit,data[[#This Row],[Hfin corrigée]])-MAX(1,data[[#This Row],[Hdébut corrigé]])) -> 0 | S44: =MAX(0,(data[[#This Row],[Hfin corrigée]]-DebNuit-1)) -> 0 | T44: =IF(data[[#This Row],[Garde / Interv.]]="Intervention",MAX(0,data[[#This Row],[Hfin corrigée]]-SUMPRODUCT((data[Date]=data[[#This Row],[Date]])*(data[Garde / Interv.]="Garde")*data[Hfin corrigée])),0) -> 0 | U44: =MAX(0,IF(data[[#This Row],[Garde / Interv.]]="Garde",data[[#This Row],[Hfin corrigée]]-data[[#This Row],[Hdébut corrigé]]+SUMPRODUCT((data[Date]=data[[#This Row],[Date]])*data[Interv. hors poste])-SUMPRODUCT((data[Date]=data[[#This Row],[Date]])*(data[[Durée interv. jour]:[Durée interv. nuit]])),0)) -> 0 | V44: =MAX(0,IF(data[[#This Row],[Garde / Interv.]]="Intervention",(data[[#This Row],[Fin Dim ou Férié]]="non")*data[[#This Row],[JOUR2]]+(data[[#This Row],[Début Dim ou Férié]]="non")*data[[#This Row],[JOUR1]],0)) -> 0 | W44: =IF(data[[#This Row],[Garde / Interv.]]="Intervention",(data[[#This Row],[Fin Dim ou Férié]]="oui")*data[[#This Row],[JOUR2]]+(data[[#This Row],[Début Dim ou Férié]]="oui")*data[[#This Row],[JOUR1]],0) -> 0.071527778 | X44: =MAX(0,IF(data[[#This Row],[Garde / Interv.]]="Intervention",data[[#This Row],[NUIT1.1]]+data[[#This Row],[NUIT1.2]]+data[[#This Row],[NUIT2.1]]+data[[#This Row],[NUIT2.2]],0)) -> 0
A45: 43239 | B45: =IF(data[[#This Row],[Hdébut garde]]<>"","Garde",IF(data[[#This Row],[Hdébut corrigé]]<>"","Intervention","")) -> Garde | C45: 0.33333333 | D45: 0.75 | J45: =IF(data[[#This Row],[Hdébut garde]]<>"", data[[#This Row],[Hdébut garde]], data[[#This Row],[Hdébut interv.]]+IF(data[[#This Row],[Hdébut interv.]]<SUMPRODUCT((data[Date]=data[[#This Row],[Date]])*data[Hdébut garde]),1,0) ) -> 0.33333333 | K45: =IF(data[[#This Row],[Hfin garde]]<>"", data[[#This Row],[Hfin garde]]+IF(data[[#This Row],[Hfin garde]]<=data[[#This Row],[Hdébut garde]],1,0)+IF(data[[#This Row],[>24h]]<>"",1,0), IF(data[[#This Row],[Hfin Interv.]]="",0, data[[#This Row],[Hfin Interv.]] +IF(data[[#This Row],[Hfin Interv.]]>data[[#This Row],[Hdébut interv.]],0,1)) +IF(data[[#This Row],[Hdébut interv.]]<SUMPRODUCT((data[Date]=data[[#This Row],[Date]])*data[Hdébut garde]),1,0) ) -> 0.75 | L45: =IF(OR(WEEKDAY(data[[#This Row],[Date]],2)=7,COUNTIF(JF,data[[#This Row],[Date]])=1),"oui","non") -> non | M45: =MAX(0,(MIN(1,data[[#This Row],[Hfin corrigée]])-data[[#This Row],[Hdébut corrigé]])-data[[#This Row],[NUIT1.1]]-data[[#This Row],[NUIT1.2]]) -> 0.41666667 | N45: =IF(data[[#This Row],[Hfin Interv.]]="",0,( MIN(FinNuit,MIN(1,data[[#This Row],[Hfin corrigée]]))-MIN(FinNuit,data[[#This Row],[Hdébut corrigé]]) )) -> 0 | O45: =MAX(0,(MAX(0,(MIN(1,data[[#This Row],[Hfin corrigée]])-DebNuit))-MAX(0,(data[[#This Row],[Hdébut corrigé]]-DebNuit)))) -> 0 | P45: =IF(OR(WEEKDAY(data[[#This Row],[Date]]+data[[#This Row],[Hfin corrigée]],2)=7,COUNTIF(JF,INT(data[[#This Row],[Date]]+data[[#This Row],[Hfin corrigée]]))=1),"oui","non") -> non | Q45: =MAX(0,data[[#This Row],[Hfin corrigée]]-MAX(1,data[[#This Row],[Hdébut corrigé]]))-data[[#This Row],[NUIT2.1]]-data[[#This Row],[NUIT2.2]] -> 0 | R45: =MAX(0,MIN(1+FinNuit,data[[#This Row],[Hfin corrigée]])-MAX(1,data[[#This Row],[Hdébut corrigé]])) -> 0 | S45: =MAX(0,(data[[#This Row],[Hfin corrigée]]-DebNuit-1)) -> 0 | T45: =IF(data[[#This Row],[Garde / Interv.]]="Intervention",MAX(0,data[[#This Row],[Hfin corrigée]]-SUMPRODUCT((data[Date]=data[[#This Row],[Date]])*(data[Garde / Interv.]="Garde")*data[Hfin corrigée])),0) -> 0 | U45: =MAX(0,IF(data[[#This Row],[Garde / Interv.]]="Garde",data[[#This Row],[Hfin corrigée]]-data[[#This Row],[Hdébut corrigé]]+SUMPRODUCT((data[Date]=data[[#This Row],[Date]])*data[Interv. hors poste])-SUMPRODUCT((data[Date]=data[[#This Row],[Date]])*(data[[Durée interv. jour]:[Durée interv. nuit]])),0)) -> 0.34722222 | V45: =MAX(0,IF(data[[#This Row],[Garde / Interv.]]="Intervention",(data[[#This Row],[Fin Dim ou Férié]]="non")*data[[#This Row],[JOUR2]]+(data[[#This Row],[Début Dim ou Férié]]="non")*data[[#This Row],[JOUR1]],0)) -> 0 | W45: =IF(data[[#This Row],[Garde / Interv.]]="Intervention",(data[[#This Row],[Fin Dim ou Férié]]="oui")*data[[#This Row],[JOUR2]]+(data[[#This Row],[Début Dim ou Férié]]="oui")*data[[#This Row],[JOUR1]],0) -> 0 | X45: =MAX(0,IF(data[[#This Row],[Garde / Interv.]]="Intervention",data[[#This Row],[NUIT1.1]]+data[[#This Row],[NUIT1.2]]+data[[#This Row],[NUIT2.1]]+data[[#This Row],[NUIT2.2]],0)) -> 0
A46: 43239 | B46: =IF(data[[#This Row],[Hdébut garde]]<>"","Garde",IF(data[[#This Row],[Hdébut corrigé]]<>"","Intervention","")) -> Intervention | G46: VSAV | H46: 0.42638889 | I46: 0.49583333 | J46: =IF(data[[#This Row],[Hdébut garde]]<>"", data[[#This Row],[Hdébut garde]], data[[#This Row],[Hdébut interv.]]+IF(data[[#This Row],[Hdébut interv.]]<SUMPRODUCT((data[Date]=data[[#This Row],[Date]])*data[Hdébut garde]),1,0) ) -> 0.42638889 | K46: =IF(data[[#This Row],[Hfin garde]]<>"", data[[#This Row],[Hfin garde]]+IF(data[[#This Row],[Hfin garde]]<=data[[#This Row],[Hdébut garde]],1,0)+IF(data[[#This Row],[>24h]]<>"",1,0), IF(data[[#This Row],[Hfin Interv.]]="",0, data[[#This Row],[Hfin Interv.]] +IF(data[[#This Row],[Hfin Interv.]]>data[[#This Row],[Hdébut interv.]],0,1)) +IF(data[[#This Row],[Hdébut interv.]]<SUMPRODUCT((data[Date]=data[[#This Row],[Date]])*data[Hdébut garde]),1,0) ) -> 0.49583333 | L46: =IF(OR(WEEKDAY(data[[#This Row],[Date]],2)=7,COUNTIF(JF,data[[#This Row],[Date]])=1),"oui","non") -> non | M46: =MAX(0,(MIN(1,data[[#This Row],[Hfin corrigée]])-data[[#This Row],[Hdébut corrigé]])-data[[#This Row],[NUIT1.1]]-data[[#This Row],[NUIT1.2]]) -> 0.069444444 | N46: =IF(data[[#This Row],[Hfin Interv.]]="",0,( MIN(FinNuit,MIN(1,data[[#This Row],[Hfin corrigée]]))-MIN(FinNuit,data[[#This Row],[Hdébut corrigé]]) )) -> 0 | O46: =MAX(0,(MAX(0,(MIN(1,data[[#This Row],[Hfin corrigée]])-DebNuit))-MAX(0,(data[[#This Row],[Hdébut corrigé]]-DebNuit)))) -> 0 | P46: =IF(OR(WEEKDAY(data[[#This Row],[Date]]+data[[#This Row],[Hfin corrigée]],2)=7,COUNTIF(JF,INT(data[[#This Row],[Date]]+data[[#This Row],[Hfin corrigée]]))=1),"oui","non") -> non | Q46: =MAX(0,data[[#This Row],[Hfin corrigée]]-MAX(1,data[[#This Row],[Hdébut corrigé]]))-data[[#This Row],[NUIT2.1]]-data[[#This Row],[NUIT2.2]] -> 0 | R46: =MAX(0,MIN(1+FinNuit,data[[#This Row],[Hfin corrigée]])-MAX(1,data[[#This Row],[Hdébut corrigé]])) -> 0 | S46: =MAX(0,(data[[#This Row],[Hfin corrigée]]-DebNuit-1)) -> 0 | T46: =IF(data[[#This Row],[Garde / Interv.]]="Intervention",MAX(0,data[[#This Row],[Hfin corrigée]]-SUMPRODUCT((data[Date]=data[[#This Row],[Date]])*(data[Garde / Interv.]="Garde")*data[Hfin corrigée])),0) -> 0 | U46: =MAX(0,IF(data[[#This Row],[Garde / Interv.]]="Garde",data[[#This Row],[Hfin corrigée]]-data[[#This Row],[Hdébut corrigé]]+SUMPRODUCT((data[Date]=data[[#This Row],[Date]])*data[Interv. hors poste])-SUMPRODUCT((data[Date]=data[[#This Row],[Date]])*(data[[Durée interv. jour]:[Durée interv. nuit]])),0)) -> 0 | V46: =MAX(0,IF(data[[#This Row],[Garde / Interv.]]="Intervention",(data[[#This Row],[Fin Dim ou Férié]]="non")*data[[#This Row],[JOUR2]]+(data[[#This Row],[Début Dim ou Férié]]="non")*data[[#This Row],[JOUR1]],0)) -> 0.069444444 | W46: =IF(data[[#This Row],[Garde / Interv.]]="Intervention",(data[[#This Row],[Fin Dim ou Férié]]="oui")*data[[#This Row],[JOUR2]]+(data[[#This Row],[Début Dim ou Férié]]="oui")*data[[#This Row],[JOUR1]],0) -> 0 | X46: =MAX(0,IF(data[[#This Row],[Garde / Interv.]]="Intervention",data[[#This Row],[NUIT1.1]]+data[[#This Row],[NUIT1.2]]+data[[#This Row],[NUIT2.1]]+data[[#This Row],[NUIT2.2]],0)) -> 0
A47: 43246 | B47: =IF(data[[#This Row],[Hdébut garde]]<>"","Garde",IF(data[[#This Row],[Hdébut corrigé]]<>"","Intervention","")) -> Garde | C47: 0.33333333 | D47: 0.33333333 | J47: =IF(data[[#This Row],[Hdébut garde]]<>"", data[[#This Row],[Hdébut garde]], data[[#This Row],[Hdébut interv.]]+IF(data[[#This Row],[Hdébut interv.]]<SUMPRODUCT((data[Date]=data[[#This Row],[Date]])*data[Hdébut garde]),1,0) ) -> 0.33333333 | K47: =IF(data[[#This Row],[Hfin garde]]<>"", data[[#This Row],[Hfin garde]]+IF(data[[#This Row],[Hfin garde]]<=data[[#This Row],[Hdébut garde]],1,0)+IF(data[[#This Row],[>24h]]<>"",1,0), IF(data[[#This Row],[Hfin Interv.]]="",0, data[[#This Row],[Hfin Interv.]] +IF(data[[#This Row],[Hfin Interv.]]>data[[#This Row],[Hdébut interv.]],0,1)) +IF(data[[#This Row],[Hdébut interv.]]<SUMPRODUCT((data[Date]=data[[#This Row],[Date]])*data[Hdébut garde]),1,0) ) -> 1.3333333 | L47: =IF(OR(WEEKDAY(data[[#This Row],[Date]],2)=7,COUNTIF(JF,data[[#This Row],[Date]])=1),"oui","non") -> non | M47: =MAX(0,(MIN(1,data[[#This Row],[Hfin corrigée]])-data[[#This Row],[Hdébut corrigé]])-data[[#This Row],[NUIT1.1]]-data[[#This Row],[NUIT1.2]]) -> 0.58333333 | N47: =IF(data[[#This Row],[Hfin Interv.]]="",0,( MIN(FinNuit,MIN(1,data[[#This Row],[Hfin corrigée]]))-MIN(FinNuit,data[[#This Row],[Hdébut corrigé]]) )) -> 0 | O47: =MAX(0,(MAX(0,(MIN(1,data[[#This Row],[Hfin corrigée]])-DebNuit))-MAX(0,(data[[#This Row],[Hdébut corrigé]]-DebNuit)))) -> 0.083333333 | P47: =IF(OR(WEEKDAY(data[[#This Row],[Date]]+data[[#This Row],[Hfin corrigée]],2)=7,COUNTIF(JF,INT(data[[#This Row],[Date]]+data[[#This Row],[Hfin corrigée]]))=1),"oui","non") -> oui | Q47: =MAX(0,data[[#This Row],[Hfin corrigée]]-MAX(1,data[[#This Row],[Hdébut corrigé]]))-data[[#This Row],[NUIT2.1]]-data[[#This Row],[NUIT2.2]] -> 0.041666667 | R47: =MAX(0,MIN(1+FinNuit,data[[#This Row],[Hfin corrigée]])-MAX(1,data[[#This Row],[Hdébut corrigé]])) -> 0.29166667 | S47: =MAX(0,(data[[#This Row],[Hfin corrigée]]-DebNuit-1)) -> 0 | T47: =IF(data[[#This Row],[Garde / Interv.]]="Intervention",MAX(0,data[[#This Row],[Hfin corrigée]]-SUMPRODUCT((data[Date]=data[[#This Row],[Date]])*(data[Garde / Interv.]="Garde")*data[Hfin corrigée])),0) -> 0 | U47: =MAX(0,IF(data[[#This Row],[Garde / Interv.]]="Garde",data[[#This Row],[Hfin corrigée]]-data[[#This Row],[Hdébut corrigé]]+SUMPRODUCT((data[Date]=data[[#This Row],[Date]])*data[Interv. hors poste])-SUMPRODUCT((data[Date]=data[[#This Row],[Date]])*(data[[Durée interv. jour]:[Durée interv. nuit]])),0)) -> 0.89097222 | V47: =MAX(0,IF(data[[#This Row],[Garde / Interv.]]="Intervention",(data[[#This Row],[Fin Dim ou Férié]]="non")*data[[#This Row],[JOUR2]]+(data[[#This Row],[Début Dim ou Férié]]="non")*data[[#This Row],[JOUR1]],0)) -> 0 | W47: =IF(data[[#This Row],[Garde / Interv.]]="Intervention",(data[[#This Row],[Fin Dim ou Férié]]="oui")*data[[#This Row],[JOUR2]]+(data[[#This Row],[Début Dim ou Férié]]="oui")*data[[#This Row],[JOUR1]],0) -> 0 | X47: =MAX(0,IF(data[[#This Row],[Garde / Interv.]]="Intervention",data[[#This Row],[NUIT1.1]]+data[[#This Row],[NUIT1.2]]+data[[#This Row],[NUIT2.1]]+data[[#This Row],[NUIT2.2]],0)) -> 0
A48: 43246 | B48: =IF(data[[#This Row],[Hdébut garde]]<>"","Garde",IF(data[[#This Row],[Hdébut corrigé]]<>"","Intervention","")) -> Intervention | G48: VSAV | H48: 0.42638889 | I48: 0.49583333 | J48: =IF(data[[#This Row],[Hdébut garde]]<>"", data[[#This Row],[Hdébut garde]], data[[#This Row],[Hdébut interv.]]+IF(data[[#This Row],[Hdébut interv.]]<SUMPRODUCT((data[Date]=data[[#This Row],[Date]])*data[Hdébut garde]),1,0) ) -> 0.42638889 | K48: =IF(data[[#This Row],[Hfin garde]]<>"", data[[#This Row],[Hfin garde]]+IF(data[[#This Row],[Hfin garde]]<=data[[#This Row],[Hdébut garde]],1,0)+IF(data[[#This Row],[>24h]]<>"",1,0), IF(data[[#This Row],[Hfin Interv.]]="",0, data[[#This Row],[Hfin Interv.]] +IF(data[[#This Row],[Hfin Interv.]]>data[[#This Row],[Hdébut interv.]],0,1)) +IF(data[[#This Row],[Hdébut interv.]]<SUMPRODUCT((data[Date]=data[[#This Row],[Date]])*data[Hdébut garde]),1,0) ) -> 0.49583333 | L48: =IF(OR(WEEKDAY(data[[#This Row],[Date]],2)=7,COUNTIF(JF,data[[#This Row],[Date]])=1),"oui","non") -> non | M48: =MAX(0,(MIN(1,data[[#This Row],[Hfin corrigée]])-data[[#This Row],[Hdébut corrigé]])-data[[#This Row],[NUIT1.1]]-data[[#This Row],[NUIT1.2]]) -> 0.069444444 | N48: =IF(data[[#This Row],[Hfin Interv.]]="",0,( MIN(FinNuit,MIN(1,data[[#This Row],[Hfin corrigée]]))-MIN(FinNuit,data[[#This Row],[Hdébut corrigé]]) )) -> 0 | O48: =MAX(0,(MAX(0,(MIN(1,data[[#This Row],[Hfin corrigée]])-DebNuit))-MAX(0,(data[[#This Row],[Hdébut corrigé]]-DebNuit)))) -> 0 | P48: =IF(OR(WEEKDAY(data[[#This Row],[Date]]+data[[#This Row],[Hfin corrigée]],2)=7,COUNTIF(JF,INT(data[[#This Row],[Date]]+data[[#This Row],[Hfin corrigée]]))=1),"oui","non") -> non | Q48: =MAX(0,data[[#This Row],[Hfin corrigée]]-MAX(1,data[[#This Row],[Hdébut corrigé]]))-data[[#This Row],[NUIT2.1]]-data[[#This Row],[NUIT2.2]] -> 0 | R48: =MAX(0,MIN(1+FinNuit,data[[#This Row],[Hfin corrigée]])-MAX(1,data[[#This Row],[Hdébut corrigé]])) -> 0 | S48: =MAX(0,(data[[#This Row],[Hfin corrigée]]-DebNuit-1)) -> 0 | T48: =IF(data[[#This Row],[Garde / Interv.]]="Intervention",MAX(0,data[[#This Row],[Hfin corrigée]]-SUMPRODUCT((data[Date]=data[[#This Row],[Date]])*(data[Garde / Interv.]="Garde")*data[Hfin corrigée])),0) -> 0 | U48: =MAX(0,IF(data[[#This Row],[Garde / Interv.]]="Garde",data[[#This Row],[Hfin corrigée]]-data[[#This Row],[Hdébut corrigé]]+SUMPRODUCT((data[Date]=data[[#This Row],[Date]])*data[Interv. hors poste])-SUMPRODUCT((data[Date]=data[[#This Row],[Date]])*(data[[Durée interv. jour]:[Durée interv. nuit]])),0)) -> 0 | V48: =MAX(0,IF(data[[#This Row],[Garde / Interv.]]="Intervention",(data[[#This Row],[Fin Dim ou Férié]]="non")*data[[#This Row],[JOUR2]]+(data[[#This Row],[Début Dim ou Férié]]="non")*data[[#This Row],[JOUR1]],0)) -> 0.069444444 | W48: =IF(data[[#This Row],[Garde / Interv.]]="Intervention",(data[[#This Row],[Fin Dim ou Férié]]="oui")*data[[#This Row],[JOUR2]]+(data[[#This Row],[Début Dim ou Férié]]="oui")*data[[#This Row],[JOUR1]],0) -> 0 | X48: =MAX(0,IF(data[[#This Row],[Garde / Interv.]]="Intervention",data[[#This Row],[NUIT1.1]]+data[[#This Row],[NUIT1.2]]+data[[#This Row],[NUIT2.1]]+data[[#This Row],[NUIT2.2]],0)) -> 0
A49: 43246 | B49: =IF(data[[#This Row],[Hdébut garde]]<>"","Garde",IF(data[[#This Row],[Hdébut corrigé]]<>"","Intervention","")) -> Intervention | G49: VSAV | H49: 0.65277778 | I49: 0.69236111 | J49: =IF(data[[#This Row],[Hdébut garde]]<>"", data[[#This Row],[Hdébut garde]], data[[#This Row],[Hdébut interv.]]+IF(data[[#This Row],[Hdébut interv.]]<SUMPRODUCT((data[Date]=data[[#This Row],[Date]])*data[Hdébut garde]),1,0) ) -> 0.65277778 | K49: =IF(data[[#This Row],[Hfin garde]]<>"", data[[#This Row],[Hfin garde]]+IF(data[[#This Row],[Hfin garde]]<=data[[#This Row],[Hdébut garde]],1,0)+IF(data[[#This Row],[>24h]]<>"",1,0), IF(data[[#This Row],[Hfin Interv.]]="",0, data[[#This Row],[Hfin Interv.]] +IF(data[[#This Row],[Hfin Interv.]]>data[[#This Row],[Hdébut interv.]],0,1)) +IF(data[[#This Row],[Hdébut interv.]]<SUMPRODUCT((data[Date]=data[[#This Row],[Date]])*data[Hdébut garde]),1,0) ) -> 0.69236111 | L49: =IF(OR(WEEKDAY(data[[#This Row],[Date]],2)=7,COUNTIF(JF,data[[#This Row],[Date]])=1),"oui","non") -> non | M49: =MAX(0,(MIN(1,data[[#This Row],[Hfin corrigée]])-data[[#This Row],[Hdébut corrigé]])-data[[#This Row],[NUIT1.1]]-data[[#This Row],[NUIT1.2]]) -> 0.039583333 | N49: =IF(data[[#This Row],[Hfin Interv.]]="",0,( MIN(FinNuit,MIN(1,data[[#This Row],[Hfin corrigée]]))-MIN(FinNuit,data[[#This Row],[Hdébut corrigé]]) )) -> 0 | O49: =MAX(0,(MAX(0,(MIN(1,data[[#This Row],[Hfin corrigée]])-DebNuit))-MAX(0,(data[[#This Row],[Hdébut corrigé]]-DebNuit)))) -> 0 | P49: =IF(OR(WEEKDAY(data[[#This Row],[Date]]+data[[#This Row],[Hfin corrigée]],2)=7,COUNTIF(JF,INT(data[[#This Row],[Date]]+data[[#This Row],[Hfin corrigée]]))=1),"oui","non") -> non | Q49: =MAX(0,data[[#This Row],[Hfin corrigée]]-MAX(1,data[[#This Row],[Hdébut corrigé]]))-data[[#This Row],[NUIT2.1]]-data[[#This Row],[NUIT2.2]] -> 0 | R49: =MAX(0,MIN(1+FinNuit,data[[#This Row],[Hfin corrigée]])-MAX(1,data[[#This Row],[Hdébut corrigé]])) -> 0 | S49: =MAX(0,(data[[#This Row],[Hfin corrigée]]-DebNuit-1)) -> 0 | T49: =IF(data[[#This Row],[Garde / Interv.]]="Intervention",MAX(0,data[[#This Row],[Hfin corrigée]]-SUMPRODUCT((data[Date]=data[[#This Row],[Date]])*(data[Garde / Interv.]="Garde")*data[Hfin corrigée])),0) -> 0 | U49: =MAX(0,IF(data[[#This Row],[Garde / Interv.]]="Garde",data[[#This Row],[Hfin corrigée]]-data[[#This Row],[Hdébut corrigé]]+SUMPRODUCT((data[Date]=data[[#This Row],[Date]])*data[Interv. hors poste])-SUMPRODUCT((data[Date]=data[[#This Row],[Date]])*(data[[Durée interv. jour]:[Durée interv. nuit]])),0)) -> 0 | V49: =MAX(0,IF(data[[#This Row],[Garde / Interv.]]="Intervention",(data[[#This Row],[Fin Dim ou Férié]]="non")*data[[#This Row],[JOUR2]]+(data[[#This Row],[Début Dim ou Férié]]="non")*data[[#This Row],[JOUR1]],0)) -> 0.039583333 | W49: =IF(data[[#This Row],[Garde / Interv.]]="Intervention",(data[[#This Row],[Fin Dim ou Férié]]="oui")*data[[#This Row],[JOUR2]]+(data[[#This Row],[Début Dim ou Férié]]="oui")*data[[#This Row],[JOUR1]],0) -> 0 | X49: =MAX(0,IF(data[[#This Row],[Garde / Interv.]]="Intervention",data[[#This Row],[NUIT1.1]]+data[[#This Row],[NUIT1.2]]+data[[#This Row],[NUIT2.1]]+data[[#This Row],[NUIT2.2]],0)) -> 0
A50: 43253 | B50: =IF(data[[#This Row],[Hdébut garde]]<>"","Garde",IF(data[[#This Row],[Hdébut corrigé]]<>"","Intervention","")) -> Garde | C50: 0.83333333 | D50: 0.33333333 | J50: =IF(data[[#This Row],[Hdébut garde]]<>"", data[[#This Row],[Hdébut garde]], data[[#This Row],[Hdébut interv.]]+IF(data[[#This Row],[Hdébut interv.]]<SUMPRODUCT((data[Date]=data[[#This Row],[Date]])*data[Hdébut garde]),1,0) ) -> 0.83333333 | K50: =IF(data[[#This Row],[Hfin garde]]<>"", data[[#This Row],[Hfin garde]]+IF(data[[#This Row],[Hfin garde]]<=data[[#This Row],[Hdébut garde]],1,0)+IF(data[[#This Row],[>24h]]<>"",1,0), IF(data[[#This Row],[Hfin Interv.]]="",0, data[[#This Row],[Hfin Interv.]] +IF(data[[#This Row],[Hfin Interv.]]>data[[#This Row],[Hdébut interv.]],0,1)) +IF(data[[#This Row],[Hdébut interv.]]<SUMPRODUCT((data[Date]=data[[#This Row],[Date]])*data[Hdébut garde]),1,0) ) -> 1.3333333 | L50: =IF(OR(WEEKDAY(data[[#This Row],[Date]],2)=7,COUNTIF(JF,data[[#This Row],[Date]])=1),"oui","non") -> non | M50: =MAX(0,(MIN(1,data[[#This Row],[Hfin corrigée]])-data[[#This Row],[Hdébut corrigé]])-data[[#This Row],[NUIT1.1]]-data[[#This Row],[NUIT1.2]]) -> 0.083333333 | N50: =IF(data[[#This Row],[Hfin Interv.]]="",0,( MIN(FinNuit,MIN(1,data[[#This Row],[Hfin corrigée]]))-MIN(FinNuit,data[[#This Row],[Hdébut corrigé]]) )) -> 0 | O50: =MAX(0,(MAX(0,(MIN(1,data[[#This Row],[Hfin corrigée]])-DebNuit))-MAX(0,(data[[#This Row],[Hdébut corrigé]]-DebNuit)))) -> 0.083333333 | P50: =IF(OR(WEEKDAY(data[[#This Row],[Date]]+data[[#This Row],[Hfin corrigée]],2)=7,COUNTIF(JF,INT(data[[#This Row],[Date]]+data[[#This Row],[Hfin corrigée]]))=1),"oui","non") -> oui | Q50: =MAX(0,data[[#This Row],[Hfin corrigée]]-MAX(1,data[[#This Row],[Hdébut corrigé]]))-data[[#This Row],[NUIT2.1]]-data[[#This Row],[NUIT2.2]] -> 0.041666667 | R50: =MAX(0,MIN(1+FinNuit,data[[#This Row],[Hfin corrigée]])-MAX(1,data[[#This Row],[Hdébut corrigé]])) -> 0.29166667 | S50: =MAX(0,(data[[#This Row],[Hfin corrigée]]-DebNuit-1)) -> 0 | T50: =IF(data[[#This Row],[Garde / Interv.]]="Intervention",MAX(0,data[[#This Row],[Hfin corrigée]]-SUMPRODUCT((data[Date]=data[[#This Row],[Date]])*(data[Garde / Interv.]="Garde")*data[Hfin corrigée])),0) -> 0 | U50: =MAX(0,IF(data[[#This Row],[Garde / Interv.]]="Garde",data[[#This Row],[Hfin corrigée]]-data[[#This Row],[Hdébut corrigé]]+SUMPRODUCT((data[Date]=data[[#This Row],[Date]])*data[Interv. hors poste])-SUMPRODUCT((data[Date]=data[[#This Row],[Date]])*(data[[Durée interv. jour]:[Durée interv. nuit]])),0)) -> 0.5 | V50: =MAX(0,IF(data[[#This Row],[Garde / Interv.]]="Intervention",(data[[#This Row],[Fin Dim ou Férié]]="non")*data[[#This Row],[JOUR2]]+(data[[#This Row],[Début Dim ou Férié]]="non")*data[[#This Row],[JOUR1]],0)) -> 0 | W50: =IF(data[[#This Row],[Garde / Interv.]]="Intervention",(data[[#This Row],[Fin Dim ou Férié]]="oui")*data[[#This Row],[JOUR2]]+(data[[#This Row],[Début Dim ou Férié]]="oui")*data[[#This Row],[JOUR1]],0) -> 0 | X50: =MAX(0,IF(data[[#This Row],[Garde / Interv.]]="Intervention",data[[#This Row],[NUIT1.1]]+data[[#This Row],[NUIT1.2]]+data[[#This Row],[NUIT2.1]]+data[[#This Row],[NUIT2.2]],0)) -> 0
A51: 43253 | B51: =IF(data[[#This Row],[Hdébut garde]]<>"","Garde",IF(data[[#This Row],[Hdébut corrigé]]<>"","Intervention","")) -> Intervention | G51: STANDARD | J51: =IF(data[[#This Row],[Hdébut garde]]<>"", data[[#This Row],[Hdébut garde]], data[[#This Row],[Hdébut interv.]]+IF(data[[#This Row],[Hdébut interv.]]<SUMPRODUCT((data[Date]=data[[#This Row],[Date]])*data[Hdébut garde]),1,0) ) -> 1 | K51: =IF(data[[#This Row],[Hfin garde]]<>"", data[[#This Row],[Hfin garde]]+IF(data[[#This Row],[Hfin garde]]<=data[[#This Row],[Hdébut garde]],1,0)+IF(data[[#This Row],[>24h]]<>"",1,0), IF(data[[#This Row],[Hfin Interv.]]="",0, data[[#This Row],[Hfin Interv.]] +IF(data[[#This Row],[Hfin Interv.]]>data[[#This Row],[Hdébut interv.]],0,1)) +IF(data[[#This Row],[Hdébut interv.]]<SUMPRODUCT((data[Date]=data[[#This Row],[Date]])*data[Hdébut garde]),1,0) ) -> 1 | L51: =IF(OR(WEEKDAY(data[[#This Row],[Date]],2)=7,COUNTIF(JF,data[[#This Row],[Date]])=1),"oui","non") -> non | M51: =MAX(0,(MIN(1,data[[#This Row],[Hfin corrigée]])-data[[#This Row],[Hdébut corrigé]])-data[[#This Row],[NUIT1.1]]-data[[#This Row],[NUIT1.2]]) -> 0 | N51: =IF(data[[#This Row],[Hfin Interv.]]="",0,( MIN(FinNuit,MIN(1,data[[#This Row],[Hfin corrigée]]))-MIN(FinNuit,data[[#This Row],[Hdébut corrigé]]) )) -> 0 | O51: =MAX(0,(MAX(0,(MIN(1,data[[#This Row],[Hfin corrigée]])-DebNuit))-MAX(0,(data[[#This Row],[Hdébut corrigé]]-DebNuit)))) -> 0 | P51: =IF(OR(WEEKDAY(data[[#This Row],[Date]]+data[[#This Row],[Hfin corrigée]],2)=7,COUNTIF(JF,INT(data[[#This Row],[Date]]+data[[#This Row],[Hfin corrigée]]))=1),"oui","non") -> oui | Q51: =MAX(0,data[[#This Row],[Hfin corrigée]]-MAX(1,data[[#This Row],[Hdébut corrigé]]))-data[[#This Row],[NUIT2.1]]-data[[#This Row],[NUIT2.2]] -> 0 | R51: =MAX(0,MIN(1+FinNuit,data[[#This Row],[Hfin corrigée]])-MAX(1,data[[#This Row],[Hdébut corrigé]])) -> 0 | S51: =MAX(0,(data[[#This Row],[Hfin corrigée]]-DebNuit-1)) -> 0 | T51: =IF(data[[#This Row],[Garde / Interv.]]="Intervention",MAX(0,data[[#This Row],[Hfin corrigée]]-SUMPRODUCT((data[Date]=data[[#This Row],[Date]])*(data[Garde / Interv.]="Garde")*data[Hfin corrigée])),0) -> 0 | U51: =MAX(0,IF(data[[#This Row],[Garde / Interv.]]="Garde",data[[#This Row],[Hfin corrigée]]-data[[#This Row],[Hdébut corrigé]]+SUMPRODUCT((data[Date]=data[[#This Row],[Date]])*data[Interv. hors poste])-SUMPRODUCT((data[Date]=data[[#This Row],[Date]])*(data[[Durée interv. jour]:[Durée interv. nuit]])),0)) -> 0 | V51: =MAX(0,IF(data[[#This Row],[Garde / Interv.]]="Intervention",(data[[#This Row],[Fin Dim ou Férié]]="non")*data[[#This Row],[JOUR2]]+(data[[#This Row],[Début Dim ou Férié]]="non")*data[[#This Row],[JOUR1]],0)) -> 0 | W51: =IF(data[[#This Row],[Garde / Interv.]]="Intervention",(data[[#This Row],[Fin Dim ou Férié]]="oui")*data[[#This Row],[JOUR2]]+(data[[#This Row],[Début Dim ou Férié]]="oui")*data[[#This Row],[JOUR1]],0) -> 0 | X51: =MAX(0,IF(data[[#This Row],[Garde / Interv.]]="Intervention",data[[#This Row],[NUIT1.1]]+data[[#This Row],[NUIT1.2]]+data[[#This Row],[NUIT2.1]]+data[[#This Row],[NUIT2.2]],0)) -> 0
A52: 43258 | B52: =IF(data[[#This Row],[Hdébut garde]]<>"","Garde",IF(data[[#This Row],[Hdébut corrigé]]<>"","Intervention","")) -> Garde | C52: 0.33333333 | D52: 0.33333333 | J52: =IF(data[[#This Row],[Hdébut garde]]<>"", data[[#This Row],[Hdébut garde]], data[[#This Row],[Hdébut interv.]]+IF(data[[#This Row],[Hdébut interv.]]<SUMPRODUCT((data[Date]=data[[#This Row],[Date]])*data[Hdébut garde]),1,0) ) -> 0.33333333 | K52: =IF(data[[#This Row],[Hfin garde]]<>"", data[[#This Row],[Hfin garde]]+IF(data[[#This Row],[Hfin garde]]<=data[[#This Row],[Hdébut garde]],1,0)+IF(data[[#This Row],[>24h]]<>"",1,0), IF(data[[#This Row],[Hfin Interv.]]="",0, data[[#This Row],[Hfin Interv.]] +IF(data[[#This Row],[Hfin Interv.]]>data[[#This Row],[Hdébut interv.]],0,1)) +IF(data[[#This Row],[Hdébut interv.]]<SUMPRODUCT((data[Date]=data[[#This Row],[Date]])*data[Hdébut garde]),1,0) ) -> 1.3333333 | L52: =IF(OR(WEEKDAY(data[[#This Row],[Date]],2)=7,COUNTIF(JF,data[[#This Row],[Date]])=1),"oui","non") -> non | M52: =MAX(0,(MIN(1,data[[#This Row],[Hfin corrigée]])-data[[#This Row],[Hdébut corrigé]])-data[[#This Row],[NUIT1.1]]-data[[#This Row],[NUIT1.2]]) -> 0.58333333 | N52: =IF(data[[#This Row],[Hfin Interv.]]="",0,( MIN(FinNuit,MIN(1,data[[#This Row],[Hfin corrigée]]))-MIN(FinNuit,data[[#This Row],[Hdébut corrigé]]) )) -> 0 | O52: =MAX(0,(MAX(0,(MIN(1,data[[#This Row],[Hfin corrigée]])-DebNuit))-MAX(0,(data[[#This Row],[Hdébut corrigé]]-DebNuit)))) -> 0.083333333 | P52: =IF(OR(WEEKDAY(data[[#This Row],[Date]]+data[[#This Row],[Hfin corrigée]],2)=7,COUNTIF(JF,INT(data[[#This Row],[Date]]+data[[#This Row],[Hfin corrigée]]))=1),"oui","non") -> non | Q52: =MAX(0,data[[#This Row],[Hfin corrigée]]-MAX(1,data[[#This Row],[Hdébut corrigé]]))-data[[#This Row],[NUIT2.1]]-data[[#This Row],[NUIT2.2]] -> 0.041666667 | R52: =MAX(0,MIN(1+FinNuit,data[[#This Row],[Hfin corrigée]])-MAX(1,data[[#This Row],[Hdébut corrigé]])) -> 0.29166667 | S52: =MAX(0,(data[[#This Row],[Hfin corrigée]]-DebNuit-1)) -> 0 | T52: =IF(data[[#This Row],[Garde / Interv.]]="Intervention",MAX(0,data[[#This Row],[Hfin corrigée]]-SUMPRODUCT((data[Date]=data[[#This Row],[Date]])*(data[Garde / Interv.]="Garde")*data[Hfin corrigée])),0) -> 0 | U52: =MAX(0,IF(data[[#This Row],[Garde / Interv.]]="Garde",data[[#This Row],[Hfin corrigée]]-data[[#This Row],[Hdébut corrigé]]+SUMPRODUCT((data[Date]=data[[#This Row],[Date]])*data[Interv. hors poste])-SUMPRODUCT((data[Date]=data[[#This Row],[Date]])*(data[[Durée interv. jour]:[Durée interv. nuit]])),0)) -> 0.83125 | V52: =MAX(0,IF(data[[#This Row],[Garde / Interv.]]="Intervention",(data[[#This Row],[Fin Dim ou Férié]]="non")*data[[#This Row],[JOUR2]]+(data[[#This Row],[Début Dim ou Férié]]="non")*data[[#This Row],[JOUR1]],0)) -> 0 | W52: =IF(data[[#This Row],[Garde / Interv.]]="Intervention",(data[[#This Row],[Fin Dim ou Férié]]="oui")*data[[#This Row],[JOUR2]]+(data[[#This Row],[Début Dim ou Férié]]="oui")*data[[#This Row],[JOUR1]],0) -> 0 | X52: =MAX(0,IF(data[[#This Row],[Garde / Interv.]]="Intervention",data[[#This Row],[NUIT1.1]]+data[[#This Row],[NUIT1.2]]+data[[#This Row],[NUIT2.1]]+data[[#This Row],[NUIT2.2]],0)) -> 0
A53: 43258 | B53: =IF(data[[#This Row],[Hdébut garde]]<>"","Garde",IF(data[[#This Row],[Hdébut corrigé]]<>"","Intervention","")) -> Intervention | F53: Malade | G53: VSAV | H53: 0.58333333 | I53: 0.65138889 | J53: =IF(data[[#This Row],[Hdébut garde]]<>"", data[[#This Row],[Hdébut garde]], data[[#This Row],[Hdébut interv.]]+IF(data[[#This Row],[Hdébut interv.]]<SUMPRODUCT((data[Date]=data[[#This Row],[Date]])*data[Hdébut garde]),1,0) ) -> 0.58333333 | K53: =IF(data[[#This Row],[Hfin garde]]<>"", data[[#This Row],[Hfin garde]]+IF(data[[#This Row],[Hfin garde]]<=data[[#This Row],[Hdébut garde]],1,0)+IF(data[[#This Row],[>24h]]<>"",1,0), IF(data[[#This Row],[Hfin Interv.]]="",0, data[[#This Row],[Hfin Interv.]] +IF(data[[#This Row],[Hfin Interv.]]>data[[#This Row],[Hdébut interv.]],0,1)) +IF(data[[#This Row],[Hdébut interv.]]<SUMPRODUCT((data[Date]=data[[#This Row],[Date]])*data[Hdébut garde]),1,0) ) -> 0.65138889 | L53: =IF(OR(WEEKDAY(data[[#This Row],[Date]],2)=7,COUNTIF(JF,data[[#This Row],[Date]])=1),"oui","non") -> non | M53: =MAX(0,(MIN(1,data[[#This Row],[Hfin corrigée]])-data[[#This Row],[Hdébut corrigé]])-data[[#This Row],[NUIT1.1]]-data[[#This Row],[NUIT1.2]]) -> 0.068055556 | N53: =IF(data[[#This Row],[Hfin Interv.]]="",0,( MIN(FinNuit,MIN(1,data[[#This Row],[Hfin corrigée]]))-MIN(FinNuit,data[[#This Row],[Hdébut corrigé]]) )) -> 0 | O53: =MAX(0,(MAX(0,(MIN(1,data[[#This Row],[Hfin corrigée]])-DebNuit))-MAX(0,(data[[#This Row],[Hdébut corrigé]]-DebNuit)))) -> 0 | P53: =IF(OR(WEEKDAY(data[[#This Row],[Date]]+data[[#This Row],[Hfin corrigée]],2)=7,COUNTIF(JF,INT(data[[#This Row],[Date]]+data[[#This Row],[Hfin corrigée]]))=1),"oui","non") -> non | Q53: =MAX(0,data[[#This Row],[Hfin corrigée]]-MAX(1,data[[#This Row],[Hdébut corrigé]]))-data[[#This Row],[NUIT2.1]]-data[[#This Row],[NUIT2.2]] -> 0 | R53: =MAX(0,MIN(1+FinNuit,data[[#This Row],[Hfin corrigée]])-MAX(1,data[[#This Row],[Hdébut corrigé]])) -> 0 | S53: =MAX(0,(data[[#This Row],[Hfin corrigée]]-DebNuit-1)) -> 0 | T53: =IF(data[[#This Row],[Garde / Interv.]]="Intervention",MAX(0,data[[#This Row],[Hfin corrigée]]-SUMPRODUCT((data[Date]=data[[#This Row],[Date]])*(data[Garde / Interv.]="Garde")*data[Hfin corrigée])),0) -> 0 | U53: =MAX(0,IF(data[[#This Row],[Garde / Interv.]]="Garde",data[[#This Row],[Hfin corrigée]]-data[[#This Row],[Hdébut corrigé]]+SUMPRODUCT((data[Date]=data[[#This Row],[Date]])*data[Interv. hors poste])-SUMPRODUCT((data[Date]=data[[#This Row],[Date]])*(data[[Durée interv. jour]:[Durée interv. nuit]])),0)) -> 0 | V53: =MAX(0,IF(data[[#This Row],[Garde / Interv.]]="Intervention",(data[[#This Row],[Fin Dim ou Férié]]="non")*data[[#This Row],[JOUR2]]+(data[[#This Row],[Début Dim ou Férié]]="non")*data[[#This Row],[JOUR1]],0)) -> 0.068055556 | W53: =IF(data[[#This Row],[Garde / Interv.]]="Intervention",(data[[#This Row],[Fin Dim ou Férié]]="oui")*data[[#This Row],[JOUR2]]+(data[[#This Row],[Début Dim ou Férié]]="oui")*data[[#This Row],[JOUR1]],0) -> 0 | X53: =MAX(0,IF(data[[#This Row],[Garde / Interv.]]="Intervention",data[[#This Row],[NUIT1.1]]+data[[#This Row],[NUIT1.2]]+data[[#This Row],[NUIT2.1]]+data[[#This Row],[NUIT2.2]],0)) -> 0
A54: 43258 | B54: =IF(data[[#This Row],[Hdébut garde]]<>"","Garde",IF(data[[#This Row],[Hdébut corrigé]]<>"","Intervention","")) -> Intervention | F54: Malade | G54: VSAV | H54: 0.19305556 | I54: 0.29375 | J54: =IF(data[[#This Row],[Hdébut garde]]<>"", data[[#This Row],[Hdébut garde]], data[[#This Row],[Hdébut interv.]]+IF(data[[#This Row],[Hdébut interv.]]<SUMPRODUCT((data[Date]=data[[#This Row],[Date]])*data[Hdébut garde]),1,0) ) -> 1.1930556 | K54: =IF(data[[#This Row],[Hfin garde]]<>"", data[[#This Row],[Hfin garde]]+IF(data[[#This Row],[Hfin garde]]<=data[[#This Row],[Hdébut garde]],1,0)+IF(data[[#This Row],[>24h]]<>"",1,0), IF(data[[#This Row],[Hfin Interv.]]="",0, data[[#This Row],[Hfin Interv.]] +IF(data[[#This Row],[Hfin Interv.]]>data[[#This Row],[Hdébut interv.]],0,1)) +IF(data[[#This Row],[Hdébut interv.]]<SUMPRODUCT((data[Date]=data[[#This Row],[Date]])*data[Hdébut garde]),1,0) ) -> 1.29375 | L54: =IF(OR(WEEKDAY(data[[#This Row],[Date]],2)=7,COUNTIF(JF,data[[#This Row],[Date]])=1),"oui","non") -> non | M54: =MAX(0,(MIN(1,data[[#This Row],[Hfin corrigée]])-data[[#This Row],[Hdébut corrigé]])-data[[#This Row],[NUIT1.1]]-data[[#This Row],[NUIT1.2]]) -> 0 | N54: =IF(data[[#This Row],[Hfin Interv.]]="",0,( MIN(FinNuit,MIN(1,data[[#This Row],[Hfin corrigée]]))-MIN(FinNuit,data[[#This Row],[Hdébut corrigé]]) )) -> 0 | O54: =MAX(0,(MAX(0,(MIN(1,data[[#This Row],[Hfin corrigée]])-DebNuit))-MAX(0,(data[[#This Row],[Hdébut corrigé]]-DebNuit)))) -> 0 | P54: =IF(OR(WEEKDAY(data[[#This Row],[Date]]+data[[#This Row],[Hfin corrigée]],2)=7,COUNTIF(JF,INT(data[[#This Row],[Date]]+data[[#This Row],[Hfin corrigée]]))=1),"oui","non") -> non | Q54: =MAX(0,data[[#This Row],[Hfin corrigée]]-MAX(1,data[[#This Row],[Hdébut corrigé]]))-data[[#This Row],[NUIT2.1]]-data[[#This Row],[NUIT2.2]] -> 0.0020833333 | R54: =MAX(0,MIN(1+FinNuit,data[[#This Row],[Hfin corrigée]])-MAX(1,data[[#This Row],[Hdébut corrigé]])) -> 0.098611111 | S54: =MAX(0,(data[[#This Row],[Hfin corrigée]]-DebNuit-1)) -> 0 | T54: =IF(data[[#This Row],[Garde / Interv.]]="Intervention",MAX(0,data[[#This Row],[Hfin corrigée]]-SUMPRODUCT((data[Date]=data[[#This Row],[Date]])*(data[Garde / Interv.]="Garde")*data[Hfin corrigée])),0) -> 0 | U54: =MAX(0,IF(data[[#This Row],[Garde / Interv.]]="Garde",data[[#This Row],[Hfin corrigée]]-data[[#This Row],[Hdébut corrigé]]+SUMPRODUCT((data[Date]=data[[#This Row],[Date]])*data[Interv. hors poste])-SUMPRODUCT((data[Date]=data[[#This Row],[Date]])*(data[[Durée interv. jour]:[Durée interv. nuit]])),0)) -> 0 | V54: =MAX(0,IF(data[[#This Row],[Garde / Interv.]]="Intervention",(data[[#This Row],[Fin Dim ou Férié]]="non")*data[[#This Row],[JOUR2]]+(data[[#This Row],[Début Dim ou Férié]]="non")*data[[#This Row],[JOUR1]],0)) -> 0.0020833333 | W54: =IF(data[[#This Row],[Garde / Interv.]]="Intervention",(data[[#This Row],[Fin Dim ou Férié]]="oui")*data[[#This Row],[JOUR2]]+(data[[#This Row],[Début Dim ou Férié]]="oui")*data[[#This Row],[JOUR1]],0) -> 0 | X54: =MAX(0,IF(data[[#This Row],[Garde / Interv.]]="Intervention",data[[#This Row],[NUIT1.1]]+data[[#This Row],[NUIT1.2]]+data[[#This Row],[NUIT2.1]]+data[[#This Row],[NUIT2.2]],0)) -> 0.098611111
A55: 43265 | B55: =IF(data[[#This Row],[Hdébut garde]]<>"","Garde",IF(data[[#This Row],[Hdébut corrigé]]<>"","Intervention","")) -> Garde | C55: 0.33333333 | D55: 0.33333333 | J55: =IF(data[[#This Row],[Hdébut garde]]<>"", data[[#This Row],[Hdébut garde]], data[[#This Row],[Hdébut interv.]]+IF(data[[#This Row],[Hdébut interv.]]<SUMPRODUCT((data[Date]=data[[#This Row],[Date]])*data[Hdébut garde]),1,0) ) -> 0.33333333 | K55: =IF(data[[#This Row],[Hfin garde]]<>"", data[[#This Row],[Hfin garde]]+IF(data[[#This Row],[Hfin garde]]<=data[[#This Row],[Hdébut garde]],1,0)+IF(data[[#This Row],[>24h]]<>"",1,0), IF(data[[#This Row],[Hfin Interv.]]="",0, data[[#This Row],[Hfin Interv.]] +IF(data[[#This Row],[Hfin Interv.]]>data[[#This Row],[Hdébut interv.]],0,1)) +IF(data[[#This Row],[Hdébut interv.]]<SUMPRODUCT((data[Date]=data[[#This Row],[Date]])*data[Hdébut garde]),1,0) ) -> 1.3333333 | L55: =IF(OR(WEEKDAY(data[[#This Row],[Date]],2)=7,COUNTIF(JF,data[[#This Row],[Date]])=1),"oui","non") -> non | M55: =MAX(0,(MIN(1,data[[#This Row],[Hfin corrigée]])-data[[#This Row],[Hdébut corrigé]])-data[[#This Row],[NUIT1.1]]-data[[#This Row],[NUIT1.2]]) -> 0.58333333 | N55: =IF(data[[#This Row],[Hfin Interv.]]="",0,( MIN(FinNuit,MIN(1,data[[#This Row],[Hfin corrigée]]))-MIN(FinNuit,data[[#This Row],[Hdébut corrigé]]) )) -> 0 | O55: =MAX(0,(MAX(0,(MIN(1,data[[#This Row],[Hfin corrigée]])-DebNuit))-MAX(0,(data[[#This Row],[Hdébut corrigé]]-DebNuit)))) -> 0.083333333 | P55: =IF(OR(WEEKDAY(data[[#This Row],[Date]]+data[[#This Row],[Hfin corrigée]],2)=7,COUNTIF(JF,INT(data[[#This Row],[Date]]+data[[#This Row],[Hfin corrigée]]))=1),"oui","non") -> non | Q55: =MAX(0,data[[#This Row],[Hfin corrigée]]-MAX(1,data[[#This Row],[Hdébut corrigé]]))-data[[#This Row],[NUIT2.1]]-data[[#This Row],[NUIT2.2]] -> 0.041666667 | R55: =MAX(0,MIN(1+FinNuit,data[[#This Row],[Hfin corrigée]])-MAX(1,data[[#This Row],[Hdébut corrigé]])) -> 0.29166667 | S55: =MAX(0,(data[[#This Row],[Hfin corrigée]]-DebNuit-1)) -> 0 | T55: =IF(data[[#This Row],[Garde / Interv.]]="Intervention",MAX(0,data[[#This Row],[Hfin corrigée]]-SUMPRODUCT((data[Date]=data[[#This Row],[Date]])*(data[Garde / Interv.]="Garde")*data[Hfin corrigée])),0) -> 0 | U55: =MAX(0,IF(data[[#This Row],[Garde / Interv.]]="Garde",data[[#This Row],[Hfin corrigée]]-data[[#This Row],[Hdébut corrigé]]+SUMPRODUCT((data[Date]=data[[#This Row],[Date]])*data[Interv. hors poste])-SUMPRODUCT((data[Date]=data[[#This Row],[Date]])*(data[[Durée interv. jour]:[Durée interv. nuit]])),0)) -> 0.89444444 | V55: =MAX(0,IF(data[[#This Row],[Garde / Interv.]]="Intervention",(data[[#This Row],[Fin Dim ou Férié]]="non")*data[[#This Row],[JOUR2]]+(data[[#This Row],[Début Dim ou Férié]]="non")*data[[#This Row],[JOUR1]],0)) -> 0 | W55: =IF(data[[#This Row],[Garde / Interv.]]="Intervention",(data[[#This Row],[Fin Dim ou Férié]]="oui")*data[[#This Row],[JOUR2]]+(data[[#This Row],[Début Dim ou Férié]]="oui")*data[[#This Row],[JOUR1]],0) -> 0 | X55: =MAX(0,IF(data[[#This Row],[Garde / Interv.]]="Intervention",data[[#This Row],[NUIT1.1]]+data[[#This Row],[NUIT1.2]]+data[[#This Row],[NUIT2.1]]+data[[#This Row],[NUIT2.2]],0)) -> 0
A56: 43265 | B56: =IF(data[[#This Row],[Hdébut garde]]<>"","Garde",IF(data[[#This Row],[Hdébut corrigé]]<>"","Intervention","")) -> Intervention | F56: Malaise | G56: VSAV | H56: 0.46111111 | I56: 0.49513889 | J56: =IF(data[[#This Row],[Hdébut garde]]<>"", data[[#This Row],[Hdébut garde]], data[[#This Row],[Hdébut interv.]]+IF(data[[#This Row],[Hdébut interv.]]<SUMPRODUCT((data[Date]=data[[#This Row],[Date]])*data[Hdébut garde]),1,0) ) -> 0.46111111 | K56: =IF(data[[#This Row],[Hfin garde]]<>"", data[[#This Row],[Hfin garde]]+IF(data[[#This Row],[Hfin garde]]<=data[[#This Row],[Hdébut garde]],1,0)+IF(data[[#This Row],[>24h]]<>"",1,0), IF(data[[#This Row],[Hfin Interv.]]="",0, data[[#This Row],[Hfin Interv.]] +IF(data[[#This Row],[Hfin Interv.]]>data[[#This Row],[Hdébut interv.]],0,1)) +IF(data[[#This Row],[Hdébut interv.]]<SUMPRODUCT((data[Date]=data[[#This Row],[Date]])*data[Hdébut garde]),1,0) ) -> 0.49513889 | L56: =IF(OR(WEEKDAY(data[[#This Row],[Date]],2)=7,COUNTIF(JF,data[[#This Row],[Date]])=1),"oui","non") -> non | M56: =MAX(0,(MIN(1,data[[#This Row],[Hfin corrigée]])-data[[#This Row],[Hdébut corrigé]])-data[[#This Row],[NUIT1.1]]-data[[#This Row],[NUIT1.2]]) -> 0.034027778 | N56: =IF(data[[#This Row],[Hfin Interv.]]="",0,( MIN(FinNuit,MIN(1,data[[#This Row],[Hfin corrigée]]))-MIN(FinNuit,data[[#This Row],[Hdébut corrigé]]) )) -> 0 | O56: =MAX(0,(MAX(0,(MIN(1,data[[#This Row],[Hfin corrigée]])-DebNuit))-MAX(0,(data[[#This Row],[Hdébut corrigé]]-DebNuit)))) -> 0 | P56: =IF(OR(WEEKDAY(data[[#This Row],[Date]]+data[[#This Row],[Hfin corrigée]],2)=7,COUNTIF(JF,INT(data[[#This Row],[Date]]+data[[#This Row],[Hfin corrigée]]))=1),"oui","non") -> non | Q56: =MAX(0,data[[#This Row],[Hfin corrigée]]-MAX(1,data[[#This Row],[Hdébut corrigé]]))-data[[#This Row],[NUIT2.1]]-data[[#This Row],[NUIT2.2]] -> 0 | R56: =MAX(0,MIN(1+FinNuit,data[[#This Row],[Hfin corrigée]])-MAX(1,data[[#This Row],[Hdébut corrigé]])) -> 0 | S56: =MAX(0,(data[[#This Row],[Hfin corrigée]]-DebNuit-1)) -> 0 | T56: =IF(data[[#This Row],[Garde / Interv.]]="Intervention",MAX(0,data[[#This Row],[Hfin corrigée]]-SUMPRODUCT((data[Date]=data[[#This Row],[Date]])*(data[Garde / Interv.]="Garde")*data[Hfin corrigée])),0) -> 0 | U56: =MAX(0,IF(data[[#This Row],[Garde / Interv.]]="Garde",data[[#This Row],[Hfin corrigée]]-data[[#This Row],[Hdébut corrigé]]+SUMPRODUCT((data[Date]=data[[#This Row],[Date]])*data[Interv. hors poste])-SUMPRODUCT((data[Date]=data[[#This Row],[Date]])*(data[[Durée interv. jour]:[Durée interv. nuit]])),0)) -> 0 | V56: =MAX(0,IF(data[[#This Row],[Garde / Interv.]]="Intervention",(data[[#This Row],[Fin Dim ou Férié]]="non")*data[[#This Row],[JOUR2]]+(data[[#This Row],[Début Dim ou Férié]]="non")*data[[#This Row],[JOUR1]],0)) -> 0.034027778 | W56: =IF(data[[#This Row],[Garde / Interv.]]="Intervention",(data[[#This Row],[Fin Dim ou Férié]]="oui")*data[[#This Row],[JOUR2]]+(data[[#This Row],[Début Dim ou Férié]]="oui")*data[[#This Row],[JOUR1]],0) -> 0 | X56: =MAX(0,IF(data[[#This Row],[Garde / Interv.]]="Intervention",data[[#This Row],[NUIT1.1]]+data[[#This Row],[NUIT1.2]]+data[[#This Row],[NUIT2.1]]+data[[#This Row],[NUIT2.2]],0)) -> 0
A57: 43265 | B57: =IF(data[[#This Row],[Hdébut garde]]<>"","Garde",IF(data[[#This Row],[Hdébut corrigé]]<>"","Intervention","")) -> Intervention | F57: Chute | G57: VSAV | H57: 0.52083333 | I57: 0.56319444 | J57: =IF(data[[#This Row],[Hdébut garde]]<>"", data[[#This Row],[Hdébut garde]], data[[#This Row],[Hdébut interv.]]+IF(data[[#This Row],[Hdébut interv.]]<SUMPRODUCT((data[Date]=data[[#This Row],[Date]])*data[Hdébut garde]),1,0) ) -> 0.52083333 | K57: =IF(data[[#This Row],[Hfin garde]]<>"", data[[#This Row],[Hfin garde]]+IF(data[[#This Row],[Hfin garde]]<=data[[#This Row],[Hdébut garde]],1,0)+IF(data[[#This Row],[>24h]]<>"",1,0), IF(data[[#This Row],[Hfin Interv.]]="",0, data[[#This Row],[Hfin Interv.]] +IF(data[[#This Row],[Hfin Interv.]]>data[[#This Row],[Hdébut interv.]],0,1)) +IF(data[[#This Row],[Hdébut interv.]]<SUMPRODUCT((data[Date]=data[[#This Row],[Date]])*data[Hdébut garde]),1,0) ) -> 0.56319444 | L57: =IF(OR(WEEKDAY(data[[#This Row],[Date]],2)=7,COUNTIF(JF,data[[#This Row],[Date]])=1),"oui","non") -> non | M57: =MAX(0,(MIN(1,data[[#This Row],[Hfin corrigée]])-data[[#This Row],[Hdébut corrigé]])-data[[#This Row],[NUIT1.1]]-data[[#This Row],[NUIT1.2]]) -> 0.042361111 | N57: =IF(data[[#This Row],[Hfin Interv.]]="",0,( MIN(FinNuit,MIN(1,data[[#This Row],[Hfin corrigée]]))-MIN(FinNuit,data[[#This Row],[Hdébut corrigé]]) )) -> 0 | O57: =MAX(0,(MAX(0,(MIN(1,data[[#This Row],[Hfin corrigée]])-DebNuit))-MAX(0,(data[[#This Row],[Hdébut corrigé]]-DebNuit)))) -> 0 | P57: =IF(OR(WEEKDAY(data[[#This Row],[Date]]+data[[#This Row],[Hfin corrigée]],2)=7,COUNTIF(JF,INT(data[[#This Row],[Date]]+data[[#This Row],[Hfin corrigée]]))=1),"oui","non") -> non | Q57: =MAX(0,data[[#This Row],[Hfin corrigée]]-MAX(1,data[[#This Row],[Hdébut corrigé]]))-data[[#This Row],[NUIT2.1]]-data[[#This Row],[NUIT2.2]] -> 0 | R57: =MAX(0,MIN(1+FinNuit,data[[#This Row],[Hfin corrigée]])-MAX(1,data[[#This Row],[Hdébut corrigé]])) -> 0 | S57: =MAX(0,(data[[#This Row],[Hfin corrigée]]-DebNuit-1)) -> 0 | T57: =IF(data[[#This Row],[Garde / Interv.]]="Intervention",MAX(0,data[[#This Row],[Hfin corrigée]]-SUMPRODUCT((data[Date]=data[[#This Row],[Date]])*(data[Garde / Interv.]="Garde")*data[Hfin corrigée])),0) -> 0 | U57: =MAX(0,IF(data[[#This Row],[Garde / Interv.]]="Garde",data[[#This Row],[Hfin corrigée]]-data[[#This Row],[Hdébut corrigé]]+SUMPRODUCT((data[Date]=data[[#This Row],[Date]])*data[Interv. hors poste])-SUMPRODUCT((data[Date]=data[[#This Row],[Date]])*(data[[Durée interv. jour]:[Durée interv. nuit]])),0)) -> 0 | V57: =MAX(0,IF(data[[#This Row],[Garde / Interv.]]="Intervention",(data[[#This Row],[Fin Dim ou Férié]]="non")*data[[#This Row],[JOUR2]]+(data[[#This Row],[Début Dim ou Férié]]="non")*data[[#This Row],[JOUR1]],0)) -> 0.042361111 | W57: =IF(data[[#This Row],[Garde / Interv.]]="Intervention",(data[[#This Row],[Fin Dim ou Férié]]="oui")*data[[#This Row],[JOUR2]]+(data[[#This Row],[Début Dim ou Férié]]="oui")*data[[#This Row],[JOUR1]],0) -> 0 | X57: =MAX(0,IF(data[[#This Row],[Garde / Interv.]]="Intervention",data[[#This Row],[NUIT1.1]]+data[[#This Row],[NUIT1.2]]+data[[#This Row],[NUIT2.1]]+data[[#This Row],[NUIT2.2]],0)) -> 0
A58: 43265 | B58: =IF(data[[#This Row],[Hdébut garde]]<>"","Garde",IF(data[[#This Row],[Hdébut corrigé]]<>"","Intervention","")) -> Intervention | F58: Malaise | G58: VSAV | H58: 0.56458333 | I58: 0.59375 | J58: =IF(data[[#This Row],[Hdébut garde]]<>"", data[[#This Row],[Hdébut garde]], data[[#This Row],[Hdébut interv.]]+IF(data[[#This Row],[Hdébut interv.]]<SUMPRODUCT((data[Date]=data[[#This Row],[Date]])*data[Hdébut garde]),1,0) ) -> 0.56458333 | K58: =IF(data[[#This Row],[Hfin garde]]<>"", data[[#This Row],[Hfin garde]]+IF(data[[#This Row],[Hfin garde]]<=data[[#This Row],[Hdébut garde]],1,0)+IF(data[[#This Row],[>24h]]<>"",1,0), IF(data[[#This Row],[Hfin Interv.]]="",0, data[[#This Row],[Hfin Interv.]] +IF(data[[#This Row],[Hfin Interv.]]>data[[#This Row],[Hdébut interv.]],0,1)) +IF(data[[#This Row],[Hdébut interv.]]<SUMPRODUCT((data[Date]=data[[#This Row],[Date]])*data[Hdébut garde]),1,0) ) -> 0.59375 | L58: =IF(OR(WEEKDAY(data[[#This Row],[Date]],2)=7,COUNTIF(JF,data[[#This Row],[Date]])=1),"oui","non") -> non | M58: =MAX(0,(MIN(1,data[[#This Row],[Hfin corrigée]])-data[[#This Row],[Hdébut corrigé]])-data[[#This Row],[NUIT1.1]]-data[[#This Row],[NUIT1.2]]) -> 0.029166667 | N58: =IF(data[[#This Row],[Hfin Interv.]]="",0,( MIN(FinNuit,MIN(1,data[[#This Row],[Hfin corrigée]]))-MIN(FinNuit,data[[#This Row],[Hdébut corrigé]]) )) -> 0 | O58: =MAX(0,(MAX(0,(MIN(1,data[[#This Row],[Hfin corrigée]])-DebNuit))-MAX(0,(data[[#This Row],[Hdébut corrigé]]-DebNuit)))) -> 0 | P58: =IF(OR(WEEKDAY(data[[#This Row],[Date]]+data[[#This Row],[Hfin corrigée]],2)=7,COUNTIF(JF,INT(data[[#This Row],[Date]]+data[[#This Row],[Hfin corrigée]]))=1),"oui","non") -> non | Q58: =MAX(0,data[[#This Row],[Hfin corrigée]]-MAX(1,data[[#This Row],[Hdébut corrigé]]))-data[[#This Row],[NUIT2.1]]-data[[#This Row],[NUIT2.2]] -> 0 | R58: =MAX(0,MIN(1+FinNuit,data[[#This Row],[Hfin corrigée]])-MAX(1,data[[#This Row],[Hdébut corrigé]])) -> 0 | S58: =MAX(0,(data[[#This Row],[Hfin corrigée]]-DebNuit-1)) -> 0 | T58: =IF(data[[#This Row],[Garde / Interv.]]="Intervention",MAX(0,data[[#This Row],[Hfin corrigée]]-SUMPRODUCT((data[Date]=data[[#This Row],[Date]])*(data[Garde / Interv.]="Garde")*data[Hfin corrigée])),0) -> 0 | U58: =MAX(0,IF(data[[#This Row],[Garde / Interv.]]="Garde",data[[#This Row],[Hfin corrigée]]-data[[#This Row],[Hdébut corrigé]]+SUMPRODUCT((data[Date]=data[[#This Row],[Date]])*data[Interv. hors poste])-SUMPRODUCT((data[Date]=data[[#This Row],[Date]])*(data[[Durée interv. jour]:[Durée interv. nuit]])),0)) -> 0 | V58: =MAX(0,IF(data[[#This Row],[Garde / Interv.]]="Intervention",(data[[#This Row],[Fin Dim ou Férié]]="non")*data[[#This Row],[JOUR2]]+(data[[#This Row],[Début Dim ou Férié]]="non")*data[[#This Row],[JOUR1]],0)) -> 0.029166667 | W58: =IF(data[[#This Row],[Garde / Interv.]]="Intervention",(data[[#This Row],[Fin Dim ou Férié]]="oui")*data[[#This Row],[JOUR2]]+(data[[#This Row],[Début Dim ou Férié]]="oui")*data[[#This Row],[JOUR1]],0) -> 0 | X58: =MAX(0,IF(data[[#This Row],[Garde / Interv.]]="Intervention",data[[#This Row],[NUIT1.1]]+data[[#This Row],[NUIT1.2]]+data[[#This Row],[NUIT2.1]]+data[[#This Row],[NUIT2.2]],0)) -> 0
A59: 43344 | B59: =IF(data[[#This Row],[Hdébut garde]]<>"","Garde",IF(data[[#This Row],[Hdébut corrigé]]<>"","Intervention","")) -> Garde | C59: 0.33333333 | D59: 0.375 | E59: Oui | J59: =IF(data[[#This Row],[Hdébut garde]]<>"", data[[#This Row],[Hdébut garde]], data[[#This Row],[Hdébut interv.]]+IF(data[[#This Row],[Hdébut interv.]]<SUMPRODUCT((data[Date]=data[[#This Row],[Date]])*data[Hdébut garde]),1,0) ) -> 0.33333333 | K59: =IF(data[[#This Row],[Hfin garde]]<>"", data[[#This Row],[Hfin garde]]+IF(data[[#This Row],[Hfin garde]]<=data[[#This Row],[Hdébut garde]],1,0)+IF(data[[#This Row],[>24h]]<>"",1,0), IF(data[[#This Row],[Hfin Interv.]]="",0, data[[#This Row],[Hfin Interv.]] +IF(data[[#This Row],[Hfin Interv.]]>data[[#This Row],[Hdébut interv.]],0,1)) +IF(data[[#This Row],[Hdébut interv.]]<SUMPRODUCT((data[Date]=data[[#This Row],[Date]])*data[Hdébut garde]),1,0) ) -> 1.375 | L59: =IF(OR(WEEKDAY(data[[#This Row],[Date]],2)=7,COUNTIF(JF,data[[#This Row],[Date]])=1),"oui","non") -> non | M59: =MAX(0,(MIN(1,data[[#This Row],[Hfin corrigée]])-data[[#This Row],[Hdébut corrigé]])-data[[#This Row],[NUIT1.1]]-data[[#This Row],[NUIT1.2]]) -> 0.58333333 | N59: =IF(data[[#This Row],[Hfin Interv.]]="",0,( MIN(FinNuit,MIN(1,data[[#This Row],[Hfin corrigée]]))-MIN(FinNuit,data[[#This Row],[Hdébut corrigé]]) )) -> 0 | O59: =MAX(0,(MAX(0,(MIN(1,data[[#This Row],[Hfin corrigée]])-DebNuit))-MAX(0,(data[[#This Row],[Hdébut corrigé]]-DebNuit)))) -> 0.083333333 | P59: =IF(OR(WEEKDAY(data[[#This Row],[Date]]+data[[#This Row],[Hfin corrigée]],2)=7,COUNTIF(JF,INT(data[[#This Row],[Date]]+data[[#This Row],[Hfin corrigée]]))=1),"oui","non") -> oui | Q59: =MAX(0,data[[#This Row],[Hfin corrigée]]-MAX(1,data[[#This Row],[Hdébut corrigé]]))-data[[#This Row],[NUIT2.1]]-data[[#This Row],[NUIT2.2]] -> 0.083333333 | R59: =MAX(0,MIN(1+FinNuit,data[[#This Row],[Hfin corrigée]])-MAX(1,data[[#This Row],[Hdébut corrigé]])) -> 0.29166667 | S59: =MAX(0,(data[[#This Row],[Hfin corrigée]]-DebNuit-1)) -> 0 | T59: =IF(data[[#This Row],[Garde / Interv.]]="Intervention",MAX(0,data[[#This Row],[Hfin corrigée]]-SUMPRODUCT((data[Date]=data[[#This Row],[Date]])*(data[Garde / Interv.]="Garde")*data[Hfin corrigée])),0) -> 0 | U59: =MAX(0,IF(data[[#This Row],[Garde / Interv.]]="Garde",data[[#This Row],[Hfin corrigée]]-data[[#This Row],[Hdébut corrigé]]+SUMPRODUCT((data[Date]=data[[#This Row],[Date]])*data[Interv. hors poste])-SUMPRODUCT((data[Date]=data[[#This Row],[Date]])*(data[[Durée interv. jour]:[Durée interv. nuit]])),0)) -> 0.95833333 | V59: =MAX(0,IF(data[[#This Row],[Garde / Interv.]]="Intervention",(data[[#This Row],[Fin Dim ou Férié]]="non")*data[[#This Row],[JOUR2]]+(data[[#This Row],[Début Dim ou Férié]]="non")*data[[#This Row],[JOUR1]],0)) -> 0 | W59: =IF(data[[#This Row],[Garde / Interv.]]="Intervention",(data[[#This Row],[Fin Dim ou Férié]]="oui")*data[[#This Row],[JOUR2]]+(data[[#This Row],[Début Dim ou Férié]]="oui")*data[[#This Row],[JOUR1]],0) -> 0 | X59: =MAX(0,IF(data[[#This Row],[Garde / Interv.]]="Intervention",data[[#This Row],[NUIT1.1]]+data[[#This Row],[NUIT1.2]]+data[[#This Row],[NUIT2.1]]+data[[#This Row],[NUIT2.2]],0)) -> 0
A60: 43344 | B60: =IF(data[[#This Row],[Hdébut garde]]<>"","Garde",IF(data[[#This Row],[Hdébut corrigé]]<>"","Intervention","")) -> Intervention | H60: 0.29166667 | I60: 0.375 | J60: =IF(data[[#This Row],[Hdébut garde]]<>"", data[[#This Row],[Hdébut garde]], data[[#This Row],[Hdébut interv.]]+IF(data[[#This Row],[Hdébut interv.]]<SUMPRODUCT((data[Date]=data[[#This Row],[Date]])*data[Hdébut garde]),1,0) ) -> 1.2916667 | K60: =IF(data[[#This Row],[Hfin garde]]<>"", data[[#This Row],[Hfin garde]]+IF(data[[#This Row],[Hfin garde]]<=data[[#This Row],[Hdébut garde]],1,0)+IF(data[[#This Row],[>24h]]<>"",1,0), IF(data[[#This Row],[Hfin Interv.]]="",0, data[[#This Row],[Hfin Interv.]] +IF(data[[#This Row],[Hfin Interv.]]>data[[#This Row],[Hdébut interv.]],0,1)) +IF(data[[#This Row],[Hdébut interv.]]<SUMPRODUCT((data[Date]=data[[#This Row],[Date]])*data[Hdébut garde]),1,0) ) -> 1.375 | L60: =IF(OR(WEEKDAY(data[[#This Row],[Date]],2)=7,COUNTIF(JF,data[[#This Row],[Date]])=1),"oui","non") -> non | M60: =MAX(0,(MIN(1,data[[#This Row],[Hfin corrigée]])-data[[#This Row],[Hdébut corrigé]])-data[[#This Row],[NUIT1.1]]-data[[#This Row],[NUIT1.2]]) -> 0 | N60: =IF(data[[#This Row],[Hfin Interv.]]="",0,( MIN(FinNuit,MIN(1,data[[#This Row],[Hfin corrigée]]))-MIN(FinNuit,data[[#This Row],[Hdébut corrigé]]) )) -> 0 | O60: =MAX(0,(MAX(0,(MIN(1,data[[#This Row],[Hfin corrigée]])-DebNuit))-MAX(0,(data[[#This Row],[Hdébut corrigé]]-DebNuit)))) -> 0 | P60: =IF(OR(WEEKDAY(data[[#This Row],[Date]]+data[[#This Row],[Hfin corrigée]],2)=7,COUNTIF(JF,INT(data[[#This Row],[Date]]+data[[#This Row],[Hfin corrigée]]))=1),"oui","non") -> oui | Q60: =MAX(0,data[[#This Row],[Hfin corrigée]]-MAX(1,data[[#This Row],[Hdébut corrigé]]))-data[[#This Row],[NUIT2.1]]-data[[#This Row],[NUIT2.2]] -> 0.083333333 | R60: =MAX(0,MIN(1+FinNuit,data[[#This Row],[Hfin corrigée]])-MAX(1,data[[#This Row],[Hdébut corrigé]])) -> 0 | S60: =MAX(0,(data[[#This Row],[Hfin corrigée]]-DebNuit-1)) -> 0 | T60: =IF(data[[#This Row],[Garde / Interv.]]="Intervention",MAX(0,data[[#This Row],[Hfin corrigée]]-SUMPRODUCT((data[Date]=data[[#This Row],[Date]])*(data[Garde / Interv.]="Garde")*data[Hfin corrigée])),0) -> 0 | U60: =MAX(0,IF(data[[#This Row],[Garde / Interv.]]="Garde",data[[#This Row],[Hfin corrigée]]-data[[#This Row],[Hdébut corrigé]]+SUMPRODUCT((data[Date]=data[[#This Row],[Date]])*data[Interv. hors poste])-SUMPRODUCT((data[Date]=data[[#This Row],[Date]])*(data[[Durée interv. jour]:[Durée interv. nuit]])),0)) -> 0 | V60: =MAX(0,IF(data[[#This Row],[Garde / Interv.]]="Intervention",(data[[#This Row],[Fin Dim ou Férié]]="non")*data[[#This Row],[JOUR2]]+(data[[#This Row],[Début Dim ou Férié]]="non")*data[[#This Row],[JOUR1]],0)) -> 0 | W60: =IF(data[[#This Row],[Garde / Interv.]]="Intervention",(data[[#This Row],[Fin Dim ou Férié]]="oui")*data[[#This Row],[JOUR2]]+(data[[#This Row],[Début Dim ou Férié]]="oui")*data[[#This Row],[JOUR1]],0) -> 0.083333333 | X60: =MAX(0,IF(data[[#This Row],[Garde / Interv.]]="Intervention",data[[#This Row],[NUIT1.1]]+data[[#This Row],[NUIT1.2]]+data[[#This Row],[NUIT2.1]]+data[[#This Row],[NUIT2.2]],0)) -> 0

Sheet Test sur jour nuit
A1: Hdébut corrigé | B1: Hfin corrigée | C1: JOUR1 | D1: NUIT1.1 | E1: NUIT1.2 | F1: JOUR2 | G1: NUIT2.1 | H1: NUIT2.2
A2: 0.16666667 | B2: 0.20833333 | C2: =MAX(0,(MIN(1,test[[#This Row],[Hfin corrigée]])-test[[#This Row],[Hdébut corrigé]])-test[[#This Row],[NUIT1.1]]-test[[#This Row],[NUIT1.2]]) -> 0 | D2: =MIN(FinNuit,MIN(1,test[[#This Row],[Hfin corrigée]]))-MIN(FinNuit,test[[#This Row],[Hdébut corrigé]]) -> 0.041666667 | E2: =MAX(0,(MAX(0,(MIN(1,test[[#This Row],[Hfin corrigée]])-DebNuit))-MAX(0,(test[[#This Row],[Hdébut corrigé]]-DebNuit)))) -> 0 | F2: =MAX(0,test[[#This Row],[Hfin corrigée]]-MAX(1,test[[#This Row],[Hdébut corrigé]]))-test[[#This Row],[NUIT2.1]]-test[[#This Row],[NUIT2.2]] -> 0 | G2: =MAX(0,MIN(1+FinNuit,test[[#This Row],[Hfin corrigée]])-MAX(1,test[[#This Row],[Hdébut corrigé]])) -> 0 | H2: =MAX(0,(test[[#This Row],[Hfin corrigée]]-DebNuit-1)) -> 0
A3: 0.16666667 | B3: 0.375 | C3: =MAX(0,(MIN(1,test[[#This Row],[Hfin corrigée]])-test[[#This Row],[Hdébut corrigé]])-test[[#This Row],[NUIT1.1]]-test[[#This Row],[NUIT1.2]]) -> 0.083333333 | D3: =MIN(FinNuit,MIN(1,test[[#This Row],[Hfin corrigée]]))-MIN(FinNuit,test[[#This Row],[Hdébut corrigé]]) -> 0.125 | E3: =MAX(0,(MAX(0,(MIN(1,test[[#This Row],[Hfin corrigée]])-DebNuit))-MAX(0,(test[[#This Row],[Hdébut corrigé]]-DebNuit)))) -> 0 | F3: =MAX(0,test[[#This Row],[Hfin corrigée]]-MAX(1,test[[#This Row],[Hdébut corrigé]]))-test[[#This Row],[NUIT2.1]]-test[[#This Row],[NUIT2.2]] -> 0 | G3: =MAX(0,MIN(1+FinNuit,test[[#This Row],[Hfin corrigée]])-MAX(1,test[[#This Row],[Hdébut corrigé]])) -> 0 | H3: =MAX(0,(test[[#This Row],[Hfin corrigée]]-DebNuit-1)) -> 0
A4: 0.16666667 | B4: 0.75 | C4: =MAX(0,(MIN(1,test[[#This Row],[Hfin corrigée]])-test[[#This Row],[Hdébut corrigé]])-test[[#This Row],[NUIT1.1]]-test[[#This Row],[NUIT1.2]]) -> 0.45833333 | D4: =MIN(FinNuit,MIN(1,test[[#This Row],[Hfin corrigée]]))-MIN(FinNuit,test[[#This Row],[Hdébut corrigé]]) -> 0.125 | E4: =MAX(0,(MAX(0,(MIN(1,test[[#This Row],[Hfin corrigée]])-DebNuit))-MAX(0,(test[[#This Row],[Hdébut corrigé]]-DebNuit)))) -> 0 | F4: =MAX(0,test[[#This Row],[Hfin corrigée]]-MAX(1,test[[#This Row],[Hdébut corrigé]]))-test[[#This Row],[NUIT2.1]]-test[[#This Row],[NUIT2.2]] -> 0 | G4: =MAX(0,MIN(1+FinNuit,test[[#This Row],[Hfin corrigée]])-MAX(1,test[[#This Row],[Hdébut corrigé]])) -> 0 | H4: =MAX(0,(test[[#This Row],[Hfin corrigée]]-DebNuit-1)) -> 0
A5: 0.33333333 | B5: 0.95833333 | C5: =MAX(0,(MIN(1,test[[#This Row],[Hfin corrigée]])-test[[#This Row],[Hdébut corrigé]])-test[[#This Row],[NUIT1.1]]-test[[#This Row],[NUIT1.2]]) -> 0.58333333 | D5: =MIN(FinNuit,MIN(1,test[[#This Row],[Hfin corrigée]]))-MIN(FinNuit,test[[#This Row],[Hdébut corrigé]]) -> 0 | E5: =MAX(0,(MAX(0,(MIN(1,test[[#This Row],[Hfin corrigée]])-DebNuit))-MAX(0,(test[[#This Row],[Hdébut corrigé]]-DebNuit)))) -> 0.041666667 | F5: =MAX(0,test[[#This Row],[Hfin corrigée]]-MAX(1,test[[#This Row],[Hdébut corrigé]]))-test[[#This Row],[NUIT2.1]]-test[[#This Row],[NUIT2.2]] -> 0 | G5: =MAX(0,MIN(1+FinNuit,test[[#This Row],[Hfin corrigée]])-MAX(1,test[[#This Row],[Hdébut corrigé]])) -> 0 | H5: =MAX(0,(test[[#This Row],[Hfin corrigée]]-DebNuit-1)) -> 0
A6: 1.0416667 | B6: 1.3333333 | C6: =MAX(0,(MIN(1,test[[#This Row],[Hfin corrigée]])-test[[#This Row],[Hdébut corrigé]])-test[[#This Row],[NUIT1.1]]-test[[#This Row],[NUIT1.2]]) -> 0 | D6: =MIN(FinNuit,MIN(1,test[[#This Row],[Hfin corrigée]]))-MIN(FinNuit,test[[#This Row],[Hdébut corrigé]]) -> 0 | E6: =MAX(0,(MAX(0,(MIN(1,test[[#This Row],[Hfin corrigée]])-DebNuit))-MAX(0,(test[[#This Row],[Hdébut corrigé]]-DebNuit)))) -> 0 | F6: =MAX(0,test[[#This Row],[Hfin corrigée]]-MAX(1,test[[#This Row],[Hdébut corrigé]]))-test[[#This Row],[NUIT2.1]]-test[[#This Row],[NUIT2.2]] -> 0.041666667 | G6: =MAX(0,MIN(1+FinNuit,test[[#This Row],[Hfin corrigée]])-MAX(1,test[[#This Row],[Hdébut corrigé]])) -> 0.25 | H6: =MAX(0,(test[[#This Row],[Hfin corrigée]]-DebNuit-1)) -> 0
A7: 0.16666667 | B7: 0.95833333 | C7: =MAX(0,(MIN(1,test[[#This Row],[Hfin corrigée]])-test[[#This Row],[Hdébut corrigé]])-test[[#This Row],[NUIT1.1]]-test[[#This Row],[NUIT1.2]]) -> 0.625 | D7: =MIN(FinNuit,MIN(1,test[[#This Row],[Hfin corrigée]]))-MIN(FinNuit,test[[#This Row],[Hdébut corrigé]]) -> 0.125 | E7: =MAX(0,(MAX(0,(MIN(1,test[[#This Row],[Hfin corrigée]])-DebNuit))-MAX(0,(test[[#This Row],[Hdébut corrigé]]-DebNuit)))) -> 0.041666667 | F7: =MAX(0,test[[#This Row],[Hfin corrigée]]-MAX(1,test[[#This Row],[Hdébut corrigé]]))-test[[#This Row],[NUIT2.1]]-test[[#This Row],[NUIT2.2]] -> 0 | G7: =MAX(0,MIN(1+FinNuit,test[[#This Row],[Hfin corrigée]])-MAX(1,test[[#This Row],[Hdébut corrigé]])) -> 0 | H7: =MAX(0,(test[[#This Row],[Hfin corrigée]]-DebNuit-1)) -> 0
A8: 0.5 | B8: 1.6666667 | C8: =MAX(0,(MIN(1,test[[#This Row],[Hfin corrigée]])-test[[#This Row],[Hdébut corrigé]])-test[[#This Row],[NUIT1.1]]-test[[#This Row],[NUIT1.2]]) -> 0.41666667 | D8: =MIN(FinNuit,MIN(1,test[[#This Row],[Hfin corrigée]]))-MIN(FinNuit,test[[#This Row],[Hdébut corrigé]]) -> 0 | E8: =MAX(0,(MAX(0,(MIN(1,test[[#This Row],[Hfin corrigée]])-DebNuit))-MAX(0,(test[[#This Row],[Hdébut corrigé]]-DebNuit)))) -> 0.083333333 | F8: =MAX(0,test[[#This Row],[Hfin corrigée]]-MAX(1,test[[#This Row],[Hdébut corrigé]]))-test[[#This Row],[NUIT2.1]]-test[[#This Row],[NUIT2.2]] -> 0.375 | G8: =MAX(0,MIN(1+FinNuit,test[[#This Row],[Hfin corrigée]])-MAX(1,test[[#This Row],[Hdébut corrigé]])) -> 0.29166667 | H8: =MAX(0,(test[[#This Row],[Hfin corrigée]]-DebNuit-1)) -> 0
A9: 0 | B9: 2 | C9: =MAX(0,(MIN(1,test[[#This Row],[Hfin corrigée]])-test[[#This Row],[Hdébut corrigé]])-test[[#This Row],[NUIT1.1]]-test[[#This Row],[NUIT1.2]]) -> 0.625 | D9: =MIN(FinNuit,MIN(1,test[[#This Row],[Hfin corrigée]]))-MIN(FinNuit,test[[#This Row],[Hdébut corrigé]]) -> 0.29166667 | E9: =MAX(0,(MAX(0,(MIN(1,test[[#This Row],[Hfin corrigée]])-DebNuit))-MAX(0,(test[[#This Row],[Hdébut corrigé]]-DebNuit)))) -> 0.083333333 | F9: =MAX(0,test[[#This Row],[Hfin corrigée]]-MAX(1,test[[#This Row],[Hdébut corrigé]]))-test[[#This Row],[NUIT2.1]]-test[[#This Row],[NUIT2.2]] -> 0.625 | G9: =MAX(0,MIN(1+FinNuit,test[[#This Row],[Hfin corrigée]])-MAX(1,test[[#This Row],[Hdébut corrigé]])) -> 0.29166667 | H9: =MAX(0,(test[[#This Row],[Hfin corrigée]]-DebNuit-1)) -> 0.083333333

Sheet Calcul indemnités mensuelles
A1: Année | B1: Mois | C1: Durée sans interv. | E1: Durée interv. jour | G1: Durée interv. dim ou férié | I1: Durée interv. nuit | K1: Total durée inter | M1: indemnités sans inter | N1: indemnités inter Jr | O1: indemnités inter dim/jr ferié | P1: Indémnités inter. Nuit | Q1: Total Indemnités | R1: prévisionnel/mois non épuisé | S1: Budget restant | T1: Nbre d'heure effectués/mois | U1: Nbre d'heure effectués/Trimestre
A2: 2018 | B2: =DATE($A$2,ROW()-1,1) -> 43101 | C2: =SUMPRODUCT(data[[Durée sans interv.]:[Durée interv. nuit]]*(data[Date]>=B2)*(data[Date]<=EOMONTH(B2,0)))-F2-H2-J2 -> 2.3645833 | D2: =IF(C2=0,0,ROUNDUP(C2*4*24+1/60/24,0)/4/24) -> 2.375 | E2: =SUMPRODUCT(data[Durée interv. jour]*(data[Date]>=B2)*(data[Date]<=EOMONTH(B2,0))) -> 0.53958333 | F2: =IF(E2=0,0,ROUNDUP(E2*4*24+1/60/24,0)/4/24) -> 0.54166667 | G2: =SUMPRODUCT(data[Durée interv. dim ou férié]*(data[Date]>=B2)*(data[Date]<=EOMONTH(B2,0))) -> 0 | H2: =IF(G2=0,0,ROUNDUP(G2*4*24+1/60/24,0)/4/24) -> 0 | I2: =SUMPRODUCT(data[Durée interv. nuit]*(data[Date]>=B2)*(data[Date]<=EOMONTH(B2,0))) -> 0.085416667 | J2: =IF(I2=0,0,ROUNDUP(I2*4*24+1/60/24,0)/4/24) -> 0.09375 | K2: =E2+G2+I2 -> 0.625 | L2: =+F2+H2+J2 -> 0.63541667 | M2: =24*(TAUX1*C2) -> 325.745 | N2: =24*(TAUX2*F2) -> 99.58 | O2: =24*(TAUX3*H2) -> 0 | P2: =24*(TAUX4*J2) -> 34.47 | Q2: =24*(TAUX1*D2+TAUX2*F2+TAUX3*H2+TAUX4*J2) -> 461.23 | R2: =(Paramètres!$B$38/12)-Q2 -> 497.10333 | S2: =Paramètres!B38-'Calcul indemnités mensuelles'!Q2 -> 11038.77 | T2: =SUM(C2,L2) -> 3 | U2: =SUM(T2:T4) -> 4.89375 | V2: =T2 -> 3
B3: =DATE($A$2,ROW()-1,1) -> 43132 | C3: =SUMPRODUCT(data[[Durée sans interv.]:[Durée interv. nuit]]*(data[Date]>=B3)*(data[Date]<=EOMONTH(B3,0)))-F3-H3-J3 -> 0 | D3: =IF(C3=0,0,ROUNDUP(C3*4*24+1/60/24,0)/4/24) -> 0 | E3: =SUMPRODUCT(data[Durée interv. jour]*(data[Date]>=B3)*(data[Date]<=EOMONTH(B3,0))) -> 0 | F3: =IF(E3=0,0,ROUNDUP(E3*4*24+1/60/24,0)/4/24) -> 0 | G3: =SUMPRODUCT(data[Durée interv. dim ou férié]*(data[Date]>=B3)*(data[Date]<=EOMONTH(B3,0))) -> 0 | H3: =IF(G3=0,0,ROUNDUP(G3*4*24+1/60/24,0)/4/24) -> 0 | I3: =SUMPRODUCT(data[Durée interv. nuit]*(data[Date]>=B3)*(data[Date]<=EOMONTH(B3,0))) -> 0 | J3: =IF(I3=0,0,ROUNDUP(I3*4*24+1/60/24,0)/4/24) -> 0 | K3: =E3+G3+I3 -> 0 | L3: =+F3+H3+J3 -> 0 | M3: =24*(TAUX1*C3) -> 0 | N3: =24*(TAUX2*F3) -> 0 | O3: =24*(TAUX3*H3) -> 0 | P3: =24*(TAUX4*J3) -> 0 | Q3: =24*(TAUX1*D3+TAUX2*F3+TAUX3*H3+TAUX4*J3) -> 0 | R3: =((Paramètres!$B$38/12)+R2)-Q3 -> 1455.4367 | S3: =S2-Q3 -> 11038.77 | T3: =SUM(C3,L3) -> 0 | V3: =T3 -> 0
B4: =DATE($A$2,ROW()-1,1) -> 43160 | C4: =SUMPRODUCT(data[[Durée sans interv.]:[Durée interv. nuit]]*(data[Date]>=B4)*(data[Date]<=EOMONTH(B4,0)))-F4-H4-J4 -> 1.2791667 | D4: =IF(C4=0,0,ROUNDUP(C4*4*24+1/60/24,0)/4/24) -> 1.28125 | E4: =SUMPRODUCT(data[Durée interv. jour]*(data[Date]>=B4)*(data[Date]<=EOMONTH(B4,0))) -> 0.53194444 | F4: =IF(E4=0,0,ROUNDUP(E4*4*24+1/60/24,0)/4/24) -> 0.54166667 | G4: =SUMPRODUCT(data[Durée interv. dim ou férié]*(data[Date]>=B4)*(data[Date]<=EOMONTH(B4,0))) -> 0 | H4: =IF(G4=0,0,ROUNDUP(G4*4*24+1/60/24,0)/4/24) -> 0 | I4: =SUMPRODUCT(data[Durée interv. nuit]*(data[Date]>=B4)*(data[Date]<=EOMONTH(B4,0))) -> 0.070833333 | J4: =IF(I4=0,0,ROUNDUP(I4*4*24+1/60/24,0)/4/24) -> 0.072916667 | K4: =E4+G4+I4 -> 0.60277778 | L4: =+F4+H4+J4 -> 0.61458333 | M4: =24*(TAUX1*C4) -> 176.218 | N4: =24*(TAUX2*F4) -> 99.58 | O4: =24*(TAUX3*H4) -> 0 | P4: =24*(TAUX4*J4) -> 26.81 | Q4: =24*(TAUX1*D4+TAUX2*F4+TAUX3*H4+TAUX4*J4) -> 302.895 | R4: =((Paramètres!$B$38/12)+R3)-Q4 -> 2110.875 | S4: =S3-Q4 -> 10735.875 | T4: =SUM(C4,L4) -> 1.89375 | V4: =T4 -> 1.89375
B5: =DATE($A$2,ROW()-1,1) -> 43191 | C5: =SUMPRODUCT(data[[Durée sans interv.]:[Durée interv. nuit]]*(data[Date]>=B5)*(data[Date]<=EOMONTH(B5,0)))-F5-H5-J5 -> 0.72916667 | D5: =IF(C5=0,0,ROUNDUP(C5*4*24+1/60/24,0)/4/24) -> 0.73958333 | E5: =SUMPRODUCT(data[Durée interv. jour]*(data[Date]>=B5)*(data[Date]<=EOMONTH(B5,0))) -> 0 | F5: =IF(E5=0,0,ROUNDUP(E5*4*24+1/60/24,0)/4/24) -> 0 | G5: =SUMPRODUCT(data[Durée interv. dim ou férié]*(data[Date]>=B5)*(data[Date]<=EOMONTH(B5,0))) -> 0.18333333 | H5: =IF(G5=0,0,ROUNDUP(G5*4*24+1/60/24,0)/4/24) -> 0.1875 | I5: =SUMPRODUCT(data[Durée interv. nuit]*(data[Date]>=B5)*(data[Date]<=EOMONTH(B5,0))) -> 0 | J5: =IF(I5=0,0,ROUNDUP(I5*4*24+1/60/24,0)/4/24) -> 0 | K5: =E5+G5+I5 -> 0.18333333 | L5: =+F5+H5+J5 -> 0.1875 | M5: =24*(TAUX1*C5) -> 100.45 | N5: =24*(TAUX2*F5) -> 0 | O5: =24*(TAUX3*H5) -> 51.705 | P5: =24*(TAUX4*J5) -> 0 | Q5: =24*(TAUX1*D5+TAUX2*F5+TAUX3*H5+TAUX4*J5) -> 153.59 | R5: =((Paramètres!$B$38/12)+R4)-Q5 -> 2915.6183 | S5: =S4-Q5 -> 10582.285 | T5: =SUM(C5,L5) -> 0.91666667 | U5: =SUM(T5:T7) -> 6.75 | V5: =T5 -> 0.91666667
B6: =DATE($A$2,ROW()-1,1) -> 43221 | C6: =SUMPRODUCT(data[[Durée sans interv.]:[Durée interv. nuit]]*(data[Date]>=B6)*(data[Date]<=EOMONTH(B6,0)))-F6-H6-J6 -> 2.8645833 | D6: =IF(C6=0,0,ROUNDUP(C6*4*24+1/60/24,0)/4/24) -> 2.875 | E6: =SUMPRODUCT(data[Durée interv. jour]*(data[Date]>=B6)*(data[Date]<=EOMONTH(B6,0))) -> 0.31388889 | F6: =IF(E6=0,0,ROUNDUP(E6*4*24+1/60/24,0)/4/24) -> 0.32291667 | G6: =SUMPRODUCT(data[Durée interv. dim ou férié]*(data[Date]>=B6)*(data[Date]<=EOMONTH(B6,0))) -> 0.071527778 | H6: =IF(G6=0,0,ROUNDUP(G6*4*24+1/60/24,0)/4/24) -> 0.072916667 | I6: =SUMPRODUCT(data[Durée interv. nuit]*(data[Date]>=B6)*(data[Date]<=EOMONTH(B6,0))) -> 0.0625 | J6: =IF(I6=0,0,ROUNDUP(I6*4*24+1/60/24,0)/4/24) -> 0.072916667 | K6: =E6+G6+I6 -> 0.44791667 | L6: =+F6+H6+J6 -> 0.46875 | M6: =24*(TAUX1*C6) -> 394.625 | N6: =24*(TAUX2*F6) -> 59.365 | O6: =24*(TAUX3*H6) -> 20.1075 | P6: =24*(TAUX4*J6) -> 26.81 | Q6: =24*(TAUX1*D6+TAUX2*F6+TAUX3*H6+TAUX4*J6) -> 502.3425 | R6: =((Paramètres!$B$38/12)+R5)-Q6 -> 3371.6092 | S6: =S5-Q6 -> 10079.942 | T6: =SUM(C6,L6) -> 3.3333333 | V6: =T6 -> 3.3333333
