Workbook
Name DebNuit: Paramètres!$B$2
Name FinNuit: Paramètres!$B$1
Name Heures: Paramètres!$E$2:$E$1441
Name JF: 'Jours Fériés'!$B$2:$Q$13
Name Motifs: Paramètres!$B$16:$B$30
Name réponses: Paramètres!$H$2:$H$4
Name TAUX1: Paramètres!$B$4
Name TAUX2: Paramètres!$B$5
Name TAUX3: Paramètres!$B$6
Name TAUX4: Paramètres!$B$7
Name véhicule: Paramètres!$B$9:$B$14

Sheet Données
A1: Date | B1: Garde / Interv. | C1: Hdébut garde | D1: Hfin garde | E1: >24h | F1: Motif Départ | G1: Véhicule | H1: Hdébut interv. | I1: Hfin Interv. | J1: Hdébut corrigé | K1: Hfin corrigée | L1: Début Dim ou Férié | M1: JOUR1 | N1: NUIT1.1 | O1: NUIT1.2 | P1: Fin Dim ou Férié | Q1: JOUR2 | R1: NUIT2.1 | S1: NUIT2.2 | T1: Interv. hors poste | U1: Durée sans interv. | V1: Durée interv. jour | W1: Durée interv. dim ou férié | X1: Durée interv. nuit
A2: 43102 | B2: =IF(data[[#This Row],[Hdébut garde]]<>"","Garde",IF(data[[#This Row],[Hdébut corrigé]]<>"","Intervention","")) -> Garde | C2: 0.33333333 | D2: 0.33333333 | J2: =IF(data[[#This Row],[Hdébut garde]]<>"", data[[#This Row],[Hdébut garde]], data[[#This Row],[Hdébut interv.]]+IF(data[[#This Row],[Hdébut interv.]]<SUMPRODUCT((data[Date]=data[[#This Row],[Date]])*data[Hdébut garde]),1,0) ) -> 0.33333333 | K2: =IF(data[[#This Row],[Hfin garde]]<>"", data[[#This Row],[Hfin garde]]+IF(data[[#This Row],[Hfin garde]]<=data[[#This Row],[Hdébut garde]],1,0)+IF(data[[#This Row],[>24h]]<>"",1,0), IF(data[[#This Row],[Hfin Interv.]]="",0, data[[#This Row],[Hfin Interv.]] +IF(data[[#This Row],[Hfin Interv.]]>data[[#This Row],[Hdébut interv.]],0,1)) +IF(data[[#This Row],[Hdébut interv.]]<SUMPRODUCT((data[Date]=data[[#This Row],[Date]])*data[Hdébut garde]),1,0) ) -> 1.3333333 | L2: =IF(OR(WEEKDAY(data[[#This Row],[Date]],2)=7,COUNTIF(JF,data[[#This Row],[Date]])=1),"oui","non") -> non | M2: =MAX(0,(MIN(1,data[[#This Row],[Hfin corrigée]])-data[[#This Row],[Hdébut corrigé]])-data[[#This Row],[NUIT1.1]]-data[[#This Row],[NUIT1.2]]) -> 0.58333333 | N2: =IF(data[[#This Row],[Hfin Interv.]]="",0,( MIN(FinNuit,MIN(1,data[[#This Row],[Hfin corrigée]]))-MIN(FinNuit,data[[#This Row],[Hdébut corrigé]]) )) -> 0 | O2: =MAX(0,(MAX(0,(MIN(1,data[[#This Row],[Hfin corrigée]])-DebNuit))-MAX(0,(data[[#This Row],[Hdébut corrigé]]-DebNuit)))) -> 0.083333333 | P2: =IF(OR(WEEKDAY(data[[#This Row],[Date]]+data[[#This Row],[Hfin corrigée]],2)=7,COUNTIF(JF,INT(data[[#This Row],[Date]]+data[[#This Row],[Hfin corrigée]]))=1),"oui","non") -> non | Q2: =MAX(0,data[[#This Row],[Hfin corrigée]]-MAX(1,data[[#This Row],[Hdébut corrigé]]))-data[[#This Row],[NUIT2.1]]-data[[#This Row],[NUIT2.2]] -> 0.041666667 | R2: =MAX(0,MIN(1+FinNuit,data[[#This Row],[Hfin corrigée]])-MAX(1,data[[#This Row],[Hdébut corrigé]])) -> 0.29166667 | S2: =MAX(0,(data[[#This Row],[Hfin corrigée]]-DebNuit-1)) -> 0 | T2: =IF(data[[#This Row],[Garde / Interv.]]="Intervention",MAX(0,data[[#This Row],[Hfin corrigée]]-SUMPRODUCT((data[Date]=data[[#This Row],[Date]])*(data[Garde / Interv.]="Garde")*data[Hfin corrigée])),0) -> 0 | U2: =MAX(0,IF(data[[#This Row],[Garde / Interv.]]="Garde",data[[#This Row],[Hfin corrigée]]-data[[#This Row],[Hdébut corrigé]]+SUMPRODUCT((data[Date]=data[[#This Row],[Date]])*data[Interv. hors poste])-SUMPRODUCT((data[Date]=data[[#This Row],[Date]])*(data[[Durée interv. jour]:[Durée interv. nuit]])),0)) -> 0.87013889 | V2: =MAX(0,IF(data[[#This Row],[Garde / Interv.]]="Intervention",(data[[#This Row],[Fin Dim ou Férié]]="non")*data[[#This Row],[JOUR2]]+(data[[#This Row],[Début Dim ou Férié]]="non")*data[[#This Row],[JOUR1]],0)) -> 0 | W2: =IF(data[[#This Row],[Garde / Interv.]]="Intervention",(data[[#This Row],[Fin Dim ou Férié]]="oui")*data[[#This Row],[JOUR2]]+(data[[#This Row],[Début Dim ou Férié]]="oui")*data[[#This Row],[JOUR1]],0) -> 0 | X2: =MAX(0,IF(data[[#This Row],[Garde / Interv.]]="Intervention",data[[#This Row],[NUIT1.1]]+data[[#This Row],[NUIT1.2]]+data[[#This Row],[NUIT2.1]]+data[[#This Row],[NUIT2.2]],0)) -> 0
A3: 43102 | B3: =IF(data[[#This Row],[Hdébut garde]]<>"","Garde",IF(data[[#This Row],[Hdébut corrigé]]<>"","Intervention","")) -> Intervention | G3: INC | H3: 0.61597222 | I3: 0.67152778 | J3: =IF(data[[#This Row],[Hdébut garde]]<>"", data[[#This Row],[Hdébut garde]], data[[#This Row],[Hdébut interv.]]+IF(data[[#This Row],[Hdébut interv.]]<SUMPRODUCT((data[Date]=data[[#This Row],[Date]])*data[Hdébut garde]),1,0) ) -> 0.61597222 | K3: =IF(data[[#This Row],[Hfin garde]]<>"", data[[#This Row],[Hfin garde]]+IF(data[[#This Row],[Hfin garde]]<=data[[#This Row],[Hdébut garde]],1,0)+IF(data[[#This Row],[>24h]]<>"",1,0), IF(data[[#This Row],[Hfin Interv.]]="",0, data[[#This Row],[Hfin Interv.]] +IF(data[[#This Row],[Hfin Interv.]]>data[[#This Row],[Hdébut interv.]],0,1)) +IF(data[[#This Row],[Hdébut interv.]]<SUMPRODUCT((data[Date]=data[[#This Row],[Date]])*data[Hdébut garde]),1,0) ) -> 0.67152778 | L3: =IF(OR(WEEKDAY(data[[#This Row],[Date]],2)=7,COUNTIF(JF,data[[#This Row],[Date]])=1),"oui","non") -> non | M3: =MAX(0,(MIN(1,data[[#This Row],[Hfin corrigée]])-data[[#This Row],[Hdébut corrigé]])-data[[#This Row],[NUIT1.1]]-data[[#This Row],[NUIT1.2]]) -> 0.055555556 | N3: =IF(data[[#This Row],[Hfin Interv.]]="",0,( MIN(FinNuit,MIN(1,data[[#This Row],[Hfin corrigée]]))-MIN(FinNuit,data[[#This Row],[Hdébut corrigé]]) )) -> 0 | O3: =MAX(0,(MAX(0,(MIN(1,data[[#This Row],[Hfin corrigée]])-DebNuit))-MAX(0,(data[[#This Row],[Hdébut corrigé]]-DebNuit)))) -> 0 | P3: =IF(OR(WEEKDAY(data[[#This Row],[Date]]+data[[#This Row],[Hfin corrigée]],2)=7,COUNTIF(JF,INT(data[[#This Row],[Date]]+data[[#This Row],[Hfin corrigée]]))=1),"oui","non") -> non | Q3: =MAX(0,data[[#This Row],[Hfin corrigée]]-MAX(1,data[[#This Row],[Hdébut corrigé]]))-data[[#This Row],[NUIT2.1]]-data[[#This Row],[NUIT2.2]] -> 0 | R3: =MAX(0,MIN(1+FinNuit,data[[#This Row],[Hfin corrigée]])-MAX(1,data[[#This Row],[Hdébut corrigé]])) -> 0 | S3: =MAX(0,(data[[#This Row],[Hfin corrigée]]-DebNuit-1)) -> 0 | T3: =IF(data[[#This Row],[Garde / Interv.]]="Intervention",MAX(0,data[[#This Row],[Hfin corrigée]]-SUMPRODUCT((data[Date]=data[[#This Row],[Date]])*(data[Garde / Interv.]="Garde")*data[Hfin corrigée])),0) -> 0 | U3: =MAX(0,IF(data[[#This Row],[Garde / Interv.]]="Garde",data[[#This Row],[Hfin corrigée]]-data[[#This Row],[Hdébut corrigé]]+SUMPRODUCT((data[Date]=data[[#This Row],[Date]])*data[Interv. hors poste])-SUMPRODUCT((data[Date]=data[[#This Row],[Date]])*(data[[Durée interv. jour]:[Durée interv. nuit]])),0)) -> 0 | V3: =MAX(0,IF(data[[#This Row],[Garde / Interv.]]="Intervention",(data[[#This Row],[Fin Dim ou Férié]]="non")*data[[#This Row],[JOUR2]]+(data[[#This Row],[Début Dim ou Férié]]="non")*data[[#This Row],[JOUR1]],0)) -> 0.055555556 | W3: =IF(data[[#This Row],[Garde / Interv.]]="Intervention",(data[[#This Row],[Fin Dim ou Férié]]="oui")*data[[#This Row],[JOUR2]]+(data[[#This Row],[Début Dim ou Férié]]="oui")*data[[#This Row],[JOUR1]],0) -> 0 | X3: =MAX(0,IF(data[[#This Row],[Garde / Interv.]]="Intervention",data[[#This Row],[NUIT1.1]]+data[[#This Row],[NUIT1.2]]+data[[#This Row],[NUIT2.1]]+data[[#This Row],[NUIT2.2]],0)) -> 0
A4: 43102 | B4: =IF(data[[#This Row],[Hdébut garde]]<>"","Garde",IF(data[[#This Row],[Hdébut corrigé]]<>"","Intervention","")) -> Intervention | G4: VSAV | H4: 0.76944444 | I4: 0.84375 | J4: =IF(data[[#This Row],[Hdébut garde]]<>"", data[[#This Row],[Hdébut garde]], data[[#This Row],[Hdébut interv.]]+IF(data[[#This Row],[Hdébut interv.]]<SUMPRODUCT((data[Date]=data[[#This Row],[Date]])*data[Hdébut garde]),1,0) ) -> 0.76944444 | K4: =IF(data[[#This Row],[Hfin garde]]<>"", data[[#This Row],[Hfin garde]]+IF(data[[#This Row],[Hfin garde]]<=data[[#This Row],[Hdébut garde]],1,0)+IF(data[[#This Row],[>24h]]<>"",1,0), IF(data[[#This Row],[Hfin Interv.]]="",0, data[[#This Row],[Hfin Interv.]] +IF(data[[#This Row],[Hfin Interv.]]>data[[#This Row],[Hdébut interv.]],0,1)) +IF(data[[#This Row],[Hdébut interv.]]<SUMPRODUCT((data[Date]=data[[#This Row],[Date]])*data[Hdébut garde]),1,0) ) -> 0.84375 | L4: =IF(OR(WEEKDAY(data[[#This Row],[Date]],2)=7,COUNTIF(JF,data[[#This Row],[Date]])=1),"oui","non") -> non | M4: =MAX(0,(MIN(1,data[[#This Row],[Hfin corrigée]])-data[[#This Row],[Hdébut corrigé]])-data[[#This Row],[NUIT1.1]]-data[[#This Row],[NUIT1.2]]) -> 0.074305556 | N4: =IF(data[[#This Row],[Hfin Interv.]]="",0,( MIN(FinNuit,MIN(1,data[[#This Row],[Hfin corrigée]]))-MIN(FinNuit,data[[#This Row],[Hdébut corrigé]]) )) -> 0 | O4: =MAX(0,(MAX(0,(MIN(1,data[[#This Row],[Hfin corrigée]])-DebNuit))-MAX(0,(data[[#This Row],[Hdébut corrigé]]-DebNuit)))) -> 0 | P4: =IF(OR(WEEKDAY(data[[#This Row],[Date]]+data[[#This Row],[Hfin corrigée]],2)=7,COUNTIF(JF,INT(data[[#This Row],[Date]]+data[[#This Row],[Hfin corrigée]]))=1),"oui","non") -> non | Q4: =MAX(0,data[[#This Row],[Hfin corrigée]]-MAX(1,data[[#This Row],[Hdébut corrigé]]))-data[[#This Row],[NUIT2.1]]-data[[#This Row],[NUIT2.2]] -> 0 | R4: =MAX(0,MIN(1+FinNuit,data[[#This Row],[Hfin corrigée]])-MAX(1,data[[#This Row],[Hdébut corrigé]])) -> 0 | S4: =MAX(0,(data[[#This Row],[Hfin corrigée]]-DebNuit-1)) -> 0 | T4: =IF(data[[#This Row],[Garde / Interv.]]="Intervention",MAX(0,data[[#This Row],[Hfin corrigée]]-SUMPRODUCT((data[Date]=data[[#This Row],[Date]])*(data[Garde / Interv.]="Garde")*data[Hfin corrigée])),0) -> 0 | U4: =MAX(0,IF(data[[#This Row],[Garde / Interv.]]="Garde",data[[#This Row],[Hfin corrigée]]-data[[#This Row],[Hdébut corrigé]]+SUMPRODUCT((data[Date]=data[[#This Row],[Date]])*data[Interv. hors poste])-SUMPRODUCT((data[Date]=data[[#This Row],[Date]])*(data[[Durée interv. jour]:[Durée interv. nuit]])),0)) -> 0 | V4: =MAX(0,IF(data[[#This Row],[Garde / Interv.]]="Intervention",(data[[#This Row],[Fin Dim ou Férié]]="non")*data[[#This Row],[JOUR2]]+(data[[#This Row],[Début Dim ou Férié]]="non")*data[[#This Row],[JOUR1]],0)) -> 0.074305556 | W4: =IF(data[[#This Row],[Garde / Interv.]]="Intervention",(data[[#This Row],[Fin Dim ou Férié]]="oui")*data[[#This Row],[JOUR2]]+(data[[#This Row],[Début Dim ou Férié]]="oui")*data[[#This Row],[JOUR1]],0) -> 0 | X4: =MAX(0,IF(data[[#This Row],[Garde / Interv.]]="Intervention",data[[#This Row],[NUIT1.1]]+data[[#This Row],[NUIT1.2]]+data[[#This Row],[NUIT2.1]]+data[[#This Row],[NUIT2.2]],0)) -> 0
A5: 43110 | B5: =IF(data[[#This Row],[Hdébut garde]]<>"","Garde",IF(data[[#This Row],[Hdébut corrigé]]<>"","Intervention","")) -> Garde | C5: 0.33333333 | D5: 0.33333333 | J5: =IF(data[[#This Row],[Hdébut garde]]<>"", data[[#This Row],[Hdébut garde]], data[[#This Row],[Hdébut interv.]]+IF(data[[#This Row],[Hdébut interv.]]<SUMPRODUCT((data[Date]=data[[#This Row],[Date]])*data[Hdébut garde]),1,0) ) -> 0.33333333 | K5: =IF(data[[#This Row],[Hfin garde]]<>"", data[[#This Row],[Hfin garde]]+IF(data[[#This Row],[Hfin garde]]<=data[[#This Row],[Hdébut garde]],1,0)+IF(data[[#This Row],[>24h]]<>"",1,0), IF(data[[#This Row],[Hfin Interv.]]="",0, data[[#This Row],[Hfin Interv.]] +IF(data[[#This Row],[Hfin Interv.]]>data[[#This Row],[Hdébut interv.]],0,1)) +IF(data[[#This Row],[Hdébut interv.]]<SUMPRODUCT((data[Date]=data[[#This Row],[Date]])*data[Hdébut garde]),1,0) ) -> 1.3333333 | L5: =IF(OR(WEEKDAY(data[[#This Row],[Date]],2)=7,COUNTIF(JF,data[[#This Row],[Date]])=1),"oui","non") -> non | M5: =MAX(0,(MIN(1,data[[#This Row],[Hfin corrigée]])-data[[#This Row],[Hdébut corrigé]])-data[[#This Row],[NUIT1.1]]-data[[#This Row],[NUIT1.2]]) -> 0.58333333 | N5: =IF(data[[#This Row],[Hfin Interv.]]="",0,( MIN(FinNuit,MIN(1,data[[#This Row],[Hfin corrigée]]))-MIN(FinNuit,data[[#This Row],[Hdébut corrigé]]) )) -> 0 | O5: =MAX(0,(MAX(0,(MIN(1,data[[#This Row],[Hfin corrigée]])-DebNuit))-MAX(0,(data[[#This Row],[Hdébut corrigé]]-DebNuit)))) -> 0.083333333 | P5: =IF(OR(WEEKDAY(data[[#This Row],[Date]]+data[[#This Row],[Hfin corrigée]],2)=7,COUNTIF(JF,INT(data[[#This Row],[Date]]+data[[#This Row],[Hfin corrigée]]))=1),"oui","non") -> non | Q5: =MAX(0,data[[#This Row],[Hfin corrigée]]-MAX(1,data[[#This Row],[Hdébut corrigé]]))-data[[#This Row],[NUIT2.1]]-data[[#This Row],[NUIT2.2]] -> 0.041666667 | R5: =MAX(0,MIN(1+FinNuit,data[[#This Row],[Hfin corrigée]])-MAX(1,data[[#This Row],[Hdébut corrigé]])) -> 0.29166667 | S5: =MAX(0,(data[[#This Row],[Hfin corrigée]]-DebNuit-1)) -> 0 | T5: =IF(data[[#This Row],[Garde / Interv.]]="Intervention",MAX(0,data[[#This Row],[Hfin corrigée]]-SUMPRODUCT((data[Date]=data[[#This Row],[Date]])*(data[Garde / Interv.]="Garde")*data[Hfin corrigée])),0) -> 0 | U5: =MAX(0,IF(data[[#This Row],[Garde / Interv.]]="Garde",data[[#This Row],[Hfin corrigée]]-data[[#This Row],[Hdébut corrigé]]+SUMPRODUCT((data[Date]=data[[#This Row],[Date]])*data[Interv. hors poste])-SUMPRODUCT((data[Date]=data[[#This Row],[Date]])*(data[[Durée interv. jour]:[Durée interv. nuit]])),0)) -> 0.67916667 | V5: =MAX(0,IF(data[[#This Row],[Garde / Interv.]]="Intervention",(data[[#This Row],[Fin Dim ou Férié]]="non")*data[[#This Row],[JOUR2]]+(data[[#This Row],[Début Dim ou Férié]]="non")*data[[#This Row],[JOUR1]],0)) -> 0 | W5: =IF(data[[#This Row],[Garde / Interv.]]="Intervention",(data[[#This Row],[Fin Dim ou Férié]]="oui")*data[[#This Row],[JOUR2]]+(data[[#This Row],[Début Dim ou Férié]]="oui")*data[[#This Row],[JOUR1]],0) -> 0 | X5: =MAX(0,IF(data[[#This Row],[Garde / Interv.]]="Intervention",data[[#This Row],[NUIT1.1]]+data[[#This Row],[NUIT1.2]]+data[[#This Row],[NUIT2.1]]+data[[#This Row],[NUIT2.2]],0)) -> 0
A6: 43110 | B6: =IF(data[[#This Row],[Hdébut garde]]<>"","Garde",IF(data[[#This Row],[Hdébut corrigé]]<>"","Intervention","")) -> Intervention | G6: VSAV | H6: 0.35 | I6: 0.41111111 | J6: =IF(data[[#This Row],[Hdébut garde]]<>"", data[[#This Row],[Hdébut garde]], data[[#This Row],[Hdébut interv.]]+IF(data[[#This Row],[Hdébut interv.]]<SUMPRODUCT((data[Date]=data[[#This Row],[Date]])*data[Hdébut garde]),1,0) ) -> 0.35 | K6: =IF(data[[#This Row],[Hfin garde]]<>"", data[[#This Row],[Hfin garde]]+IF(data[[#This Row],[Hfin garde]]<=data[[#This Row],[Hdébut garde]],1,0)+IF(data[[#This Row],[>24h]]<>"",1,0), IF(data[[#This Row],[Hfin Interv.]]="",0, data[[#This Row],[Hfin Interv.]] +IF(data[[#This Row],[Hfin Interv.]]>data[[#This Row],[Hdébut interv.]],0,1)) +IF(data[[#This Row],[Hdébut interv.]]<SUMPRODUCT((data[Date]=data[[#This Row],[Date]])*data[Hdébut garde]),1,0) ) -> 0.41111111 | L6: =IF(OR(WEEKDAY(data[[#This Row],[Date]],2)=7,COUNTIF(JF,data[[#This Row],[Date]])=1),"oui","non") -> non | M6: =MAX(0,(MIN(1,data[[#This Row],[Hfin corrigée]])-data[[#This Row],[Hdébut corrigé]])-data[[#This Row],[NUIT1.1]]-data[[#This Row],[NUIT1.2]]) -> 0.061111111 | N6: =IF(data[[#This Row],[Hfin Interv.]]="",0,( MIN(FinNuit,MIN(1,data[[#This Row],[Hfin corrigée]]))-MIN(FinNuit,data[[#This Row],[Hdébut corrigé]]) )) -> 0 | O6: =MAX(0,(MAX(0,(MIN(1,data[[#This Row],[Hfin corrigée]])-DebNuit))-MAX(0,(data[[#This Row],[Hdébut corrigé]]-DebNuit)))) -> 0 | P6: =IF(OR(WEEKDAY(data[[#This Row],[Date]]+data[[#This Row],[Hfin corrigée]],2)=7,COUNTIF(JF,INT(data[[#This Row],[Date]]+data[[#This Row],[Hfin corrigée]]))=1),"oui","non") -> non | Q6: =MAX(0,data[[#This Row],[Hfin corrigée]]-MAX(1,data[[#This Row],[Hdébut corrigé]]))-data[[#This Row],[NUIT2.1]]-data[[#This Row],[NUIT2.2]] -> 0 | R6: =MAX(0,MIN(1+FinNuit,data[[#This Row],[Hfin corrigée]])-MAX(1,data[[#This Row],[Hdébut corrigé]])) -> 0 | S6: =MAX(0,(data[[#This Row],[Hfin corrigée]]-DebNuit-1)) -> 0 | T6: =IF(data[[#This Row],[Garde / Interv.]]="Intervention",MAX(0,data[[#This Row],[Hfin corrigée]]-SUMPRODUCT((data[Date]=data[[#This Row],[Date]])*(data[Garde / Interv.]="Garde")*data[Hfin corrigée])),0) -> 0 | U6: =MAX(0,IF(data[[#This Row],[Garde / Interv.]]="Garde",data[[#This Row],[Hfin corrigée]]-data[[#This Row],[Hdébut corrigé]]+SUMPRODUCT((data[Date]=data[[#This Row],[Date]])*data[Interv. hors poste])-SUMPRODUCT((data[Date]=data[[#This Row],[Date]])*(data[[Durée interv. jour]:[Durée interv. nuit]])),0)) -> 0 | V6: =MAX(0,IF(data[[#This Row],[Garde / Interv.]]="Intervention",(data[[#This Row],[Fin Dim ou Férié]]="non")*data[[#This Row],[JOUR2]]+(data[[#This Row],[Début Dim ou Férié]]="non")*data[[#This Row],[JOUR1]],0)) -> 0.061111111 | W6: =IF(data[[#This Row],[Garde / Interv.]]="Intervention",(data[[#This Row],[Fin Dim ou Férié]]="oui")*data[[#This Row],[JOUR2]]+(data[[#This Row],[Début Dim ou Férié]]="oui")*data[[#This Row],[JOUR1]],0) -> 0 | X6: =MAX(0,IF(data[[#This Row],[Garde / Interv.]]="Intervention",data[[#This Row],[NUIT1.1]]+data[[#This Row],[NUIT1.2]]+data[[#This Row],[NUIT2.1]]+data[[#This Row],[NUIT2.2]],0)) -> 0
A7: 43110 | B7: =IF(data[[#This Row],[Hdébut garde]]<>"","Garde",IF(data[[#This Row],[Hdébut corrigé]]<>"","Intervention","")) -> Intervention | G7: VSAV | H7: 0.44513889 | I7: 0.49930556 | J7: =IF(data[[#This Row],[Hdébut garde]]<>"", data[[#This Row],[Hdébut garde]], data[[#This Row],[Hdébut interv.]]+IF(data[[#This Row],[Hdébut interv.]]<SUMPRODUCT((data[Date]=data[[#This Row],[Date]])*data[Hdébut garde]),1,0) ) -> 0.44513889 | K7: =IF(data[[#This Row],[Hfin garde]]<>"", data[[#This Row],[Hfin garde]]+IF(data[[#This Row],[Hfin garde]]<=data[[#This Row],[Hdébut garde]],1,0)+IF(data[[#This Row],[>24h]]<>"",1,0), IF(data[[#This Row],[Hfin Interv.]]="",0, data[[#This Row],[Hfin Interv.]] +IF(data[[#This Row],[Hfin Interv.]]>data[[#This Row],[Hdébut interv.]],0,1)) +IF(data[[#This Row],[Hdébut interv.]]<SUMPRODUCT((data[Date]=data[[#This Row],[Date]])*data[Hdébut garde]),1,0) ) -> 0.49930556 | L7: =IF(OR(WEEKDAY(data[[#This Row],[Date]],2)=7,COUNTIF(JF,data[[#This Row],[Date]])=1),"oui","non") -> non | M7: =MAX(0,(MIN(1,data[[#This Row],[Hfin corrigée]])-data[[#This Row],[Hdébut corrigé]])-data[[#This Row],[NUIT1.1]]-data[[#This Row],[NUIT1.2]]) -> 0.054166667 | N7: =IF(data[[#This Row],[Hfin Interv.]]="",0,( MIN(FinNuit,MIN(1,data[[#This Row],[Hfin corrigée]]))-MIN(FinNuit,data[[#This Row],[Hdébut corrigé]]) )) -> 0 | O7: =MAX(0,(MAX(0,(MIN(1,data[[#This Row],[Hfin corrigée]])-DebNuit))-MAX(0,(data[[#This Row],[Hdébut corrigé]]-DebNuit)))) -> 0 | P7: =IF(OR(WEEKDAY(data[[#This Row],[Date]]+data[[#This Row],[Hfin corrigée]],2)=7,COUNTIF(JF,INT(data[[#This Row],[Date]]+data[[#This Row],[Hfin corrigée]]))=1),"oui","non") -> non | Q7: =MAX(0,data[[#This Row],[Hfin corrigée]]-MAX(1,data[[#This Row],[Hdébut corrigé]]))-data[[#This Row],[NUIT2.1]]-data[[#This Row],[NUIT2.2]] -> 0 | R7: =MAX(0,MIN(1+FinNuit,data[[#This Row],[Hfin corrigée]])-MAX(1,data[[#This Row],[Hdébut corrigé]])) -> 0 | S7: =MAX(0,(data[[#This Row],[Hfin corrigée]]-DebNuit-1)) -> 0 | T7: =IF(data[[#This Row],[Garde / Interv.]]="Intervention",MAX(0,data[[#This Row],[Hfin corrigée]]-SUMPRODUCT((data[Date]=data[[#This Row],[Date]])*(data[Garde / Interv.]="Garde")*data[Hfin corrigée])),0) -> 0 | U7: =MAX(0,IF(data[[#This Row],[Garde / Interv.]]="Garde",data[[#This Row],[Hfin corrigée]]-data[[#This Row],[Hdébut corrigé]]+SUMPRODUCT((data[Date]=data[[#This Row],[Date]])*data[Interv. hors poste])-SUMPRODUCT((data[Date]=data[[#This Row],[Date]])*(data[[Durée interv. jour]:[Durée interv. nuit]])),0)) -> 0 | V7: =MAX(0,IF(data[[#This Row],[Garde / Interv.]]="Intervention",(data[[#This Row],[Fin Dim ou Férié]]="non")*data[[#This Row],[JOUR2]]+(data[[#This Row],[Début Dim ou Férié]]="non")*data[[#This Row],[JOUR1]],0)) -> 0.054166667 | W7: =IF(data[[#This Row],[Garde / Interv.]]="Intervention",(data[[#This Row],[Fin Dim ou Férié]]="oui")*data[[#This Row],[JOUR2]]+(data[[#This Row],[Début Dim ou Férié]]="oui")*data[[#This Row],[JOUR1]],0) -> 0 | X7: =MAX(0,IF(data[[#This Row],[Garde / Interv.]]="Intervention",data[[#This Row],[NUIT1.1]]+data[[#This Row],[NUIT1.2]]+data[[#This Row],[NUIT2.1]]+data[[#This Row],[NUIT2.2]],0)) -> 0
A8: 43110 | B8: =IF(data[[#This Row],[Hdébut garde]]<>"","Garde",IF(data[[#This Row],[Hdébut corrigé]]<>"","Intervention","")) -> Intervention | G8: VSAV | H8: 0.49930556 | I8: 0.5625 | J8: =IF(data[[#This Row],[Hdébut garde]]<>"", data[[#This Row],[Hdébut garde]], data[[#This Row],[Hdébut interv.]]+IF(data[[#This Row],[Hdébut interv.]]<SUMPRODUCT((data[Date]=data[[#This Row],[Date]])*data[Hdébut garde]),1,0) ) -> 0.49930556 | K8: =IF(data[[#This Row],[Hfin garde]]<>"", data[[#This Row],[Hfin garde]]+IF(data[[#This Row],[Hfin garde]]<=data[[#This Row],[Hdébut garde]],1,0)+IF(data[[#This Row],[>24h]]<>"",1,0), IF(data[[#This Row],[Hfin Interv.]]="",0, data[[#This Row],[Hfin Interv.]] +IF(data[[#This Row],[Hfin Interv.]]>data[[#This Row],[Hdébut interv.]],0,1)) +IF(data[[#This Row],[Hdébut interv.]]<SUMPRODUCT((data[Date]=data[[#This Row],[Date]])*data[Hdébut garde]),1,0) ) -> 0.5625 | L8: =IF(OR(WEEKDAY(data[[#This Row],[Date]],2)=7,COUNTIF(JF,data[[#This Row],[Date]])=1),"oui","non") -> non | M8: =MAX(0,(MIN(1,data[[#This Row],[Hfin corrigée]])-data[[#This Row],[Hdébut corrigé]])-data[[#This Row],[NUIT1.1]]-data[[#This Row],[NUIT1.2]]) -> 0.063194444 | N8: =IF(data[[#This Row],[Hfin Interv.]]="",0,( MIN(FinNuit,MIN(1,data[[#This Row],[Hfin corrigée]]))-MIN(FinNuit,data[[#This Row],[Hdébut corrigé]]) )) -> 0 | O8: =MAX(0,(MAX(0,(MIN(1,data[[#This Row],[Hfin corrigée]])-DebNuit))-MAX(0,(data[[#This Row],[Hdébut corrigé]]-DebNuit)))) -> 0 | P8: =IF(OR(WEEKDAY(data[[#This Row],[Date]]+data[[#This Row],[Hfin corrigée]],2)=7,COUNTIF(JF,INT(data[[#This Row],[Date]]+data[[#This Row],[Hfin corrigée]]))=1),"oui","non") -> non | Q8: =MAX(0,data[[#This Row],[Hfin corrigée]]-MAX(1,data[[#This Row],[Hdébut corrigé]]))-data[[#This Row],[NUIT2.1]]-data[[#This Row],[NUIT2.2]] -> 0 | R8: =MAX(0,MIN(1+FinNuit,data[[#This Row],[Hfin corrigée]])-MAX(1,data[[#This Row],[Hdébut corrigé]])) -> 0 | S8: =MAX(0,(data[[#This Row],[Hfin corrigée]]-DebNuit-1)) -> 0 | T8: =IF(data[[#This Row],[Garde / Interv.]]="Intervention",MAX(0,data[[#This Row],[Hfin corrigée]]-SUMPRODUCT((data[Date]=data[[#This Row],[Date]])*(data[Garde / Interv.]="Garde")*data[Hfin corrigée])),0) -> 0 | U8: =MAX(0,IF(data[[#This Row],[Garde / Interv.]]="Garde",data[[#This Row],[Hfin corrigée]]-data[[#This Row],[Hdébut corrigé]]+SUMPRODUCT((data[Date]=data[[#This Row],[Date]])*data[Interv. hors poste])-SUMPRODUCT((data[Date]=data[[#This Row],[Date]])*(data[[Durée interv. jour]:[Durée interv. nuit]])),0)) -> 0 | V8: =MAX(0,IF(data[[#This Row],[Garde / Interv.]]="Intervention",(data[[#This Row],[Fin Dim ou Férié]]="non")*data[[#This Row],[JOUR2]]+(data[[#This Row],[Début Dim ou Férié]]="non")*data[[#This Row],[JOUR1]],0)) -> 0.063194444 | W8: =IF(data[[#This Row],[Garde / Interv.]]="Intervention",(data[[#This Row],[Fin Dim ou Férié]]="oui")*data[[#This Row],[JOUR2]]+(data[[#This Row],[Début Dim ou Férié]]="oui")*data[[#This Row],[JOUR1]],0) -> 0 | X8: =MAX(0,IF(data[[#This Row],[Garde / Interv.]]="Intervention",data[[#This Row],[NUIT1.1]]+data[[#This Row],[NUIT1.2]]+data[[#This Row],[NUIT2.1]]+data[[#This Row],[NUIT2.2]],0)) -> 0 | Z8: Mois de janvier | AA8: =SUM(U2:U17) -> 2.375 | AB8: =SUM(V3:X17) -> 0.625 | AC8: =AA8-AB8 -> 1.75
A9: 43110 | B9: =IF(data[[#This Row],[Hdébut garde]]<>"","Garde",IF(data[[#This Row],[Hdébut corrigé]]<>"","Intervention","")) -> Intervention | G9: VSAV | H9: 0.63888889 | I9: 0.6625 | J9: =IF(data[[#This Row],[Hdébut garde]]<>"", data[[#This Row],[Hdébut garde]], data[[#This Row],[Hdébut interv.]]+IF(data[[#This Row],[Hdébut interv.]]<SUMPRODUCT((data[Date]=data[[#This Row],[Date]])*data[Hdébut garde]),1,0) ) -> 0.63888889 | K9: =IF(data[[#This Row],[Hfin garde]]<>"", data[[#This Row],[Hfin garde]]+IF(data[[#This Row],[Hfin garde]]<=data[[#This Row],[Hdébut garde]],1,0)+IF(data[[#This Row],[>24h]]<>"",1,0), IF(data[[#This Row],[Hfin Interv.]]="",0, data[[#This Row],[Hfin Interv.]] +IF(data[[#This Row],[Hfin Interv.]]>data[[#This Row],[Hdébut interv.]],0,1)) +IF(data[[#This Row],[Hdébut interv.]]<SUMPRODUCT((data[Date]=data[[#This Row],[Date]])*data[Hdébut garde]),1,0) ) -> 0.6625 | L9: =IF(OR(WEEKDAY(data[[#This Row],[Date]],2)=7,COUNTIF(JF,data[[#This Row],[Date]])=1),"oui","non") -> non | M9: =MAX(0,(MIN(1,data[[#This Row],[Hfin corrigée]])-data[[#This Row],[Hdébut corrigé]])-data[[#This Row],[NUIT1.1]]-data[[#This Row],[NUIT1.2]]) -> 0.023611111 | N9: =IF(data[[#This Row],[Hfin Interv.]]="",0,( MIN(FinNuit,MIN(1,data[[#This Row],[Hfin corrigée]]))-MIN(FinNuit,data[[#This Row],[Hdébut corrigé]]) )) -> 0 | O9: =MAX(0,(MAX(0,(MIN(1,data[[#This Row],[Hfin corrigée]])-DebNuit))-MAX(0,(data[[#This Row],[Hdébut corrigé]]-DebNuit)))) -> 0 | P9: =IF(OR(WEEKDAY(data[[#This Row],[Date]]+data[[#This Row],[Hfin corrigée]],2)=7,COUNTIF(JF,INT(data[[#This Row],[Date]]+data[[#This Row],[Hfin corrigée]]))=1),"oui","non") -> non | Q9: =MAX(0,data[[#This Row],[Hfin corrigée]]-MAX(1,data[[#This Row],[Hdébut corrigé]]))-data[[#This Row],[NUIT2.1]]-data[[#This Row],[NUIT2.2]] -> 0 | R9: =MAX(0,MIN(1+FinNuit,data[[#This Row],[Hfin corrigée]])-MAX(1,data[[#This Row],[Hdébut corrigé]])) -> 0 | S9: =MAX(0,(data[[#This Row],[Hfin corrigée]]-DebNuit-1)) -> 0 | T9: =IF(data[[#This Row],[Garde / Interv.]]="Intervention",MAX(0,data[[#This Row],[Hfin corrigée]]-SUMPRODUCT((data[Date]=data[[#This Row],[Date]])*(data[Garde / Interv.]="Garde")*data[Hfin corrigée])),0) -> 0 | U9: =MAX(0,IF(data[[#This Row],[Garde / Interv.]]="Garde",data[[#This Row],[Hfin corrigée]]-data[[#This Row],[Hdébut corrigé]]+SUMPRODUCT((data[Date]=data[[#This Row],[Date]])*data[Interv. hors poste])-SUMPRODUCT((data[Date]=data[[#This Row],[Date]])*(data[[Durée interv. jour]:[Durée interv. nuit]])),0)) -> 0 | V9: =MAX(0,IF(data[[#This Row],[Garde / Interv.]]="Intervention",(data[[#This Row],[Fin Dim ou Férié]]="non")*data[[#This Row],[JOUR2]]+(data[[#This Row],[Début Dim ou Férié]]="non")*data[[#This Row],[JOUR1]],0)) -> 0.023611111 | W9: =IF(data[[#This Row],[Garde / Interv.]]="Intervention",(data[[#This Row],[Fin Dim ou Férié]]="oui")*data[[#This Row],[JOUR2]]+(data[[#This Row],[Début Dim ou Férié]]="oui")*data[[#This Row],[JOUR1]],0) -> 0 | X9: =MAX(0,IF(data[[#This Row],[Garde / Interv.]]="Intervention",data[[#This Row],[NUIT1.1]]+data[[#This Row],[NUIT1.2]]+data[[#This Row],[NUIT2.1]]+data[[#This Row],[NUIT2.2]],0)) -> 0
A10: 43110 | B10: =IF(data[[#This Row],[Hdébut garde]]<>"","Garde",IF(data[[#This Row],[Hdébut corrigé]]<>"","Intervention","")) -> Intervention | G10: VSAV | H10: 0.70902778 | I10: 0.77777778 | J10: =IF(data[[#This Row],[Hdébut garde]]<>"", data[[#This Row],[Hdébut garde]], data[[#This Row],[Hdébut interv.]]+IF(data[[#This Row],[Hdébut interv.]]<SUMPRODUCT((data[Date]=data[[#This Row],[Date]])*data[Hdébut garde]),1,0) ) -> 0.70902778 | K10: =IF(data[[#This Row],[Hfin garde]]<>"", data[[#This Row],[Hfin garde]]+IF(data[[#This Row],[Hfin garde]]<=data[[#This Row],[Hdébut garde]],1,0)+IF(data[[#This Row],[>24h]]<>"",1,0), IF(data[[#This Row],[Hfin Interv.]]="",0, data[[#This Row],[Hfin Interv.]] +IF(data[[#This Row],[Hfin Interv.]]>data[[#This Row],[Hdébut interv.]],0,1)) +IF(data[[#This Row],[Hdébut interv.]]<SUMPRODUCT((data[Date]=data[[#This Row],[Date]])*data[Hdébut garde]),1,0) ) -> 0.77777778 | L10: =IF(OR(WEEKDAY(data[[#This Row],[Date]],2)=7,COUNTIF(JF,data[[#This Row],[Date]])=1),"oui","non") -> non | M10: =MAX(0,(MIN(1,data[[#This Row],[Hfin corrigée]])-data[[#This Row],[Hdébut corrigé]])-data[[#This Row],[NUIT1.1]]-data[[#This Row],[NUIT1.2]]) -> 0.06875 | N10: =IF(data[[#This Row],[Hfin Interv.]]="",0,( MIN(FinNuit,MIN(1,data[[#This Row],[Hfin corrigée]]))-MIN(FinNuit,data[[#This Row],[Hdébut corrigé]]) )) -> 0 | O10: =MAX(0,(MAX(0,(MIN(1,data[[#This Row],[Hfin corrigée]])-DebNuit))-MAX(0,(data[[#This Row],[Hdébut corrigé]]-DebNuit)))) -> 0 | P10: =IF(OR(WEEKDAY(data[[#This Row],[Date]]+data[[#This Row],[Hfin corrigée]],2)=7,COUNTIF(JF,INT(data[[#This Row],[Date]]+data[[#This Row],[Hfin corrigée]]))=1),"oui","non") -> non | Q10: =MAX(0,data[[#This Row],[Hfin corrigée]]-MAX(1,data[[#This Row],[Hdébut corrigé]]))-data[[#This Row],[NUIT2.1]]-data[[#This Row],[NUIT2.2]] -> 0 | R10: =MAX(0,MIN(1+FinNuit,data[[#This Row],[Hfin corrigée]])-MAX(1,data[[#This Row],[Hdébut corrigé]])) -> 0 | S10: =MAX(0,(data[[#This Row],[Hfin corrigée]]-DebNuit-1)) -> 0 | T10: =IF(data[[#This Row],[Garde / Interv.]]="Intervention",MAX(0,data[[#This Row],[Hfin corrigée]]-SUMPRODUCT((data[Date]=data[[#This Row],[Date]])*(data[Garde / Interv.]="Garde")*data[Hfin corrigée])),0) -> 0 | U10: =MAX(0,IF(data[[#This Row],[Garde / Interv.]]="Garde",data[[#This Row],[Hfin corrigée]]-data[[#This Row],[Hdébut corrigé]]+SUMPRODUCT((data[Date]=data[[#This Row],[Date]])*data[Interv. hors poste])-SUMPRODUCT((data[Date]=data[[#This Row],[Date]])*(data[[Durée interv. jour]:[Durée interv. nuit]])),0)) -> 0 | V10: =MAX(0,IF(data[[#This Row],[Garde / Interv.]]="Intervention",(data[[#This Row],[Fin Dim ou Férié]]="non")*data[[#This Row],[JOUR2]]+(data[[#This Row],[Début Dim ou Férié]]="non")*data[[#This Row],[JOUR1]],0)) -> 0.06875 | W10: =IF(data[[#This Row],[Garde / Interv.]]="Intervention",(data[[#This Row],[Fin Dim ou Férié]]="oui")*data[[#This Row],[JOUR2]]+(data[[#This Row],[Début Dim ou Férié]]="oui")*data[[#This Row],[JOUR1]],0) -> 0 | X10: =MAX(0,IF(data[[#This Row],[Garde / Interv.]]="Intervention",data[[#This Row],[NUIT1.1]]+data[[#This Row],[NUIT1.2]]+data[[#This Row],[NUIT2.1]]+data[[#This Row],[NUIT2.2]],0)) -> 0
A11: 43110 | B11: =IF(data[[#This Row],[Hdébut garde]]<>"","Garde",IF(data[[#This Row],[Hdébut corrigé]]<>"","Intervention","")) -> Intervention | G11: VSAV | H11: 0.78472222 | I11: 0.81875 | J11: =IF(data[[#This Row],[Hdébut garde]]<>"", data[[#This Row],[Hdébut garde]], data[[#This Row],[Hdébut interv.]]+IF(data[[#This Row],[Hdébut interv.]]<SUMPRODUCT((data[Date]=data[[#This Row],[Date]])*data[Hdébut garde]),1,0) ) -> 0.78472222 | K11: =IF(data[[#This Row],[Hfin garde]]<>"", data[[#This Row],[Hfin garde]]+IF(data[[#This Row],[Hfin garde]]<=data[[#This Row],[Hdébut garde]],1,0)+IF(data[[#This Row],[>24h]]<>"",1,0), IF(data[[#This Row],[Hfin Interv.]]="",0, data[[#This Row],[Hfin Interv.]] +IF(data[[#This Row],[Hfin Interv.]]>data[[#This Row],[Hdébut interv.]],0,1)) +IF(data[[#This Row],[Hdébut interv.]]<SUMPRODUCT((data[Date]=data[[#This Row],[Date]])*data[Hdébut garde]),1,0) ) -> 0.81875 | L11: =IF(OR(WEEKDAY(data[[#This Row],[Date]],2)=7,COUNTIF(JF,data[[#This Row],[Date]])=1),"oui","non") -> non | M11: =MAX(0,(MIN(1,data[[#This Row],[Hfin corrigée]])-data[[#This Row],[Hdébut corrigé]])-data[[#This Row],[NUIT1.1]]-data[[#This Row],[NUIT1.2]]) -> 0.034027778 | N11: =IF(data[[#This Row],[Hfin Interv.]]="",0,( MIN(FinNuit,MIN(1,data[[#This Row],[Hfin corrigée]]))-MIN(FinNuit,data[[#This Row],[Hdébut corrigé]]) )) -> 0 | O11: =MAX(0,(MAX(0,(MIN(1,data[[#This Row],[Hfin corrigée]])-DebNuit))-MAX(0,(data[[#This Row],[Hdébut corrigé]]-DebNuit)))) -> 0 | P11: =IF(OR(WEEKDAY(data[[#This Row],[Date]]+data[[#This Row],[Hfin corrigée]],2)=7,COUNTIF(JF,INT(data[[#This Row],[Date]]+data[[#This Row],[Hfin corrigée]]))=1),"oui","non") -> non | Q11: =MAX(0,data[[#This Row],[Hfin corrigée]]-MAX(1,data[[#This Row],[Hdébut corrigé]]))-data[[#This Row],[NUIT2.1]]-data[[#This Row],[NUIT2.2]] -> 0 | R11: =MAX(0,MIN(1+FinNuit,data[[#This Row],[Hfin corrigée]])-MAX(1,data[[#This Row],[Hdébut corrigé]])) -> 0 | S11: =MAX(0,(data[[#This Row],[Hfin corrigée]]-DebNuit-1)) -> 0 | T11: =IF(data[[#This Row],[Garde / Interv.]]="Intervention",MAX(0,data[[#This Row],[Hfin corrigée]]-SUMPRODUCT((data[Date]=data[[#This Row],[Date]])*(data[Garde / Interv.]="Garde")*data[Hfin corrigée])),0) -> 0 | U11: =MAX(0,IF(data[[#This Row],[Garde / Interv.]]="Garde",data[[#This Row],[Hfin corrigée]]-data[[#This Row],[Hdébut corrigé]]+SUMPRODUCT((data[Date]=data[[#This Row],[Date]])*data[Interv. hors poste])-SUMPRODUCT((data[Date]=data[[#This Row],[Date]])*(data[[Durée interv. jour]:[Durée interv. nuit]])),0)) -> 0 | V11: =MAX(0,IF(data[[#This Row],[Garde / Interv.]]="Intervention",(data[[#This Row],[Fin Dim ou Férié]]="non")*data[[#This Row],[JOUR2]]+(data[[#This Row],[Début Dim ou Férié]]="non")*data[[#This Row],[JOUR1]],0)) -> 0.034027778 | W11: =IF(data[[#This Row],[Garde / Interv.]]="Intervention",(data[[#This Row],[Fin Dim ou Férié]]="oui")*data[[#This Row],[JOUR2]]+(data[[#This Row],[Début Dim ou Férié]]="oui")*data[[#This Row],[JOUR1]],0) -> 0 | X11: =MAX(0,IF(data[[#This Row],[Garde / Interv.]]="Intervention",data[[#This Row],[NUIT1.1]]+data[[#This Row],[NUIT1.2]]+data[[#This Row],[NUIT2.1]]+data[[#This Row],[NUIT2.2]],0)) -> 0
A12: 43110 | B12: =IF(data[[#This Row],[Hdébut garde]]<>"","Garde",IF(data[[#This Row],[Hdébut corrigé]]<>"","Intervention","")) -> Intervention | G12: VSAV | H12: 0.93194444 | I12: 0.94791667 | J12: =IF(data[[#This Row],[Hdébut garde]]<>"", data[[#This Row],[Hdébut garde]], data[[#This Row],[Hdébut interv.]]+IF(data[[#This Row],[Hdébut interv.]]<SUMPRODUCT((data[Date]=data[[#This Row],[Date]])*data[Hdébut garde]),1,0) ) -> 0.93194444 | K12: =IF(data[[#This Row],[Hfin garde]]<>"", data[[#This Row],[Hfin garde]]+IF(data[[#This Row],[Hfin garde]]<=data[[#This Row],[Hdébut garde]],1,0)+IF(data[[#This Row],[>24h]]<>"",1,0), IF(data[[#This Row],[Hfin Interv.]]="",0, data[[#This Row],[Hfin Interv.]] +IF(data[[#This Row],[Hfin Interv.]]>data[[#This Row],[Hdébut interv.]],0,1)) +IF(data[[#This Row],[Hdébut interv.]]<SUMPRODUCT((data[Date]=data[[#This Row],[Date]])*data[Hdébut garde]),1,0) ) -> 0.94791667 | L12: =IF(OR(WEEKDAY(data[[#This Row],[Date]],2)=7,COUNTIF(JF,data[[#This Row],[Date]])=1),"oui","non") -> non | M12: =MAX(0,(MIN(1,data[[#This Row],[Hfin corrigée]])-data[[#This Row],[Hdébut corrigé]])-data[[#This Row],[NUIT1.1]]-data[[#This Row],[NUIT1.2]]) -> 0 | N12: =IF(data[[#This Row],[Hfin Interv.]]="",0,( MIN(FinNuit,MIN(1,data[[#This Row],[Hfin corrigée]]))-MIN(FinNuit,data[[#This Row],[Hdébut corrigé]]) )) -> 0 | O12: =MAX(0,(MAX(0,(MIN(1,data[[#This Row],[Hfin corrigée]])-DebNuit))-MAX(0,(data[[#This Row],[Hdébut corrigé]]-DebNuit)))) -> 0.015972222 | P12: =IF(OR(WEEKDAY(data[[#This Row],[Date]]+data[[#This Row],[Hfin corrigée]],2)=7,COUNTIF(JF,INT(data[[#This Row],[Date]]+data[[#This Row],[Hfin corrigée]]))=1),"oui","non") -> non | Q12: =MAX(0,data[[#This Row],[Hfin corrigée]]-MAX(1,data[[#This Row],[Hdébut corrigé]]))-data[[#This Row],[NUIT2.1]]-data[[#This Row],[NUIT2.2]] -> 0 | R12: =MAX(0,MIN(1+FinNuit,data[[#This Row],[Hfin corrigée]])-MAX(1,data[[#This Row],[Hdébut corrigé]])) -> 0 | S12: =MAX(0,(data[[#This Row],[Hfin corrigée]]-DebNuit-1)) -> 0 | T12: =IF(data[[#This Row],[Garde / Interv.]]="Intervention",MAX(0,data[[#This Row],[Hfin corrigée]]-SUMPRODUCT((data[Date]=data[[#This Row],[Date]])*(data[Garde / Interv.]="Garde")*data[Hfin corrigée])),0) -> 0 | U12: =MAX(0,IF(data[[#This Row],[Garde / Interv.]]="Garde",data[[#This Row],[Hfin corrigée]]-data[[#This Row],[Hdébut corrigé]]+SUMPRODUCT((data[Date]=data[[#This Row],[Date]])*data[Interv. hors poste])-SUMPRODUCT((data[Date]=data[[#This Row],[Date]])*(data[[Durée interv. jour]:[Durée interv. nuit]])),0)) -> 0 | V12: =MAX(0,IF(data[[#This Row],[Garde / Interv.]]="Intervention",(data[[#This Row],[Fin Dim ou Férié]]="non")*data[[#This Row],[JOUR2]]+(data[[#This Row],[Début Dim ou Férié]]="non")*data[[#This Row],[JOUR1]],0)) -> 0 | W12: =IF(data[[#This Row],[Garde / Interv.]]="Intervention",(data[[#This Row],[Fin Dim ou Férié]]="oui")*data[[#This Row],[JOUR2]]+(data[[#This Row],[Début Dim ou Férié]]="oui")*data[[#This Row],[JOUR1]],0) -> 0 | X12: =MAX(0,IF(data[[#This Row],[Garde / Interv.]]="Intervention",data[[#This Row],[NUIT1.1]]+data[[#This Row],[NUIT1.2]]+data[[#This Row],[NUIT2.1]]+data[[#This Row],[NUIT2.2]],0)) -> 0.015972222
A13: 43116 | B13: =IF(data[[#This Row],[Hdébut garde]]<>"","Garde",IF(data[[#This Row],[Hdébut corrigé]]<>"","Intervention","")) -> Garde | C13: 0.33333333 | D13: 0.33333333 | J13: =IF(data[[#This Row],[Hdébut garde]]<>"", data[[#This Row],[Hdébut garde]], data[[#This Row],[Hdébut interv.]]+IF(data[[#This Row],[Hdébut interv.]]<SUMPRODUCT((data[Date]=data[[#This Row],[Date]])*data[Hdébut garde]),1,0) ) -> 0.33333333 | K13: =IF(data[[#This Row],[Hfin garde]]<>"", data[[#This Row],[Hfin garde]]+IF(data[[#This Row],[Hfin garde]]<=data[[#This Row],[Hdébut garde]],1,0)+IF(data[[#This Row],[>24h]]<>"",1,0), IF(data[[#This Row],[Hfin Interv.]]="",0, data[[#This Row],[Hfin Interv.]] +IF(data[[#This Row],[Hfin Interv.]]>data[[#This Row],[Hdébut interv.]],0,1)) +IF(data[[#This Row],[Hdébut interv.]]<SUMPRODUCT((data[Date]=data[[#This Row],[Date]])*data[Hdébut garde]),1,0) ) -> 1.3333333 | L13: =IF(OR(WEEKDAY(data[[#This Row],[Date]],2)=7,COUNTIF(JF,data[[#This Row],[Date]])=1),"oui","non") -> non | M13: =MAX(0,(MIN(1,data[[#This Row],[Hfin corrigée]])-data[[#This Row],[Hdébut corrigé]])-data[[#This Row],[NUIT1.1]]-data[[#This Row],[NUIT1.2]]) -> 0.58333333 | N13: =IF(data[[#This Row],[Hfin Interv.]]="",0,( MIN(FinNuit,MIN(1,data[[#This Row],[Hfin corrigée]]))-MIN(FinNuit,data[[#This Row],[Hdébut corrigé]]) )) -> 0 | O13: =MAX(0,(MAX(0,(MIN(1,data[[#This Row],[Hfin corrigée]])-DebNuit))-MAX(0,(data[[#This Row],[Hdébut corrigé]]-DebNuit)))) -> 0.083333333 | P13: =IF(OR(WEEKDAY(data[[#This Row],[Date]]+data[[#This Row],[Hfin corrigée]],2)=7,COUNTIF(JF,INT(data[[#This Row],[Date]]+data[[#This Row],[Hfin corrigée]]))=1),"oui","non") -> non | Q13: =MAX(0,data[[#This Row],[Hfin corrigée]]-MAX(1,data[[#This Row],[Hdébut corrigé]]))-data[[#This Row],[NUIT2.1]]-data[[#This Row],[NUIT2.2]] -> 0.041666667 | R13: =MAX(0,MIN(1+FinNuit,data[[#This Row],[Hfin corrigée]])-MAX(1,data[[#This Row],[Hdébut corrigé]])) -> 0.29166667 | S13: =MAX(0,(data[[#This Row],[Hfin corrigée]]-DebNuit-1)) -> 0 | T13: =IF(data[[#This Row],[Garde / Interv.]]="Intervention",MAX(0,data[[#This Row],[Hfin corrigée]]-SUMPRODUCT((data[Date]=data[[#This Row],[Date]])*(data[Garde / Interv.]="Garde")*data[Hfin corrigée])),0) -> 0 | U13: =MAX(0,IF(data[[#This Row],[Garde / Interv.]]="Garde",data[[#This Row],[Hfin corrigée]]-data[[#This Row],[Hdébut corrigé]]+SUMPRODUCT((data[Date]=data[[#This Row],[Date]])*data[Interv. hors poste])-SUMPRODUCT((data[Date]=data[[#This Row],[Date]])*(data[[Durée interv. jour]:[Durée interv. nuit]])),0)) -> 0.82569444 | V13: =MAX(0,IF(data[[#This Row],[Garde / Interv.]]="Intervention",(data[[#This Row],[Fin Dim ou Férié]]="non")*data[[#This Row],[JOUR2]]+(data[[#This Row],[Début Dim ou Férié]]="non")*data[[#This Row],[JOUR1]],0)) -> 0 | W13: =IF(data[[#This Row],[Garde / Interv.]]="Intervention",(data[[#This Row],[Fin Dim ou Férié]]="oui")*data[[#This Row],[JOUR2]]+(data[[#This Row],[Début Dim ou Férié]]="oui")*data[[#This Row],[JOUR1]],0) -> 0 | X13: =MAX(0,IF(data[[#This Row],[Garde / Interv.]]="Intervention",data[[#This Row],[NUIT1.1]]+data[[#This Row],[NUIT1.2]]+data[[#This Row],[NUIT2.1]]+data[[#This Row],[NUIT2.2]],0)) -> 0
A14: 43116 | B14: =IF(data[[#This Row],[Hdébut garde]]<>"","Garde",IF(data[[#This Row],[Hdébut corrigé]]<>"","Intervention","")) -> Intervention | G14: VSAV | H14: 0.67777778 | I14: 0.68541667 | J14: =IF(data[[#This Row],[Hdébut garde]]<>"", data[[#This Row],[Hdébut garde]], data[[#This Row],[Hdébut interv.]]+IF(data[[#This Row],[Hdébut interv.]]<SUMPRODUCT((data[Date]=data[[#This Row],[Date]])*data[Hdébut garde]),1,0) ) -> 0.67777778 | K14: =IF(data[[#This Row],[Hfin garde]]<>"", data[[#This Row],[Hfin garde]]+IF(data[[#This Row],[Hfin garde]]<=data[[#This Row],[Hdébut garde]],1,0)+IF(data[[#This Row],[>24h]]<>"",1,0), IF(data[[#This Row],[Hfin Interv.]]="",0, data[[#This Row],[Hfin Interv.]] +IF(data[[#This Row],[Hfin Interv.]]>data[[#This Row],[Hdébut interv.]],0,1)) +IF(data[[#This Row],[Hdébut interv.]]<SUMPRODUCT((data[Date]=data[[#This Row],[Date]])*data[Hdébut garde]),1,0) ) -> 0.68541667 | L14: =IF(OR(WEEKDAY(data[[#This Row],[Date]],2)=7,COUNTIF(JF,data[[#This Row],[Date]])=1),"oui","non") -> non | M14: =MAX(0,(MIN(1,data[[#This Row],[Hfin corrigée]])-data[[#This Row],[Hdébut corrigé]])-data[[#This Row],[NUIT1.1]]-data[[#This Row],[NUIT1.2]]) -> 0.0076388889 | N14: =IF(data[[#This Row],[Hfin Interv.]]="",0,( MIN(FinNuit,MIN(1,data[[#This Row],[Hfin corrigée]]))-MIN(FinNuit,data[[#This Row],[Hdébut corrigé]]) )) -> 0 | O14: =MAX(0,(MAX(0,(MIN(1,data[[#This Row],[Hfin corrigée]])-DebNuit))-MAX(0,(data[[#This Row],[Hdébut corrigé]]-DebNuit)))) -> 0 | P14: =IF(OR(WEEKDAY(data[[#This Row],[Date]]+data[[#This Row],[Hfin corrigée]],2)=7,COUNTIF(JF,INT(data[[#This Row],[Date]]+data[[#This Row],[Hfin corrigée]]))=1),"oui","non") -> non | Q14: =MAX(0,data[[#This Row],[Hfin corrigée]]-MAX(1,data[[#This Row],[Hdébut corrigé]]))-data[[#This Row],[NUIT2.1]]-data[[#This Row],[NUIT2.2]] -> 0 | R14: =MAX(0,MIN(1+FinNuit,data[[#This Row],[Hfin corrigée]])-MAX(1,data[[#This Row],[Hdébut corrigé]])) -> 0 | S14: =MAX(0,(data[[#This Row],[Hfin corrigée]]-DebNuit-1)) -> 0 | T14: =IF(data[[#This Row],[Garde / Interv.]]="Intervention",MAX(0,data[[#This Row],[Hfin corrigée]]-SUMPRODUCT((data[Date]=data[[#This Row],[Date]])*(data[Garde / Interv.]="Garde")*data[Hfin corrigée])),0) -> 0 | U14: =MAX(0,IF(data[[#This Row],[Garde / Interv.]]="Garde",data[[#This Row],[Hfin corrigée]]-data[[#This Row],[Hdébut corrigé]]+SUMPRODUCT((data[Date]=data[[#This Row],[Date]])*data[Interv. hors poste])-SUMPRODUCT((data[Date]=data[[#This Row],[Date]])*(data[[Durée interv. jour]:[Durée interv. nuit]])),0)) -> 0 | V14: =MAX(0,IF(data[[#This Row],[Garde / Interv.]]="Intervention",(data[[#This Row],[Fin Dim ou Férié]]="non")*data[[#This Row],[JOUR2]]+(data[[#This Row],[Début Dim ou Férié]]="non")*data[[#This Row],[JOUR1]],0)) -> 0.0076388889 | W14: =IF(data[[#This Row],[Garde / Interv.]]="Intervention",(data[[#This Row],[Fin Dim ou Férié]]="oui")*data[[#This Row],[JOUR2]]+(data[[#This Row],[Début Dim ou Férié]]="oui")*data[[#This Row],[JOUR1]],0) -> 0 | X14: =MAX(0,IF(data[[#This Row],[Garde / Interv.]]="Intervention",data[[#This Row],[NUIT1.1]]+data[[#This Row],[NUIT1.2]]+data[[#This Row],[NUIT2.1]]+data[[#This Row],[NUIT2.2]],0)) -> 0
A15: 43116 | B15: =IF(data[[#This Row],[Hdébut garde]]<>"","Garde",IF(data[[#This Row],[Hdébut corrigé]]<>"","Intervention","")) -> Intervention | G15: VSAV | H15: 0.69722222 | I15: 0.75694444 | J15: =IF(data[[#This Row],[Hdébut garde]]<>"", data[[#This Row],[Hdébut garde]], data[[#This Row],[Hdébut interv.]]+IF(data[[#This Row],[Hdébut interv.]]<SUMPRODUCT((data[Date]=data[[#This Row],[Date]])*data[Hdébut garde]),1,0) ) -> 0.69722222 | K15: =IF(data[[#This Row],[Hfin garde]]<>"", data[[#This Row],[Hfin garde]]+IF(data[[#This Row],[Hfin garde]]<=data[[#This Row],[Hdébut garde]],1,0)+IF(data[[#This Row],[>24h]]<>"",1,0), IF(data[[#This Row],[Hfin Interv.]]="",0, data[[#This Row],[Hfin Interv.]] +IF(data[[#This Row],[Hfin Interv.]]>data[[#This Row],[Hdébut interv.]],0,1)) +IF(data[[#This Row],[Hdébut interv.]]<SUMPRODUCT((data[Date]=data[[#This Row],[Date]])*data[Hdébut garde]),1,0) ) -> 0.75694444 | L15: =IF(OR(WEEKDAY(data[[#This Row],[Date]],2)=7,COUNTIF(JF,data[[#This Row],[Date]])=1),"oui","non") -> non | M15: =MAX(0,(MIN(1,data[[#This Row],[Hfin corrigée]])-data[[#This Row],[Hdébut corrigé]])-data[[#This Row],[NUIT1.1]]-data[[#This Row],[NUIT1.2]]) -> 0.059722222 | N15: =IF(data[[#This Row],[Hfin Interv.]]="",0,( MIN(FinNuit,MIN(1,data[[#This Row],[Hfin corrigée]]))-MIN(FinNuit,data[[#This Row],[Hdébut corrigé]]) )) -> 0 | O15: =MAX(0,(MAX(0,(MIN(1,data[[#This Row],[Hfin corrigée]])-DebNuit))-MAX(0,(data[[#This Row],[Hdébut corrigé]]-DebNuit)))) -> 0 | P15: =IF(OR(WEEKDAY(data[[#This Row],[Date]]+data[[#This Row],[Hfin corrigée]],2)=7,COUNTIF(JF,INT(data[[#This Row],[Date]]+data[[#This Row],[Hfin corrigée]]))=1),"oui","non") -> non | Q15: =MAX(0,data[[#This Row],[Hfin corrigée]]-MAX(1,data[[#This Row],[Hdébut corrigé]]))-data[[#This Row],[NUIT2.1]]-data[[#This Row],[NUIT2.2]] -> 0 | R15: =MAX(0,MIN(1+FinNuit,data[[#This Row],[Hfin corrigée]])-MAX(1,data[[#This Row],[Hdébut corrigé]])) -> 0 | S15: =MAX(0,(data[[#This Row],[Hfin corrigée]]-DebNuit-1)) -> 0 | T15: =IF(data[[#This Row],[Garde / Interv.]]="Intervention",MAX(0,data[[#This Row],[Hfin corrigée]]-SUMPRODUCT((data[Date]=data[[#This Row],[Date]])*(data[Garde / Interv.]="Garde")*data[Hfin corrigée])),0) -> 0 | U15: =MAX(0,IF(data[[#This Row],[Garde / Interv.]]="Garde",data[[#This Row],[Hfin corrigée]]-data[[#This Row],[Hdébut corrigé]]+SUMPRODUCT((data[Date]=data[[#This Row],[Date]])*data[Interv. hors poste])-SUMPRODUCT((data[Date]=data[[#This Row],[Date]])*(data[[Durée interv. jour]:[Durée interv. nuit]])),0)) -> 0 | V15: =MAX(0,IF(data[[#This Row],[Garde / Interv.]]="Intervention",(data[[#This Row],[Fin Dim ou Férié]]="non")*data[[#This Row],[JOUR2]]+(data[[#This Row],[Début Dim ou Férié]]="non")*data[[#This Row],[JOUR1]],0)) -> 0.059722222 | W15: =IF(data[[#This Row],[Garde / Interv.]]="Intervention",(data[[#This Row],[Fin Dim ou Férié]]="oui")*data[[#This Row],[JOUR2]]+(data[[#This Row],[Début Dim ou Férié]]="oui")*data[[#This Row],[JOUR1]],0) -> 0 | X15: =MAX(0,IF(data[[#This Row],[Garde / Interv.]]="Intervention",data[[#This Row],[NUIT1.1]]+data[[#This Row],[NUIT1.2]]+data[[#This Row],[NUIT2.1]]+data[[#This Row],[NUIT2.2]],0)) -> 0
A16: 43116 | B16: =IF(data[[#This Row],[Hdébut garde]]<>"","Garde",IF(data[[#This Row],[Hdébut corrigé]]<>"","Intervention","")) -> Intervention | G16: VSAV | H16: 0.87291667 | I16: 0.91041667 | J16: =IF(data[[#This Row],[Hdébut garde]]<>"", data[[#This Row],[Hdébut garde]], data[[#This Row],[Hdébut interv.]]+IF(data[[#This Row],[Hdébut interv.]]<SUMPRODUCT((data[Date]=data[[#This Row],[Date]])*data[Hdébut garde]),1,0) ) -> 0.87291667 | K16: =IF(data[[#This Row],[Hfin garde]]<>"", data[[#This Row],[Hfin garde]]+IF(data[[#This Row],[Hfin garde]]<=data[[#This Row],[Hdébut garde]],1,0)+IF(data[[#This Row],[>24h]]<>"",1,0), IF(data[[#This Row],[Hfin Interv.]]="",0, data[[#This Row],[Hfin Interv.]] +IF(data[[#This Row],[Hfin Interv.]]>data[[#This Row],[Hdébut interv.]],0,1)) +IF(data[[#This Row],[Hdébut interv.]]<SUMPRODUCT((data[Date]=data[[#This Row],[Date]])*data[Hdébut garde]),1,0) ) -> 0.91041667 | L16: =IF(OR(WEEKDAY(data[[#This Row],[Date]],2)=7,COUNTIF(JF,data[[#This Row],[Date]])=1),"oui","non") -> non | M16: =MAX(0,(MIN(1,data[[#This Row],[Hfin corrigée]])-data[[#This Row],[Hdébut corrigé]])-data[[#This Row],[NUIT1.1]]-data[[#This Row],[NUIT1.2]]) -> 0.0375 | N16: =IF(data[[#This Row],[Hfin Interv.]]="",0,( MIN(FinNuit,MIN(1,data[[#This Row],[Hfin corrigée]]))-MIN(FinNuit,data[[#This Row],[Hdébut corrigé]]) )) -> 0 | O16: =MAX(0,(MAX(0,(MIN(1,data[[#This Row],[Hfin corrigée]])-DebNuit))-MAX(0,(data[[#This Row],[Hdébut corrigé]]-DebNuit)))) -> 0 | P16: =IF(OR(WEEKDAY(data[[#This Row],[Date]]+data[[#This Row],[Hfin corrigée]],2)=7,COUNTIF(JF,INT(data[[#This Row],[Date]]+data[[#This Row],[Hfin corrigée]]))=1),"oui","non") -> non | Q16: =MAX(0,data[[#This Row],[Hfin corrigée]]-MAX(1,data[[#This Row],[Hdébut corrigé]]))-data[[#This Row],[NUIT2.1]]-data[[#This Row],[NUIT2.2]] -> 0 | R16: =MAX(0,MIN(1+FinNuit,data[[#This Row],[Hfin corrigée]])-MAX(1,data[[#This Row],[Hdébut corrigé]])) -> 0 | S16: =MAX(0,(data[[#This Row],[Hfin corrigée]]-DebNuit-1)) -> 0 | T16: =IF(data[[#This Row],[Garde / Interv.]]="Intervention",MAX(0,data[[#This Row],[Hfin corrigée]]-SUMPRODUCT((data[Date]=data[[#This Row],[Date]])*(data[Garde / Interv.]="Garde")*data[Hfin corrigée])),0) -> 0 | U16: =MAX(0,IF(data[[#This Row],[Garde / Interv.]]="Garde",data[[#This Row],[Hfin corrigée]]-data[[#This Row],[Hdébut corrigé]]+SUMPRODUCT((data[Date]=data[[#This Row],[Date]])*data[Interv. hors poste])-SUMPRODUCT((data[Date]=data[[#This Row],[Date]])*(data[[Durée interv. jour]:[Durée interv. nuit]])),0)) -> 0 | V16: =MAX(0,IF(data[[#This Row],[Garde / Interv.]]="Intervention",(data[[#This Row],[Fin Dim ou Férié]]="non")*data[[#This Row],[JOUR2]]+(data[[#This Row],[Début Dim ou Férié]]="non")*data[[#This Row],[JOUR1]],0)) -> 0.0375 | W16: =IF(data[[#This Row],[Garde / Interv.]]="Intervention",(data[[#This Row],[Fin Dim ou Férié]]="oui")*data[[#This Row],[JOUR2]]+(data[[#This Row],[Début Dim ou Férié]]="oui")*data[[#This Row],[JOUR1]],0) -> 0 | X16: =MAX(0,IF(data[[#This Row],[Garde / Interv.]]="Intervention",data[[#This Row],[NUIT1.1]]+data[[#This Row],[NUIT1.2]]+data[[#This Row],[NUIT2.1]]+data[[#This Row],[NUIT2.2]],0)) -> 0 | AD16: inter réel pdt la garde
A17: 43116 | B17: =IF(data[[#This Row],[Hdébut garde]]<>"","Garde",IF(data[[#This Row],[Hdébut corrigé]]<>"","Intervention","")) -> Intervention | G17: VSAV | H17: 0.91944444 | I17: 0.98888889 | J17: =IF(data[[#This Row],[Hdébut garde]]<>"", data[[#This Row],[Hdébut garde]], data[[#This Row],[Hdébut interv.]]+IF(data[[#This Row],[Hdébut interv.]]<SUMPRODUCT((data[Date]=data[[#This Row],[Date]])*data[Hdébut garde]),1,0) ) -> 0.91944444 | K17: =IF(data[[#This Row],[Hfin garde]]<>"", data[[#This Row],[Hfin garde]]+IF(data[[#This Row],[Hfin garde]]<=data[[#This Row],[Hdébut garde]],1,0)+IF(data[[#This Row],[>24h]]<>"",1,0), IF(data[[#This Row],[Hfin Interv.]]="",0, data[[#This Row],[Hfin Interv.]] +IF(data[[#This Row],[Hfin Interv.]]>data[[#This Row],[Hdébut interv.]],0,1)) +IF(data[[#This Row],[Hdébut interv.]]<SUMPRODUCT((data[Date]=data[[#This Row],[Date]])*data[Hdébut garde]),1,0) ) -> 0.98888889 | L17: =IF(OR(WEEKDAY(data[[#This Row],[Date]],2)=7,COUNTIF(JF,data[[#This Row],[Date]])=1),"oui","non") -> non | M17: =MAX(0,(MIN(1,data[[#This Row],[Hfin corrigée]])-data[[#This Row],[Hdébut corrigé]])-data[[#This Row],[NUIT1.1]]-data[[#This Row],[NUIT1.2]]) -> 0 | N17: =IF(data[[#This Row],[Hfin Interv.]]="",0,( MIN(FinNuit,MIN(1,data[[#This Row],[Hfin corrigée]]))-MIN(FinNuit,data[[#This Row],[Hdébut corrigé]]) )) -> 0 | O17: =MAX(0,(MAX(0,(MIN(1,data[[#This Row],[Hfin corrigée]])-DebNuit))-MAX(0,(data[[#This Row],[Hdébut corrigé]]-DebNuit)))) -> 0.069444444 | P17: =IF(OR(WEEKDAY(data[[#This Row],[Date]]+data[[#This Row],[Hfin corrigée]],2)=7,COUNTIF(JF,INT(data[[#This Row],[Date]]+data[[#This Row],[Hfin corrigée]]))=1),"oui","non") -> non | Q17: =MAX(0,data[[#This Row],[Hfin corrigée]]-MAX(1,data[[#This Row],[Hdébut corrigé]]))-data[[#This Row],[NUIT2.1]]-data[[#This Row],[NUIT2.2]] -> 0 | R17: =MAX(0,MIN(1+FinNuit,data[[#This Row],[Hfin corrigée]])-MAX(1,data[[#This Row],[Hdébut corrigé]])) -> 0 | S17: =MAX(0,(data[[#This Row],[Hfin corrigée]]-DebNuit-1)) -> 0 | T17: =IF(data[[#This Row],[Garde / Interv.]]="Intervention",MAX(0,data[[#This Row],[Hfin corrigée]]-SUMPRODUCT((data[Date]=data[[#This Row],[Date]])*(data[Garde / Interv.]="Garde")*data[Hfin corrigée])),0) -> 0 | U17: =MAX(0,IF(data[[#This Row],[Garde / Interv.]]="Garde",data[[#This Row],[Hfin corrigée]]-data[[#This Row],[Hdébut corrigé]]+SUMPRODUCT((data[Date]=data[[#This Row],[Date]])*data[Interv. hors poste])-SUMPRODUCT((data[Date]=data[[#This Row],[Date]])*(data[[Durée interv. jour]:[Durée interv. nuit]])),0)) -> 0 | V17: =MAX(0,IF(data[[#This Row],[Garde / Interv.]]="Intervention",(data[[#This Row],[Fin Dim ou Férié]]="non")*data[[#This Row],[JOUR2]]+(data[[#This Row],[Début Dim ou Férié]]="non")*data[[#This Row],[JOUR1]],0)) -> 0 | W17: =IF(data[[#This Row],[Garde / Interv.]]="Intervention",(data[[#This Row],[Fin Dim ou Férié]]="oui")*data[[#This Row],[JOUR2]]+(data[[#This Row],[Début Dim ou Férié]]="oui")*data[[#This Row],[JOUR1]],0) -> 0 | X17: =MAX(0,IF(data[[#This Row],[Garde / Interv.]]="Intervention",data[[#This Row],[NUIT1.1]]+data[[#This Row],[NUIT1.2]]+data[[#This Row],[NUIT2.1]]+data[[#This Row],[NUIT2.2]],0)) -> 0.069444444 | AD17: dernière inter | AE17: 7h47 à 9h27
A18: 43182 | B18: =IF(data[[#This Row],[Hdébut garde]]<>"","Garde",IF(data[[#This Row],[Hdébut corrigé]]<>"","Intervention","")) -> Garde | C18: 0.33333333 | D18: 0.39375 | E18: Oui | J18: =IF(data[[#This Row],[Hdébut garde]]<>"", data[[#This Row],[Hdébut garde]], data[[#This Row],[Hdébut interv.]]+IF(data[[#This Row],[Hdébut interv.]]<SUMPRODUCT((data[Date]=data[[#This Row],[Date]])*data[Hdébut garde]),1,0) ) -> 0.33333333 | K18: =IF(data[[#This Row],[Hfin garde]]<>"", data[[#This Row],[Hfin garde]]+IF(data[[#This Row],[Hfin garde]]<=data[[#This Row],[Hdébut garde]],1,0)+IF(data[[#This Row],[>24h]]<>"",1,0), IF(data[[#This Row],[Hfin Interv.]]="",0, data[[#This Row],[Hfin Interv.]] +IF(data[[#This Row],[Hfin Interv.]]>data[[#This Row],[Hdébut interv.]],0,1)) +IF(data[[#This Row],[Hdébut interv.]]<SUMPRODUCT((data[Date]=data[[#This Row],[Date]])*data[Hdébut garde]),1,0) ) -> 1.39375 | L18: =IF(OR(WEEKDAY(data[[#This Row],[Date]],2)=7,COUNTIF(JF,data[[#This Row],[Date]])=1),"oui","non") -> non | M18: =MAX(0,(MIN(1,data[[#This Row],[Hfin corrigée]])-data[[#This Row],[Hdébut corrigé]])-data[[#This Row],[NUIT1.1]]-data[[#This Row],[NUIT1.2]]) -> 0.58333333 | N18: =IF(data[[#This Row],[Hfin Interv.]]="",0,( MIN(FinNuit,MIN(1,data[[#This Row],[Hfin corrigée]]))-MIN(FinNuit,data[[#This Row],[Hdébut corrigé]]) )) -> 0 | O18: =MAX(0,(MAX(0,(MIN(1,data[[#This Row],[Hfin corrigée]])-DebNuit))-MAX(0,(data[[#This Row],[Hdébut corrigé]]-DebNuit)))) -> 0.083333333 | P18: =IF(OR(WEEKDAY(data[[#This Row],[Date]]+data[[#This Row],[Hfin corrigée]],2)=7,COUNTIF(JF,INT(data[[#This Row],[Date]]+data[[#This Row],[Hfin corrigée]]))=1),"oui","non") -> non | Q18: =MAX(0,data[[#This Row],[Hfin corrigée]]-MAX(1,data[[#This Row],[Hdébut corrigé]]))-data[[#This Row],[NUIT2.1]]-data[[#This Row],[NUIT2.2]] -> 0.10208333 | R18: =MAX(0,MIN(1+FinNuit,data[[#This Row],[Hfin corrigée]])-MAX(1,data[[#This Row],[Hdébut corrigé]])) -> 0.29166667 | S18: =MAX(0,(data[[#This Row],[Hfin corrigée]]-DebNuit-1)) -> 0 | T18: =IF(data[[#This Row],[Garde / Interv.]]="Intervention",MAX(0,data[[#This Row],[Hfin corrigée]]-SUMPRODUCT((data[Date]=data[[#This Row],[Date]])*(data[Garde / Interv.]="Garde")*data[Hfin corrigée])),0) -> 0 | U18: =MAX(0,IF(data[[#This Row],[Garde / Interv.]]="Garde",data[[#This Row],[Hfin corrigée]]-data[[#This Row],[Hdébut corrigé]]+SUMPRODUCT((data[Date]=data[[#This Row],[Date]])*data[Interv. hors poste])-SUMPRODUCT((data[Date]=data[[#This Row],[Date]])*(data[[Durée interv. jour]:[Durée interv. nuit]])),0)) -> 0.79375 | V18: =MAX(0,IF(data[[#This Row],[Garde / Interv.]]="Intervention",(data[[#This Row],[Fin Dim ou Férié]]="non")*data[[#This Row],[JOUR2]]+(data[[#This Row],[Début Dim ou Férié]]="non")*data[[#This Row],[JOUR1]],0)) -> 0 | W18: =IF(data[[#This Row],[Garde / Interv.]]="Intervention",(data[[#This Row],[Fin Dim ou Férié]]="oui")*data[[#This Row],[JOUR2]]+(data[[#This Row],[Début Dim ou Férié]]="oui")*data[[#This Row],[JOUR1]],0) -> 0 | X18: =MAX(0,IF(data[[#This Row],[Garde / Interv.]]="Intervention",data[[#This Row],[NUIT1.1]]+data[[#This Row],[NUIT1.2]]+data[[#This Row],[NUIT2.1]]+data[[#This Row],[NUIT2.2]],0)) -> 0 | Z18: Mois de mars | AB18: inter pdt la garde | AE18: 8h - 7h47 | AF18: heure sup
A19: 43182 | B19: =IF(data[[#This Row],[Hdébut garde]]<>"","Garde",IF(data[[#This Row],[Hdébut corrigé]]<>"","Intervention","")) -> Intervention | G19: VSAV | H19: 0.47916667 | I19: 0.54375 | J19: =IF(data[[#This Row],[Hdébut garde]]<>"", data[[#This Row],[Hdébut garde]], data[[#This Row],[Hdébut interv.]]+IF(data[[#This Row],[Hdébut interv.]]<SUMPRODUCT((data[Date]=data[[#This Row],[Date]])*data[Hdébut garde]),1,0) ) -> 0.47916667 | K19: =IF(data[[#This Row],[Hfin garde]]<>"", data[[#This Row],[Hfin garde]]+IF(data[[#This Row],[Hfin garde]]<=data[[#This Row],[Hdébut garde]],1,0)+IF(data[[#This Row],[>24h]]<>"",1,0), IF(data[[#This Row],[Hfin Interv.]]="",0, data[[#This Row],[Hfin Interv.]] +IF(data[[#This Row],[Hfin Interv.]]>data[[#This Row],[Hdébut interv.]],0,1)) +IF(data[[#This Row],[Hdébut interv.]]<SUMPRODUCT((data[Date]=data[[#This Row],[Date]])*data[Hdébut garde]),1,0) ) -> 0.54375 | L19: =IF(OR(WEEKDAY(data[[#This Row],[Date]],2)=7,COUNTIF(JF,data[[#This Row],[Date]])=1),"oui","non") -> non | M19: =MAX(0,(MIN(1,data[[#This Row],[Hfin corrigée]])-data[[#This Row],[Hdébut corrigé]])-data[[#This Row],[NUIT1.1]]-data[[#This Row],[NUIT1.2]]) -> 0.064583333 | N19: =IF(data[[#This Row],[Hfin Interv.]]="",0,( MIN(FinNuit,MIN(1,data[[#This Row],[Hfin corrigée]]))-MIN(FinNuit,data[[#This Row],[Hdébut corrigé]]) )) -> 0 | O19: =MAX(0,(MAX(0,(MIN(1,data[[#This Row],[Hfin corrigée]])-DebNuit))-MAX(0,(data[[#This Row],[Hdébut corrigé]]-DebNuit)))) -> 0 | P19: =IF(OR(WEEKDAY(data[[#This Row],[Date]]+data[[#This Row],[Hfin corrigée]],2)=7,COUNTIF(JF,INT(data[[#This Row],[Date]]+data[[#This Row],[Hfin corrigée]]))=1),"oui","non") -> non | Q19: =MAX(0,data[[#This Row],[Hfin corrigée]]-MAX(1,data[[#This Row],[Hdébut corrigé]]))-data[[#This Row],[NUIT2.1]]-data[[#This Row],[NUIT2.2]] -> 0 | R19: =MAX(0,MIN(1+FinNuit,data[[#This Row],[Hfin corrigée]])-MAX(1,data[[#This Row],[Hdébut corrigé]])) -> 0 | S19: =MAX(0,(data[[#This Row],[Hfin corrigée]]-DebNuit-1)) -> 0 | T19: =IF(data[[#This Row],[Garde / Interv.]]="Intervention",MAX(0,data[[#This Row],[Hfin corrigée]]-SUMPRODUCT((data[Date]=data[[#This Row],[Date]])*(data[Garde / Interv.]="Garde")*data[Hfin corrigée])),0) -> 0 | U19: =MAX(0,IF(data[[#This Row],[Garde / Interv.]]="Garde",data[[#This Row],[Hfin corrigée]]-data[[#This Row],[Hdébut corrigé]]+SUMPRODUCT((data[Date]=data[[#This Row],[Date]])*data[Interv. hors poste])-SUMPRODUCT((data[Date]=data[[#This Row],[Date]])*(data[[Durée interv. jour]:[Durée interv. nuit]])),0)) -> 0 | V19: =MAX(0,IF(data[[#This Row],[Garde / Interv.]]="Intervention",(data[[#This Row],[Fin Dim ou Férié]]="non")*data[[#This Row],[JOUR2]]+(data[[#This Row],[Début Dim ou Férié]]="non")*data[[#This Row],[JOUR1]],0)) -> 0.064583333 | W19: =IF(data[[#This Row],[Garde / Interv.]]="Intervention",(data[[#This Row],[Fin Dim ou Férié]]="oui")*data[[#This Row],[JOUR2]]+(data[[#This Row],[Début Dim ou Férié]]="oui")*data[[#This Row],[JOUR1]],0) -> 0 | X19: =MAX(0,IF(data[[#This Row],[Garde / Interv.]]="Intervention",data[[#This Row],[NUIT1.1]]+data[[#This Row],[NUIT1.2]]+data[[#This Row],[NUIT2.1]]+data[[#This Row],[NUIT2.2]],0)) -> 0 | Z19: 1ère garde | AA19: 1 | AB19: =SUM(V19:X25) -> 0.26666667 | AC19: =AA19-AB19 -> 0.73333333 | AD19: =SUM(V19:X24)+AE19 -> 0.20625 | AE19: 0.0090277778 | AF19: 0.060416667
