Workbook
Name REFERENCES: OFFSET(MENUISERIE!$B$2,0,0,COUNTA(MENUISERIE!$B:$B)-1)

Sheet MENUISERIE
B1: DESIGNATIONS | C1: H | D1: L | E1: PU | F1: PVC | G1: ALU | H1: MIXTE
B2: Coffre 1/2 linteau pour Bloc baie ISOLYS | C2: 300 | D2: 1000 | E2: 121.52
C3: 300 | D3: 1200 | E3: 136.4
C4: 300 | D4: 1400 | E4: 94.12
C5: 300 | D5: 1600 | E5: 166.16
C6: 300 | D6: 2000 | E6: 76.52
C7: 300 | D7: 2100 | E7: 209.56
C8: 300 | D8: 2400 | E8: 130.94
C9: 300 | D9: 3000 | E9: 102.49
B10: Porte ACIER - 1 vantail - Modèle ATOLL | C10: 2300 | D10: 910 | E10: 1218.7
B11: Fenêtre 2 vantaux - Gamme THERMIENCE | C11: 800 | D11: 1000 | E11: 370.37 | F11: ✅
C12: 800 | D12: 1200 | E12: 453.96 | F12: ✅
C13: 900 | D13: 1200 | E13: 282.46 | F13: ✅
C14: 900 | D14: 1250 | E14: 282.46 | F14: ✅
C15: 920 | D15: 780 | E15: 363.58 | F15: ✅
C16: 930 | D16: 1300 | E16: 420.21 | F16: ✅
C17: 1000 | D17: 1000 | E17: 416.55 | F17: ✅
C18: 1000 | D18: 1180 | E18: 459.77 | F18: ✅
C19: 1000 | D19: 1200 | E19: 417.46 | F19: ✅
C20: 1050 | D20: 700 | E20: 433.68 | F20: ✅
C21: 1050 | D21: 1200 | E21: 616.1 | F21: ✅
C22: 1070 | D22: 1200 | E22: 608.08 | F22: ✅
C23: 1080 | D23: 1010 | E23: 437.9 | F23: ✅
... C70: 2200 | D70: 1100 | E70: 580.32 | F70: ✅
B71: Fenêtre 1 vantail - Gamme THERMIENCE | C71: 410 | D71: 500 | E71: 207.58 | F71: ✅
C72: 450 | D72: 450 | E72: 259.68 | F72: ✅
C73: 450 | D73: 480 | E73: 207.9 | F73: ✅
C74: 450 | D74: 550 | E74: 233.66 | F74: ✅
C75: 470 | D75: 490 | E75: 202.32 | F75: ✅
C76: 500 | D76: 500 | E76: 208.52 | F76: ✅
C77: 500 | D77: 1000 | E77: 279.76 | F77: ✅
C78: 600 | D78: 780 | E78: 229.84 | F78: ✅
C79: 620 | D79: 740 | E79: 229.84 | F79: ✅
C80: 650 | D80: 800 | E80: 260.52 | F80: ✅
C81: 700 | D81: 500 | E81: 249.96 | F81: ✅
C82: 700 | D82: 600 | E82: 145.6 | F82: ✅
C83: 700 | D83: 700 | E83: 283.14 | F83: ✅
... C105: 2140 | D105: 740 | E105: 489.94 | F105: ✅
B106: Châssis à soufflet - Gamme THERMIENCE | C106: 430 | D106: 880 | E106: 335.33 | F106: ✅
C107: 470 | D107: 790 | E107: 228.53 | F107: ✅
...

Sheet Feuil3
B8: DESIGNATION | C8: H | D8: L | E8: Prix Unitaire | F8: Quantité | G8: Montant
B9: Coffre 1/2 linteau pour Bloc baie ISOLYS | C9: =VLOOKUP(B9,MENUISERIE!B:E,2,FALSE) -> 300 | D9: =VLOOKUP(B9,MENUISERIE!B:E,3,FALSE) -> 1000 | E9: =VLOOKUP(B9,MENUISERIE!B:E,4,FALSE) -> 121.52 | F9: 1 | G9: =E9*F9 -> 121.52
C10: =VLOOKUP(B10,MENUISERIE!B:E,2,FALSE) -> #N/A | D10: =VLOOKUP(B10,MENUISERIE!B:E,3,FALSE) -> #N/A | E10: =VLOOKUP(B10,MENUISERIE!B:E,4,FALSE) -> #N/A | G10: =E10*F10 -> #N/A
C11: =VLOOKUP(B11,MENUISERIE!B:E,2,FALSE) -> #N/A | D11: =VLOOKUP(B11,MENUISERIE!B:E,3,FALSE) -> #N/A | E11: =VLOOKUP(B11,MENUISERIE!B:E,4,FALSE) -> #N/A | G11: =E11*F11 -> #N/A
C12: =VLOOKUP(B12,MENUISERIE!B:E,2,FALSE) -> #N/A | D12: =VLOOKUP(B12,MENUISERIE!B:E,3,FALSE) -> #N/A | E12: =VLOOKUP(B12,MENUISERIE!B:E,4,FALSE) -> #N/A | G12: =E12*F12 -> #N/A
C13: =VLOOKUP(B13,MENUISERIE!B:E,2,FALSE) -> #N/A | D13: =VLOOKUP(B13,MENUISERIE!B:E,3,FALSE) -> #N/A | E13: =VLOOKUP(B13,MENUISERIE!B:E,4,FALSE) -> #N/A | G13: =E13*F13 -> #N/A
C14: =VLOOKUP(B14,MENUISERIE!B:E,2,FALSE) -> #N/A | D14: =VLOOKUP(B14,MENUISERIE!B:E,3,FALSE) -> #N/A | E14: =VLOOKUP(B14,MENUISERIE!B:E,4,FALSE) -> #N/A | G14: =E14*F14 -> #N/A
C15: =VLOOKUP(B15,MENUISERIE!B:E,2,FALSE) -> #N/A | D15: =VLOOKUP(B15,MENUISERIE!B:E,3,FALSE) -> #N/A | E15: =VLOOKUP(B15,MENUISERIE!B:E,4,FALSE) -> #N/A | G15: =E15*F15 -> #N/A
C16: =VLOOKUP(B16,MENUISERIE!B:E,2,FALSE) -> #N/A | D16: =VLOOKUP(B16,MENUISERIE!B:E,3,FALSE) -> #N/A | E16: =VLOOKUP(B16,MENUISERIE!B:E,4,FALSE) -> #N/A | G16: =E16*F16 -> #N/A
C17: =VLOOKUP(B17,MENUISERIE!B:E,2,FALSE) -> #N/A | D17: =VLOOKUP(B17,MENUISERIE!B:E,3,FALSE) -> #N/A | E17: =VLOOKUP(B17,MENUISERIE!B:E,4,FALSE) -> #N/A | G17: =E17*F17 -> #N/A
C18: =VLOOKUP(B18,MENUISERIE!B:E,2,FALSE) -> #N/A | D18: =VLOOKUP(B18,MENUISERIE!B:E,3,FALSE) -> #N/A | E18: =VLOOKUP(B18,MENUISERIE!B:E,4,FALSE) -> #N/A | G18: =E18*F18 -> #N/A
C19: =VLOOKUP(B19,MENUISERIE!B:E,2,FALSE) -> #N/A | D19: =VLOOKUP(B19,MENUISERIE!B:E,3,FALSE) -> #N/A | E19: =VLOOKUP(B19,MENUISERIE!B:E,4,FALSE) -> #N/A | G19: =E19*F19 -> #N/A
C20: =VLOOKUP(B20,MENUISERIE!B:E,2,FALSE) -> #N/A | D20: =VLOOKUP(B20,MENUISERIE!B:E,3,FALSE) -> #N/A | E20: =VLOOKUP(B20,MENUISERIE!B:E,4,FALSE) -> #N/A | G20: =E20*F20 -> #N/A
C21: =VLOOKUP(B21,MENUISERIE!B:E,2,FALSE) -> #N/A | D21: =VLOOKUP(B21,MENUISERIE!B:E,3,FALSE) -> #N/A | E21: =VLOOKUP(B21,MENUISERIE!B:E,4,FALSE) -> #N/A | G21: =E21*F21 -> #N/A
... C28: =VLOOKUP(B28,MENUISERIE!B:E,2,FALSE) -> #N/A | D28: =VLOOKUP(B28,MENUISERIE!B:E,3,FALSE) -> #N/A | E28: =VLOOKUP(B28,MENUISERIE!B:E,4,FALSE) -> #N/A | G28: =E28*F28 -> #N/A
