Workbook
Name calcul_score: Equipes!$AD$3:$AD$62
Name classement: Equipes!$AD$3:$AD$38
Name gagnant: Equipes!$AE$2:$AH$38
Name joueur: Equipes!$A$3:$B$38
Name joueurs: Equipes!$A$3:$B$62
Name match1: Match1!$A$2:$D$61
Name match2: Match2!$A$2:$D$61
Name match3: Match3!$A$2:$D$61
Name match4: Match4!$A$2:$D$61
Name match5: Match5!$A$2:$D$61
Name match6: Match6!$A$2:$D$61
Name test: Equipes!$B$3:$C$38

Sheet Equipes
A1: Concours à la mêlée | D1: Match 1 | H1: Match 2 | L1: Match 3 | P1: Match 4 | T1: Match 5 | X1: Match 6 | AB1: RESULTATS
D2: Son scoreSon scoreSon scoreSon score | E2: Score adv.Score adv.Score adv.Score adv. | F2: G / P | G2: + / - | H2: Son scoreSon scoreSon scoreSon score | I2: Score adv.Score adv.Score adv.Score adv. | J2: G / P | K2: + / - | L2: Son scoreSon scoreSon scoreSon score | M2: Score adv.Score adv.Score adv.Score adv. | N2: G / P | O2: + / - | P2: Son scoreSon scoreSon scoreSon score | Q2: Score adv.Score adv.Score adv.Score adv. | R2: G / P | S2: + / - | T2: Son scoreSon scoreSon scoreSon score | U2: Score adv.Score adv.Score adv.Score adv. | V2: G / P | W2: + / - | X2: Son scoreSon scoreSon scoreSon score | Y2: Score adv.Score adv.Score adv.Score adv. | Z2: G / P | AA2: + / - | AB2: Nbre G | AC2: Goal. | AE2: Class. | AJ2: Place | AL2: Joueur | AM2: Gagné | AN2: Goalaverage
A3: 1 | B3: greg | C3: 1 | D3: =INDIRECT("Match1!"&VLOOKUP($A3,match1,3,0)) -> 13 | E3: =INDIRECT("Match1!"&VLOOKUP($A3,match1,4,0)) -> 10 | F3: =IF(NOT(ISERROR(D3)),IF(D3>E3,"G","P"),"") -> G | G3: =IF(NOT(ISERROR(D3)),D3-E3,"0") -> 3 | H3: =INDIRECT("Match2!"&VLOOKUP($A3,match2,3,0)) -> 0 | I3: =INDIRECT("Match2!"&VLOOKUP($A3,match2,4,0)) -> 0 | J3: =IF(NOT(ISERROR(H3)),IF(H3>I3,"G","P"),"") -> P | K3: =IF(NOT(ISERROR(H3)),H3-I3,"0") -> 0 | L3: =INDIRECT("Match3!"&VLOOKUP($A3,match3,3,0)) -> 0 | M3: =INDIRECT("Match3!"&VLOOKUP($A3,match3,4,0)) -> 0 | N3: =IF(NOT(ISERROR(L3)),IF(L3>M3,"G","P"),"") -> P | O3: =IF(NOT(ISERROR(L3)),L3-M3,"0") -> 0 | P3: =INDIRECT("Match4!"&VLOOKUP($A3,match4,3,0)) -> #N/A | Q3: =INDIRECT("Match4!"&VLOOKUP($A3,match4,4,0)) -> #N/A | R3: =IF(NOT(ISERROR(P3)),IF(P3>Q3,"G","P"),"") | S3: =IF(NOT(ISERROR(P3)),P3-Q3,"0") -> 0 | T3: =INDIRECT("Match5!"&VLOOKUP($A3,match5,3,0)) -> #N/A | U3: =INDIRECT("Match5!"&VLOOKUP($A3,match5,4,0)) -> #N/A | V3: =IF(NOT(ISERROR(T3)),IF(T3>U3,"G","P"),"") | W3: =IF(NOT(ISERROR(T3)),T3-U3,"0") -> 0 | X3: =INDIRECT("Match6!"&VLOOKUP($A3,match6,3,0)) -> #N/A | Y3: =INDIRECT("Match6!"&VLOOKUP($A3,match6,4,0)) -> #N/A | Z3: =IF(NOT(ISERROR(X3)),IF(X3>Y3,"G","P"),"") | AA3: =IF(NOT(ISERROR(X3)),X3-Y3,"0") -> 0 | AB3: =COUNTIF(F3:Z3,"G") -> 1 | AC3: =G3+K3+O3+S3+W3+AA3 -> 3 | AD3: =AB3*1000+500+AC3 -> 1503 | AE3: =IF(AD3=500,"",COUNTIFS(calcul_score,">"&AD3,calcul_score,"<>500")+1) -> 1 | AF3: =IF(A3<>"",VLOOKUP(A3,joueurs,2,0),"") -> greg | AG3: =AB3 -> 1 | AH3: =AC3 -> 3 | AJ3: 1 | AK3: =IF(AL3<>"",VLOOKUP(AL3,test,2,0),"") -> 1 | AL3: =VLOOKUP(ROW()-ROW($AL$2),gagnant,2,FALSE) -> greg | AM3: =VLOOKUP(ROW()-ROW($AL$2),gagnant,3,FALSE) -> 1 | AN3: =VLOOKUP(ROW()-ROW($AL$2),gagnant,4,FALSE) -> 3
A4: 2 | B4: simon | C4: 2 | D4: =INDIRECT("Match1!"&VLOOKUP($A4,match1,3,0)) -> 13 | E4: =INDIRECT("Match1!"&VLOOKUP($A4,match1,4,0)) -> 10 | F4: =IF(NOT(ISERROR(D4)),IF(D4>E4,"G","P"),"") -> G | G4: =IF(NOT(ISERROR(D4)),D4-E4,"0") -> 3 | H4: =INDIRECT("Match2!"&VLOOKUP($A4,match2,3,0)) -> 0 | I4: =INDIRECT("Match2!"&VLOOKUP($A4,match2,4,0)) -> 0 | J4: =IF(NOT(ISERROR(H4)),IF(H4>I4,"G","P"),"") -> P | K4: =IF(NOT(ISERROR(H4)),H4-I4,"0") -> 0 | L4: =INDIRECT("Match3!"&VLOOKUP($A4,match3,3,0)) -> 0 | M4: =INDIRECT("Match3!"&VLOOKUP($A4,match3,4,0)) -> 0 | N4: =IF(NOT(ISERROR(L4)),IF(L4>M4,"G","P"),"") -> P | O4: =IF(NOT(ISERROR(L4)),L4-M4,"0") -> 0 | P4: =INDIRECT("Match4!"&VLOOKUP($A4,match4,3,0)) -> #N/A | Q4: =INDIRECT("Match4!"&VLOOKUP($A4,match4,4,0)) -> #N/A | R4: =IF(NOT(ISERROR(P4)),IF(P4>Q4,"G","P"),"") | S4: =IF(NOT(ISERROR(P4)),P4-Q4,"0") -> 0 | T4: =INDIRECT("Match5!"&VLOOKUP($A4,match5,3,0)) -> #N/A | U4: =INDIRECT("Match5!"&VLOOKUP($A4,match5,4,0)) -> #N/A | V4: =IF(NOT(ISERROR(T4)),IF(T4>U4,"G","P"),"") | W4: =IF(NOT(ISERROR(T4)),T4-U4,"0") -> 0 | X4: =INDIRECT("Match6!"&VLOOKUP($A4,match6,3,0)) -> #N/A | Y4: =INDIRECT("Match6!"&VLOOKUP($A4,match6,4,0)) -> #N/A | Z4: =IF(NOT(ISERROR(X4)),IF(X4>Y4,"G","P"),"") | AA4: =IF(NOT(ISERROR(X4)),X4-Y4,"0") -> 0 | AB4: =COUNTIF(F4:Z4,"G") -> 1 | AC4: =G4+K4+O4+S4+W4+AA4 -> 3 | AD4: =AB4*1000+500+AC4 -> 1503 | AE4: =IF(AD4=500,"",COUNTIFS(calcul_score,">"&AD4,calcul_score,"<>500")+1) -> 1 | AF4: =IF(A4<>"",VLOOKUP(A4,joueurs,2,0),"") -> simon | AG4: =AB4 -> 1 | AH4: =AC4 -> 3 | AJ4: 2 | AK4: =IF(AL4<>"",VLOOKUP(AL4,test,2,0),"") -> #N/A | AL4: =VLOOKUP(ROW()-ROW($AL$2),gagnant,2,FALSE) -> #N/A | AM4: =VLOOKUP(ROW()-ROW($AL$2),gagnant,3,FALSE) -> #N/A | AN4: =VLOOKUP(ROW()-ROW($AL$2),gagnant,4,FALSE) -> #N/A
A5: 3 | B5: nat | C5: 3 | D5: =INDIRECT("Match1!"&VLOOKUP($A5,match1,3,0)) -> 10 | E5: =INDIRECT("Match1!"&VLOOKUP($A5,match1,4,0)) -> 13 | F5: =IF(NOT(ISERROR(D5)),IF(D5>E5,"G","P"),"") -> P | G5: =IF(NOT(ISERROR(D5)),D5-E5,"0") -> -3 | H5: =INDIRECT("Match2!"&VLOOKUP($A5,match2,3,0)) -> 0 | I5: =INDIRECT("Match2!"&VLOOKUP($A5,match2,4,0)) -> 0 | J5: =IF(NOT(ISERROR(H5)),IF(H5>I5,"G","P"),"") -> P | K5: =IF(NOT(ISERROR(H5)),H5-I5,"0") -> 0 | L5: =INDIRECT("Match3!"&VLOOKUP($A5,match3,3,0)) -> 0 | M5: =INDIRECT("Match3!"&VLOOKUP($A5,match3,4,0)) -> 0 | N5: =IF(NOT(ISERROR(L5)),IF(L5>M5,"G","P"),"") -> P | O5: =IF(NOT(ISERROR(L5)),L5-M5,"0") -> 0 | P5: =INDIRECT("Match4!"&VLOOKUP($A5,match4,3,0)) -> #N/A | Q5: =INDIRECT("Match4!"&VLOOKUP($A5,match4,4,0)) -> #N/A | R5: =IF(NOT(ISERROR(P5)),IF(P5>Q5,"G","P"),"") | S5: =IF(NOT(ISERROR(P5)),P5-Q5,"0") -> 0 | T5: =INDIRECT("Match5!"&VLOOKUP($A5,match5,3,0)) -> #N/A | U5: =INDIRECT("Match5!"&VLOOKUP($A5,match5,4,0)) -> #N/A | V5: =IF(NOT(ISERROR(T5)),IF(T5>U5,"G","P"),"") | W5: =IF(NOT(ISERROR(T5)),T5-U5,"0") -> 0 | X5: =INDIRECT("Match6!"&VLOOKUP($A5,match6,3,0)) -> #N/A | Y5: =INDIRECT("Match6!"&VLOOKUP($A5,match6,4,0)) -> #N/A | Z5: =IF(NOT(ISERROR(X5)),IF(X5>Y5,"G","P"),"") | AA5: =IF(NOT(ISERROR(X5)),X5-Y5,"0") -> 0 | AB5: =COUNTIF(F5:Z5,"G") -> 0 | AC5: =G5+K5+O5+S5+W5+AA5 -> -3 | AD5: =AB5*1000+500+AC5 -> 497 | AE5: =IF(AD5=500,"",COUNTIFS(calcul_score,">"&AD5,calcul_score,"<>500")+1) -> 3 | AF5: =IF(A5<>"",VLOOKUP(A5,joueurs,2,0),"") -> nat | AG5: =AB5 -> 0 | AH5: =AC5 -> -3 | AJ5: 3 | AK5: =IF(AL5<>"",VLOOKUP(AL5,test,2,0),"") -> 3 | AL5: =VLOOKUP(ROW()-ROW($AL$2),gagnant,2,FALSE) -> nat | AM5: =VLOOKUP(ROW()-ROW($AL$2),gagnant,3,FALSE) -> 0 | AN5: =VLOOKUP(ROW()-ROW($AL$2),gagnant,4,FALSE) -> -3
A6: 4 | B6: mickey | C6: 4 | D6: =INDIRECT("Match1!"&VLOOKUP($A6,match1,3,0)) -> 10 | E6: =INDIRECT("Match1!"&VLOOKUP($A6,match1,4,0)) -> 13 | F6: =IF(NOT(ISERROR(D6)),IF(D6>E6,"G","P"),"") -> P | G6: =IF(NOT(ISERROR(D6)),D6-E6,"0") -> -3 | H6: =INDIRECT("Match2!"&VLOOKUP($A6,match2,3,0)) -> 0 | I6: =INDIRECT("Match2!"&VLOOKUP($A6,match2,4,0)) -> 0 | J6: =IF(NOT(ISERROR(H6)),IF(H6>I6,"G","P"),"") -> P | K6: =IF(NOT(ISERROR(H6)),H6-I6,"0") -> 0 | L6: =INDIRECT("Match3!"&VLOOKUP($A6,match3,3,0)) -> 0 | M6: =INDIRECT("Match3!"&VLOOKUP($A6,match3,4,0)) -> 0 | N6: =IF(NOT(ISERROR(L6)),IF(L6>M6,"G","P"),"") -> P | O6: =IF(NOT(ISERROR(L6)),L6-M6,"0") -> 0 | P6: =INDIRECT("Match4!"&VLOOKUP($A6,match4,3,0)) -> #N/A | Q6: =INDIRECT("Match4!"&VLOOKUP($A6,match4,4,0)) -> #N/A | R6: =IF(NOT(ISERROR(P6)),IF(P6>Q6,"G","P"),"") | S6: =IF(NOT(ISERROR(P6)),P6-Q6,"0") -> 0 | T6: =INDIRECT("Match5!"&VLOOKUP($A6,match5,3,0)) -> #N/A | U6: =INDIRECT("Match5!"&VLOOKUP($A6,match5,4,0)) -> #N/A | V6: =IF(NOT(ISERROR(T6)),IF(T6>U6,"G","P"),"") | W6: =IF(NOT(ISERROR(T6)),T6-U6,"0") -> 0 | X6: =INDIRECT("Match6!"&VLOOKUP($A6,match6,3,0)) -> #N/A | Y6: =INDIRECT("Match6!"&VLOOKUP($A6,match6,4,0)) -> #N/A | Z6: =IF(NOT(ISERROR(X6)),IF(X6>Y6,"G","P"),"") | AA6: =IF(NOT(ISERROR(X6)),X6-Y6,"0") -> 0 | AB6: =COUNTIF(F6:Z6,"G") -> 0 | AC6: =G6+K6+O6+S6+W6+AA6 -> -3 | AD6: =AB6*1000+500+AC6 -> 497 | AE6: =IF(AD6=500,"",COUNTIFS(calcul_score,">"&AD6,calcul_score,"<>500")+1) -> 3 | AF6: =IF(A6<>"",VLOOKUP(A6,joueurs,2,0),"") -> mickey | AG6: =AB6 -> 0 | AH6: =AC6 -> -3 | AJ6: 4 | AK6: =IF(AL6<>"",VLOOKUP(AL6,test,2,0),"") -> #N/A | AL6: =VLOOKUP(ROW()-ROW($AL$2),gagnant,2,FALSE) -> #N/A | AM6: =VLOOKUP(ROW()-ROW($AL$2),gagnant,3,FALSE) -> #N/A | AN6: =VLOOKUP(ROW()-ROW($AL$2),gagnant,4,FALSE) -> #N/A
A7: 5 | C7: 5 | D7: =INDIRECT("Match1!"&VLOOKUP($A7,match1,3,0)) -> 0 | E7: =INDIRECT("Match1!"&VLOOKUP($A7,match1,4,0)) -> 0 | F7: =IF(NOT(ISERROR(D7)),IF(D7>E7,"G","P"),"") -> P | G7: =IF(NOT(ISERROR(D7)),D7-E7,"0") -> 0 | H7: =INDIRECT("Match2!"&VLOOKUP($A7,match2,3,0)) -> 0 | I7: =INDIRECT("Match2!"&VLOOKUP($A7,match2,4,0)) -> 0 | J7: =IF(NOT(ISERROR(H7)),IF(H7>I7,"G","P"),"") -> P | K7: =IF(NOT(ISERROR(H7)),H7-I7,"0") -> 0 | L7: =INDIRECT("Match3!"&VLOOKUP($A7,match3,3,0)) -> 0 | M7: =INDIRECT("Match3!"&VLOOKUP($A7,match3,4,0)) -> 0 | N7: =IF(NOT(ISERROR(L7)),IF(L7>M7,"G","P"),"") -> P | O7: =IF(NOT(ISERROR(L7)),L7-M7,"0") -> 0 | P7: =INDIRECT("Match4!"&VLOOKUP($A7,match4,3,0)) -> #N/A | Q7: =INDIRECT("Match4!"&VLOOKUP($A7,match4,4,0)) -> #N/A | R7: =IF(NOT(ISERROR(P7)),IF(P7>Q7,"G","P"),"") | S7: =IF(NOT(ISERROR(P7)),P7-Q7,"0") -> 0 | T7: =INDIRECT("Match5!"&VLOOKUP($A7,match5,3,0)) -> #N/A | U7: =INDIRECT("Match5!"&VLOOKUP($A7,match5,4,0)) -> #N/A | V7: =IF(NOT(ISERROR(T7)),IF(T7>U7,"G","P"),"") | W7: =IF(NOT(ISERROR(T7)),T7-U7,"0") -> 0 | X7: =INDIRECT("Match6!"&VLOOKUP($A7,match6,3,0)) -> #N/A | Y7: =INDIRECT("Match6!"&VLOOKUP($A7,match6,4,0)) -> #N/A | Z7: =IF(NOT(ISERROR(X7)),IF(X7>Y7,"G","P"),"") | AA7: =IF(NOT(ISERROR(X7)),X7-Y7,"0") -> 0 | AB7: =COUNTIF(F7:Z7,"G") -> 0 | AC7: =G7+K7+O7+S7+W7+AA7 -> 0 | AD7: =AB7*1000+500+AC7 -> 500 | AE7: =IF(AD7=500,"",COUNTIFS(calcul_score,">"&AD7,calcul_score,"<>500")+1) | AF7: =IF(A7<>"",VLOOKUP(A7,joueurs,2,0),"") -> 0 | AG7: =AB7 -> 0 | AH7: =AC7 -> 0 | AJ7: 5 | AK7: =IF(AL7<>"",VLOOKUP(AL7,test,2,0),"") -> #N/A | AL7: =VLOOKUP(ROW()-ROW($AL$2),gagnant,2,FALSE) -> #N/A | AM7: =VLOOKUP(ROW()-ROW($AL$2),gagnant,3,FALSE) -> #N/A | AN7: =VLOOKUP(ROW()-ROW($AL$2),gagnant,4,FALSE) -> #N/A
A8: 6 | C8: 6 | D8: =INDIRECT("Match1!"&VLOOKUP($A8,match1,3,0)) -> 0 | E8: =INDIRECT("Match1!"&VLOOKUP($A8,match1,4,0)) -> 0 | F8: =IF(NOT(ISERROR(D8)),IF(D8>E8,"G","P"),"") -> P | G8: =IF(NOT(ISERROR(D8)),D8-E8,"0") -> 0 | H8: =INDIRECT("Match2!"&VLOOKUP($A8,match2,3,0)) -> 0 | I8: =INDIRECT("Match2!"&VLOOKUP($A8,match2,4,0)) -> 0 | J8: =IF(NOT(ISERROR(H8)),IF(H8>I8,"G","P"),"") -> P | K8: =IF(NOT(ISERROR(H8)),H8-I8,"0") -> 0 | L8: =INDIRECT("Match3!"&VLOOKUP($A8,match3,3,0)) -> 0 | M8: =INDIRECT("Match3!"&VLOOKUP($A8,match3,4,0)) -> 0 | N8: =IF(NOT(ISERROR(L8)),IF(L8>M8,"G","P"),"") -> P | O8: =IF(NOT(ISERROR(L8)),L8-M8,"0") -> 0 | P8: =INDIRECT("Match4!"&VLOOKUP($A8,match4,3,0)) -> #N/A | Q8: =INDIRECT("Match4!"&VLOOKUP($A8,match4,4,0)) -> #N/A | R8: =IF(NOT(ISERROR(P8)),IF(P8>Q8,"G","P"),"") | S8: =IF(NOT(ISERROR(P8)),P8-Q8,"0") -> 0 | T8: =INDIRECT("Match5!"&VLOOKUP($A8,match5,3,0)) -> #N/A | U8: =INDIRECT("Match5!"&VLOOKUP($A8,match5,4,0)) -> #N/A | V8: =IF(NOT(ISERROR(T8)),IF(T8>U8,"G","P"),"") | W8: =IF(NOT(ISERROR(T8)),T8-U8,"0") -> 0 | X8: =INDIRECT("Match6!"&VLOOKUP($A8,match6,3,0)) -> #N/A | Y8: =INDIRECT("Match6!"&VLOOKUP($A8,match6,4,0)) -> #N/A | Z8: =IF(NOT(ISERROR(X8)),IF(X8>Y8,"G","P"),"") | AA8: =IF(NOT(ISERROR(X8)),X8-Y8,"0") -> 0 | AB8: =COUNTIF(F8:Z8,"G") -> 0 | AC8: =G8+K8+O8+S8+W8+AA8 -> 0 | AD8: =AB8*1000+500+AC8 -> 500 | AE8: =IF(AD8=500,"",COUNTIFS(calcul_score,">"&AD8,calcul_score,"<>500")+1) | AF8: =IF(A8<>"",VLOOKUP(A8,joueurs,2,0),"") -> 0 | AG8: =AB8 -> 0 | AH8: =AC8 -> 0 | AJ8: 6 | AK8: =IF(AL8<>"",VLOOKUP(AL8,test,2,0),"") -> #N/A | AL8: =VLOOKUP(ROW()-ROW($AL$2),gagnant,2,FALSE) -> #N/A | AM8: =VLOOKUP(ROW()-ROW($AL$2),gagnant,3,FALSE) -> #N/A | AN8: =VLOOKUP(ROW()-ROW($AL$2),gagnant,4,FALSE) -> #N/A
A9: 7 | C9: 7 | D9: =INDIRECT("Match1!"&VLOOKUP($A9,match1,3,0)) -> 0 | E9: =INDIRECT("Match1!"&VLOOKUP($A9,match1,4,0)) -> 0 | F9: =IF(NOT(ISERROR(D9)),IF(D9>E9,"G","P"),"") -> P | G9: =IF(NOT(ISERROR(D9)),D9-E9,"0") -> 0 | H9: =INDIRECT("Match2!"&VLOOKUP($A9,match2,3,0)) -> 0 | I9: =INDIRECT("Match2!"&VLOOKUP($A9,match2,4,0)) -> 0 | J9: =IF(NOT(ISERROR(H9)),IF(H9>I9,"G","P"),"") -> P | K9: =IF(NOT(ISERROR(H9)),H9-I9,"0") -> 0 | L9: =INDIRECT("Match3!"&VLOOKUP($A9,match3,3,0)) -> 0 | M9: =INDIRECT("Match3!"&VLOOKUP($A9,match3,4,0)) -> 0 | N9: =IF(NOT(ISERROR(L9)),IF(L9>M9,"G","P"),"") -> P | O9: =IF(NOT(ISERROR(L9)),L9-M9,"0") -> 0 | P9: =INDIRECT("Match4!"&VLOOKUP($A9,match4,3,0)) -> #N/A | Q9: =INDIRECT("Match4!"&VLOOKUP($A9,match4,4,0)) -> #N/A | R9: =IF(NOT(ISERROR(P9)),IF(P9>Q9,"G","P"),"") | S9: =IF(NOT(ISERROR(P9)),P9-Q9,"0") -> 0 | T9: =INDIRECT("Match5!"&VLOOKUP($A9,match5,3,0)) -> #N/A | U9: =INDIRECT("Match5!"&VLOOKUP($A9,match5,4,0)) -> #N/A | V9: =IF(NOT(ISERROR(T9)),IF(T9>U9,"G","P"),"") | W9: =IF(NOT(ISERROR(T9)),T9-U9,"0") -> 0 | X9: =INDIRECT("Match6!"&VLOOKUP($A9,match6,3,0)) -> #N/A | Y9: =INDIRECT("Match6!"&VLOOKUP($A9,match6,4,0)) -> #N/A | Z9: =IF(NOT(ISERROR(X9)),IF(X9>Y9,"G","P"),"") | AA9: =IF(NOT(ISERROR(X9)),X9-Y9,"0") -> 0 | AB9: =COUNTIF(F9:Z9,"G") -> 0 | AC9: =G9+K9+O9+S9+W9+AA9 -> 0 | AD9: =AB9*1000+500+AC9 -> 500 | AE9: =IF(AD9=500,"",COUNTIFS(calcul_score,">"&AD9,calcul_score,"<>500")+1) | AF9: =IF(A9<>"",VLOOKUP(A9,joueurs,2,0),"") -> 0 | AG9: =AB9 -> 0 | AH9: =AC9 -> 0 | AJ9: 7 | AK9: =IF(AL9<>"",VLOOKUP(AL9,test,2,0),"") -> #N/A | AL9: =VLOOKUP(ROW()-ROW($AL$2),gagnant,2,FALSE) -> #N/A | AM9: =VLOOKUP(ROW()-ROW($AL$2),gagnant,3,FALSE) -> #N/A | AN9: =VLOOKUP(ROW()-ROW($AL$2),gagnant,4,FALSE) -> #N/A
A10: 8 | C10: 8 | D10: =INDIRECT("Match1!"&VLOOKUP($A10,match1,3,0)) -> 0 | E10: =INDIRECT("Match1!"&VLOOKUP($A10,match1,4,0)) -> 0 | F10: =IF(NOT(ISERROR(D10)),IF(D10>E10,"G","P"),"") -> P | G10: =IF(NOT(ISERROR(D10)),D10-E10,"0") -> 0 | H10: =INDIRECT("Match2!"&VLOOKUP($A10,match2,3,0)) -> 0 | I10: =INDIRECT("Match2!"&VLOOKUP($A10,match2,4,0)) -> 0 | J10: =IF(NOT(ISERROR(H10)),IF(H10>I10,"G","P"),"") -> P | K10: =IF(NOT(ISERROR(H10)),H10-I10,"0") -> 0 | L10: =INDIRECT("Match3!"&VLOOKUP($A10,match3,3,0)) -> 0 | M10: =INDIRECT("Match3!"&VLOOKUP($A10,match3,4,0)) -> 0 | N10: =IF(NOT(ISERROR(L10)),IF(L10>M10,"G","P"),"") -> P | O10: =IF(NOT(ISERROR(L10)),L10-M10,"0") -> 0 | P10: =INDIRECT("Match4!"&VLOOKUP($A10,match4,3,0)) -> #N/A | Q10: =INDIRECT("Match4!"&VLOOKUP($A10,match4,4,0)) -> #N/A | R10: =IF(NOT(ISERROR(P10)),IF(P10>Q10,"G","P"),"") | S10: =IF(NOT(ISERROR(P10)),P10-Q10,"0") -> 0 | T10: =INDIRECT("Match5!"&VLOOKUP($A10,match5,3,0)) -> #N/A | U10: =INDIRECT("Match5!"&VLOOKUP($A10,match5,4,0)) -> #N/A | V10: =IF(NOT(ISERROR(T10)),IF(T10>U10,"G","P"),"") | W10: =IF(NOT(ISERROR(T10)),T10-U10,"0") -> 0 | X10: =INDIRECT("Match6!"&VLOOKUP($A10,match6,3,0)) -> #N/A | Y10: =INDIRECT("Match6!"&VLOOKUP($A10,match6,4,0)) -> #N/A | Z10: =IF(NOT(ISERROR(X10)),IF(X10>Y10,"G","P"),"") | AA10: =IF(NOT(ISERROR(X10)),X10-Y10,"0") -> 0 | AB10: =COUNTIF(F10:Z10,"G") -> 0 | AC10: =G10+K10+O10+S10+W10+AA10 -> 0 | AD10: =AB10*1000+500+AC10 -> 500 | AE10: =IF(AD10=500,"",COUNTIFS(calcul_score,">"&AD10,calcul_score,"<>500")+1) | AF10: =IF(A10<>"",VLOOKUP(A10,joueurs,2,0),"") -> 0 | AG10: =AB10 -> 0 | AH10: =AC10 -> 0 | AJ10: 8 | AK10: =IF(AL10<>"",VLOOKUP(AL10,test,2,0),"") -> #N/A | AL10: =VLOOKUP(ROW()-ROW($AL$2),gagnant,2,FALSE) -> #N/A | AM10: =VLOOKUP(ROW()-ROW($AL$2),gagnant,3,FALSE) -> #N/A | AN10: =VLOOKUP(ROW()-ROW($AL$2),gagnant,4,FALSE) -> #N/A
A11: 9 | C11: 9 | D11: =INDIRECT("Match1!"&VLOOKUP($A11,match1,3,0)) -> 0 | E11: =INDIRECT("Match1!"&VLOOKUP($A11,match1,4,0)) -> 0 | F11: =IF(NOT(ISERROR(D11)),IF(D11>E11,"G","P"),"") -> P | G11: =IF(NOT(ISERROR(D11)),D11-E11,"0") -> 0 | H11: =INDIRECT("Match2!"&VLOOKUP($A11,match2,3,0)) -> 0 | I11: =INDIRECT("Match2!"&VLOOKUP($A11,match2,4,0)) -> 0 | J11: =IF(NOT(ISERROR(H11)),IF(H11>I11,"G","P"),"") -> P | K11: =IF(NOT(ISERROR(H11)),H11-I11,"0") -> 0 | L11: =INDIRECT("Match3!"&VLOOKUP($A11,match3,3,0)) -> 0 | M11: =INDIRECT("Match3!"&VLOOKUP($A11,match3,4,0)) -> 0 | N11: =IF(NOT(ISERROR(L11)),IF(L11>M11,"G","P"),"") -> P | O11: =IF(NOT(ISERROR(L11)),L11-M11,"0") -> 0 | P11: =INDIRECT("Match4!"&VLOOKUP($A11,match4,3,0)) -> #N/A | Q11: =INDIRECT("Match4!"&VLOOKUP($A11,match4,4,0)) -> #N/A | R11: =IF(NOT(ISERROR(P11)),IF(P11>Q11,"G","P"),"") | S11: =IF(NOT(ISERROR(P11)),P11-Q11,"0") -> 0 | T11: =INDIRECT("Match5!"&VLOOKUP($A11,match5,3,0)) -> #N/A | U11: =INDIRECT("Match5!"&VLOOKUP($A11,match5,4,0)) -> #N/A | V11: =IF(NOT(ISERROR(T11)),IF(T11>U11,"G","P"),"") | W11: =IF(NOT(ISERROR(T11)),T11-U11,"0") -> 0 | X11: =INDIRECT("Match6!"&VLOOKUP($A11,match6,3,0)) -> #N/A | Y11: =INDIRECT("Match6!"&VLOOKUP($A11,match6,4,0)) -> #N/A | Z11: =IF(NOT(ISERROR(X11)),IF(X11>Y11,"G","P"),"") | AA11: =IF(NOT(ISERROR(X11)),X11-Y11,"0") -> 0 | AB11: =COUNTIF(F11:Z11,"G") -> 0 | AC11: =G11+K11+O11+S11+W11+AA11 -> 0 | AD11: =AB11*1000+500+AC11 -> 500 | AE11: =IF(AD11=500,"",COUNTIFS(calcul_score,">"&AD11,calcul_score,"<>500")+1) | AF11: =IF(A11<>"",VLOOKUP(A11,joueurs,2,0),"") -> 0 | AG11: =AB11 -> 0 | AH11: =AC11 -> 0 | AJ11: 9 | AK11: =IF(AL11<>"",VLOOKUP(AL11,test,2,0),"") -> #N/A | AL11: =VLOOKUP(ROW()-ROW($AL$2),gagnant,2,FALSE) -> #N/A | AM11: =VLOOKUP(ROW()-ROW($AL$2),gagnant,3,FALSE) -> #N/A | AN11: =VLOOKUP(ROW()-ROW($AL$2),gagnant,4,FALSE) -> #N/A
A12: 10 | C12: 10 | D12: =INDIRECT("Match1!"&VLOOKUP($A12,match1,3,0)) -> 0 | E12: =INDIRECT("Match1!"&VLOOKUP($A12,match1,4,0)) -> 0 | F12: =IF(NOT(ISERROR(D12)),IF(D12>E12,"G","P"),"") -> P | G12: =IF(NOT(ISERROR(D12)),D12-E12,"0") -> 0 | H12: =INDIRECT("Match2!"&VLOOKUP($A12,match2,3,0)) -> 0 | I12: =INDIRECT("Match2!"&VLOOKUP($A12,match2,4,0)) -> 0 | J12: =IF(NOT(ISERROR(H12)),IF(H12>I12,"G","P"),"") -> P | K12: =IF(NOT(ISERROR(H12)),H12-I12,"0") -> 0 | L12: =INDIRECT("Match3!"&VLOOKUP($A12,match3,3,0)) -> 0 | M12: =INDIRECT("Match3!"&VLOOKUP($A12,match3,4,0)) -> 0 | N12: =IF(NOT(ISERROR(L12)),IF(L12>M12,"G","P"),"") -> P | O12: =IF(NOT(ISERROR(L12)),L12-M12,"0") -> 0 | P12: =INDIRECT("Match4!"&VLOOKUP($A12,match4,3,0)) -> #N/A | Q12: =INDIRECT("Match4!"&VLOOKUP($A12,match4,4,0)) -> #N/A | R12: =IF(NOT(ISERROR(P12)),IF(P12>Q12,"G","P"),"") | S12: =IF(NOT(ISERROR(P12)),P12-Q12,"0") -> 0 | T12: =INDIRECT("Match5!"&VLOOKUP($A12,match5,3,0)) -> #N/A | U12: =INDIRECT("Match5!"&VLOOKUP($A12,match5,4,0)) -> #N/A | V12: =IF(NOT(ISERROR(T12)),IF(T12>U12,"G","P"),"") | W12: =IF(NOT(ISERROR(T12)),T12-U12,"0") -> 0 | X12: =INDIRECT("Match6!"&VLOOKUP($A12,match6,3,0)) -> #N/A | Y12: =INDIRECT("Match6!"&VLOOKUP($A12,match6,4,0)) -> #N/A | Z12: =IF(NOT(ISERROR(X12)),IF(X12>Y12,"G","P"),"") | AA12: =IF(NOT(ISERROR(X12)),X12-Y12,"0") -> 0 | AB12: =COUNTIF(F12:Z12,"G") -> 0 | AC12: =G12+K12+O12+S12+W12+AA12 -> 0 | AD12: =AB12*1000+500+AC12 -> 500 | AE12: =IF(AD12=500,"",COUNTIFS(calcul_score,">"&AD12,calcul_score,"<>500")+1) | AF12: =IF(A12<>"",VLOOKUP(A12,joueurs,2,0),"") -> 0 | AG12: =AB12 -> 0 | AH12: =AC12 -> 0 | AJ12: 10 | AK12: =IF(AL12<>"",VLOOKUP(AL12,test,2,0),"") -> #N/A | AL12: =VLOOKUP(ROW()-ROW($AL$2),gagnant,2,FALSE) -> #N/A | AM12: =VLOOKUP(ROW()-ROW($AL$2),gagnant,3,FALSE) -> #N/A | AN12: =VLOOKUP(ROW()-ROW($AL$2),gagnant,4,FALSE) -> #N/A
A13: 11 | C13: 11 | D13: =INDIRECT("Match1!"&VLOOKUP($A13,match1,3,0)) -> 0 | E13: =INDIRECT("Match1!"&VLOOKUP($A13,match1,4,0)) -> 0 | F13: =IF(NOT(ISERROR(D13)),IF(D13>E13,"G","P"),"") -> P | G13: =IF(NOT(ISERROR(D13)),D13-E13,"0") -> 0 | H13: =INDIRECT("Match2!"&VLOOKUP($A13,match2,3,0)) -> 0 | I13: =INDIRECT("Match2!"&VLOOKUP($A13,match2,4,0)) -> 0 | J13: =IF(NOT(ISERROR(H13)),IF(H13>I13,"G","P"),"") -> P | K13: =IF(NOT(ISERROR(H13)),H13-I13,"0") -> 0 | L13: =INDIRECT("Match3!"&VLOOKUP($A13,match3,3,0)) -> 0 | M13: =INDIRECT("Match3!"&VLOOKUP($A13,match3,4,0)) -> 0 | N13: =IF(NOT(ISERROR(L13)),IF(L13>M13,"G","P"),"") -> P | O13: =IF(NOT(ISERROR(L13)),L13-M13,"0") -> 0 | P13: =INDIRECT("Match4!"&VLOOKUP($A13,match4,3,0)) -> #N/A | Q13: =INDIRECT("Match4!"&VLOOKUP($A13,match4,4,0)) -> #N/A | R13: =IF(NOT(ISERROR(P13)),IF(P13>Q13,"G","P"),"") | S13: =IF(NOT(ISERROR(P13)),P13-Q13,"0") -> 0 | T13: =INDIRECT("Match5!"&VLOOKUP($A13,match5,3,0)) -> #N/A | U13: =INDIRECT("Match5!"&VLOOKUP($A13,match5,4,0)) -> #N/A | V13: =IF(NOT(ISERROR(T13)),IF(T13>U13,"G","P"),"") | W13: =IF(NOT(ISERROR(T13)),T13-U13,"0") -> 0 | X13: =INDIRECT("Match6!"&VLOOKUP($A13,match6,3,0)) -> #N/A | Y13: =INDIRECT("Match6!"&VLOOKUP($A13,match6,4,0)) -> #N/A | Z13: =IF(NOT(ISERROR(X13)),IF(X13>Y13,"G","P"),"") | AA13: =IF(NOT(ISERROR(X13)),X13-Y13,"0") -> 0 | AB13: =COUNTIF(F13:Z13,"G") -> 0 | AC13: =G13+K13+O13+S13+W13+AA13 -> 0 | AD13: =AB13*1000+500+AC13 -> 500 | AE13: =IF(AD13=500,"",COUNTIFS(calcul_score,">"&AD13,calcul_score,"<>500")+1) | AF13: =IF(A13<>"",VLOOKUP(A13,joueurs,2,0),"") -> 0 | AG13: =AB13 -> 0 | AH13: =AC13 -> 0 | AJ13: 11 | AK13: =IF(AL13<>"",VLOOKUP(AL13,test,2,0),"") -> #N/A | AL13: =VLOOKUP(ROW()-ROW($AL$2),gagnant,2,FALSE) -> #N/A | AM13: =VLOOKUP(ROW()-ROW($AL$2),gagnant,3,FALSE) -> #N/A | AN13: =VLOOKUP(ROW()-ROW($AL$2),gagnant,4,FALSE) -> #N/A
A14: 12 | C14: 12 | D14: =INDIRECT("Match1!"&VLOOKUP($A14,match1,3,0)) -> 0 | E14: =INDIRECT("Match1!"&VLOOKUP($A14,match1,4,0)) -> 0 | F14: =IF(NOT(ISERROR(D14)),IF(D14>E14,"G","P"),"") -> P | G14: =IF(NOT(ISERROR(D14)),D14-E14,"0") -> 0 | H14: =INDIRECT("Match2!"&VLOOKUP($A14,match2,3,0)) -> 0 | I14: =INDIRECT("Match2!"&VLOOKUP($A14,match2,4,0)) -> 0 | J14: =IF(NOT(ISERROR(H14)),IF(H14>I14,"G","P"),"") -> P | K14: =IF(NOT(ISERROR(H14)),H14-I14,"0") -> 0 | L14: =INDIRECT("Match3!"&VLOOKUP($A14,match3,3,0)) -> 0 | M14: =INDIRECT("Match3!"&VLOOKUP($A14,match3,4,0)) -> 0 | N14: =IF(NOT(ISERROR(L14)),IF(L14>M14,"G","P"),"") -> P | O14: =IF(NOT(ISERROR(L14)),L14-M14,"0") -> 0 | P14: =INDIRECT("Match4!"&VLOOKUP($A14,match4,3,0)) -> #N/A | Q14: =INDIRECT("Match4!"&VLOOKUP($A14,match4,4,0)) -> #N/A | R14: =IF(NOT(ISERROR(P14)),IF(P14>Q14,"G","P"),"") | S14: =IF(NOT(ISERROR(P14)),P14-Q14,"0") -> 0 | T14: =INDIRECT("Match5!"&VLOOKUP($A14,match5,3,0)) -> #N/A | U14: =INDIRECT("Match5!"&VLOOKUP($A14,match5,4,0)) -> #N/A | V14: =IF(NOT(ISERROR(T14)),IF(T14>U14,"G","P"),"") | W14: =IF(NOT(ISERROR(T14)),T14-U14,"0") -> 0 | X14: =INDIRECT("Match6!"&VLOOKUP($A14,match6,3,0)) -> #N/A | Y14: =INDIRECT("Match6!"&VLOOKUP($A14,match6,4,0)) -> #N/A | Z14: =IF(NOT(ISERROR(X14)),IF(X14>Y14,"G","P"),"") | AA14: =IF(NOT(ISERROR(X14)),X14-Y14,"0") -> 0 | AB14: =COUNTIF(F14:Z14,"G") -> 0 | AC14: =G14+K14+O14+S14+W14+AA14 -> 0 | AD14: =AB14*1000+500+AC14 -> 500 | AE14: =IF(AD14=500,"",COUNTIFS(calcul_score,">"&AD14,calcul_score,"<>500")+1) | AF14: =IF(A14<>"",VLOOKUP(A14,joueurs,2,0),"") -> 0 | AG14: =AB14 -> 0 | AH14: =AC14 -> 0 | AJ14: 12 | AK14: =IF(AL14<>"",VLOOKUP(AL14,test,2,0),"") -> #N/A | AL14: =VLOOKUP(ROW()-ROW($AL$2),gagnant,2,FALSE) -> #N/A | AM14: =VLOOKUP(ROW()-ROW($AL$2),gagnant,3,FALSE) -> #N/A | AN14: =VLOOKUP(ROW()-ROW($AL$2),gagnant,4,FALSE) -> #N/A
A15: 13 | C15: 13 | D15: =INDIRECT("Match1!"&VLOOKUP($A15,match1,3,0)) -> 0 | E15: =INDIRECT("Match1!"&VLOOKUP($A15,match1,4,0)) -> 0 | F15: =IF(NOT(ISERROR(D15)),IF(D15>E15,"G","P"),"") -> P | G15: =IF(NOT(ISERROR(D15)),D15-E15,"0") -> 0 | H15: =INDIRECT("Match2!"&VLOOKUP($A15,match2,3,0)) -> 0 | I15: =INDIRECT("Match2!"&VLOOKUP($A15,match2,4,0)) -> 0 | J15: =IF(NOT(ISERROR(H15)),IF(H15>I15,"G","P"),"") -> P | K15: =IF(NOT(ISERROR(H15)),H15-I15,"0") -> 0 | L15: =INDIRECT("Match3!"&VLOOKUP($A15,match3,3,0)) -> 0 | M15: =INDIRECT("Match3!"&VLOOKUP($A15,match3,4,0)) -> 0 | N15: =IF(NOT(ISERROR(L15)),IF(L15>M15,"G","P"),"") -> P | O15: =IF(NOT(ISERROR(L15)),L15-M15,"0") -> 0 | P15: =INDIRECT("Match4!"&VLOOKUP($A15,match4,3,0)) -> #N/A | Q15: =INDIRECT("Match4!"&VLOOKUP($A15,match4,4,0)) -> #N/A | R15: =IF(NOT(ISERROR(P15)),IF(P15>Q15,"G","P"),"") | S15: =IF(NOT(ISERROR(P15)),P15-Q15,"0") -> 0 | T15: =INDIRECT("Match5!"&VLOOKUP($A15,match5,3,0)) -> #N/A | U15: =INDIRECT("Match5!"&VLOOKUP($A15,match5,4,0)) -> #N/A | V15: =IF(NOT(ISERROR(T15)),IF(T15>U15,"G","P"),"") | W15: =IF(NOT(ISERROR(T15)),T15-U15,"0") -> 0 | X15: =INDIRECT("Match6!"&VLOOKUP($A15,match6,3,0)) -> #N/A | Y15: =INDIRECT("Match6!"&VLOOKUP($A15,match6,4,0)) -> #N/A | Z15: =IF(NOT(ISERROR(X15)),IF(X15>Y15,"G","P"),"") | AA15: =IF(NOT(ISERROR(X15)),X15-Y15,"0") -> 0 | AB15: =COUNTIF(F15:Z15,"G") -> 0 | AC15: =G15+K15+O15+S15+W15+AA15 -> 0 | AD15: =AB15*1000+500+AC15 -> 500 | AE15: =IF(AD15=500,"",COUNTIFS(calcul_score,">"&AD15,calcul_score,"<>500")+1) | AF15: =IF(A15<>"",VLOOKUP(A15,joueurs,2,0),"") -> 0 | AG15: =AB15 -> 0 | AH15: =AC15 -> 0 | AJ15: 13 | AK15: =IF(AL15<>"",VLOOKUP(AL15,test,2,0),"") -> #N/A | AL15: =VLOOKUP(ROW()-ROW($AL$2),gagnant,2,FALSE) -> #N/A | AM15: =VLOOKUP(ROW()-ROW($AL$2),gagnant,3,FALSE) -> #N/A | AN15: =VLOOKUP(ROW()-ROW($AL$2),gagnant,4,FALSE) -> #N/A
A16: 14 | C16: 14 | D16: =INDIRECT("Match1!"&VLOOKUP($A16,match1,3,0)) -> 0 | E16: =INDIRECT("Match1!"&VLOOKUP($A16,match1,4,0)) -> 0 | F16: =IF(NOT(ISERROR(D16)),IF(D16>E16,"G","P"),"") -> P | G16: =IF(NOT(ISERROR(D16)),D16-E16,"0") -> 0 | H16: =INDIRECT("Match2!"&VLOOKUP($A16,match2,3,0)) -> 0 | I16: =INDIRECT("Match2!"&VLOOKUP($A16,match2,4,0)) -> 0 | J16: =IF(NOT(ISERROR(H16)),IF(H16>I16,"G","P"),"") -> P | K16: =IF(NOT(ISERROR(H16)),H16-I16,"0") -> 0 | L16: =INDIRECT("Match3!"&VLOOKUP($A16,match3,3,0)) -> 0 | M16: =INDIRECT("Match3!"&VLOOKUP($A16,match3,4,0)) -> 0 | N16: =IF(NOT(ISERROR(L16)),IF(L16>M16,"G","P"),"") -> P | O16: =IF(NOT(ISERROR(L16)),L16-M16,"0") -> 0 | P16: =INDIRECT("Match4!"&VLOOKUP($A16,match4,3,0)) -> #N/A | Q16: =INDIRECT("Match4!"&VLOOKUP($A16,match4,4,0)) -> #N/A | R16: =IF(NOT(ISERROR(P16)),IF(P16>Q16,"G","P"),"") | S16: =IF(NOT(ISERROR(P16)),P16-Q16,"0") -> 0 | T16: =INDIRECT("Match5!"&VLOOKUP($A16,match5,3,0)) -> #N/A | U16: =INDIRECT("Match5!"&VLOOKUP($A16,match5,4,0)) -> #N/A | V16: =IF(NOT(ISERROR(T16)),IF(T16>U16,"G","P"),"") | W16: =IF(NOT(ISERROR(T16)),T16-U16,"0") -> 0 | X16: =INDIRECT("Match6!"&VLOOKUP($A16,match6,3,0)) -> #N/A | Y16: =INDIRECT("Match6!"&VLOOKUP($A16,match6,4,0)) -> #N/A | Z16: =IF(NOT(ISERROR(X16)),IF(X16>Y16,"G","P"),"") | AA16: =IF(NOT(ISERROR(X16)),X16-Y16,"0") -> 0 | AB16: =COUNTIF(F16:Z16,"G") -> 0 | AC16: =G16+K16+O16+S16+W16+AA16 -> 0 | AD16: =AB16*1000+500+AC16 -> 500 | AE16: =IF(AD16=500,"",COUNTIFS(calcul_score,">"&AD16,calcul_score,"<>500")+1) | AF16: =IF(A16<>"",VLOOKUP(A16,joueurs,2,0),"") -> 0 | AG16: =AB16 -> 0 | AH16: =AC16 -> 0 | AJ16: 14 | AK16: =IF(AL16<>"",VLOOKUP(AL16,test,2,0),"") -> #N/A | AL16: =VLOOKUP(ROW()-ROW($AL$2),gagnant,2,FALSE) -> #N/A | AM16: =VLOOKUP(ROW()-ROW($AL$2),gagnant,3,FALSE) -> #N/A | AN16: =VLOOKUP(ROW()-ROW($AL$2),gagnant,4,FALSE) -> #N/A
A17: 15 | C17: 15 | D17: =INDIRECT("Match1!"&VLOOKUP($A17,match1,3,0)) -> 0 | E17: =INDIRECT("Match1!"&VLOOKUP($A17,match1,4,0)) -> 0 | F17: =IF(NOT(ISERROR(D17)),IF(D17>E17,"G","P"),"") -> P | G17: =IF(NOT(ISERROR(D17)),D17-E17,"0") -> 0 | H17: =INDIRECT("Match2!"&VLOOKUP($A17,match2,3,0)) -> 0 | I17: =INDIRECT("Match2!"&VLOOKUP($A17,match2,4,0)) -> 0 | J17: =IF(NOT(ISERROR(H17)),IF(H17>I17,"G","P"),"") -> P | K17: =IF(NOT(ISERROR(H17)),H17-I17,"0") -> 0 | L17: =INDIRECT("Match3!"&VLOOKUP($A17,match3,3,0)) -> 0 | M17: =INDIRECT("Match3!"&VLOOKUP($A17,match3,4,0)) -> 0 | N17: =IF(NOT(ISERROR(L17)),IF(L17>M17,"G","P"),"") -> P | O17: =IF(NOT(ISERROR(L17)),L17-M17,"0") -> 0 | P17: =INDIRECT("Match4!"&VLOOKUP($A17,match4,3,0)) -> #N/A | Q17: =INDIRECT("Match4!"&VLOOKUP($A17,match4,4,0)) -> #N/A | R17: =IF(NOT(ISERROR(P17)),IF(P17>Q17,"G","P"),"") | S17: =IF(NOT(ISERROR(P17)),P17-Q17,"0") -> 0 | T17: =INDIRECT("Match5!"&VLOOKUP($A17,match5,3,0)) -> #N/A | U17: =INDIRECT("Match5!"&VLOOKUP($A17,match5,4,0)) -> #N/A | V17: =IF(NOT(ISERROR(T17)),IF(T17>U17,"G","P"),"") | W17: =IF(NOT(ISERROR(T17)),T17-U17,"0") -> 0 | X17: =INDIRECT("Match6!"&VLOOKUP($A17,match6,3,0)) -> #N/A | Y17: =INDIRECT("Match6!"&VLOOKUP($A17,match6,4,0)) -> #N/A | Z17: =IF(NOT(ISERROR(X17)),IF(X17>Y17,"G","P"),"") | AA17: =IF(NOT(ISERROR(X17)),X17-Y17,"0") -> 0 | AB17: =COUNTIF(F17:Z17,"G") -> 0 | AC17: =G17+K17+O17+S17+W17+AA17 -> 0 | AD17: =AB17*1000+500+AC17 -> 500 | AE17: =IF(AD17=500,"",COUNTIFS(calcul_score,">"&AD17,calcul_score,"<>500")+1) | AF17: =IF(A17<>"",VLOOKUP(A17,joueurs,2,0),"") -> 0 | AG17: =AB17 -> 0 | AH17: =AC17 -> 0 | AJ17: 15 | AK17: =IF(AL17<>"",VLOOKUP(AL17,test,2,0),"") -> #N/A | AL17: =VLOOKUP(ROW()-ROW($AL$2),gagnant,2,FALSE) -> #N/A | AM17: =VLOOKUP(ROW()-ROW($AL$2),gagnant,3,FALSE) -> #N/A | AN17: =VLOOKUP(ROW()-ROW($AL$2),gagnant,4,FALSE) -> #N/A
A18: 16 | C18: 16 | D18: =INDIRECT("Match1!"&VLOOKUP($A18,match1,3,0)) -> 0 | E18: =INDIRECT("Match1!"&VLOOKUP($A18,match1,4,0)) -> 0 | F18: =IF(NOT(ISERROR(D18)),IF(D18>E18,"G","P"),"") -> P | G18: =IF(NOT(ISERROR(D18)),D18-E18,"0") -> 0 | H18: =INDIRECT("Match2!"&VLOOKUP($A18,match2,3,0)) -> 0 | I18: =INDIRECT("Match2!"&VLOOKUP($A18,match2,4,0)) -> 0 | J18: =IF(NOT(ISERROR(H18)),IF(H18>I18,"G","P"),"") -> P | K18: =IF(NOT(ISERROR(H18)),H18-I18,"0") -> 0 | L18: =INDIRECT("Match3!"&VLOOKUP($A18,match3,3,0)) -> 0 | M18: =INDIRECT("Match3!"&VLOOKUP($A18,match3,4,0)) -> 0 | N18: =IF(NOT(ISERROR(L18)),IF(L18>M18,"G","P"),"") -> P | O18: =IF(NOT(ISERROR(L18)),L18-M18,"0") -> 0 | P18: =INDIRECT("Match4!"&VLOOKUP($A18,match4,3,0)) -> #N/A | Q18: =INDIRECT("Match4!"&VLOOKUP($A18,match4,4,0)) -> #N/A | R18: =IF(NOT(ISERROR(P18)),IF(P18>Q18,"G","P"),"") | S18: =IF(NOT(ISERROR(P18)),P18-Q18,"0") -> 0 | T18: =INDIRECT("Match5!"&VLOOKUP($A18,match5,3,0)) -> #N/A | U18: =INDIRECT("Match5!"&VLOOKUP($A18,match5,4,0)) -> #N/A | V18: =IF(NOT(ISERROR(T18)),IF(T18>U18,"G","P"),"") | W18: =IF(NOT(ISERROR(T18)),T18-U18,"0") -> 0 | X18: =INDIRECT("Match6!"&VLOOKUP($A18,match6,3,0)) -> #N/A | Y18: =INDIRECT("Match6!"&VLOOKUP($A18,match6,4,0)) -> #N/A | Z18: =IF(NOT(ISERROR(X18)),IF(X18>Y18,"G","P"),"") | AA18: =IF(NOT(ISERROR(X18)),X18-Y18,"0") -> 0 | AB18: =COUNTIF(F18:Z18,"G") -> 0 | AC18: =G18+K18+O18+S18+W18+AA18 -> 0 | AD18: =AB18*1000+500+AC18 -> 500 | AE18: =IF(AD18=500,"",COUNTIFS(calcul_score,">"&AD18,calcul_score,"<>500")+1) | AF18: =IF(A18<>"",VLOOKUP(A18,joueurs,2,0),"") -> 0 | AG18: =AB18 -> 0 | AH18: =AC18 -> 0 | AJ18: 16 | AK18: =IF(AL18<>"",VLOOKUP(AL18,test,2,0),"") -> #N/A | AL18: =VLOOKUP(ROW()-ROW($AL$2),gagnant,2,FALSE) -> #N/A | AM18: =VLOOKUP(ROW()-ROW($AL$2),gagnant,3,FALSE) -> #N/A | AN18: =VLOOKUP(ROW()-ROW($AL$2),gagnant,4,FALSE) -> #N/A
... A38: 36 | C38: 36 | D38: =INDIRECT("Match1!"&VLOOKUP($A38,match1,3,0)) -> #N/A | E38: =INDIRECT("Match1!"&VLOOKUP($A38,match1,4,0)) -> #N/A | F38: =IF(NOT(ISERROR(D38)),IF(D38>E38,"G","P"),"") | G38: =IF(NOT(ISERROR(D38)),D38-E38,"0") -> 0 | H38: =INDIRECT("Match2!"&VLOOKUP($A38,match2,3,0)) -> #N/A | I38: =INDIRECT("Match2!"&VLOOKUP($A38,match2,4,0)) -> #N/A | J38: =IF(NOT(ISERROR(H38)),IF(H38>I38,"G","P"),"") | K38: =IF(NOT(ISERROR(H38)),H38-I38,"0") -> 0 | L38: =INDIRECT("Match3!"&VLOOKUP($A38,match3,3,0)) -> #N/A | M38: =INDIRECT("Match3!"&VLOOKUP($A38,match3,4,0)) -> #N/A | N38: =IF(NOT(ISERROR(L38)),IF(L38>M38,"G","P"),"") | O38: =IF(NOT(ISERROR(L38)),L38-M38,"0") -> 0 | P38: =INDIRECT("Match4!"&VLOOKUP($A38,match4,3,0)) -> #N/A | Q38: =INDIRECT("Match4!"&VLOOKUP($A38,match4,4,0)) -> #N/A | R38: =IF(NOT(ISERROR(P38)),IF(P38>Q38,"G","P"),"") | S38: =IF(NOT(ISERROR(P38)),P38-Q38,"0") -> 0 | T38: =INDIRECT("Match5!"&VLOOKUP($A38,match5,3,0)) -> #N/A | U38: =INDIRECT("Match5!"&VLOOKUP($A38,match5,4,0)) -> #N/A | V38: =IF(NOT(ISERROR(T38)),IF(T38>U38,"G","P"),"") | W38: =IF(NOT(ISERROR(T38)),T38-U38,"0") -> 0 | X38: =INDIRECT("Match6!"&VLOOKUP($A38,match6,3,0)) -> #N/A | Y38: =INDIRECT("Match6!"&VLOOKUP($A38,match6,4,0)) -> #N/A | Z38: =IF(NOT(ISERROR(X38)),IF(X38>Y38,"G","P"),"") | AA38: =IF(NOT(ISERROR(X38)),X38-Y38,"0") -> 0 | AB38: =COUNTIF(F38:Z38,"G") -> 0 | AC38: =G38+K38+O38+S38+W38+AA38 -> 0 | AD38: =AB38*1000+500+AC38 -> 500 | AE38: =IF(AD38=500,"",COUNTIFS(calcul_score,">"&AD38,calcul_score,"<>500")+1) | AF38: =IF(A38<>"",VLOOKUP(A38,joueurs,2,0),"") -> 0 | AG38: =AB38 -> 0 | AH38: =AC38 -> 0 | AJ38: 36 | AK38: =IF(AL38<>"",VLOOKUP(AL38,test,2,0),"") -> #N/A | AL38: =VLOOKUP(ROW()-ROW($AL$2),gagnant,2,FALSE) -> #N/A | AM38: =VLOOKUP(ROW()-ROW($AL$2),gagnant,3,FALSE) -> #N/A | AN38: =VLOOKUP(ROW()-ROW($AL$2),gagnant,4,FALSE) -> #N/A
A39: 37 | D39: =INDIRECT("Match1!"&VLOOKUP($A39,match1,3,0)) -> #N/A | E39: =INDIRECT("Match1!"&VLOOKUP($A39,match1,4,0)) -> #N/A | F39: =IF(NOT(ISERROR(D39)),IF(D39>E39,"G","P"),"") | G39: =IF(NOT(ISERROR(D39)),D39-E39,"0") -> 0 | H39: =INDIRECT("Match2!"&VLOOKUP($A39,match2,3,0)) -> #N/A | I39: =INDIRECT("Match2!"&VLOOKUP($A39,match2,4,0)) -> #N/A | J39: =IF(NOT(ISERROR(H39)),IF(H39>I39,"G","P"),"") | K39: =IF(NOT(ISERROR(H39)),H39-I39,"0") -> 0 | L39: =INDIRECT("Match3!"&VLOOKUP($A39,match3,3,0)) -> #N/A | M39: =INDIRECT("Match3!"&VLOOKUP($A39,match3,4,0)) -> #N/A | N39: =IF(NOT(ISERROR(L39)),IF(L39>M39,"G","P"),"") | O39: =IF(NOT(ISERROR(L39)),L39-M39,"0") -> 0 | P39: =INDIRECT("Match4!"&VLOOKUP($A39,match4,3,0)) -> #N/A | Q39: =INDIRECT("Match4!"&VLOOKUP($A39,match4,4,0)) -> #N/A | R39: =IF(NOT(ISERROR(P39)),IF(P39>Q39,"G","P"),"") | S39: =IF(NOT(ISERROR(P39)),P39-Q39,"0") -> 0 | T39: =INDIRECT("Match5!"&VLOOKUP($A39,match5,3,0)) -> #N/A | U39: =INDIRECT("Match5!"&VLOOKUP($A39,match5,4,0)) -> #N/A | V39: =IF(NOT(ISERROR(T39)),IF(T39>U39,"G","P"),"") | W39: =IF(NOT(ISERROR(T39)),T39-U39,"0") -> 0 | X39: =INDIRECT("Match6!"&VLOOKUP($A39,match6,3,0)) -> #N/A | Y39: =INDIRECT("Match6!"&VLOOKUP($A39,match6,4,0)) -> #N/A | Z39: =IF(NOT(ISERROR(X39)),IF(X39>Y39,"G","P"),"") | AA39: =IF(NOT(ISERROR(X39)),X39-Y39,"0") -> 0 | AB39: =COUNTIF(F39:Z39,"G") -> 0 | AC39: =G39+K39+O39+S39+W39+AA39 -> 0 | AD39: =AB39*1000+500+AC39 -> 500 | AE39: =IF(AD39=500,"",COUNTIFS(calcul_score,">"&AD39,calcul_score,"<>500")+1) | AF39: =IF(A39<>"",VLOOKUP(A39,joueurs,2,0),"") -> 0 | AN39: =VLOOKUP(ROW()-ROW($AL$2),gagnant,4,FALSE) -> #N/A
A40: 38 | D40: =INDIRECT("Match1!"&VLOOKUP($A40,match1,3,0)) -> #N/A | E40: =INDIRECT("Match1!"&VLOOKUP($A40,match1,4,0)) -> #N/A | F40: =IF(NOT(ISERROR(D40)),IF(D40>E40,"G","P"),"") | G40: =IF(NOT(ISERROR(D40)),D40-E40,"0") -> 0 | H40: =INDIRECT("Match2!"&VLOOKUP($A40,match2,3,0)) -> #N/A | I40: =INDIRECT("Match2!"&VLOOKUP($A40,match2,4,0)) -> #N/A | J40: =IF(NOT(ISERROR(H40)),IF(H40>I40,"G","P"),"") | K40: =IF(NOT(ISERROR(H40)),H40-I40,"0") -> 0 | L40: =INDIRECT("Match3!"&VLOOKUP($A40,match3,3,0)) -> #N/A | M40: =INDIRECT("Match3!"&VLOOKUP($A40,match3,4,0)) -> #N/A | N40: =IF(NOT(ISERROR(L40)),IF(L40>M40,"G","P"),"") | O40: =IF(NOT(ISERROR(L40)),L40-M40,"0") -> 0 | P40: =INDIRECT("Match4!"&VLOOKUP($A40,match4,3,0)) -> #N/A | Q40: =INDIRECT("Match4!"&VLOOKUP($A40,match4,4,0)) -> #N/A | R40: =IF(NOT(ISERROR(P40)),IF(P40>Q40,"G","P"),"") | S40: =IF(NOT(ISERROR(P40)),P40-Q40,"0") -> 0 | T40: =INDIRECT("Match5!"&VLOOKUP($A40,match5,3,0)) -> #N/A | U40: =INDIRECT("Match5!"&VLOOKUP($A40,match5,4,0)) -> #N/A | V40: =IF(NOT(ISERROR(T40)),IF(T40>U40,"G","P"),"") | W40: =IF(NOT(ISERROR(T40)),T40-U40,"0") -> 0 | X40: =INDIRECT("Match6!"&VLOOKUP($A40,match6,3,0)) -> #N/A | Y40: =INDIRECT("Match6!"&VLOOKUP($A40,match6,4,0)) -> #N/A | Z40: =IF(NOT(ISERROR(X40)),IF(X40>Y40,"G","P"),"") | AA40: =IF(NOT(ISERROR(X40)),X40-Y40,"0") -> 0 | AB40: =COUNTIF(F40:Z40,"G") -> 0 | AC40: =G40+K40+O40+S40+W40+AA40 -> 0 | AD40: =AB40*1000+500+AC40 -> 500 | AE40: =IF(AD40=500,"",COUNTIFS(calcul_score,">"&AD40,calcul_score,"<>500")+1) | AF40: =IF(A40<>"",VLOOKUP(A40,joueurs,2,0),"") -> 0 | AN40: =VLOOKUP(ROW()-ROW($AL$2),gagnant,4,FALSE) -> #N/A
A41: 39 | D41: =INDIRECT("Match1!"&VLOOKUP($A41,match1,3,0)) -> #N/A | E41: =INDIRECT("Match1!"&VLOOKUP($A41,match1,4,0)) -> #N/A | F41: =IF(NOT(ISERROR(D41)),IF(D41>E41,"G","P"),"") | G41: =IF(NOT(ISERROR(D41)),D41-E41,"0") -> 0 | H41: =INDIRECT("Match2!"&VLOOKUP($A41,match2,3,0)) -> #N/A | I41: =INDIRECT("Match2!"&VLOOKUP($A41,match2,4,0)) -> #N/A | J41: =IF(NOT(ISERROR(H41)),IF(H41>I41,"G","P"),"") | K41: =IF(NOT(ISERROR(H41)),H41-I41,"0") -> 0 | L41: =INDIRECT("Match3!"&VLOOKUP($A41,match3,3,0)) -> #N/A | M41: =INDIRECT("Match3!"&VLOOKUP($A41,match3,4,0)) -> #N/A | N41: =IF(NOT(ISERROR(L41)),IF(L41>M41,"G","P"),"") | O41: =IF(NOT(ISERROR(L41)),L41-M41,"0") -> 0 | P41: =INDIRECT("Match4!"&VLOOKUP($A41,match4,3,0)) -> #N/A | Q41: =INDIRECT("Match4!"&VLOOKUP($A41,match4,4,0)) -> #N/A | R41: =IF(NOT(ISERROR(P41)),IF(P41>Q41,"G","P"),"") | S41: =IF(NOT(ISERROR(P41)),P41-Q41,"0") -> 0 | T41: =INDIRECT("Match5!"&VLOOKUP($A41,match5,3,0)) -> #N/A | U41: =INDIRECT("Match5!"&VLOOKUP($A41,match5,4,0)) -> #N/A | V41: =IF(NOT(ISERROR(T41)),IF(T41>U41,"G","P"),"") | W41: =IF(NOT(ISERROR(T41)),T41-U41,"0") -> 0 | X41: =INDIRECT("Match6!"&VLOOKUP($A41,match6,3,0)) -> #N/A | Y41: =INDIRECT("Match6!"&VLOOKUP($A41,match6,4,0)) -> #N/A | Z41: =IF(NOT(ISERROR(X41)),IF(X41>Y41,"G","P"),"") | AA41: =IF(NOT(ISERROR(X41)),X41-Y41,"0") -> 0 | AB41: =COUNTIF(F41:Z41,"G") -> 0 | AC41: =G41+K41+O41+S41+W41+AA41 -> 0 | AD41: =AB41*1000+500+AC41 -> 500 | AE41: =IF(AD41=500,"",COUNTIFS(calcul_score,">"&AD41,calcul_score,"<>500")+1) | AF41: =IF(A41<>"",VLOOKUP(A41,joueurs,2,0),"") -> 0 | AN41: =VLOOKUP(ROW()-ROW($AL$2),gagnant,4,FALSE) -> #N/A
A42: 40 | D42: =INDIRECT("Match1!"&VLOOKUP($A42,match1,3,0)) -> #N/A | E42: =INDIRECT("Match1!"&VLOOKUP($A42,match1,4,0)) -> #N/A | F42: =IF(NOT(ISERROR(D42)),IF(D42>E42,"G","P"),"") | G42: =IF(NOT(ISERROR(D42)),D42-E42,"0") -> 0 | H42: =INDIRECT("Match2!"&VLOOKUP($A42,match2,3,0)) -> #N/A | I42: =INDIRECT("Match2!"&VLOOKUP($A42,match2,4,0)) -> #N/A | J42: =IF(NOT(ISERROR(H42)),IF(H42>I42,"G","P"),"") | K42: =IF(NOT(ISERROR(H42)),H42-I42,"0") -> 0 | L42: =INDIRECT("Match3!"&VLOOKUP($A42,match3,3,0)) -> #N/A | M42: =INDIRECT("Match3!"&VLOOKUP($A42,match3,4,0)) -> #N/A | N42: =IF(NOT(ISERROR(L42)),IF(L42>M42,"G","P"),"") | O42: =IF(NOT(ISERROR(L42)),L42-M42,"0") -> 0 | P42: =INDIRECT("Match4!"&VLOOKUP($A42,match4,3,0)) -> #N/A | Q42: =INDIRECT("Match4!"&VLOOKUP($A42,match4,4,0)) -> #N/A | R42: =IF(NOT(ISERROR(P42)),IF(P42>Q42,"G","P"),"") | S42: =IF(NOT(ISERROR(P42)),P42-Q42,"0") -> 0 | T42: =INDIRECT("Match5!"&VLOOKUP($A42,match5,3,0)) -> #N/A | U42: =INDIRECT("Match5!"&VLOOKUP($A42,match5,4,0)) -> #N/A | V42: =IF(NOT(ISERROR(T42)),IF(T42>U42,"G","P"),"") | W42: =IF(NOT(ISERROR(T42)),T42-U42,"0") -> 0 | X42: =INDIRECT("Match6!"&VLOOKUP($A42,match6,3,0)) -> #N/A | Y42: =INDIRECT("Match6!"&VLOOKUP($A42,match6,4,0)) -> #N/A | Z42: =IF(NOT(ISERROR(X42)),IF(X42>Y42,"G","P"),"") | AA42: =IF(NOT(ISERROR(X42)),X42-Y42,"0") -> 0 | AB42: =COUNTIF(F42:Z42,"G") -> 0 | AC42: =G42+K42+O42+S42+W42+AA42 -> 0 | AD42: =AB42*1000+500+AC42 -> 500 | AE42: =IF(AD42=500,"",COUNTIFS(calcul_score,">"&AD42,calcul_score,"<>500")+1) | AF42: =IF(A42<>"",VLOOKUP(A42,joueurs,2,0),"") -> 0 | AN42: =VLOOKUP(ROW()-ROW($AL$2),gagnant,4,FALSE) -> #N/A
A43: 41 | D43: =INDIRECT("Match1!"&VLOOKUP($A43,match1,3,0)) -> #N/A | E43: =INDIRECT("Match1!"&VLOOKUP($A43,match1,4,0)) -> #N/A | F43: =IF(NOT(ISERROR(D43)),IF(D43>E43,"G","P"),"") | G43: =IF(NOT(ISERROR(D43)),D43-E43,"0") -> 0 | H43: =INDIRECT("Match2!"&VLOOKUP($A43,match2,3,0)) -> #N/A | I43: =INDIRECT("Match2!"&VLOOKUP($A43,match2,4,0)) -> #N/A | J43: =IF(NOT(ISERROR(H43)),IF(H43>I43,"G","P"),"") | K43: =IF(NOT(ISERROR(H43)),H43-I43,"0") -> 0 | L43: =INDIRECT("Match3!"&VLOOKUP($A43,match3,3,0)) -> #N/A | M43: =INDIRECT("Match3!"&VLOOKUP($A43,match3,4,0)) -> #N/A | N43: =IF(NOT(ISERROR(L43)),IF(L43>M43,"G","P"),"") | O43: =IF(NOT(ISERROR(L43)),L43-M43,"0") -> 0 | P43: =INDIRECT("Match4!"&VLOOKUP($A43,match4,3,0)) -> #N/A | Q43: =INDIRECT("Match4!"&VLOOKUP($A43,match4,4,0)) -> #N/A | R43: =IF(NOT(ISERROR(P43)),IF(P43>Q43,"G","P"),"") | S43: =IF(NOT(ISERROR(P43)),P43-Q43,"0") -> 0 | T43: =INDIRECT("Match5!"&VLOOKUP($A43,match5,3,0)) -> #N/A | U43: =INDIRECT("Match5!"&VLOOKUP($A43,match5,4,0)) -> #N/A | V43: =IF(NOT(ISERROR(T43)),IF(T43>U43,"G","P"),"") | W43: =IF(NOT(ISERROR(T43)),T43-U43,"0") -> 0 | X43: =INDIRECT("Match6!"&VLOOKUP($A43,match6,3,0)) -> #N/A | Y43: =INDIRECT("Match6!"&VLOOKUP($A43,match6,4,0)) -> #N/A | Z43: =IF(NOT(ISERROR(X43)),IF(X43>Y43,"G","P"),"") | AA43: =IF(NOT(ISERROR(X43)),X43-Y43,"0") -> 0 | AB43: =COUNTIF(F43:Z43,"G") -> 0 | AC43: =G43+K43+O43+S43+W43+AA43 -> 0 | AD43: =AB43*1000+500+AC43 -> 500 | AE43: =IF(AD43=500,"",COUNTIFS(calcul_score,">"&AD43,calcul_score,"<>500")+1) | AF43: =IF(A43<>"",VLOOKUP(A43,joueurs,2,0),"") -> 0 | AN43: =VLOOKUP(ROW()-ROW($AL$2),gagnant,4,FALSE) -> #N/A
A44: 42 | D44: =INDIRECT("Match1!"&VLOOKUP($A44,match1,3,0)) -> #N/A | E44: =INDIRECT("Match1!"&VLOOKUP($A44,match1,4,0)) -> #N/A | F44: =IF(NOT(ISERROR(D44)),IF(D44>E44,"G","P"),"") | G44: =IF(NOT(ISERROR(D44)),D44-E44,"0") -> 0 | H44: =INDIRECT("Match2!"&VLOOKUP($A44,match2,3,0)) -> #N/A | I44: =INDIRECT("Match2!"&VLOOKUP($A44,match2,4,0)) -> #N/A | J44: =IF(NOT(ISERROR(H44)),IF(H44>I44,"G","P"),"") | K44: =IF(NOT(ISERROR(H44)),H44-I44,"0") -> 0 | L44: =INDIRECT("Match3!"&VLOOKUP($A44,match3,3,0)) -> #N/A | M44: =INDIRECT("Match3!"&VLOOKUP($A44,match3,4,0)) -> #N/A | N44: =IF(NOT(ISERROR(L44)),IF(L44>M44,"G","P"),"") | O44: =IF(NOT(ISERROR(L44)),L44-M44,"0") -> 0 | P44: =INDIRECT("Match4!"&VLOOKUP($A44,match4,3,0)) -> #N/A | Q44: =INDIRECT("Match4!"&VLOOKUP($A44,match4,4,0)) -> #N/A | R44: =IF(NOT(ISERROR(P44)),IF(P44>Q44,"G","P"),"") | S44: =IF(NOT(ISERROR(P44)),P44-Q44,"0") -> 0 | T44: =INDIRECT("Match5!"&VLOOKUP($A44,match5,3,0)) -> #N/A | U44: =INDIRECT("Match5!"&VLOOKUP($A44,match5,4,0)) -> #N/A | V44: =IF(NOT(ISERROR(T44)),IF(T44>U44,"G","P"),"") | W44: =IF(NOT(ISERROR(T44)),T44-U44,"0") -> 0 | X44: =INDIRECT("Match6!"&VLOOKUP($A44,match6,3,0)) -> #N/A | Y44: =INDIRECT("Match6!"&VLOOKUP($A44,match6,4,0)) -> #N/A | Z44: =IF(NOT(ISERROR(X44)),IF(X44>Y44,"G","P"),"") | AA44: =IF(NOT(ISERROR(X44)),X44-Y44,"0") -> 0 | AB44: =COUNTIF(F44:Z44,"G") -> 0 | AC44: =G44+K44+O44+S44+W44+AA44 -> 0 | AD44: =AB44*1000+500+AC44 -> 500 | AE44: =IF(AD44=500,"",COUNTIFS(calcul_score,">"&AD44,calcul_score,"<>500")+1) | AF44: =IF(A44<>"",VLOOKUP(A44,joueurs,2,0),"") -> 0 | AN44: =VLOOKUP(ROW()-ROW($AL$2),gagnant,4,FALSE) -> #N/A
A45: 43 | D45: =INDIRECT("Match1!"&VLOOKUP($A45,match1,3,0)) -> #N/A | E45: =INDIRECT("Match1!"&VLOOKUP($A45,match1,4,0)) -> #N/A | F45: =IF(NOT(ISERROR(D45)),IF(D45>E45,"G","P"),"") | G45: =IF(NOT(ISERROR(D45)),D45-E45,"0") -> 0 | H45: =INDIRECT("Match2!"&VLOOKUP($A45,match2,3,0)) -> #N/A | I45: =INDIRECT("Match2!"&VLOOKUP($A45,match2,4,0)) -> #N/A | J45: =IF(NOT(ISERROR(H45)),IF(H45>I45,"G","P"),"") | K45: =IF(NOT(ISERROR(H45)),H45-I45,"0") -> 0 | L45: =INDIRECT("Match3!"&VLOOKUP($A45,match3,3,0)) -> #N/A | M45: =INDIRECT("Match3!"&VLOOKUP($A45,match3,4,0)) -> #N/A | N45: =IF(NOT(ISERROR(L45)),IF(L45>M45,"G","P"),"") | O45: =IF(NOT(ISERROR(L45)),L45-M45,"0") -> 0 | P45: =INDIRECT("Match4!"&VLOOKUP($A45,match4,3,0)) -> #N/A | Q45: =INDIRECT("Match4!"&VLOOKUP($A45,match4,4,0)) -> #N/A | R45: =IF(NOT(ISERROR(P45)),IF(P45>Q45,"G","P"),"") | S45: =IF(NOT(ISERROR(P45)),P45-Q45,"0") -> 0 | T45: =INDIRECT("Match5!"&VLOOKUP($A45,match5,3,0)) -> #N/A | U45: =INDIRECT("Match5!"&VLOOKUP($A45,match5,4,0)) -> #N/A | V45: =IF(NOT(ISERROR(T45)),IF(T45>U45,"G","P"),"") | W45: =IF(NOT(ISERROR(T45)),T45-U45,"0") -> 0 | X45: =INDIRECT("Match6!"&VLOOKUP($A45,match6,3,0)) -> #N/A | Y45: =INDIRECT("Match6!"&VLOOKUP($A45,match6,4,0)) -> #N/A | Z45: =IF(NOT(ISERROR(X45)),IF(X45>Y45,"G","P"),"") | AA45: =IF(NOT(ISERROR(X45)),X45-Y45,"0") -> 0 | AB45: =COUNTIF(F45:Z45,"G") -> 0 | AC45: =G45+K45+O45+S45+W45+AA45 -> 0 | AD45: =AB45*1000+500+AC45 -> 500 | AE45: =IF(AD45=500,"",COUNTIFS(calcul_score,">"&AD45,calcul_score,"<>500")+1) | AF45: =IF(A45<>"",VLOOKUP(A45,joueurs,2,0),"") -> 0 | AN45: =VLOOKUP(ROW()-ROW($AL$2),gagnant,4,FALSE) -> #N/A
A46: 44 | D46: =INDIRECT("Match1!"&VLOOKUP($A46,match1,3,0)) -> #N/A | E46: =INDIRECT("Match1!"&VLOOKUP($A46,match1,4,0)) -> #N/A | F46: =IF(NOT(ISERROR(D46)),IF(D46>E46,"G","P"),"") | G46: =IF(NOT(ISERROR(D46)),D46-E46,"0") -> 0 | H46: =INDIRECT("Match2!"&VLOOKUP($A46,match2,3,0)) -> #N/A | I46: =INDIRECT("Match2!"&VLOOKUP($A46,match2,4,0)) -> #N/A | J46: =IF(NOT(ISERROR(H46)),IF(H46>I46,"G","P"),"") | K46: =IF(NOT(ISERROR(H46)),H46-I46,"0") -> 0 | L46: =INDIRECT("Match3!"&VLOOKUP($A46,match3,3,0)) -> #N/A | M46: =INDIRECT("Match3!"&VLOOKUP($A46,match3,4,0)) -> #N/A | N46: =IF(NOT(ISERROR(L46)),IF(L46>M46,"G","P"),"") | O46: =IF(NOT(ISERROR(L46)),L46-M46,"0") -> 0 | P46: =INDIRECT("Match4!"&VLOOKUP($A46,match4,3,0)) -> #N/A | Q46: =INDIRECT("Match4!"&VLOOKUP($A46,match4,4,0)) -> #N/A | R46: =IF(NOT(ISERROR(P46)),IF(P46>Q46,"G","P"),"") | S46: =IF(NOT(ISERROR(P46)),P46-Q46,"0") -> 0 | T46: =INDIRECT("Match5!"&VLOOKUP($A46,match5,3,0)) -> #N/A | U46: =INDIRECT("Match5!"&VLOOKUP($A46,match5,4,0)) -> #N/A | V46: =IF(NOT(ISERROR(T46)),IF(T46>U46,"G","P"),"") | W46: =IF(NOT(ISERROR(T46)),T46-U46,"0") -> 0 | X46: =INDIRECT("Match6!"&VLOOKUP($A46,match6,3,0)) -> #N/A | Y46: =INDIRECT("Match6!"&VLOOKUP($A46,match6,4,0)) -> #N/A | Z46: =IF(NOT(ISERROR(X46)),IF(X46>Y46,"G","P"),"") | AA46: =IF(NOT(ISERROR(X46)),X46-Y46,"0") -> 0 | AB46: =COUNTIF(F46:Z46,"G") -> 0 | AC46: =G46+K46+O46+S46+W46+AA46 -> 0 | AD46: =AB46*1000+500+AC46 -> 500 | AE46: =IF(AD46=500,"",COUNTIFS(calcul_score,">"&AD46,calcul_score,"<>500")+1) | AF46: =IF(A46<>"",VLOOKUP(A46,joueurs,2,0),"") -> 0 | AN46: =VLOOKUP(ROW()-ROW($AL$2),gagnant,4,FALSE) -> #N/A
A47: 45 | D47: =INDIRECT("Match1!"&VLOOKUP($A47,match1,3,0)) -> #N/A | E47: =INDIRECT("Match1!"&VLOOKUP($A47,match1,4,0)) -> #N/A | F47: =IF(NOT(ISERROR(D47)),IF(D47>E47,"G","P"),"") | G47: =IF(NOT(ISERROR(D47)),D47-E47,"0") -> 0 | H47: =INDIRECT("Match2!"&VLOOKUP($A47,match2,3,0)) -> #N/A | I47: =INDIRECT("Match2!"&VLOOKUP($A47,match2,4,0)) -> #N/A | J47: =IF(NOT(ISERROR(H47)),IF(H47>I47,"G","P"),"") | K47: =IF(NOT(ISERROR(H47)),H47-I47,"0") -> 0 | L47: =INDIRECT("Match3!"&VLOOKUP($A47,match3,3,0)) -> #N/A | M47: =INDIRECT("Match3!"&VLOOKUP($A47,match3,4,0)) -> #N/A | N47: =IF(NOT(ISERROR(L47)),IF(L47>M47,"G","P"),"") | O47: =IF(NOT(ISERROR(L47)),L47-M47,"0") -> 0 | P47: =INDIRECT("Match4!"&VLOOKUP($A47,match4,3,0)) -> #N/A | Q47: =INDIRECT("Match4!"&VLOOKUP($A47,match4,4,0)) -> #N/A | R47: =IF(NOT(ISERROR(P47)),IF(P47>Q47,"G","P"),"") | S47: =IF(NOT(ISERROR(P47)),P47-Q47,"0") -> 0 | T47: =INDIRECT("Match5!"&VLOOKUP($A47,match5,3,0)) -> #N/A | U47: =INDIRECT("Match5!"&VLOOKUP($A47,match5,4,0)) -> #N/A | V47: =IF(NOT(ISERROR(T47)),IF(T47>U47,"G","P"),"") | W47: =IF(NOT(ISERROR(T47)),T47-U47,"0") -> 0 | X47: =INDIRECT("Match6!"&VLOOKUP($A47,match6,3,0)) -> #N/A | Y47: =INDIRECT("Match6!"&VLOOKUP($A47,match6,4,0)) -> #N/A | Z47: =IF(NOT(ISERROR(X47)),IF(X47>Y47,"G","P"),"") | AA47: =IF(NOT(ISERROR(X47)),X47-Y47,"0") -> 0 | AB47: =COUNTIF(F47:Z47,"G") -> 0 | AC47: =G47+K47+O47+S47+W47+AA47 -> 0 | AD47: =AB47*1000+500+AC47 -> 500 | AE47: =IF(AD47=500,"",COUNTIFS(calcul_score,">"&AD47,calcul_score,"<>500")+1) | AF47: =IF(A47<>"",VLOOKUP(A47,joueurs,2,0),"") -> 0 | AN47: =VLOOKUP(ROW()-ROW($AL$2),gagnant,4,FALSE) -> #N/A
A48: 46 | D48: =INDIRECT("Match1!"&VLOOKUP($A48,match1,3,0)) -> #N/A | E48: =INDIRECT("Match1!"&VLOOKUP($A48,match1,4,0)) -> #N/A | F48: =IF(NOT(ISERROR(D48)),IF(D48>E48,"G","P"),"") | G48: =IF(NOT(ISERROR(D48)),D48-E48,"0") -> 0 | H48: =INDIRECT("Match2!"&VLOOKUP($A48,match2,3,0)) -> #N/A | I48: =INDIRECT("Match2!"&VLOOKUP($A48,match2,4,0)) -> #N/A | J48: =IF(NOT(ISERROR(H48)),IF(H48>I48,"G","P"),"") | K48: =IF(NOT(ISERROR(H48)),H48-I48,"0") -> 0 | L48: =INDIRECT("Match3!"&VLOOKUP($A48,match3,3,0)) -> #N/A | M48: =INDIRECT("Match3!"&VLOOKUP($A48,match3,4,0)) -> #N/A | N48: =IF(NOT(ISERROR(L48)),IF(L48>M48,"G","P"),"") | O48: =IF(NOT(ISERROR(L48)),L48-M48,"0") -> 0 | P48: =INDIRECT("Match4!"&VLOOKUP($A48,match4,3,0)) -> #N/A | Q48: =INDIRECT("Match4!"&VLOOKUP($A48,match4,4,0)) -> #N/A | R48: =IF(NOT(ISERROR(P48)),IF(P48>Q48,"G","P"),"") | S48: =IF(NOT(ISERROR(P48)),P48-Q48,"0") -> 0 | T48: =INDIRECT("Match5!"&VLOOKUP($A48,match5,3,0)) -> #N/A | U48: =INDIRECT("Match5!"&VLOOKUP($A48,match5,4,0)) -> #N/A | V48: =IF(NOT(ISERROR(T48)),IF(T48>U48,"G","P"),"") | W48: =IF(NOT(ISERROR(T48)),T48-U48,"0") -> 0 | X48: =INDIRECT("Match6!"&VLOOKUP($A48,match6,3,0)) -> #N/A | Y48: =INDIRECT("Match6!"&VLOOKUP($A48,match6,4,0)) -> #N/A | Z48: =IF(NOT(ISERROR(X48)),IF(X48>Y48,"G","P"),"") | AA48: =IF(NOT(ISERROR(X48)),X48-Y48,"0") -> 0 | AB48: =COUNTIF(F48:Z48,"G") -> 0 | AC48: =G48+K48+O48+S48+W48+AA48 -> 0 | AD48: =AB48*1000+500+AC48 -> 500 | AE48: =IF(AD48=500,"",COUNTIFS(calcul_score,">"&AD48,calcul_score,"<>500")+1) | AF48: =IF(A48<>"",VLOOKUP(A48,joueurs,2,0),"") -> 0 | AN48: =VLOOKUP(ROW()-ROW($AL$2),gagnant,4,FALSE) -> #N/A
A49: 47 | D49: =INDIRECT("Match1!"&VLOOKUP($A49,match1,3,0)) -> #N/A | E49: =INDIRECT("Match1!"&VLOOKUP($A49,match1,4,0)) -> #N/A | F49: =IF(NOT(ISERROR(D49)),IF(D49>E49,"G","P"),"") | G49: =IF(NOT(ISERROR(D49)),D49-E49,"0") -> 0 | H49: =INDIRECT("Match2!"&VLOOKUP($A49,match2,3,0)) -> #N/A | I49: =INDIRECT("Match2!"&VLOOKUP($A49,match2,4,0)) -> #N/A | J49: =IF(NOT(ISERROR(H49)),IF(H49>I49,"G","P"),"") | K49: =IF(NOT(ISERROR(H49)),H49-I49,"0") -> 0 | L49: =INDIRECT("Match3!"&VLOOKUP($A49,match3,3,0)) -> #N/A | M49: =INDIRECT("Match3!"&VLOOKUP($A49,match3,4,0)) -> #N/A | N49: =IF(NOT(ISERROR(L49)),IF(L49>M49,"G","P"),"") | O49: =IF(NOT(ISERROR(L49)),L49-M49,"0") -> 0 | P49: =INDIRECT("Match4!"&VLOOKUP($A49,match4,3,0)) -> #N/A | Q49: =INDIRECT("Match4!"&VLOOKUP($A49,match4,4,0)) -> #N/A | R49: =IF(NOT(ISERROR(P49)),IF(P49>Q49,"G","P"),"") | S49: =IF(NOT(ISERROR(P49)),P49-Q49,"0") -> 0 | T49: =INDIRECT("Match5!"&VLOOKUP($A49,match5,3,0)) -> #N/A | U49: =INDIRECT("Match5!"&VLOOKUP($A49,match5,4,0)) -> #N/A | V49: =IF(NOT(ISERROR(T49)),IF(T49>U49,"G","P"),"") | W49: =IF(NOT(ISERROR(T49)),T49-U49,"0") -> 0 | X49: =INDIRECT("Match6!"&VLOOKUP($A49,match6,3,0)) -> #N/A | Y49: =INDIRECT("Match6!"&VLOOKUP($A49,match6,4,0)) -> #N/A | Z49: =IF(NOT(ISERROR(X49)),IF(X49>Y49,"G","P"),"") | AA49: =IF(NOT(ISERROR(X49)),X49-Y49,"0") -> 0 | AB49: =COUNTIF(F49:Z49,"G") -> 0 | AC49: =G49+K49+O49+S49+W49+AA49 -> 0 | AD49: =AB49*1000+500+AC49 -> 500 | AE49: =IF(AD49=500,"",COUNTIFS(calcul_score,">"&AD49,calcul_score,"<>500")+1) | AF49: =IF(A49<>"",VLOOKUP(A49,joueurs,2,0),"") -> 0 | AN49: =VLOOKUP(ROW()-ROW($AL$2),gagnant,4,FALSE) -> #N/A
A50: 48 | D50: =INDIRECT("Match1!"&VLOOKUP($A50,match1,3,0)) -> #N/A | E50: =INDIRECT("Match1!"&VLOOKUP($A50,match1,4,0)) -> #N/A | F50: =IF(NOT(ISERROR(D50)),IF(D50>E50,"G","P"),"") | G50: =IF(NOT(ISERROR(D50)),D50-E50,"0") -> 0 | H50: =INDIRECT("Match2!"&VLOOKUP($A50,match2,3,0)) -> #N/A | I50: =INDIRECT("Match2!"&VLOOKUP($A50,match2,4,0)) -> #N/A | J50: =IF(NOT(ISERROR(H50)),IF(H50>I50,"G","P"),"") | K50: =IF(NOT(ISERROR(H50)),H50-I50,"0") -> 0 | L50: =INDIRECT("Match3!"&VLOOKUP($A50,match3,3,0)) -> #N/A | M50: =INDIRECT("Match3!"&VLOOKUP($A50,match3,4,0)) -> #N/A | N50: =IF(NOT(ISERROR(L50)),IF(L50>M50,"G","P"),"") | O50: =IF(NOT(ISERROR(L50)),L50-M50,"0") -> 0 | P50: =INDIRECT("Match4!"&VLOOKUP($A50,match4,3,0)) -> #N/A | Q50: =INDIRECT("Match4!"&VLOOKUP($A50,match4,4,0)) -> #N/A | R50: =IF(NOT(ISERROR(P50)),IF(P50>Q50,"G","P"),"") | S50: =IF(NOT(ISERROR(P50)),P50-Q50,"0") -> 0 | T50: =INDIRECT("Match5!"&VLOOKUP($A50,match5,3,0)) -> #N/A | U50: =INDIRECT("Match5!"&VLOOKUP($A50,match5,4,0)) -> #N/A | V50: =IF(NOT(ISERROR(T50)),IF(T50>U50,"G","P"),"") | W50: =IF(NOT(ISERROR(T50)),T50-U50,"0") -> 0 | X50: =INDIRECT("Match6!"&VLOOKUP($A50,match6,3,0)) -> #N/A | Y50: =INDIRECT("Match6!"&VLOOKUP($A50,match6,4,0)) -> #N/A | Z50: =IF(NOT(ISERROR(X50)),IF(X50>Y50,"G","P"),"") | AA50: =IF(NOT(ISERROR(X50)),X50-Y50,"0") -> 0 | AB50: =COUNTIF(F50:Z50,"G") -> 0 | AC50: =G50+K50+O50+S50+W50+AA50 -> 0 | AD50: =AB50*1000+500+AC50 -> 500 | AE50: =IF(AD50=500,"",COUNTIFS(calcul_score,">"&AD50,calcul_score,"<>500")+1) | AF50: =IF(A50<>"",VLOOKUP(A50,joueurs,2,0),"") -> 0 | AN50: =VLOOKUP(ROW()-ROW($AL$2),gagnant,4,FALSE) -> #N/A
... A62: 60 | D62: =INDIRECT("Match1!"&VLOOKUP($A62,match1,3,0)) -> #N/A | E62: =INDIRECT("Match1!"&VLOOKUP($A62,match1,4,0)) -> #N/A | F62: =IF(NOT(ISERROR(D62)),IF(D62>E62,"G","P"),"") | G62: =IF(NOT(ISERROR(D62)),D62-E62,"0") -> 0 | H62: =INDIRECT("Match2!"&VLOOKUP($A62,match2,3,0)) -> #N/A | I62: =INDIRECT("Match2!"&VLOOKUP($A62,match2,4,0)) -> #N/A | J62: =IF(NOT(ISERROR(H62)),IF(H62>I62,"G","P"),"") | K62: =IF(NOT(ISERROR(H62)),H62-I62,"0") -> 0 | L62: =INDIRECT("Match3!"&VLOOKUP($A62,match3,3,0)) -> #N/A | M62: =INDIRECT("Match3!"&VLOOKUP($A62,match3,4,0)) -> #N/A | N62: =IF(NOT(ISERROR(L62)),IF(L62>M62,"G","P"),"") | O62: =IF(NOT(ISERROR(L62)),L62-M62,"0") -> 0 | P62: =INDIRECT("Match4!"&VLOOKUP($A62,match4,3,0)) -> #N/A | Q62: =INDIRECT("Match4!"&VLOOKUP($A62,match4,4,0)) -> #N/A | R62: =IF(NOT(ISERROR(P62)),IF(P62>Q62,"G","P"),"") | S62: =IF(NOT(ISERROR(P62)),P62-Q62,"0") -> 0 | T62: =INDIRECT("Match5!"&VLOOKUP($A62,match5,3,0)) -> #N/A | U62: =INDIRECT("Match5!"&VLOOKUP($A62,match5,4,0)) -> #N/A | V62: =IF(NOT(ISERROR(T62)),IF(T62>U62,"G","P"),"") | W62: =IF(NOT(ISERROR(T62)),T62-U62,"0") -> 0 | X62: =INDIRECT("Match6!"&VLOOKUP($A62,match6,3,0)) -> #N/A | Y62: =INDIRECT("Match6!"&VLOOKUP($A62,match6,4,0)) -> #N/A | Z62: =IF(NOT(ISERROR(X62)),IF(X62>Y62,"G","P"),"") | AA62: =IF(NOT(ISERROR(X62)),X62-Y62,"0") -> 0 | AB62: =COUNTIF(F62:Z62,"G") -> 0 | AC62: =G62+K62+O62+S62+W62+AA62 -> 0 | AD62: =AB62*1000+500+AC62 -> 500 | AE62: =IF(AD62=500,"",COUNTIFS(calcul_score,">"&AD62,calcul_score,"<>500")+1) | AF62: =IF(A62<>"",VLOOKUP(A62,joueurs,2,0),"") -> 0 | AN62: =VLOOKUP(ROW()-ROW($AL$2),gagnant,4,FALSE) -> #N/A
AF63: =IF(A63<>"",VLOOKUP(A63,joueurs,2,0),"") | AN63: =VLOOKUP(ROW()-ROW($AL$2),gagnant,4,FALSE) -> #N/A

Sheet Match1
A1: N° | B1: Ref. J. | C1: Son score | D1: Score adv. | E1: Concours à la mêlée
A2: =H5 -> 1 | B2: =CELL("adresse",I5) -> $I$5 | C2: =CELL("adresse",H8) -> $H$8 | D2: =CELL("adresse",K8) -> $K$8 | H2: 1er MATCH
A3: =H6 -> 2 | B3: =CELL("adresse",I6) -> $I$6 | C3: =CELL("adresse",H8) -> $H$8 | D3: =CELL("adresse",K8) -> $K$8 | E3: 1 | F3: =Equipes!B3 -> greg
A4: =H7 -> 0 | B4: =CELL("adresse",I7) -> $I$7 | C4: =CELL("adresse",H8) -> $H$8 | D4: =CELL("adresse",K8) -> $K$8 | E4: 2 | F4: =Equipes!B4 -> simon | H4: Terrain 1 | N4: Terrain 2
A5: =K5 -> 3 | B5: =CELL("adresse",L5) -> $L$5 | C5: =CELL("adresse",K8) -> $K$8 | D5: =CELL("adresse",H8) -> $H$8 | E5: 3 | F5: =Equipes!B5 -> nat | H5: 1 | I5: =IF(H5<>"",VLOOKUP(H5,joueurs,2,0),"") -> greg | J5: Contre | K5: 3 | L5: =IF(K5<>"",VLOOKUP(K5,joueurs,2,0),"") -> nat | N5: 5 | O5: =IF(N5<>"",VLOOKUP(N5,joueurs,2,0),"") -> 0 | P5: Contre | Q5: 7 | R5: =IF(Q5<>"",VLOOKUP(Q5,joueurs,2,0),"") -> 0
A6: =K6 -> 4 | B6: =CELL("adresse",L6) -> $L$6 | C6: =CELL("adresse",K8) -> $K$8 | D6: =CELL("adresse",H8) -> $H$8 | E6: 4 | F6: =Equipes!B6 -> mickey | H6: 2 | I6: =IF(H6<>"",VLOOKUP(H6,joueurs,2,0),"") -> simon | K6: 4 | L6: =IF(K6<>"",VLOOKUP(K6,joueurs,2,0),"") -> mickey | N6: 6 | O6: =IF(N6<>"",VLOOKUP(N6,joueurs,2,0),"") -> 0 | Q6: 8 | R6: =IF(Q6<>"",VLOOKUP(Q6,joueurs,2,0),"") -> 0
A7: =K7 -> 0 | B7: =CELL("adresse",L7) -> $L$7 | C7: =CELL("adresse",K8) -> $K$8 | D7: =CELL("adresse",H8) -> $H$8 | E7: 5 | F7: =Equipes!B7 -> 0 | I7: =IF(H7<>"",VLOOKUP(H7,joueurs,2,0),"") | L7: =IF(K7<>"",VLOOKUP(K7,joueurs,2,0),"") | O7: =IF(N7<>"",VLOOKUP(N7,joueurs,2,0),"") | R7: =IF(Q7<>"",VLOOKUP(Q7,joueurs,2,0),"")
A8: =N5 -> 5 | B8: =CELL("adresse",O5) -> $O$5 | C8: =CELL("adresse",N8) -> $N$8 | D8: =CELL("adresse",Q8) -> $Q$8 | E8: 6 | F8: =Equipes!B8 -> 0 | H8: 13 | J8: Score | K8: 10 | P8: Score
A9: =N6 -> 6 | B9: =CELL("adresse",O6) -> $O$6 | C9: =CELL("adresse",N8) -> $N$8 | D9: =CELL("adresse",Q8) -> $Q$8 | E9: 7 | F9: =Equipes!B9 -> 0
A10: =N7 -> 0 | B10: =CELL("adresse",O7) -> $O$7 | C10: =CELL("adresse",N8) -> $N$8 | D10: =CELL("adresse",Q8) -> $Q$8 | E10: 8 | F10: =Equipes!B10 -> 0 | H10: Terrain 3 | N10: Terrain 4
A11: =Q5 -> 7 | B11: =CELL("adresse",R5) -> $R$5 | C11: =CELL("adresse",Q8) -> $Q$8 | D11: =CELL("adresse",N8) -> $N$8 | E11: 9 | F11: =Equipes!B11 -> 0 | H11: 9 | I11: =IF(H11<>"",VLOOKUP(H11,joueurs,2,0),"") -> 0 | J11: Contre | K11: 11 | L11: =IF(K11<>"",VLOOKUP(K11,joueurs,2,0),"") -> 0 | N11: 13 | O11: =IF(N11<>"",VLOOKUP(N11,joueurs,2,0),"") -> 0 | P11: Contre | Q11: 15 | R11: =IF(Q11<>"",VLOOKUP(Q11,joueurs,2,0),"") -> 0
A12: =Q6 -> 8 | B12: =CELL("adresse",R6) -> $R$6 | C12: =CELL("adresse",Q8) -> $Q$8 | D12: =CELL("adresse",N8) -> $N$8 | E12: 10 | F12: =Equipes!B12 -> 0 | H12: 10 | I12: =IF(H12<>"",VLOOKUP(H12,joueurs,2,0),"") -> 0 | K12: 12 | L12: =IF(K12<>"",VLOOKUP(K12,joueurs,2,0),"") -> 0 | N12: 14 | O12: =IF(N12<>"",VLOOKUP(N12,joueurs,2,0),"") -> 0 | Q12: 16 | R12: =IF(Q12<>"",VLOOKUP(Q12,joueurs,2,0),"") -> 0
A13: =Q7 -> 0 | B13: =CELL("adresse",R7) -> $R$7 | C13: =CELL("adresse",Q8) -> $Q$8 | D13: =CELL("adresse",N8) -> $N$8 | E13: 11 | F13: =Equipes!B13 -> 0 | I13: =IF(H13<>"",VLOOKUP(H13,joueurs,2,0),"") | L13: =IF(K13<>"",VLOOKUP(K13,joueurs,2,0),"") | O13: =IF(N13<>"",VLOOKUP(N13,joueurs,2,0),"") | R13: =IF(Q13<>"",VLOOKUP(Q13,joueurs,2,0),"")
A14: =H11 -> 9 | B14: =CELL("adresse",I11) -> $I$11 | C14: =CELL("adresse",H14) -> $H$14 | D14: =CELL("adresse",K14) -> $K$14 | E14: 12 | F14: =Equipes!B14 -> 0 | J14: Score | P14: Score
A15: =H12 -> 10 | B15: =CELL("adresse",I12) -> $I$12 | C15: =CELL("adresse",H14) -> $H$14 | D15: =CELL("adresse",K14) -> $K$14 | E15: 13 | F15: =Equipes!B15 -> 0
A16: =H13 -> 0 | B16: =CELL("adresse",I13) -> $I$13 | C16: =CELL("adresse",H14) -> $H$14 | D16: =CELL("adresse",K14) -> $K$14 | E16: 14 | F16: =Equipes!B16 -> 0 | H16: Terrain 5 | N16: Terrain 6
A17: =K11 -> 11 | B17: =CELL("adresse",L11) -> $L$11 | C17: =CELL("adresse",K14) -> $K$14 | D17: =CELL("adresse",H14) -> $H$14 | E17: 15 | F17: =Equipes!B17 -> 0 | H17: 17 | I17: =IF(H17<>"",VLOOKUP(H17,joueurs,2,0),"") -> 0 | J17: Contre | K17: 19 | L17: =IF(K17<>"",VLOOKUP(K17,joueurs,2,0),"") -> 0 | N17: 21 | O17: =IF(N17<>"",VLOOKUP(N17,joueurs,2,0),"") -> 0 | P17: Contre | Q17: 23 | R17: =IF(Q17<>"",VLOOKUP(Q17,joueurs,2,0),"") -> 0
A18: =K12 -> 12 | B18: =CELL("adresse",L12) -> $L$12 | C18: =CELL("adresse",K14) -> $K$14 | D18: =CELL("adresse",H14) -> $H$14 | E18: 16 | F18: =Equipes!B18 -> 0 | H18: 18 | I18: =IF(H18<>"",VLOOKUP(H18,joueurs,2,0),"") -> 0 | K18: 20 | L18: =IF(K18<>"",VLOOKUP(K18,joueurs,2,0),"") -> 0 | N18: 22 | O18: =IF(N18<>"",VLOOKUP(N18,joueurs,2,0),"") -> 0 | Q18: 24 | R18: =IF(Q18<>"",VLOOKUP(Q18,joueurs,2,0),"") -> 0
A19: =K13 -> 0 | B19: =CELL("adresse",L13) -> $L$13 | C19: =CELL("adresse",K14) -> $K$14 | D19: =CELL("adresse",H14) -> $H$14 | E19: 17 | F19: =Equipes!B19 -> 0 | I19: =IF(H19<>"",VLOOKUP(H19,joueurs,2,0),"") | L19: =IF(K19<>"",VLOOKUP(K19,joueurs,2,0),"") | O19: =IF(N19<>"",VLOOKUP(N19,joueurs,2,0),"") | R19: =IF(Q19<>"",VLOOKUP(Q19,joueurs,2,0),"")
A20: =N11 -> 13 | B20: =CELL("adresse",O11) -> $O$11 | C20: =CELL("adresse",N14) -> $N$14 | D20: =CELL("adresse",Q14) -> $Q$14 | E20: 18 | F20: =Equipes!B20 -> 0 | J20: Score | P20: Score
A21: =N12 -> 14 | B21: =CELL("adresse",O12) -> $O$12 | C21: =CELL("adresse",N14) -> $N$14 | D21: =CELL("adresse",Q14) -> $Q$14 | E21: 19 | F21: =Equipes!B21 -> 0
A22: =N13 -> 0 | B22: =CELL("adresse",O13) -> $O$13 | C22: =CELL("adresse",N14) -> $N$14 | D22: =CELL("adresse",Q14) -> $Q$14 | E22: 20 | F22: =Equipes!B22 -> 0 | H22: Terrain 7 | N22: Terrain 8
A23: =Q11 -> 15 | B23: =CELL("adresse",R11) -> $R$11 | C23: =CELL("adresse",Q14) -> $Q$14 | D23: =CELL("adresse",N14) -> $N$14 | E23: 21 | F23: =Equipes!B23 -> 0 | I23: =IF(H23<>"",VLOOKUP(H23,joueurs,2,0),"") | J23: Contre | L23: =IF(K23<>"",VLOOKUP(K23,joueurs,2,0),"") | O23: =IF(N23<>"",VLOOKUP(N23,joueurs,2,0),"") | P23: Contre | R23: =IF(Q23<>"",VLOOKUP(Q23,joueurs,2,0),"")
A24: =Q12 -> 16 | B24: =CELL("adresse",R12) -> $R$12 | C24: =CELL("adresse",Q14) -> $Q$14 | D24: =CELL("adresse",N14) -> $N$14 | E24: 22 | F24: =Equipes!B24 -> 0 | I24: =IF(H24<>"",VLOOKUP(H24,joueurs,2,0),"") | L24: =IF(K24<>"",VLOOKUP(K24,joueurs,2,0),"") | O24: =IF(N24<>"",VLOOKUP(N24,joueurs,2,0),"") | R24: =IF(Q24<>"",VLOOKUP(Q24,joueurs,2,0),"")
A25: =Q13 -> 0 | B25: =CELL("adresse",R13) -> $R$13 | C25: =CELL("adresse",Q14) -> $Q$14 | D25: =CELL("adresse",N14) -> $N$14 | E25: 23 | F25: =Equipes!B25 -> 0 | I25: =IF(H25<>"",VLOOKUP(H25,joueurs,2,0),"") | L25: =IF(K25<>"",VLOOKUP(K25,joueurs,2,0),"") | O25: =IF(N25<>"",VLOOKUP(N25,joueurs,2,0),"") | R25: =IF(Q25<>"",VLOOKUP(Q25,joueurs,2,0),"")
A26: =H17 -> 17 | B26: =CELL("adresse",I17) -> $I$17 | C26: =CELL("adresse",H20) -> $H$20 | D26: =CELL("adresse",K20) -> $K$20 | E26: 24 | F26: =Equipes!B26 -> 0 | J26: Score | P26: Score
A27: =H18 -> 18 | B27: =CELL("adresse",I18) -> $I$18 | C27: =CELL("adresse",H20) -> $H$20 | D27: =CELL("adresse",K20) -> $K$20 | E27: 25 | F27: =Equipes!B27 -> 0
A28: =H19 -> 0 | B28: =CELL("adresse",I19) -> $I$19 | C28: =CELL("adresse",H20) -> $H$20 | D28: =CELL("adresse",K20) -> $K$20 | E28: 26 | F28: =Equipes!B28 -> 0 | H28: Terrain 9 | N28: Terrain 10
A29: =K17 -> 19 | B29: =CELL("adresse",L17) -> $L$17 | C29: =CELL("adresse",K20) -> $K$20 | D29: =CELL("adresse",H20) -> $H$20 | E29: 27 | F29: =Equipes!B29 -> 0 | I29: =IF(H29<>"",VLOOKUP(H29,joueurs,2,0),"") | J29: Contre | L29: =IF(K29<>"",VLOOKUP(K29,joueurs,2,0),"") | O29: =IF(N29<>"",VLOOKUP(N29,joueurs,2,0),"") | P29: Contre | R29: =IF(Q29<>"",VLOOKUP(Q29,joueurs,2,0),"")
A30: =K18 -> 20 | B30: =CELL("adresse",L18) -> $L$18 | C30: =CELL("adresse",K20) -> $K$20 | D30: =CELL("adresse",H20) -> $H$20 | E30: 28 | F30: =Equipes!B30 -> 0 | I30: =IF(H30<>"",VLOOKUP(H30,joueurs,2,0),"") | L30: =IF(K30<>"",VLOOKUP(K30,joueurs,2,0),"") | O30: =IF(N30<>"",VLOOKUP(N30,joueurs,2,0),"") | R30: =IF(Q30<>"",VLOOKUP(Q30,joueurs,2,0),"")
A31: =K19 -> 0 | B31: =CELL("adresse",L19) -> $L$19 | C31: =CELL("adresse",K20) -> $K$20 | D31: =CELL("adresse",H20) -> $H$20 | E31: 29 | F31: =Equipes!B31 -> 0 | I31: =IF(H31<>"",VLOOKUP(H31,joueurs,2,0),"") | L31: =IF(K31<>"",VLOOKUP(K31,joueurs,2,0),"") | O31: =IF(N31<>"",VLOOKUP(N31,joueurs,2,0),"") | R31: =IF(Q31<>"",VLOOKUP(Q31,joueurs,2,0),"")
A32: =N17 -> 21 | B32: =CELL("adresse",O17) -> $O$17 | C32: =CELL("adresse",N20) -> $N$20 | D32: =CELL("adresse",Q20) -> $Q$20 | E32: 30 | F32: =Equipes!B32 -> 0 | J32: Score | P32: Score
A33: =N18 -> 22 | B33: =CELL("adresse",O18) -> $O$18 | C33: =CELL("adresse",N20) -> $N$20 | D33: =CELL("adresse",Q20) -> $Q$20 | E33: 31 | F33: =Equipes!B33 -> 0
A34: =N19 -> 0 | B34: =CELL("adresse",O19) -> $O$19 | C34: =CELL("adresse",N20) -> $N$20 | D34: =CELL("adresse",Q20) -> $Q$20 | E34: 32 | F34: =Equipes!B34 -> 0
A35: =Q17 -> 23 | B35: =CELL("adresse",R17) -> $R$17 | C35: =CELL("adresse",Q20) -> $Q$20 | D35: =CELL("adresse",N20) -> $N$20 | E35: 33 | F35: =Equipes!B35 -> 0
A36: =Q18 -> 24 | B36: =CELL("adresse",R18) -> $R$18 | C36: =CELL("adresse",Q20) -> $Q$20 | D36: =CELL("adresse",N20) -> $N$20 | E36: 34 | F36: =Equipes!B36 -> 0
A37: =Q19 -> 0 | B37: =CELL("adresse",R19) -> $R$19 | C37: =CELL("adresse",Q20) -> $Q$20 | D37: =CELL("adresse",N20) -> $N$20 | E37: 35 | F37: =Equipes!B37 -> 0
A38: =H23 -> 0 | B38: =CELL("adresse",I23) -> $I$23 | C38: =CELL("adresse",H26) -> $H$26 | D38: =CELL("adresse",K26) -> $K$26 | E38: 36 | F38: =Equipes!B38 -> 0
A39: =H24 -> 0 | B39: =CELL("adresse",I24) -> $I$24 | C39: =CELL("adresse",H26) -> $H$26 | D39: =CELL("adresse",K26) -> $K$26 | E39: 37 | F39: =Equipes!B39 -> 0
A40: =H25 -> 0 | B40: =CELL("adresse",I25) -> $I$25 | C40: =CELL("adresse",H26) -> $H$26 | D40: =CELL("adresse",K26) -> $K$26 | E40: 38 | F40: =Equipes!B40 -> 0
A41: =K23 -> 0 | B41: =CELL("adresse",L23) -> $L$23 | C41: =CELL("adresse",K26) -> $K$26 | D41: =CELL("adresse",H26) -> $H$26 | E41: 39 | F41: =Equipes!B41 -> 0
A42: =K24 -> 0 | B42: =CELL("adresse",L24) -> $L$24 | C42: =CELL("adresse",K26) -> $K$26 | D42: =CELL("adresse",H26) -> $H$26 | E42: 40 | F42: =Equipes!B42 -> 0
A43: =K25 -> 0 | B43: =CELL("adresse",L25) -> $L$25 | C43: =CELL("adresse",K26) -> $K$26 | D43: =CELL("adresse",H26) -> $H$26 | E43: 41 | F43: =Equipes!B43 -> 0
A44: =N23 -> 0 | B44: =CELL("adresse",O23) -> $O$23 | C44: =CELL("adresse",N26) -> $N$26 | D44: =CELL("adresse",Q26) -> $Q$26 | E44: 42 | F44: =Equipes!B44 -> 0
A45: =N24 -> 0 | B45: =CELL("adresse",O24) -> $O$24 | C45: =CELL("adresse",N26) -> $N$26 | D45: =CELL("adresse",Q26) -> $Q$26 | E45: 43 | F45: =Equipes!B45 -> 0
A46: =N25 -> 0 | B46: =CELL("adresse",O25) -> $O$25 | C46: =CELL("adresse",N26) -> $N$26 | D46: =CELL("adresse",Q26) -> $Q$26 | E46: 44 | F46: =Equipes!B46 -> 0
A47: =Q23 -> 0 | B47: =CELL("adresse",R23) -> $R$23 | C47: =CELL("adresse",Q26) -> $Q$26 | D47: =CELL("adresse",N26) -> $N$26 | E47: 45 | F47: =Equipes!B47 -> 0
A48: =Q24 -> 0 | B48: =CELL("adresse",R24) -> $R$24 | C48: =CELL("adresse",Q26) -> $Q$26 | D48: =CELL("adresse",N26) -> $N$26 | E48: 46 | F48: =Equipes!B48 -> 0
A49: =Q25 -> 0 | B49: =CELL("adresse",R25) -> $R$25 | C49: =CELL("adresse",Q26) -> $Q$26 | D49: =CELL("adresse",N26) -> $N$26 | E49: 47 | F49: =Equipes!B49 -> 0
A50: =H29 -> 0 | B50: =CELL("adresse",I29) -> $I$29 | C50: =CELL("adresse",H32) -> $H$32 | D50: =CELL("adresse",K32) -> $K$32 | E50: 48 | F50: =Equipes!B50 -> 0
A51: =H30 -> 0 | B51: =CELL("adresse",I30) -> $I$30 | C51: =CELL("adresse",H32) -> $H$32 | D51: =CELL("adresse",K32) -> $K$32 | E51: 49 | F51: =Equipes!B51 -> 0
A52: =H31 -> 0 | B52: =CELL("adresse",I31) -> $I$31 | C52: =CELL("adresse",H32) -> $H$32 | D52: =CELL("adresse",K32) -> $K$32 | E52: 50 | F52: =Equipes!B52 -> 0
A53: =K29 -> 0 | B53: =CELL("adresse",L29) -> $L$29 | C53: =CELL("adresse",K32) -> $K$32 | D53: =CELL("adresse",H32) -> $H$32 | E53: 51 | F53: =Equipes!B53 -> 0
A54: =K30 -> 0 | B54: =CELL("adresse",L30) -> $L$30 | C54: =CELL("adresse",K32) -> $K$32 | D54: =CELL("adresse",H32) -> $H$32 | E54: 52 | F54: =Equipes!B54 -> 0
A55: =K31 -> 0 | B55: =CELL("adresse",L31) -> $L$31 | C55: =CELL("adresse",K32) -> $K$32 | D55: =CELL("adresse",H32) -> $H$32 | E55: 53 | F55: =Equipes!B55 -> 0
A56: =N29 -> 0 | B56: =CELL("adresse",O29) -> $O$29 | C56: =CELL("adresse",N32) -> $N$32 | D56: =CELL("adresse",Q32) -> $Q$32 | E56: 54 | F56: =Equipes!B56 -> 0
A57: =N30 -> 0 | B57: =CELL("adresse",O30) -> $O$30 | C57: =CELL("adresse",N32) -> $N$32 | D57: =CELL("adresse",Q32) -> $Q$32 | E57: 55 | F57: =Equipes!B57 -> 0
A58: =N31 -> 0 | B58: =CELL("adresse",O31) -> $O$31 | C58: =CELL("adresse",N32) -> $N$32 | D58: =CELL("adresse",Q32) -> $Q$32 | E58: 56 | F58: =Equipes!B58 -> 0
A59: =Q29 -> 0 | B59: =CELL("adresse",R29) -> $R$29 | C59: =CELL("adresse",Q32) -> $Q$32 | D59: =CELL("adresse",N32) -> $N$32 | E59: 57 | F59: =Equipes!B59 -> 0
A60: =Q30 -> 0 | B60: =CELL("adresse",R30) -> $R$30 | C60: =CELL("adresse",Q32) -> $Q$32 | D60: =CELL("adresse",N32) -> $N$32 | E60: 58 | F60: =Equipes!B60 -> 0
A61: =Q31 -> 0 | B61: =CELL("adresse",R31) -> $R$31 | C61: =CELL("adresse",Q32) -> $Q$32 | D61: =CELL("adresse",N32) -> $N$32 | E61: 59 | F61: =Equipes!B61 -> 0
E62: 60 | F62: =Equipes!B62 -> 0

Sheet Match2
A1: N° | B1: Ref. J. | C1: Son score | D1: Score adv. | E1: Concours à la mêlée
A2: =H5 -> 1 | B2: =CELL("adresse",I5) -> $I$5 | C2: =CELL("adresse",H8) -> $H$8 | D2: =CELL("adresse",K8) -> $K$8 | H2: 2ème MATCH
A3: =H6 -> 2 | B3: =CELL("adresse",I6) -> $I$6 | C3: =CELL("adresse",H8) -> $H$8 | D3: =CELL("adresse",K8) -> $K$8 | E3: 1 | F3: =Equipes!B3 -> greg
A4: =H7 -> 0 | B4: =CELL("adresse",I7) -> $I$7 | C4: =CELL("adresse",H8) -> $H$8 | D4: =CELL("adresse",K8) -> $K$8 | E4: 2 | F4: =Equipes!B4 -> simon | H4: Terrain 1 | N4: Terrain 2
A5: =K5 -> 3 | B5: =CELL("adresse",L5) -> $L$5 | C5: =CELL("adresse",K8) -> $K$8 | D5: =CELL("adresse",H8) -> $H$8 | E5: 3 | F5: =Equipes!B5 -> nat | H5: 1 | I5: =IF(H5<>"",VLOOKUP(H5,joueurs,2,0),"") -> greg | J5: Contre | K5: 3 | L5: =IF(K5<>"",VLOOKUP(K5,joueurs,2,0),"") -> nat | N5: 5 | O5: =IF(N5<>"",VLOOKUP(N5,joueurs,2,0),"") -> 0 | P5: Contre | Q5: 7 | R5: =IF(Q5<>"",VLOOKUP(Q5,joueurs,2,0),"") -> 0
A6: =K6 -> 4 | B6: =CELL("adresse",L6) -> $L$6 | C6: =CELL("adresse",K8) -> $K$8 | D6: =CELL("adresse",H8) -> $H$8 | E6: 4 | F6: =Equipes!B6 -> mickey | H6: 2 | I6: =IF(H6<>"",VLOOKUP(H6,joueurs,2,0),"") -> simon | K6: 4 | L6: =IF(K6<>"",VLOOKUP(K6,joueurs,2,0),"") -> mickey | N6: 6 | O6: =IF(N6<>"",VLOOKUP(N6,joueurs,2,0),"") -> 0 | Q6: 8 | R6: =IF(Q6<>"",VLOOKUP(Q6,joueurs,2,0),"") -> 0
A7: =K7 -> 0 | B7: =CELL("adresse",L7) -> $L$7 | C7: =CELL("adresse",K8) -> $K$8 | D7: =CELL("adresse",H8) -> $H$8 | E7: 5 | F7: =Equipes!B7 -> 0 | I7: =IF(H7<>"",VLOOKUP(H7,joueurs,2,0),"") | L7: =IF(K7<>"",VLOOKUP(K7,joueurs,2,0),"") | O7: =IF(N7<>"",VLOOKUP(N7,joueurs,2,0),"") | R7: =IF(Q7<>"",VLOOKUP(Q7,joueurs,2,0),"")
A8: =N5 -> 5 | B8: =CELL("adresse",O5) -> $O$5 | C8: =CELL("adresse",N8) -> $N$8 | D8: =CELL("adresse",Q8) -> $Q$8 | E8: 6 | F8: =Equipes!B8 -> 0 | J8: Score | P8: Score
A9: =N6 -> 6 | B9: =CELL("adresse",O6) -> $O$6 | C9: =CELL("adresse",N8) -> $N$8 | D9: =CELL("adresse",Q8) -> $Q$8 | E9: 7 | F9: =Equipes!B9 -> 0
A10: =N7 -> 0 | B10: =CELL("adresse",O7) -> $O$7 | C10: =CELL("adresse",N8) -> $N$8 | D10: =CELL("adresse",Q8) -> $Q$8 | E10: 8 | F10: =Equipes!B10 -> 0 | H10: Terrain 3 | N10: Terrain 4
A11: =Q5 -> 7 | B11: =CELL("adresse",R5) -> $R$5 | C11: =CELL("adresse",Q8) -> $Q$8 | D11: =CELL("adresse",N8) -> $N$8 | E11: 9 | F11: =Equipes!B11 -> 0 | H11: 9 | I11: =IF(H11<>"",VLOOKUP(H11,joueurs,2,0),"") -> 0 | J11: Contre | K11: 11 | L11: =IF(K11<>"",VLOOKUP(K11,joueurs,2,0),"") -> 0 | N11: 13 | O11: =IF(N11<>"",VLOOKUP(N11,joueurs,2,0),"") -> 0 | P11: Contre | Q11: 15 | R11: =IF(Q11<>"",VLOOKUP(Q11,joueurs,2,0),"") -> 0
A12: =Q6 -> 8 | B12: =CELL("adresse",R6) -> $R$6 | C12: =CELL("adresse",Q8) -> $Q$8 | D12: =CELL("adresse",N8) -> $N$8 | E12: 10 | F12: =Equipes!B12 -> 0 | H12: 10 | I12: =IF(H12<>"",VLOOKUP(H12,joueurs,2,0),"") -> 0 | K12: 12 | L12: =IF(K12<>"",VLOOKUP(K12,joueurs,2,0),"") -> 0 | N12: 14 | O12: =IF(N12<>"",VLOOKUP(N12,joueurs,2,0),"") -> 0 | Q12: 16 | R12: =IF(Q12<>"",VLOOKUP(Q12,joueurs,2,0),"") -> 0
A13: =Q7 -> 0 | B13: =CELL("adresse",R7) -> $R$7 | C13: =CELL("adresse",Q8) -> $Q$8 | D13: =CELL("adresse",N8) -> $N$8 | E13: 11 | F13: =Equipes!B13 -> 0 | I13: =IF(H13<>"",VLOOKUP(H13,joueurs,2,0),"") | L13: =IF(K13<>"",VLOOKUP(K13,joueurs,2,0),"") | O13: =IF(N13<>"",VLOOKUP(N13,joueurs,2,0),"") | R13: =IF(Q13<>"",VLOOKUP(Q13,joueurs,2,0),"")
A14: =H11 -> 9 | B14: =CELL("adresse",I11) -> $I$11 | C14: =CELL("adresse",H14) -> $H$14 | D14: =CELL("adresse",K14) -> $K$14 | E14: 12 | F14: =Equipes!B14 -> 0 | J14: Score | P14: Score
A15: =H12 -> 10 | B15: =CELL("adresse",I12) -> $I$12 | C15: =CELL("adresse",H14) -> $H$14 | D15: =CELL("adresse",K14) -> $K$14 | E15: 13 | F15: =Equipes!B15 -> 0
A16: =H13 -> 0 | B16: =CELL("adresse",I13) -> $I$13 | C16: =CELL("adresse",H14) -> $H$14 | D16: =CELL("adresse",K14) -> $K$14 | E16: 14 | F16: =Equipes!B16 -> 0 | H16: Terrain 5 | N16: Terrain 6
A17: =K11 -> 11 | B17: =CELL("adresse",L11) -> $L$11 | C17: =CELL("adresse",K14) -> $K$14 | D17: =CELL("adresse",H14) -> $H$14 | E17: 15 | F17: =Equipes!B17 -> 0 | H17: 17 | I17: =IF(H17<>"",VLOOKUP(H17,joueurs,2,0),"") -> 0 | J17: Contre | K17: 19 | L17: =IF(K17<>"",VLOOKUP(K17,joueurs,2,0),"") -> 0 | N17: 21 | O17: =IF(N17<>"",VLOOKUP(N17,joueurs,2,0),"") -> 0 | P17: Contre | Q17: 23 | R17: =IF(Q17<>"",VLOOKUP(Q17,joueurs,2,0),"") -> 0
A18: =K12 -> 12 | B18: =CELL("adresse",L12) -> $L$12 | C18: =CELL("adresse",K14) -> $K$14 | D18: =CELL("adresse",H14) -> $H$14 | E18: 16 | F18: =Equipes!B18 -> 0 | H18: 18 | I18: =IF(H18<>"",VLOOKUP(H18,joueurs,2,0),"") -> 0 | K18: 20 | L18: =IF(K18<>"",VLOOKUP(K18,joueurs,2,0),"") -> 0 | N18: 22 | O18: =IF(N18<>"",VLOOKUP(N18,joueurs,2,0),"") -> 0 | Q18: 24 | R18: =IF(Q18<>"",VLOOKUP(Q18,joueurs,2,0),"") -> 0
A19: =K13 -> 0 | B19: =CELL("adresse",L13) -> $L$13 | C19: =CELL("adresse",K14) -> $K$14 | D19: =CELL("adresse",H14) -> $H$14 | E19: 17 | F19: =Equipes!B19 -> 0 | I19: =IF(H19<>"",VLOOKUP(H19,joueurs,2,0),"") | L19: =IF(K19<>"",VLOOKUP(K19,joueurs,2,0),"") | O19: =IF(N19<>"",VLOOKUP(N19,joueurs,2,0),"") | R19: =IF(Q19<>"",VLOOKUP(Q19,joueurs,2,0),"")
A20: =N11 -> 13 | B20: =CELL("adresse",O11) -> $O$11 | C20: =CELL("adresse",N14) -> $N$14 | D20: =CELL("adresse",Q14) -> $Q$14 | E20: 18 | F20: =Equipes!B20 -> 0 | J20: Score | P20: Score
A21: =N12 -> 14 | B21: =CELL("adresse",O12) -> $O$12 | C21: =CELL("adresse",N14) -> $N$14 | D21: =CELL("adresse",Q14) -> $Q$14 | E21: 19 | F21: =Equipes!B21 -> 0
A22: =N13 -> 0 | B22: =CELL("adresse",O13) -> $O$13 | C22: =CELL("adresse",N14) -> $N$14 | D22: =CELL("adresse",Q14) -> $Q$14 | E22: 20 | F22: =Equipes!B22 -> 0 | H22: Terrain 7 | N22: Terrain 8
A23: =Q11 -> 15 | B23: =CELL("adresse",R11) -> $R$11 | C23: =CELL("adresse",Q14) -> $Q$14 | D23: =CELL("adresse",N14) -> $N$14 | E23: 21 | F23: =Equipes!B23 -> 0 | I23: =IF(H23<>"",VLOOKUP(H23,joueurs,2,0),"") | J23: Contre | L23: =IF(K23<>"",VLOOKUP(K23,joueurs,2,0),"") | O23: =IF(N23<>"",VLOOKUP(N23,joueurs,2,0),"") | P23: Contre | R23: =IF(Q23<>"",VLOOKUP(Q23,joueurs,2,0),"")
A24: =Q12 -> 16 | B24: =CELL("adresse",R12) -> $R$12 | C24: =CELL("adresse",Q14) -> $Q$14 | D24: =CELL("adresse",N14) -> $N$14 | E24: 22 | F24: =Equipes!B24 -> 0 | I24: =IF(H24<>"",VLOOKUP(H24,joueurs,2,0),"") | L24: =IF(K24<>"",VLOOKUP(K24,joueurs,2,0),"") | O24: =IF(N24<>"",VLOOKUP(N24,joueurs,2,0),"") | R24: =IF(Q24<>"",VLOOKUP(Q24,joueurs,2,0),"")
A25: =Q13 -> 0 | B25: =CELL("adresse",R13) -> $R$13 | C25: =CELL("adresse",Q14) -> $Q$14 | D25: =CELL("adresse",N14) -> $N$14 | E25: 23 | F25: =Equipes!B25 -> 0 | I25: =IF(H25<>"",VLOOKUP(H25,joueurs,2,0),"") | L25: =IF(K25<>"",VLOOKUP(K25,joueurs,2,0),"") | O25: =IF(N25<>"",VLOOKUP(N25,joueurs,2,0),"") | R25: =IF(Q25<>"",VLOOKUP(Q25,joueurs,2,0),"")
A26: =H17 -> 17 | B26: =CELL("adresse",I17) -> $I$17 | C26: =CELL("adresse",H20) -> $H$20 | D26: =CELL("adresse",K20) -> $K$20 | E26: 24 | F26: =Equipes!B26 -> 0 | H26: 13 | J26: Score | K26: 8 | P26: Score
A27: =H18 -> 18 | B27: =CELL("adresse",I18) -> $I$18 | C27: =CELL("adresse",H20) -> $H$20 | D27: =CELL("adresse",K20) -> $K$20 | E27: 25 | F27: =Equipes!B27 -> 0
A28: =H19 -> 0 | B28: =CELL("adresse",I19) -> $I$19 | C28: =CELL("adresse",H20) -> $H$20 | D28: =CELL("adresse",K20) -> $K$20 | E28: 26 | F28: =Equipes!B28 -> 0 | H28: Terrain 9 | N28: Terrain 10
A29: =K17 -> 19 | B29: =CELL("adresse",L17) -> $L$17 | C29: =CELL("adresse",K20) -> $K$20 | D29: =CELL("adresse",H20) -> $H$20 | E29: 27 | F29: =Equipes!B29 -> 0 | I29: =IF(H29<>"",VLOOKUP(H29,joueurs,2,0),"") | J29: Contre | L29: =IF(K29<>"",VLOOKUP(K29,joueurs,2,0),"") | O29: =IF(N29<>"",VLOOKUP(N29,joueurs,2,0),"") | P29: Contre | R29: =IF(Q29<>"",VLOOKUP(Q29,joueurs,2,0),"")
A30: =K18 -> 20 | B30: =CELL("adresse",L18) -> $L$18 | C30: =CELL("adresse",K20) -> $K$20 | D30: =CELL("adresse",H20) -> $H$20 | E30: 28 | F30: =Equipes!B30 -> 0 | I30: =IF(H30<>"",VLOOKUP(H30,joueurs,2,0),"") | L30: =IF(K30<>"",VLOOKUP(K30,joueurs,2,0),"") | O30: =IF(N30<>"",VLOOKUP(N30,joueurs,2,0),"") | R30: =IF(Q30<>"",VLOOKUP(Q30,joueurs,2,0),"")
A31: =K19 -> 0 | B31: =CELL("adresse",L19) -> $L$19 | C31: =CELL("adresse",K20) -> $K$20 | D31: =CELL("adresse",H20) -> $H$20 | E31: 29 | F31: =Equipes!B31 -> 0 | I31: =IF(H31<>"",VLOOKUP(H31,joueurs,2,0),"") | L31: =IF(K31<>"",VLOOKUP(K31,joueurs,2,0),"") | O31: =IF(N31<>"",VLOOKUP(N31,joueurs,2,0),"") | R31: =IF(Q31<>"",VLOOKUP(Q31,joueurs,2,0),"")
A32: =N17 -> 21 | B32: =CELL("adresse",O17) -> $O$17 | C32: =CELL("adresse",N20) -> $N$20 | D32: =CELL("adresse",Q20) -> $Q$20 | E32: 30 | F32: =Equipes!B32 -> 0 | J32: Score | P32: Score
A33: =N18 -> 22 | B33: =CELL("adresse",O18) -> $O$18 | C33: =CELL("adresse",N20) -> $N$20 | D33: =CELL("adresse",Q20) -> $Q$20 | E33: 31 | F33: =Equipes!B33 -> 0
A34: =N19 -> 0 | B34: =CELL("adresse",O19) -> $O$19 | C34: =CELL("adresse",N20) -> $N$20 | D34: =CELL("adresse",Q20) -> $Q$20 | E34: 32 | F34: =Equipes!B34 -> 0
A35: =Q17 -> 23 | B35: =CELL("adresse",R17) -> $R$17 | C35: =CELL("adresse",Q20) -> $Q$20 | D35: =CELL("adresse",N20) -> $N$20 | E35: 33 | F35: =Equipes!B35 -> 0
A36: =Q18 -> 24 | B36: =CELL("adresse",R18) -> $R$18 | C36: =CELL("adresse",Q20) -> $Q$20 | D36: =CELL("adresse",N20) -> $N$20 | E36: 34 | F36: =Equipes!B36 -> 0
A37: =Q19 -> 0 | B37: =CELL("adresse",R19) -> $R$19 | C37: =CELL("adresse",Q20) -> $Q$20 | D37: =CELL("adresse",N20) -> $N$20 | E37: 35 | F37: =Equipes!B37 -> 0
A38: =H23 -> 0 | B38: =CELL("adresse",I23) -> $I$23 | C38: =CELL("adresse",H26) -> $H$26 | D38: =CELL("adresse",K26) -> $K$26 | E38: 36 | F38: =Equipes!B38 -> 0
A39: =H24 -> 0 | B39: =CELL("adresse",I24) -> $I$24 | C39: =CELL("adresse",H26) -> $H$26 | D39: =CELL("adresse",K26) -> $K$26 | E39: 37 | F39: =Equipes!B39 -> 0
A40: =H25 -> 0 | B40: =CELL("adresse",I25) -> $I$25 | C40: =CELL("adresse",H26) -> $H$26 | D40: =CELL("adresse",K26) -> $K$26 | E40: 38 | F40: =Equipes!B40 -> 0
A41: =K23 -> 0 | B41: =CELL("adresse",L23) -> $L$23 | C41: =CELL("adresse",K26) -> $K$26 | D41: =CELL("adresse",H26) -> $H$26 | E41: 39 | F41: =Equipes!B41 -> 0
A42: =K24 -> 0 | B42: =CELL("adresse",L24) -> $L$24 | C42: =CELL("adresse",K26) -> $K$26 | D42: =CELL("adresse",H26) -> $H$26 | E42: 40 | F42: =Equipes!B42 -> 0
A43: =K25 -> 0 | B43: =CELL("adresse",L25) -> $L$25 | C43: =CELL("adresse",K26) -> $K$26 | D43: =CELL("adresse",H26) -> $H$26 | E43: 41 | F43: =Equipes!B43 -> 0
A44: =N23 -> 0 | B44: =CELL("adresse",O23) -> $O$23 | C44: =CELL("adresse",N26) -> $N$26 | D44: =CELL("adresse",Q26) -> $Q$26 | E44: 42 | F44: =Equipes!B44 -> 0
A45: =N24 -> 0 | B45: =CELL("adresse",O24) -> $O$24 | C45: =CELL("adresse",N26) -> $N$26 | D45: =CELL("adresse",Q26) -> $Q$26 | E45: 43 | F45: =Equipes!B45 -> 0
A46: =N25 -> 0 | B46: =CELL("adresse",O25) -> $O$25 | C46: =CELL("adresse",N26) -> $N$26 | D46: =CELL("adresse",Q26) -> $Q$26 | E46: 44 | F46: =Equipes!B46 -> 0
A47: =Q23 -> 0 | B47: =CELL("adresse",R23) -> $R$23 | C47: =CELL("adresse",Q26) -> $Q$26 | D47: =CELL("adresse",N26) -> $N$26 | E47: 45 | F47: =Equipes!B47 -> 0
A48: =Q24 -> 0 | B48: =CELL("adresse",R24) -> $R$24 | C48: =CELL("adresse",Q26) -> $Q$26 | D48: =CELL("adresse",N26) -> $N$26 | E48: 46 | F48: =Equipes!B48 -> 0
A49: =Q25 -> 0 | B49: =CELL("adresse",R25) -> $R$25 | C49: =CELL("adresse",Q26) -> $Q$26 | D49: =CELL("adresse",N26) -> $N$26 | E49: 47 | F49: =Equipes!B49 -> 0
A50: =H29 -> 0 | B50: =CELL("adresse",I29) -> $I$29 | C50: =CELL("adresse",H32) -> $H$32 | D50: =CELL("adresse",K32) -> $K$32 | E50: 48 | F50: =Equipes!B50 -> 0
A51: =H30 -> 0 | B51: =CELL("adresse",I30) -> $I$30 | C51: =CELL("adresse",H32) -> $H$32 | D51: =CELL("adresse",K32) -> $K$32 | E51: 49 | F51: =Equipes!B51 -> 0
A52: =H31 -> 0 | B52: =CELL("adresse",I31) -> $I$31 | C52: =CELL("adresse",H32) -> $H$32 | D52: =CELL("adresse",K32) -> $K$32 | E52: 50 | F52: =Equipes!B52 -> 0
A53: =K29 -> 0 | B53: =CELL("adresse",L29) -> $L$29 | C53: =CELL("adresse",K32) -> $K$32 | D53: =CELL("adresse",H32) -> $H$32 | E53: 51 | F53: =Equipes!B53 -> 0
A54: =K30 -> 0 | B54: =CELL("adresse",L30) -> $L$30 | C54: =CELL("adresse",K32) -> $K$32 | D54: =CELL("adresse",H32) -> $H$32 | E54: 52 | F54: =Equipes!B54 -> 0
A55: =K31 -> 0 | B55: =CELL("adresse",L31) -> $L$31 | C55: =CELL("adresse",K32) -> $K$32 | D55: =CELL("adresse",H32) -> $H$32 | E55: 53 | F55: =Equipes!B55 -> 0
A56: =N29 -> 0 | B56: =CELL("adresse",O29) -> $O$29 | C56: =CELL("adresse",N32) -> $N$32 | D56: =CELL("adresse",Q32) -> $Q$32 | E56: 54 | F56: =Equipes!B56 -> 0
A57: =N30 -> 0 | B57: =CELL("adresse",O30) -> $O$30 | C57: =CELL("adresse",N32) -> $N$32 | D57: =CELL("adresse",Q32) -> $Q$32 | E57: 55 | F57: =Equipes!B57 -> 0
A58: =N31 -> 0 | B58: =CELL("adresse",O31) -> $O$31 | C58: =CELL("adresse",N32) -> $N$32 | D58: =CELL("adresse",Q32) -> $Q$32 | E58: 56 | F58: =Equipes!B58 -> 0
A59: =Q29 -> 0 | B59: =CELL("adresse",R29) -> $R$29 | C59: =CELL("adresse",Q32) -> $Q$32 | D59: =CELL("adresse",N32) -> $N$32 | E59: 57 | F59: =Equipes!B59 -> 0
A60: =Q30 -> 0 | B60: =CELL("adresse",R30) -> $R$30 | C60: =CELL("adresse",Q32) -> $Q$32 | D60: =CELL("adresse",N32) -> $N$32 | E60: 58 | F60: =Equipes!B60 -> 0
A61: =Q31 -> 0 | B61: =CELL("adresse",R31) -> $R$31 | C61: =CELL("adresse",Q32) -> $Q$32 | D61: =CELL("adresse",N32) -> $N$32 | E61: 59 | F61: =Equipes!B61 -> 0
E62: 60 | F62: =Equipes!B62 -> 0

Sheet Match3
A1: N° | B1: Ref. J. | C1: Son score | D1: Score adv. | E1: Concours à la mêlée
A2: =H5 -> 1 | B2: =CELL("adresse",I5) -> $I$5 | C2: =CELL("adresse",H8) -> $H$8 | D2: =CELL("adresse",K8) -> $K$8 | H2: 3ème MATCH
A3: =H6 -> 2 | B3: =CELL("adresse",I6) -> $I$6 | C3: =CELL("adresse",H8) -> $H$8 | D3: =CELL("adresse",K8) -> $K$8 | E3: 1 | F3: =Equipes!B3 -> greg
A4: =H7 -> 0 | B4: =CELL("adresse",I7) -> $I$7 | C4: =CELL("adresse",H8) -> $H$8 | D4: =CELL("adresse",K8) -> $K$8 | E4: 2 | F4: =Equipes!B4 -> simon | H4: Terrain 1 | N4: Terrain 2
A5: =K5 -> 3 | B5: =CELL("adresse",L5) -> $L$5 | C5: =CELL("adresse",K8) -> $K$8 | D5: =CELL("adresse",H8) -> $H$8 | E5: 3 | F5: =Equipes!B5 -> nat | H5: 1 | I5: =IF(H5<>"",VLOOKUP(H5,joueurs,2,0),"") -> greg | J5: Contre | K5: 3 | L5: =IF(K5<>"",VLOOKUP(K5,joueurs,2,0),"") -> nat | N5: 5 | O5: =IF(N5<>"",VLOOKUP(N5,joueurs,2,0),"") -> 0 | P5: Contre | Q5: 7 | R5: =IF(Q5<>"",VLOOKUP(Q5,joueurs,2,0),"") -> 0
A6: =K6 -> 4 | B6: =CELL("adresse",L6) -> $L$6 | C6: =CELL("adresse",K8) -> $K$8 | D6: =CELL("adresse",H8) -> $H$8 | E6: 4 | F6: =Equipes!B6 -> mickey | H6: 2 | I6: =IF(H6<>"",VLOOKUP(H6,joueurs,2,0),"") -> simon | K6: 4 | L6: =IF(K6<>"",VLOOKUP(K6,joueurs,2,0),"") -> mickey | N6: 6 | O6: =IF(N6<>"",VLOOKUP(N6,joueurs,2,0),"") -> 0 | Q6: 8 | R6: =IF(Q6<>"",VLOOKUP(Q6,joueurs,2,0),"") -> 0
A7: =K7 -> 0 | B7: =CELL("adresse",L7) -> $L$7 | C7: =CELL("adresse",K8) -> $K$8 | D7: =CELL("adresse",H8) -> $H$8 | E7: 5 | F7: =Equipes!B7 -> 0 | I7: =IF(H7<>"",VLOOKUP(H7,joueurs,2,0),"") | L7: =IF(K7<>"",VLOOKUP(K7,joueurs,2,0),"") | O7: =IF(N7<>"",VLOOKUP(N7,joueurs,2,0),"") | R7: =IF(Q7<>"",VLOOKUP(Q7,joueurs,2,0),"")
A8: =N5 -> 5 | B8: =CELL("adresse",O5) -> $O$5 | C8: =CELL("adresse",N8) -> $N$8 | D8: =CELL("adresse",Q8) -> $Q$8 | E8: 6 | F8: =Equipes!B8 -> 0 | J8: Score | P8: Score
A9: =N6 -> 6 | B9: =CELL("adresse",O6) -> $O$6 | C9: =CELL("adresse",N8) -> $N$8 | D9: =CELL("adresse",Q8) -> $Q$8 | E9: 7 | F9: =Equipes!B9 -> 0
A10: =N7 -> 0 | B10: =CELL("adresse",O7) -> $O$7 | C10: =CELL("adresse",N8) -> $N$8 | D10: =CELL("adresse",Q8) -> $Q$8 | E10: 8 | F10: =Equipes!B10 -> 0 | H10: Terrain 3 | N10: Terrain 4
A11: =Q5 -> 7 | B11: =CELL("adresse",R5) -> $R$5 | C11: =CELL("adresse",Q8) -> $Q$8 | D11: =CELL("adresse",N8) -> $N$8 | E11: 9 | F11: =Equipes!B11 -> 0 | H11: 9 | I11: =IF(H11<>"",VLOOKUP(H11,joueurs,2,0),"") -> 0 | J11: Contre | K11: 11 | L11: =IF(K11<>"",VLOOKUP(K11,joueurs,2,0),"") -> 0 | N11: 13 | O11: =IF(N11<>"",VLOOKUP(N11,joueurs,2,0),"") -> 0 | P11: Contre | Q11: 15 | R11: =IF(Q11<>"",VLOOKUP(Q11,joueurs,2,0),"") -> 0
A12: =Q6 -> 8 | B12: =CELL("adresse",R6) -> $R$6 | C12: =CELL("adresse",Q8) -> $Q$8 | D12: =CELL("adresse",N8) -> $N$8 | E12: 10 | F12: =Equipes!B12 -> 0 | H12: 10 | I12: =IF(H12<>"",VLOOKUP(H12,joueurs,2,0),"") -> 0 | K12: 12 | L12: =IF(K12<>"",VLOOKUP(K12,joueurs,2,0),"") -> 0 | N12: 14 | O12: =IF(N12<>"",VLOOKUP(N12,joueurs,2,0),"") -> 0 | Q12: 16 | R12: =IF(Q12<>"",VLOOKUP(Q12,joueurs,2,0),"") -> 0
A13: =Q7 -> 0 | B13: =CELL("adresse",R7) -> $R$7 | C13: =CELL("adresse",Q8) -> $Q$8 | D13: =CELL("adresse",N8) -> $N$8 | E13: 11 | F13: =Equipes!B13 -> 0 | I13: =IF(H13<>"",VLOOKUP(H13,joueurs,2,0),"") | L13: =IF(K13<>"",VLOOKUP(K13,joueurs,2,0),"") | O13: =IF(N13<>"",VLOOKUP(N13,joueurs,2,0),"") | R13: =IF(Q13<>"",VLOOKUP(Q13,joueurs,2,0),"")
A14: =H11 -> 9 | B14: =CELL("adresse",I11) -> $I$11 | C14: =CELL("adresse",H14) -> $H$14 | D14: =CELL("adresse",K14) -> $K$14 | E14: 12 | F14: =Equipes!B14 -> 0 | J14: Score | P14: Score
A15: =H12 -> 10 | B15: =CELL("adresse",I12) -> $I$12 | C15: =CELL("adresse",H14) -> $H$14 | D15: =CELL("adresse",K14) -> $K$14 | E15: 13 | F15: =Equipes!B15 -> 0
A16: =H13 -> 0 | B16: =CELL("adresse",I13) -> $I$13 | C16: =CELL("adresse",H14) -> $H$14 | D16: =CELL("adresse",K14) -> $K$14 | E16: 14 | F16: =Equipes!B16 -> 0 | H16: Terrain 5 | N16: Terrain 6
A17: =K11 -> 11 | B17: =CELL("adresse",L11) -> $L$11 | C17: =CELL("adresse",K14) -> $K$14 | D17: =CELL("adresse",H14) -> $H$14 | E17: 15 | F17: =Equipes!B17 -> 0 | H17: 17 | I17: =IF(H17<>"",VLOOKUP(H17,joueurs,2,0),"") -> 0 | J17: Contre | K17: 19 | L17: =IF(K17<>"",VLOOKUP(K17,joueurs,2,0),"") -> 0 | O17: =IF(N17<>"",VLOOKUP(N17,joueurs,2,0),"") | P17: Contre | R17: =IF(Q17<>"",VLOOKUP(Q17,joueurs,2,0),"")
A18: =K12 -> 12 | B18: =CELL("adresse",L12) -> $L$12 | C18: =CELL("adresse",K14) -> $K$14 | D18: =CELL("adresse",H14) -> $H$14 | E18: 16 | F18: =Equipes!B18 -> 0 | H18: 18 | I18: =IF(H18<>"",VLOOKUP(H18,joueurs,2,0),"") -> 0 | K18: 20 | L18: =IF(K18<>"",VLOOKUP(K18,joueurs,2,0),"") -> 0 | O18: =IF(N18<>"",VLOOKUP(N18,joueurs,2,0),"") | R18: =IF(Q18<>"",VLOOKUP(Q18,joueurs,2,0),"")
A19: =K13 -> 0 | B19: =CELL("adresse",L13) -> $L$13 | C19: =CELL("adresse",K14) -> $K$14 | D19: =CELL("adresse",H14) -> $H$14 | E19: 17 | F19: =Equipes!B19 -> 0 | I19: =IF(H19<>"",VLOOKUP(H19,joueurs,2,0),"") | L19: =IF(K19<>"",VLOOKUP(K19,joueurs,2,0),"") | O19: =IF(N19<>"",VLOOKUP(N19,joueurs,2,0),"") | R19: =IF(Q19<>"",VLOOKUP(Q19,joueurs,2,0),"")
A20: =N11 -> 13 | B20: =CELL("adresse",O11) -> $O$11 | C20: =CELL("adresse",N14) -> $N$14 | D20: =CELL("adresse",Q14) -> $Q$14 | E20: 18 | F20: =Equipes!B20 -> 0 | J20: Score | P20: Score
A21: =N12 -> 14 | B21: =CELL("adresse",O12) -> $O$12 | C21: =CELL("adresse",N14) -> $N$14 | D21: =CELL("adresse",Q14) -> $Q$14 | E21: 19 | F21: =Equipes!B21 -> 0
A22: =N13 -> 0 | B22: =CELL("adresse",O13) -> $O$13 | C22: =CELL("adresse",N14) -> $N$14 | D22: =CELL("adresse",Q14) -> $Q$14 | E22: 20 | F22: =Equipes!B22 -> 0 | H22: Terrain 7 | N22: Terrain 8
A23: =Q11 -> 15 | B23: =CELL("adresse",R11) -> $R$11 | C23: =CELL("adresse",Q14) -> $Q$14 | D23: =CELL("adresse",N14) -> $N$14 | E23: 21 | F23: =Equipes!B23 -> 0 | I23: =IF(H23<>"",VLOOKUP(H23,joueurs,2,0),"") | J23: Contre | L23: =IF(K23<>"",VLOOKUP(K23,joueurs,2,0),"") | O23: =IF(N23<>"",VLOOKUP(N23,joueurs,2,0),"") | P23: Contre | R23: =IF(Q23<>"",VLOOKUP(Q23,joueurs,2,0),"")
A24: =Q12 -> 16 | B24: =CELL("adresse",R12) -> $R$12 | C24: =CELL("adresse",Q14) -> $Q$14 | D24: =CELL("adresse",N14) -> $N$14 | E24: 22 | F24: =Equipes!B24 -> 0 | I24: =IF(H24<>"",VLOOKUP(H24,joueurs,2,0),"") | L24: =IF(K24<>"",VLOOKUP(K24,joueurs,2,0),"") | O24: =IF(N24<>"",VLOOKUP(N24,joueurs,2,0),"") | R24: =IF(Q24<>"",VLOOKUP(Q24,joueurs,2,0),"")
A25: =Q13 -> 0 | B25: =CELL("adresse",R13) -> $R$13 | C25: =CELL("adresse",Q14) -> $Q$14 | D25: =CELL("adresse",N14) -> $N$14 | E25: 23 | F25: =Equipes!B25 -> 0 | I25: =IF(H25<>"",VLOOKUP(H25,joueurs,2,0),"") | L25: =IF(K25<>"",VLOOKUP(K25,joueurs,2,0),"") | O25: =IF(N25<>"",VLOOKUP(N25,joueurs,2,0),"") | R25: =IF(Q25<>"",VLOOKUP(Q25,joueurs,2,0),"")
A26: =H17 -> 17 | B26: =CELL("adresse",I17) -> $I$17 | C26: =CELL("adresse",H20) -> $H$20 | D26: =CELL("adresse",K20) -> $K$20 | E26: 24 | F26: =Equipes!B26 -> 0 | J26: Score | P26: Score
A27: =H18 -> 18 | B27: =CELL("adresse",I18) -> $I$18 | C27: =CELL("adresse",H20) -> $H$20 | D27: =CELL("adresse",K20) -> $K$20 | E27: 25 | F27: =Equipes!B27 -> 0
A28: =H19 -> 0 | B28: =CELL("adresse",I19) -> $I$19 | C28: =CELL("adresse",H20) -> $H$20 | D28: =CELL("adresse",K20) -> $K$20 | E28: 26 | F28: =Equipes!B28 -> 0 | H28: Terrain 9 | N28: Terrain 10
A29: =K17 -> 19 | B29: =CELL("adresse",L17) -> $L$17 | C29: =CELL("adresse",K20) -> $K$20 | D29: =CELL("adresse",H20) -> $H$20 | E29: 27 | F29: =Equipes!B29 -> 0 | I29: =IF(H29<>"",VLOOKUP(H29,joueurs,2,0),"") | J29: Contre | L29: =IF(K29<>"",VLOOKUP(K29,joueurs,2,0),"") | O29: =IF(N29<>"",VLOOKUP(N29,joueurs,2,0),"") | P29: Contre | R29: =IF(Q29<>"",VLOOKUP(Q29,joueurs,2,0),"")
A30: =K18 -> 20 | B30: =CELL("adresse",L18) -> $L$18 | C30: =CELL("adresse",K20) -> $K$20 | D30: =CELL("adresse",H20) -> $H$20 | E30: 28 | F30: =Equipes!B30 -> 0 | I30: =IF(H30<>"",VLOOKUP(H30,joueurs,2,0),"") | L30: =IF(K30<>"",VLOOKUP(K30,joueurs,2,0),"") | O30: =IF(N30<>"",VLOOKUP(N30,joueurs,2,0),"") | R30: =IF(Q30<>"",VLOOKUP(Q30,joueurs,2,0),"")
A31: =K19 -> 0 | B31: =CELL("adresse",L19) -> $L$19 | C31: =CELL("adresse",K20) -> $K$20 | D31: =CELL("adresse",H20) -> $H$20 | E31: 29 | F31: =Equipes!B31 -> 0 | I31: =IF(H31<>"",VLOOKUP(H31,joueurs,2,0),"") | L31: =IF(K31<>"",VLOOKUP(K31,joueurs,2,0),"") | O31: =IF(N31<>"",VLOOKUP(N31,joueurs,2,0),"") | R31: =IF(Q31<>"",VLOOKUP(Q31,joueurs,2,0),"")
A32: =N17 -> 0 | B32: =CELL("adresse",O17) -> $O$17 | C32: =CELL("adresse",N20) -> $N$20 | D32: =CELL("adresse",Q20) -> $Q$20 | E32: 30 | F32: =Equipes!B32 -> 0 | J32: Score | P32: Score
A33: =N18 -> 0 | B33: =CELL("adresse",O18) -> $O$18 | C33: =CELL("adresse",N20) -> $N$20 | D33: =CELL("adresse",Q20) -> $Q$20 | E33: 31 | F33: =Equipes!B33 -> 0
A34: =N19 -> 0 | B34: =CELL("adresse",O19) -> $O$19 | C34: =CELL("adresse",N20) -> $N$20 | D34: =CELL("adresse",Q20) -> $Q$20 | E34: 32 | F34: =Equipes!B34 -> 0
A35: =Q17 -> 0 | B35: =CELL("adresse",R17) -> $R$17 | C35: =CELL("adresse",Q20) -> $Q$20 | D35: =CELL("adresse",N20) -> $N$20 | E35: 33 | F35: =Equipes!B35 -> 0
A36: =Q18 -> 0 | B36: =CELL("adresse",R18) -> $R$18 | C36: =CELL("adresse",Q20) -> $Q$20 | D36: =CELL("adresse",N20) -> $N$20 | E36: 34 | F36: =Equipes!B36 -> 0
A37: =Q19 -> 0 | B37: =CELL("adresse",R19) -> $R$19 | C37: =CELL("adresse",Q20) -> $Q$20 | D37: =CELL("adresse",N20) -> $N$20 | E37: 35 | F37: =Equipes!B37 -> 0
A38: =H23 -> 0 | B38: =CELL("adresse",I23) -> $I$23 | C38: =CELL("adresse",H26) -> $H$26 | D38: =CELL("adresse",K26) -> $K$26 | E38: 36 | F38: =Equipes!B38 -> 0
A39: =H24 -> 0 | B39: =CELL("adresse",I24) -> $I$24 | C39: =CELL("adresse",H26) -> $H$26 | D39: =CELL("adresse",K26) -> $K$26 | E39: 37 | F39: =Equipes!B39 -> 0
A40: =H25 -> 0 | B40: =CELL("adresse",I25) -> $I$25 | C40: =CELL("adresse",H26) -> $H$26 | D40: =CELL("adresse",K26) -> $K$26 | E40: 38 | F40: =Equipes!B40 -> 0
A41: =K23 -> 0 | B41: =CELL("adresse",L23) -> $L$23 | C41: =CELL("adresse",K26) -> $K$26 | D41: =CELL("adresse",H26) -> $H$26 | E41: 39 | F41: =Equipes!B41 -> 0
A42: =K24 -> 0 | B42: =CELL("adresse",L24) -> $L$24 | C42: =CELL("adresse",K26) -> $K$26 | D42: =CELL("adresse",H26) -> $H$26 | E42: 40 | F42: =Equipes!B42 -> 0
A43: =K25 -> 0 | B43: =CELL("adresse",L25) -> $L$25 | C43: =CELL("adresse",K26) -> $K$26 | D43: =CELL("adresse",H26) -> $H$26 | E43: 41 | F43: =Equipes!B43 -> 0
A44: =N23 -> 0 | B44: =CELL("adresse",O23) -> $O$23 | C44: =CELL("adresse",N26) -> $N$26 | D44: =CELL("adresse",Q26) -> $Q$26 | E44: 42 | F44: =Equipes!B44 -> 0
A45: =N24 -> 0 | B45: =CELL("adresse",O24) -> $O$24 | C45: =CELL("adresse",N26) -> $N$26 | D45: =CELL("adresse",Q26) -> $Q$26 | E45: 43 | F45: =Equipes!B45 -> 0
A46: =N25 -> 0 | B46: =CELL("adresse",O25) -> $O$25 | C46: =CELL("adresse",N26) -> $N$26 | D46: =CELL("adresse",Q26) -> $Q$26 | E46: 44 | F46: =Equipes!B46 -> 0
A47: =Q23 -> 0 | B47: =CELL("adresse",R23) -> $R$23 | C47: =CELL("adresse",Q26) -> $Q$26 | D47: =CELL("adresse",N26) -> $N$26 | E47: 45 | F47: =Equipes!B47 -> 0
A48: =Q24 -> 0 | B48: =CELL("adresse",R24) -> $R$24 | C48: =CELL("adresse",Q26) -> $Q$26 | D48: =CELL("adresse",N26) -> $N$26 | E48: 46 | F48: =Equipes!B48 -> 0
A49: =Q25 -> 0 | B49: =CELL("adresse",R25) -> $R$25 | C49: =CELL("adresse",Q26) -> $Q$26 | D49: =CELL("adresse",N26) -> $N$26 | E49: 47 | F49: =Equipes!B49 -> 0
A50: =H29 -> 0 | B50: =CELL("adresse",I29) -> $I$29 | C50: =CELL("adresse",H32) -> $H$32 | D50: =CELL("adresse",K32) -> $K$32 | E50: 48 | F50: =Equipes!B50 -> 0
A51: =H30 -> 0 | B51: =CELL("adresse",I30) -> $I$30 | C51: =CELL("adresse",H32) -> $H$32 | D51: =CELL("adresse",K32) -> $K$32 | E51: 49 | F51: =Equipes!B51 -> 0
A52: =H31 -> 0 | B52: =CELL("adresse",I31) -> $I$31 | C52: =CELL("adresse",H32) -> $H$32 | D52: =CELL("adresse",K32) -> $K$32 | E52: 50 | F52: =Equipes!B52 -> 0
A53: =K29 -> 0 | B53: =CELL("adresse",L29) -> $L$29 | C53: =CELL("adresse",K32) -> $K$32 | D53: =CELL("adresse",H32) -> $H$32 | E53: 51 | F53: =Equipes!B53 -> 0
A54: =K30 -> 0 | B54: =CELL("adresse",L30) -> $L$30 | C54: =CELL("adresse",K32) -> $K$32 | D54: =CELL("adresse",H32) -> $H$32 | E54: 52 | F54: =Equipes!B54 -> 0
A55: =K31 -> 0 | B55: =CELL("adresse",L31) -> $L$31 | C55: =CELL("adresse",K32) -> $K$32 | D55: =CELL("adresse",H32) -> $H$32 | E55: 53 | F55: =Equipes!B55 -> 0
A56: =N29 -> 0 | B56: =CELL("adresse",O29) -> $O$29 | C56: =CELL("adresse",N32) -> $N$32 | D56: =CELL("adresse",Q32) -> $Q$32 | E56: 54 | F56: =Equipes!B56 -> 0
A57: =N30 -> 0 | B57: =CELL("adresse",O30) -> $O$30 | C57: =CELL("adresse",N32) -> $N$32 | D57: =CELL("adresse",Q32) -> $Q$32 | E57: 55 | F57: =Equipes!B57 -> 0
A58: =N31 -> 0 | B58: =CELL("adresse",O31) -> $O$31 | C58: =CELL("adresse",N32) -> $N$32 | D58: =CELL("adresse",Q32) -> $Q$32 | E58: 56 | F58: =Equipes!B58 -> 0
A59: =Q29 -> 0 | B59: =CELL("adresse",R29) -> $R$29 | C59: =CELL("adresse",Q32) -> $Q$32 | D59: =CELL("adresse",N32) -> $N$32 | E59: 57 | F59: =Equipes!B59 -> 0
A60: =Q30 -> 0 | B60: =CELL("adresse",R30) -> $R$30 | C60: =CELL("adresse",Q32) -> $Q$32 | D60: =CELL("adresse",N32) -> $N$32 | E60: 58 | F60: =Equipes!B60 -> 0
A61: =Q31 -> 0 | B61: =CELL("adresse",R31) -> $R$31 | C61: =CELL("adresse",Q32) -> $Q$32 | D61: =CELL("adresse",N32) -> $N$32 | E61: 59 | F61: =Equipes!B61 -> 0
E62: 60 | F62: =Equipes!B62 -> 0

Sheet Match4
A1: N° | B1: Ref. J. | C1: Son score | D1: Score adv. | E1: Concours à la mêlée
A2: =H5 -> 0 | B2: =CELL("adresse",I5) -> $I$5 | C2: =CELL("adresse",H8) -> $H$8 | D2: =CELL("adresse",K8) -> $K$8 | H2: 4ème MATCH
A3: =H6 -> 0 | B3: =CELL("adresse",I6) -> $I$6 | C3: =CELL("adresse",H8) -> $H$8 | D3: =CELL("adresse",K8) -> $K$8 | E3: 1 | F3: =Equipes!B3 -> greg
A4: =H7 -> 0 | B4: =CELL("adresse",I7) -> $I$7 | C4: =CELL("adresse",H8) -> $H$8 | D4: =CELL("adresse",K8) -> $K$8 | E4: 2 | F4: =Equipes!B4 -> simon | H4: Terrain 1 | N4: Terrain 2
A5: =K5 -> 0 | B5: =CELL("adresse",L5) -> $L$5 | C5: =CELL("adresse",K8) -> $K$8 | D5: =CELL("adresse",H8) -> $H$8 | E5: 3 | F5: =Equipes!B5 -> nat | I5: =IF(H5<>"",VLOOKUP(H5,joueurs,2,0),"") | J5: Contre | L5: =IF(K5<>"",VLOOKUP(K5,joueurs,2,0),"") | O5: =IF(N5<>"",VLOOKUP(N5,joueurs,2,0),"") | P5: Contre | R5: =IF(Q5<>"",VLOOKUP(Q5,joueurs,2,0),"")
A6: =K6 -> 0 | B6: =CELL("adresse",L6) -> $L$6 | C6: =CELL("adresse",K8) -> $K$8 | D6: =CELL("adresse",H8) -> $H$8 | E6: 4 | F6: =Equipes!B6 -> mickey | I6: =IF(H6<>"",VLOOKUP(H6,joueurs,2,0),"") | L6: =IF(K6<>"",VLOOKUP(K6,joueurs,2,0),"") | O6: =IF(N6<>"",VLOOKUP(N6,joueurs,2,0),"") | R6: =IF(Q6<>"",VLOOKUP(Q6,joueurs,2,0),"")
A7: =K7 -> 0 | B7: =CELL("adresse",L7) -> $L$7 | C7: =CELL("adresse",K8) -> $K$8 | D7: =CELL("adresse",H8) -> $H$8 | E7: 5 | F7: =Equipes!B7 -> 0 | I7: =IF(H7<>"",VLOOKUP(H7,joueurs,2,0),"") | L7: =IF(K7<>"",VLOOKUP(K7,joueurs,2,0),"") | O7: =IF(N7<>"",VLOOKUP(N7,joueurs,2,0),"") | R7: =IF(Q7<>"",VLOOKUP(Q7,joueurs,2,0),"")
A8: =N5 -> 0 | B8: =CELL("adresse",O5) -> $O$5 | C8: =CELL("adresse",N8) -> $N$8 | D8: =CELL("adresse",Q8) -> $Q$8 | E8: 6 | F8: =Equipes!B8 -> 0 | J8: Score | P8: Score
A9: =N6 -> 0 | B9: =CELL("adresse",O6) -> $O$6 | C9: =CELL("adresse",N8) -> $N$8 | D9: =CELL("adresse",Q8) -> $Q$8 | E9: 7 | F9: =Equipes!B9 -> 0
A10: =N7 -> 0 | B10: =CELL("adresse",O7) -> $O$7 | C10: =CELL("adresse",N8) -> $N$8 | D10: =CELL("adresse",Q8) -> $Q$8 | E10: 8 | F10: =Equipes!B10 -> 0 | H10: Terrain 3 | N10: Terrain 4
A11: =Q5 -> 0 | B11: =CELL("adresse",R5) -> $R$5 | C11: =CELL("adresse",Q8) -> $Q$8 | D11: =CELL("adresse",N8) -> $N$8 | E11: 9 | F11: =Equipes!B11 -> 0 | I11: =IF(H11<>"",VLOOKUP(H11,joueurs,2,0),"") | J11: Contre | L11: =IF(K11<>"",VLOOKUP(K11,joueurs,2,0),"") | O11: =IF(N11<>"",VLOOKUP(N11,joueurs,2,0),"") | P11: Contre | R11: =IF(Q11<>"",VLOOKUP(Q11,joueurs,2,0),"")
A12: =Q6 -> 0 | B12: =CELL("adresse",R6) -> $R$6 | C12: =CELL("adresse",Q8) -> $Q$8 | D12: =CELL("adresse",N8) -> $N$8 | E12: 10 | F12: =Equipes!B12 -> 0 | I12: =IF(H12<>"",VLOOKUP(H12,joueurs,2,0),"") | L12: =IF(K12<>"",VLOOKUP(K12,joueurs,2,0),"") | O12: =IF(N12<>"",VLOOKUP(N12,joueurs,2,0),"") | R12: =IF(Q12<>"",VLOOKUP(Q12,joueurs,2,0),"")
A13: =Q7 -> 0 | B13: =CELL("adresse",R7) -> $R$7 | C13: =CELL("adresse",Q8) -> $Q$8 | D13: =CELL("adresse",N8) -> $N$8 | E13: 11 | F13: =Equipes!B13 -> 0 | I13: =IF(H13<>"",VLOOKUP(H13,joueurs,2,0),"") | L13: =IF(K13<>"",VLOOKUP(K13,joueurs,2,0),"") | O13: =IF(N13<>"",VLOOKUP(N13,joueurs,2,0),"") | R13: =IF(Q13<>"",VLOOKUP(Q13,joueurs,2,0),"")
A14: =H11 -> 0 | B14: =CELL("adresse",I11) -> $I$11 | C14: =CELL("adresse",H14) -> $H$14 | D14: =CELL("adresse",K14) -> $K$14 | E14: 12 | F14: =Equipes!B14 -> 0 | J14: Score | P14: Score
A15: =H12 -> 0 | B15: =CELL("adresse",I12) -> $I$12 | C15: =CELL("adresse",H14) -> $H$14 | D15: =CELL("adresse",K14) -> $K$14 | E15: 13 | F15: =Equipes!B15 -> 0
A16: =H13 -> 0 | B16: =CELL("adresse",I13) -> $I$13 | C16: =CELL("adresse",H14) -> $H$14 | D16: =CELL("adresse",K14) -> $K$14 | E16: 14 | F16: =Equipes!B16 -> 0 | H16: Terrain 5 | N16: Terrain 6
A17: =K11 -> 0 | B17: =CELL("adresse",L11) -> $L$11 | C17: =CELL("adresse",K14) -> $K$14 | D17: =CELL("adresse",H14) -> $H$14 | E17: 15 | F17: =Equipes!B17 -> 0 | I17: =IF(H17<>"",VLOOKUP(H17,joueurs,2,0),"") | J17: Contre | L17: =IF(K17<>"",VLOOKUP(K17,joueurs,2,0),"") | O17: =IF(N17<>"",VLOOKUP(N17,joueurs,2,0),"") | P17: Contre | R17: =IF(Q17<>"",VLOOKUP(Q17,joueurs,2,0),"")
A18: =K12 -> 0 | B18: =CELL("adresse",L12) -> $L$12 | C18: =CELL("adresse",K14) -> $K$14 | D18: =CELL("adresse",H14) -> $H$14 | E18: 16 | F18: =Equipes!B18 -> 0 | I18: =IF(H18<>"",VLOOKUP(H18,joueurs,2,0),"") | L18: =IF(K18<>"",VLOOKUP(K18,joueurs,2,0),"") | O18: =IF(N18<>"",VLOOKUP(N18,joueurs,2,0),"") | R18: =IF(Q18<>"",VLOOKUP(Q18,joueurs,2,0),"")
A19: =K13 -> 0 | B19: =CELL("adresse",L13) -> $L$13 | C19: =CELL("adresse",K14) -> $K$14 | D19: =CELL("adresse",H14) -> $H$14 | E19: 17 | F19: =Equipes!B19 -> 0 | I19: =IF(H19<>"",VLOOKUP(H19,joueurs,2,0),"") | L19: =IF(K19<>"",VLOOKUP(K19,joueurs,2,0),"") | O19: =IF(N19<>"",VLOOKUP(N19,joueurs,2,0),"") | R19: =IF(Q19<>"",VLOOKUP(Q19,joueurs,2,0),"")
A20: =N11 -> 0 | B20: =CELL("adresse",O11) -> $O$11 | C20: =CELL("adresse",N14) -> $N$14 | D20: =CELL("adresse",Q14) -> $Q$14 | E20: 18 | F20: =Equipes!B20 -> 0 | J20: Score | P20: Score
A21: =N12 -> 0 | B21: =CELL("adresse",O12) -> $O$12 | C21: =CELL("adresse",N14) -> $N$14 | D21: =CELL("adresse",Q14) -> $Q$14 | E21: 19 | F21: =Equipes!B21 -> 0
A22: =N13 -> 0 | B22: =CELL("adresse",O13) -> $O$13 | C22: =CELL("adresse",N14) -> $N$14 | D22: =CELL("adresse",Q14) -> $Q$14 | E22: 20 | F22: =Equipes!B22 -> 0 | H22: Terrain 7 | N22: Terrain 8
A23: =Q11 -> 0 | B23: =CELL("adresse",R11) -> $R$11 | C23: =CELL("adresse",Q14) -> $Q$14 | D23: =CELL("adresse",N14) -> $N$14 | E23: 21 | F23: =Equipes!B23 -> 0 | I23: =IF(H23<>"",VLOOKUP(H23,joueurs,2,0),"") | J23: Contre | L23: =IF(K23<>"",VLOOKUP(K23,joueurs,2,0),"") | O23: =IF(N23<>"",VLOOKUP(N23,joueurs,2,0),"") | P23: Contre | R23: =IF(Q23<>"",VLOOKUP(Q23,joueurs,2,0),"")
A24: =Q12 -> 0 | B24: =CELL("adresse",R12) -> $R$12 | C24: =CELL("adresse",Q14) -> $Q$14 | D24: =CELL("adresse",N14) -> $N$14 | E24: 22 | F24: =Equipes!B24 -> 0 | I24: =IF(H24<>"",VLOOKUP(H24,joueurs,2,0),"") | L24: =IF(K24<>"",VLOOKUP(K24,joueurs,2,0),"") | O24: =IF(N24<>"",VLOOKUP(N24,joueurs,2,0),"") | R24: =IF(Q24<>"",VLOOKUP(Q24,joueurs,2,0),"")
A25: =Q13 -> 0 | B25: =CELL("adresse",R13) -> $R$13 | C25: =CELL("adresse",Q14) -> $Q$14 | D25: =CELL("adresse",N14) -> $N$14 | E25: 23 | F25: =Equipes!B25 -> 0 | I25: =IF(H25<>"",VLOOKUP(H25,joueurs,2,0),"") | L25: =IF(K25<>"",VLOOKUP(K25,joueurs,2,0),"") | O25: =IF(N25<>"",VLOOKUP(N25,joueurs,2,0),"") | R25: =IF(Q25<>"",VLOOKUP(Q25,joueurs,2,0),"")
A26: =H17 -> 0 | B26: =CELL("adresse",I17) -> $I$17 | C26: =CELL("adresse",H20) -> $H$20 | D26: =CELL("adresse",K20) -> $K$20 | E26: 24 | F26: =Equipes!B26 -> 0 | J26: Score | P26: Score
A27: =H18 -> 0 | B27: =CELL("adresse",I18) -> $I$18 | C27: =CELL("adresse",H20) -> $H$20 | D27: =CELL("adresse",K20) -> $K$20 | E27: 25 | F27: =Equipes!B27 -> 0
A28: =H19 -> 0 | B28: =CELL("adresse",I19) -> $I$19 | C28: =CELL("adresse",H20) -> $H$20 | D28: =CELL("adresse",K20) -> $K$20 | E28: 26 | F28: =Equipes!B28 -> 0 | H28: Terrain 9 | N28: Terrain 10
A29: =K17 -> 0 | B29: =CELL("adresse",L17) -> $L$17 | C29: =CELL("adresse",K20) -> $K$20 | D29: =CELL("adresse",H20) -> $H$20 | E29: 27 | F29: =Equipes!B29 -> 0 | I29: =IF(H29<>"",VLOOKUP(H29,joueurs,2,0),"") | J29: Contre | L29: =IF(K29<>"",VLOOKUP(K29,joueurs,2,0),"") | O29: =IF(N29<>"",VLOOKUP(N29,joueurs,2,0),"") | P29: Contre | R29: =IF(Q29<>"",VLOOKUP(Q29,joueurs,2,0),"")
A30: =K18 -> 0 | B30: =CELL("adresse",L18) -> $L$18 | C30: =CELL("adresse",K20) -> $K$20 | D30: =CELL("adresse",H20) -> $H$20 | E30: 28 | F30: =Equipes!B30 -> 0 | I30: =IF(H30<>"",VLOOKUP(H30,joueurs,2,0),"") | L30: =IF(K30<>"",VLOOKUP(K30,joueurs,2,0),"") | O30: =IF(N30<>"",VLOOKUP(N30,joueurs,2,0),"") | R30: =IF(Q30<>"",VLOOKUP(Q30,joueurs,2,0),"")
A31: =K19 -> 0 | B31: =CELL("adresse",L19) -> $L$19 | C31: =CELL("adresse",K20) -> $K$20 | D31: =CELL("adresse",H20) -> $H$20 | E31: 29 | F31: =Equipes!B31 -> 0 | I31: =IF(H31<>"",VLOOKUP(H31,joueurs,2,0),"") | L31: =IF(K31<>"",VLOOKUP(K31,joueurs,2,0),"") | O31: =IF(N31<>"",VLOOKUP(N31,joueurs,2,0),"") | R31: =IF(Q31<>"",VLOOKUP(Q31,joueurs,2,0),"")
A32: =N17 -> 0 | B32: =CELL("adresse",O17) -> $O$17 | C32: =CELL("adresse",N20) -> $N$20 | D32: =CELL("adresse",Q20) -> $Q$20 | E32: 30 | F32: =Equipes!B32 -> 0 | J32: Score | P32: Score
A33: =N18 -> 0 | B33: =CELL("adresse",O18) -> $O$18 | C33: =CELL("adresse",N20) -> $N$20 | D33: =CELL("adresse",Q20) -> $Q$20 | E33: 31 | F33: =Equipes!B33 -> 0
A34: =N19 -> 0 | B34: =CELL("adresse",O19) -> $O$19 | C34: =CELL("adresse",N20) -> $N$20 | D34: =CELL("adresse",Q20) -> $Q$20 | E34: 32 | F34: =Equipes!B34 -> 0
A35: =Q17 -> 0 | B35: =CELL("adresse",R17) -> $R$17 | C35: =CELL("adresse",Q20) -> $Q$20 | D35: =CELL("adresse",N20) -> $N$20 | E35: 33 | F35: =Equipes!B35 -> 0
A36: =Q18 -> 0 | B36: =CELL("adresse",R18) -> $R$18 | C36: =CELL("adresse",Q20) -> $Q$20 | D36: =CELL("adresse",N20) -> $N$20 | E36: 34 | F36: =Equipes!B36 -> 0
A37: =Q19 -> 0 | B37: =CELL("adresse",R19) -> $R$19 | C37: =CELL("adresse",Q20) -> $Q$20 | D37: =CELL("adresse",N20) -> $N$20 | E37: 35 | F37: =Equipes!B37 -> 0
A38: =H23 -> 0 | B38: =CELL("adresse",I23) -> $I$23 | C38: =CELL("adresse",H26) -> $H$26 | D38: =CELL("adresse",K26) -> $K$26 | E38: 36 | F38: =Equipes!B38 -> 0
A39: =H24 -> 0 | B39: =CELL("adresse",I24) -> $I$24 | C39: =CELL("adresse",H26) -> $H$26 | D39: =CELL("adresse",K26) -> $K$26 | E39: 37 | F39: =Equipes!B39 -> 0
A40: =H25 -> 0 | B40: =CELL("adresse",I25) -> $I$25 | C40: =CELL("adresse",H26) -> $H$26 | D40: =CELL("adresse",K26) -> $K$26 | E40: 38 | F40: =Equipes!B40 -> 0
A41: =K23 -> 0 | B41: =CELL("adresse",L23) -> $L$23 | C41: =CELL("adresse",K26) -> $K$26 | D41: =CELL("adresse",H26) -> $H$26 | E41: 39 | F41: =Equipes!B41 -> 0
A42: =K24 -> 0 | B42: =CELL("adresse",L24) -> $L$24 | C42: =CELL("adresse",K26) -> $K$26 | D42: =CELL("adresse",H26) -> $H$26 | E42: 40 | F42: =Equipes!B42 -> 0
A43: =K25 -> 0 | B43: =CELL("adresse",L25) -> $L$25 | C43: =CELL("adresse",K26) -> $K$26 | D43: =CELL("adresse",H26) -> $H$26 | E43: 41 | F43: =Equipes!B43 -> 0
A44: =N23 -> 0 | B44: =CELL("adresse",O23) -> $O$23 | C44: =CELL("adresse",N26) -> $N$26 | D44: =CELL("adresse",Q26) -> $Q$26 | E44: 42 | F44: =Equipes!B44 -> 0
A45: =N24 -> 0 | B45: =CELL("adresse",O24) -> $O$24 | C45: =CELL("adresse",N26) -> $N$26 | D45: =CELL("adresse",Q26) -> $Q$26 | E45: 43 | F45: =Equipes!B45 -> 0
A46: =N25 -> 0 | B46: =CELL("adresse",O25) -> $O$25 | C46: =CELL("adresse",N26) -> $N$26 | D46: =CELL("adresse",Q26) -> $Q$26 | E46: 44 | F46: =Equipes!B46 -> 0
A47: =Q23 -> 0 | B47: =CELL("adresse",R23) -> $R$23 | C47: =CELL("adresse",Q26) -> $Q$26 | D47: =CELL("adresse",N26) -> $N$26 | E47: 45 | F47: =Equipes!B47 -> 0
A48: =Q24 -> 0 | B48: =CELL("adresse",R24) -> $R$24 | C48: =CELL("adresse",Q26) -> $Q$26 | D48: =CELL("adresse",N26) -> $N$26 | E48: 46 | F48: =Equipes!B48 -> 0
A49: =Q25 -> 0 | B49: =CELL("adresse",R25) -> $R$25 | C49: =CELL("adresse",Q26) -> $Q$26 | D49: =CELL("adresse",N26) -> $N$26 | E49: 47 | F49: =Equipes!B49 -> 0
A50: =H29 -> 0 | B50: =CELL("adresse",I29) -> $I$29 | C50: =CELL("adresse",H32) -> $H$32 | D50: =CELL("adresse",K32) -> $K$32 | E50: 48 | F50: =Equipes!B50 -> 0
A51: =H30 -> 0 | B51: =CELL("adresse",I30) -> $I$30 | C51: =CELL("adresse",H32) -> $H$32 | D51: =CELL("adresse",K32) -> $K$32 | E51: 49 | F51: =Equipes!B51 -> 0
A52: =H31 -> 0 | B52: =CELL("adresse",I31) -> $I$31 | C52: =CELL("adresse",H32) -> $H$32 | D52: =CELL("adresse",K32) -> $K$32 | E52: 50 | F52: =Equipes!B52 -> 0
A53: =K29 -> 0 | B53: =CELL("adresse",L29) -> $L$29 | C53: =CELL("adresse",K32) -> $K$32 | D53: =CELL("adresse",H32) -> $H$32 | E53: 51 | F53: =Equipes!B53 -> 0
A54: =K30 -> 0 | B54: =CELL("adresse",L30) -> $L$30 | C54: =CELL("adresse",K32) -> $K$32 | D54: =CELL("adresse",H32) -> $H$32 | E54: 52 | F54: =Equipes!B54 -> 0
A55: =K31 -> 0 | B55: =CELL("adresse",L31) -> $L$31 | C55: =CELL("adresse",K32) -> $K$32 | D55: =CELL("adresse",H32) -> $H$32 | E55: 53 | F55: =Equipes!B55 -> 0
A56: =N29 -> 0 | B56: =CELL("adresse",O29) -> $O$29 | C56: =CELL("adresse",N32) -> $N$32 | D56: =CELL("adresse",Q32) -> $Q$32 | E56: 54 | F56: =Equipes!B56 -> 0
A57: =N30 -> 0 | B57: =CELL("adresse",O30) -> $O$30 | C57: =CELL("adresse",N32) -> $N$32 | D57: =CELL("adresse",Q32) -> $Q$32 | E57: 55 | F57: =Equipes!B57 -> 0
A58: =N31 -> 0 | B58: =CELL("adresse",O31) -> $O$31 | C58: =CELL("adresse",N32) -> $N$32 | D58: =CELL("adresse",Q32) -> $Q$32 | E58: 56 | F58: =Equipes!B58 -> 0
A59: =Q29 -> 0 | B59: =CELL("adresse",R29) -> $R$29 | C59: =CELL("adresse",Q32) -> $Q$32 | D59: =CELL("adresse",N32) -> $N$32 | E59: 57 | F59: =Equipes!B59 -> 0
A60: =Q30 -> 0 | B60: =CELL("adresse",R30) -> $R$30 | C60: =CELL("adresse",Q32) -> $Q$32 | D60: =CELL("adresse",N32) -> $N$32 | E60: 58 | F60: =Equipes!B60 -> 0
A61: =Q31 -> 0 | B61: =CELL("adresse",R31) -> $R$31 | C61: =CELL("adresse",Q32) -> $Q$32 | D61: =CELL("adresse",N32) -> $N$32 | E61: 59 | F61: =Equipes!B61 -> 0
E62: 60 | F62: =Equipes!B62 -> 0

Sheet Match5
A1: N° | B1: Ref. J. | C1: Son score | D1: Score adv. | E1: Concours à la mêlée
A2: =H5 -> 0 | B2: =CELL("adresse",I5) -> $I$5 | C2: =CELL("adresse",H8) -> $H$8 | D2: =CELL("adresse",K8) -> $K$8 | H2: 5ème MATCH
A3: =H6 -> 0 | B3: =CELL("adresse",I6) -> $I$6 | C3: =CELL("adresse",H8) -> $H$8 | D3: =CELL("adresse",K8) -> $K$8 | E3: 1 | F3: =Equipes!B3 -> greg
A4: =H7 -> 0 | B4: =CELL("adresse",I7) -> $I$7 | C4: =CELL("adresse",H8) -> $H$8 | D4: =CELL("adresse",K8) -> $K$8 | E4: 2 | F4: =Equipes!B4 -> simon | H4: Terrain 1 | N4: Terrain 2
A5: =K5 -> 0 | B5: =CELL("adresse",L5) -> $L$5 | C5: =CELL("adresse",K8) -> $K$8 | D5: =CELL("adresse",H8) -> $H$8 | E5: 3 | F5: =Equipes!B5 -> nat | I5: =IF(H5<>"",VLOOKUP(H5,joueurs,2,0),"") | J5: Contre | L5: =IF(K5<>"",VLOOKUP(K5,joueurs,2,0),"") | O5: =IF(N5<>"",VLOOKUP(N5,joueurs,2,0),"") | P5: Contre | R5: =IF(Q5<>"",VLOOKUP(Q5,joueurs,2,0),"")
A6: =K6 -> 0 | B6: =CELL("adresse",L6) -> $L$6 | C6: =CELL("adresse",K8) -> $K$8 | D6: =CELL("adresse",H8) -> $H$8 | E6: 4 | F6: =Equipes!B6 -> mickey | I6: =IF(H6<>"",VLOOKUP(H6,joueurs,2,0),"") | L6: =IF(K6<>"",VLOOKUP(K6,joueurs,2,0),"") | O6: =IF(N6<>"",VLOOKUP(N6,joueurs,2,0),"") | R6: =IF(Q6<>"",VLOOKUP(Q6,joueurs,2,0),"")
A7: =K7 -> 0 | B7: =CELL("adresse",L7) -> $L$7 | C7: =CELL("adresse",K8) -> $K$8 | D7: =CELL("adresse",H8) -> $H$8 | E7: 5 | F7: =Equipes!B7 -> 0 | I7: =IF(H7<>"",VLOOKUP(H7,joueurs,2,0),"") | L7: =IF(K7<>"",VLOOKUP(K7,joueurs,2,0),"") | O7: =IF(N7<>"",VLOOKUP(N7,joueurs,2,0),"") | R7: =IF(Q7<>"",VLOOKUP(Q7,joueurs,2,0),"")
A8: =N5 -> 0 | B8: =CELL("adresse",O5) -> $O$5 | C8: =CELL("adresse",N8) -> $N$8 | D8: =CELL("adresse",Q8) -> $Q$8 | E8: 6 | F8: =Equipes!B8 -> 0 | J8: Score | P8: Score
A9: =N6 -> 0 | B9: =CELL("adresse",O6) -> $O$6 | C9: =CELL("adresse",N8) -> $N$8 | D9: =CELL("adresse",Q8) -> $Q$8 | E9: 7 | F9: =Equipes!B9 -> 0
A10: =N7 -> 0 | B10: =CELL("adresse",O7) -> $O$7 | C10: =CELL("adresse",N8) -> $N$8 | D10: =CELL("adresse",Q8) -> $Q$8 | E10: 8 | F10: =Equipes!B10 -> 0 | H10: Terrain 3 | N10: Terrain 4
A11: =Q5 -> 0 | B11: =CELL("adresse",R5) -> $R$5 | C11: =CELL("adresse",Q8) -> $Q$8 | D11: =CELL("adresse",N8) -> $N$8 | E11: 9 | F11: =Equipes!B11 -> 0 | I11: =IF(H11<>"",VLOOKUP(H11,joueurs,2,0),"") | J11: Contre | L11: =IF(K11<>"",VLOOKUP(K11,joueurs,2,0),"") | O11: =IF(N11<>"",VLOOKUP(N11,joueurs,2,0),"") | P11: Contre | R11: =IF(Q11<>"",VLOOKUP(Q11,joueurs,2,0),"")
A12: =Q6 -> 0 | B12: =CELL("adresse",R6) -> $R$6 | C12: =CELL("adresse",Q8) -> $Q$8 | D12: =CELL("adresse",N8) -> $N$8 | E12: 10 | F12: =Equipes!B12 -> 0 | I12: =IF(H12<>"",VLOOKUP(H12,joueurs,2,0),"") | L12: =IF(K12<>"",VLOOKUP(K12,joueurs,2,0),"") | O12: =IF(N12<>"",VLOOKUP(N12,joueurs,2,0),"") | R12: =IF(Q12<>"",VLOOKUP(Q12,joueurs,2,0),"")
A13: =Q7 -> 0 | B13: =CELL("adresse",R7) -> $R$7 | C13: =CELL("adresse",Q8) -> $Q$8 | D13: =CELL("adresse",N8) -> $N$8 | E13: 11 | F13: =Equipes!B13 -> 0 | I13: =IF(H13<>"",VLOOKUP(H13,joueurs,2,0),"") | L13: =IF(K13<>"",VLOOKUP(K13,joueurs,2,0),"") | O13: =IF(N13<>"",VLOOKUP(N13,joueurs,2,0),"") | R13: =IF(Q13<>"",VLOOKUP(Q13,joueurs,2,0),"")
A14: =H11 -> 0 | B14: =CELL("adresse",I11) -> $I$11 | C14: =CELL("adresse",H14) -> $H$14 | D14: =CELL("adresse",K14) -> $K$14 | E14: 12 | F14: =Equipes!B14 -> 0 | J14: Score | P14: Score
A15: =H12 -> 0 | B15: =CELL("adresse",I12) -> $I$12 | C15: =CELL("adresse",H14) -> $H$14 | D15: =CELL("adresse",K14) -> $K$14 | E15: 13 | F15: =Equipes!B15 -> 0
A16: =H13 -> 0 | B16: =CELL("adresse",I13) -> $I$13 | C16: =CELL("adresse",H14) -> $H$14 | D16: =CELL("adresse",K14) -> $K$14 | E16: 14 | F16: =Equipes!B16 -> 0 | H16: Terrain 5 | N16: Terrain 6
A17: =K11 -> 0 | B17: =CELL("adresse",L11) -> $L$11 | C17: =CELL("adresse",K14) -> $K$14 | D17: =CELL("adresse",H14) -> $H$14 | E17: 15 | F17: =Equipes!B17 -> 0 | I17: =IF(H17<>"",VLOOKUP(H17,joueurs,2,0),"") | J17: Contre | L17: =IF(K17<>"",VLOOKUP(K17,joueurs,2,0),"") | O17: =IF(N17<>"",VLOOKUP(N17,joueurs,2,0),"") | P17: Contre | R17: =IF(Q17<>"",VLOOKUP(Q17,joueurs,2,0),"")
A18: =K12 -> 0 | B18: =CELL("adresse",L12) -> $L$12 | C18: =CELL("adresse",K14) -> $K$14 | D18: =CELL("adresse",H14) -> $H$14 | E18: 16 | F18: =Equipes!B18 -> 0 | I18: =IF(H18<>"",VLOOKUP(H18,joueurs,2,0),"") | L18: =IF(K18<>"",VLOOKUP(K18,joueurs,2,0),"") | O18: =IF(N18<>"",VLOOKUP(N18,joueurs,2,0),"") | R18: =IF(Q18<>"",VLOOKUP(Q18,joueurs,2,0),"")
A19: =K13 -> 0 | B19: =CELL("adresse",L13) -> $L$13 | C19: =CELL("adresse",K14) -> $K$14 | D19: =CELL("adresse",H14) -> $H$14 | E19: 17 | F19: =Equipes!B19 -> 0 | I19: =IF(H19<>"",VLOOKUP(H19,joueurs,2,0),"") | L19: =IF(K19<>"",VLOOKUP(K19,joueurs,2,0),"") | O19: =IF(N19<>"",VLOOKUP(N19,joueurs,2,0),"") | R19: =IF(Q19<>"",VLOOKUP(Q19,joueurs,2,0),"")
A20: =N11 -> 0 | B20: =CELL("adresse",O11) -> $O$11 | C20: =CELL("adresse",N14) -> $N$14 | D20: =CELL("adresse",Q14) -> $Q$14 | E20: 18 | F20: =Equipes!B20 -> 0 | J20: Score | P20: Score
A21: =N12 -> 0 | B21: =CELL("adresse",O12) -> $O$12 | C21: =CELL("adresse",N14) -> $N$14 | D21: =CELL("adresse",Q14) -> $Q$14 | E21: 19 | F21: =Equipes!B21 -> 0
A22: =N13 -> 0 | B22: =CELL("adresse",O13) -> $O$13 | C22: =CELL("adresse",N14) -> $N$14 | D22: =CELL("adresse",Q14) -> $Q$14 | E22: 20 | F22: =Equipes!B22 -> 0 | H22: Terrain 7 | N22: Terrain 8
A23: =Q11 -> 0 | B23: =CELL("adresse",R11) -> $R$11 | C23: =CELL("adresse",Q14) -> $Q$14 | D23: =CELL("adresse",N14) -> $N$14 | E23: 21 | F23: =Equipes!B23 -> 0 | I23: =IF(H23<>"",VLOOKUP(H23,joueurs,2,0),"") | J23: Contre | L23: =IF(K23<>"",VLOOKUP(K23,joueurs,2,0),"") | O23: =IF(N23<>"",VLOOKUP(N23,joueurs,2,0),"") | P23: Contre | R23: =IF(Q23<>"",VLOOKUP(Q23,joueurs,2,0),"")
A24: =Q12 -> 0 | B24: =CELL("adresse",R12) -> $R$12 | C24: =CELL("adresse",Q14) -> $Q$14 | D24: =CELL("adresse",N14) -> $N$14 | E24: 22 | F24: =Equipes!B24 -> 0 | I24: =IF(H24<>"",VLOOKUP(H24,joueurs,2,0),"") | L24: =IF(K24<>"",VLOOKUP(K24,joueurs,2,0),"") | O24: =IF(N24<>"",VLOOKUP(N24,joueurs,2,0),"") | R24: =IF(Q24<>"",VLOOKUP(Q24,joueurs,2,0),"")
A25: =Q13 -> 0 | B25: =CELL("adresse",R13) -> $R$13 | C25: =CELL("adresse",Q14) -> $Q$14 | D25: =CELL("adresse",N14) -> $N$14 | E25: 23 | F25: =Equipes!B25 -> 0 | I25: =IF(H25<>"",VLOOKUP(H25,joueurs,2,0),"") | L25: =IF(K25<>"",VLOOKUP(K25,joueurs,2,0),"") | O25: =IF(N25<>"",VLOOKUP(N25,joueurs,2,0),"") | R25: =IF(Q25<>"",VLOOKUP(Q25,joueurs,2,0),"")
A26: =H17 -> 0 | B26: =CELL("adresse",I17) -> $I$17 | C26: =CELL("adresse",H20) -> $H$20 | D26: =CELL("adresse",K20) -> $K$20 | E26: 24 | F26: =Equipes!B26 -> 0 | J26: Score | P26: Score
A27: =H18 -> 0 | B27: =CELL("adresse",I18) -> $I$18 | C27: =CELL("adresse",H20) -> $H$20 | D27: =CELL("adresse",K20) -> $K$20 | E27: 25 | F27: =Equipes!B27 -> 0
A28: =H19 -> 0 | B28: =CELL("adresse",I19) -> $I$19 | C28: =CELL("adresse",H20) -> $H$20 | D28: =CELL("adresse",K20) -> $K$20 | E28: 26 | F28: =Equipes!B28 -> 0 | H28: Terrain 9 | N28: Terrain 10
A29: =K17 -> 0 | B29: =CELL("adresse",L17) -> $L$17 | C29: =CELL("adresse",K20) -> $K$20 | D29: =CELL("adresse",H20) -> $H$20 | E29: 27 | F29: =Equipes!B29 -> 0 | I29: =IF(H29<>"",VLOOKUP(H29,joueurs,2,0),"") | J29: Contre | L29: =IF(K29<>"",VLOOKUP(K29,joueurs,2,0),"") | O29: =IF(N29<>"",VLOOKUP(N29,joueurs,2,0),"") | P29: Contre | R29: =IF(Q29<>"",VLOOKUP(Q29,joueurs,2,0),"")
A30: =K18 -> 0 | B30: =CELL("adresse",L18) -> $L$18 | C30: =CELL("adresse",K20) -> $K$20 | D30: =CELL("adresse",H20) -> $H$20 | E30: 28 | F30: =Equipes!B30 -> 0 | I30: =IF(H30<>"",VLOOKUP(H30,joueurs,2,0),"") | L30: =IF(K30<>"",VLOOKUP(K30,joueurs,2,0),"") | O30: =IF(N30<>"",VLOOKUP(N30,joueurs,2,0),"") | R30: =IF(Q30<>"",VLOOKUP(Q30,joueurs,2,0),"")
A31: =K19 -> 0 | B31: =CELL("adresse",L19) -> $L$19 | C31: =CELL("adresse",K20) -> $K$20 | D31: =CELL("adresse",H20) -> $H$20 | E31: 29 | F31: =Equipes!B31 -> 0 | I31: =IF(H31<>"",VLOOKUP(H31,joueurs,2,0),"") | L31: =IF(K31<>"",VLOOKUP(K31,joueurs,2,0),"") | O31: =IF(N31<>"",VLOOKUP(N31,joueurs,2,0),"") | R31: =IF(Q31<>"",VLOOKUP(Q31,joueurs,2,0),"")
A32: =N17 -> 0 | B32: =CELL("adresse",O17) -> $O$17 | C32: =CELL("adresse",N20) -> $N$20 | D32: =CELL("adresse",Q20) -> $Q$20 | E32: 30 | F32: =Equipes!B32 -> 0 | J32: Score | P32: Score
A33: =N18 -> 0 | B33: =CELL("adresse",O18) -> $O$18 | C33: =CELL("adresse",N20) -> $N$20 | D33: =CELL("adresse",Q20) -> $Q$20 | E33: 31 | F33: =Equipes!B33 -> 0
A34: =N19 -> 0 | B34: =CELL("adresse",O19) -> $O$19 | C34: =CELL("adresse",N20) -> $N$20 | D34: =CELL("adresse",Q20) -> $Q$20 | E34: 32 | F34: =Equipes!B34 -> 0
A35: =Q17 -> 0 | B35: =CELL("adresse",R17) -> $R$17 | C35: =CELL("adresse",Q20) -> $Q$20 | D35: =CELL("adresse",N20) -> $N$20 | E35: 33 | F35: =Equipes!B35 -> 0
A36: =Q18 -> 0 | B36: =CELL("adresse",R18) -> $R$18 | C36: =CELL("adresse",Q20) -> $Q$20 | D36: =CELL("adresse",N20) -> $N$20 | E36: 34 | F36: =Equipes!B36 -> 0
A37: =Q19 -> 0 | B37: =CELL("adresse",R19) -> $R$19 | C37: =CELL("adresse",Q20) -> $Q$20 | D37: =CELL("adresse",N20) -> $N$20 | E37: 35 | F37: =Equipes!B37 -> 0
A38: =H23 -> 0 | B38: =CELL("adresse",I23) -> $I$23 | C38: =CELL("adresse",H26) -> $H$26 | D38: =CELL("adresse",K26) -> $K$26 | E38: 36 | F38: =Equipes!B38 -> 0
A39: =H24 -> 0 | B39: =CELL("adresse",I24) -> $I$24 | C39: =CELL("adresse",H26) -> $H$26 | D39: =CELL("adresse",K26) -> $K$26 | E39: 37 | F39: =Equipes!B39 -> 0
A40: =H25 -> 0 | B40: =CELL("adresse",I25) -> $I$25 | C40: =CELL("adresse",H26) -> $H$26 | D40: =CELL("adresse",K26) -> $K$26 | E40: 38 | F40: =Equipes!B40 -> 0
A41: =K23 -> 0 | B41: =CELL("adresse",L23) -> $L$23 | C41: =CELL("adresse",K26) -> $K$26 | D41: =CELL("adresse",H26) -> $H$26 | E41: 39 | F41: =Equipes!B41 -> 0
A42: =K24 -> 0 | B42: =CELL("adresse",L24) -> $L$24 | C42: =CELL("adresse",K26) -> $K$26 | D42: =CELL("adresse",H26) -> $H$26 | E42: 40 | F42: =Equipes!B42 -> 0
A43: =K25 -> 0 | B43: =CELL("adresse",L25) -> $L$25 | C43: =CELL("adresse",K26) -> $K$26 | D43: =CELL("adresse",H26) -> $H$26 | E43: 41 | F43: =Equipes!B43 -> 0
A44: =N23 -> 0 | B44: =CELL("adresse",O23) -> $O$23 | C44: =CELL("adresse",N26) -> $N$26 | D44: =CELL("adresse",Q26) -> $Q$26 | E44: 42 | F44: =Equipes!B44 -> 0
A45: =N24 -> 0 | B45: =CELL("adresse",O24) -> $O$24 | C45: =CELL("adresse",N26) -> $N$26 | D45: =CELL("adresse",Q26) -> $Q$26 | E45: 43 | F45: =Equipes!B45 -> 0
A46: =N25 -> 0 | B46: =CELL("adresse",O25) -> $O$25 | C46: =CELL("adresse",N26) -> $N$26 | D46: =CELL("adresse",Q26) -> $Q$26 | E46: 44 | F46: =Equipes!B46 -> 0
A47: =Q23 -> 0 | B47: =CELL("adresse",R23) -> $R$23 | C47: =CELL("adresse",Q26) -> $Q$26 | D47: =CELL("adresse",N26) -> $N$26 | E47: 45 | F47: =Equipes!B47 -> 0
A48: =Q24 -> 0 | B48: =CELL("adresse",R24) -> $R$24 | C48: =CELL("adresse",Q26) -> $Q$26 | D48: =CELL("adresse",N26) -> $N$26 | E48: 46 | F48: =Equipes!B48 -> 0
A49: =Q25 -> 0 | B49: =CELL("adresse",R25) -> $R$25 | C49: =CELL("adresse",Q26) -> $Q$26 | D49: =CELL("adresse",N26) -> $N$26 | E49: 47 | F49: =Equipes!B49 -> 0
A50: =H29 -> 0 | B50: =CELL("adresse",I29) -> $I$29 | C50: =CELL("adresse",H32) -> $H$32 | D50: =CELL("adresse",K32) -> $K$32 | E50: 48 | F50: =Equipes!B50 -> 0
A51: =H30 -> 0 | B51: =CELL("adresse",I30) -> $I$30 | C51: =CELL("adresse",H32) -> $H$32 | D51: =CELL("adresse",K32) -> $K$32 | E51: 49 | F51: =Equipes!B51 -> 0
A52: =H31 -> 0 | B52: =CELL("adresse",I31) -> $I$31 | C52: =CELL("adresse",H32) -> $H$32 | D52: =CELL("adresse",K32) -> $K$32 | E52: 50 | F52: =Equipes!B52 -> 0
A53: =K29 -> 0 | B53: =CELL("adresse",L29) -> $L$29 | C53: =CELL("adresse",K32) -> $K$32 | D53: =CELL("adresse",H32) -> $H$32 | E53: 51 | F53: =Equipes!B53 -> 0
A54: =K30 -> 0 | B54: =CELL("adresse",L30) -> $L$30 | C54: =CELL("adresse",K32) -> $K$32 | D54: =CELL("adresse",H32) -> $H$32 | E54: 52 | F54: =Equipes!B54 -> 0
A55: =K31 -> 0 | B55: =CELL("adresse",L31) -> $L$31 | C55: =CELL("adresse",K32) -> $K$32 | D55: =CELL("adresse",H32) -> $H$32 | E55: 53 | F55: =Equipes!B55 -> 0
A56: =N29 -> 0 | B56: =CELL("adresse",O29) -> $O$29 | C56: =CELL("adresse",N32) -> $N$32 | D56: =CELL("adresse",Q32) -> $Q$32 | E56: 54 | F56: =Equipes!B56 -> 0
A57: =N30 -> 0 | B57: =CELL("adresse",O30) -> $O$30 | C57: =CELL("adresse",N32) -> $N$32 | D57: =CELL("adresse",Q32) -> $Q$32 | E57: 55 | F57: =Equipes!B57 -> 0
A58: =N31 -> 0 | B58: =CELL("adresse",O31) -> $O$31 | C58: =CELL("adresse",N32) -> $N$32 | D58: =CELL("adresse",Q32) -> $Q$32 | E58: 56 | F58: =Equipes!B58 -> 0
A59: =Q29 -> 0 | B59: =CELL("adresse",R29) -> $R$29 | C59: =CELL("adresse",Q32) -> $Q$32 | D59: =CELL("adresse",N32) -> $N$32 | E59: 57 | F59: =Equipes!B59 -> 0
A60: =Q30 -> 0 | B60: =CELL("adresse",R30) -> $R$30 | C60: =CELL("adresse",Q32) -> $Q$32 | D60: =CELL("adresse",N32) -> $N$32 | E60: 58 | F60: =Equipes!B60 -> 0
A61: =Q31 -> 0 | B61: =CELL("adresse",R31) -> $R$31 | C61: =CELL("adresse",Q32) -> $Q$32 | D61: =CELL("adresse",N32) -> $N$32 | E61: 59 | F61: =Equipes!B61 -> 0
E62: 60 | F62: =Equipes!B62 -> 0

Sheet Match6
A1: N° | B1: Ref. J. | C1: Son score | D1: Score adv. | E1: Concours à la mêlée
A2: =H5 -> 0 | B2: =CELL("adresse",I5) -> $I$5 | C2: =CELL("adresse",H8) -> $H$8 | D2: =CELL("adresse",K8) -> $K$8 | H2: 6ème MATCH
A3: =H6 -> 0 | B3: =CELL("adresse",I6) -> $I$6 | C3: =CELL("adresse",H8) -> $H$8 | D3: =CELL("adresse",K8) -> $K$8 | E3: 1 | F3: =Equipes!B3 -> greg
A4: =H7 -> 0 | B4: =CELL("adresse",I7) -> $I$7 | C4: =CELL("adresse",H8) -> $H$8 | D4: =CELL("adresse",K8) -> $K$8 | E4: 2 | F4: =Equipes!B4 -> simon | H4: Terrain 1 | N4: Terrain 2
A5: =K5 -> 0 | B5: =CELL("adresse",L5) -> $L$5 | C5: =CELL("adresse",K8) -> $K$8 | D5: =CELL("adresse",H8) -> $H$8 | E5: 3 | F5: =Equipes!B5 -> nat | I5: =IF(H5<>"",VLOOKUP(H5,joueurs,2,0),"") | J5: Contre | L5: =IF(K5<>"",VLOOKUP(K5,joueurs,2,0),"") | O5: =IF(N5<>"",VLOOKUP(N5,joueurs,2,0),"") | P5: Contre | R5: =IF(Q5<>"",VLOOKUP(Q5,joueurs,2,0),"")
A6: =K6 -> 0 | B6: =CELL("adresse",L6) -> $L$6 | C6: =CELL("adresse",K8) -> $K$8 | D6: =CELL("adresse",H8) -> $H$8 | E6: 4 | F6: =Equipes!B6 -> mickey | I6: =IF(H6<>"",VLOOKUP(H6,joueurs,2,0),"") | L6: =IF(K6<>"",VLOOKUP(K6,joueurs,2,0),"") | O6: =IF(N6<>"",VLOOKUP(N6,joueurs,2,0),"") | R6: =IF(Q6<>"",VLOOKUP(Q6,joueurs,2,0),"")
A7: =K7 -> 0 | B7: =CELL("adresse",L7) -> $L$7 | C7: =CELL("adresse",K8) -> $K$8 | D7: =CELL("adresse",H8) -> $H$8 | E7: 5 | F7: =Equipes!B7 -> 0 | I7: =IF(H7<>"",VLOOKUP(H7,joueurs,2,0),"") | L7: =IF(K7<>"",VLOOKUP(K7,joueurs,2,0),"") | O7: =IF(N7<>"",VLOOKUP(N7,joueurs,2,0),"") | R7: =IF(Q7<>"",VLOOKUP(Q7,joueurs,2,0),"")
A8: =N5 -> 0 | B8: =CELL("adresse",O5) -> $O$5 | C8: =CELL("adresse",N8) -> $N$8 | D8: =CELL("adresse",Q8) -> $Q$8 | E8: 6 | F8: =Equipes!B8 -> 0 | J8: Score | P8: Score
A9: =N6 -> 0 | B9: =CELL("adresse",O6) -> $O$6 | C9: =CELL("adresse",N8) -> $N$8 | D9: =CELL("adresse",Q8) -> $Q$8 | E9: 7 | F9: =Equipes!B9 -> 0
A10: =N7 -> 0 | B10: =CELL("adresse",O7) -> $O$7 | C10: =CELL("adresse",N8) -> $N$8 | D10: =CELL("adresse",Q8) -> $Q$8 | E10: 8 | F10: =Equipes!B10 -> 0 | H10: Terrain 3 | N10: Terrain 4
A11: =Q5 -> 0 | B11: =CELL("adresse",R5) -> $R$5 | C11: =CELL("adresse",Q8) -> $Q$8 | D11: =CELL("adresse",N8) -> $N$8 | E11: 9 | F11: =Equipes!B11 -> 0 | I11: =IF(H11<>"",VLOOKUP(H11,joueurs,2,0),"") | J11: Contre | L11: =IF(K11<>"",VLOOKUP(K11,joueurs,2,0),"") | O11: =IF(N11<>"",VLOOKUP(N11,joueurs,2,0),"") | P11: Contre | R11: =IF(Q11<>"",VLOOKUP(Q11,joueurs,2,0),"")
A12: =Q6 -> 0 | B12: =CELL("adresse",R6) -> $R$6 | C12: =CELL("adresse",Q8) -> $Q$8 | D12: =CELL("adresse",N8) -> $N$8 | E12: 10 | F12: =Equipes!B12 -> 0 | I12: =IF(H12<>"",VLOOKUP(H12,joueurs,2,0),"") | L12: =IF(K12<>"",VLOOKUP(K12,joueurs,2,0),"") | O12: =IF(N12<>"",VLOOKUP(N12,joueurs,2,0),"") | R12: =IF(Q12<>"",VLOOKUP(Q12,joueurs,2,0),"")
A13: =Q7 -> 0 | B13: =CELL("adresse",R7) -> $R$7 | C13: =CELL("adresse",Q8) -> $Q$8 | D13: =CELL("adresse",N8) -> $N$8 | E13: 11 | F13: =Equipes!B13 -> 0 | I13: =IF(H13<>"",VLOOKUP(H13,joueurs,2,0),"") | L13: =IF(K13<>"",VLOOKUP(K13,joueurs,2,0),"") | O13: =IF(N13<>"",VLOOKUP(N13,joueurs,2,0),"") | R13: =IF(Q13<>"",VLOOKUP(Q13,joueurs,2,0),"")
A14: =H11 -> 0 | B14: =CELL("adresse",I11) -> $I$11 | C14: =CELL("adresse",H14) -> $H$14 | D14: =CELL("adresse",K14) -> $K$14 | E14: 12 | F14: =Equipes!B14 -> 0 | J14: Score | P14: Score
A15: =H12 -> 0 | B15: =CELL("adresse",I12) -> $I$12 | C15: =CELL("adresse",H14) -> $H$14 | D15: =CELL("adresse",K14) -> $K$14 | E15: 13 | F15: =Equipes!B15 -> 0
A16: =H13 -> 0 | B16: =CELL("adresse",I13) -> $I$13 | C16: =CELL("adresse",H14) -> $H$14 | D16: =CELL("adresse",K14) -> $K$14 | E16: 14 | F16: =Equipes!B16 -> 0 | H16: Terrain 5 | N16: Terrain 6
A17: =K11 -> 0 | B17: =CELL("adresse",L11) -> $L$11 | C17: =CELL("adresse",K14) -> $K$14 | D17: =CELL("adresse",H14) -> $H$14 | E17: 15 | F17: =Equipes!B17 -> 0 | I17: =IF(H17<>"",VLOOKUP(H17,joueurs,2,0),"") | J17: Contre | L17: =IF(K17<>"",VLOOKUP(K17,joueurs,2,0),"") | O17: =IF(N17<>"",VLOOKUP(N17,joueurs,2,0),"") | P17: Contre | R17: =IF(Q17<>"",VLOOKUP(Q17,joueurs,2,0),"")
A18: =K12 -> 0 | B18: =CELL("adresse",L12) -> $L$12 | C18: =CELL("adresse",K14) -> $K$14 | D18: =CELL("adresse",H14) -> $H$14 | E18: 16 | F18: =Equipes!B18 -> 0 | I18: =IF(H18<>"",VLOOKUP(H18,joueurs,2,0),"") | L18: =IF(K18<>"",VLOOKUP(K18,joueurs,2,0),"") | O18: =IF(N18<>"",VLOOKUP(N18,joueurs,2,0),"") | R18: =IF(Q18<>"",VLOOKUP(Q18,joueurs,2,0),"")
A19: =K13 -> 0 | B19: =CELL("adresse",L13) -> $L$13 | C19: =CELL("adresse",K14) -> $K$14 | D19: =CELL("adresse",H14) -> $H$14 | E19: 17 | F19: =Equipes!B19 -> 0 | I19: =IF(H19<>"",VLOOKUP(H19,joueurs,2,0),"") | L19: =IF(K19<>"",VLOOKUP(K19,joueurs,2,0),"") | O19: =IF(N19<>"",VLOOKUP(N19,joueurs,2,0),"") | R19: =IF(Q19<>"",VLOOKUP(Q19,joueurs,2,0),"")
A20: =N11 -> 0 | B20: =CELL("adresse",O11) -> $O$11 | C20: =CELL("adresse",N14) -> $N$14 | D20: =CELL("adresse",Q14) -> $Q$14 | E20: 18 | F20: =Equipes!B20 -> 0 | J20: Score | P20: Score
A21: =N12 -> 0 | B21: =CELL("adresse",O12) -> $O$12 | C21: =CELL("adresse",N14) -> $N$14 | D21: =CELL("adresse",Q14) -> $Q$14 | E21: 19 | F21: =Equipes!B21 -> 0
A22: =N13 -> 0 | B22: =CELL("adresse",O13) -> $O$13 | C22: =CELL("adresse",N14) -> $N$14 | D22: =CELL("adresse",Q14) -> $Q$14 | E22: 20 | F22: =Equipes!B22 -> 0 | H22: Terrain 7 | N22: Terrain 8
A23: =Q11 -> 0 | B23: =CELL("adresse",R11) -> $R$11 | C23: =CELL("adresse",Q14) -> $Q$14 | D23: =CELL("adresse",N14) -> $N$14 | E23: 21 | F23: =Equipes!B23 -> 0 | I23: =IF(H23<>"",VLOOKUP(H23,joueurs,2,0),"") | J23: Contre | L23: =IF(K23<>"",VLOOKUP(K23,joueurs,2,0),"") | O23: =IF(N23<>"",VLOOKUP(N23,joueurs,2,0),"") | P23: Contre | R23: =IF(Q23<>"",VLOOKUP(Q23,joueurs,2,0),"")
A24: =Q12 -> 0 | B24: =CELL("adresse",R12) -> $R$12 | C24: =CELL("adresse",Q14) -> $Q$14 | D24: =CELL("adresse",N14) -> $N$14 | E24: 22 | F24: =Equipes!B24 -> 0 | I24: =IF(H24<>"",VLOOKUP(H24,joueurs,2,0),"") | L24: =IF(K24<>"",VLOOKUP(K24,joueurs,2,0),"") | O24: =IF(N24<>"",VLOOKUP(N24,joueurs,2,0),"") | R24: =IF(Q24<>"",VLOOKUP(Q24,joueurs,2,0),"")
A25: =Q13 -> 0 | B25: =CELL("adresse",R13) -> $R$13 | C25: =CELL("adresse",Q14) -> $Q$14 | D25: =CELL("adresse",N14) -> $N$14 | E25: 23 | F25: =Equipes!B25 -> 0 | I25: =IF(H25<>"",VLOOKUP(H25,joueurs,2,0),"") | L25: =IF(K25<>"",VLOOKUP(K25,joueurs,2,0),"") | O25: =IF(N25<>"",VLOOKUP(N25,joueurs,2,0),"") | R25: =IF(Q25<>"",VLOOKUP(Q25,joueurs,2,0),"")
A26: =H17 -> 0 | B26: =CELL("adresse",I17) -> $I$17 | C26: =CELL("adresse",H20) -> $H$20 | D26: =CELL("adresse",K20) -> $K$20 | E26: 24 | F26: =Equipes!B26 -> 0 | J26: Score | P26: Score
A27: =H18 -> 0 | B27: =CELL("adresse",I18) -> $I$18 | C27: =CELL("adresse",H20) -> $H$20 | D27: =CELL("adresse",K20) -> $K$20 | E27: 25 | F27: =Equipes!B27 -> 0
A28: =H19 -> 0 | B28: =CELL("adresse",I19) -> $I$19 | C28: =CELL("adresse",H20) -> $H$20 | D28: =CELL("adresse",K20) -> $K$20 | E28: 26 | F28: =Equipes!B28 -> 0 | H28: Terrain 9 | N28: Terrain 10
A29: =K17 -> 0 | B29: =CELL("adresse",L17) -> $L$17 | C29: =CELL("adresse",K20) -> $K$20 | D29: =CELL("adresse",H20) -> $H$20 | E29: 27 | F29: =Equipes!B29 -> 0 | I29: =IF(H29<>"",VLOOKUP(H29,joueurs,2,0),"") | J29: Contre | L29: =IF(K29<>"",VLOOKUP(K29,joueurs,2,0),"") | O29: =IF(N29<>"",VLOOKUP(N29,joueurs,2,0),"") | P29: Contre | R29: =IF(Q29<>"",VLOOKUP(Q29,joueurs,2,0),"")
A30: =K18 -> 0 | B30: =CELL("adresse",L18) -> $L$18 | C30: =CELL("adresse",K20) -> $K$20 | D30: =CELL("adresse",H20) -> $H$20 | E30: 28 | F30: =Equipes!B30 -> 0 | I30: =IF(H30<>"",VLOOKUP(H30,joueurs,2,0),"") | L30: =IF(K30<>"",VLOOKUP(K30,joueurs,2,0),"") | O30: =IF(N30<>"",VLOOKUP(N30,joueurs,2,0),"") | R30: =IF(Q30<>"",VLOOKUP(Q30,joueurs,2,0),"")
A31: =K19 -> 0 | B31: =CELL("adresse",L19) -> $L$19 | C31: =CELL("adresse",K20) -> $K$20 | D31: =CELL("adresse",H20) -> $H$20 | E31: 29 | F31: =Equipes!B31 -> 0 | I31: =IF(H31<>"",VLOOKUP(H31,joueurs,2,0),"") | L31: =IF(K31<>"",VLOOKUP(K31,joueurs,2,0),"") | O31: =IF(N31<>"",VLOOKUP(N31,joueurs,2,0),"") | R31: =IF(Q31<>"",VLOOKUP(Q31,joueurs,2,0),"")
A32: =N17 -> 0 | B32: =CELL("adresse",O17) -> $O$17 | C32: =CELL("adresse",N20) -> $N$20 | D32: =CELL("adresse",Q20) -> $Q$20 | E32: 30 | F32: =Equipes!B32 -> 0 | J32: Score | P32: Score
A33: =N18 -> 0 | B33: =CELL("adresse",O18) -> $O$18 | C33: =CELL("adresse",N20) -> $N$20 | D33: =CELL("adresse",Q20) -> $Q$20 | E33: 31 | F33: =Equipes!B33 -> 0
A34: =N19 -> 0 | B34: =CELL("adresse",O19) -> $O$19 | C34: =CELL("adresse",N20) -> $N$20 | D34: =CELL("adresse",Q20) -> $Q$20 | E34: 32 | F34: =Equipes!B34 -> 0
A35: =Q17 -> 0 | B35: =CELL("adresse",R17) -> $R$17 | C35: =CELL("adresse",Q20) -> $Q$20 | D35: =CELL("adresse",N20) -> $N$20 | E35: 33 | F35: =Equipes!B35 -> 0
A36: =Q18 -> 0 | B36: =CELL("adresse",R18) -> $R$18 | C36: =CELL("adresse",Q20) -> $Q$20 | D36: =CELL("adresse",N20) -> $N$20 | E36: 34 | F36: =Equipes!B36 -> 0
A37: =Q19 -> 0 | B37: =CELL("adresse",R19) -> $R$19 | C37: =CELL("adresse",Q20) -> $Q$20 | D37: =CELL("adresse",N20) -> $N$20 | E37: 35 | F37: =Equipes!B37 -> 0
A38: =H23 -> 0 | B38: =CELL("adresse",I23) -> $I$23 | C38: =CELL("adresse",H26) -> $H$26 | D38: =CELL("adresse",K26) -> $K$26 | E38: 36 | F38: =Equipes!B38 -> 0
A39: =H24 -> 0 | B39: =CELL("adresse",I24) -> $I$24 | C39: =CELL("adresse",H26) -> $H$26 | D39: =CELL("adresse",K26) -> $K$26 | E39: 37 | F39: =Equipes!B39 -> 0
A40: =H25 -> 0 | B40: =CELL("adresse",I25) -> $I$25 | C40: =CELL("adresse",H26) -> $H$26 | D40: =CELL("adresse",K26) -> $K$26 | E40: 38 | F40: =Equipes!B40 -> 0
A41: =K23 -> 0 | B41: =CELL("adresse",L23) -> $L$23 | C41: =CELL("adresse",K26) -> $K$26 | D41: =CELL("adresse",H26) -> $H$26 | E41: 39 | F41: =Equipes!B41 -> 0
A42: =K24 -> 0 | B42: =CELL("adresse",L24) -> $L$24 | C42: =CELL("adresse",K26) -> $K$26 | D42: =CELL("adresse",H26) -> $H$26 | E42: 40 | F42: =Equipes!B42 -> 0
A43: =K25 -> 0 | B43: =CELL("adresse",L25) -> $L$25 | C43: =CELL("adresse",K26) -> $K$26 | D43: =CELL("adresse",H26) -> $H$26 | E43: 41 | F43: =Equipes!B43 -> 0
A44: =N23 -> 0 | B44: =CELL("adresse",O23) -> $O$23 | C44: =CELL("adresse",N26) -> $N$26 | D44: =CELL("adresse",Q26) -> $Q$26 | E44: 42 | F44: =Equipes!B44 -> 0
A45: =N24 -> 0 | B45: =CELL("adresse",O24) -> $O$24 | C45: =CELL("adresse",N26) -> $N$26 | D45: =CELL("adresse",Q26) -> $Q$26 | E45: 43 | F45: =Equipes!B45 -> 0
A46: =N25 -> 0 | B46: =CELL("adresse",O25) -> $O$25 | C46: =CELL("adresse",N26) -> $N$26 | D46: =CELL("adresse",Q26) -> $Q$26 | E46: 44 | F46: =Equipes!B46 -> 0
A47: =Q23 -> 0 | B47: =CELL("adresse",R23) -> $R$23 | C47: =CELL("adresse",Q26) -> $Q$26 | D47: =CELL("adresse",N26) -> $N$26 | E47: 45 | F47: =Equipes!B47 -> 0
A48: =Q24 -> 0 | B48: =CELL("adresse",R24) -> $R$24 | C48: =CELL("adresse",Q26) -> $Q$26 | D48: =CELL("adresse",N26) -> $N$26 | E48: 46 | F48: =Equipes!B48 -> 0
A49: =Q25 -> 0 | B49: =CELL("adresse",R25) -> $R$25 | C49: =CELL("adresse",Q26) -> $Q$26 | D49: =CELL("adresse",N26) -> $N$26 | E49: 47 | F49: =Equipes!B49 -> 0
A50: =H29 -> 0 | B50: =CELL("adresse",I29) -> $I$29 | C50: =CELL("adresse",H32) -> $H$32 | D50: =CELL("adresse",K32) -> $K$32 | E50: 48 | F50: =Equipes!B50 -> 0
A51: =H30 -> 0 | B51: =CELL("adresse",I30) -> $I$30 | C51: =CELL("adresse",H32) -> $H$32 | D51: =CELL("adresse",K32) -> $K$32 | E51: 49 | F51: =Equipes!B51 -> 0
A52: =H31 -> 0 | B52: =CELL("adresse",I31) -> $I$31 | C52: =CELL("adresse",H32) -> $H$32 | D52: =CELL("adresse",K32) -> $K$32 | E52: 50 | F52: =Equipes!B52 -> 0
A53: =K29 -> 0 | B53: =CELL("adresse",L29) -> $L$29 | C53: =CELL("adresse",K32) -> $K$32 | D53: =CELL("adresse",H32) -> $H$32 | E53: 51 | F53: =Equipes!B53 -> 0
A54: =K30 -> 0 | B54: =CELL("adresse",L30) -> $L$30 | C54: =CELL("adresse",K32) -> $K$32 | D54: =CELL("adresse",H32) -> $H$32 | E54: 52 | F54: =Equipes!B54 -> 0
A55: =K31 -> 0 | B55: =CELL("adresse",L31) -> $L$31 | C55: =CELL("adresse",K32) -> $K$32 | D55: =CELL("adresse",H32) -> $H$32 | E55: 53 | F55: =Equipes!B55 -> 0
A56: =N29 -> 0 | B56: =CELL("adresse",O29) -> $O$29 | C56: =CELL("adresse",N32) -> $N$32 | D56: =CELL("adresse",Q32) -> $Q$32 | E56: 54 | F56: =Equipes!B56 -> 0
A57: =N30 -> 0 | B57: =CELL("adresse",O30) -> $O$30 | C57: =CELL("adresse",N32) -> $N$32 | D57: =CELL("adresse",Q32) -> $Q$32 | E57: 55 | F57: =Equipes!B57 -> 0
A58: =N31 -> 0 | B58: =CELL("adresse",O31) -> $O$31 | C58: =CELL("adresse",N32) -> $N$32 | D58: =CELL("adresse",Q32) -> $Q$32 | E58: 56 | F58: =Equipes!B58 -> 0
A59: =Q29 -> 0 | B59: =CELL("adresse",R29) -> $R$29 | C59: =CELL("adresse",Q32) -> $Q$32 | D59: =CELL("adresse",N32) -> $N$32 | E59: 57 | F59: =Equipes!B59 -> 0
A60: =Q30 -> 0 | B60: =CELL("adresse",R30) -> $R$30 | C60: =CELL("adresse",Q32) -> $Q$32 | D60: =CELL("adresse",N32) -> $N$32 | E60: 58 | F60: =Equipes!B60 -> 0
A61: =Q31 -> 0 | B61: =CELL("adresse",R31) -> $R$31 | C61: =CELL("adresse",Q32) -> $Q$32 | D61: =CELL("adresse",N32) -> $N$32 | E61: 59 | F61: =Equipes!B61 -> 0
E62: 60 | F62: =Equipes!B62 -> 0
