Workbook

Sheet Données
B2: JOUR | C2: PREPARATIONS | D2: REFERENCES | E2: MOY ANCIENNETE | G2: ERREURS | H2: REF/PREP | I2: ERREURS
A3: 1 | B3: 6 | C3: 12 | D3: 58 | E3: 43 | F3: 1 | G3: 0 | H3: =+D3/C3 -> 4.8333333 | I3: 0
A4: 2 | B4: 7 | C4: 6 | D4: 11 | E4: 30 | F4: 1 | G4: 0 | H4: =+D4/C4 -> 1.8333333 | I4: 0
A5: 3 | B5: 8 | C5: 6 | D5: 27 | E5: 30 | F5: 2 | G5: 0 | H5: =+D5/C5 -> 4.5 | I5: 0
A6: 4 | B6: 9 | C6: 1 | D6: 1 | E6: 25 | F6: 2 | G6: 0 | H6: =+D6/C6 -> 1 | I6: 0
A7: 5 | B7: 12 | C7: 12 | D7: 30 | E7: 25 | F7: 2 | G7: 0 | H7: =+D7/C7 -> 2.5 | I7: 0
A8: 6 | B8: 13 | C8: 10 | D8: 41 | E8: 25 | F8: 2 | G8: 0 | H8: =+D8/C8 -> 4.1 | I8: 0
A9: 7 | B9: 14 | C9: 19 | D9: 31 | E9: 25 | F9: 2 | G9: 3 | H9: =+D9/C9 -> 1.6315789 | I9: 1
A10: 8 | B10: 15 | C10: 8 | D10: 22 | E10: 25 | F10: 2 | G10: 0 | H10: =+D10/C10 -> 2.75 | I10: 0
A11: 9 | B11: 16 | C11: 1 | D11: 1 | E11: 25 | F11: 2 | G11: 0 | H11: =+D11/C11 -> 1 | I11: 0
A12: 10 | B12: 19 | C12: 7 | D12: 19 | E12: 25 | F12: 2 | G12: 1 | H12: =+D12/C12 -> 2.7142857 | I12: 1
A13: 11 | B13: 20 | C13: 11 | D13: 21 | E13: 25 | F13: 2 | G13: 0 | H13: =+D13/C13 -> 1.9090909 | I13: 0
A14: 12 | B14: 21 | C14: 11 | D14: 44 | E14: 7 | F14: 1 | G14: 2 | H14: =+D14/C14 -> 4 | I14: 1
... A37: 35 | B37: 28 | C37: 24 | D37: 51 | E37: 1 | F37: 2 | G37: 0 | H37: =+D37/C37 -> 2.125 | I37: 0

Sheet som erreur maga
A3: Somme de ERREURS
A4: NOMBRE MAGASINIERS | B4: Total
A5: 1 | B5: 10
A6: 2 | B6: 7
A7: 3 | B7: 1

Sheet ancienneté
A1: ANCIENNETE | B1: ERREUR | C1: NOMBRE MAGASINIERS
A2: =+Données!E3 -> 43 | B2: =Données!G3 -> 0 | C2: 1
A3: =+Données!E4 -> 30 | B3: =Données!G4 -> 0 | C3: 1
A4: =+Données!E5 -> 30 | B4: =Données!G5 -> 0 | C4: 2
A5: =+Données!E6 -> 25 | B5: =Données!G6 -> 0 | C5: 2
A6: =+Données!E7 -> 25 | B6: =Données!G7 -> 0 | C6: 2
A7: =+Données!E8 -> 25 | B7: =Données!G8 -> 0 | C7: 2
A8: =+Données!E9 -> 25 | B8: =Données!G9 -> 3 | C8: 2
A9: =+Données!E10 -> 25 | B9: =Données!G10 -> 0 | C9: 2
A10: =+Données!E11 -> 25 | B10: =Données!G11 -> 0 | C10: 2
A11: =+Données!E12 -> 25 | B11: =Données!G12 -> 1 | C11: 2
A12: =+Données!E13 -> 25 | B12: =Données!G13 -> 0 | C12: 2
A13: =+Données!E14 -> 7 | B13: =Données!G14 -> 2 | C13: 1
... A25: =+Données!E26 -> 1 | B25: =Données!G26 -> 0 | C25: 2
A26: =+Données!E27 -> 1 | B26: =Données!G27 -> 0 | C26: 2 | E26: Somme de ERREUR
A27: =+Données!E28 -> 1 | B27: =Données!G28 -> 0 | C27: 2 | E27: ANCIENNETE | F27: Total | H27: Ancienneté | I27: Erreurs
A28: =+Données!E29 -> 1 | B28: =Données!G29 -> 0 | C28: 2 | E28: 43 | F28: 2 | H28: [0:10] | I28: 10
A29: =+Données!E30 -> 1 | B29: =Données!G30 -> 1 | C29: 2 | E29: 30 | F29: 0 | H29: ]10;20] | I29: 2
A30: =+Données!E31 -> 1 | B30: =Données!G31 -> 0 | C30: 2 | E30: 25 | F30: 4 | H30: ]20:30] | I30: 4
A31: =+Données!E32 -> 11 | B31: =Données!G32 -> 1 | C31: 1 | E31: 11 | F31: 2 | H31: ]30;40] | I31: 0
A32: =+Données!E33 -> 11 | B32: =Données!G33 -> 1 | C32: 3 | E32: 7 | F32: 7 | H32: ]40;50] | I32: 2
A33: =+Données!E34 -> 11 | B33: =Données!G34 -> 0 | C33: 3 | E33: 1 | F33: 3
A34: =+Données!E35 -> 1 | B34: =Données!G35 -> 1 | C34: 2
A35: =+Données!E36 -> 1 | B35: =Données!G36 -> 1 | C35: 2
A36: =+Données!E37 -> 1 | B36: =Données!G37 -> 0 | C36: 2
B42: =CORREL(A2:A36,B2:B36) -> -0.089089702

Sheet som prep tranche
A3: Somme de préparation
A4: tranche | B4: préparation | C4: Total
A5: 00-05 | C5: 14
A6: 05-10 | C6: 121
A7: 10-15 | C7: 133
A8: 15-20 | C8: 55
A9: 20-25 | C9: 24
A10: Total général | C10: 347

Sheet Feuil6
B1: MOY ANCIENNETE | C1: NOMBRE MAGASINIERS
B2: 43 | C2: 1
B3: 30 | C3: 1
B4: 30 | C4: 1
B5: 25 | C5: 1
B6: 25 | C6: 1
B7: 25 | C7: 1
B8: 25 | C8: 1
B9: 25 | C9: 1
B10: 25 | C10: 1
B11: 25 | C11: 1
B12: 25 | C12: 1
B13: 7 | C13: 1
... B16: 43 | C16: 1
B17: 43 | C17: 2 | L17: Somme de NOMBRE MAGASINIERS | M17: MOY ANCIENNETE
B18: 43 | C18: 2 | L18: NOMBRE MAGASINIERS | M18: 1 | N18: 7 | O18: 11 | P18: 25 | Q18: 30 | R18: 43 | S18: Total général
B19: 43 | C19: 2 | L19: 1 | N19: 3 | P19: 8 | Q19: 2 | R19: 2 | S19: 15
B20: 43 | C20: 2 | L20: 2 | M20: 14 | O20: 6 | R20: 16 | S20: 36
B21: 43 | C21: 2 | L21: 3 | M21: 6 | S21: 6
B22: 43 | C22: 2 | L22: Total général | M22: 20 | N22: 3 | O22: 6 | P22: 8 | Q22: 2 | R22: 18 | S22: 57
B23: 43 | C23: 2
B24: 43 | C24: 2
B25: 1 | C25: 2
B26: 1 | C26: 2
B27: 1 | C27: 2 | F27: 10 | G27: 1 | H27: 3 | I27: 1 | J27: 15
B28: 1 | C28: 2 | F28: 26 | G28: 8 | I28: 2 | J28: 36
B29: 1 | C29: 2 | F29: 3 | G29: 3 | J29: 6
B30: 1 | C30: 2
B31: 11 | C31: 2
B32: 11 | C32: 2
B33: 11 | C33: 2
B34: 1 | C34: 2
B35: 1 | C35: 3
B36: 1 | C36: 3

Sheet prep
A1: tranche | B1: préparation | C1: Erreur
A2: 10-15 | B2: =Données!C3 -> 12 | C2: =ancienneté!B2 -> 0
A3: 05-10 | B3: =Données!C4 -> 6 | C3: =ancienneté!B3 -> 0
A4: 05-10 | B4: =Données!C5 -> 6 | C4: =ancienneté!B4 -> 0
A5: 00-05 | B5: =Données!C6 -> 1 | C5: =ancienneté!B5 -> 0
A6: 10-15 | B6: =Données!C7 -> 12 | C6: =ancienneté!B6 -> 0
A7: 05-10 | B7: =Données!C8 -> 10 | C7: =ancienneté!B7 -> 0
A8: 15-20 | B8: =Données!C9 -> 19 | C8: =ancienneté!B8 -> 3
A9: 05-10 | B9: =Données!C10 -> 8 | C9: =ancienneté!B9 -> 0
A10: 00-05 | B10: =Données!C11 -> 1 | C10: =ancienneté!B10 -> 0
A11: 05-10 | B11: =Données!C12 -> 7 | C11: =ancienneté!B11 -> 1
A12: 10-15 | B12: =Données!C13 -> 11 | C12: =ancienneté!B12 -> 0
A13: 10-15 | B13: =Données!C14 -> 11 | C13: =ancienneté!B13 -> 2
... A29: 05-10 | B29: =Données!C30 -> 9 | C29: =ancienneté!B29 -> 1
A30: 05-10 | B30: =Données!C31 -> 7 | C30: =ancienneté!B30 -> 0 | N30: Somme de préparation | O30: Étiquettes de colonnes
A31: 10-15 | B31: =Données!C32 -> 11 | C31: =ancienneté!B31 -> 1 | N31: Étiquettes de lignes | O31: 1 | P31: 2 | Q31: 5 | R31: 6 | S31: 7 | T31: 8 | U31: 9 | V31: 10 | W31: 11 | X31: 12 | Y31: 13 | Z31: 14 | AA31: 18 | AB31: 19 | AC31: 24 | AD31: Total général
A32: 15-20 | B32: =Données!C33 -> 18 | C32: =ancienneté!B32 -> 1 | D32: Somme de Erreur | I32: Nombre de Erreur | N32: 00-05 | O32: 2 | P32: 2 | Q32: 10 | AD32: 14
A33: 10-15 | B33: =Données!C34 -> 14 | C33: =ancienneté!B33 -> 0 | D33: tranche | E33: Total | I33: tranche | J33: Total | N33: 05-10 | R33: 12 | S33: 35 | T33: 16 | U33: 18 | V33: 40 | AD33: 121
A34: 05-10 | B34: =Données!C35 -> 8 | C34: =ancienneté!B34 -> 1 | D34: 00-05 | E34: 2 | I34: 00-05 | J34: 5 | L34: =I32 -> Nombre de Erreur | N34: 10-15 | W34: 33 | X34: 60 | Y34: 26 | Z34: 14 | AD34: 133
A35: 05-10 | B35: =Données!C36 -> 10 | C35: =ancienneté!B35 -> 1 | D35: 05-10 | E35: 4 | I35: 05-10 | J35: 15 | L35: =GETPIVOTDATA("Erreur",$I$32,"tranche","05-10")/GETPIVOTDATA("Erreur",$D$32,"tranche","05-10") -> 3.75 | N35: 15-20 | AA35: 36 | AB35: 19 | AD35: 55
A36: 20-25 | B36: =Données!C37 -> 24 | C36: =ancienneté!B36 -> 0 | D36: 10-15 | E36: 8 | I36: 10-15 | J36: 11 | N36: 20-25 | AC36: 24 | AD36: 24
D37: 15-20 | E37: 4 | I37: 15-20 | J37: 3 | N37: Total général | O37: 2 | P37: 2 | Q37: 10 | R37: 12 | S37: 35 | T37: 16 | U37: 18 | V37: 40 | W37: 33 | X37: 60 | Y37: 26 | Z37: 14 | AA37: 36 | AB37: 19 | AC37: 24 | AD37: 347
D38: 20-25 | E38: 0 | I38: 20-25 | J38: 1
D39: Total général | E39: 18 | I39: Total général | J39: 35
I44: Pourcentage erreur tranche de prep
H45: tranches
H46: 00-05 | I46: =5/14 -> 0.35714286
H47: 05-10 | I47: =15/121 -> 0.12396694
H48: 10-15 | I48: =11/133 -> 0.082706767
H49: 15-20 | I49: =3/55 -> 0.054545455
H50: 20-25 | I50: =1/24 -> 0.041666667

Sheet Feuil12
A2: moyennes | B2: 1.45 | C2: 2 | D2: 1
A3: tranches | B3: 10 | C3: 30 | D3: 50

Sheet ref
A1: tranches | B1: references | C1: erreurs
A2: 50-80 | B2: =Données!D3 -> 58 | C2: =Données!G3 -> 0
A3: 10-20 | B3: =Données!D4 -> 11 | C3: =Données!G4 -> 0
A4: 30-40 | B4: =Données!D5 -> 27 | C4: =Données!G5 -> 0
A5: 0-10 | B5: =Données!D6 -> 1 | C5: =Données!G6 -> 0
A6: 20-30 | B6: =Données!D7 -> 30 | C6: =Données!G7 -> 0
A7: 40-50 | B7: =Données!D8 -> 41 | C7: =Données!G8 -> 0
A8: 30-40 | B8: =Données!D9 -> 31 | C8: =Données!G9 -> 3
A9: 20-30 | B9: =Données!D10 -> 22 | C9: =Données!G10 -> 0
A10: 0-10 | B10: =Données!D11 -> 1 | C10: =Données!G11 -> 0
A11: 10-20 | B11: =Données!D12 -> 19 | C11: =Données!G12 -> 1
A12: 20-30 | B12: =Données!D13 -> 21 | C12: =Données!G13 -> 0
A13: 40-50 | B13: =Données!D14 -> 44 | C13: =Données!G14 -> 2
A14: 40-50 | B14: =Données!D15 -> 48 | C14: =Données!G15 -> 3
A15: 10-20 | B15: =Données!D16 -> 14 | C15: 1
A16: 20-30 | B16: =Données!D17 -> 23 | C16: =Données!G17 -> 3
A17: 50-80 | B17: =Données!D18 -> 73 | C17: 3
A18: 10-20 | B18: =Données!D19 -> 10 | C18: =Données!G19 -> 0
A19: 0-10 | B19: =Données!D20 -> 5 | C19: =Données!G20 -> 0
A20: 10-20 | B20: =Données!D21 -> 11 | C20: =Données!G21 -> 0
A21: 30-40 | B21: =Données!D22 -> 31 | C21: =Données!G22 -> 2
A22: 30-40 | B22: =Données!D23 -> 30 | C22: =Données!G23 -> 0
A23: 30-40 | B23: =Données!D24 -> 36 | C23: =Données!G24 -> 0
A24: 20-30 | B24: =Données!D25 -> 25 | C24: =Données!G25 -> 0
A25: 20-30 | B25: =Données!D26 -> 14 | C25: =Données!G26 -> 0
A26: 20-30 | B26: =Données!D27 -> 20 | C26: =Données!G27 -> 0
A27: 20-30 | B27: =Données!D28 -> 20 | C27: =Données!G28 -> 0
A28: 40-50 | B28: =Données!D29 -> 42 | C28: =Données!G29 -> 0
A29: 40-50 | B29: =Données!D30 -> 43 | C29: =Données!G30 -> 1
... A32: 20-30 | B32: =Données!D33 -> 27 | C32: =Données!G33 -> 1
A33: 20-30 | B33: =Données!D34 -> 26 | C33: =Données!G34 -> 0 | L33: Somme de erreurs
A34: 10-20 | B34: =Données!D35 -> 17 | C34: =Données!G35 -> 1 | L34: tranches | M34: Total
A35: 20-30 | B35: =Données!D36 -> 29 | C35: =Données!G36 -> 1 | L35: 0-10 | M35: 0
A36: 50-80 | B36: =Données!D37 -> 51 | C36: 2 | F36: Pourcentage erreur ref | L36: 10-20 | M36: 4
E37: tranches | L37: 20-30 | M37: 2
E38: 0-10 | F38: 0 | L38: 30-40 | M38: 6
E39: 10-20 | F39: =4/82 -> 0.048780488 | L39: 40-50 | M39: 6
E40: 20-30 | F40: =2/285 -> 0.0070175439 | L40: 50-80 | M40: 5
E41: 30-40 | F41: =6/187 -> 0.032085561 | L41: Total général | M41: 23
E42: 40-50 | F42: =6/218 -> 0.027522936
...

Sheet ref;prep
A1: nombre de ref/prépa | B1: erreurs
A2: =Données!H6 -> 1 | B2: =Données!G6 -> 0
A3: =Données!H11 -> 1 | B3: =Données!G11 -> 0
A4: =Données!H20 -> 1 | B4: =Données!G20 -> 0
A5: =Données!H19 -> 1.4285714 | B5: =Données!G19 -> 0
A6: =Données!H33 -> 1.5 | B6: =Données!G33 -> 1
A7: =Données!H21 -> 1.5714286 | B7: =Données!G21 -> 0
A8: =Données!H9 -> 1.6315789 | B8: =Données!G9 -> 3
A9: =Données!H17 -> 1.7692308 | B9: =Données!G17 -> 3
A10: =Données!H4 -> 1.8333333 | B10: =Données!G4 -> 0
A11: =Données!H34 -> 1.8571429 | B11: =Données!G34 -> 0
A12: =Données!H13 -> 1.9090909 | B12: =Données!G13 -> 0
A13: =Données!H25 -> 1.9230769 | B13: =Données!G25 -> 0
A14: =Données!H27 -> 2 | B14: =Données!G27 -> 0
A15: =Données!H35 -> 2.125 | B15: =Données!G35 -> 1
A16: =Données!H37 -> 2.125 | B16: =Données!G37 -> 0
A17: =Données!H7 -> 2.5 | B17: =Données!G7 -> 0
A18: =Données!H23 -> 2.5 | B18: =Données!G23 -> 0
A19: =Données!H22 -> 2.5833333 | B19: =Données!G22 -> 2
A20: =Données!H12 -> 2.7142857 | B20: =Données!G12 -> 1
A21: =Données!H10 -> 2.75 | B21: =Données!G10 -> 0
A22: =Données!H26 -> 2.8 | B22: =Données!G26 -> 0
A23: =Données!H28 -> 2.8571429 | B23: =Données!G28 -> 0
A24: =Données!H36 -> 2.9 | B24: =Données!G36 -> 1
A25: =Données!H32 -> 2.9090909 | B25: =Données!G32 -> 1
A26: =Données!H24 -> 3.6 | B26: =Données!G24 -> 0
A27: =Données!H14 -> 4 | B27: =Données!G14 -> 2
A28: =Données!H15 -> 4 | B28: =Données!G15 -> 3
A29: =Données!H31 -> 4 | B29: =Données!G31 -> 0
A30: =Données!H18 -> 4.0555556 | B30: =Données!G18 -> 0
A31: =Données!H8 -> 4.1 | B31: =Données!G8 -> 0
A32: =Données!H5 -> 4.5 | B32: =Données!G5 -> 0
A33: =Données!H29 -> 4.6666667 | B33: =Données!G29 -> 0
A34: =Données!H30 -> 4.7777778 | B34: =Données!G30 -> 1
A35: =Données!H3 -> 4.8333333 | B35: =Données!G3 -> 0
A36: =Données!H16 -> 7 | B36: =Données!G16 -> 1
