Workbook

Sheet 2018
A1: Events | B1: Event duration | F1: =E2+E1 -> 43101 | G1: =F1+1 -> 43102 | H1: =G1+1 -> 43103 | I1: =H1+1 -> 43104 | J1: =I1+1 -> 43105 | K1: =J1+1 -> 43106 | L1: =K1+1 -> 43107 | M1: =L1+1 -> 43108 | N1: =M1+1 -> 43109 | ... NJ1: =NI1+1 -> 43469
E2: 43101 | F2: ="S "&WEEKNUM(F1,2) -> S 1 | G2: =IF(G3="L","S "&WEEKNUM(G1,2),"") | H2: =IF(H3="L","S "&WEEKNUM(H1,2),"") | I2: =IF(I3="L","S "&WEEKNUM(I1,2),"") | J2: =IF(J3="L","S "&WEEKNUM(J1,2),"") | K2: =IF(K3="L","S "&WEEKNUM(K1,2),"") | L2: =IF(L3="L","S "&WEEKNUM(L1,2),"") | M2: =IF(M3="L","S "&WEEKNUM(M1,2),"") -> S 2 | N2: =IF(N3="L","S "&WEEKNUM(N1,2),"") | ... NJ2: =IF(NJ3="L","S "&WEEKNUM(NJ1,2),"")
E3: =TODAY() -> 43304 | F3: =CHOOSE(WEEKDAY(F1),"D","L","M","M","J","V","S") -> L | G3: =CHOOSE(WEEKDAY(G1),"D","L","M","M","J","V","S") -> M | H3: =CHOOSE(WEEKDAY(H1),"D","L","M","M","J","V","S") -> M | I3: =CHOOSE(WEEKDAY(I1),"D","L","M","M","J","V","S") -> J | J3: =CHOOSE(WEEKDAY(J1),"D","L","M","M","J","V","S") -> V | K3: =CHOOSE(WEEKDAY(K1),"D","L","M","M","J","V","S") -> S | L3: =CHOOSE(WEEKDAY(L1),"D","L","M","M","J","V","S") -> D | M3: =CHOOSE(WEEKDAY(M1),"D","L","M","M","J","V","S") -> L | ... NJ3: =CHOOSE(WEEKDAY(NJ1),"D","L","M","M","J","V","S") -> V
F4: =DAY(F1) -> 1 | G4: =DAY(G1) -> 2 | H4: =DAY(H1) -> 3 | I4: =DAY(I1) -> 4 | J4: =DAY(J1) -> 5 | K4: =DAY(K1) -> 6 | L4: =DAY(L1) -> 7 | M4: =DAY(M1) -> 8 | ... NJ4: =DAY(NJ1) -> 4
A5: =Database!A5 -> Event 1 | B5: =Database!B5 -> 43224 | C5: =Database!C5 -> 43224 | D5: =B5 -> 43224
A6: maquette 1 | B6: =B5 -> 43224 | C6: =C5 -> 43224 | D6: =D5 -> 43224
A7: maquette 2 | B7: =B5 -> 43224 | C7: =C5 -> 43224 | D7: =D5 -> 43224
B8: =B5 -> 43224 | C8: =C5 -> 43224 | D8: =D5 -> 43224
A9: =Database!A6 -> Event 2 | B9: =Database!B6 -> 43236 | C9: =Database!C6 -> 43237 | D9: =B9 -> 43236
A10: maquette 1 | B10: =B9 -> 43236 | C10: =C9 -> 43237 | D10: =D9 -> 43236
A11: maquette 3 | B11: =B9 -> 43236 | C11: =C9 -> 43237 | D11: =D9 -> 43236
A12: =Database!A7 -> Event 3 | B12: =Database!B7 -> 43255 | C12: =Database!C7 -> 43259 | D12: =B12 -> 43255
A13: maquette 3 | B13: =B12 -> 43255 | C13: =C12 -> 43259 | D13: =D12 -> 43255
B14: =B12 -> 43255 | C14: =C12 -> 43259 | D14: =D12 -> 43255
B15: =B12 -> 43255 | C15: =C12 -> 43259 | D15: =D12 -> 43255
A16: =Database!A8 -> 0 | B16: =Database!B8 -> 0 | C16: =Database!C8 -> 0 | D16: =B16 -> 0
B17: =B16 -> 0 | C17: =C16 -> 0 | D17: =D16 -> 0
B18: =B16 -> 0 | C18: =C16 -> 0 | D18: =D16 -> 0
B19: =B16 -> 0 | C19: =C16 -> 0 | D19: =D16 -> 0
A20: =Database!A9 -> 0 | B20: =Database!B9 -> 0 | C20: =Database!C9 -> 0 | D20: =B20 -> 0
B21: =B20 -> 0 | C21: =C20 -> 0 | D21: =D20 -> 0
B22: =B20 -> 0 | C22: =C20 -> 0 | D22: =D20 -> 0
B23: =B20 -> 0 | C23: =C20 -> 0 | D23: =D20 -> 0
A24: =Database!A10 -> 0 | B24: =Database!B10 -> 0 | C24: =Database!C10 -> 0 | D24: =B24 -> 0
B25: =B24 -> 0 | C25: =C24 -> 0 | D25: =D24 -> 0
B26: =B24 -> 0 | C26: =C24 -> 0 | D26: =D24 -> 0
B27: =B24 -> 0 | C27: =C24 -> 0 | D27: =D24 -> 0
A28: =Database!A11 -> 0 | B28: =Database!B11 -> 0 | C28: =Database!C11 -> 0 | D28: =B28 -> 0
B29: =B28 -> 0 | C29: =C28 -> 0 | D29: =D28 -> 0
B30: =B28 -> 0 | C30: =C28 -> 0 | D30: =D28 -> 0
B31: =B28 -> 0 | C31: =C28 -> 0 | D31: =D28 -> 0
B32: =B29 -> 0 | C32: =C29 -> 0 | D32: =D29 -> 0
A33: =Database!A12 -> 0 | B33: =Database!B12 -> 0 | C33: =Database!C12 -> 0 | D33: =B33 -> 0
B34: =B33 -> 0 | C34: =C33 -> 0 | D34: =D33 -> 0
B35: =B33 -> 0 | C35: =C33 -> 0 | D35: =D33 -> 0
B36: =B33 -> 0 | C36: =C33 -> 0 | D36: =D33 -> 0
A37: =Database!A13 -> 0 | B37: =Database!B13 -> 0 | C37: =Database!C13 -> 0 | D37: =B37 -> 0
B38: =B37 -> 0 | C38: =C37 -> 0 | D38: =D37 -> 0
B39: =B37 -> 0 | C39: =C37 -> 0 | D39: =D37 -> 0
B40: =B37 -> 0 | C40: =C37 -> 0 | D40: =D37 -> 0
...

Sheet Table
A1: 1 | B1: L | D1: OUI
A2: 2 | B2: M | D2: NON
A3: 3 | B3: M
A4: 4 | B4: J
A5: 5 | B5: V
A6: 6 | B6: S
A7: 7 | B7: D

Sheet Database
A1: Events | B1: Date start | C1: Date end
A5: Event 1 | B5: 43224 | C5: 43224
A6: Event 2 | B6: 43236 | C6: 43237
A7: Event 3 | B7: 43255 | C7: 43259

Sheet Mock-up
A1: Designation | B1: Pictures | C1: Ref. | D1: Location | E1: Departure Date | G1: Event duration | I1: Return Date | N1: 43101 | O1: =N1+N3 -> 43101 | P1: =+O1+1 -> 43102 | Q1: =+P1+1 -> 43103 | R1: =+Q1+1 -> 43104 | S1: =+R1+1 -> 43105 | T1: =+S1+1 -> 43106 | U1: =+T1+1 -> 43107 | V1: =+U1+1 -> 43108 | W1: =+V1+1 -> 43109 | ... SI1: =+SH1+1 -> 43589
N2: =TODAY() -> 43304 | O2: ="S "&WEEKNUM(O1,2) -> S 1 | P2: =IF(P3="L","S "&WEEKNUM(P1,2),"") | Q2: =IF(Q3="L","S "&WEEKNUM(Q1,2),"") | R2: =IF(R3="L","S "&WEEKNUM(R1,2),"") | S2: =IF(S3="L","S "&WEEKNUM(S1,2),"") | T2: =IF(T3="L","S "&WEEKNUM(T1,2),"") | U2: =IF(U3="L","S "&WEEKNUM(U1,2),"") | V2: =IF(V3="L","S "&WEEKNUM(V1,2),"") -> S 2 | W2: =IF(W3="L","S "&WEEKNUM(W1,2),"") | ... SI2: =IF(SI3="L","S "&WEEKNUM(SI1,2),"")
N3: 0 | O3: =CHOOSE(WEEKDAY(O1),"D","L","M","M","J","V","S") -> L | P3: =CHOOSE(WEEKDAY(P1),"D","L","M","M","J","V","S") -> M | Q3: =CHOOSE(WEEKDAY(Q1),"D","L","M","M","J","V","S") -> M | R3: =CHOOSE(WEEKDAY(R1),"D","L","M","M","J","V","S") -> J | S3: =CHOOSE(WEEKDAY(S1),"D","L","M","M","J","V","S") -> V | T3: =CHOOSE(WEEKDAY(T1),"D","L","M","M","J","V","S") -> S | U3: =CHOOSE(WEEKDAY(U1),"D","L","M","M","J","V","S") -> D | V3: =CHOOSE(WEEKDAY(V1),"D","L","M","M","J","V","S") -> L | ... SI3: =CHOOSE(WEEKDAY(SI1),"D","L","M","M","J","V","S") -> S
O4: =DAY(O1) -> 1 | P4: =DAY(P1) -> 2 | Q4: =DAY(Q1) -> 3 | R4: =DAY(R1) -> 4 | S4: =DAY(S1) -> 5 | T4: =DAY(T1) -> 6 | U4: =DAY(U1) -> 7 | V4: =DAY(V1) -> 8 | ... SI4: =DAY(SI1) -> 4
A5: maquette 1 | C5: /// | K5: =E5 -> 0 | L5: =G5 -> 0 | M5: =I5 -> 0
A6: maquette 2 | C6: /// | K6: =E6 -> 0 | L6: =G6 -> 0 | M6: =I6 -> 0
A7: maquette 3 | C7: /// | K7: =E7 -> 0 | L7: =G7 -> 0 | M7: =I7 -> 0
K8: =E8 -> 0 | L8: =G8 -> 0 | M8: =I8 -> 0
K9: =E9 -> 0 | L9: =G9 -> 0 | M9: =I9 -> 0
K10: =E10 -> 0 | L10: =G10 -> 0 | M10: =I10 -> 0
K11: =E11 -> 0 | L11: =G11 -> 0 | M11: =I11 -> 0
K12: =E12 -> 0 | L12: =G12 -> 0 | M12: =I12 -> 0
K13: =E13 -> 0 | L13: =G13 -> 0 | M13: =I13 -> 0
K14: =E14 -> 0 | L14: =G14 -> 0 | M14: =I14 -> 0
K15: =E15 -> 0 | L15: =G15 -> 0 | M15: =I15 -> 0
K16: =E16 -> 0 | L16: =G16 -> 0 | M16: =I16 -> 0
K17: =E17 -> 0 | L17: =G17 -> 0 | M17: =I17 -> 0
K18: =E18 -> 0 | L18: =G18 -> 0 | M18: =I18 -> 0
K19: =E19 -> 0 | L19: =G19 -> 0 | M19: =I19 -> 0
... K607: =E607 -> 0 | L607: =G607 -> 0 | M607: =I607 -> 0

Sheet S
A1: 1 | B1: L | D1: OUI
A2: 2 | B2: M | D2: NON
A3: 3 | B3: M
A4: 4 | B4: J
A5: 5 | B5: V
A6: 6 | B6: S
A7: 7 | B7: D
