Workbook

Sheet 2018
A1: Events | B1: Event duration | F1: =E2+E1 -> 43101 | G1: =F1+1 -> 43102 | H1: =G1+1 -> 43103 | I1: =H1+1 -> 43104 | J1: =I1+1 -> 43105 | K1: =J1+1 -> 43106 | L1: =K1+1 -> 43107 | M1: =L1+1 -> 43108 | N1: =M1+1 -> 43109 | ... NJ1: =NI1+1 -> 43469
E2: 43101 | F2: ="S "&WEEKNUM(F1,2) -> S 1 | G2: =IF(G3="L","S "&WEEKNUM(G1,2),"") | H2: =IF(H3="L","S "&WEEKNUM(H1,2),"") | I2: =IF(I3="L","S "&WEEKNUM(I1,2),"") | J2: =IF(J3="L","S "&WEEKNUM(J1,2),"") | K2: =IF(K3="L","S "&WEEKNUM(K1,2),"") | L2: =IF(L3="L","S "&WEEKNUM(L1,2),"") | M2: =IF(M3="L","S "&WEEKNUM(M1,2),"") -> S 2 | N2: =IF(N3="L","S "&WEEKNUM(N1,2),"") | ... NJ2: =IF(NJ3="L","S "&WEEKNUM(NJ1,2),"")
E3: =TODAY() -> 43304 | F3: =CHOOSE(WEEKDAY(F1),"D","L","M","M","J","V","S") -> L | G3: =CHOOSE(WEEKDAY(G1),"D","L","M","M","J","V","S") -> M | H3: =CHOOSE(WEEKDAY(H1),"D","L","M","M","J","V","S") -> M | I3: =CHOOSE(WEEKDAY(I1),"D","L","M","M","J","V","S") -> J | J3: =CHOOSE(WEEKDAY(J1),"D","L","M","M","J","V","S") -> V | K3: =CHOOSE(WEEKDAY(K1),"D","L","M","M","J","V","S") -> S | L3: =CHOOSE(WEEKDAY(L1),"D","L","M","M","J","V","S") -> D | M3: =CHOOSE(WEEKDAY(M1),"D","L","M","M","J","V","S") -> L | ... NJ3: =CHOOSE(WEEKDAY(NJ1),"D","L","M","M","J","V","S") -> V
F4: =DAY(F1) -> 1 | G4: =DAY(G1) -> 2 | H4: =DAY(H1) -> 3 | I4: =DAY(I1) -> 4 | J4: =DAY(J1) -> 5 | K4: =DAY(K1) -> 6 | L4: =DAY(L1) -> 7 | M4: =DAY(M1) -> 8 | ... NJ4: =DAY(NJ1) -> 4
A5: =Database!A5 -> Event 1 | B5: =Database!B5 -> 43224 | C5: =Database!C5 -> 43224 | D5: =B5 -> 43224
A6: maquette 1 | B6: =B5 -> 43224 | C6: =C5 -> 43224 | D6: =D5 -> 43224
A7: maquette 2 | B7: =B5 -> 43224 | C7: =C5 -> 43224 | D7: =D5 -> 43224
B8: =B5 -> 43224 | C8: =C5 -> 43224 | D8: =D5 -> 43224
A9: =Database!A6 -> Event 2 | B9: =Database!B6 -> 43236 | C9: =Database!C6 -> 43237 | D9: =B9 -> 43236
A10: maquette 1 | B10: =B9 -> 43236 | C10: =C9 -> 43237 | D10: =D9 -> 43236
A11: maquette 3 | B11: =B9 -> 43236 | C11: =C9 -> 43237 | D11: =D9 -> 43236
A12: =Database!A7 -> Event 3 | B12: =Database!B7 -> 43255 | C12: =Database!C7 -> 43259 | D12: =B12 -> 43255
A13: maquette 3 | B13: =B12 -> 43255 | C13: =C12 -> 43259 | D13: =D12 -> 43255
B14: =B12 -> 43255 | C14: =C12 -> 43259 | D14: =D12 -> 43255
B15: =B12 -> 43255 | C15: =C12 -> 43259 | D15: =D12 -> 43255
A16: =Database!A8 -> 0 | B16: =Database!B8 -> 0 | C16: =Database!C8 -> 0 | D16: =B16 -> 0
B17: =B16 -> 0 | C17: =C16 -> 0 | D17: =D16 -> 0
B18: =B16 -> 0 | C18: =C16 -> 0 | D18: =D16 -> 0
B19: =B16 -> 0 | C19: =C16 -> 0 | D19: =D16 -> 0
A20: =Database!A9 -> 0 | B20: =Database!B9 -> 0 | C20: =Database!C9 -> 0 | D20: =B20 -> 0
B21: =B20 -> 0 | C21: =C20 -> 0 | D21: =D20 -> 0
B22: =B20 -> 0 | C22: =C20 -> 0 | D22: =D20 -> 0
B23: =B20 -> 0 | C23: =C20 -> 0 | D23: =D20 -> 0
A24: =Database!A10 -> 0 | B24: =Database!B10 -> 0 | C24: =Database!C10 -> 0 | D24: =B24 -> 0
B25: =B24 -> 0 | C25: =C24 -> 0 | D25: =D24 -> 0
B26: =B24 -> 0 | C26: =C24 -> 0 | D26: =D24 -> 0
B27: =B24 -> 0 | C27: =C24 -> 0 | D27: =D24 -> 0
A28: =Database!A11 -> 0 | B28: =Database!B11 -> 0 | C28: =Database!C11 -> 0 | D28: =B28 -> 0
B29: =B28 -> 0 | C29: =C28 -> 0 | D29: =D28 -> 0
B30: =B28 -> 0 | C30: =C28 -> 0 | D30: =D28 -> 0
B31: =B28 -> 0 | C31: =C28 -> 0 | D31: =D28 -> 0
B32: =B29 -> 0 | C32: =C29 -> 0 | D32: =D29 -> 0
A33: =Database!A12 -> 0 | B33: =Database!B12 -> 0 | C33: =Database!C12 -> 0 | D33: =B33 -> 0
B34: =B33 -> 0 | C34: =C33 -> 0 | D34: =D33 -> 0
B35: =B33 -> 0 | C35: =C33 -> 0 | D35: =D33 -> 0
B36: =B33 -> 0 | C36: =C33 -> 0 | D36: =D33 -> 0
A37: =Database!A13 -> 0 | B37: =Database!B13 -> 0 | C37: =Database!C13 -> 0 | D37: =B37 -> 0
B38: =B37 -> 0 | C38: =C37 -> 0 | D38: =D37 -> 0
B39: =B37 -> 0 | C39: =C37 -> 0 | D39: =D37 -> 0
B40: =B37 -> 0 | C40: =C37 -> 0 | D40: =D37 -> 0
A41: =Database!A14 -> 0 | B41: =Database!B14 -> 0 | C41: =Database!C14 -> 0 | D41: =B41 -> 0
B42: =B41 -> 0 | C42: =C41 -> 0 | D42: =D41 -> 0
B43: =B41 -> 0 | C43: =C41 -> 0 | D43: =D41 -> 0
B44: =B41 -> 0 | C44: =C41 -> 0 | D44: =D41 -> 0
A45: =Database!A15 -> 0 | B45: =Database!B15 -> 0 | C45: =Database!C15 -> 0 | D45: =B45 -> 0
B46: =B45 -> 0 | C46: =C45 -> 0 | D46: =D45 -> 0
B47: =B45 -> 0 | C47: =C45 -> 0 | D47: =D45 -> 0
B48: =B45 -> 0 | C48: =C45 -> 0 | D48: =D45 -> 0
A49: =Database!A16 -> 0 | B49: =Database!B16 -> 0 | C49: =Database!C16 -> 0 | D49: =B49 -> 0
B50: =B49 -> 0 | C50: =C49 -> 0 | D50: =D49 -> 0
B51: =B49 -> 0 | C51: =C49 -> 0 | D51: =D49 -> 0
B52: =B49 -> 0 | C52: =C49 -> 0 | D52: =D49 -> 0
A53: =Database!A17 -> 0 | B53: =Database!B17 -> 0 | C53: =Database!C17 -> 0 | D53: =B53 -> 0
B54: =B53 -> 0 | C54: =C53 -> 0 | D54: =D53 -> 0
B55: =B53 -> 0 | C55: =C53 -> 0 | D55: =D53 -> 0
B56: =B53 -> 0 | C56: =C53 -> 0 | D56: =D53 -> 0
A57: =Database!A18 -> 0 | B57: =Database!B18 -> 0 | C57: =Database!C18 -> 0 | D57: =B57 -> 0
B58: =B57 -> 0 | C58: =C57 -> 0 | D58: =D57 -> 0
B59: =B57 -> 0 | C59: =C57 -> 0 | D59: =D57 -> 0
B60: =B57 -> 0 | C60: =C57 -> 0 | D60: =D57 -> 0
A61: =Database!A19 -> 0 | B61: =Database!B19 -> 0 | C61: =Database!C19 -> 0 | D61: =B61 -> 0
B62: =B61 -> 0 | C62: =C61 -> 0 | D62: =D61 -> 0
B63: =B61 -> 0 | C63: =C61 -> 0 | D63: =D61 -> 0
B64: =B61 -> 0 | C64: =C61 -> 0 | D64: =D61 -> 0
A65: =Database!A20 -> 0 | B65: =Database!B20 -> 0 | C65: =Database!C20 -> 0 | D65: =B65 -> 0
B66: =B65 -> 0 | C66: =C65 -> 0 | D66: =D65 -> 0
B67: =B65 -> 0 | C67: =C65 -> 0 | D67: =D65 -> 0
B68: =B65 -> 0 | C68: =C65 -> 0 | D68: =D65 -> 0
A69: =Database!A21 -> 0 | B69: =Database!B21 -> 0 | C69: =Database!C21 -> 0 | D69: =B69 -> 0
B70: =B69 -> 0 | C70: =C69 -> 0 | D70: =D69 -> 0
B71: =B69 -> 0 | C71: =C69 -> 0 | D71: =D69 -> 0
B72: =B69 -> 0 | C72: =C69 -> 0 | D72: =D69 -> 0
A73: =Database!A22 -> 0 | B73: =Database!B22 -> 0 | C73: =Database!C22 -> 0 | D73: =B73 -> 0
B74: =B73 -> 0 | C74: =C73 -> 0 | D74: =D73 -> 0
B75: =B73 -> 0 | C75: =C73 -> 0 | D75: =D73 -> 0
B76: =B73 -> 0 | C76: =C73 -> 0 | D76: =D73 -> 0
A77: =Database!A23 -> 0 | B77: =Database!B23 -> 0 | C77: =Database!C23 -> 0 | D77: =B77 -> 0
B78: =B77 -> 0 | C78: =C77 -> 0 | D78: =D77 -> 0
B79: =B77 -> 0 | C79: =C77 -> 0 | D79: =D77 -> 0
B80: =B77 -> 0 | C80: =C77 -> 0 | D80: =D77 -> 0
A81: =Database!A24 -> 0 | B81: =Database!B24 -> 0 | C81: =Database!C24 -> 0 | D81: =B81 -> 0
A82: =Database!A25 -> 0 | B82: =Database!B25 -> 0 | C82: =Database!C25 -> 0 | D82: =B82 -> 0
A83: =Database!A26 -> 0 | B83: =Database!B26 -> 0 | C83: =Database!C26 -> 0 | D83: =B83 -> 0
A84: =Database!A27 -> 0 | B84: =Database!B27 -> 0 | C84: =Database!C27 -> 0 | D84: =B84 -> 0
A85: =Database!A28 -> 0 | B85: =Database!B28 -> 0 | C85: =Database!C28 -> 0 | D85: =B85 -> 0
A86: =Database!A29 -> 0 | B86: =Database!B29 -> 0 | C86: =Database!C29 -> 0 | D86: =B86 -> 0
A87: =Database!A30 -> 0 | B87: =Database!B30 -> 0 | C87: =Database!C30 -> 0 | D87: =B87 -> 0
A88: =Database!A31 -> 0 | B88: =Database!B31 -> 0 | C88: =Database!C31 -> 0 | D88: =B88 -> 0
A89: =Database!A32 -> 0 | B89: =Database!B32 -> 0 | C89: =Database!C32 -> 0 | D89: =B89 -> 0
A90: =Database!A33 -> 0 | B90: =Database!B33 -> 0 | C90: =Database!C33 -> 0 | D90: =B90 -> 0
A91: =Database!A34 -> 0 | B91: =Database!B34 -> 0 | C91: =Database!C34 -> 0 | D91: =B91 -> 0
A92: =Database!A35 -> 0 | B92: =Database!B35 -> 0 | C92: =Database!C35 -> 0 | D92: =B92 -> 0
... A116: =Database!A59 -> 0 | B116: =Database!B59 -> 0 | C116: =Database!C59 -> 0 | D116: =B116 -> 0
B117: =Database!B60 -> 0 | C117: =Database!C60 -> 0 | D117: =B117 -> 0
B118: =Database!B61 -> 0 | C118: =Database!C61 -> 0 | D118: =B118 -> 0
B119: =Database!B62 -> 0 | C119: =Database!C62 -> 0 | D119: =B119 -> 0
B120: =Database!B63 -> 0 | C120: =Database!C63 -> 0 | D120: =B120 -> 0
B121: =Database!B64 -> 0 | C121: =Database!C64 -> 0 | D121: =B121 -> 0
B122: =Database!B65 -> 0 | C122: =Database!C65 -> 0 | D122: =B122 -> 0
B123: =Database!B66 -> 0 | C123: =Database!C66 -> 0 | D123: =B123 -> 0
...

Sheet Table
A1: 1 | B1: L | D1: OUI
A2: 2 | B2: M | D2: NON
A3: 3 | B3: M
A4: 4 | B4: J
A5: 5 | B5: V
A6: 6 | B6: S
A7: 7 | B7: D

Sheet Database
A1: Events | B1: Date start | C1: Date end
A5: Event 1 | B5: 43224 | C5: 43224
A6: Event 2 | B6: 43236 | C6: 43237
A7: Event 3 | B7: 43255 | C7: 43259

Sheet Mock-up
A1: Designation | B1: Pictures | C1: Ref. | D1: Location | E1: Departure Date | G1: Event duration | I1: Return Date | N1: 43101 | O1: =N1+N3 -> 43101 | P1: =+O1+1 -> 43102 | Q1: =+P1+1 -> 43103 | R1: =+Q1+1 -> 43104 | S1: =+R1+1 -> 43105 | T1: =+S1+1 -> 43106 | U1: =+T1+1 -> 43107 | V1: =+U1+1 -> 43108 | W1: =+V1+1 -> 43109 | ... SI1: =+SH1+1 -> 43589
N2: =TODAY() -> 43304 | O2: ="S "&WEEKNUM(O1,2) -> S 1 | P2: =IF(P3="L","S "&WEEKNUM(P1,2),"") | Q2: =IF(Q3="L","S "&WEEKNUM(Q1,2),"") | R2: =IF(R3="L","S "&WEEKNUM(R1,2),"") | S2: =IF(S3="L","S "&WEEKNUM(S1,2),"") | T2: =IF(T3="L","S "&WEEKNUM(T1,2),"") | U2: =IF(U3="L","S "&WEEKNUM(U1,2),"") | V2: =IF(V3="L","S "&WEEKNUM(V1,2),"") -> S 2 | W2: =IF(W3="L","S "&WEEKNUM(W1,2),"") | ... SI2: =IF(SI3="L","S "&WEEKNUM(SI1,2),"")
N3: 0 | O3: =CHOOSE(WEEKDAY(O1),"D","L","M","M","J","V","S") -> L | P3: =CHOOSE(WEEKDAY(P1),"D","L","M","M","J","V","S") -> M | Q3: =CHOOSE(WEEKDAY(Q1),"D","L","M","M","J","V","S") -> M | R3: =CHOOSE(WEEKDAY(R1),"D","L","M","M","J","V","S") -> J | S3: =CHOOSE(WEEKDAY(S1),"D","L","M","M","J","V","S") -> V | T3: =CHOOSE(WEEKDAY(T1),"D","L","M","M","J","V","S") -> S | U3: =CHOOSE(WEEKDAY(U1),"D","L","M","M","J","V","S") -> D | V3: =CHOOSE(WEEKDAY(V1),"D","L","M","M","J","V","S") -> L | ... SI3: =CHOOSE(WEEKDAY(SI1),"D","L","M","M","J","V","S") -> S
O4: =DAY(O1) -> 1 | P4: =DAY(P1) -> 2 | Q4: =DAY(Q1) -> 3 | R4: =DAY(R1) -> 4 | S4: =DAY(S1) -> 5 | T4: =DAY(T1) -> 6 | U4: =DAY(U1) -> 7 | V4: =DAY(V1) -> 8 | ... SI4: =DAY(SI1) -> 4
A5: maquette 1 | C5: /// | K5: =E5 -> 0 | L5: =G5 -> 0 | M5: =I5 -> 0
A6: maquette 2 | C6: /// | K6: =E6 -> 0 | L6: =G6 -> 0 | M6: =I6 -> 0
A7: maquette 3 | C7: /// | K7: =E7 -> 0 | L7: =G7 -> 0 | M7: =I7 -> 0
K8: =E8 -> 0 | L8: =G8 -> 0 | M8: =I8 -> 0
K9: =E9 -> 0 | L9: =G9 -> 0 | M9: =I9 -> 0
K10: =E10 -> 0 | L10: =G10 -> 0 | M10: =I10 -> 0
K11: =E11 -> 0 | L11: =G11 -> 0 | M11: =I11 -> 0
K12: =E12 -> 0 | L12: =G12 -> 0 | M12: =I12 -> 0
K13: =E13 -> 0 | L13: =G13 -> 0 | M13: =I13 -> 0
K14: =E14 -> 0 | L14: =G14 -> 0 | M14: =I14 -> 0
K15: =E15 -> 0 | L15: =G15 -> 0 | M15: =I15 -> 0
K16: =E16 -> 0 | L16: =G16 -> 0 | M16: =I16 -> 0
K17: =E17 -> 0 | L17: =G17 -> 0 | M17: =I17 -> 0
K18: =E18 -> 0 | L18: =G18 -> 0 | M18: =I18 -> 0
K19: =E19 -> 0 | L19: =G19 -> 0 | M19: =I19 -> 0
... K607: =E607 -> 0 | L607: =G607 -> 0 | M607: =I607 -> 0

Sheet S
A1: 1 | B1: L | D1: OUI
A2: 2 | B2: M | D2: NON
A3: 3 | B3: M
A4: 4 | B4: J
A5: 5 | B5: V
A6: 6 | B6: S
A7: 7 | B7: D
