Workbook

Sheet Sheet1
E1: 43252 | P1: Update | S1: =NOW() -> 43250.389 | X1: =NOW() -> 43250.389
E2: 1 | F2: 2 | G2: 3 | H2: 4 | I2: 5 | J2: 6 | K2: 7 | L2: 8 | M2: 9 | N2: 10 | O2: 11 | P2: 12 | Q2: 13 | R2: 14 | S2: 15 | T2: 16 | U2: 17 | V2: 18 | W2: 19 | X2: 20 | Y2: 21 | Z2: 22 | AA2: 23 | AB2: 24 | AC2: 25 | AD2: 26 | AE2: 27 | AF2: 28 | AG2: 29 | AH2: 30 | AI2: Totaal | AJ2: Uren | AK2: 0.33
E3: Fri | F3: Sat | G3: Sun | H3: Mon | I3: Tue | J3: Wed | K3: Thu | L3: Fri | M3: Sat | N3: Sun | O3: Mon | P3: Tue | Q3: Wed | R3: Thu | S3: Fri | T3: Sat | U3: Sun | V3: Mon | W3: Tue | X3: Wed | Y3: Thu | Z3: Fri | AA3: Sat | AB3: Sun | AC3: Mon | AD3: Tue | AE3: Wed | AF3: Thu | AG3: Fri | AH3: Sat | AJ3: 1 | AK3: Guard
C4: 1 | D4: Olga | E4: D7 | F4: o | G4: o | H4: o | I4: o | J4: o | K4: D7 | L4: D7 | M4: o | N4: o | O4: D7 | P4: D7 | Q4: o | R4: OFF | S4: OFF | T4: o | U4: o | V4: o | W4: LA | X4: o | Y4: D7 | Z4: D7 | AA4: o | AB4: o | AC4: D7 | AD4: o | AE4: o | AF4: D7 | AG4: D7 | AH4: o | AI4: =Sheet2!AH4 -> 126 | AJ4: 120.00
C5: 2 | D5: Wendy | E5: ZE | F5: o | G5: o | H5: ZE | I5: ZE | J5: ZE | K5: ZE | L5: ZE | M5: o | N5: o | O5: ZE | P5: ZE | Q5: ZE | R5: ZE | S5: ZE | T5: o | U5: o | V5: ZE | W5: ZE | X5: ZE | Y5: ZE | Z5: ZE | AA5: o | AB5: o | AC5: ZE | AD5: ZE | AE5: ZE | AF5: ZE | AG5: ZE | AH5: o | AI5: 160,00 | AJ5: 160.00
AL6: Wk
C7: 3 | D7: Alain | E7: 10-16 | F7: o | G7: o | H7: VK | I7: D7 | J7: o | K7: OFF | L7: OFF | M7: o | N7: o | O7: BVG | P7: BVG | Q7: BVG | R7: MG | S7: MG | T7: o | U7: o | V7: VK | W7: VK | X7: D7 | Y7: MG | Z7: D7 | AA7: o | AB7: o | AC7: VK | AD7: D7 | AE7: 10-16 | AF7: VK | AG7: D7 | AH7: o | AI7: 162,3 | AJ7: 160
C8: 4 | D8: Dany | E8: D7 | F8: o | G8: o | H8: 10-16 | I8: D7 | J8: D7 | K8: o | L8: D7 | M8: o | N8: o | O8: D7 | P8: D7 | Q8: 10-16 | R8: o | S8: 10-16 | T8: o | U8: o | V8: J | W8: 10-16 | X8: 10-16 | Y8: 10-16 | Z8: o | AA8: o | AB8: o | AC8: o | AD8: o | AE8: D7 | AF8: o | AG8: 10-16 | AH8: o | AI8: =Sheet2!AH8 -> 168 | AJ8: 160
C9: 5 | D9: Corentin | E9: OFF | F9: o | G9: o | H9: o | I9: 10-16 | J9: 10-16 | K9: 10-16 | L9: 10-16 | M9: o | N9: o | O9: VK | P9: 10-16 | Q9: VK | R9: 10-16 | S9: EHBO | T9: o | U9: o | V9: D4 | W9: J | X9: D7 | Y9: VK | Z9: VK | AA9: o | AB9: o | AC9: o | AD9: D7 | AE9: D4 | AF9: 10-16 | AG9: VK | AH9: o | AI9: =Sheet2!AH9 -> 162 | AJ9: 160
C10: 6 | D10: Glenn | E10: BVG | F10: BVG | G10: o | H10: BVG | I10: BVG | J10: BVG | K10: BVG | L10: BVG | M10: BVG | N10: o | O10: BVG | P10: BVG | Q10: BVG | R10: BVG | S10: BVG | T10: BVG | U10: o | V10: D7 | W10: D7 | X10: o | Y10: EXTRA | Z10: 10-16 | AA10: o | AB10: o | AC10: 10-16 | AD10: 10-16 | AE10: J | AF10: o | AG10: o | AH10: JW | AI10: =Sheet2!AH10 -> 169.4 | AJ10: 160
C11: 7 | D11: Maribel | E11: BVG | F11: BVG | G11: o | H11: D7 | I11: VK | J11: D7 | K11: VK | L11: EHBO | M11: o | N11: o | O11: D4 | P11: D4 | Q11: D7 | R11: VK | S11: D7 | T11: o | U11: o | V11: 10-16 | W11: o | X11: VK | Y11: LA | Z11: o | AA11: JW | AB11: JW | AC11: o | AD11: VK | AE11: LA | AF11: J | AG11: D4 | AH11: o | AI11: =Sheet2!AH11 -> 170.2 | AJ11: 160 | AL11: 1
C12: 8 | D12: Devitee | E12: VK | F12: o | G12: o | H12: D4 | I12: D4 | J12: D7 | K12: D4 | L12: VK | M12: o | N12: o | O12: 10-16 | P12: VK | Q12: D4 | R12: D4 | S12: D7 | T12: o | U12: o | V12: D7 | W12: D4 | X12: D4 | Y12: LA | Z12: D4 | AA12: o | AB12: o | AC12: D4 | AD12: D4 | AE12: o | AF12: D4 | AG12: J | AH12: o | AI12: =Sheet2!AH12 -> 160 | AJ12: 160
C13: 9 | D13: Petra | E13: D4 | F13: o | G13: o | H13: D7 | I13: OFF | J13: OFF | K13: D7 | L13: D4 | M13: o | N13: o | O13: BA4 | P13: o | Q13: D7 | R13: D7 | S13: D7 | T13: o | U13: o | V13: o | W13: o | X13: J | Y13: D4 | Z13: OFF | AA13: JW | AB13: JW | AC13: D7 | AD13: o | AE13: D7 | AF13: D7 | AG13: o | AH13: o | AI13: =Sheet2!AH13 -> 152 | AJ13: 160 | AL13: 1
D14: Stevens D. | L14: OFF | M14: OFF | N14: OFF | O14: OFF | P14: OFF | Q14: OFF | R14: OFF | S14: OFF
C15: 10 | D15: Frederic | E15: J | F15: o | G15: o | H15: J | I15: J | J15: o | K15: J | L15: MGR | M15: o | N15: o | O15: MGR | P15: MGR | Q15: MGR | R15: J | S15: J | T15: o | U15: o | V15: o | W15: MGR | X15: MGR | Y15: J | Z15: J | AA15: o | AB15: o | AC15: J | AD15: J | AE15: o | AF15: o | AG15: o | AH15: o | AI15: =Sheet2!AH15 -> 48 | AJ15: 160
C16: 11 | D16: Karel | E16: N | F16: NW | G16: o | H16: o | I16: o | J16: o | K16: N | L16: N | M16: o | N16: o | O16: J | P16: J | Q16: o | R16: D7 | S16: J | T16: OFF | U16: o | V16: o | W16: o | X16: N | Y16: N | Z16: N | AA16: NW | AB16: o | AC16: J | AD16: J | AE16: o | AF16: o | AG16: o | AH16: OFF | AI16: =Sheet2!AH16 -> 108 | AJ16: 160 | AK16: 38,10% | AL16: 2
C17: 12 | D17: Kevin | E17: BVG | F17: BVG | G17: o | H17: J | I17: o | J17: J | K17: TR | L17: TR | M17: o | N17: o | O17: TR | P17: TR | Q17: J | R17: J | S17: o | T17: o | U17: o | V17: J | W17: J | X17: J | Y17: OFF | Z17: OFF | AA17: OFF | AB17: OFF | AC17: OFF | AD17: J | AE17: o | AF17: J | AG17: J | AH17: JW | AI17: =Sheet2!AH17 -> 56.2 | AJ17: 160 | AL17: 1
C18: 13 | D18: Nicolas | E18: o | F18: o | G18: o | H18: N | I18: N | J18: o | K18: o | L18: o | M18: NW | N18: NW | O18: o | P18: o | Q18: J | R18: J | S18: EHBO | T18: o | U18: o | V18: J | W18: J | X18: o | Y18: J | Z18: J | AA18: o | AB18: o | AC18: N | AD18: N | AE18: o | AF18: o | AG18: N | AH18: NW | AI18: =Sheet2!AH18 -> 104 | AJ18: 160 | AK18: 36,36% | AL18: 2
C19: 14 | D19: Christof | E19: o | F19: OFF | G19: OFF | H19: OFF | I19: J | J19: o | K19: J | L19: EHBO | M19: NW | N19: NW | O19: N | P19: N | Q19: OFF | R19: o | S19: J | T19: OFF | U19: OFF | V19: OFF | W19: o | X19: N | Y19: N | Z19: o | AA19: NW | AB19: NW | AC19: o | AD19: o | AE19: N | AF19: N | AG19: N | AH19: o | AI19: =Sheet2!AH19 -> 140 | AJ19: 160 | AK19: 53,66% | AL19: 2
C20: 15 | D20: Fadl | E20: o | F20: o | G20: o | H20: N | I20: N | J20: o | K20: o | L20: o | M20: NW | N20: NW | O20: N | P20: o | Q20: o | R20: N | S20: N | T20: o | U20: o | V20: TR | W20: TR | X20: TR | Y20: TR | Z20: TR | AA20: o | AB20: o | AC20: TR1 | AD20: o | AE20: J | AF20: J | AG20: J | AH20: o | AI20: =Sheet2!AH20 -> 127 | AJ20: 160 | AK20: 34,36% | AL20: 1
C21: 16 | D21: Luc | E21: BVG | F21: OFF | G21: OFF | H21: o | I21: J | J21: o | K21: o | L21: J | M21: JW | N21: JW | O21: J | P21: J | Q21: o | R21: J | S21: J | T21: OFF | U21: OFF | V21: J | W21: J | X21: J | Y21: o | Z21: J | AA21: o | AB21: o | AC21: J | AD21: J | AE21: o | AF21: o | AG21: o | AH21: o | AI21: =Sheet2!AH21 -> 30.1 | AJ21: 160 | AL21: 1
C22: 17 | D22: Lennert | E22: J | F22: o | G22: JW | H22: o | I22: o | J22: N | K22: N | L22: N | M22: OFF | N22: OFF | O22: o | P22: N | Q22: o | R22: o | S22: o | T22: JW | U22: JW | V22: o | W22: o | X22: J | Y22: o | Z22: N | AA22: NW | AB22: NW | AC22: o | AD22: o | AE22: N | AF22: N | AG22: o | AH22: o | AI22: =Sheet2!AH22 -> 144 | AJ22: 160 | AK22: 42,86% | AL22: 3
C23: 18 | D23: Erwin | E23: o | F23: JW | G23: JW | H23: o | I23: J | J23: o | K23: J | L23: EHBO | M23: o | N23: o | O23: J | P23: J | Q23: o | R23: o | S23: o | T23: NW | U23: NW | V23: N | W23: N | X23: o | Y23: o | Z23: o | AA23: o | AB23: NW | AC23: N | AD23: N | AE23: N | AF23: o | AG23: o | AH23: o | AI23: =Sheet2!AH23 -> 128 | AJ23: 160 | AK23: 36,36% | AL23: 3
C24: 19 | D24: Laurent | E24: o | F24: NW | G24: NW | H24: o | I24: o | J24: N | K24: N | L24: N | M24: OFF | N24: OFF | O24: o | P24: SH | Q24: N | R24: o | S24: o | T24: NW | U24: NW | V24: N | W24: o | X24: o | Y24: J | Z24: J | AA24: OFF | AB24: OFF | AC24: J | AD24: o | AE24: J | AF24: J | AG24: o | AH24: o | AI24: =Sheet2!AH24 -> 111 | AJ24: 160 | AK24: 42,11% | AL24: 2
C25: 20 | D25: Ese | E25: o | F25: JW | G25: JW | H25: o | I25: J | J25: J | K25: J | L25: o | M25: JW | N25: o | O25: J | P25: J | Q25: J | R25: o | S25: o | T25: JW | U25: o | V25: TR | W25: TR | X25: TR | Y25: TR | Z25: TR | AA25: o | AB25: o | AC25: TR1 | AD25: o | AE25: J | AF25: o | AG25: o | AH25: o | AI25: =Sheet2!AH25 -> 91 | AJ25: 160 | AL25: 3
C26: 21 | D26: Benjamin | E26: J | F26: o | G26: o | H26: J | I26: o | J26: J | K26: o | L26: J | M26: o | N26: JW | O26: o | P26: SH | Q26: N | R26: N | S26: N | T26: o | U26: o | V26: o | W26: N | X26: N | Y26: N | Z26: N | AA26: o | AB26: o | AC26: o | AD26: o | AE26: o | AF26: o | AG26: J | AH26: NW | AI26: =Sheet2!AH26 -> 111 | AJ26: 160 | AK26: 37,43% | AL26: 2
C27: 22 | D27: Rabia | E27: J | F27: o | G27: o | H27: J | I27: o | J27: o | K27: o | L27: J | M27: JW | N27: JW | O27: o | P27: SH | Q27: J | R27: J | S27: J | T27: o | U27: o | V27: J | W27: J | X27: o | Y27: o | Z27: o | AA27: JW | AB27: JW | AC27: o | AD27: J | AE27: J | AF27: o | AG27: o | AH27: o | AI27: =Sheet2!AH27 -> 51 | AJ27: 160 | AL27: 2
C28: 23 | D28: David | E28: J | F28: o | G28: o | H28: o | I28: o | J28: J | K28: J | L28: J | M28: o | N28: o | O28: J | P28: J | Q28: o | R28: o | S28: o | T28: JW | U28: JW | V28: o | W28: SH | X28: J | Y28: J | Z28: J | AA28: o | AB28: o | AC28: J | AD28: o | AE28: o | AF28: J | AG28: J | AH28: o | AI28: =Sheet2!AH28 -> 27 | AJ28: 160 | AL28: 1
C29: 24 | D29: Ludovic | E29: N | F29: o | G29: NW | H29: N | I29: N | J29: N | K29: o | L29: BVG | M29: BVG | N29: o | O29: BVG | P29: EXTRA | Q29: J | R29: N | S29: N | T29: o | U29: o | V29: o | W29: o | X29: o | Y29: o | Z29: o | AA29: o | AB29: o | AC29: o | AD29: o | AE29: o | AF29: o | AG29: o | AH29: o | AI29: =Sheet2!AH29 -> 114.3 | AJ29: 160 | AK29: 51,85% | AL29: 1
C30: 25 | D30: Ismail | E30: N | F30: NW | G30: NW | H30: o | I30: o | J30: o | K30: o | L30: J | M30: o | N30: o | O30: N | P30: N | Q30: N | R30: o | S30: o | T30: o | U30: JW | V30: TR | W30: TR | X30: TR | Y30: TR | Z30: TR | AA30: o | AB30: o | AC30: TR1 | AD30: o | AE30: o | AF30: N | AG30: N | AH30: NW | AI30: =Sheet2!AH30 -> 163 | AJ30: 160 | AK30: 41,14% | AL30: 3
C31: 26 | D31: Kristof | E31: o | F31: JW | G31: o | H31: J | I31: o | J31: J | K31: o | L31: EHBO | M31: o | N31: o | O31: BA4 | P31: o | Q31: N | R31: o | S31: o | T31: NW | U31: NW | V31: N | W31: N | X31: o | Y31: J | Z31: o | AA31: o | AB31: o | AC31: N | AD31: N | AE31: o | AF31: o | AG31: o | AH31: JW | AI31: =Sheet2!AH31 -> 124 | AJ31: 160 | AK31: 35,00% | AL31: 3
D33: Geeist | E33: 44 | F33: 0 | G33: 0 | H33: =Sheet2!F33 -> 44 | I33: =12+11+12+9 -> 44 | J33: =12+11+12+9 -> 44 | K33: 44 | L33: 44 | M33: 0 | N33: 0 | O33: =Sheet2!M33 -> 44 | P33: =12+11+12+9 -> 44 | Q33: =12+11+12+9 -> 44 | R33: 44 | S33: 44 | T33: 0 | U33: 0 | V33: =Sheet2!T33 -> 44 | W33: =12+11+12+9 -> 44 | X33: =12+11+12+9 -> 44 | Y33: 44 | Z33: 44 | AA33: 0 | AB33: 0 | AC33: =Sheet2!AA33 -> 44 | AD33: =12+11+12+9 -> 44 | AE33: =12+11+12+9 -> 44 | AF33: 44 | AG33: 44 | AH33: 0 | AI33: =Sheet2!AH33 -> 924
D34: FDO | E34: =Sheet2!C34 -> 25.24 | F34: =Sheet2!D34 -> 0 | G34: =Sheet2!E34 -> 0 | H34: =Sheet2!F34 -> 13.24 | I34: =Sheet2!G34 -> 19.24 | J34: =Sheet2!H34 -> 7.24 | K34: =Sheet2!I34 -> 19.24 | L34: =Sheet2!J34 -> 19.24 | ... AH34: =Sheet2!AF34 -> 0 | AI34: =Sheet2!AH34 -> 425.34
D35: GUARD | E35: =Sheet2!C35 -> 38.2 | F35: =Sheet2!D35 -> 12.2 | G35: =Sheet2!E35 -> 0 | H35: =Sheet2!F35 -> 44.1 | I35: =Sheet2!G35 -> 38.1 | J35: =Sheet2!H35 -> 48.1 | K35: =Sheet2!I35 -> 38.1 | L35: =Sheet2!J35 -> 46.1 | ... AG35: =Sheet2!AE35 -> 20 | AH35: 0 | AI35: =Sheet2!AH35 -> 867.6
D36: Totaal | E36: =Sheet2!C36 -> 51.24 | F36: =Sheet2!D36 -> 0 | G36: =Sheet2!E36 -> 0 | H36: =Sheet2!F36 -> 51.24 | I36: =Sheet2!G36 -> 51.24 | J36: =Sheet2!H36 -> 49.24 | K36: =Sheet2!I36 -> 51.24 | L36: =Sheet2!J36 -> 59.24 | ... AH36: =Sheet2!AF36 -> 12 | AI36: =Sheet2!AH36 -> 1177.04
D37: COFM

Sheet Sheet2
C1: 43252 | N1: Update | Q1: =NOW() -> 43250.389 | V1: =NOW() -> 43250.389
C2: 1 | D2: 2 | E2: 3 | F2: 4 | G2: 5 | H2: 6 | I2: 7 | J2: 8 | K2: 9 | L2: 10 | M2: 11 | N2: 12 | O2: 13 | P2: 14 | Q2: 15 | R2: 16 | S2: 17 | T2: 18 | U2: 19 | V2: 20 | W2: 21 | X2: 22 | Y2: 23 | Z2: 24 | AA2: 25 | AB2: 26 | AC2: 27 | AD2: 28 | AE2: 29 | AF2: 30 | AG2: Totaal GC | AH2: Totaal | AI2: Uren | AJ2: 0.33
C3: Fri | D3: Sat | E3: Sun | F3: Mon | G3: Tue | H3: Wed | I3: Thu | J3: Fri | K3: Sat | L3: Sun | M3: Mon | N3: Tue | O3: Wed | P3: Thu | Q3: Fri | R3: Sat | S3: Sun | T3: Mon | U3: Tue | V3: Wed | W3: Thu | X3: Fri | Y3: Sat | Z3: Sun | AA3: Mon | AB3: Tue | AC3: Wed | AD3: Thu | AE3: Fri | AF3: Sat | AI3: 1 | AJ3: Guard
A4: 1 | B4: Olga | C4: =IF(Sheet1!E4 = "j",0,VLOOKUP(Sheet1!E4,$C$40:$D$71,2,FALSE)) -> 12 | D4: =IF(Sheet1!F4 = "j",0,VLOOKUP(Sheet1!F4,$C$40:$D$71,2,FALSE)) -> 0 | E4: =IF(Sheet1!G4 = "j",0,VLOOKUP(Sheet1!G4,$C$40:$D$71,2,FALSE)) -> 0 | F4: =IF(Sheet1!H4 = "j",0,VLOOKUP(Sheet1!H4,$C$40:$D$71,2,FALSE)) -> 0 | G4: =IF(Sheet1!I4 = "j",0,VLOOKUP(Sheet1!I4,$C$40:$D$71,2,FALSE)) -> 0 | H4: =IF(Sheet1!J4 = "j",0,VLOOKUP(Sheet1!J4,$C$40:$D$71,2,FALSE)) -> 0 | I4: =IF(Sheet1!K4 = "j",0,VLOOKUP(Sheet1!K4,$C$40:$D$71,2,FALSE)) -> 12 | J4: =IF(Sheet1!L4 = "j",0,VLOOKUP(Sheet1!L4,$C$40:$D$71,2,FALSE)) -> 12 | ... AE4: =IF(Sheet1!AG4 = "j",0,VLOOKUP(Sheet1!AG4,$C$40:$D$71,2,FALSE)) -> 12 | AF4: =VLOOKUP(Sheet1!AH4,C40:D71,2,FALSE) -> 0 | AH4: =SUM(C4:AF4) -> 126 | AI4: 120.00
A5: 2 | B5: Wendy | C5: =IF(Sheet1!E5 = "j",0,VLOOKUP(Sheet1!E5,$C$40:$D$71,2,FALSE)) -> 7.24 | D5: =IF(Sheet1!F5 = "j",0,VLOOKUP(Sheet1!F5,$C$40:$D$71,2,FALSE)) -> 0 | E5: =IF(Sheet1!G5 = "j",0,VLOOKUP(Sheet1!G5,$C$40:$D$71,2,FALSE)) -> 0 | F5: =IF(Sheet1!H5 = "j",0,VLOOKUP(Sheet1!H5,$C$40:$D$71,2,FALSE)) -> 7.24 | G5: =IF(Sheet1!I5 = "j",0,VLOOKUP(Sheet1!I5,$C$40:$D$71,2,FALSE)) -> 7.24 | H5: =IF(Sheet1!J5 = "j",0,VLOOKUP(Sheet1!J5,$C$40:$D$71,2,FALSE)) -> 7.24 | I5: =IF(Sheet1!K5 = "j",0,VLOOKUP(Sheet1!K5,$C$40:$D$71,2,FALSE)) -> 7.24 | J5: =IF(Sheet1!L5 = "j",0,VLOOKUP(Sheet1!L5,$C$40:$D$71,2,FALSE)) -> 7.24 | ... AE5: =IF(Sheet1!AG5 = "j",0,VLOOKUP(Sheet1!AG5,$C$40:$D$71,2,FALSE)) -> 7.24 | AF5: =VLOOKUP(Sheet1!AH5,C40:D71,2,FALSE) -> 0 | AH5: =SUM(C5:AG5) -> 152.04 | AI5: 160.00
A7: 3 | B7: Alain | C7: =IF(Sheet1!E7 = "j",0,VLOOKUP(Sheet1!E7,$C$40:$D$71,2,FALSE)) -> 6 | D7: =IF(Sheet1!F7 = "j",0,VLOOKUP(Sheet1!F7,$C$40:$D$71,2,FALSE)) -> 0 | E7: =IF(Sheet1!G7 = "j",0,VLOOKUP(Sheet1!G7,$C$40:$D$71,2,FALSE)) -> 0 | F7: =IF(Sheet1!H7 = "j",0,VLOOKUP(Sheet1!H7,$C$40:$D$71,2,FALSE)) -> 6 | G7: =IF(Sheet1!I7 = "j",0,VLOOKUP(Sheet1!I7,$C$40:$D$71,2,FALSE)) -> 12 | H7: =IF(Sheet1!J7 = "j",0,VLOOKUP(Sheet1!J7,$C$40:$D$71,2,FALSE)) -> 0 | I7: =IF(Sheet1!K7 = "j",0,VLOOKUP(Sheet1!K7,$C$40:$D$71,2,FALSE)) -> 0 | J7: =IF(Sheet1!L7 = "j",0,VLOOKUP(Sheet1!L7,$C$40:$D$71,2,FALSE)) -> 0 | ... AF7: =IF(Sheet1!AH7 = "j",0,VLOOKUP(Sheet1!AH7,$C$40:$D$71,2,FALSE)) -> 0 | AG7: 12 | AH7: 162.3 | AI7: 160.25
A8: 4 | B8: Dany | C8: =IF(Sheet1!E8 = "j",0,VLOOKUP(Sheet1!E8,$C$40:$D$71,2,FALSE)) -> 12 | D8: =IF(Sheet1!F8 = "j",0,VLOOKUP(Sheet1!F8,$C$40:$D$71,2,FALSE)) -> 0 | E8: =IF(Sheet1!G8 = "j",0,VLOOKUP(Sheet1!G8,$C$40:$D$71,2,FALSE)) -> 0 | F8: =IF(Sheet1!H8 = "j",0,VLOOKUP(Sheet1!H8,$C$40:$D$71,2,FALSE)) -> 6 | G8: =IF(Sheet1!I8 = "j",0,VLOOKUP(Sheet1!I8,$C$40:$D$71,2,FALSE)) -> 12 | H8: =IF(Sheet1!J8 = "j",0,VLOOKUP(Sheet1!J8,$C$40:$D$71,2,FALSE)) -> 12 | I8: =IF(Sheet1!K8 = "j",0,VLOOKUP(Sheet1!K8,$C$40:$D$71,2,FALSE)) -> 0 | J8: =IF(Sheet1!L8 = "j",0,VLOOKUP(Sheet1!L8,$C$40:$D$71,2,FALSE)) -> 12 | ... AF8: =IF(Sheet1!AH8 = "j",0,VLOOKUP(Sheet1!AH8,$C$40:$D$71,2,FALSE)) -> 0 | AG8: 42 | AH8: =SUM(C8:AG8) -> 168 | AI8: 160.25
A9: 5 | B9: Corentin | C9: =IF(Sheet1!E9 = "j",0,VLOOKUP(Sheet1!E9,$C$40:$D$71,2,FALSE)) -> 0 | D9: =IF(Sheet1!F9 = "j",0,VLOOKUP(Sheet1!F9,$C$40:$D$71,2,FALSE)) -> 0 | E9: =IF(Sheet1!G9 = "j",0,VLOOKUP(Sheet1!G9,$C$40:$D$71,2,FALSE)) -> 0 | F9: =IF(Sheet1!H9 = "j",0,VLOOKUP(Sheet1!H9,$C$40:$D$71,2,FALSE)) -> 0 | G9: =IF(Sheet1!I9 = "j",0,VLOOKUP(Sheet1!I9,$C$40:$D$71,2,FALSE)) -> 6 | H9: =IF(Sheet1!J9 = "j",0,VLOOKUP(Sheet1!J9,$C$40:$D$71,2,FALSE)) -> 6 | I9: =IF(Sheet1!K9 = "j",0,VLOOKUP(Sheet1!K9,$C$40:$D$71,2,FALSE)) -> 6 | J9: =IF(Sheet1!L9 = "j",0,VLOOKUP(Sheet1!L9,$C$40:$D$71,2,FALSE)) -> 6 | ... AF9: =IF(Sheet1!AH9 = "j",0,VLOOKUP(Sheet1!AH9,$C$40:$D$71,2,FALSE)) -> 0 | AG9: 42 | AH9: =SUM(C9:AG9) -> 162 | AI9: 160.25
A10: 6 | B10: Glenn | C10: =IF(Sheet1!E10 = "j",0,VLOOKUP(Sheet1!E10,$C$40:$D$71,2,FALSE)) -> 6.1 | D10: =IF(Sheet1!F10 = "j",0,VLOOKUP(Sheet1!F10,$C$40:$D$71,2,FALSE)) -> 6.1 | E10: =IF(Sheet1!G10 = "j",0,VLOOKUP(Sheet1!G10,$C$40:$D$71,2,FALSE)) -> 0 | F10: =IF(Sheet1!H10 = "j",0,VLOOKUP(Sheet1!H10,$C$40:$D$71,2,FALSE)) -> 6.1 | G10: =IF(Sheet1!I10 = "j",0,VLOOKUP(Sheet1!I10,$C$40:$D$71,2,FALSE)) -> 6.1 | H10: =IF(Sheet1!J10 = "j",0,VLOOKUP(Sheet1!J10,$C$40:$D$71,2,FALSE)) -> 6.1 | I10: =IF(Sheet1!K10 = "j",0,VLOOKUP(Sheet1!K10,$C$40:$D$71,2,FALSE)) -> 6.1 | J10: =IF(Sheet1!L10 = "j",0,VLOOKUP(Sheet1!L10,$C$40:$D$71,2,FALSE)) -> 6.1 | ... AF10: =IF(Sheet1!AH10 = "j",0,VLOOKUP(Sheet1!AH10,$C$40:$D$71,2,FALSE)) -> 12 | AG10: 18 | AH10: =SUM(C10:AG10) -> 169.4 | AI10: 160.25
A11: 7 | B11: Maribel | C11: =IF(Sheet1!E11 = "j",0,VLOOKUP(Sheet1!E11,$C$40:$D$71,2,FALSE)) -> 6.1 | D11: =IF(Sheet1!F11 = "j",0,VLOOKUP(Sheet1!F11,$C$40:$D$71,2,FALSE)) -> 6.1 | E11: =IF(Sheet1!G11 = "j",0,VLOOKUP(Sheet1!G11,$C$40:$D$71,2,FALSE)) -> 0 | F11: =IF(Sheet1!H11 = "j",0,VLOOKUP(Sheet1!H11,$C$40:$D$71,2,FALSE)) -> 12 | G11: =IF(Sheet1!I11 = "j",0,VLOOKUP(Sheet1!I11,$C$40:$D$71,2,FALSE)) -> 6 | H11: =IF(Sheet1!J11 = "j",0,VLOOKUP(Sheet1!J11,$C$40:$D$71,2,FALSE)) -> 12 | I11: =IF(Sheet1!K11 = "j",0,VLOOKUP(Sheet1!K11,$C$40:$D$71,2,FALSE)) -> 6 | J11: =IF(Sheet1!L11 = "j",0,VLOOKUP(Sheet1!L11,$C$40:$D$71,2,FALSE)) -> 8 | ... AF11: =IF(Sheet1!AH11 = "j",0,VLOOKUP(Sheet1!AH11,$C$40:$D$71,2,FALSE)) -> 0 | AG11: 6 | AH11: =SUM(C11:AG11) -> 170.2 | AI11: 160.25
A12: 8 | B12: Devitee | C12: =IF(Sheet1!E12 = "j",0,VLOOKUP(Sheet1!E12,$C$40:$D$71,2,FALSE)) -> 6 | D12: =IF(Sheet1!F12 = "j",0,VLOOKUP(Sheet1!F12,$C$40:$D$71,2,FALSE)) -> 0 | E12: =IF(Sheet1!G12 = "j",0,VLOOKUP(Sheet1!G12,$C$40:$D$71,2,FALSE)) -> 0 | F12: =IF(Sheet1!H12 = "j",0,VLOOKUP(Sheet1!H12,$C$40:$D$71,2,FALSE)) -> 8 | G12: =IF(Sheet1!I12 = "j",0,VLOOKUP(Sheet1!I12,$C$40:$D$71,2,FALSE)) -> 8 | H12: =IF(Sheet1!J12 = "j",0,VLOOKUP(Sheet1!J12,$C$40:$D$71,2,FALSE)) -> 12 | I12: =IF(Sheet1!K12 = "j",0,VLOOKUP(Sheet1!K12,$C$40:$D$71,2,FALSE)) -> 8 | J12: =IF(Sheet1!L12 = "j",0,VLOOKUP(Sheet1!L12,$C$40:$D$71,2,FALSE)) -> 6 | ... AF12: =IF(Sheet1!AH12 = "j",0,VLOOKUP(Sheet1!AH12,$C$40:$D$71,2,FALSE)) -> 0 | AG12: 6 | AH12: =SUM(C12:AG12) -> 160 | AI12: 160.25
A13: 9 | B13: Petra | C13: =IF(Sheet1!E13 = "j",0,VLOOKUP(Sheet1!E13,$C$40:$D$71,2,FALSE)) -> 8 | D13: =IF(Sheet1!F13 = "j",0,VLOOKUP(Sheet1!F13,$C$40:$D$71,2,FALSE)) -> 0 | E13: =IF(Sheet1!G13 = "j",0,VLOOKUP(Sheet1!G13,$C$40:$D$71,2,FALSE)) -> 0 | F13: =IF(Sheet1!H13 = "j",0,VLOOKUP(Sheet1!H13,$C$40:$D$71,2,FALSE)) -> 12 | G13: =IF(Sheet1!I13 = "j",0,VLOOKUP(Sheet1!I13,$C$40:$D$71,2,FALSE)) -> 0 | H13: =IF(Sheet1!J13 = "j",0,VLOOKUP(Sheet1!J13,$C$40:$D$71,2,FALSE)) -> 0 | I13: =IF(Sheet1!K13 = "j",0,VLOOKUP(Sheet1!K13,$C$40:$D$71,2,FALSE)) -> 12 | J13: =IF(Sheet1!L13 = "j",0,VLOOKUP(Sheet1!L13,$C$40:$D$71,2,FALSE)) -> 8 | ... AF13: =IF(Sheet1!AH13 = "j",0,VLOOKUP(Sheet1!AH13,$C$40:$D$71,2,FALSE)) -> 0 | AG13: 0 | AH13: =SUM(C13:AG13) -> 152 | AI13: 160.25
A15: 10 | B15: Frederic | C15: =IF(Sheet1!E15 = "j",0,VLOOKUP(Sheet1!E15,$C$40:$D$71,2,FALSE)) -> 0 | D15: =IF(Sheet1!F15 = "j",0,VLOOKUP(Sheet1!F15,$C$40:$D$71,2,FALSE)) -> 0 | E15: =IF(Sheet1!G15 = "j",0,VLOOKUP(Sheet1!G15,$C$40:$D$71,2,FALSE)) -> 0 | F15: =IF(Sheet1!H15 = "j",0,VLOOKUP(Sheet1!H15,$C$40:$D$71,2,FALSE)) -> 0 | G15: =IF(Sheet1!I15 = "j",0,VLOOKUP(Sheet1!I15,$C$40:$D$71,2,FALSE)) -> 0 | H15: =IF(Sheet1!J15 = "j",0,VLOOKUP(Sheet1!J15,$C$40:$D$71,2,FALSE)) -> 0 | I15: =IF(Sheet1!K15 = "j",0,VLOOKUP(Sheet1!K15,$C$40:$D$71,2,FALSE)) -> 0 | J15: =IF(Sheet1!L15 = "j",0,VLOOKUP(Sheet1!L15,$C$40:$D$71,2,FALSE)) -> 8 | ... AF15: =IF(Sheet1!AH15 = "j",0,VLOOKUP(Sheet1!AH15,$C$40:$D$71,2,FALSE)) -> 0 | AH15: =SUM(C15:AF15) -> 48 | AI15: 160.25
A16: 11 | B16: Karel | C16: =IF(Sheet1!E16 = "j",0,VLOOKUP(Sheet1!E16,$C$40:$D$71,2,FALSE)) -> 12 | D16: =IF(Sheet1!F16 = "j",0,VLOOKUP(Sheet1!F16,$C$40:$D$71,2,FALSE)) -> 12 | E16: =IF(Sheet1!G16 = "j",0,VLOOKUP(Sheet1!G16,$C$40:$D$71,2,FALSE)) -> 0 | F16: =IF(Sheet1!H16 = "j",0,VLOOKUP(Sheet1!H16,$C$40:$D$71,2,FALSE)) -> 0 | G16: =IF(Sheet1!I16 = "j",0,VLOOKUP(Sheet1!I16,$C$40:$D$71,2,FALSE)) -> 0 | H16: =IF(Sheet1!J16 = "j",0,VLOOKUP(Sheet1!J16,$C$40:$D$71,2,FALSE)) -> 0 | I16: =IF(Sheet1!K16 = "j",0,VLOOKUP(Sheet1!K16,$C$40:$D$71,2,FALSE)) -> 12 | J16: =IF(Sheet1!L16 = "j",0,VLOOKUP(Sheet1!L16,$C$40:$D$71,2,FALSE)) -> 12 | ... AF16: =IF(Sheet1!AH16 = "j",0,VLOOKUP(Sheet1!AH16,$C$40:$D$71,2,FALSE)) -> 0 | AH16: =SUM(C16:AF16) -> 108 | AI16: 160.25
A17: 12 | B17: Kevin | C17: =IF(Sheet1!E17 = "j",0,VLOOKUP(Sheet1!E17,$C$40:$D$71,2,FALSE)) -> 6.1 | D17: =IF(Sheet1!F17 = "j",0,VLOOKUP(Sheet1!F17,$C$40:$D$71,2,FALSE)) -> 6.1 | E17: =IF(Sheet1!G17 = "j",0,VLOOKUP(Sheet1!G17,$C$40:$D$71,2,FALSE)) -> 0 | F17: =IF(Sheet1!H17 = "j",0,VLOOKUP(Sheet1!H17,$C$40:$D$71,2,FALSE)) -> 0 | G17: =IF(Sheet1!I17 = "j",0,VLOOKUP(Sheet1!I17,$C$40:$D$71,2,FALSE)) -> 0 | H17: =IF(Sheet1!J17 = "j",0,VLOOKUP(Sheet1!J17,$C$40:$D$71,2,FALSE)) -> 0 | I17: =IF(Sheet1!K17 = "j",0,VLOOKUP(Sheet1!K17,$C$40:$D$71,2,FALSE)) -> 8 | J17: =IF(Sheet1!L17 = "j",0,VLOOKUP(Sheet1!L17,$C$40:$D$71,2,FALSE)) -> 8 | ... AF17: =IF(Sheet1!AH17 = "j",0,VLOOKUP(Sheet1!AH17,$C$40:$D$71,2,FALSE)) -> 12 | AH17: =SUM(C17:AF17) -> 56.2 | AI17: 160.25
A18: 13 | B18: Nicolas | C18: =IF(Sheet1!E18 = "j",0,VLOOKUP(Sheet1!E18,$C$40:$D$71,2,FALSE)) -> 0 | D18: =IF(Sheet1!F18 = "j",0,VLOOKUP(Sheet1!F18,$C$40:$D$71,2,FALSE)) -> 0 | E18: =IF(Sheet1!G18 = "j",0,VLOOKUP(Sheet1!G18,$C$40:$D$71,2,FALSE)) -> 0 | F18: =IF(Sheet1!H18 = "j",0,VLOOKUP(Sheet1!H18,$C$40:$D$71,2,FALSE)) -> 12 | G18: =IF(Sheet1!I18 = "j",0,VLOOKUP(Sheet1!I18,$C$40:$D$71,2,FALSE)) -> 12 | H18: =IF(Sheet1!J18 = "j",0,VLOOKUP(Sheet1!J18,$C$40:$D$71,2,FALSE)) -> 0 | I18: =IF(Sheet1!K18 = "j",0,VLOOKUP(Sheet1!K18,$C$40:$D$71,2,FALSE)) -> 0 | J18: =IF(Sheet1!L18 = "j",0,VLOOKUP(Sheet1!L18,$C$40:$D$71,2,FALSE)) -> 0 | ... AF18: =IF(Sheet1!AH18 = "j",0,VLOOKUP(Sheet1!AH18,$C$40:$D$71,2,FALSE)) -> 12 | AH18: =SUM(C18:AF18) -> 104 | AI18: 160.25
A19: 14 | B19: Christof | C19: =IF(Sheet1!E19 = "j",0,VLOOKUP(Sheet1!E19,$C$40:$D$71,2,FALSE)) -> 0 | D19: =IF(Sheet1!F19 = "j",0,VLOOKUP(Sheet1!F19,$C$40:$D$71,2,FALSE)) -> 0 | E19: =IF(Sheet1!G19 = "j",0,VLOOKUP(Sheet1!G19,$C$40:$D$71,2,FALSE)) -> 0 | F19: =IF(Sheet1!H19 = "j",0,VLOOKUP(Sheet1!H19,$C$40:$D$71,2,FALSE)) -> 0 | G19: =IF(Sheet1!I19 = "j",0,VLOOKUP(Sheet1!I19,$C$40:$D$71,2,FALSE)) -> 0 | H19: =IF(Sheet1!J19 = "j",0,VLOOKUP(Sheet1!J19,$C$40:$D$71,2,FALSE)) -> 0 | I19: =IF(Sheet1!K19 = "j",0,VLOOKUP(Sheet1!K19,$C$40:$D$71,2,FALSE)) -> 0 | J19: =IF(Sheet1!L19 = "j",0,VLOOKUP(Sheet1!L19,$C$40:$D$71,2,FALSE)) -> 8 | ... AF19: =IF(Sheet1!AH19 = "j",0,VLOOKUP(Sheet1!AH19,$C$40:$D$71,2,FALSE)) -> 0 | AH19: =SUM(C19:AF19) -> 140 | AI19: 160.25
A20: 15 | B20: Fadl | C20: =IF(Sheet1!E20 = "j",0,VLOOKUP(Sheet1!E20,$C$40:$D$71,2,FALSE)) -> 0 | D20: =IF(Sheet1!F20 = "j",0,VLOOKUP(Sheet1!F20,$C$40:$D$71,2,FALSE)) -> 0 | E20: =IF(Sheet1!G20 = "j",0,VLOOKUP(Sheet1!G20,$C$40:$D$71,2,FALSE)) -> 0 | F20: =IF(Sheet1!H20 = "j",0,VLOOKUP(Sheet1!H20,$C$40:$D$71,2,FALSE)) -> 12 | G20: =IF(Sheet1!I20 = "j",0,VLOOKUP(Sheet1!I20,$C$40:$D$71,2,FALSE)) -> 12 | H20: =IF(Sheet1!J20 = "j",0,VLOOKUP(Sheet1!J20,$C$40:$D$71,2,FALSE)) -> 0 | I20: =IF(Sheet1!K20 = "j",0,VLOOKUP(Sheet1!K20,$C$40:$D$71,2,FALSE)) -> 0 | J20: =IF(Sheet1!L20 = "j",0,VLOOKUP(Sheet1!L20,$C$40:$D$71,2,FALSE)) -> 0 | ... AF20: =IF(Sheet1!AH20 = "j",0,VLOOKUP(Sheet1!AH20,$C$40:$D$71,2,FALSE)) -> 0 | AH20: =SUM(C20:AF20) -> 127 | AI20: 160.25
A21: 16 | B21: Luc | C21: =IF(Sheet1!E21 = "j",0,VLOOKUP(Sheet1!E21,$C$40:$D$71,2,FALSE)) -> 6.1 | D21: =IF(Sheet1!F21 = "j",0,VLOOKUP(Sheet1!F21,$C$40:$D$71,2,FALSE)) -> 0 | E21: =IF(Sheet1!G21 = "j",0,VLOOKUP(Sheet1!G21,$C$40:$D$71,2,FALSE)) -> 0 | F21: =IF(Sheet1!H21 = "j",0,VLOOKUP(Sheet1!H21,$C$40:$D$71,2,FALSE)) -> 0 | G21: =IF(Sheet1!I21 = "j",0,VLOOKUP(Sheet1!I21,$C$40:$D$71,2,FALSE)) -> 0 | H21: =IF(Sheet1!J21 = "j",0,VLOOKUP(Sheet1!J21,$C$40:$D$71,2,FALSE)) -> 0 | I21: =IF(Sheet1!K21 = "j",0,VLOOKUP(Sheet1!K21,$C$40:$D$71,2,FALSE)) -> 0 | J21: =IF(Sheet1!L21 = "j",0,VLOOKUP(Sheet1!L21,$C$40:$D$71,2,FALSE)) -> 0 | ... AF21: =IF(Sheet1!AH21 = "j",0,VLOOKUP(Sheet1!AH21,$C$40:$D$71,2,FALSE)) -> 0 | AH21: =SUM(C21:AF21) -> 30.1 | AI21: 160.25
A22: 17 | B22: Lennert | C22: =IF(Sheet1!E22 = "j",0,VLOOKUP(Sheet1!E22,$C$40:$D$71,2,FALSE)) -> 0 | D22: =IF(Sheet1!F22 = "j",0,VLOOKUP(Sheet1!F22,$C$40:$D$71,2,FALSE)) -> 0 | E22: =IF(Sheet1!G22 = "j",0,VLOOKUP(Sheet1!G22,$C$40:$D$71,2,FALSE)) -> 12 | F22: =IF(Sheet1!H22 = "j",0,VLOOKUP(Sheet1!H22,$C$40:$D$71,2,FALSE)) -> 0 | G22: =IF(Sheet1!I22 = "j",0,VLOOKUP(Sheet1!I22,$C$40:$D$71,2,FALSE)) -> 0 | H22: =IF(Sheet1!J22 = "j",0,VLOOKUP(Sheet1!J22,$C$40:$D$71,2,FALSE)) -> 12 | I22: =IF(Sheet1!K22 = "j",0,VLOOKUP(Sheet1!K22,$C$40:$D$71,2,FALSE)) -> 12 | J22: =IF(Sheet1!L22 = "j",0,VLOOKUP(Sheet1!L22,$C$40:$D$71,2,FALSE)) -> 12 | ... AF22: =IF(Sheet1!AH22 = "j",0,VLOOKUP(Sheet1!AH22,$C$40:$D$71,2,FALSE)) -> 0 | AH22: =SUM(C22:AF22) -> 144 | AI22: 160.25
A23: 18 | B23: Erwin | C23: =IF(Sheet1!E23 = "j",0,VLOOKUP(Sheet1!E23,$C$40:$D$71,2,FALSE)) -> 0 | D23: =IF(Sheet1!F23 = "j",0,VLOOKUP(Sheet1!F23,$C$40:$D$71,2,FALSE)) -> 12 | E23: =IF(Sheet1!G23 = "j",0,VLOOKUP(Sheet1!G23,$C$40:$D$71,2,FALSE)) -> 12 | F23: =IF(Sheet1!H23 = "j",0,VLOOKUP(Sheet1!H23,$C$40:$D$71,2,FALSE)) -> 0 | G23: =IF(Sheet1!I23 = "j",0,VLOOKUP(Sheet1!I23,$C$40:$D$71,2,FALSE)) -> 0 | H23: =IF(Sheet1!J23 = "j",0,VLOOKUP(Sheet1!J23,$C$40:$D$71,2,FALSE)) -> 0 | I23: =IF(Sheet1!K23 = "j",0,VLOOKUP(Sheet1!K23,$C$40:$D$71,2,FALSE)) -> 0 | J23: =IF(Sheet1!L23 = "j",0,VLOOKUP(Sheet1!L23,$C$40:$D$71,2,FALSE)) -> 8 | ... AF23: =IF(Sheet1!AH23 = "j",0,VLOOKUP(Sheet1!AH23,$C$40:$D$71,2,FALSE)) -> 0 | AH23: =SUM(C23:AF23) -> 128 | AI23: 160.25
A24: 19 | B24: Laurent | C24: =IF(Sheet1!E24 = "j",0,VLOOKUP(Sheet1!E24,$C$40:$D$71,2,FALSE)) -> 0 | D24: =IF(Sheet1!F24 = "j",0,VLOOKUP(Sheet1!F24,$C$40:$D$71,2,FALSE)) -> 12 | E24: =IF(Sheet1!G24 = "j",0,VLOOKUP(Sheet1!G24,$C$40:$D$71,2,FALSE)) -> 12 | F24: =IF(Sheet1!H24 = "j",0,VLOOKUP(Sheet1!H24,$C$40:$D$71,2,FALSE)) -> 0 | G24: =IF(Sheet1!I24 = "j",0,VLOOKUP(Sheet1!I24,$C$40:$D$71,2,FALSE)) -> 0 | H24: =IF(Sheet1!J24 = "j",0,VLOOKUP(Sheet1!J24,$C$40:$D$71,2,FALSE)) -> 12 | I24: =IF(Sheet1!K24 = "j",0,VLOOKUP(Sheet1!K24,$C$40:$D$71,2,FALSE)) -> 12 | J24: =IF(Sheet1!L24 = "j",0,VLOOKUP(Sheet1!L24,$C$40:$D$71,2,FALSE)) -> 12 | ... AF24: =IF(Sheet1!AH24 = "j",0,VLOOKUP(Sheet1!AH24,$C$40:$D$71,2,FALSE)) -> 0 | AH24: =SUM(C24:AF24) -> 111 | AI24: 160.25
A25: 20 | B25: Ese | C25: =IF(Sheet1!E25 = "j",0,VLOOKUP(Sheet1!E25,$C$40:$D$71,2,FALSE)) -> 0 | D25: =IF(Sheet1!F25 = "j",0,VLOOKUP(Sheet1!F25,$C$40:$D$71,2,FALSE)) -> 12 | E25: =IF(Sheet1!G25 = "j",0,VLOOKUP(Sheet1!G25,$C$40:$D$71,2,FALSE)) -> 12 | F25: =IF(Sheet1!H25 = "j",0,VLOOKUP(Sheet1!H25,$C$40:$D$71,2,FALSE)) -> 0 | G25: =IF(Sheet1!I25 = "j",0,VLOOKUP(Sheet1!I25,$C$40:$D$71,2,FALSE)) -> 0 | H25: =IF(Sheet1!J25 = "j",0,VLOOKUP(Sheet1!J25,$C$40:$D$71,2,FALSE)) -> 0 | I25: =IF(Sheet1!K25 = "j",0,VLOOKUP(Sheet1!K25,$C$40:$D$71,2,FALSE)) -> 0 | J25: =IF(Sheet1!L25 = "j",0,VLOOKUP(Sheet1!L25,$C$40:$D$71,2,FALSE)) -> 0 | ... AF25: =IF(Sheet1!AH25 = "j",0,VLOOKUP(Sheet1!AH25,$C$40:$D$71,2,FALSE)) -> 0 | AH25: =SUM(C25:AF25) -> 91 | AI25: 160.25
A26: 21 | B26: Benjamin | C26: =IF(Sheet1!E26 = "j",0,VLOOKUP(Sheet1!E26,$C$40:$D$71,2,FALSE)) -> 0 | D26: =IF(Sheet1!F26 = "j",0,VLOOKUP(Sheet1!F26,$C$40:$D$71,2,FALSE)) -> 0 | E26: =IF(Sheet1!G26 = "j",0,VLOOKUP(Sheet1!G26,$C$40:$D$71,2,FALSE)) -> 0 | F26: =IF(Sheet1!H26 = "j",0,VLOOKUP(Sheet1!H26,$C$40:$D$71,2,FALSE)) -> 0 | G26: =IF(Sheet1!I26 = "j",0,VLOOKUP(Sheet1!I26,$C$40:$D$71,2,FALSE)) -> 0 | H26: =IF(Sheet1!J26 = "j",0,VLOOKUP(Sheet1!J26,$C$40:$D$71,2,FALSE)) -> 0 | I26: =IF(Sheet1!K26 = "j",0,VLOOKUP(Sheet1!K26,$C$40:$D$71,2,FALSE)) -> 0 | J26: =IF(Sheet1!L26 = "j",0,VLOOKUP(Sheet1!L26,$C$40:$D$71,2,FALSE)) -> 0 | ... AF26: =IF(Sheet1!AH26 = "j",0,VLOOKUP(Sheet1!AH26,$C$40:$D$71,2,FALSE)) -> 12 | AH26: =SUM(C26:AF26) -> 111 | AI26: 160.25
... A31: 26 | B31: Kristof | C31: =IF(Sheet1!E31 = "j",0,VLOOKUP(Sheet1!E31,$C$40:$D$71,2,FALSE)) -> 0 | D31: =IF(Sheet1!F31 = "j",0,VLOOKUP(Sheet1!F31,$C$40:$D$71,2,FALSE)) -> 12 | E31: =IF(Sheet1!G31 = "j",0,VLOOKUP(Sheet1!G31,$C$40:$D$71,2,FALSE)) -> 0 | F31: =IF(Sheet1!H31 = "j",0,VLOOKUP(Sheet1!H31,$C$40:$D$71,2,FALSE)) -> 0 | G31: =IF(Sheet1!I31 = "j",0,VLOOKUP(Sheet1!I31,$C$40:$D$71,2,FALSE)) -> 0 | H31: =IF(Sheet1!J31 = "j",0,VLOOKUP(Sheet1!J31,$C$40:$D$71,2,FALSE)) -> 0 | I31: =IF(Sheet1!K31 = "j",0,VLOOKUP(Sheet1!K31,$C$40:$D$71,2,FALSE)) -> 0 | J31: =IF(Sheet1!L31 = "j",0,VLOOKUP(Sheet1!L31,$C$40:$D$71,2,FALSE)) -> 8 | ... AF31: =IF(Sheet1!AH31 = "j",0,VLOOKUP(Sheet1!AH31,$C$40:$D$71,2,FALSE)) -> 12 | AH31: =SUM(C31:AF31) -> 124 | AI31: 160.25
AH32: =SUM(C32:AF32) -> 0
B33: Geeist | C33: 44 | D33: 0 | E33: 0 | F33: 44 | G33: 44 | H33: 44 | I33: 44 | J33: 44 | K33: 0 | L33: 0 | M33: 44 | N33: 44 | O33: 44 | P33: 44 | Q33: 44 | R33: 0 | S33: 0 | T33: 44 | U33: 44 | V33: 44 | W33: 44 | X33: 44 | Y33: 0 | Z33: 0 | AA33: 44 | AB33: 44 | AC33: 44 | AD33: 44 | AE33: 44 | AF33: 0 | AH33: =SUM(C33:AF33) -> 924
B34: FDO | C34: =SUM(C4:C5,C7) -> 25.24 | D34: =SUM(D4:D5,D7) -> 0 | E34: =SUM(E4:E5,E7) -> 0 | F34: =SUM(F4:F5,F7) -> 13.24 | G34: =SUM(G4:G5,G7) -> 19.24 | H34: =SUM(H4:H5,H7) -> 7.24 | I34: =SUM(I4:I5,I7) -> 19.24 | J34: =SUM(J4:J5,J7) -> 19.24 | ... AF34: =SUM(AF4:AF5,AF7) -> 0 | AH34: =SUM(C34:AF34) -> 425.34
B35: GUARD | C35: =SUM(C8:C13) -> 38.2 | D35: =SUM(D8:D13) -> 12.2 | E35: =SUM(E8:E13) -> 0 | F35: =SUM(F8:F13) -> 44.1 | G35: =SUM(G8:G13) -> 38.1 | H35: =SUM(H8:H13) -> 48.1 | I35: =SUM(I8:I13) -> 38.1 | J35: =SUM(J8:J13) -> 46.1 | ... AF35: =SUM(AF8:AF13) -> 12 | AH35: =SUM(C35:AF35) -> 867.6
B36: Totaal | C36: =SUM(C34:C35)-COUNTIF(Sheet1!E4:E5,"=BVG")*6.1-COUNTIF(Sheet1!E7:E13,"=BVG")*6.1 -> 51.24 | D36: =SUM(D34:D35)-COUNTIF(Sheet1!F4:F5,"=BVG")*6.1-COUNTIF(Sheet1!F7:F13,"=BVG")*6.1 -> 0 | E36: =SUM(E34:E35)-COUNTIF(Sheet1!G4:G5,"=BVG")*6.1-COUNTIF(Sheet1!G7:G13,"=BVG")*6.1 -> 0 | F36: =SUM(F34:F35)-COUNTIF(Sheet1!H4:H5,"=BVG")*6.1-COUNTIF(Sheet1!H7:H13,"=BVG")*6.1 -> 51.24 | G36: =SUM(G34:G35)-COUNTIF(Sheet1!I4:I5,"=BVG")*6.1-COUNTIF(Sheet1!I7:I13,"=BVG")*6.1 -> 51.24 | H36: =SUM(H34:H35)-COUNTIF(Sheet1!J4:J5,"=BVG")*6.1-COUNTIF(Sheet1!J7:J13,"=BVG")*6.1 -> 49.24 | I36: =SUM(I34:I35)-COUNTIF(Sheet1!K4:K5,"=BVG")*6.1-COUNTIF(Sheet1!K7:K13,"=BVG")*6.1 -> 51.24 | J36: =SUM(J34:J35)-COUNTIF(Sheet1!L4:L5,"=BVG")*6.1-COUNTIF(Sheet1!L7:L13,"=BVG")*6.1 -> 59.24 | ... AF36: =SUM(AF34:AF35)-COUNTIF(Sheet1!AH4:AH5,"=BVG")*6.1-COUNTIF(Sheet1!AH7:AH13,"=BVG")*6.1 -> 12 | AH36: =SUM(C36:AF36) -> 1177.04
C40: BA4 | D40: 8
C41: R | D41: 6.1
C42: PA | D42: 8
C43: PA1 | D43: 2
C44: JF | D44: 8
C45: EHBO | D45: 8
C46: 10-16 | D46: 6
C47: JW | D47: 12
C48: NW | D48: 12
C49: N | D49: 12
C50: TR1 | D50: 3
C51: EXTRA | D51: 12
... C71: ZE | D71: 7.24
