Workbook
Name mois: #REF!
Name moiss: #REF!

Sheet Feuil1
B5: dupont | C5: edouard | D5: jacques | E5: michel | F5: durand
A6: 43160 | B6: matin | C6: repos | D6: repos | E6: journée | F6: repos
A7: 43161 | B7: apres midi | C7: repos | D7: journée | E7: matin | F7: journée
A8: 43162 | B8: nuit | C8: journée | D8: matin | E8: apres midi | F8: matin
A9: 43163 | B9: repos | C9: matin | D9: apres midi | E9: nuit | F9: apres midi
A10: 43164 | B10: repos | C10: apres midi | D10: nuit | E10: repos | F10: nuit
A11: 43165 | B11: journée | C11: nuit | D11: repos | E11: repos | F11: repos
A12: 43166 | B12: matin | C12: repos | D12: repos | E12: journée | F12: repos
A13: 43167 | B13: apres midi | C13: repos | D13: journée | E13: matin | F13: journée
A14: 43168 | B14: nuit | C14: journée | D14: matin | E14: apres midi | F14: matin
A15: 43169 | B15: repos | C15: matin | D15: apres midi | E15: nuit | F15: apres midi
A16: 43170 | B16: repos | C16: apres midi | D16: nuit | E16: repos | F16: nuit
A17: 43171 | B17: journée | C17: nuit | D17: repos | E17: repos | F17: repos
... A22: 43176 | B22: repos | C22: apres midi | D22: nuit | E22: repos | F22: nuit

Sheet Feuil2
B2: 43160 | C2: 43161 | D2: 43162 | E2: 43163 | F2: 43164 | G2: 43165 | H2: 43166 | I2: 43167 | J2: 43168 | K2: 43169 | L2: 43170 | M2: 43171 | N2: 43172 | O2: 43173 | P2: 43174 | Q2: 43175 | R2: 43176 | S2: 43177 | T2: 43178 | U2: 43179 | V2: 43180 | W2: 43181 | X2: 43182 | Y2: 43183 | Z2: 43184 | AA2: 43185 | AB2: 43186 | AC2: 43187 | AD2: 43188 | AE2: 43189 | AF2: 43190
B3: =B2 -> 43160 | C3: =C2 -> 43161 | D3: =D2 -> 43162 | E3: =E2 -> 43163 | F3: =F2 -> 43164 | G3: =G2 -> 43165 | H3: =H2 -> 43166 | I3: =I2 -> 43167 | ... AF3: =AF2 -> 43190
A4: dupont | B4: =_xlfn.IFNA(VLOOKUP(B2,Feuil1!$A$5:$F$22,MATCH($A$4,Feuil1!$A$5:$F$5),FALSE),"") -> matin | C4: =_xlfn.IFNA(VLOOKUP(C2,Feuil1!$A$5:$F$22,MATCH($A$4,Feuil1!$A$5:$F$5),FALSE),"") -> apres midi | D4: =_xlfn.IFNA(VLOOKUP(D2,Feuil1!$A$5:$F$22,MATCH($A$4,Feuil1!$A$5:$F$5),FALSE),"") -> nuit | E4: =_xlfn.IFNA(VLOOKUP(E2,Feuil1!$A$5:$F$22,MATCH($A$4,Feuil1!$A$5:$F$5),FALSE),"") -> repos | F4: =_xlfn.IFNA(VLOOKUP(F2,Feuil1!$A$5:$F$22,MATCH($A$4,Feuil1!$A$5:$F$5),FALSE),"") -> repos | G4: =_xlfn.IFNA(VLOOKUP(G2,Feuil1!$A$5:$F$22,MATCH($A$4,Feuil1!$A$5:$F$5),FALSE),"") -> journée | H4: =_xlfn.IFNA(VLOOKUP(H2,Feuil1!$A$5:$F$22,MATCH($A$4,Feuil1!$A$5:$F$5),FALSE),"") -> matin | I4: =_xlfn.IFNA(VLOOKUP(I2,Feuil1!$A$5:$F$22,MATCH($A$4,Feuil1!$A$5:$F$5),FALSE),"") -> apres midi | ... AF4: =_xlfn.IFNA(VLOOKUP(AF2,Feuil1!$A$5:$F$22,MATCH($A$4,Feuil1!$A$5:$F$5),FALSE),"")
A5: edouard | B5: =_xlfn.IFNA(VLOOKUP(B2,Feuil1!$A$5:$F$22,MATCH($A$5,Feuil1!$A$5:$F$5),FALSE),"") -> repos | C5: =_xlfn.IFNA(VLOOKUP(C2,Feuil1!$A$5:$F$22,MATCH($A$5,Feuil1!$A$5:$F$5),FALSE),"") -> repos | D5: =_xlfn.IFNA(VLOOKUP(D2,Feuil1!$A$5:$F$22,MATCH($A$5,Feuil1!$A$5:$F$5),FALSE),"") -> journée | E5: =_xlfn.IFNA(VLOOKUP(E2,Feuil1!$A$5:$F$22,MATCH($A$5,Feuil1!$A$5:$F$5),FALSE),"") -> matin | F5: =_xlfn.IFNA(VLOOKUP(F2,Feuil1!$A$5:$F$22,MATCH($A$5,Feuil1!$A$5:$F$5),FALSE),"") -> apres midi | G5: =_xlfn.IFNA(VLOOKUP(G2,Feuil1!$A$5:$F$22,MATCH($A$5,Feuil1!$A$5:$F$5),FALSE),"") -> nuit | H5: =_xlfn.IFNA(VLOOKUP(H2,Feuil1!$A$5:$F$22,MATCH($A$5,Feuil1!$A$5:$F$5),FALSE),"") -> repos | I5: =_xlfn.IFNA(VLOOKUP(I2,Feuil1!$A$5:$F$22,MATCH($A$5,Feuil1!$A$5:$F$5),FALSE),"") -> repos | ... AF5: =_xlfn.IFNA(VLOOKUP(AF2,Feuil1!$A$5:$F$22,MATCH($A$5,Feuil1!$A$5:$F$5),FALSE),"")
A6: jacques | B6: =_xlfn.IFNA(VLOOKUP(B2,Feuil1!$A$5:$F$22,MATCH($A$6,Feuil1!$A$5:$F$5),FALSE),"") -> repos | C6: =_xlfn.IFNA(VLOOKUP(C2,Feuil1!$A$5:$F$22,MATCH($A$6,Feuil1!$A$5:$F$5),FALSE),"") -> journée | D6: =_xlfn.IFNA(VLOOKUP(D2,Feuil1!$A$5:$F$22,MATCH($A$6,Feuil1!$A$5:$F$5),FALSE),"") -> matin | E6: =_xlfn.IFNA(VLOOKUP(E2,Feuil1!$A$5:$F$22,MATCH($A$6,Feuil1!$A$5:$F$5),FALSE),"") -> apres midi | F6: =_xlfn.IFNA(VLOOKUP(F2,Feuil1!$A$5:$F$22,MATCH($A$6,Feuil1!$A$5:$F$5),FALSE),"") -> nuit | G6: =_xlfn.IFNA(VLOOKUP(G2,Feuil1!$A$5:$F$22,MATCH($A$6,Feuil1!$A$5:$F$5),FALSE),"") -> repos | H6: =_xlfn.IFNA(VLOOKUP(H2,Feuil1!$A$5:$F$22,MATCH($A$6,Feuil1!$A$5:$F$5),FALSE),"") -> repos | I6: =_xlfn.IFNA(VLOOKUP(I2,Feuil1!$A$5:$F$22,MATCH($A$6,Feuil1!$A$5:$F$5),FALSE),"") -> journée | ... AF6: =_xlfn.IFNA(VLOOKUP(AF2,Feuil1!$A$5:$F$22,MATCH($A$6,Feuil1!$A$5:$F$5),FALSE),"")
A7: michel | B7: =_xlfn.IFNA(VLOOKUP(B2,Feuil1!$A$5:$F$22,MATCH($A$7,Feuil1!$A$5:$F$5),FALSE),"") -> journée | C7: =_xlfn.IFNA(VLOOKUP(C2,Feuil1!$A$5:$F$22,MATCH($A$7,Feuil1!$A$5:$F$5),FALSE),"") -> matin | D7: =_xlfn.IFNA(VLOOKUP(D2,Feuil1!$A$5:$F$22,MATCH($A$7,Feuil1!$A$5:$F$5),FALSE),"") -> apres midi | E7: =_xlfn.IFNA(VLOOKUP(E2,Feuil1!$A$5:$F$22,MATCH($A$7,Feuil1!$A$5:$F$5),FALSE),"") -> nuit | F7: =_xlfn.IFNA(VLOOKUP(F2,Feuil1!$A$5:$F$22,MATCH($A$7,Feuil1!$A$5:$F$5),FALSE),"") -> repos | G7: =_xlfn.IFNA(VLOOKUP(G2,Feuil1!$A$5:$F$22,MATCH($A$7,Feuil1!$A$5:$F$5),FALSE),"") -> repos | H7: =_xlfn.IFNA(VLOOKUP(H2,Feuil1!$A$5:$F$22,MATCH($A$7,Feuil1!$A$5:$F$5),FALSE),"") -> journée | I7: =_xlfn.IFNA(VLOOKUP(I2,Feuil1!$A$5:$F$22,MATCH($A$7,Feuil1!$A$5:$F$5),FALSE),"") -> matin | ... AF7: =_xlfn.IFNA(VLOOKUP(AF2,Feuil1!$A$5:$F$22,MATCH($A$7,Feuil1!$A$5:$F$5),FALSE),"")
A8: durand | B8: =_xlfn.IFNA(VLOOKUP(B2,Feuil1!$A$5:$F$22,MATCH($A$8,Feuil1!$A$5:$F$5,0),FALSE),"") -> repos | C8: =_xlfn.IFNA(VLOOKUP(C2,Feuil1!$A$5:$F$22,MATCH($A$8,Feuil1!$A$5:$F$5,0),FALSE),"") -> journée | D8: =_xlfn.IFNA(VLOOKUP(D2,Feuil1!$A$5:$F$22,MATCH($A$8,Feuil1!$A$5:$F$5,0),FALSE),"") -> matin | E8: =_xlfn.IFNA(VLOOKUP(E2,Feuil1!$A$5:$F$22,MATCH($A$8,Feuil1!$A$5:$F$5,0),FALSE),"") -> apres midi | F8: =_xlfn.IFNA(VLOOKUP(F2,Feuil1!$A$5:$F$22,MATCH($A$8,Feuil1!$A$5:$F$5,0),FALSE),"") -> nuit | G8: =_xlfn.IFNA(VLOOKUP(G2,Feuil1!$A$5:$F$22,MATCH($A$8,Feuil1!$A$5:$F$5,0),FALSE),"") -> repos | H8: =_xlfn.IFNA(VLOOKUP(H2,Feuil1!$A$5:$F$22,MATCH($A$8,Feuil1!$A$5:$F$5,0),FALSE),"") -> repos | I8: =_xlfn.IFNA(VLOOKUP(I2,Feuil1!$A$5:$F$22,MATCH($A$8,Feuil1!$A$5:$F$5,0),FALSE),"") -> journée | ... AF8: =_xlfn.IFNA(VLOOKUP(AF2,Feuil1!$A$5:$F$22,MATCH($A$8,Feuil1!$A$5:$F$5,0),FALSE),"")
