Workbook
Name _mo1: 'ELEC Bilan'!#REF!
Name _mo1: #REF!
Name _mo2: 'ELEC Bilan'!#REF!
Name _mo2: #REF!
Name _mo3: 'ELEC Bilan'!#REF!
Name _mo3: #REF!
Name _mo4: 'ELEC Bilan'!#REF!
Name _mo4: #REF!
Name _R: #REF!
Name A: #REF!
Name AZZZ: '[1]S.T 6'!$B$8
Name B: #REF!
Name coef: 'ELEC Bilan'!#REF!
Name coef: #REF!
Name D: #REF!
Name E: #REF!
Name F: #REF!
Name FA: #REF!
Name G: #REF!
Name H: #REF!
Name I: #REF!
Name J: #REF!
Name K: #REF!
Name M: #REF!
Name N: #REF!
Name O: #REF!
Name P: #REF!
Name Q: #REF!
Name S: #REF!
Name T: #REF!
Name U: #REF!
Name V: #REF!
Name W: #REF!
Name X: #REF!
Name Y: #REF!
Name Z: #REF!

Sheet ELEC minutes
C1: CLIENT: | E1: NOM: | G1: OBJET: | M1: N° DEVIS: | O1: DATE:
C2: Client xx | E2: Chargé Affaire Client | G2: Affaire xxx | M2: 2018-xx | O2: 43101
A4: SM | C4: DESIGNATION | D4: MARQUE | E4: REFERENCE | F4: FOURNISSEUR | G4: Qté | H4: M.O/Unit CABLAGE | I4: ACHAT Unit | J4: Qté Sous-Ens. | K4: ACHAT Sous-Ens. | L4: TOTAL M.O CABLAGE | M4: TOTAL MATERIEL | N4: DAO
C5: POSTE 1
A6: SM01051519A2 | C6: =IFERROR(VLOOKUP(A6,[2]Feuil1!$A3:$E5000,2,FALSE),"") -> ADU-EQ-PFM-7M3-CSA | D6: =VLOOKUP(A6,[2]Feuil1!$A3:$E5000,3,FALSE) -> 0 | E6: =VLOOKUP(A6,[2]Feuil1!$A3:$E5000,4,FALSE) -> 0 | F6: =VLOOKUP(A6,[2]Feuil1!$A3:$E5000,5,FALSE) -> 0 | L6: =G6*H6 -> 0 | M6: =G6*I6+G6*K6 -> 0
A7: SM01039562A8 | C7: =IFERROR(VLOOKUP(A7,[2]Feuil1!$A4:$E5001,2,FALSE),"") -> PFM64-73: 7,3M FULL MOTION PEDESTAL | D7: =VLOOKUP(A7,[2]Feuil1!$A4:$E5001,3,FALSE) -> 0 | E7: =VLOOKUP(A7,[2]Feuil1!$A4:$E5001,4,FALSE) -> S/E MECA ADU PFM | F7: =VLOOKUP(A7,[2]Feuil1!$A4:$E5001,5,FALSE) -> 0 | L7: =G7*H7 -> 0 | M7: =G7*I7+G7*K7 -> 0
A8: SM01039561A0 | C8: =IFERROR(VLOOKUP(A8,[2]Feuil1!$A5:$E5002,2,FALSE),"") -> PFM64-73: 7,3M FULL MOTION PEDESTAL | D8: =VLOOKUP(A8,[2]Feuil1!$A5:$E5002,3,FALSE) -> 0 | E8: =VLOOKUP(A8,[2]Feuil1!$A5:$E5002,4,FALSE) -> REPRISE ARMOIRE ADU | F8: =VLOOKUP(A8,[2]Feuil1!$A5:$E5002,5,FALSE) -> 0 | L8: =G8*H8 -> 0 | M8: =G8*I8+G8*K8 -> 0
A9: SP01001702A0 | C9: =IFERROR(VLOOKUP(A9,[2]Feuil1!$A6:$E5003,2,FALSE),"") -> COFFRET | D9: =VLOOKUP(A9,[2]Feuil1!$A6:$E5003,3,FALSE) -> RITTAL | E9: =VLOOKUP(A9,[2]Feuil1!$A6:$E5003,4,FALSE) -> 9784540 | F9: =VLOOKUP(A9,[2]Feuil1!$A6:$E5003,5,FALSE) -> REXEL | L9: =G9*H9 -> 0 | M9: =G9*I9+G9*K9 -> 0
A10: SD01028645A1 | C10: =IFERROR(VLOOKUP(A10,[2]Feuil1!$A7:$E5004,2,FALSE),"") -> PLAN REPRISE ARMOIRE ADU 2AXES | D10: =VLOOKUP(A10,[2]Feuil1!$A7:$E5004,3,FALSE) -> 0 | E10: =VLOOKUP(A10,[2]Feuil1!$A7:$E5004,4,FALSE) -> PERCAGE ARMOIRE ADU | F10: =VLOOKUP(A10,[2]Feuil1!$A7:$E5004,5,FALSE) -> ATELIER | L10: =G10*H10 -> 0 | M10: =G10*I10+G10*K10 -> 0
A11: SP01055104A0 | C11: =IFERROR(VLOOKUP(A11,[2]Feuil1!$A8:$E5005,2,FALSE),"") -> THERMOMETRE DIGITAL 250V IP54 | D11: =VLOOKUP(A11,[2]Feuil1!$A8:$E5005,3,FALSE) -> RITTAL | E11: =VLOOKUP(A11,[2]Feuil1!$A8:$E5005,4,FALSE) -> 3114200 | F11: =VLOOKUP(A11,[2]Feuil1!$A8:$E5005,5,FALSE) -> REXEL | L11: =G11*H11 -> 0 | M11: =G11*I11+G11*K11 -> 0
A12: SP01038248A0 | C12: =IFERROR(VLOOKUP(A12,[2]Feuil1!$A9:$E5006,2,FALSE),"") -> VENTILATEUR A FILTRE RAL 7035 230V 230-250 M3/H | D12: =VLOOKUP(A12,[2]Feuil1!$A9:$E5006,3,FALSE) -> RITTAL | E12: =VLOOKUP(A12,[2]Feuil1!$A9:$E5006,4,FALSE) -> 3241100 | F12: =VLOOKUP(A12,[2]Feuil1!$A9:$E5006,5,FALSE) -> REXEL | L12: =G12*H12 -> 0 | M12: =G12*I12+G12*K12 -> 0
A13: SP01033706A0 | C13: =IFERROR(VLOOKUP(A13,[2]Feuil1!$A10:$E5007,2,FALSE),"") -> THERMOVENTILATEUR 400/550W 230V THERMOSTAT 0/+60° | D13: =VLOOKUP(A13,[2]Feuil1!$A10:$E5007,3,FALSE) -> SCHNEIDER | E13: =VLOOKUP(A13,[2]Feuil1!$A10:$E5007,4,FALSE) -> NSYCRP1W230VTVC | F13: =VLOOKUP(A13,[2]Feuil1!$A10:$E5007,5,FALSE) -> REXEL | L13: =G13*H13 -> 0 | M13: =G13*I13+G13*K13 -> 0
A14: SP01038249A0 | C14: =IFERROR(VLOOKUP(A14,[2]Feuil1!$A11:$E5008,2,FALSE),"") -> FILTRE DE SORTIE RAL 7035 | D14: =VLOOKUP(A14,[2]Feuil1!$A11:$E5008,3,FALSE) -> RITTAL | E14: =VLOOKUP(A14,[2]Feuil1!$A11:$E5008,4,FALSE) -> 3240200 | F14: =VLOOKUP(A14,[2]Feuil1!$A11:$E5008,5,FALSE) -> REXEL | L14: =G14*H14 -> 0 | M14: =G14*I14+G14*K14 -> 0
A15: SP01001816A0 | C15: =IFERROR(VLOOKUP(A15,[2]Feuil1!$A12:$E5009,2,FALSE),"") -> FILTRES DE RECHANGE | D15: =VLOOKUP(A15,[2]Feuil1!$A12:$E5009,3,FALSE) -> RITTAL | E15: =VLOOKUP(A15,[2]Feuil1!$A12:$E5009,4,FALSE) -> 3172100 | F15: =VLOOKUP(A15,[2]Feuil1!$A12:$E5009,5,FALSE) -> REXEL | L15: =G15*H15 -> 0 | M15: =G15*I15+G15*K15 -> 0
A16: SP01001817A0 | C16: =IFERROR(VLOOKUP(A16,[2]Feuil1!$A13:$E5010,2,FALSE),"") -> ECROUS CAGE M6 | D16: =VLOOKUP(A16,[2]Feuil1!$A13:$E5010,3,FALSE) -> RITTAL | E16: =VLOOKUP(A16,[2]Feuil1!$A13:$E5010,4,FALSE) -> 4164.000 | F16: =VLOOKUP(A16,[2]Feuil1!$A13:$E5010,5,FALSE) -> STOCK | L16: =G16*H16 -> 0 | M16: =G16*I16+G16*K16 -> 0
A17: SP01008165A0 | C17: =IFERROR(VLOOKUP(A17,[2]Feuil1!$A14:$E5011,2,FALSE),"") -> VIGITHERME A OUVERTURE | D17: =VLOOKUP(A17,[2]Feuil1!$A14:$E5011,3,FALSE) -> HEITO | E17: =VLOOKUP(A17,[2]Feuil1!$A14:$E5011,4,FALSE) -> VIGI M16 0 10/5 +-3° V6 HD | F17: =VLOOKUP(A17,[2]Feuil1!$A14:$E5011,5,FALSE) -> ELECSYSTEM | L17: =G17*H17 -> 0 | M17: =G17*I17+G17*K17 -> 0
... A23: SP01031182A0 | C23: =IFERROR(VLOOKUP(A23,[2]Feuil1!$A20:$E5017,2,FALSE),"") -> JOINT POUR CABLE Ø10/11MM KDT/ZE 10 | D23: =VLOOKUP(A23,[2]Feuil1!$A20:$E5017,3,FALSE) -> MURRPLASTIK | E23: =VLOOKUP(A23,[2]Feuil1!$A20:$E5017,4,FALSE) -> 87121224 | F23: =VLOOKUP(A23,[2]Feuil1!$A20:$E5017,5,FALSE) -> ELECSYSTEM | L23: =G23*H23 -> 0 | M23: =G23*I23+G23*K23 -> 0
C24: =IFERROR(VLOOKUP(A24,[2]Feuil1!$A21:$E5018,2,FALSE),"") | D24: =VLOOKUP(A24,[2]Feuil1!$A21:$E5018,3,FALSE) -> #N/A | E24: =VLOOKUP(A24,[2]Feuil1!$A21:$E5018,4,FALSE) -> #N/A | F24: =VLOOKUP(A24,[2]Feuil1!$A21:$E5018,5,FALSE) -> #N/A | L24: =G24*H24 -> 0 | M24: =G24*I24+G24*K24 -> 0
C25: =IFERROR(VLOOKUP(A25,[2]Feuil1!$A22:$E5019,2,FALSE),"") | D25: =VLOOKUP(A25,[2]Feuil1!$A22:$E5019,3,FALSE) -> #N/A | E25: =VLOOKUP(A25,[2]Feuil1!$A22:$E5019,4,FALSE) -> #N/A | F25: =VLOOKUP(A25,[2]Feuil1!$A22:$E5019,5,FALSE) -> #N/A | L25: =G25*H25 -> 0 | M25: =G25*I25+G25*K25 -> 0
C26: =IFERROR(VLOOKUP(A26,[2]Feuil1!$A23:$E5020,2,FALSE),"") | D26: =VLOOKUP(A26,[2]Feuil1!$A23:$E5020,3,FALSE) -> #N/A | E26: =VLOOKUP(A26,[2]Feuil1!$A23:$E5020,4,FALSE) -> #N/A | F26: =VLOOKUP(A26,[2]Feuil1!$A23:$E5020,5,FALSE) -> #N/A | L26: =G26*H26 -> 0 | M26: =G26*I26+G26*K26 -> 0
C27: =IFERROR(VLOOKUP(A27,[2]Feuil1!$A24:$E5021,2,FALSE),"") | D27: =VLOOKUP(A27,[2]Feuil1!$A24:$E5021,3,FALSE) -> #N/A | E27: =VLOOKUP(A27,[2]Feuil1!$A24:$E5021,4,FALSE) -> #N/A | F27: =VLOOKUP(A27,[2]Feuil1!$A24:$E5021,5,FALSE) -> #N/A | L27: =G27*H27 -> 0 | M27: =G27*I27+G27*K27 -> 0
C28: =IFERROR(VLOOKUP(A28,[2]Feuil1!$A25:$E5022,2,FALSE),"") | D28: =VLOOKUP(A28,[2]Feuil1!$A25:$E5022,3,FALSE) -> #N/A | E28: =VLOOKUP(A28,[2]Feuil1!$A25:$E5022,4,FALSE) -> #N/A | F28: =VLOOKUP(A28,[2]Feuil1!$A25:$E5022,5,FALSE) -> #N/A | L28: =G28*H28 -> 0 | M28: =G28*I28+G28*K28 -> 0
C29: =IFERROR(VLOOKUP(A29,[2]Feuil1!$A26:$E5023,2,FALSE),"") | D29: =VLOOKUP(A29,[2]Feuil1!$A26:$E5023,3,FALSE) -> #N/A | E29: =VLOOKUP(A29,[2]Feuil1!$A26:$E5023,4,FALSE) -> #N/A | F29: =VLOOKUP(A29,[2]Feuil1!$A26:$E5023,5,FALSE) -> #N/A | L29: =G29*H29 -> 0 | M29: =G29*I29+G29*K29 -> 0
C30: =IFERROR(VLOOKUP(A30,[2]Feuil1!$A27:$E5024,2,FALSE),"") | D30: =VLOOKUP(A30,[2]Feuil1!$A27:$E5024,3,FALSE) -> #N/A | E30: =VLOOKUP(A30,[2]Feuil1!$A27:$E5024,4,FALSE) -> #N/A | F30: =VLOOKUP(A30,[2]Feuil1!$A27:$E5024,5,FALSE) -> #N/A | L30: =G30*H30 -> 0 | M30: =G30*I30+G30*K30 -> 0
C31: =IFERROR(VLOOKUP(A31,[2]Feuil1!$A28:$E5025,2,FALSE),"") | D31: =VLOOKUP(A31,[2]Feuil1!$A28:$E5025,3,FALSE) -> #N/A | E31: =VLOOKUP(A31,[2]Feuil1!$A28:$E5025,4,FALSE) -> #N/A | F31: =VLOOKUP(A31,[2]Feuil1!$A28:$E5025,5,FALSE) -> #N/A | L31: =G31*H31 -> 0 | M31: =G31*I31+G31*K31 -> 0
C32: =IFERROR(VLOOKUP(A32,[2]Feuil1!$A29:$E5026,2,FALSE),"") | D32: =VLOOKUP(A32,[2]Feuil1!$A29:$E5026,3,FALSE) -> #N/A | E32: =VLOOKUP(A32,[2]Feuil1!$A29:$E5026,4,FALSE) -> #N/A | F32: =VLOOKUP(A32,[2]Feuil1!$A29:$E5026,5,FALSE) -> #N/A | L32: =G32*H32 -> 0 | M32: =G32*I32+G32*K32 -> 0
C33: =IFERROR(VLOOKUP(A33,[2]Feuil1!$A30:$E5027,2,FALSE),"") | D33: =VLOOKUP(A33,[2]Feuil1!$A30:$E5027,3,FALSE) -> #N/A | E33: =VLOOKUP(A33,[2]Feuil1!$A30:$E5027,4,FALSE) -> #N/A | F33: =VLOOKUP(A33,[2]Feuil1!$A30:$E5027,5,FALSE) -> #N/A | L33: =G33*H33 -> 0 | M33: =G33*I33+G33*K33 -> 0
C34: =IFERROR(VLOOKUP(A34,[2]Feuil1!$A31:$E5028,2,FALSE),"") | D34: =VLOOKUP(A34,[2]Feuil1!$A31:$E5028,3,FALSE) -> #N/A | E34: =VLOOKUP(A34,[2]Feuil1!$A31:$E5028,4,FALSE) -> #N/A | F34: =VLOOKUP(A34,[2]Feuil1!$A31:$E5028,5,FALSE) -> #N/A | L34: =G34*H34 -> 0 | M34: =G34*I34+G34*K34 -> 0
C35: =IFERROR(VLOOKUP(A35,[2]Feuil1!$A32:$E5029,2,FALSE),"") | D35: =VLOOKUP(A35,[2]Feuil1!$A32:$E5029,3,FALSE) -> #N/A | E35: =VLOOKUP(A35,[2]Feuil1!$A32:$E5029,4,FALSE) -> #N/A | F35: =VLOOKUP(A35,[2]Feuil1!$A32:$E5029,5,FALSE) -> #N/A | L35: =G35*H35 -> 0 | M35: =G35*I35+G35*K35 -> 0
... C386: =IFERROR(VLOOKUP(A386,[2]Feuil1!$A383:$E5380,2,FALSE),"") | D386: =VLOOKUP(A386,[2]Feuil1!$A383:$E5380,3,FALSE) -> #N/A | E386: =VLOOKUP(A386,[2]Feuil1!$A383:$E5380,4,FALSE) -> #N/A | F386: =VLOOKUP(A386,[2]Feuil1!$A383:$E5380,5,FALSE) -> #N/A | L386: =G386*H386 -> 0 | M386: =G386*I386+G386*K386 -> 0
K387: =C5 -> POSTE 1 | L387: =SUM(L5:L386) -> 0 | M387: =SUM(M5:M386) -> 0 | N387: =SUM(N5:N386) -> 0 | O387: =SUM(O5:O386) -> 0 | P387: =SUM(P5:P386) -> 0
C389: POSTE 2
L390: =G390*H390 -> 0 | M390: =G390*I390+G390*K390 -> 0
L391: =G391*H391 -> 0 | M391: =G391*I391+G391*K391 -> 0
L392: =G392*H392 -> 0 | M392: =G392*I392+G392*K392 -> 0
L393: =G393*H393 -> 0 | M393: =G393*I393+G393*K393 -> 0
L394: =G394*H394 -> 0 | M394: =G394*I394+G394*K394 -> 0
L395: =G395*H395 -> 0 | M395: =G395*I395+G395*K395 -> 0
L396: =G396*H396 -> 0 | M396: =G396*I396+G396*K396 -> 0
L397: =G397*H397 -> 0 | M397: =G397*I397+G397*K397 -> 0
...

Sheet ELEC Bilan
A2: CLIENT | D2: NOM | G2: OBJET | M2: N° DEVIS | O2: DATE
A3: ='ELEC minutes'!C2 -> Client xx | D3: ='ELEC minutes'!E2 -> Chargé Affaire Client | G3: ='ELEC minutes'!G2 -> Affaire xxx | M3: ='ELEC minutes'!M2 -> 2018-xx | O3: ='ELEC minutes'!O2:P2 -> 43101
A5: Administration: | M5: CHARGE D'AFFAIRE SREEM
A6: Marge sur Achats (MSA) | B6: 0.2 | H6: Câblage | I6: Câblage site | J6: DAO | M6: XXX
A7: Marge Négo | B7: 0.05 | G7: Taux Horaires | H7: 35 | J7: 41
B10: Qté | C10: ACHAT | D10: ACHAT + Marges MSA | E10: Tps Câblage | F10: Total Câblage | G10: Tps DAO | H10: Total DAO | M10: TOTAL Unitaire | N10: TOTAL | O10: TOTAL + MSA + Marges NEGO | Q10: Réglementation des Frais
A11: =UPPER('ELEC minutes'!C5) -> POSTE 1 | B11: 1 | C11: ='ELEC minutes'!M387 -> 0 | D11: =C11+(C11*$B$6) -> 0 | E11: ='ELEC minutes'!L387 -> 0 | F11: =E11*$H$7 -> 0 | G11: ='ELEC minutes'!N387 -> 0 | H11: =G11*$J$7 -> 0 | M11: =D11+F11+H11+J11+L11 -> 0 | N11: =B11*M11 -> 0 | O11: =N11+N11*$B$7 -> 0 | Q11: FRAIS France | R11: A CHIFFRER | S11: Salarié
A12: =UPPER('ELEC minutes'!C389) -> POSTE 2 | B12: 1 | C12: ='ELEC minutes'!M437 -> 0 | D12: =C12+(C12*$B$6) -> 0 | E12: ='ELEC minutes'!L437 -> 0 | F12: =E12*$H$7 -> 0 | G12: ='ELEC minutes'!N437 -> 0 | H12: =G12*$J$7 -> 0 | M12: =D12+F12+H12+J12+L12 -> 0 | N12: =B12*M12 -> 0 | O12: =N12+N12*$B$7 -> 0 | Q12: Repas midi | R12: =S12*1.5 -> 21 | S12: 14
A13: =UPPER('ELEC minutes'!C439) -> POSTE 3 | B13: 1 | C13: ='ELEC minutes'!M487 -> 0 | D13: =C13+(C13*$B$6) -> 0 | E13: ='ELEC minutes'!L487 -> 0 | F13: =E13*$H$7 -> 0 | G13: ='ELEC minutes'!N487 -> 0 | H13: =G13*$J$7 -> 0 | M13: =D13+F13+H13+J13+L13 -> 0 | N13: =B13*M13 -> 0 | O13: =N13+N13*$B$7 -> 0 | Q13: Repas soir | R13: =S13*1.5 -> 30 | S13: 20
A14: =UPPER('ELEC minutes'!C489) -> POSTE 4 | B14: 1 | C14: ='ELEC minutes'!M537 -> 0 | D14: =C14+(C14*$B$6) -> 0 | E14: ='ELEC minutes'!L537 -> 0 | F14: =E14*$H$7 -> 0 | G14: ='ELEC minutes'!N537 -> 0 | H14: =G14*$J$7 -> 0 | M14: =D14+F14+H14+J14+L14 -> 0 | N14: =B14*M14 -> 0 | O14: =N14+N14*$B$7 -> 0 | Q14: Hôtel + petit dejeuné | R14: =S14*1.5 -> 105 | S14: 70
A15: =UPPER('ELEC minutes'!C539) -> POSTE 5 | B15: 1 | C15: ='ELEC minutes'!M587 -> 0 | D15: =C15+(C15*$B$6) -> 0 | E15: ='ELEC minutes'!L587 -> 0 | F15: =E15*$H$7 -> 0 | G15: ='ELEC minutes'!N587 -> 0 | H15: =G15*$J$7 -> 0 | M15: =D15+F15+H15+J15+L15 -> 0 | N15: =B15*M15 -> 0 | O15: =N15+N15*$B$7 -> 0 | Q15: frais autoroute aller-retour | R15: =S15*1.5 -> 10.5 | S15: 7
A16: =UPPER('ELEC minutes'!C589) -> POSTE 6 | B16: 1 | C16: ='ELEC minutes'!M637 -> 0 | D16: =C16+(C16*$B$6) -> 0 | E16: ='ELEC minutes'!L637 -> 0 | F16: =E16*$H$7 -> 0 | G16: ='ELEC minutes'!N637 -> 0 | H16: =G16*$J$7 -> 0 | M16: =D16+F16+H16+J16+L16 -> 0 | N16: =B16*M16 -> 0 | O16: =N16+N16*$B$7 -> 0 | Q16: Prime déplacement >70Km - 8/15 jours | R16: =S16*1.5 -> 67.5 | S16: 45
A17: =UPPER('ELEC minutes'!C639) -> POSTE 7 | B17: 1 | C17: ='ELEC minutes'!M687 -> 0 | D17: =C17+(C17*$B$6) -> 0 | E17: ='ELEC minutes'!L687 -> 0 | F17: =E17*$H$7 -> 0 | G17: ='ELEC minutes'!N687 -> 0 | H17: =G17*$J$7 -> 0 | M17: =D17+F17+H17+J17+L17 -> 0 | N17: =B17*M17 -> 0 | O17: =N17+N17*$B$7 -> 0 | Q17: Prime déplacement >70Km - 4/7 jours | R17: =S17*1.5 -> 60 | S17: 40
A18: =UPPER('ELEC minutes'!C689) -> POSTE 8 | B18: 1 | C18: ='ELEC minutes'!M737 -> 0 | D18: =C18+(C18*$B$6) -> 0 | E18: ='ELEC minutes'!L737 -> 0 | F18: =E18*$H$7 -> 0 | G18: ='ELEC minutes'!N737 -> 0 | H18: =G18*$J$7 -> 0 | M18: =D18+F18+H18+J18+L18 -> 0 | N18: =B18*M18 -> 0 | O18: =N18+N18*$B$7 -> 0 | Q18: Prime déplacement >70Km - 2/3 jours | R18: =S18*1.5 -> 52.5 | S18: 35
A19: =UPPER('ELEC minutes'!C739) -> POSTE 9 | B19: 1 | C19: ='ELEC minutes'!M787 -> 0 | D19: =C19+(C19*$B$6) -> 0 | E19: ='ELEC minutes'!L787 -> 0 | F19: =E19*$H$7 -> 0 | G19: ='ELEC minutes'!N787 -> 0 | H19: =G19*$J$7 -> 0 | M19: =D19+F19+H19+J19+L19 -> 0 | N19: =B19*M19 -> 0 | O19: =N19+N19*$B$7 -> 0 | Q19: Prime déplacement >70Km - 1 jour | R19: =S19*1.5 -> 30 | S19: 20
A20: Total | C20: =SUMPRODUCT($B$11:$B$19,C11:C19) -> 0 | D20: =SUMPRODUCT($B$11:$B$19,D11:D19) -> 0 | E20: =SUMPRODUCT(B11:B19,E11:E19) -> 0 | F20: =SUMPRODUCT($B$11:$B$19,F11:F19) -> 0 | G20: =SUMPRODUCT(B11:B19,G11:G19) -> 0 | H20: =SUMPRODUCT($B$11:$B$19,H11:H19) -> 0 | Q20: Prime déplacement <70Km | R20: =S20*1.5 -> 0 | S20: 0
A22: =UPPER('ELEC minutes'!C789) -> SANS MARGE NEGO | B22: 1 | C22: ='ELEC minutes'!M837 -> 0 | E22: ='ELEC minutes'!L837 -> 0 | F22: =E22*$H$7 -> 0 | G22: ='ELEC minutes'!N837 -> 0 | H22: =G22*$J$7 -> 0 | M22: =C22+F22+H22+J22+L22 -> 0 | N22: =B22*M22 -> 0
A23: =UPPER('ELEC minutes'!C839) -> REMISE | B23: 1 | C23: =-'ELEC minutes'!M887 -> 0 | E23: ='ELEC minutes'!L887 -> 0 | F23: =-E23*$H$7 -> 0 | G23: ='ELEC minutes'!N887 -> 0 | H23: =-G23*$J$7 -> 0 | M23: =C23+F23+H23+J23+L23 -> 0 | N23: =B23*M23 -> 0
A24: =UPPER('ELEC minutes'!C889) -> FRAIS DEPLACEMENT | B24: 1 | C24: ='ELEC minutes'!M937 -> 0 | M24: =C24 -> 0 | N24: =B24*M24 -> 0
N26: TOTAL H.T. | O26: =SUM(N11:N19)-O27+N22 -> 0
N27: Marge Sur Achats | O27: =D20-C20 -> 0
N28: Marge nego | O28: =SUM(N11:N19)*B7 -> 0
N29: REMISE | O29: =N23 -> 0
N30: Frais déplacement | O30: =N24 -> 0
N31: PRIX DE VENTE | O31: =SUM(O26:O30) -> 0
