Workbook

Sheet Sheet1
E1: 43252 | P1: Update | S1: =NOW() -> 43248.553 | X1: =NOW() -> 43248.553
E2: 1 | F2: 2 | G2: 3 | H2: 4 | I2: 5 | J2: 6 | K2: 7 | L2: 8 | M2: 9 | N2: 10 | O2: 11 | P2: 12 | Q2: 13 | R2: 14 | S2: 15 | T2: 16 | U2: 17 | V2: 18 | W2: 19 | X2: 20 | Y2: 21 | Z2: 22 | AA2: 23 | AB2: 24 | AC2: 25 | AD2: 26 | AE2: 27 | AF2: 28 | AG2: 29 | AH2: 30 | AI2: Totaal | AJ2: Uren | AK2: 0.33
E3: Fri | F3: Sat | G3: Sun | H3: Mon | I3: Tue | J3: Wed | K3: Thu | L3: Fri | M3: Sat | N3: Sun | O3: Mon | P3: Tue | Q3: Wed | R3: Thu | S3: Fri | T3: Sat | U3: Sun | V3: Mon | W3: Tue | X3: Wed | Y3: Thu | Z3: Fri | AA3: Sat | AB3: Sun | AC3: Mon | AD3: Tue | AE3: Wed | AF3: Thu | AG3: Fri | AH3: Sat | AJ3: 1 | AK3: Guard
C4: 1 | D4: Olga | E4: D7 | F4: o | G4: o | H4: o | I4: o | J4: o | K4: D7 | L4: D7 | M4: o | N4: o | O4: D7 | P4: D7 | Q4: o | R4: OFF | S4: OFF | T4: o | U4: o | V4: o | W4: LA | X4: o | Y4: D7 | Z4: D7 | AA4: o | AB4: o | AC4: D7 | AD4: o | AE4: o | AF4: D7 | AG4: D7 | AH4: o | AI4: =Sheet2!AH4 -> 126 | AJ4: 120.00
C5: 2 | D5: Wendy | E5: ZE | F5: o | G5: o | H5: ZE | I5: ZE | J5: ZE | K5: ZE | L5: ZE | M5: o | N5: o | O5: ZE | P5: ZE | Q5: ZE | R5: ZE | S5: ZE | T5: o | U5: o | V5: ZE | W5: ZE | X5: ZE | Y5: ZE | Z5: ZE | AA5: o | AB5: o | AC5: ZE | AD5: ZE | AE5: ZE | AF5: ZE | AG5: ZE | AH5: o | AI5: 160,00 | AJ5: 160.00
AL6: Wk
C7: 3 | D7: Alain | E7: 10-16 | F7: o | G7: o | H7: VK | I7: D7 | J7: o | K7: OFF | L7: OFF | M7: o | N7: o | O7: BVG | P7: BVG | Q7: BVG | R7: MG | S7: MG | T7: o | U7: o | V7: VK | W7: VK | X7: D7 | Y7: MG | Z7: D7 | AA7: o | AB7: o | AC7: VK | AD7: D7 | AE7: 10-16 | AF7: VK | AG7: D7 | AH7: o | AI7: 162,3 | AJ7: 160
C8: 4 | D8: Dany | E8: D7 | F8: o | G8: o | H8: 10-16 | I8: D7 | J8: D7 | K8: o | L8: D7 | M8: o | N8: o | O8: D7 | P8: D7 | Q8: 10-16 | R8: o | S8: 10-16 | T8: o | U8: o | V8: J | W8: 10-16 | X8: 10-16 | Y8: 10-16 | Z8: o | AA8: o | AB8: o | AC8: o | AD8: o | AE8: D7 | AF8: o | AG8: 10-16 | AH8: o | AI8: =Sheet2!AH8 -> 180 | AJ8: 160
C9: 5 | D9: Corentin | E9: OFF | F9: o | G9: o | H9: o | I9: 10-16 | J9: 10-16 | K9: 10-16 | L9: 10-16 | M9: o | N9: o | O9: VK | P9: 10-16 | Q9: VK | R9: 10-16 | S9: EHBO | T9: o | U9: o | V9: D4 | W9: J | X9: D7 | Y9: VK | Z9: VK | AA9: o | AB9: o | AC9: o | AD9: D7 | AE9: D4 | AF9: 10-16 | AG9: VK | AH9: o | AI9: =Sheet2!AH9 -> 174 | AJ9: 160
C10: 6 | D10: Glenn | E10: BVG | F10: BVG | G10: o | H10: BVG | I10: BVG | J10: BVG | K10: BVG | L10: BVG | M10: BVG | N10: o | O10: BVG | P10: BVG | Q10: BVG | R10: BVG | S10: BVG | T10: BVG | U10: o | V10: D7 | W10: D7 | X10: o | Y10: EXTRA | Z10: 10-16 | AA10: o | AB10: o | AC10: 10-16 | AD10: 10-16 | AE10: J | AF10: o | AG10: o | AH10: JW | AI10: =Sheet2!AH10 -> 181.4 | AJ10: 160
C11: 7 | D11: Maribel | E11: BVG | F11: BVG | G11: o | H11: D7 | I11: VK | J11: D7 | K11: VK | L11: EHBO | M11: o | N11: o | O11: D4 | P11: D4 | Q11: D7 | R11: VK | S11: D7 | T11: o | U11: o | V11: 10-16 | W11: o | X11: VK | Y11: LA | Z11: o | AA11: JW | AB11: JW | AC11: o | AD11: VK | AE11: LA | AF11: J | AG11: D4 | AH11: o | AI11: =Sheet2!AH11 -> 182.2 | AJ11: 160 | AL11: 1
C12: 8 | D12: Devitee | E12: VK | F12: o | G12: o | H12: D4 | I12: D4 | J12: D7 | K12: D4 | L12: VK | M12: o | N12: o | O12: 10-16 | P12: VK | Q12: D4 | R12: D4 | S12: D7 | T12: o | U12: o | V12: D7 | W12: D4 | X12: D4 | Y12: LA | Z12: D4 | AA12: o | AB12: o | AC12: D4 | AD12: D4 | AE12: o | AF12: D4 | AG12: J | AH12: o | AI12: =Sheet2!AH12 -> 172 | AJ12: 160
C13: 9 | D13: Petra | E13: D4 | F13: o | G13: o | H13: D7 | I13: OFF | J13: OFF | K13: D7 | L13: D4 | M13: o | N13: o | O13: BA4 | P13: o | Q13: D7 | R13: D7 | S13: D7 | T13: o | U13: o | V13: o | W13: o | X13: J | Y13: D4 | Z13: OFF | AA13: JW | AB13: JW | AC13: D7 | AD13: o | AE13: D7 | AF13: D7 | AG13: o | AH13: o | AI13: =Sheet2!AH13 -> 164 | AJ13: 160 | AL13: 1
D14: Stevens D. | L14: OFF | M14: OFF | N14: OFF | O14: OFF | P14: OFF | Q14: OFF | R14: OFF | S14: OFF
C15: 10 | D15: Frederic | E15: J | F15: o | G15: o | H15: J | I15: J | J15: o | K15: J | L15: MGR | M15: o | N15: o | O15: MGR | P15: MGR | Q15: MGR | R15: J | S15: J | T15: o | U15: o | V15: o | W15: MGR | X15: MGR | Y15: J | Z15: J | AA15: o | AB15: o | AC15: J | AD15: J | AE15: o | AF15: o | AG15: o | AH15: o | AI15: =Sheet2!AH15 -> 168 | AJ15: 160
C16: 11 | D16: Karel | E16: N | F16: NW | G16: o | H16: o | I16: o | J16: o | K16: N | L16: N | M16: o | N16: o | O16: J | P16: J | Q16: o | R16: D7 | S16: J | T16: OFF | U16: o | V16: o | W16: o | X16: N | Y16: N | Z16: N | AA16: NW | AB16: o | AC16: J | AD16: J | AE16: o | AF16: o | AG16: o | AH16: OFF | AI16: =Sheet2!AH16 -> 168 | AJ16: 160 | AK16: 38,10% | AL16: 2
C17: 12 | D17: Kevin | E17: BVG | F17: BVG | G17: o | H17: J | I17: o | J17: J | K17: TR | L17: TR | M17: o | N17: o | O17: TR | P17: TR | Q17: J | R17: J | S17: o | T17: o | U17: o | V17: J | W17: J | X17: J | Y17: OFF | Z17: OFF | AA17: OFF | AB17: OFF | AC17: OFF | AD17: J | AE17: o | AF17: J | AG17: J | AH17: JW | AI17: =Sheet2!AH17 -> 176.2 | AJ17: 160 | AL17: 1
C18: 13 | D18: Nicolas | E18: o | F18: o | G18: o | H18: N | I18: N | J18: o | K18: o | L18: o | M18: NW | N18: NW | O18: o | P18: o | Q18: J | R18: J | S18: EHBO | T18: o | U18: o | V18: J | W18: J | X18: o | Y18: J | Z18: J | AA18: o | AB18: o | AC18: N | AD18: N | AE18: o | AF18: o | AG18: N | AH18: NW | AI18: =Sheet2!AH18 -> 176 | AJ18: 160 | AK18: 36,36% | AL18: 2
C19: 14 | D19: Christof | E19: o | F19: OFF | G19: OFF | H19: OFF | I19: J | J19: o | K19: J | L19: EHBO | M19: NW | N19: NW | O19: N | P19: N | Q19: OFF | R19: o | S19: J | T19: OFF | U19: OFF | V19: OFF | W19: o | X19: N | Y19: N | Z19: o | AA19: NW | AB19: NW | AC19: o | AD19: o | AE19: N | AF19: N | AG19: N | AH19: o | AI19: =Sheet2!AH19 -> 176 | AJ19: 160 | AK19: 53,66% | AL19: 2
C20: 15 | D20: Fadl | E20: o | F20: o | G20: o | H20: N | I20: N | J20: o | K20: o | L20: o | M20: NW | N20: NW | O20: N | P20: o | Q20: o | R20: N | S20: N | T20: o | U20: o | V20: TR | W20: TR | X20: TR | Y20: TR | Z20: TR | AA20: o | AB20: o | AC20: TR1 | AD20: o | AE20: J | AF20: J | AG20: J | AH20: o | AI20: =Sheet2!AH20 -> 163 | AJ20: 160 | AK20: 34,36% | AL20: 1
C21: 16 | D21: Luc | E21: BVG | F21: OFF | G21: OFF | H21: o | I21: J | J21: o | K21: o | L21: J | M21: JW | N21: JW | O21: J | P21: J | Q21: o | R21: J | S21: J | T21: OFF | U21: OFF | V21: J | W21: J | X21: J | Y21: o | Z21: J | AA21: o | AB21: o | AC21: J | AD21: J | AE21: o | AF21: o | AG21: o | AH21: o | AI21: =Sheet2!AH21 -> 174.1 | AJ21: 160 | AL21: 1
C22: 17 | D22: Lennert | E22: J | F22: o | G22: JW | H22: o | I22: o | J22: N | K22: N | L22: N | M22: OFF | N22: OFF | O22: o | P22: N | Q22: o | R22: o | S22: o | T22: JW | U22: JW | V22: o | W22: o | X22: J | Y22: o | Z22: N | AA22: NW | AB22: NW | AC22: o | AD22: o | AE22: N | AF22: N | AG22: o | AH22: o | AI22: =Sheet2!AH22 -> 168 | AJ22: 160 | AK22: 42,86% | AL22: 3
C23: 18 | D23: Erwin | E23: o | F23: JW | G23: JW | H23: o | I23: J | J23: o | K23: J | L23: EHBO | M23: o | N23: o | O23: J | P23: J | Q23: o | R23: o | S23: o | T23: NW | U23: NW | V23: N | W23: N | X23: o | Y23: o | Z23: o | AA23: o | AB23: NW | AC23: N | AD23: N | AE23: N | AF23: o | AG23: o | AH23: o | AI23: =Sheet2!AH23 -> 176 | AJ23: 160 | AK23: 36,36% | AL23: 3
C24: 19 | D24: Laurent | E24: o | F24: NW | G24: NW | H24: o | I24: o | J24: N | K24: N | L24: N | M24: OFF | N24: OFF | O24: o | P24: SH | Q24: N | R24: o | S24: o | T24: NW | U24: NW | V24: N | W24: o | X24: o | Y24: J | Z24: J | AA24: OFF | AB24: OFF | AC24: J | AD24: o | AE24: J | AF24: J | AG24: o | AH24: o | AI24: =Sheet2!AH24 -> 171 | AJ24: 160 | AK24: 42,11% | AL24: 2
C25: 20 | D25: Ese | E25: o | F25: JW | G25: JW | H25: o | I25: J | J25: J | K25: J | L25: o | M25: JW | N25: o | O25: J | P25: J | Q25: J | R25: o | S25: o | T25: JW | U25: o | V25: TR | W25: TR | X25: TR | Y25: TR | Z25: TR | AA25: o | AB25: o | AC25: TR1 | AD25: o | AE25: J | AF25: o | AG25: o | AH25: o | AI25: =Sheet2!AH25 -> 175 | AJ25: 160 | AL25: 3
C26: 21 | D26: Benjamin | E26: J | F26: o | G26: o | H26: J | I26: o | J26: J | K26: o | L26: J | M26: o | N26: JW | O26: o | P26: SH | Q26: N | R26: N | S26: N | T26: o | U26: o | V26: o | W26: N | X26: N | Y26: N | Z26: N | AA26: o | AB26: o | AC26: o | AD26: o | AE26: o | AF26: o | AG26: J | AH26: NW | AI26: =Sheet2!AH26 -> 171 | AJ26: 160 | AK26: 37,43% | AL26: 2
C27: 22 | D27: Rabia | E27: J | F27: o | G27: o | H27: J | I27: o | J27: o | K27: o | L27: J | M27: JW | N27: JW | O27: o | P27: SH | Q27: J | R27: J | S27: J | T27: o | U27: o | V27: J | W27: J | X27: o | Y27: o | Z27: o | AA27: JW | AB27: JW | AC27: o | AD27: J | AE27: J | AF27: o | AG27: o | AH27: o | AI27: =Sheet2!AH27 -> 171 | AJ27: 160 | AL27: 2
C28: 23 | D28: David | E28: J | F28: o | G28: o | H28: o | I28: o | J28: J | K28: J | L28: J | M28: o | N28: o | O28: J | P28: J | Q28: o | R28: o | S28: o | T28: JW | U28: JW | V28: o | W28: SH | X28: J | Y28: J | Z28: J | AA28: o | AB28: o | AC28: J | AD28: o | AE28: o | AF28: J | AG28: J | AH28: o | AI28: =Sheet2!AH28 -> 171 | AJ28: 160 | AL28: 1
C29: 24 | D29: Ludovic | E29: N | F29: o | G29: NW | H29: N | I29: N | J29: N | K29: o | L29: BVG | M29: BVG | N29: o | O29: BVG | P29: EXTRA | Q29: J | R29: N | S29: N | T29: o | U29: o | V29: o | W29: o | X29: o | Y29: o | Z29: o | AA29: o | AB29: o | AC29: o | AD29: o | AE29: o | AF29: o | AG29: o | AH29: o | AI29: =Sheet2!AH29 -> 126.3 | AJ29: 160 | AK29: 51,85% | AL29: 1
C30: 25 | D30: Ismail | E30: N | F30: NW | G30: NW | H30: o | I30: o | J30: o | K30: o | L30: J | M30: o | N30: o | O30: N | P30: N | Q30: N | R30: o | S30: o | T30: o | U30: JW | V30: TR | W30: TR | X30: TR | Y30: TR | Z30: TR | AA30: o | AB30: o | AC30: TR1 | AD30: o | AE30: o | AF30: N | AG30: N | AH30: NW | AI30: =Sheet2!AH30 -> 175 | AJ30: 160 | AK30: 41,14% | AL30: 3
C31: 26 | D31: Kristof | E31: o | F31: JW | G31: o | H31: J | I31: o | J31: J | K31: o | L31: EHBO | M31: o | N31: o | O31: BA4 | P31: o | Q31: N | R31: o | S31: o | T31: NW | U31: NW | V31: N | W31: N | X31: o | Y31: J | Z31: o | AA31: o | AB31: o | AC31: N | AD31: N | AE31: o | AF31: o | AG31: o | AH31: JW | AI31: =Sheet2!AH31 -> 160 | AJ31: 160 | AK31: 35,00% | AL31: 3
D33: Geeist | E33: 44 | F33: 0 | G33: 0 | H33: =Sheet2!F33 -> 44 | I33: =12+11+12+9 -> 44 | J33: =12+11+12+9 -> 44 | K33: 44 | L33: 44 | M33: 0 | N33: 0 | O33: =Sheet2!M33 -> 44 | P33: =12+11+12+9 -> 44 | Q33: =12+11+12+9 -> 44 | R33: 44 | S33: 44 | T33: 0 | U33: 0 | V33: =Sheet2!T33 -> 44 | W33: =12+11+12+9 -> 44 | X33: =12+11+12+9 -> 44 | Y33: 44 | Z33: 44 | AA33: 0 | AB33: 0 | AC33: =Sheet2!AA33 -> 44 | AD33: =12+11+12+9 -> 44 | AE33: =12+11+12+9 -> 44 | AF33: 44 | AG33: 44 | AH33: 0 | AI33: =Sheet2!AH33 -> 924
D34: FDO | E34: =Sheet2!C34 -> 6 | F34: =Sheet2!D34 -> 0 | G34: =Sheet2!E34 -> 0 | H34: =Sheet2!F34 -> 6 | I34: =Sheet2!G34 -> 0 | J34: =Sheet2!H34 -> 0 | K34: =Sheet2!I34 -> 0 | L34: =Sheet2!J34 -> 0 | ... AH34: =Sheet2!AF34 -> 0 | AI34: =Sheet2!AH34 -> 93.3
D35: GUARD | E35: =Sheet2!C35 -> 14 | F35: =Sheet2!D35 -> 6.1 | G35: =Sheet2!E35 -> 0 | H35: =Sheet2!F35 -> 14 | I35: =Sheet2!G35 -> 20 | J35: =Sheet2!H35 -> 6 | K35: =Sheet2!I35 -> 20 | L35: =Sheet2!J35 -> 28 | ... AG35: =Sheet2!AE35 -> 12 | AH35: 0 | AI35: =Sheet2!AH35 -> 366.1
D36: Totaal | E36: =Sheet2!C36 -> 44 | F36: =Sheet2!D36 -> 6.1 | G36: =Sheet2!E36 -> 0 | H36: =Sheet2!F36 -> 44 | I36: =Sheet2!G36 -> 44 | J36: =Sheet2!H36 -> 42 | K36: =Sheet2!I36 -> 44 | L36: =Sheet2!J36 -> 52 | ... AH36: =Sheet2!AF36 -> 0 | AI36: =Sheet2!AH36 -> 1035.4
D37: COFM

Sheet Sheet2
C1: 43252 | N1: Update | Q1: =NOW() -> 43248.553 | V1: =NOW() -> 43248.553
C2: 1 | D2: 2 | E2: 3 | F2: 4 | G2: 5 | H2: 6 | I2: 7 | J2: 8 | K2: 9 | L2: 10 | M2: 11 | N2: 12 | O2: 13 | P2: 14 | Q2: 15 | R2: 16 | S2: 17 | T2: 18 | U2: 19 | V2: 20 | W2: 21 | X2: 22 | Y2: 23 | Z2: 24 | AA2: 25 | AB2: 26 | AC2: 27 | AD2: 28 | AE2: 29 | AF2: 30 | AG2: Totaal GC | AH2: Totaal | AI2: Uren | AJ2: 0.33
C3: Fri | D3: Sat | E3: Sun | F3: Mon | G3: Tue | H3: Wed | I3: Thu | J3: Fri | K3: Sat | L3: Sun | M3: Mon | N3: Tue | O3: Wed | P3: Thu | Q3: Fri | R3: Sat | S3: Sun | T3: Mon | U3: Tue | V3: Wed | W3: Thu | X3: Fri | Y3: Sat | Z3: Sun | AA3: Mon | AB3: Tue | AC3: Wed | AD3: Thu | AE3: Fri | AF3: Sat | AI3: 1 | AJ3: Guard
A4: 1 | B4: Olga | C4: =VLOOKUP(Sheet1!E4,C40:D71,2,FALSE) -> 12 | D4: =VLOOKUP(Sheet1!F4,C40:D71,2,FALSE) -> 0 | E4: =VLOOKUP(Sheet1!G4,C40:D71,2,FALSE) -> 0 | F4: =VLOOKUP(Sheet1!H4,C40:D71,2,FALSE) -> 0 | G4: =VLOOKUP(Sheet1!I4,C40:D71,2,FALSE) -> 0 | H4: =VLOOKUP(Sheet1!J4,C40:D71,2,FALSE) -> 0 | I4: =VLOOKUP(Sheet1!K4,C40:D71,2,FALSE) -> 12 | J4: =VLOOKUP(Sheet1!L4,C40:D71,2,FALSE) -> 12 | K4: =VLOOKUP(Sheet1!M4,C40:D71,2,FALSE) -> 0 | L4: =VLOOKUP(Sheet1!N4,C40:D71,2,FALSE) -> 0 | M4: =VLOOKUP(Sheet1!O4,C40:D71,2,FALSE) -> 12 | N4: =VLOOKUP(Sheet1!P4,C40:D71,2,FALSE) -> 12 | O4: =VLOOKUP(Sheet1!Q4,C40:D71,2,FALSE) -> 0 | P4: =VLOOKUP(Sheet1!R4,C40:D71,2,FALSE) -> 0 | Q4: =VLOOKUP(Sheet1!S4,C40:D71,2,FALSE) -> 0 | R4: =VLOOKUP(Sheet1!T4,C40:D71,2,FALSE) -> 0 | S4: =VLOOKUP(Sheet1!U4,C40:D71,2,FALSE) -> 0 | T4: =VLOOKUP(Sheet1!V4,C40:D71,2,FALSE) -> 0 | U4: =VLOOKUP(Sheet1!W4,C40:D71,2,FALSE) -> 6 | V4: =VLOOKUP(Sheet1!X4,C40:D71,2,FALSE) -> 0 | W4: =VLOOKUP(Sheet1!Y4,C40:D71,2,FALSE) -> 12 | X4: =VLOOKUP(Sheet1!Z4,C40:D71,2,FALSE) -> 12 | Y4: =VLOOKUP(Sheet1!AA4,C40:D71,2,FALSE) -> 0 | Z4: =VLOOKUP(Sheet1!AB4,C40:D71,2,FALSE) -> 0 | AA4: =VLOOKUP(Sheet1!AC4,C40:D71,2,FALSE) -> 12 | AB4: =VLOOKUP(Sheet1!AD4,C40:D71,2,FALSE) -> 0 | AC4: =VLOOKUP(Sheet1!AE4,C40:D71,2,FALSE) -> 0 | AD4: =VLOOKUP(Sheet1!AF4,C40:D71,2,FALSE) -> 12 | AE4: =VLOOKUP(Sheet1!AG4,C40:D71,2,FALSE) -> 12 | AF4: =VLOOKUP(Sheet1!AH4,C40:D71,2,FALSE) -> 0 | AH4: =SUM(C4:AF4) -> 126 | AI4: 120.00
A5: 2 | B5: Wendy | C5: =VLOOKUP(Sheet1!E5,C40:D71,2,FALSE) -> 7.24 | D5: =VLOOKUP(Sheet1!F5,C40:D71,2,FALSE) -> 0 | E5: =VLOOKUP(Sheet1!G5,C40:D71,2,FALSE) -> 0 | F5: =VLOOKUP(Sheet1!H5,C40:D71,2,FALSE) -> 7.24 | G5: =VLOOKUP(Sheet1!I5,C40:D71,2,FALSE) -> 7.24 | H5: =VLOOKUP(Sheet1!J5,C40:D71,2,FALSE) -> 7.24 | I5: =VLOOKUP(Sheet1!K5,C40:D71,2,FALSE) -> 7.24 | J5: =VLOOKUP(Sheet1!L5,C40:D71,2,FALSE) -> 7.24 | K5: =VLOOKUP(Sheet1!M5,C40:D71,2,FALSE) -> 0 | L5: =VLOOKUP(Sheet1!N5,C40:D71,2,FALSE) -> 0 | M5: =VLOOKUP(Sheet1!O5,C40:D71,2,FALSE) -> 7.24 | N5: =VLOOKUP(Sheet1!P5,C40:D71,2,FALSE) -> 7.24 | O5: =VLOOKUP(Sheet1!Q5,C40:D71,2,FALSE) -> 7.24 | P5: =VLOOKUP(Sheet1!R5,C40:D71,2,FALSE) -> 7.24 | Q5: =VLOOKUP(Sheet1!S5,C40:D71,2,FALSE) -> 7.24 | R5: =VLOOKUP(Sheet1!T5,C40:D71,2,FALSE) -> 0 | S5: =VLOOKUP(Sheet1!U5,C40:D71,2,FALSE) -> 0 | T5: =VLOOKUP(Sheet1!V5,C40:D71,2,FALSE) -> 7.24 | U5: =VLOOKUP(Sheet1!W5,C40:D71,2,FALSE) -> 7.24 | V5: =VLOOKUP(Sheet1!X5,C40:D71,2,FALSE) -> 7.24 | W5: =VLOOKUP(Sheet1!Y5,C40:D71,2,FALSE) -> 7.24 | X5: =VLOOKUP(Sheet1!Z5,C40:D71,2,FALSE) -> 7.24 | Y5: =VLOOKUP(Sheet1!AA5,C40:D71,2,FALSE) -> 0 | Z5: =VLOOKUP(Sheet1!AB5,C40:D71,2,FALSE) -> 0 | AA5: =VLOOKUP(Sheet1!AC5,C40:D71,2,FALSE) -> 7.24 | AB5: =VLOOKUP(Sheet1!AD5,C40:D71,2,FALSE) -> 7.24 | AC5: =VLOOKUP(Sheet1!AE5,C40:D71,2,FALSE) -> 7.24 | AD5: =VLOOKUP(Sheet1!AF5,C40:D71,2,FALSE) -> 7.24 | AE5: =VLOOKUP(Sheet1!AG5,C40:D71,2,FALSE) -> 7.24 | AF5: =VLOOKUP(Sheet1!AH5,C40:D71,2,FALSE) -> 0 | AH5: =SUM(C5:AG5) -> 152.04 | AI5: 160.00
A7: 3 | B7: Alain | C7: =VLOOKUP(Sheet1!E7,C40:D71,2,FALSE) -> 6 | D7: =VLOOKUP(Sheet1!F7,C40:D71,2,FALSE) -> 0 | E7: =VLOOKUP(Sheet1!G7,C40:D71,2,FALSE) -> 0 | F7: =VLOOKUP(Sheet1!H7,C40:D71,2,FALSE) -> 6 | G7: =VLOOKUP(Sheet1!I7,C40:D71,2,FALSE) -> 12 | H7: =VLOOKUP(Sheet1!J7,C40:D71,2,FALSE) -> 0 | I7: =VLOOKUP(Sheet1!K7,C40:D71,2,FALSE) -> 0 | J7: =VLOOKUP(Sheet1!L7,C40:D71,2,FALSE) -> 0 | K7: =VLOOKUP(Sheet1!M7,C40:D71,2,FALSE) -> 0 | L7: =VLOOKUP(Sheet1!N7,C40:D71,2,FALSE) -> 0 | M7: =VLOOKUP(Sheet1!O7,C40:D71,2,FALSE) -> 6.1 | N7: =VLOOKUP(Sheet1!P7,C40:D71,2,FALSE) -> 6.1 | O7: =VLOOKUP(Sheet1!Q7,C40:D71,2,FALSE) -> 6.1 | P7: =VLOOKUP(Sheet1!R7,C40:D71,2,FALSE) -> 9 | Q7: =VLOOKUP(Sheet1!S7,C40:D71,2,FALSE) -> 9 | R7: =VLOOKUP(Sheet1!T7,C40:D71,2,FALSE) -> 0 | S7: =VLOOKUP(Sheet1!U7,C40:D71,2,FALSE) -> 0 | T7: =VLOOKUP(Sheet1!V7,C40:D71,2,FALSE) -> 6 | U7: =VLOOKUP(Sheet1!W7,C40:D71,2,FALSE) -> 6 | V7: =VLOOKUP(Sheet1!X7,C40:D71,2,FALSE) -> 12 | W7: =VLOOKUP(Sheet1!Y7,C40:D71,2,FALSE) -> 9 | X7: =VLOOKUP(Sheet1!Z7,C40:D71,2,FALSE) -> 12 | Y7: =VLOOKUP(Sheet1!AA7,C40:D71,2,FALSE) -> 0 | Z7: =VLOOKUP(Sheet1!AB7,C40:D71,2,FALSE) -> 0 | AA7: =VLOOKUP(Sheet1!AC7,C40:D71,2,FALSE) -> 6 | AB7: =VLOOKUP(Sheet1!AD7,C40:D71,2,FALSE) -> 12 | AC7: =VLOOKUP(Sheet1!AE7,C40:D71,2,FALSE) -> 6 | AD7: =VLOOKUP(Sheet1!AF7,C40:D71,2,FALSE) -> 6 | AE7: =VLOOKUP(Sheet1!AG7,C40:D71,2,FALSE) -> 12 | AF7: =VLOOKUP(Sheet1!AH7,C40:D71,2,FALSE) -> 0 | AG7: 12 | AH7: 162.3 | AI7: 160.25
A8: 4 | B8: Dany | C8: =VLOOKUP(Sheet1!E8,C40:D71,2,FALSE) -> 12 | D8: =VLOOKUP(Sheet1!F8,C40:D71,2,FALSE) -> 0 | E8: =VLOOKUP(Sheet1!G8,C40:D71,2,FALSE) -> 0 | F8: =VLOOKUP(Sheet1!H8,C40:D71,2,FALSE) -> 6 | G8: =VLOOKUP(Sheet1!I8,C40:D71,2,FALSE) -> 12 | H8: =VLOOKUP(Sheet1!J8,C40:D71,2,FALSE) -> 12 | I8: =VLOOKUP(Sheet1!K8,C40:D71,2,FALSE) -> 0 | J8: =VLOOKUP(Sheet1!L8,C40:D71,2,FALSE) -> 12 | K8: =VLOOKUP(Sheet1!M8,C40:D71,2,FALSE) -> 0 | L8: =VLOOKUP(Sheet1!N8,C40:D71,2,FALSE) -> 0 | M8: =VLOOKUP(Sheet1!O8,C40:D71,2,FALSE) -> 12 | N8: =VLOOKUP(Sheet1!P8,C40:D71,2,FALSE) -> 12 | O8: =VLOOKUP(Sheet1!Q8,C41:D72,2,FALSE) -> 6 | P8: =VLOOKUP(Sheet1!R8,C40:D71,2,FALSE) -> 0 | Q8: =VLOOKUP(Sheet1!S8,C40:D71,2,FALSE) -> 6 | R8: =VLOOKUP(Sheet1!T8,C40:D71,2,FALSE) -> 0 | S8: =VLOOKUP(Sheet1!U8,C40:D71,2,FALSE) -> 0 | T8: =VLOOKUP(Sheet1!V8,C40:D71,2,FALSE) -> 12 | U8: =VLOOKUP(Sheet1!W8,C40:D71,2,FALSE) -> 6 | V8: =VLOOKUP(Sheet1!X8,C40:D71,2,FALSE) -> 6 | W8: =VLOOKUP(Sheet1!Y8,C40:D71,2,FALSE) -> 6 | X8: =VLOOKUP(Sheet1!Z8,C40:D71,2,FALSE) -> 0 | Y8: =VLOOKUP(Sheet1!AA8,C40:D71,2,FALSE) -> 0 | Z8: =VLOOKUP(Sheet1!AB8,C40:D71,2,FALSE) -> 0 | AA8: =VLOOKUP(Sheet1!AC8,C40:D71,2,FALSE) -> 0 | AB8: =VLOOKUP(Sheet1!AD8,C40:D71,2,FALSE) -> 0 | AC8: =VLOOKUP(Sheet1!AE8,C40:D71,2,FALSE) -> 12 | AD8: =VLOOKUP(Sheet1!AF8,C40:D71,2,FALSE) -> 0 | AE8: =VLOOKUP(Sheet1!AG8,C40:D71,2,FALSE) -> 6 | AF8: =VLOOKUP(Sheet1!AH8,C40:D71,2,FALSE) -> 0 | AG8: 42 | AH8: =SUM(C8:AG8) -> 180 | AI8: 160.25
A9: 5 | B9: Corentin | C9: =VLOOKUP(Sheet1!E9,C40:D71,2,FALSE) -> 0 | D9: =VLOOKUP(Sheet1!F9,C40:D71,2,FALSE) -> 0 | E9: =VLOOKUP(Sheet1!G9,C40:D71,2,FALSE) -> 0 | F9: =VLOOKUP(Sheet1!H9,C40:D71,2,FALSE) -> 0 | G9: =VLOOKUP(Sheet1!I9,C40:D71,2,FALSE) -> 6 | H9: =VLOOKUP(Sheet1!J9,C40:D71,2,FALSE) -> 6 | I9: =VLOOKUP(Sheet1!K9,C40:D71,2,FALSE) -> 6 | J9: =VLOOKUP(Sheet1!L9,C40:D71,2,FALSE) -> 6 | K9: =VLOOKUP(Sheet1!M9,C40:D71,2,FALSE) -> 0 | L9: =VLOOKUP(Sheet1!N9,C40:D71,2,FALSE) -> 0 | M9: =VLOOKUP(Sheet1!O9,C40:D71,2,FALSE) -> 6 | N9: =VLOOKUP(Sheet1!P9,C40:D71,2,FALSE) -> 6 | O9: =VLOOKUP(Sheet1!Q9,C42:D73,2,FALSE) -> 6 | P9: =VLOOKUP(Sheet1!R9,C40:D71,2,FALSE) -> 6 | Q9: =VLOOKUP(Sheet1!S9,C40:D71,2,FALSE) -> 8 | R9: =VLOOKUP(Sheet1!T9,C40:D71,2,FALSE) -> 0 | S9: =VLOOKUP(Sheet1!U9,C40:D71,2,FALSE) -> 0 | T9: =VLOOKUP(Sheet1!V9,C40:D71,2,FALSE) -> 8 | U9: =VLOOKUP(Sheet1!W9,C40:D71,2,FALSE) -> 12 | V9: =VLOOKUP(Sheet1!X9,C40:D71,2,FALSE) -> 12 | W9: =VLOOKUP(Sheet1!Y9,C40:D71,2,FALSE) -> 6 | X9: =VLOOKUP(Sheet1!Z9,C40:D71,2,FALSE) -> 6 | Y9: =VLOOKUP(Sheet1!AA9,C40:D71,2,FALSE) -> 0 | Z9: =VLOOKUP(Sheet1!AB9,C40:D71,2,FALSE) -> 0 | AA9: =VLOOKUP(Sheet1!AC9,C40:D71,2,FALSE) -> 0 | AB9: =VLOOKUP(Sheet1!AD9,C40:D71,2,FALSE) -> 12 | AC9: =VLOOKUP(Sheet1!AE9,C40:D71,2,FALSE) -> 8 | AD9: =VLOOKUP(Sheet1!AF9,C40:D71,2,FALSE) -> 6 | AE9: =VLOOKUP(Sheet1!AG9,C40:D71,2,FALSE) -> 6 | AF9: =VLOOKUP(Sheet1!AH9,C40:D71,2,FALSE) -> 0 | AG9: 42 | AH9: =SUM(C9:AG9) -> 174 | AI9: 160.25
A10: 6 | B10: Glenn | C10: =VLOOKUP(Sheet1!E10,C40:D71,2,FALSE) -> 6.1 | D10: =VLOOKUP(Sheet1!F10,C40:D71,2,FALSE) -> 6.1 | E10: =VLOOKUP(Sheet1!G10,C40:D71,2,FALSE) -> 0 | F10: =VLOOKUP(Sheet1!H10,C40:D71,2,FALSE) -> 6.1 | G10: =VLOOKUP(Sheet1!I10,C40:D71,2,FALSE) -> 6.1 | H10: =VLOOKUP(Sheet1!J10,C40:D71,2,FALSE) -> 6.1 | I10: =VLOOKUP(Sheet1!K10,C40:D71,2,FALSE) -> 6.1 | J10: =VLOOKUP(Sheet1!L10,C40:D71,2,FALSE) -> 6.1 | K10: =VLOOKUP(Sheet1!M10,C40:D71,2,FALSE) -> 6.1 | L10: =VLOOKUP(Sheet1!N10,C40:D71,2,FALSE) -> 0 | M10: =VLOOKUP(Sheet1!O10,C40:D71,2,FALSE) -> 6.1 | N10: =VLOOKUP(Sheet1!P10,C40:D71,2,FALSE) -> 6.1 | O10: =VLOOKUP(Sheet1!Q10,C43:D74,2,FALSE) -> 6.1 | P10: =VLOOKUP(Sheet1!R10,C40:D71,2,FALSE) -> 6.1 | Q10: =VLOOKUP(Sheet1!S10,C40:D71,2,FALSE) -> 6.1 | R10: =VLOOKUP(Sheet1!T10,C40:D71,2,FALSE) -> 6.1 | S10: =VLOOKUP(Sheet1!U10,C40:D71,2,FALSE) -> 0 | T10: =VLOOKUP(Sheet1!V10,C40:D71,2,FALSE) -> 12 | U10: =VLOOKUP(Sheet1!W10,C40:D71,2,FALSE) -> 12 | V10: =VLOOKUP(Sheet1!X10,C40:D71,2,FALSE) -> 0 | W10: =VLOOKUP(Sheet1!Y10,C40:D71,2,FALSE) -> 12 | X10: =VLOOKUP(Sheet1!Z10,C40:D71,2,FALSE) -> 6 | Y10: =VLOOKUP(Sheet1!AA10,C40:D71,2,FALSE) -> 0 | Z10: =VLOOKUP(Sheet1!AB10,C40:D71,2,FALSE) -> 0 | AA10: =VLOOKUP(Sheet1!AC10,C40:D71,2,FALSE) -> 6 | AB10: =VLOOKUP(Sheet1!AD10,C40:D71,2,FALSE) -> 6 | AC10: =VLOOKUP(Sheet1!AE10,C40:D71,2,FALSE) -> 12 | AD10: =VLOOKUP(Sheet1!AF10,C40:D71,2,FALSE) -> 0 | AE10: =VLOOKUP(Sheet1!AG10,C40:D71,2,FALSE) -> 0 | AF10: =VLOOKUP(Sheet1!AH10,C40:D71,2,FALSE) -> 12 | AG10: 18 | AH10: =SUM(C10:AG10) -> 181.4 | AI10: 160.25
A11: 7 | B11: Maribel | C11: =VLOOKUP(Sheet1!E11,C40:D71,2,FALSE) -> 6.1 | D11: =VLOOKUP(Sheet1!F11,C40:D71,2,FALSE) -> 6.1 | E11: =VLOOKUP(Sheet1!G11,C40:D71,2,FALSE) -> 0 | F11: =VLOOKUP(Sheet1!H11,C40:D71,2,FALSE) -> 12 | G11: =VLOOKUP(Sheet1!I11,C40:D71,2,FALSE) -> 6 | H11: =VLOOKUP(Sheet1!J11,C40:D71,2,FALSE) -> 12 | I11: =VLOOKUP(Sheet1!K11,C40:D71,2,FALSE) -> 6 | J11: =VLOOKUP(Sheet1!L11,C40:D71,2,FALSE) -> 8 | K11: =VLOOKUP(Sheet1!M11,C40:D71,2,FALSE) -> 0 | L11: =VLOOKUP(Sheet1!N11,C40:D71,2,FALSE) -> 0 | M11: =VLOOKUP(Sheet1!O11,C40:D71,2,FALSE) -> 8 | N11: =VLOOKUP(Sheet1!P11,C40:D71,2,FALSE) -> 8 | O11: =VLOOKUP(Sheet1!Q11,C44:D75,2,FALSE) -> 12 | P11: =VLOOKUP(Sheet1!R11,C40:D71,2,FALSE) -> 6 | Q11: =VLOOKUP(Sheet1!S11,C40:D71,2,FALSE) -> 12 | R11: =VLOOKUP(Sheet1!T11,C40:D71,2,FALSE) -> 0 | S11: =VLOOKUP(Sheet1!U11,C40:D71,2,FALSE) -> 0 | T11: =VLOOKUP(Sheet1!V11,C40:D71,2,FALSE) -> 6 | U11: =VLOOKUP(Sheet1!W11,C40:D71,2,FALSE) -> 0 | V11: =VLOOKUP(Sheet1!X11,C40:D71,2,FALSE) -> 6 | W11: =VLOOKUP(Sheet1!Y11,C40:D71,2,FALSE) -> 6 | X11: =VLOOKUP(Sheet1!Z11,C40:D71,2,FALSE) -> 0 | Y11: =VLOOKUP(Sheet1!AA11,C40:D71,2,FALSE) -> 12 | Z11: =VLOOKUP(Sheet1!AB11,C40:D71,2,FALSE) -> 12 | AA11: =VLOOKUP(Sheet1!AC11,C40:D71,2,FALSE) -> 0 | AB11: =VLOOKUP(Sheet1!AD11,C40:D71,2,FALSE) -> 6 | AC11: =VLOOKUP(Sheet1!AE11,C40:D71,2,FALSE) -> 6 | AD11: =VLOOKUP(Sheet1!AF11,C40:D71,2,FALSE) -> 12 | AE11: =VLOOKUP(Sheet1!AG11,C40:D71,2,FALSE) -> 8 | AF11: =VLOOKUP(Sheet1!AH11,C40:D71,2,FALSE) -> 0 | AG11: 6 | AH11: =SUM(C11:AG11) -> 182.2 | AI11: 160.25
A12: 8 | B12: Devitee | C12: =VLOOKUP(Sheet1!E12,C40:D71,2,FALSE) -> 6 | D12: =VLOOKUP(Sheet1!F12,C40:D71,2,FALSE) -> 0 | E12: =VLOOKUP(Sheet1!G12,C40:D71,2,FALSE) -> 0 | F12: =VLOOKUP(Sheet1!H12,C40:D71,2,FALSE) -> 8 | G12: =VLOOKUP(Sheet1!I12,C40:D71,2,FALSE) -> 8 | H12: =VLOOKUP(Sheet1!J12,C40:D71,2,FALSE) -> 12 | I12: =VLOOKUP(Sheet1!K12,C40:D71,2,FALSE) -> 8 | J12: =VLOOKUP(Sheet1!L12,C40:D71,2,FALSE) -> 6 | K12: =VLOOKUP(Sheet1!M12,C40:D71,2,FALSE) -> 0 | L12: =VLOOKUP(Sheet1!N12,C40:D71,2,FALSE) -> 0 | M12: =VLOOKUP(Sheet1!O12,C40:D71,2,FALSE) -> 6 | N12: =VLOOKUP(Sheet1!P12,C40:D71,2,FALSE) -> 6 | O12: =VLOOKUP(Sheet1!Q12,C45:D76,2,FALSE) -> 8 | P12: =VLOOKUP(Sheet1!R12,C40:D71,2,FALSE) -> 8 | Q12: =VLOOKUP(Sheet1!S12,C40:D71,2,FALSE) -> 12 | R12: =VLOOKUP(Sheet1!T12,C40:D71,2,FALSE) -> 0 | S12: =VLOOKUP(Sheet1!U12,C40:D71,2,FALSE) -> 0 | T12: =VLOOKUP(Sheet1!V12,C40:D71,2,FALSE) -> 12 | U12: =VLOOKUP(Sheet1!W12,C40:D71,2,FALSE) -> 8 | V12: =VLOOKUP(Sheet1!X12,C40:D71,2,FALSE) -> 8 | W12: =VLOOKUP(Sheet1!Y12,C40:D71,2,FALSE) -> 6 | X12: =VLOOKUP(Sheet1!Z12,C40:D71,2,FALSE) -> 8 | Y12: =VLOOKUP(Sheet1!AA12,C40:D71,2,FALSE) -> 0 | Z12: =VLOOKUP(Sheet1!AB12,C40:D71,2,FALSE) -> 0 | AA12: =VLOOKUP(Sheet1!AC12,C40:D71,2,FALSE) -> 8 | AB12: =VLOOKUP(Sheet1!AD12,C40:D71,2,FALSE) -> 8 | AC12: =VLOOKUP(Sheet1!AE12,C40:D71,2,FALSE) -> 0 | AD12: =VLOOKUP(Sheet1!AF12,C40:D71,2,FALSE) -> 8 | AE12: =VLOOKUP(Sheet1!AG12,C40:D71,2,FALSE) -> 12 | AF12: =VLOOKUP(Sheet1!AH12,C40:D71,2,FALSE) -> 0 | AG12: 6 | AH12: =SUM(C12:AG12) -> 172 | AI12: 160.25
A13: 9 | B13: Petra | C13: =VLOOKUP(Sheet1!E13,C40:D71,2,FALSE) -> 8 | D13: =VLOOKUP(Sheet1!F13,C40:D71,2,FALSE) -> 0 | E13: =VLOOKUP(Sheet1!G13,C40:D71,2,FALSE) -> 0 | F13: =VLOOKUP(Sheet1!H13,C40:D71,2,FALSE) -> 12 | G13: =VLOOKUP(Sheet1!I13,C40:D71,2,FALSE) -> 0 | H13: =VLOOKUP(Sheet1!J13,C40:D71,2,FALSE) -> 0 | I13: =VLOOKUP(Sheet1!K13,C40:D71,2,FALSE) -> 12 | J13: =VLOOKUP(Sheet1!L13,C40:D71,2,FALSE) -> 8 | K13: =VLOOKUP(Sheet1!M13,C40:D71,2,FALSE) -> 0 | L13: =VLOOKUP(Sheet1!N13,C40:D71,2,FALSE) -> 0 | M13: =VLOOKUP(Sheet1!O13,C40:D71,2,FALSE) -> 8 | N13: =VLOOKUP(Sheet1!P13,C40:D71,2,FALSE) -> 0 | O13: =VLOOKUP(Sheet1!Q13,C46:D77,2,FALSE) -> 12 | P13: =VLOOKUP(Sheet1!R13,C40:D71,2,FALSE) -> 12 | Q13: =VLOOKUP(Sheet1!S13,C40:D71,2,FALSE) -> 12 | R13: =VLOOKUP(Sheet1!T13,C40:D71,2,FALSE) -> 0 | S13: =VLOOKUP(Sheet1!U13,C40:D71,2,FALSE) -> 0 | T13: =VLOOKUP(Sheet1!V13,C40:D71,2,FALSE) -> 0 | U13: =VLOOKUP(Sheet1!W13,C40:D71,2,FALSE) -> 0 | V13: =VLOOKUP(Sheet1!X13,C40:D71,2,FALSE) -> 12 | W13: =VLOOKUP(Sheet1!Y13,C40:D71,2,FALSE) -> 8 | X13: =VLOOKUP(Sheet1!Z13,C40:D71,2,FALSE) -> 0 | Y13: =VLOOKUP(Sheet1!AA13,C40:D71,2,FALSE) -> 12 | Z13: =VLOOKUP(Sheet1!AB13,C40:D71,2,FALSE) -> 12 | AA13: =VLOOKUP(Sheet1!AC13,C40:D71,2,FALSE) -> 12 | AB13: =VLOOKUP(Sheet1!AD13,C40:D71,2,FALSE) -> 0 | AC13: =VLOOKUP(Sheet1!AE13,C40:D71,2,FALSE) -> 12 | AD13: =VLOOKUP(Sheet1!AF13,C40:D71,2,FALSE) -> 12 | AE13: =VLOOKUP(Sheet1!AG13,C40:D71,2,FALSE) -> 0 | AF13: =VLOOKUP(Sheet1!AH13,C40:D71,2,FALSE) -> 0 | AG13: 0 | AH13: =SUM(C13:AG13) -> 164 | AI13: 160.25
A15: 10 | B15: Frederic | C15: =VLOOKUP(Sheet1!E15,C40:D71,2,FALSE) -> 12 | D15: =VLOOKUP(Sheet1!F15,C40:D71,2,FALSE) -> 0 | E15: =VLOOKUP(Sheet1!G15,C40:D71,2,FALSE) -> 0 | F15: =VLOOKUP(Sheet1!H15,C40:D71,2,FALSE) -> 12 | G15: =VLOOKUP(Sheet1!I15,C40:D71,2,FALSE) -> 12 | H15: =VLOOKUP(Sheet1!J15,C40:D71,2,FALSE) -> 0 | I15: =VLOOKUP(Sheet1!K15,C40:D71,2,FALSE) -> 12 | J15: =VLOOKUP(Sheet1!L15,C40:D71,2,FALSE) -> 8 | K15: =VLOOKUP(Sheet1!M15,C40:D71,2,FALSE) -> 0 | L15: =VLOOKUP(Sheet1!N15,C40:D71,2,FALSE) -> 0 | M15: =VLOOKUP(Sheet1!O15,C40:D71,2,FALSE) -> 8 | N15: =VLOOKUP(Sheet1!P15,C40:D71,2,FALSE) -> 8 | O15: =VLOOKUP(Sheet1!Q15,C40:D71,2,FALSE) -> 8 | P15: =VLOOKUP(Sheet1!R15,C40:D71,2,FALSE) -> 12 | Q15: =VLOOKUP(Sheet1!S15,C40:D71,2,FALSE) -> 12 | R15: =VLOOKUP(Sheet1!T15,C40:D71,2,FALSE) -> 0 | S15: =VLOOKUP(Sheet1!U15,C40:D71,2,FALSE) -> 0 | T15: =VLOOKUP(Sheet1!V15,C40:D71,2,FALSE) -> 0 | U15: =VLOOKUP(Sheet1!W15,C40:D71,2,FALSE) -> 8 | V15: =VLOOKUP(Sheet1!X15,C40:D71,2,FALSE) -> 8 | W15: =VLOOKUP(Sheet1!Y15,C40:D71,2,FALSE) -> 12 | X15: =VLOOKUP(Sheet1!Z15,C40:D71,2,FALSE) -> 12 | Y15: =VLOOKUP(Sheet1!AA15,C40:D71,2,FALSE) -> 0 | Z15: =VLOOKUP(Sheet1!AB15,C40:D71,2,FALSE) -> 0 | AA15: =VLOOKUP(Sheet1!AC15,C40:D71,2,FALSE) -> 12 | AB15: =VLOOKUP(Sheet1!AD15,C40:D71,2,FALSE) -> 12 | AC15: =VLOOKUP(Sheet1!AE15,C40:D71,2,FALSE) -> 0 | AD15: =VLOOKUP(Sheet1!AF15,C40:D71,2,FALSE) -> 0 | AE15: =VLOOKUP(Sheet1!AG15,C40:D71,2,FALSE) -> 0 | AF15: =VLOOKUP(Sheet1!AH15,C40:D71,2,FALSE) -> 0 | AH15: =SUM(C15:AF15) -> 168 | AI15: 160.25
A16: 11 | B16: Karel | C16: =VLOOKUP(Sheet1!E16,C40:D71,2,FALSE) -> 12 | D16: =VLOOKUP(Sheet1!F16,C40:D71,2,FALSE) -> 12 | E16: =VLOOKUP(Sheet1!G16,C40:D71,2,FALSE) -> 0 | F16: =VLOOKUP(Sheet1!H16,C40:D71,2,FALSE) -> 0 | G16: =VLOOKUP(Sheet1!I16,C40:D71,2,FALSE) -> 0 | H16: =VLOOKUP(Sheet1!J16,C40:D71,2,FALSE) -> 0 | I16: =VLOOKUP(Sheet1!K16,C40:D71,2,FALSE) -> 12 | J16: =VLOOKUP(Sheet1!L16,C40:D71,2,FALSE) -> 12 | K16: =VLOOKUP(Sheet1!M16,C40:D71,2,FALSE) -> 0 | L16: =VLOOKUP(Sheet1!N16,C40:D71,2,FALSE) -> 0 | M16: =VLOOKUP(Sheet1!O16,C40:D71,2,FALSE) -> 12 | N16: =VLOOKUP(Sheet1!P16,C40:D71,2,FALSE) -> 12 | O16: =VLOOKUP(Sheet1!Q16,C40:D71,2,FALSE) -> 0 | P16: =VLOOKUP(Sheet1!R16,C40:D71,2,FALSE) -> 12 | Q16: =VLOOKUP(Sheet1!S16,C40:D71,2,FALSE) -> 12 | R16: =VLOOKUP(Sheet1!T16,C40:D71,2,FALSE) -> 0 | S16: =VLOOKUP(Sheet1!U16,C40:D71,2,FALSE) -> 0 | T16: =VLOOKUP(Sheet1!V16,C40:D71,2,FALSE) -> 0 | U16: =VLOOKUP(Sheet1!W16,C40:D71,2,FALSE) -> 0 | V16: =VLOOKUP(Sheet1!X16,C40:D71,2,FALSE) -> 12 | W16: =VLOOKUP(Sheet1!Y16,C40:D71,2,FALSE) -> 12 | X16: =VLOOKUP(Sheet1!Z16,C40:D71,2,FALSE) -> 12 | Y16: =VLOOKUP(Sheet1!AA16,C40:D71,2,FALSE) -> 12 | Z16: =VLOOKUP(Sheet1!AB16,C40:D71,2,FALSE) -> 0 | AA16: =VLOOKUP(Sheet1!AC16,C40:D71,2,FALSE) -> 12 | AB16: =VLOOKUP(Sheet1!AD16,C40:D71,2,FALSE) -> 12 | AC16: =VLOOKUP(Sheet1!AE16,C40:D71,2,FALSE) -> 0 | AD16: =VLOOKUP(Sheet1!AF16,C40:D71,2,FALSE) -> 0 | AE16: =VLOOKUP(Sheet1!AG16,C40:D71,2,FALSE) -> 0 | AF16: =VLOOKUP(Sheet1!AH16,C40:D71,2,FALSE) -> 0 | AH16: =SUM(C16:AF16) -> 168 | AI16: 160.25
A17: 12 | B17: Kevin | C17: =VLOOKUP(Sheet1!E17,C40:D71,2,FALSE) -> 6.1 | D17: =VLOOKUP(Sheet1!F17,C40:D71,2,FALSE) -> 6.1 | E17: =VLOOKUP(Sheet1!G17,C40:D71,2,FALSE) -> 0 | F17: =VLOOKUP(Sheet1!H17,C40:D71,2,FALSE) -> 12 | G17: =VLOOKUP(Sheet1!I17,C40:D71,2,FALSE) -> 0 | H17: =VLOOKUP(Sheet1!J17,C40:D71,2,FALSE) -> 12 | I17: =VLOOKUP(Sheet1!K17,C40:D71,2,FALSE) -> 8 | J17: =VLOOKUP(Sheet1!L17,C40:D71,2,FALSE) -> 8 | K17: =VLOOKUP(Sheet1!M17,C40:D71,2,FALSE) -> 0 | L17: =VLOOKUP(Sheet1!N17,C40:D71,2,FALSE) -> 0 | M17: =VLOOKUP(Sheet1!O17,C40:D71,2,FALSE) -> 8 | N17: =VLOOKUP(Sheet1!P17,C40:D71,2,FALSE) -> 8 | O17: =VLOOKUP(Sheet1!Q17,C40:D71,2,FALSE) -> 12 | P17: =VLOOKUP(Sheet1!R17,C40:D71,2,FALSE) -> 12 | Q17: =VLOOKUP(Sheet1!S17,C40:D71,2,FALSE) -> 0 | R17: =VLOOKUP(Sheet1!T17,C40:D71,2,FALSE) -> 0 | S17: =VLOOKUP(Sheet1!U17,C40:D71,2,FALSE) -> 0 | T17: =VLOOKUP(Sheet1!V17,C40:D71,2,FALSE) -> 12 | U17: =VLOOKUP(Sheet1!W17,C40:D71,2,FALSE) -> 12 | V17: =VLOOKUP(Sheet1!X17,C40:D71,2,FALSE) -> 12 | W17: =VLOOKUP(Sheet1!Y17,C40:D71,2,FALSE) -> 0 | X17: =VLOOKUP(Sheet1!Z17,C40:D71,2,FALSE) -> 0 | Y17: =VLOOKUP(Sheet1!AA17,C40:D71,2,FALSE) -> 0 | Z17: =VLOOKUP(Sheet1!AB17,C40:D71,2,FALSE) -> 0 | AA17: =VLOOKUP(Sheet1!AC17,C40:D71,2,FALSE) -> 0 | AB17: =VLOOKUP(Sheet1!AD17,C40:D71,2,FALSE) -> 12 | AC17: =VLOOKUP(Sheet1!AE17,C40:D71,2,FALSE) -> 0 | AD17: =VLOOKUP(Sheet1!AF17,C40:D71,2,FALSE) -> 12 | AE17: =VLOOKUP(Sheet1!AG17,C40:D71,2,FALSE) -> 12 | AF17: =VLOOKUP(Sheet1!AH17,C40:D71,2,FALSE) -> 12 | AH17: =SUM(C17:AF17) -> 176.2 | AI17: 160.25
A18: 13 | B18: Nicolas | C18: =VLOOKUP(Sheet1!E18,C40:D71,2,FALSE) -> 0 | D18: =VLOOKUP(Sheet1!F18,C40:D71,2,FALSE) -> 0 | E18: =VLOOKUP(Sheet1!G18,C40:D71,2,FALSE) -> 0 | F18: =VLOOKUP(Sheet1!H18,C40:D71,2,FALSE) -> 12 | G18: =VLOOKUP(Sheet1!I18,C40:D71,2,FALSE) -> 12 | H18: =VLOOKUP(Sheet1!J18,C40:D71,2,FALSE) -> 0 | I18: =VLOOKUP(Sheet1!K18,C40:D71,2,FALSE) -> 0 | J18: =VLOOKUP(Sheet1!L18,C40:D71,2,FALSE) -> 0 | K18: =VLOOKUP(Sheet1!M18,C40:D71,2,FALSE) -> 12 | L18: =VLOOKUP(Sheet1!N18,C40:D71,2,FALSE) -> 12 | M18: =VLOOKUP(Sheet1!O18,C40:D71,2,FALSE) -> 0 | N18: =VLOOKUP(Sheet1!P18,C40:D71,2,FALSE) -> 0 | O18: =VLOOKUP(Sheet1!Q18,C40:D71,2,FALSE) -> 12 | P18: =VLOOKUP(Sheet1!R18,C40:D71,2,FALSE) -> 12 | Q18: =VLOOKUP(Sheet1!S18,C40:D71,2,FALSE) -> 8 | R18: =VLOOKUP(Sheet1!T18,C40:D71,2,FALSE) -> 0 | S18: =VLOOKUP(Sheet1!U18,C40:D71,2,FALSE) -> 0 | T18: =VLOOKUP(Sheet1!V18,C40:D71,2,FALSE) -> 12 | U18: =VLOOKUP(Sheet1!W18,C40:D71,2,FALSE) -> 12 | V18: =VLOOKUP(Sheet1!X18,C40:D71,2,FALSE) -> 0 | W18: =VLOOKUP(Sheet1!Y18,C40:D71,2,FALSE) -> 12 | X18: =VLOOKUP(Sheet1!Z18,C40:D71,2,FALSE) -> 12 | Y18: =VLOOKUP(Sheet1!AA18,C40:D71,2,FALSE) -> 0 | Z18: =VLOOKUP(Sheet1!AB18,C40:D71,2,FALSE) -> 0 | AA18: =VLOOKUP(Sheet1!AC18,C40:D71,2,FALSE) -> 12 | AB18: =VLOOKUP(Sheet1!AD18,C40:D71,2,FALSE) -> 12 | AC18: =VLOOKUP(Sheet1!AE18,C40:D71,2,FALSE) -> 0 | AD18: =VLOOKUP(Sheet1!AF18,C40:D71,2,FALSE) -> 0 | AE18: =VLOOKUP(Sheet1!AG18,C40:D71,2,FALSE) -> 12 | AF18: =VLOOKUP(Sheet1!AH18,C40:D71,2,FALSE) -> 12 | AH18: =SUM(C18:AF18) -> 176 | AI18: 160.25
A19: 14 | B19: Christof | C19: =VLOOKUP(Sheet1!E19,C40:D71,2,FALSE) -> 0 | D19: =VLOOKUP(Sheet1!F19,C40:D71,2,FALSE) -> 0 | E19: =VLOOKUP(Sheet1!G19,C40:D71,2,FALSE) -> 0 | F19: =VLOOKUP(Sheet1!H19,C40:D71,2,FALSE) -> 0 | G19: =VLOOKUP(Sheet1!I19,C40:D71,2,FALSE) -> 12 | H19: =VLOOKUP(Sheet1!J19,C40:D71,2,FALSE) -> 0 | I19: =VLOOKUP(Sheet1!K19,C40:D71,2,FALSE) -> 12 | J19: =VLOOKUP(Sheet1!L19,C40:D71,2,FALSE) -> 8 | K19: =VLOOKUP(Sheet1!M19,C40:D71,2,FALSE) -> 12 | L19: =VLOOKUP(Sheet1!N19,C40:D71,2,FALSE) -> 12 | M19: =VLOOKUP(Sheet1!O19,C40:D71,2,FALSE) -> 12 | N19: =VLOOKUP(Sheet1!P19,C40:D71,2,FALSE) -> 12 | O19: =VLOOKUP(Sheet1!Q19,C40:D71,2,FALSE) -> 0 | P19: =VLOOKUP(Sheet1!R19,C40:D71,2,FALSE) -> 0 | Q19: =VLOOKUP(Sheet1!S19,C40:D71,2,FALSE) -> 12 | R19: =VLOOKUP(Sheet1!T19,C40:D71,2,FALSE) -> 0 | S19: =VLOOKUP(Sheet1!U19,C40:D71,2,FALSE) -> 0 | T19: =VLOOKUP(Sheet1!V19,C40:D71,2,FALSE) -> 0 | U19: =VLOOKUP(Sheet1!W19,C40:D71,2,FALSE) -> 0 | V19: =VLOOKUP(Sheet1!X19,C40:D71,2,FALSE) -> 12 | W19: =VLOOKUP(Sheet1!Y19,C40:D71,2,FALSE) -> 12 | X19: =VLOOKUP(Sheet1!Z19,C40:D71,2,FALSE) -> 0 | Y19: =VLOOKUP(Sheet1!AA19,C40:D71,2,FALSE) -> 12 | Z19: =VLOOKUP(Sheet1!AB19,C40:D71,2,FALSE) -> 12 | AA19: =VLOOKUP(Sheet1!AC19,C40:D71,2,FALSE) -> 0 | AB19: =VLOOKUP(Sheet1!AD19,C40:D71,2,FALSE) -> 0 | AC19: =VLOOKUP(Sheet1!AE19,C40:D71,2,FALSE) -> 12 | AD19: =VLOOKUP(Sheet1!AF19,C40:D71,2,FALSE) -> 12 | AE19: =VLOOKUP(Sheet1!AG19,C40:D71,2,FALSE) -> 12 | AF19: =VLOOKUP(Sheet1!AH19,C40:D71,2,FALSE) -> 0 | AH19: =SUM(C19:AF19) -> 176 | AI19: 160.25
A20: 15 | B20: Fadl | C20: =VLOOKUP(Sheet1!E20,C40:D71,2,FALSE) -> 0 | D20: =VLOOKUP(Sheet1!F20,C40:D71,2,FALSE) -> 0 | E20: =VLOOKUP(Sheet1!G20,C40:D71,2,FALSE) -> 0 | F20: =VLOOKUP(Sheet1!H20,C40:D71,2,FALSE) -> 12 | G20: =VLOOKUP(Sheet1!I20,C40:D71,2,FALSE) -> 12 | H20: =VLOOKUP(Sheet1!J20,C40:D71,2,FALSE) -> 0 | I20: =VLOOKUP(Sheet1!K20,C40:D71,2,FALSE) -> 0 | J20: =VLOOKUP(Sheet1!L20,C40:D71,2,FALSE) -> 0 | K20: =VLOOKUP(Sheet1!M20,C40:D71,2,FALSE) -> 12 | L20: =VLOOKUP(Sheet1!N20,C40:D71,2,FALSE) -> 12 | M20: =VLOOKUP(Sheet1!O20,C40:D71,2,FALSE) -> 12 | N20: =VLOOKUP(Sheet1!P20,C40:D71,2,FALSE) -> 0 | O20: =VLOOKUP(Sheet1!Q20,C40:D71,2,FALSE) -> 0 | P20: =VLOOKUP(Sheet1!R20,C40:D71,2,FALSE) -> 12 | Q20: =VLOOKUP(Sheet1!S20,C40:D71,2,FALSE) -> 12 | R20: =VLOOKUP(Sheet1!T20,C40:D71,2,FALSE) -> 0 | S20: =VLOOKUP(Sheet1!U20,C40:D71,2,FALSE) -> 0 | T20: =VLOOKUP(Sheet1!V20,C40:D71,2,FALSE) -> 8 | U20: =VLOOKUP(Sheet1!W20,C40:D71,2,FALSE) -> 8 | V20: =VLOOKUP(Sheet1!X20,C40:D71,2,FALSE) -> 8 | W20: =VLOOKUP(Sheet1!Y20,C40:D71,2,FALSE) -> 8 | X20: =VLOOKUP(Sheet1!Z20,C40:D71,2,FALSE) -> 8 | Y20: =VLOOKUP(Sheet1!AA20,C40:D71,2,FALSE) -> 0 | Z20: =VLOOKUP(Sheet1!AA20,C40:D71,2,FALSE) -> 0 | AA20: =VLOOKUP(Sheet1!AC20,C40:D71,2,FALSE) -> 3 | AB20: =VLOOKUP(Sheet1!AD20,C40:D71,2,FALSE) -> 0 | AC20: =VLOOKUP(Sheet1!AE20,C40:D71,2,FALSE) -> 12 | AD20: =VLOOKUP(Sheet1!AF20,C40:D71,2,FALSE) -> 12 | AE20: =VLOOKUP(Sheet1!AG20,C40:D71,2,FALSE) -> 12 | AF20: =VLOOKUP(Sheet1!AH20,C40:D71,2,FALSE) -> 0 | AH20: =SUM(C20:AF20) -> 163 | AI20: 160.25
A21: 16 | B21: Luc | C21: =VLOOKUP(Sheet1!E21,C40:D71,2,FALSE) -> 6.1 | D21: =VLOOKUP(Sheet1!F21,C40:D71,2,FALSE) -> 0 | E21: =VLOOKUP(Sheet1!G21,C40:D71,2,FALSE) -> 0 | F21: =VLOOKUP(Sheet1!H21,C40:D71,2,FALSE) -> 0 | G21: =VLOOKUP(Sheet1!I21,C40:D71,2,FALSE) -> 12 | H21: =VLOOKUP(Sheet1!J21,C40:D71,2,FALSE) -> 0 | I21: =VLOOKUP(Sheet1!K21,C40:D71,2,FALSE) -> 0 | J21: =VLOOKUP(Sheet1!L21,C40:D71,2,FALSE) -> 12 | K21: =VLOOKUP(Sheet1!M21,C40:D71,2,FALSE) -> 12 | L21: =VLOOKUP(Sheet1!N21,C40:D71,2,FALSE) -> 12 | M21: =VLOOKUP(Sheet1!O21,C40:D71,2,FALSE) -> 12 | N21: =VLOOKUP(Sheet1!P21,C40:D71,2,FALSE) -> 12 | O21: =VLOOKUP(Sheet1!Q21,C40:D71,2,FALSE) -> 0 | P21: =VLOOKUP(Sheet1!R21,C40:D71,2,FALSE) -> 12 | Q21: =VLOOKUP(Sheet1!S21,C40:D71,2,FALSE) -> 12 | R21: =VLOOKUP(Sheet1!T21,C40:D71,2,FALSE) -> 0 | S21: =VLOOKUP(Sheet1!U21,C40:D71,2,FALSE) -> 0 | T21: =VLOOKUP(Sheet1!V21,C40:D71,2,FALSE) -> 12 | U21: =VLOOKUP(Sheet1!W21,C40:D71,2,FALSE) -> 12 | V21: =VLOOKUP(Sheet1!X21,C40:D71,2,FALSE) -> 12 | W21: =VLOOKUP(Sheet1!Y21,C40:D71,2,FALSE) -> 0 | X21: =VLOOKUP(Sheet1!Z21,C40:D71,2,FALSE) -> 12 | Y21: =VLOOKUP(Sheet1!AA21,C40:D71,2,FALSE) -> 0 | Z21: =VLOOKUP(Sheet1!AB21,C40:D71,2,FALSE) -> 0 | AA21: =VLOOKUP(Sheet1!AC21,C40:D71,2,FALSE) -> 12 | AB21: =VLOOKUP(Sheet1!AD21,C40:D71,2,FALSE) -> 12 | AC21: =VLOOKUP(Sheet1!AE21,C40:D71,2,FALSE) -> 0 | AD21: =VLOOKUP(Sheet1!AF21,C40:D71,2,FALSE) -> 0 | AE21: =VLOOKUP(Sheet1!AG21,C40:D71,2,FALSE) -> 0 | AF21: =VLOOKUP(Sheet1!AH21,C40:D71,2,FALSE) -> 0 | AH21: =SUM(C21:AF21) -> 174.1 | AI21: 160.25
A22: 17 | B22: Lennert | C22: =VLOOKUP(Sheet1!E22,C40:D71,2,FALSE) -> 12 | D22: =VLOOKUP(Sheet1!F22,C40:D71,2,FALSE) -> 0 | E22: =VLOOKUP(Sheet1!G22,C40:D71,2,FALSE) -> 12 | F22: =VLOOKUP(Sheet1!H22,C40:D71,2,FALSE) -> 0 | G22: =VLOOKUP(Sheet1!I22,C40:D71,2,FALSE) -> 0 | H22: =VLOOKUP(Sheet1!J22,C40:D71,2,FALSE) -> 12 | I22: =VLOOKUP(Sheet1!K22,C40:D71,2,FALSE) -> 12 | J22: =VLOOKUP(Sheet1!L22,C40:D71,2,FALSE) -> 12 | K22: =VLOOKUP(Sheet1!M22,C40:D71,2,FALSE) -> 0 | L22: =VLOOKUP(Sheet1!N22,C40:D71,2,FALSE) -> 0 | M22: =VLOOKUP(Sheet1!O22,C40:D71,2,FALSE) -> 0 | N22: =VLOOKUP(Sheet1!P22,C40:D71,2,FALSE) -> 12 | O22: =VLOOKUP(Sheet1!Q22,C40:D71,2,FALSE) -> 0 | P22: =VLOOKUP(Sheet1!R22,C40:D71,2,FALSE) -> 0 | Q22: =VLOOKUP(Sheet1!S22,C40:D71,2,FALSE) -> 0 | R22: =VLOOKUP(Sheet1!T22,C40:D71,2,FALSE) -> 12 | S22: =VLOOKUP(Sheet1!U22,C40:D71,2,FALSE) -> 12 | T22: =VLOOKUP(Sheet1!V22,C40:D71,2,FALSE) -> 0 | U22: =VLOOKUP(Sheet1!W22,C40:D71,2,FALSE) -> 0 | V22: =VLOOKUP(Sheet1!X22,C40:D71,2,FALSE) -> 12 | W22: =VLOOKUP(Sheet1!Y22,C40:D71,2,FALSE) -> 0 | X22: =VLOOKUP(Sheet1!Z22,C40:D71,2,FALSE) -> 12 | Y22: =VLOOKUP(Sheet1!AA22,C40:D71,2,FALSE) -> 12 | Z22: =VLOOKUP(Sheet1!AB22,C40:D71,2,FALSE) -> 12 | AA22: =VLOOKUP(Sheet1!AC22,C40:D71,2,FALSE) -> 0 | AB22: =VLOOKUP(Sheet1!AD22,C40:D71,2,FALSE) -> 0 | AC22: =VLOOKUP(Sheet1!AE22,C40:D71,2,FALSE) -> 12 | AD22: =VLOOKUP(Sheet1!AF22,C40:D71,2,FALSE) -> 12 | AE22: =VLOOKUP(Sheet1!AG22,C40:D71,2,FALSE) -> 0 | AF22: =VLOOKUP(Sheet1!AH22,C40:D71,2,FALSE) -> 0 | AH22: =SUM(C22:AF22) -> 168 | AI22: 160.25
A23: 18 | B23: Erwin | C23: =VLOOKUP(Sheet1!E23,C40:D71,2,FALSE) -> 0 | D23: =VLOOKUP(Sheet1!F23,C40:D71,2,FALSE) -> 12 | E23: =VLOOKUP(Sheet1!G23,C40:D71,2,FALSE) -> 12 | F23: =VLOOKUP(Sheet1!H23,C40:D71,2,FALSE) -> 0 | G23: =VLOOKUP(Sheet1!I23,C40:D71,2,FALSE) -> 12 | H23: =VLOOKUP(Sheet1!J23,C40:D71,2,FALSE) -> 0 | I23: =VLOOKUP(Sheet1!K23,C40:D71,2,FALSE) -> 12 | J23: =VLOOKUP(Sheet1!L23,C40:D71,2,FALSE) -> 8 | K23: =VLOOKUP(Sheet1!M23,C40:D71,2,FALSE) -> 0 | L23: =VLOOKUP(Sheet1!N23,C40:D71,2,FALSE) -> 0 | M23: =VLOOKUP(Sheet1!O23,C40:D71,2,FALSE) -> 12 | N23: =VLOOKUP(Sheet1!P23,C40:D71,2,FALSE) -> 12 | O23: =VLOOKUP(Sheet1!Q23,C40:D71,2,FALSE) -> 0 | P23: =VLOOKUP(Sheet1!R23,C40:D71,2,FALSE) -> 0 | Q23: =VLOOKUP(Sheet1!S23,C40:D71,2,FALSE) -> 0 | R23: =VLOOKUP(Sheet1!T23,C40:D71,2,FALSE) -> 12 | S23: =VLOOKUP(Sheet1!U23,C40:D71,2,FALSE) -> 12 | T23: =VLOOKUP(Sheet1!V23,C40:D71,2,FALSE) -> 12 | U23: =VLOOKUP(Sheet1!W23,C40:D71,2,FALSE) -> 12 | V23: =VLOOKUP(Sheet1!X23,C40:D71,2,FALSE) -> 0 | W23: =VLOOKUP(Sheet1!Y23,C40:D71,2,FALSE) -> 0 | X23: =VLOOKUP(Sheet1!Z23,C40:D71,2,FALSE) -> 0 | Y23: =VLOOKUP(Sheet1!AA23,C40:D71,2,FALSE) -> 0 | Z23: =VLOOKUP(Sheet1!AB23,C40:D71,2,FALSE) -> 12 | AA23: =VLOOKUP(Sheet1!AC23,C40:D71,2,FALSE) -> 12 | AB23: =VLOOKUP(Sheet1!AD23,C40:D71,2,FALSE) -> 12 | AC23: =VLOOKUP(Sheet1!AE23,C40:D71,2,FALSE) -> 12 | AD23: =VLOOKUP(Sheet1!AF23,C40:D71,2,FALSE) -> 0 | AE23: =VLOOKUP(Sheet1!AG23,C40:D71,2,FALSE) -> 0 | AF23: =VLOOKUP(Sheet1!AH23,C40:D71,2,FALSE) -> 0 | AH23: =SUM(C23:AF23) -> 176 | AI23: 160.25
A24: 19 | B24: Laurent | C24: =VLOOKUP(Sheet1!E24,C40:D71,2,FALSE) -> 0 | D24: =VLOOKUP(Sheet1!F24,C40:D71,2,FALSE) -> 12 | E24: =VLOOKUP(Sheet1!G24,C40:D71,2,FALSE) -> 12 | F24: =VLOOKUP(Sheet1!H24,C40:D71,2,FALSE) -> 0 | G24: =VLOOKUP(Sheet1!I24,C40:D71,2,FALSE) -> 0 | H24: =VLOOKUP(Sheet1!J24,C40:D71,2,FALSE) -> 12 | I24: =VLOOKUP(Sheet1!K24,C40:D71,2,FALSE) -> 12 | J24: =VLOOKUP(Sheet1!L24,C40:D71,2,FALSE) -> 12 | K24: =VLOOKUP(Sheet1!M24,C40:D71,2,FALSE) -> 0 | L24: =VLOOKUP(Sheet1!N24,C40:D71,2,FALSE) -> 0 | M24: =VLOOKUP(Sheet1!O24,C40:D71,2,FALSE) -> 0 | N24: =VLOOKUP(Sheet1!P24,C40:D71,2,FALSE) -> 3 | O24: =VLOOKUP(Sheet1!Q24,C40:D71,2,FALSE) -> 12 | P24: =VLOOKUP(Sheet1!R24,C40:D71,2,FALSE) -> 0 | Q24: =VLOOKUP(Sheet1!S24,C40:D71,2,FALSE) -> 0 | R24: =VLOOKUP(Sheet1!T24,C40:D71,2,FALSE) -> 12 | S24: =VLOOKUP(Sheet1!U24,C40:D71,2,FALSE) -> 12 | T24: =VLOOKUP(Sheet1!V24,C40:D71,2,FALSE) -> 12 | U24: =VLOOKUP(Sheet1!W24,C40:D71,2,FALSE) -> 0 | V24: =VLOOKUP(Sheet1!X24,C40:D71,2,FALSE) -> 0 | W24: =VLOOKUP(Sheet1!Y24,C40:D71,2,FALSE) -> 12 | X24: =VLOOKUP(Sheet1!Z24,C40:D71,2,FALSE) -> 12 | Y24: =VLOOKUP(Sheet1!AA24,C40:D71,2,FALSE) -> 0 | Z24: =VLOOKUP(Sheet1!AB24,C40:D71,2,FALSE) -> 0 | AA24: =VLOOKUP(Sheet1!AC24,C40:D71,2,FALSE) -> 12 | AB24: =VLOOKUP(Sheet1!AD24,C40:D71,2,FALSE) -> 0 | AC24: =VLOOKUP(Sheet1!AE24,C40:D71,2,FALSE) -> 12 | AD24: =VLOOKUP(Sheet1!AF24,C40:D71,2,FALSE) -> 12 | AE24: =VLOOKUP(Sheet1!AG24,C40:D71,2,FALSE) -> 0 | AF24: =VLOOKUP(Sheet1!AH24,C40:D71,2,FALSE) -> 0 | AH24: =SUM(C24:AF24) -> 171 | AI24: 160.25
A25: 20 | B25: Ese | C25: =VLOOKUP(Sheet1!E25,C40:D71,2,FALSE) -> 0 | D25: =VLOOKUP(Sheet1!F25,C40:D71,2,FALSE) -> 12 | E25: =VLOOKUP(Sheet1!G25,C40:D71,2,FALSE) -> 12 | F25: =VLOOKUP(Sheet1!H25,C40:D71,2,FALSE) -> 0 | G25: =VLOOKUP(Sheet1!I25,C40:D71,2,FALSE) -> 12 | H25: =VLOOKUP(Sheet1!J25,C40:D71,2,FALSE) -> 12 | I25: =VLOOKUP(Sheet1!K25,C40:D71,2,FALSE) -> 12 | J25: =VLOOKUP(Sheet1!L25,C40:D71,2,FALSE) -> 0 | K25: =VLOOKUP(Sheet1!M25,C40:D71,2,FALSE) -> 12 | L25: =VLOOKUP(Sheet1!N25,C40:D71,2,FALSE) -> 0 | M25: =VLOOKUP(Sheet1!O25,C40:D71,2,FALSE) -> 12 | N25: =VLOOKUP(Sheet1!P25,C40:D71,2,FALSE) -> 12 | O25: =VLOOKUP(Sheet1!Q25,C40:D71,2,FALSE) -> 12 | P25: =VLOOKUP(Sheet1!R25,C40:D71,2,FALSE) -> 0 | Q25: =VLOOKUP(Sheet1!S25,C40:D71,2,FALSE) -> 0 | R25: =VLOOKUP(Sheet1!T25,C40:D71,2,FALSE) -> 12 | S25: =VLOOKUP(Sheet1!U25,C40:D71,2,FALSE) -> 0 | T25: =VLOOKUP(Sheet1!V25,C40:D71,2,FALSE) -> 8 | U25: =VLOOKUP(Sheet1!W25,C40:D71,2,FALSE) -> 8 | V25: =VLOOKUP(Sheet1!X25,C40:D71,2,FALSE) -> 8 | W25: =VLOOKUP(Sheet1!Y25,C40:D71,2,FALSE) -> 8 | X25: =VLOOKUP(Sheet1!Z25,C40:D71,2,FALSE) -> 8 | Y25: =VLOOKUP(Sheet1!AA25,C40:D71,2,FALSE) -> 0 | Z25: =VLOOKUP(Sheet1!AB25,C40:D71,2,FALSE) -> 0 | AA25: =VLOOKUP(Sheet1!AC25,C40:D71,2,FALSE) -> 3 | AB25: =VLOOKUP(Sheet1!AD25,C40:D71,2,FALSE) -> 0 | AC25: =VLOOKUP(Sheet1!AE25,C40:D71,2,FALSE) -> 12 | AD25: =VLOOKUP(Sheet1!AF25,C40:D71,2,FALSE) -> 0 | AE25: =VLOOKUP(Sheet1!AG25,C40:D71,2,FALSE) -> 0 | AF25: =VLOOKUP(Sheet1!AH25,C40:D71,2,FALSE) -> 0 | AH25: =SUM(C25:AF25) -> 175 | AI25: 160.25
A26: 21 | B26: Benjamin | C26: =VLOOKUP(Sheet1!E26,C40:D71,2,FALSE) -> 12 | D26: =VLOOKUP(Sheet1!F26,C40:D71,2,FALSE) -> 0 | E26: =VLOOKUP(Sheet1!G26,C40:D71,2,FALSE) -> 0 | F26: =VLOOKUP(Sheet1!H26,C40:D71,2,FALSE) -> 12 | G26: =VLOOKUP(Sheet1!I26,C40:D71,2,FALSE) -> 0 | H26: =VLOOKUP(Sheet1!J26,C40:D71,2,FALSE) -> 12 | I26: =VLOOKUP(Sheet1!K26,C40:D71,2,FALSE) -> 0 | J26: =VLOOKUP(Sheet1!L26,C40:D71,2,FALSE) -> 12 | K26: =VLOOKUP(Sheet1!M26,C40:D71,2,FALSE) -> 0 | L26: =VLOOKUP(Sheet1!N26,C40:D71,2,FALSE) -> 12 | M26: =VLOOKUP(Sheet1!O26,C40:D71,2,FALSE) -> 0 | N26: =VLOOKUP(Sheet1!P26,C40:D71,2,FALSE) -> 3 | O26: =VLOOKUP(Sheet1!Q26,C40:D71,2,FALSE) -> 12 | P26: =VLOOKUP(Sheet1!R26,C40:D71,2,FALSE) -> 12 | Q26: =VLOOKUP(Sheet1!S26,C40:D71,2,FALSE) -> 12 | R26: =VLOOKUP(Sheet1!T26,C40:D71,2,FALSE) -> 0 | S26: =VLOOKUP(Sheet1!U26,C40:D71,2,FALSE) -> 0 | T26: =VLOOKUP(Sheet1!V26,C40:D71,2,FALSE) -> 0 | U26: =VLOOKUP(Sheet1!W26,C40:D71,2,FALSE) -> 12 | V26: =VLOOKUP(Sheet1!X26,C40:D71,2,FALSE) -> 12 | W26: =VLOOKUP(Sheet1!Y26,C40:D71,2,FALSE) -> 12 | X26: =VLOOKUP(Sheet1!Z26,C40:D71,2,FALSE) -> 12 | Y26: =VLOOKUP(Sheet1!AA26,C40:D71,2,FALSE) -> 0 | Z26: =VLOOKUP(Sheet1!AB26,C40:D71,2,FALSE) -> 0 | AA26: =VLOOKUP(Sheet1!AC26,C40:D71,2,FALSE) -> 0 | AB26: =VLOOKUP(Sheet1!AD26,C40:D71,2,FALSE) -> 0 | AC26: =VLOOKUP(Sheet1!AE26,C40:D71,2,FALSE) -> 0 | AD26: =VLOOKUP(Sheet1!AF26,C40:D71,2,FALSE) -> 0 | AE26: =VLOOKUP(Sheet1!AG26,C40:D71,2,FALSE) -> 12 | AF26: =VLOOKUP(Sheet1!AH26,C40:D71,2,FALSE) -> 12 | AH26: =SUM(C26:AF26) -> 171 | AI26: 160.25
A27: 22 | B27: Rabia | C27: =VLOOKUP(Sheet1!E27,C40:D71,2,FALSE) -> 12 | D27: =VLOOKUP(Sheet1!F27,C40:D71,2,FALSE) -> 0 | E27: =VLOOKUP(Sheet1!G27,C40:D71,2,FALSE) -> 0 | F27: =VLOOKUP(Sheet1!H27,C40:D71,2,FALSE) -> 12 | G27: =VLOOKUP(Sheet1!I27,C40:D71,2,FALSE) -> 0 | H27: =VLOOKUP(Sheet1!J27,C40:D71,2,FALSE) -> 0 | I27: =VLOOKUP(Sheet1!K27,C40:D71,2,FALSE) -> 0 | J27: =VLOOKUP(Sheet1!L27,C40:D71,2,FALSE) -> 12 | K27: =VLOOKUP(Sheet1!M27,C40:D71,2,FALSE) -> 12 | L27: =VLOOKUP(Sheet1!N27,C40:D71,2,FALSE) -> 12 | M27: =VLOOKUP(Sheet1!O27,C40:D71,2,FALSE) -> 0 | N27: =VLOOKUP(Sheet1!P27,C40:D71,2,FALSE) -> 3 | O27: =VLOOKUP(Sheet1!Q27,C40:D71,2,FALSE) -> 12 | P27: =VLOOKUP(Sheet1!R27,C40:D71,2,FALSE) -> 12 | Q27: =VLOOKUP(Sheet1!S27,C40:D71,2,FALSE) -> 12 | R27: =VLOOKUP(Sheet1!T27,C40:D71,2,FALSE) -> 0 | S27: =VLOOKUP(Sheet1!U27,C40:D71,2,FALSE) -> 0 | T27: =VLOOKUP(Sheet1!V27,C40:D71,2,FALSE) -> 12 | U27: =VLOOKUP(Sheet1!W27,C40:D71,2,FALSE) -> 12 | V27: =VLOOKUP(Sheet1!X27,C40:D71,2,FALSE) -> 0 | W27: =VLOOKUP(Sheet1!Y27,C40:D71,2,FALSE) -> 0 | X27: =VLOOKUP(Sheet1!Z27,C40:D71,2,FALSE) -> 0 | Y27: =VLOOKUP(Sheet1!AA27,C40:D71,2,FALSE) -> 12 | Z27: =VLOOKUP(Sheet1!AB27,C40:D71,2,FALSE) -> 12 | AA27: =VLOOKUP(Sheet1!AC27,C40:D71,2,FALSE) -> 0 | AB27: =VLOOKUP(Sheet1!AD27,C40:D71,2,FALSE) -> 12 | AC27: =VLOOKUP(Sheet1!AE27,C40:D71,2,FALSE) -> 12 | AD27: =VLOOKUP(Sheet1!AF27,C40:D71,2,FALSE) -> 0 | AE27: =VLOOKUP(Sheet1!AG27,C40:D71,2,FALSE) -> 0 | AF27: =VLOOKUP(Sheet1!AH27,C40:D71,2,FALSE) -> 0 | AH27: =SUM(C27:AF27) -> 171 | AI27: 160.25
A28: 23 | B28: David | C28: =VLOOKUP(Sheet1!E28,C40:D71,2,FALSE) -> 12 | D28: =VLOOKUP(Sheet1!F28,C40:D71,2,FALSE) -> 0 | E28: =VLOOKUP(Sheet1!G28,C40:D71,2,FALSE) -> 0 | F28: =VLOOKUP(Sheet1!H28,C40:D71,2,FALSE) -> 0 | G28: =VLOOKUP(Sheet1!I28,C40:D71,2,FALSE) -> 0 | H28: =VLOOKUP(Sheet1!J28,C40:D71,2,FALSE) -> 12 | I28: =VLOOKUP(Sheet1!K28,C40:D71,2,FALSE) -> 12 | J28: =VLOOKUP(Sheet1!L28,C40:D71,2,FALSE) -> 12 | K28: =VLOOKUP(Sheet1!M28,C40:D71,2,FALSE) -> 0 | L28: =VLOOKUP(Sheet1!N28,C40:D71,2,FALSE) -> 0 | M28: =VLOOKUP(Sheet1!O28,C40:D71,2,FALSE) -> 12 | N28: =VLOOKUP(Sheet1!P28,C40:D71,2,FALSE) -> 12 | O28: =VLOOKUP(Sheet1!Q28,C40:D71,2,FALSE) -> 0 | P28: =VLOOKUP(Sheet1!R28,C40:D71,2,FALSE) -> 0 | Q28: =VLOOKUP(Sheet1!S28,C40:D71,2,FALSE) -> 0 | R28: =VLOOKUP(Sheet1!T28,C40:D71,2,FALSE) -> 12 | S28: =VLOOKUP(Sheet1!U28,C40:D71,2,FALSE) -> 12 | T28: =VLOOKUP(Sheet1!V28,C40:D71,2,FALSE) -> 0 | U28: =VLOOKUP(Sheet1!W28,C40:D71,2,FALSE) -> 3 | V28: =VLOOKUP(Sheet1!X28,C40:D71,2,FALSE) -> 12 | W28: =VLOOKUP(Sheet1!Y28,C40:D71,2,FALSE) -> 12 | X28: =VLOOKUP(Sheet1!Z28,C40:D71,2,FALSE) -> 12 | Y28: =VLOOKUP(Sheet1!AA28,C40:D71,2,FALSE) -> 0 | Z28: =VLOOKUP(Sheet1!AB28,C40:D71,2,FALSE) -> 0 | AA28: =VLOOKUP(Sheet1!AC28,C40:D71,2,FALSE) -> 12 | AB28: =VLOOKUP(Sheet1!AD28,C40:D71,2,FALSE) -> 0 | AC28: =VLOOKUP(Sheet1!AE28,C40:D71,2,FALSE) -> 0 | AD28: =VLOOKUP(Sheet1!AF28,C40:D71,2,FALSE) -> 12 | AE28: =VLOOKUP(Sheet1!AG28,C40:D71,2,FALSE) -> 12 | AF28: =VLOOKUP(Sheet1!AH28,C40:D71,2,FALSE) -> 0 | AH28: =SUM(C28:AF28) -> 171 | AI28: 160.25
A29: 24 | B29: Ludovic | C29: =VLOOKUP(Sheet1!E29,C40:D71,2,FALSE) -> 12 | D29: =VLOOKUP(Sheet1!F29,C40:D71,2,FALSE) -> 0 | E29: =VLOOKUP(Sheet1!G29,C40:D71,2,FALSE) -> 12 | F29: =VLOOKUP(Sheet1!H29,C40:D71,2,FALSE) -> 12 | G29: =VLOOKUP(Sheet1!I29,C40:D71,2,FALSE) -> 12 | H29: =VLOOKUP(Sheet1!J29,C40:D71,2,FALSE) -> 12 | I29: =VLOOKUP(Sheet1!K29,C40:D71,2,FALSE) -> 0 | J29: =VLOOKUP(Sheet1!L29,C40:D71,2,FALSE) -> 6.1 | K29: =VLOOKUP(Sheet1!M29,C40:D71,2,FALSE) -> 6.1 | L29: =VLOOKUP(Sheet1!N29,C40:D71,2,FALSE) -> 0 | M29: =VLOOKUP(Sheet1!O29,C40:D71,2,FALSE) -> 6.1 | N29: =VLOOKUP(Sheet1!P29,C40:D71,2,FALSE) -> 12 | O29: =VLOOKUP(Sheet1!Q29,C40:D71,2,FALSE) -> 12 | P29: =VLOOKUP(Sheet1!R29,C40:D71,2,FALSE) -> 12 | Q29: =VLOOKUP(Sheet1!S29,C40:D71,2,FALSE) -> 12 | R29: =VLOOKUP(Sheet1!T29,C40:D71,2,FALSE) -> 0 | S29: =VLOOKUP(Sheet1!U29,C40:D71,2,FALSE) -> 0 | T29: =VLOOKUP(Sheet1!V29,C40:D71,2,FALSE) -> 0 | U29: =VLOOKUP(Sheet1!W29,C40:D71,2,FALSE) -> 0 | V29: =VLOOKUP(Sheet1!X29,C40:D71,2,FALSE) -> 0 | W29: =VLOOKUP(Sheet1!Y29,C40:D71,2,FALSE) -> 0 | X29: =VLOOKUP(Sheet1!Z29,C40:D71,2,FALSE) -> 0 | Y29: =VLOOKUP(Sheet1!AA29,C40:D71,2,FALSE) -> 0 | Z29: =VLOOKUP(Sheet1!AB29,C40:D71,2,FALSE) -> 0 | AA29: =VLOOKUP(Sheet1!AC29,C40:D71,2,FALSE) -> 0 | AB29: =VLOOKUP(Sheet1!AD29,C40:D71,2,FALSE) -> 0 | AC29: =VLOOKUP(Sheet1!AE29,C40:D71,2,FALSE) -> 0 | AD29: =VLOOKUP(Sheet1!AF29,C40:D71,2,FALSE) -> 0 | AE29: =VLOOKUP(Sheet1!AG29,C40:D71,2,FALSE) -> 0 | AF29: =VLOOKUP(Sheet1!AH29,C40:D71,2,FALSE) -> 0 | AH29: =SUM(C29:AF29) -> 126.3 | AI29: 160.25
A30: 25 | B30: Ismail | C30: =VLOOKUP(Sheet1!E30,C40:D71,2,FALSE) -> 12 | D30: =VLOOKUP(Sheet1!F30,C40:D71,2,FALSE) -> 12 | E30: =VLOOKUP(Sheet1!F30,C40:D71,2,FALSE) -> 12 | F30: =VLOOKUP(Sheet1!H30,C40:D71,2,FALSE) -> 0 | G30: =VLOOKUP(Sheet1!I30,C40:D71,2,FALSE) -> 0 | H30: =VLOOKUP(Sheet1!J30,C40:D71,2,FALSE) -> 0 | I30: =VLOOKUP(Sheet1!K30,C40:D71,2,FALSE) -> 0 | J30: =VLOOKUP(Sheet1!L30,C40:D71,2,FALSE) -> 12 | K30: =VLOOKUP(Sheet1!M30,C40:D71,2,FALSE) -> 0 | L30: =VLOOKUP(Sheet1!N30,C40:D71,2,FALSE) -> 0 | M30: =VLOOKUP(Sheet1!O30,C40:D71,2,FALSE) -> 12 | N30: =VLOOKUP(Sheet1!P30,C40:D71,2,FALSE) -> 12 | O30: =VLOOKUP(Sheet1!Q30,C40:D71,2,FALSE) -> 12 | P30: =VLOOKUP(Sheet1!R30,C40:D71,2,FALSE) -> 0 | Q30: =VLOOKUP(Sheet1!S30,C40:D71,2,FALSE) -> 0 | R30: =VLOOKUP(Sheet1!T30,C40:D71,2,FALSE) -> 0 | S30: =VLOOKUP(Sheet1!U30,C40:D71,2,FALSE) -> 12 | T30: =VLOOKUP(Sheet1!V30,C40:D71,2,FALSE) -> 8 | U30: =VLOOKUP(Sheet1!W30,C40:D71,2,FALSE) -> 8 | V30: =VLOOKUP(Sheet1!X30,C40:D71,2,FALSE) -> 8 | W30: =VLOOKUP(Sheet1!Y30,C40:D71,2,FALSE) -> 8 | X30: =VLOOKUP(Sheet1!Z30,C40:D71,2,FALSE) -> 8 | Y30: =VLOOKUP(Sheet1!AA30,C40:D71,2,FALSE) -> 0 | Z30: =VLOOKUP(Sheet1!AB30,C40:D71,2,FALSE) -> 0 | AA30: =VLOOKUP(Sheet1!AC30,C40:D71,2,FALSE) -> 3 | AB30: =VLOOKUP(Sheet1!AD30,C40:D71,2,FALSE) -> 0 | AC30: =VLOOKUP(Sheet1!AE30,C40:D71,2,FALSE) -> 0 | AD30: =VLOOKUP(Sheet1!AF30,C40:D71,2,FALSE) -> 12 | AE30: =VLOOKUP(Sheet1!AG30,C40:D71,2,FALSE) -> 12 | AF30: =VLOOKUP(Sheet1!AH30,C40:D71,2,FALSE) -> 12 | AH30: =SUM(C30:AF30) -> 175 | AI30: 160.25
A31: 26 | B31: Kristof | C31: =VLOOKUP(Sheet1!E31,C40:D71,2,FALSE) -> 0 | D31: =VLOOKUP(Sheet1!F31,C40:D71,2,FALSE) -> 12 | E31: =VLOOKUP(Sheet1!G31,C40:D71,2,FALSE) -> 0 | F31: =VLOOKUP(Sheet1!H31,C40:D71,2,FALSE) -> 12 | G31: =VLOOKUP(Sheet1!I31,C40:D71,2,FALSE) -> 0 | H31: =VLOOKUP(Sheet1!J31,C40:D71,2,FALSE) -> 12 | I31: =VLOOKUP(Sheet1!K31,C40:D71,2,FALSE) -> 0 | J31: =VLOOKUP(Sheet1!L31,C40:D71,2,FALSE) -> 8 | K31: =VLOOKUP(Sheet1!M31,C40:D71,2,FALSE) -> 0 | L31: =VLOOKUP(Sheet1!N31,C40:D71,2,FALSE) -> 0 | M31: =VLOOKUP(Sheet1!O31,C40:D71,2,FALSE) -> 8 | N31: =VLOOKUP(Sheet1!P31,C40:D71,2,FALSE) -> 0 | O31: =VLOOKUP(Sheet1!Q31,C40:D71,2,FALSE) -> 12 | P31: =VLOOKUP(Sheet1!R31,C40:D71,2,FALSE) -> 0 | Q31: =VLOOKUP(Sheet1!S31,C40:D71,2,FALSE) -> 0 | R31: =VLOOKUP(Sheet1!T31,C40:D71,2,FALSE) -> 12 | S31: =VLOOKUP(Sheet1!U31,C40:D71,2,FALSE) -> 12 | T31: =VLOOKUP(Sheet1!V31,C40:D71,2,FALSE) -> 12 | U31: =VLOOKUP(Sheet1!W31,C40:D71,2,FALSE) -> 12 | V31: =VLOOKUP(Sheet1!X31,C40:D71,2,FALSE) -> 0 | W31: =VLOOKUP(Sheet1!Y31,C40:D71,2,FALSE) -> 12 | X31: =VLOOKUP(Sheet1!Z31,C40:D71,2,FALSE) -> 0 | Y31: =VLOOKUP(Sheet1!AA31,C40:D71,2,FALSE) -> 0 | Z31: =VLOOKUP(Sheet1!AB31,C40:D71,2,FALSE) -> 0 | AA31: =VLOOKUP(Sheet1!AC31,C40:D71,2,FALSE) -> 12 | AB31: =VLOOKUP(Sheet1!AD31,C40:D71,2,FALSE) -> 12 | AC31: =VLOOKUP(Sheet1!AE31,C40:D71,2,FALSE) -> 0 | AD31: =VLOOKUP(Sheet1!AF31,C40:D71,2,FALSE) -> 0 | AE31: =VLOOKUP(Sheet1!AG31,C40:D71,2,FALSE) -> 0 | AF31: =VLOOKUP(Sheet1!AH31,C40:D71,2,FALSE) -> 12 | AH31: =SUM(C31:AF31) -> 160 | AI31: 160.25
AH32: =SUM(C32:AF32) -> 0
B33: Geeist | C33: 44 | D33: 0 | E33: 0 | F33: 44 | G33: 44 | H33: 44 | I33: 44 | J33: 44 | K33: 0 | L33: 0 | M33: 44 | N33: 44 | O33: 44 | P33: 44 | Q33: 44 | R33: 0 | S33: 0 | T33: 44 | U33: 44 | V33: 44 | W33: 44 | X33: 44 | Y33: 0 | Z33: 0 | AA33: 44 | AB33: 44 | AC33: 44 | AD33: 44 | AE33: 44 | AF33: 0 | AH33: =SUM(C33:AF33) -> 924
B34: FDO | C34: =SUM(C4+C7)-COUNTIF(C7,"=12")*12-COUNTIF(C4,"=12")*12 -> 6 | D34: =SUM(D4+D7)-COUNTIF(D7,"=12")*12-COUNTIF(D4,"=12")*12 -> 0 | E34: =SUM(E4+E7)-COUNTIF(E7,"=12")*12-COUNTIF(E4,"=12")*12 -> 0 | F34: =SUM(F4+F7)-COUNTIF(F7,"=12")*12-COUNTIF(F4,"=12")*12 -> 6 | G34: =SUM(G4+G7)-COUNTIF(G7,"=12")*12-COUNTIF(G4,"=12")*12 -> 0 | H34: =SUM(H4+H7)-COUNTIF(H7,"=12")*12-COUNTIF(H4,"=12")*12 -> 0 | I34: =SUM(I4+I7)-COUNTIF(I7,"=12")*12-COUNTIF(I4,"=12")*12 -> 0 | J34: =SUM(J4+J7)-COUNTIF(J7,"=12")*12-COUNTIF(J4,"=12")*12 -> 0 | ... AF34: =SUM(AF4+AF7)-COUNTIF(AF7,"=12")*12-COUNTIF(AF4,"=12")*12 -> 0 | AH34: =SUM(C34:AF34) -> 93.3
B35: GUARD | C35: =SUM(C8:C9,C12:C13)-COUNTIF(C8:C9,"=12")*12-COUNTIF(C12:C13,"=12")*12 -> 14 | D35: =SUM(D8:D9,D11:D13)-COUNTIF(D8:D9,"=12")*12-COUNTIF(D11:D13,"=12")*12 -> 6.1 | E35: =SUM(E8:E9,E11:E13)-COUNTIF(E8:E9,"=12")*12-COUNTIF(E11:E13,"=12")*12 -> 0 | F35: =SUM(F8:F9,F11:F13)-COUNTIF(F8:F9,"=12")*12-COUNTIF(F11:F13,"=12")*12 -> 14 | G35: =SUM(G8:G9,G11:G13)-COUNTIF(G8:G9,"=12")*12-COUNTIF(G11:G13,"=12")*12 -> 20 | H35: =SUM(H8:H9,H11:H13)-COUNTIF(H8:H9,"=12")*12-COUNTIF(H11:H13,"=12")*12 -> 6 | I35: =SUM(I8:I9,I11:I13)-COUNTIF(I8:I9,"=12")*12-COUNTIF(I11:I13,"=12")*12 -> 20 | J35: =SUM(J8:J9,J11:J13)-COUNTIF(J8:J9,"=12")*12-COUNTIF(J11:J13,"=12")*12 -> 28 | K35: =SUM(K8:K9,K11:K13)-COUNTIF(K8:K9,"=12")*12-COUNTIF(K11:K13,"=12")*12 -> 0 | ... AC35: =SUM(AC8:AC9,AC11:AC13)-COUNTIF(AC8:AC9,"=12")*12-COUNTIF(AC11:AC13,"=12")*12 -> 14 | AD35: =SUM(AD8+AD9+AD12+AD13)-COUNTIF(AD8:AD9,"=12")*12-COUNTIF(AD12:AD13,"=12")*12 -> 14 | AE35: =SUM(AE8+AE9+AE12+AE13)-COUNTIF(AE8:AE9,"=12")*12-COUNTIF(AE12:AE13,"=12")*12 -> 12 | AF35: =SUM(AF8+AF9+AF12+AF13)-COUNTIF(AF8:AF9,"=12")*12-COUNTIF(AF12:AF13,"=12")*12 -> 0 | AH35: =SUM(C35:AF35) -> 366.1
B36: Totaal | C36: =SUM(C34+C35)+COUNTIF(C11:C13,"=12")*12+COUNTIF(C7:C9,"=12")*12+COUNTIF(C4,"=12")*12 -> 44 | D36: =SUM(D34+D35)+COUNTIF(D11:D13,"=12")*12+COUNTIF(D7:D9,"=12")*12+COUNTIF(D4,"=12")*12 -> 6.1 | E36: =SUM(E34+E35)+COUNTIF(E11:E13,"=12")*12+COUNTIF(E7:E9,"=12")*12+COUNTIF(E4,"=12")*12 -> 0 | F36: =SUM(F34+F35)+COUNTIF(F11:F13,"=12")*12+COUNTIF(F7:F9,"=12")*12+COUNTIF(F4,"=12")*12 -> 44 | G36: =SUM(G34+G35)+COUNTIF(G11:G13,"=12")*12+COUNTIF(G7:G9,"=12")*12+COUNTIF(G4,"=12")*12 -> 44 | H36: =SUM(H34+H35)+COUNTIF(H11:H13,"=12")*12+COUNTIF(H7:H9,"=12")*12+COUNTIF(H4,"=12")*12 -> 42 | I36: =SUM(I34+I35)+COUNTIF(I11:I13,"=12")*12+COUNTIF(I7:I9,"=12")*12+COUNTIF(I4,"=12")*12 -> 44 | J36: =SUM(J34+J35)+COUNTIF(J11:J13,"=12")*12+COUNTIF(J7:J9,"=12")*12+COUNTIF(J4,"=12")*12 -> 52 | ... AF36: =SUM(AF34+AF35)+COUNTIF(AF11:AF13,"=12")*12+COUNTIF(AF7:AF9,"=12")*12+COUNTIF(AF4,"=12")*12 -> 0 | AH36: =SUM(C36:AF36) -> 1035.4
C40: BA4 | D40: 8
C41: R | D41: 6.1
C42: PA | D42: 8
C43: PA1 | D43: 2
C44: JF | D44: 8
C45: EHBO | D45: 8
C46: 10-16 | D46: 6
C47: JW | D47: 12
C48: NW | D48: 12
C49: N | D49: 12
C50: TR1 | D50: 3
C51: EXTRA | D51: 12
... C71: ZE | D71: 7.24
