Workbook

Sheet FEUILLE VIERGE
A3: NOM/PRENOM CLIENT | B3: TYPE DE TRAVAUX | C3: EVALUATION RECEPTION CHANTIER | U3: PARRAINAGE TOUT SE POSE
C5: PONCTUALITE COURTOISIE | G5: QUALITE DU CHANTIER | K5: PROPRETE NETTOYAGE | O5: GLOBALEMENT | U5: Je ne recommande pas TSP | Y5: Je ne me positionne pas | AB5: Je recommande TSP | AH5: TOUT SE POSE | AI5: GETIN | AJ5: RP RENOV | AK5: LA COQUETTE PEINTURE | AL5: AUTRE | AM5: TOTAL | AN5: TOUT SE POSE | AO5: GETIN | AP5: RP RENOV | AQ5: LA COQUETTE PEINTURE | AR5: AUTRE | AS5: TOTAL | AT5: TOUT SE POSE | AU5: GETIN | AV5: RP RENOV | AW5: LA COQUETTE PEINTURE | AX5: AUTRE | AY5: TOTAL | AZ5: TOUT SE POSE | BA5: GETIN | BB5: RP RENOV | BC5: LA COQUETTE PEINTURE | BD5: AUTRE | BE5: TOTAL
C6: Excellent | D6: Bon | E6: Moyen | F6: Mauvais | G6: Excellent | H6: Bon | I6: Moyen | J6: Mauvais | K6: Excellent | L6: Bon | M6: Moyen | N6: Mauvais | O6: Excellent | P6: Bon | Q6: Moyen | R6: Mauvais | U6: 1 | V6: 2 | W6: 3 | X6: 4 | Y6: 5 | Z6: 6 | AA6: 7 | AB6: 8 | AC6: 9 | AD6: 10 | AH6: PONCTUALITE/COURTOISIE | AN6: QUALITE DU CHANTIER | AT6: PROPRETE DU CHANTIER | AZ6: GLOBALEMENT LE CHANTIER
AG7: Excellent | AH7: =SUMPRODUCT(($B$7:$B$53=AH$5)*($C$6:$F$6=$AG7)*($C$7:$F$53="X")) -> 0 | AI7: =SUMPRODUCT(($C$6:$F$6=$AG7)*($B$7:$B$53=AI$5)*($C$7:$F$53="X")) -> 0 | AJ7: =SUMPRODUCT(($C$6:$F$6=$AG7)*($B$7:$B$53=AJ$5)*($C$7:$F$53="X")) -> 0 | AK7: =SUMPRODUCT(($C$6:$F$6=$AG7)*($B$7:$B$53=AK$5)*($C$7:$F$53="X")) -> 0 | AL7: =SUMPRODUCT(($C$6:$F$6=$AG7)*($B$7:$B$53=AL$5)*($C$7:$F$53="X")) -> 0 | AM7: =SUM(AH7:AL7) -> 0 | AN7: =SUMPRODUCT(($B$7:$B$53=AN$5)*($G$6:$J$6=$AG7)*($G$7:$J$53="X")) -> 0 | AO7: =SUMPRODUCT(($B$7:$B$53=AO$5)*($G$6:$J$6=$AG7)*($G$7:$J$53="X")) -> 0 | AP7: =SUMPRODUCT(($B$7:$B$53=AP$5)*($G$6:$J$6=$AG7)*($G$7:$J$53="X")) -> 0 | AQ7: =SUMPRODUCT(($B$7:$B$53=AQ$5)*($G$6:$J$6=$AG7)*($G$7:$J$53="X")) -> 0 | AR7: =SUMPRODUCT(($B$7:$B$53=AR$5)*($G$6:$J$6=$AG7)*($G$7:$J$53="X")) -> 0 | AS7: =SUM(AN7:AR7) -> 0 | AT7: =SUMPRODUCT(($B$7:$B$53=AT$5)*($K$6:$N$6=$AG7)*($K$7:$N$53="X")) -> 0 | AU7: =SUMPRODUCT(($B$7:$B$53=AU$5)*($K$6:$N$6=$AG7)*($K$7:$N$53="X")) -> 0 | AV7: =SUMPRODUCT(($B$7:$B$53=AV$5)*($K$6:$N$6=$AG7)*($K$7:$N$53="X")) -> 0 | AW7: =SUMPRODUCT(($B$7:$B$53=AW$5)*($K$6:$N$6=$AG7)*($K$7:$N$53="X")) -> 0 | AX7: =SUMPRODUCT(($B$7:$B$53=AX$5)*($K$6:$N$6=$AG7)*($K$7:$N$53="X")) -> 0 | AY7: =SUM(AT7:AX7) -> 0 | AZ7: =SUMPRODUCT(($B$7:$B$53=AZ$5)*($O$6:$R$6=$AG7)*($O$7:$R$53="X")) -> 0 | BA7: =SUMPRODUCT(($B$7:$B$53=BA$5)*($O$6:$R$6=$AG7)*($O$7:$R$53="X")) -> 0 | BB7: =SUMPRODUCT(($B$7:$B$53=BB$5)*($O$6:$R$6=$AG7)*($O$7:$R$53="X")) -> 0 | BC7: =SUMPRODUCT(($B$7:$B$53=BC$5)*($O$6:$R$6=$AG7)*($O$7:$R$53="X")) -> 0 | BD7: =SUMPRODUCT(($B$7:$B$53=BD$5)*($O$6:$R$6=$AG7)*($O$7:$R$53="X")) -> 0 | BE7: =SUM(AZ7:BD7) -> 0
AG8: Bon | AH8: =SUMPRODUCT(($C$6:$F$6=$AG8)*($B$7:$B$53=AH$5)*($C$7:$F$53="X")) -> 0 | AI8: =SUMPRODUCT(($C$6:$F$6=$AG8)*($B$7:$B$53=AI$5)*($C$7:$F$53="X")) -> 0 | AJ8: =SUMPRODUCT(($C$6:$F$6=$AG8)*($B$7:$B$53=AJ$5)*($C$7:$F$53="X")) -> 0 | AK8: =SUMPRODUCT(($C$6:$F$6=$AG8)*($B$7:$B$53=AK$5)*($C$7:$F$53="X")) -> 0 | AL8: =SUMPRODUCT(($C$6:$F$6=$AG8)*($B$7:$B$53=AL$5)*($C$7:$F$53="X")) -> 0 | AM8: =SUM(AH8:AL8) -> 0 | AN8: =SUMPRODUCT(($B$7:$B$53=AN$5)*($G$6:$J$6=$AG8)*($G$7:$J$53="X")) -> 0 | AO8: =SUMPRODUCT(($B$7:$B$53=AO$5)*($G$6:$J$6=$AG8)*($G$7:$J$53="X")) -> 0 | AP8: =SUMPRODUCT(($B$7:$B$53=AP$5)*($G$6:$J$6=$AG8)*($G$7:$J$53="X")) -> 0 | AQ8: =SUMPRODUCT(($B$7:$B$53=AQ$5)*($G$6:$J$6=$AG8)*($G$7:$J$53="X")) -> 0 | AR8: =SUMPRODUCT(($B$7:$B$53=AR$5)*($G$6:$J$6=$AG8)*($G$7:$J$53="X")) -> 0 | AS8: =SUM(AN8:AR8) -> 0 | AT8: =SUMPRODUCT(($B$7:$B$53=AT$5)*($K$6:$N$6=$AG8)*($K$7:$N$53="X")) -> 0 | AU8: =SUMPRODUCT(($B$7:$B$53=AU$5)*($K$6:$N$6=$AG8)*($K$7:$N$53="X")) -> 0 | AV8: =SUMPRODUCT(($B$7:$B$53=AV$5)*($K$6:$N$6=$AG8)*($K$7:$N$53="X")) -> 0 | AW8: =SUMPRODUCT(($B$7:$B$53=AW$5)*($K$6:$N$6=$AG8)*($K$7:$N$53="X")) -> 0 | AX8: =SUMPRODUCT(($B$7:$B$53=AX$5)*($K$6:$N$6=$AG8)*($K$7:$N$53="X")) -> 0 | AY8: =SUM(AT8:AX8) -> 0 | AZ8: =SUMPRODUCT(($B$7:$B$53=AZ$5)*($O$6:$R$6=$AG8)*($O$7:$R$53="X")) -> 0 | BA8: =SUMPRODUCT(($B$7:$B$53=BA$5)*($O$6:$R$6=$AG8)*($O$7:$R$53="X")) -> 0 | BB8: =SUMPRODUCT(($B$7:$B$53=BB$5)*($O$6:$R$6=$AG8)*($O$7:$R$53="X")) -> 0 | BC8: =SUMPRODUCT(($B$7:$B$53=BC$5)*($O$6:$R$6=$AG8)*($O$7:$R$53="X")) -> 0 | BD8: =SUMPRODUCT(($B$7:$B$53=BD$5)*($O$6:$R$6=$AG8)*($O$7:$R$53="X")) -> 0 | BE8: =SUM(AZ8:BD8) -> 0
AG9: Moyen | AH9: =SUMPRODUCT(($C$6:$F$6=$AG9)*($B$7:$B$53=AH$5)*($C$7:$F$53="X")) -> 0 | AI9: =SUMPRODUCT(($C$6:$F$6=$AG9)*($B$7:$B$53=AI$5)*($C$7:$F$53="X")) -> 0 | AJ9: =SUMPRODUCT(($C$6:$F$6=$AG9)*($B$7:$B$53=AJ$5)*($C$7:$F$53="X")) -> 0 | AK9: =SUMPRODUCT(($C$6:$F$6=$AG9)*($B$7:$B$53=AK$5)*($C$7:$F$53="X")) -> 0 | AL9: =SUMPRODUCT(($C$6:$F$6=$AG9)*($B$7:$B$53=AL$5)*($C$7:$F$53="X")) -> 0 | AM9: =SUM(AH9:AL9) -> 0 | AN9: =SUMPRODUCT(($B$7:$B$53=AN$5)*($G$6:$J$6=$AG9)*($G$7:$J$53="X")) -> 0 | AO9: =SUMPRODUCT(($B$7:$B$53=AO$5)*($G$6:$J$6=$AG9)*($G$7:$J$53="X")) -> 0 | AP9: =SUMPRODUCT(($B$7:$B$53=AP$5)*($G$6:$J$6=$AG9)*($G$7:$J$53="X")) -> 0 | AQ9: =SUMPRODUCT(($B$7:$B$53=AQ$5)*($G$6:$J$6=$AG9)*($G$7:$J$53="X")) -> 0 | AR9: =SUMPRODUCT(($B$7:$B$53=AR$5)*($G$6:$J$6=$AG9)*($G$7:$J$53="X")) -> 0 | AS9: =SUM(AN9:AR9) -> 0 | AT9: =SUMPRODUCT(($B$7:$B$53=AT$5)*($K$6:$N$6=$AG9)*($K$7:$N$53="X")) -> 0 | AU9: =SUMPRODUCT(($B$7:$B$53=AU$5)*($K$6:$N$6=$AG9)*($K$7:$N$53="X")) -> 0 | AV9: =SUMPRODUCT(($B$7:$B$53=AV$5)*($K$6:$N$6=$AG9)*($K$7:$N$53="X")) -> 0 | AW9: =SUMPRODUCT(($B$7:$B$53=AW$5)*($K$6:$N$6=$AG9)*($K$7:$N$53="X")) -> 0 | AX9: =SUMPRODUCT(($B$7:$B$53=AX$5)*($K$6:$N$6=$AG9)*($K$7:$N$53="X")) -> 0 | AY9: =SUM(AT9:AX9) -> 0 | AZ9: =SUMPRODUCT(($B$7:$B$53=AZ$5)*($O$6:$R$6=$AG9)*($O$7:$R$53="X")) -> 0 | BA9: =SUMPRODUCT(($B$7:$B$53=BA$5)*($O$6:$R$6=$AG9)*($O$7:$R$53="X")) -> 0 | BB9: =SUMPRODUCT(($B$7:$B$53=BB$5)*($O$6:$R$6=$AG9)*($O$7:$R$53="X")) -> 0 | BC9: =SUMPRODUCT(($B$7:$B$53=BC$5)*($O$6:$R$6=$AG9)*($O$7:$R$53="X")) -> 0 | BD9: =SUMPRODUCT(($B$7:$B$53=BD$5)*($O$6:$R$6=$AG9)*($O$7:$R$53="X")) -> 0 | BE9: =SUM(AZ9:BD9) -> 0
AG10: Mauvais | AH10: =SUMPRODUCT(($C$6:$F$6=$AG10)*($B$7:$B$53=AH$5)*($C$7:$F$53="X")) -> 0 | AI10: =SUMPRODUCT(($C$6:$F$6=$AG10)*($B$7:$B$53=AI$5)*($C$7:$F$53="X")) -> 0 | AJ10: =SUMPRODUCT(($C$6:$F$6=$AG10)*($B$7:$B$53=AJ$5)*($C$7:$F$53="X")) -> 0 | AK10: =SUMPRODUCT(($C$6:$F$6=$AG10)*($B$7:$B$53=AK$5)*($C$7:$F$53="X")) -> 0 | AL10: =SUMPRODUCT(($C$6:$F$6=$AG10)*($B$7:$B$53=AL$5)*($C$7:$F$53="X")) -> 0 | AM10: =SUM(AH10:AL10) -> 0 | AN10: =SUMPRODUCT(($B$7:$B$53=AN$5)*($G$6:$J$6=$AG10)*($G$7:$J$53="X")) -> 0 | AO10: =SUMPRODUCT(($B$7:$B$53=AO$5)*($G$6:$J$6=$AG10)*($G$7:$J$53="X")) -> 0 | AP10: =SUMPRODUCT(($B$7:$B$53=AP$5)*($G$6:$J$6=$AG10)*($G$7:$J$53="X")) -> 0 | AQ10: =SUMPRODUCT(($B$7:$B$53=AQ$5)*($G$6:$J$6=$AG10)*($G$7:$J$53="X")) -> 0 | AR10: =SUMPRODUCT(($B$7:$B$53=AR$5)*($G$6:$J$6=$AG10)*($G$7:$J$53="X")) -> 0 | AS10: =SUM(AN10:AR10) -> 0 | AT10: =SUMPRODUCT(($B$7:$B$53=AT$5)*($K$6:$N$6=$AG10)*($K$7:$N$53="X")) -> 0 | AU10: =SUMPRODUCT(($B$7:$B$53=AU$5)*($K$6:$N$6=$AG10)*($K$7:$N$53="X")) -> 0 | AV10: =SUMPRODUCT(($B$7:$B$53=AV$5)*($K$6:$N$6=$AG10)*($K$7:$N$53="X")) -> 0 | AW10: =SUMPRODUCT(($B$7:$B$53=AW$5)*($K$6:$N$6=$AG10)*($K$7:$N$53="X")) -> 0 | AX10: =SUMPRODUCT(($B$7:$B$53=AX$5)*($K$6:$N$6=$AG10)*($K$7:$N$53="X")) -> 0 | AY10: =SUM(AT10:AX10) -> 0 | AZ10: =SUMPRODUCT(($B$7:$B$53=AZ$5)*($O$6:$R$6=$AG10)*($O$7:$R$53="X")) -> 0 | BA10: =SUMPRODUCT(($B$7:$B$53=BA$5)*($O$6:$R$6=$AG10)*($O$7:$R$53="X")) -> 0 | BB10: =SUMPRODUCT(($B$7:$B$53=BB$5)*($O$6:$R$6=$AG10)*($O$7:$R$53="X")) -> 0 | BC10: =SUMPRODUCT(($B$7:$B$53=BC$5)*($O$6:$R$6=$AG10)*($O$7:$R$53="X")) -> 0 | BD10: =SUMPRODUCT(($B$7:$B$53=BD$5)*($O$6:$R$6=$AG10)*($O$7:$R$53="X")) -> 0 | BE10: =SUM(AZ10:BD10) -> 0
AG11: TOTAL | AH11: =SUM(AH7:AH10) -> 0 | AI11: =SUM(AI7:AI10) -> 0 | AJ11: =SUM(AJ7:AJ10) -> 0 | AK11: =SUM(AK7:AK10) -> 0 | AL11: =SUM(AL7:AL10) -> 0 | AN11: =SUM(AN7:AN10) -> 0 | AO11: =SUM(AO7:AO10) -> 0 | AP11: =SUM(AP7:AP10) -> 0 | AQ11: =SUM(AQ7:AQ10) -> 0 | AR11: =SUM(AR7:AR10) -> 0 | AT11: =SUM(AT7:AT10) -> 0 | AU11: =SUM(AU7:AU10) -> 0 | AV11: =SUM(AV7:AV10) -> 0 | AW11: =SUM(AW7:AW10) -> 0 | AX11: =SUM(AX7:AX10) -> 0 | AZ11: =SUM(AZ7:AZ10) -> 0 | BA11: =SUM(BA7:BA10) -> 0 | BB11: =SUM(BB7:BB10) -> 0 | BC11: =SUM(BC7:BC10) -> 0 | BD11: =SUM(BD7:BD10) -> 0
B55: TOTAL EVALUATION RECEPTION | C55: =COUNTIF(C7:C53,"X") -> 0 | D55: =COUNTIF(D7:D53,"X") -> 0 | E55: =COUNTIF(E7:E53,"X") -> 0 | F55: =COUNTIF(F7:F53,"X") -> 0 | G55: =COUNTIF(G7:G53,"X") -> 0 | H55: =COUNTIF(H7:H53,"X") -> 0 | I55: =COUNTIF(I7:I53,"X") -> 0 | J55: =COUNTIF(J7:J53,"X") -> 0 | ... R55: =COUNTIF(R7:R53,"X") -> 0 | T55: TOTAL PARRAINAGE TSP | U55: =COUNTIF(U7:U53,"X") -> 0 | V55: =COUNTIF(V7:V53,"X") -> 0 | W55: =COUNTIF(W7:W53,"X") -> 0 | X55: =COUNTIF(X7:X53,"X") -> 0 | Y55: =COUNTIF(Y7:Y53,"X") -> 0 | Z55: =COUNTIF(Z7:Z53,"X") -> 0 | AA55: =COUNTIF(AA7:AA53,"X") -> 0 | AB55: =COUNTIF(AB7:AB53,"X") -> 0 | ... AD55: =COUNTIF(AD7:AD53,"X") -> 0

Sheet 2019
A3: NOM/PRENOM CLIENT | B3: TYPE DE TRAVAUX | C3: EVALUATION RECEPTION CHANTIER | U3: PARRAINAGE TOUT SE POSE
C5: PONCTUALITE COURTOISIE | G5: QUALITE DU CHANTIER | K5: PROPRETE NETTOYAGE | O5: GLOBALEMENT | U5: Je ne recommande pas TSP | Y5: Je ne me positionne pas | AB5: Je recommande TSP | AH5: TOUT SE POSE | AI5: GETIN | AJ5: RP RENOV | AK5: LA COQUETTE PEINTURE | AL5: AUTRE | AM5: TOTAL | AN5: TOUT SE POSE | AO5: GETIN | AP5: RP RENOV | AQ5: LA COQUETTE PEINTURE | AR5: AUTRE | AS5: TOTAL | AT5: TOUT SE POSE | AU5: GETIN | AV5: RP RENOV | AW5: LA COQUETTE PEINTURE | AX5: AUTRE | AY5: TOTAL | AZ5: TOUT SE POSE | BA5: GETIN | BB5: RP RENOV | BC5: LA COQUETTE PEINTURE | BD5: AUTRE | BE5: TOTAL
C6: Excellent | D6: Bon | E6: Moyen | F6: Mauvais | G6: Excellent | H6: Bon | I6: Moyen | J6: Mauvais | K6: Excellent | L6: Bon | M6: Moyen | N6: Mauvais | O6: Excellent | P6: Bon | Q6: Moyen | R6: Mauvais | U6: 1 | V6: 2 | W6: 3 | X6: 4 | Y6: 5 | Z6: 6 | AA6: 7 | AB6: 8 | AC6: 9 | AD6: 10 | AH6: PONCTUALITE/COURTOISIE | AN6: QUALITE DU CHANTIER | AT6: PROPRETE DU CHANTIER | AZ6: GLOBALEMENT LE CHANTIER
A7: GOGUEY Josiane | B7: TOUT SE POSE | D7: X | H7: X | L7: X | P7: X | AB7: X | AG7: Excellent | AH7: =SUMPRODUCT(($B$7:$B$53=AH$5)*($C$6:$F$6=$AG7)*($C$7:$F$53="X")) -> 10 | AI7: =SUMPRODUCT(($C$6:$F$6=$AG7)*($B$7:$B$53=AI$5)*($C$7:$F$53="X")) -> 1 | AJ7: =SUMPRODUCT(($C$6:$F$6=$AG7)*($B$7:$B$53=AJ$5)*($C$7:$F$53="X")) -> 5 | AK7: =SUMPRODUCT(($C$6:$F$6=$AG7)*($B$7:$B$53=AK$5)*($C$7:$F$53="X")) -> 2 | AL7: =SUMPRODUCT(($C$6:$F$6=$AG7)*($B$7:$B$53=AL$5)*($C$7:$F$53="X")) -> 0 | AM7: =SUM(AH7:AL7) -> 18 | AN7: =SUMPRODUCT(($B$7:$B$53=AN$5)*($G$6:$J$6=$AG7)*($G$7:$J$53="X")) -> 11 | AO7: =SUMPRODUCT(($B$7:$B$53=AO$5)*($G$6:$J$6=$AG7)*($G$7:$J$53="X")) -> 1 | AP7: =SUMPRODUCT(($B$7:$B$53=AP$5)*($G$6:$J$6=$AG7)*($G$7:$J$53="X")) -> 4 | AQ7: =SUMPRODUCT(($B$7:$B$53=AQ$5)*($G$6:$J$6=$AG7)*($G$7:$J$53="X")) -> 2 | AR7: =SUMPRODUCT(($B$7:$B$53=AR$5)*($G$6:$J$6=$AG7)*($G$7:$J$53="X")) -> 0 | AS7: =SUM(AN7:AR7) -> 18 | AT7: =SUMPRODUCT(($B$7:$B$53=AT$5)*($K$6:$N$6=$AG7)*($K$7:$N$53="X")) -> 10 | AU7: =SUMPRODUCT(($B$7:$B$53=AU$5)*($K$6:$N$6=$AG7)*($K$7:$N$53="X")) -> 1 | AV7: =SUMPRODUCT(($B$7:$B$53=AV$5)*($K$6:$N$6=$AG7)*($K$7:$N$53="X")) -> 4 | AW7: =SUMPRODUCT(($B$7:$B$53=AW$5)*($K$6:$N$6=$AG7)*($K$7:$N$53="X")) -> 2 | AX7: =SUMPRODUCT(($B$7:$B$53=AX$5)*($K$6:$N$6=$AG7)*($K$7:$N$53="X")) -> 0 | AY7: =SUM(AT7:AX7) -> 17 | AZ7: =SUMPRODUCT(($B$7:$B$53=AZ$5)*($O$6:$R$6=$AG7)*($O$7:$R$53="X")) -> 10 | BA7: =SUMPRODUCT(($B$7:$B$53=BA$5)*($O$6:$R$6=$AG7)*($O$7:$R$53="X")) -> 1 | BB7: =SUMPRODUCT(($B$7:$B$53=BB$5)*($O$6:$R$6=$AG7)*($O$7:$R$53="X")) -> 4 | BC7: =SUMPRODUCT(($B$7:$B$53=BC$5)*($O$6:$R$6=$AG7)*($O$7:$R$53="X")) -> 2 | BD7: =SUMPRODUCT(($B$7:$B$53=BD$5)*($O$6:$R$6=$AG7)*($O$7:$R$53="X")) -> 0 | BE7: =SUM(AZ7:BD7) -> 17
A8: ROCHE Pascal | B8: TOUT SE POSE | C8: X | G8: X | K8: X | O8: X | AD8: X | AG8: Bon | AH8: =SUMPRODUCT(($C$6:$F$6=$AG8)*($B$7:$B$53=AH$5)*($C$7:$F$53="X")) -> 3 | AI8: =SUMPRODUCT(($C$6:$F$6=$AG8)*($B$7:$B$53=AI$5)*($C$7:$F$53="X")) -> 0 | AJ8: =SUMPRODUCT(($C$6:$F$6=$AG8)*($B$7:$B$53=AJ$5)*($C$7:$F$53="X")) -> 0 | AK8: =SUMPRODUCT(($C$6:$F$6=$AG8)*($B$7:$B$53=AK$5)*($C$7:$F$53="X")) -> 0 | AL8: =SUMPRODUCT(($C$6:$F$6=$AG8)*($B$7:$B$53=AL$5)*($C$7:$F$53="X")) -> 0 | AM8: =SUM(AH8:AL8) -> 3 | AN8: =SUMPRODUCT(($B$7:$B$53=AN$5)*($G$6:$J$6=$AG8)*($G$7:$J$53="X")) -> 4 | AO8: =SUMPRODUCT(($B$7:$B$53=AO$5)*($G$6:$J$6=$AG8)*($G$7:$J$53="X")) -> 0 | AP8: =SUMPRODUCT(($B$7:$B$53=AP$5)*($G$6:$J$6=$AG8)*($G$7:$J$53="X")) -> 1 | AQ8: =SUMPRODUCT(($B$7:$B$53=AQ$5)*($G$6:$J$6=$AG8)*($G$7:$J$53="X")) -> 0 | AR8: =SUMPRODUCT(($B$7:$B$53=AR$5)*($G$6:$J$6=$AG8)*($G$7:$J$53="X")) -> 0 | AS8: =SUM(AN8:AR8) -> 5 | AT8: =SUMPRODUCT(($B$7:$B$53=AT$5)*($K$6:$N$6=$AG8)*($K$7:$N$53="X")) -> 5 | AU8: =SUMPRODUCT(($B$7:$B$53=AU$5)*($K$6:$N$6=$AG8)*($K$7:$N$53="X")) -> 0 | AV8: =SUMPRODUCT(($B$7:$B$53=AV$5)*($K$6:$N$6=$AG8)*($K$7:$N$53="X")) -> 1 | AW8: =SUMPRODUCT(($B$7:$B$53=AW$5)*($K$6:$N$6=$AG8)*($K$7:$N$53="X")) -> 0 | AX8: =SUMPRODUCT(($B$7:$B$53=AX$5)*($K$6:$N$6=$AG8)*($K$7:$N$53="X")) -> 0 | AY8: =SUM(AT8:AX8) -> 6 | AZ8: =SUMPRODUCT(($B$7:$B$53=AZ$5)*($O$6:$R$6=$AG8)*($O$7:$R$53="X")) -> 5 | BA8: =SUMPRODUCT(($B$7:$B$53=BA$5)*($O$6:$R$6=$AG8)*($O$7:$R$53="X")) -> 0 | BB8: =SUMPRODUCT(($B$7:$B$53=BB$5)*($O$6:$R$6=$AG8)*($O$7:$R$53="X")) -> 0 | BC8: =SUMPRODUCT(($B$7:$B$53=BC$5)*($O$6:$R$6=$AG8)*($O$7:$R$53="X")) -> 0 | BD8: =SUMPRODUCT(($B$7:$B$53=BD$5)*($O$6:$R$6=$AG8)*($O$7:$R$53="X")) -> 0 | BE8: =SUM(AZ8:BD8) -> 5
A9: CHABLE Vincent | B9: TOUT SE POSE | E9: X | H9: X | L9: X | P9: X | AB9: X | AG9: Moyen | AH9: =SUMPRODUCT(($C$6:$F$6=$AG9)*($B$7:$B$53=AH$5)*($C$7:$F$53="X")) -> 1 | AI9: =SUMPRODUCT(($C$6:$F$6=$AG9)*($B$7:$B$53=AI$5)*($C$7:$F$53="X")) -> 0 | AJ9: =SUMPRODUCT(($C$6:$F$6=$AG9)*($B$7:$B$53=AJ$5)*($C$7:$F$53="X")) -> 0 | AK9: =SUMPRODUCT(($C$6:$F$6=$AG9)*($B$7:$B$53=AK$5)*($C$7:$F$53="X")) -> 0 | AL9: =SUMPRODUCT(($C$6:$F$6=$AG9)*($B$7:$B$53=AL$5)*($C$7:$F$53="X")) -> 0 | AM9: =SUM(AH9:AL9) -> 1 | AN9: =SUMPRODUCT(($B$7:$B$53=AN$5)*($G$6:$J$6=$AG9)*($G$7:$J$53="X")) -> 0 | AO9: =SUMPRODUCT(($B$7:$B$53=AO$5)*($G$6:$J$6=$AG9)*($G$7:$J$53="X")) -> 0 | AP9: =SUMPRODUCT(($B$7:$B$53=AP$5)*($G$6:$J$6=$AG9)*($G$7:$J$53="X")) -> 0 | AQ9: =SUMPRODUCT(($B$7:$B$53=AQ$5)*($G$6:$J$6=$AG9)*($G$7:$J$53="X")) -> 0 | AR9: =SUMPRODUCT(($B$7:$B$53=AR$5)*($G$6:$J$6=$AG9)*($G$7:$J$53="X")) -> 0 | AS9: =SUM(AN9:AR9) -> 0 | AT9: =SUMPRODUCT(($B$7:$B$53=AT$5)*($K$6:$N$6=$AG9)*($K$7:$N$53="X")) -> 0 | AU9: =SUMPRODUCT(($B$7:$B$53=AU$5)*($K$6:$N$6=$AG9)*($K$7:$N$53="X")) -> 0 | AV9: =SUMPRODUCT(($B$7:$B$53=AV$5)*($K$6:$N$6=$AG9)*($K$7:$N$53="X")) -> 0 | AW9: =SUMPRODUCT(($B$7:$B$53=AW$5)*($K$6:$N$6=$AG9)*($K$7:$N$53="X")) -> 0 | AX9: =SUMPRODUCT(($B$7:$B$53=AX$5)*($K$6:$N$6=$AG9)*($K$7:$N$53="X")) -> 0 | AY9: =SUM(AT9:AX9) -> 0 | AZ9: =SUMPRODUCT(($B$7:$B$53=AZ$5)*($O$6:$R$6=$AG9)*($O$7:$R$53="X")) -> 0 | BA9: =SUMPRODUCT(($B$7:$B$53=BA$5)*($O$6:$R$6=$AG9)*($O$7:$R$53="X")) -> 0 | BB9: =SUMPRODUCT(($B$7:$B$53=BB$5)*($O$6:$R$6=$AG9)*($O$7:$R$53="X")) -> 1 | BC9: =SUMPRODUCT(($B$7:$B$53=BC$5)*($O$6:$R$6=$AG9)*($O$7:$R$53="X")) -> 0 | BD9: =SUMPRODUCT(($B$7:$B$53=BD$5)*($O$6:$R$6=$AG9)*($O$7:$R$53="X")) -> 0 | BE9: =SUM(AZ9:BD9) -> 1
A10: SUPIOT Dominique | B10: TOUT SE POSE | G10: X | L10: X | P10: X | AG10: Mauvais | AH10: =SUMPRODUCT(($C$6:$F$6=$AG10)*($B$7:$B$53=AH$5)*($C$7:$F$53="X")) -> 0 | AI10: =SUMPRODUCT(($C$6:$F$6=$AG10)*($B$7:$B$53=AI$5)*($C$7:$F$53="X")) -> 0 | AJ10: =SUMPRODUCT(($C$6:$F$6=$AG10)*($B$7:$B$53=AJ$5)*($C$7:$F$53="X")) -> 1 | AK10: =SUMPRODUCT(($C$6:$F$6=$AG10)*($B$7:$B$53=AK$5)*($C$7:$F$53="X")) -> 0 | AL10: =SUMPRODUCT(($C$6:$F$6=$AG10)*($B$7:$B$53=AL$5)*($C$7:$F$53="X")) -> 0 | AM10: =SUM(AH10:AL10) -> 1 | AN10: =SUMPRODUCT(($B$7:$B$53=AN$5)*($G$6:$J$6=$AG10)*($G$7:$J$53="X")) -> 0 | AO10: =SUMPRODUCT(($B$7:$B$53=AO$5)*($G$6:$J$6=$AG10)*($G$7:$J$53="X")) -> 0 | AP10: =SUMPRODUCT(($B$7:$B$53=AP$5)*($G$6:$J$6=$AG10)*($G$7:$J$53="X")) -> 0 | AQ10: =SUMPRODUCT(($B$7:$B$53=AQ$5)*($G$6:$J$6=$AG10)*($G$7:$J$53="X")) -> 0 | AR10: =SUMPRODUCT(($B$7:$B$53=AR$5)*($G$6:$J$6=$AG10)*($G$7:$J$53="X")) -> 0 | AS10: =SUM(AN10:AR10) -> 0 | AT10: =SUMPRODUCT(($B$7:$B$53=AT$5)*($K$6:$N$6=$AG10)*($K$7:$N$53="X")) -> 0 | AU10: =SUMPRODUCT(($B$7:$B$53=AU$5)*($K$6:$N$6=$AG10)*($K$7:$N$53="X")) -> 0 | AV10: =SUMPRODUCT(($B$7:$B$53=AV$5)*($K$6:$N$6=$AG10)*($K$7:$N$53="X")) -> 0 | AW10: =SUMPRODUCT(($B$7:$B$53=AW$5)*($K$6:$N$6=$AG10)*($K$7:$N$53="X")) -> 0 | AX10: =SUMPRODUCT(($B$7:$B$53=AX$5)*($K$6:$N$6=$AG10)*($K$7:$N$53="X")) -> 0 | AY10: =SUM(AT10:AX10) -> 0 | AZ10: =SUMPRODUCT(($B$7:$B$53=AZ$5)*($O$6:$R$6=$AG10)*($O$7:$R$53="X")) -> 0 | BA10: =SUMPRODUCT(($B$7:$B$53=BA$5)*($O$6:$R$6=$AG10)*($O$7:$R$53="X")) -> 0 | BB10: =SUMPRODUCT(($B$7:$B$53=BB$5)*($O$6:$R$6=$AG10)*($O$7:$R$53="X")) -> 0 | BC10: =SUMPRODUCT(($B$7:$B$53=BC$5)*($O$6:$R$6=$AG10)*($O$7:$R$53="X")) -> 0 | BD10: =SUMPRODUCT(($B$7:$B$53=BD$5)*($O$6:$R$6=$AG10)*($O$7:$R$53="X")) -> 0 | BE10: =SUM(AZ10:BD10) -> 0
A11: ARRIGNON Kevin | B11: TOUT SE POSE | C11: X | G11: X | K11: X | O11: X | AD11: X | AG11: TOTAL | AH11: =SUM(AH7:AH10) -> 14 | AI11: =SUM(AI7:AI10) -> 1 | AJ11: =SUM(AJ7:AJ10) -> 6 | AK11: =SUM(AK7:AK10) -> 2 | AL11: =SUM(AL7:AL10) -> 0 | AN11: =SUM(AN7:AN10) -> 15 | AO11: =SUM(AO7:AO10) -> 1 | AP11: =SUM(AP7:AP10) -> 5 | AQ11: =SUM(AQ7:AQ10) -> 2 | AR11: =SUM(AR7:AR10) -> 0 | AT11: =SUM(AT7:AT10) -> 15 | AU11: =SUM(AU7:AU10) -> 1 | AV11: =SUM(AV7:AV10) -> 5 | AW11: =SUM(AW7:AW10) -> 2 | AX11: =SUM(AX7:AX10) -> 0 | AZ11: =SUM(AZ7:AZ10) -> 15 | BA11: =SUM(BA7:BA10) -> 1 | BB11: =SUM(BB7:BB10) -> 5 | BC11: =SUM(BC7:BC10) -> 2 | BD11: =SUM(BD7:BD10) -> 0
A12: ARRIGNON Kevin | B12: RP RENOV | C12: X | G12: X | K12: X | O12: X | AD12: X
A13: KER PRO - Mr ROUX | B13: TOUT SE POSE | C13: X | G13: X | K13: X | O13: X | AC13: X
A14: KER PRO - Mr ROUX | B14: RP RENOV | C14: X | G14: X | K14: X | O14: X | AC14: X
A15: PLOTEAU Gilbert et Annie | B15: RP RENOV | C15: X | G15: X | K15: X | O15: X | AD15: X
A16: COZANNET Laurent | B16: TOUT SE POSE | C16: X | G16: X | K16: X | O16: X | AD16: X
A17: BOIDRON Martine | B17: TOUT SE POSE | C17: X | H17: X | L17: X | P17: X | AC17: X
A18: PRIM Catherine et Jean-Luc | B18: TOUT SE POSE | C18: X | G18: X | K18: X | O18: X | AD18: X
A19: PETTON Fabienne | B19: TOUT SE POSE | D19: X | H19: X | L19: X | P19: X | AD19: X
A20: BERNARDIN Alain | B20: TOUT SE POSE | C20: X | G20: X | K20: X | O20: X | AD20: X
A21: BERNARDIN Alain | B21: LA COQUETTE PEINTURE | C21: X | G21: X | K21: X | O21: X | AD21: X
A22: GUILMOTO Maëva | B22: TOUT SE POSE | C22: X | G22: X | K22: X | O22: X | AD22: X
A23: GUILMOTO Maëva | B23: GETIN | C23: X | G23: X | K23: X | O23: X | AD23: X
A24: GRINSELL Marc | B24: RP RENOV | C24: X | G24: X | K24: X | O24: X | AD24: X
A25: GRINSELL Marc | B25: LA COQUETTE PEINTURE | C25: X | G25: X | K25: X | O25: X | AD25: X
A26: KLEE Karine | B26: TOUT SE POSE | D26: X | G26: X | K26: X | O26: X | AD26: X
A27: BOUTTIER Patrice | B27: RP RENOV | C27: X | F27: X | H27: X | L27: X | Q27: X | Z27: X
A28: MARTIN Nelly | B28: TOUT SE POSE | C28: X | G28: X | K28: X | O28: X | AD28: X
A29: TRUCHARD Elise | B29: TOUT SE POSE | C29: X | G29: X | K29: X | O29: X | AD29: X
B55: TOTAL EVALUATION RECEPTION | C55: =COUNTIF(C7:C53,"X") -> 18 | D55: =COUNTIF(D7:D53,"X") -> 3 | E55: =COUNTIF(E7:E53,"X") -> 1 | F55: =COUNTIF(F7:F53,"X") -> 1 | G55: =COUNTIF(G7:G53,"X") -> 18 | H55: =COUNTIF(H7:H53,"X") -> 5 | I55: =COUNTIF(I7:I53,"X") -> 0 | J55: =COUNTIF(J7:J53,"X") -> 0 | ... R55: =COUNTIF(R7:R53,"X") -> 0 | T55: TOTAL PARRAINAGE TSP | U55: =COUNTIF(U7:U53,"X") -> 0 | V55: =COUNTIF(V7:V53,"X") -> 0 | W55: =COUNTIF(W7:W53,"X") -> 0 | X55: =COUNTIF(X7:X53,"X") -> 0 | Y55: =COUNTIF(Y7:Y53,"X") -> 0 | Z55: =COUNTIF(Z7:Z53,"X") -> 1 | AA55: =COUNTIF(AA7:AA53,"X") -> 0 | AB55: =COUNTIF(AB7:AB53,"X") -> 2 | ... AD55: =COUNTIF(AD7:AD53,"X") -> 16

Sheet pour Graph
B1: ='2019'!AH6 -> PONCTUALITE/COURTOISIE | G1: ='2019'!AN6 -> QUALITE DU CHANTIER | L1: ='2019'!AT6 -> PROPRETE DU CHANTIER | Q1: ='2019'!AZ6 -> GLOBALEMENT LE CHANTIER
B2: ='2019'!AH5 -> TOUT SE POSE | C2: ='2019'!AI5 -> GETIN | D2: ='2019'!AJ5 -> RP RENOV | E2: ='2019'!AK5 -> LA COQUETTE PEINTURE | F2: ='2019'!AL5 -> AUTRE | G2: ='2019'!AN5 -> TOUT SE POSE | H2: ='2019'!AO5 -> GETIN | I2: ='2019'!AP5 -> RP RENOV | J2: ='2019'!AQ5 -> LA COQUETTE PEINTURE | K2: ='2019'!AR5 -> AUTRE | L2: ='2019'!AT5 -> TOUT SE POSE | M2: ='2019'!AU5 -> GETIN | N2: ='2019'!AV5 -> RP RENOV | O2: ='2019'!AW5 -> LA COQUETTE PEINTURE | P2: ='2019'!AX5 -> AUTRE | Q2: ='2019'!AZ5 -> TOUT SE POSE | R2: ='2019'!BA5 -> GETIN | S2: ='2019'!BB5 -> RP RENOV | T2: ='2019'!BC5 -> LA COQUETTE PEINTURE | U2: ='2019'!BD5 -> AUTRE
A3: Excellent | B3: ='2019'!AH7 -> 10 | C3: ='2019'!AI7 -> 1 | D3: ='2019'!AJ7 -> 5 | E3: ='2019'!AK7 -> 2 | F3: ='2019'!AL7 -> 0
A4: Bon | B4: ='2019'!AH8 -> 3 | C4: ='2019'!AI8 -> 0 | D4: ='2019'!AJ8 -> 0 | E4: ='2019'!AK8 -> 0 | F4: ='2019'!AL8 -> 0
A5: Moyen | B5: ='2019'!AH9 -> 1 | C5: ='2019'!AI9 -> 0 | D5: ='2019'!AJ9 -> 0 | E5: ='2019'!AK9 -> 0 | F5: ='2019'!AL9 -> 0
A6: Mauvais | B6: ='2019'!AH10 -> 0 | C6: ='2019'!AI10 -> 0 | D6: ='2019'!AJ10 -> 1 | E6: ='2019'!AK10 -> 0 | F6: ='2019'!AL10 -> 0
A7: Excellent | G7: ='2019'!AN7 -> 11 | H7: ='2019'!AO7 -> 1 | I7: ='2019'!AP7 -> 4 | J7: ='2019'!AQ7 -> 2 | K7: ='2019'!AR7 -> 0
A8: Bon | G8: ='2019'!AN8 -> 4 | H8: ='2019'!AO8 -> 0 | I8: ='2019'!AP8 -> 1 | J8: ='2019'!AQ8 -> 0 | K8: ='2019'!AR8 -> 0
A9: Moyen | G9: ='2019'!AN9 -> 0 | H9: ='2019'!AO9 -> 0 | I9: ='2019'!AP9 -> 0 | J9: ='2019'!AQ9 -> 0 | K9: ='2019'!AR9 -> 0
A10: Mauvais | G10: ='2019'!AN10 -> 0 | H10: ='2019'!AO10 -> 0 | I10: ='2019'!AP10 -> 0 | J10: ='2019'!AQ10 -> 0 | K10: ='2019'!AR10 -> 0
A11: Excellent | L11: ='2019'!AT7 -> 10 | M11: ='2019'!AU7 -> 1 | N11: ='2019'!AV7 -> 4 | O11: ='2019'!AW7 -> 2 | P11: ='2019'!AX7 -> 0
A12: Bon | L12: ='2019'!AT8 -> 5 | M12: ='2019'!AU8 -> 0 | N12: ='2019'!AV8 -> 1 | O12: ='2019'!AW8 -> 0 | P12: ='2019'!AX8 -> 0
A13: Moyen | L13: ='2019'!AT9 -> 0 | M13: ='2019'!AU9 -> 0 | N13: ='2019'!AV9 -> 0 | O13: ='2019'!AW9 -> 0 | P13: ='2019'!AX9 -> 0
A14: Mauvais | L14: ='2019'!AT10 -> 0 | M14: ='2019'!AU10 -> 0 | N14: ='2019'!AV10 -> 0 | O14: ='2019'!AW10 -> 0 | P14: ='2019'!AX10 -> 0
A15: Excellent | Q15: ='2019'!AZ7 -> 10 | R15: ='2019'!BA7 -> 1 | S15: ='2019'!BB7 -> 4 | T15: ='2019'!BC7 -> 2 | U15: ='2019'!BD7 -> 0
A16: Bon | Q16: ='2019'!AZ8 -> 5 | R16: ='2019'!BA8 -> 0 | S16: ='2019'!BB8 -> 0 | T16: ='2019'!BC8 -> 0 | U16: ='2019'!BD8 -> 0
A17: Moyen | Q17: ='2019'!AZ9 -> 0 | R17: ='2019'!BA9 -> 0 | S17: ='2019'!BB9 -> 1 | T17: ='2019'!BC9 -> 0 | U17: ='2019'!BD9 -> 0
A18: Mauvais | Q18: ='2019'!AZ10 -> 0 | R18: ='2019'!BA10 -> 0 | S18: ='2019'!BB10 -> 0 | T18: ='2019'!BC10 -> 0 | U18: ='2019'!BD10 -> 0
