Workbook

Sheet Feuil1
B2: olivier | C2: commun | D2: laura
A3: LUNDI | B3: =IF(A4<>"",IFERROR(VLOOKUP(A4,Feuil3!$A$2:$D$5127,3,FALSE),""),"") | C3: =IF(A4<>"",IFERROR(VLOOKUP(A4,Feuil3!$A$2:$D$5127,2,FALSE),""),"") | D3: =IF(A4<>"",IFERROR(VLOOKUP(A4,Feuil3!$A$2:$D$5127,4,FALSE),""),"")
A4: 43675 | B4: =IF(A5<>"",IFERROR(VLOOKUP(A5,Feuil3!$A$2:$D$5127,3,FALSE),""),"") | C4: =IF(A5<>"",IFERROR(VLOOKUP(A5,Feuil3!$A$2:$D$5127,2,FALSE),""),"") | D4: =IF(A5<>"",IFERROR(VLOOKUP(A5,Feuil3!$A$2:$D$5127,4,FALSE),""),"")
B5: =IF(A6<>"",IFERROR(VLOOKUP(A6,Feuil3!$A$2:$D$5127,3,FALSE),""),"") | C5: =IF(A6<>"",IFERROR(VLOOKUP(A6,Feuil3!$A$2:$D$5127,2,FALSE),""),"") | D5: =IF(A6<>"",IFERROR(VLOOKUP(A6,Feuil3!$A$2:$D$5127,4,FALSE),""),"")
B6: =IF(A7<>"",IFERROR(VLOOKUP(A7,Feuil3!$A$2:$D$5127,3,FALSE),""),"") | C6: =IF(A7<>"",IFERROR(VLOOKUP(A7,Feuil3!$A$2:$D$5127,2,FALSE),""),"") | D6: =IF(A7<>"",IFERROR(VLOOKUP(A7,Feuil3!$A$2:$D$5127,4,FALSE),""),"")
B7: =IF(A8<>"",IFERROR(VLOOKUP(A8,Feuil3!$A$2:$D$5127,3,FALSE),""),"") | C7: =IF(A8<>"",IFERROR(VLOOKUP(A8,Feuil3!$A$2:$D$5127,2,FALSE),""),"") | D7: =IF(A8<>"",IFERROR(VLOOKUP(A8,Feuil3!$A$2:$D$5127,4,FALSE),""),"")
B8: =IF(A9<>"",IFERROR(VLOOKUP(A9,Feuil3!$A$2:$D$5127,3,FALSE),""),"") | C8: =IF(A9<>"",IFERROR(VLOOKUP(A9,Feuil3!$A$2:$D$5127,2,FALSE),""),"") | D8: =IF(A9<>"",IFERROR(VLOOKUP(A9,Feuil3!$A$2:$D$5127,4,FALSE),""),"")
A9: MARDI | B9: =IF(A10<>"",IFERROR(VLOOKUP(A10,Feuil3!$A$2:$D$5127,3,FALSE),""),"") | C9: =IF(A10<>"",IFERROR(VLOOKUP(A10,Feuil3!$A$2:$D$5127,2,FALSE),""),"") | D9: =IF(A10<>"",IFERROR(VLOOKUP(A10,Feuil3!$A$2:$D$5127,4,FALSE),""),"")
A10: 43676 | B10: =IF(A11<>"",IFERROR(VLOOKUP(A11,Feuil3!$A$2:$D$5127,3,FALSE),""),"") | C10: =IF(A11<>"",IFERROR(VLOOKUP(A11,Feuil3!$A$2:$D$5127,2,FALSE),""),"") | D10: =IF(A11<>"",IFERROR(VLOOKUP(A11,Feuil3!$A$2:$D$5127,4,FALSE),""),"")
B11: =IF(A12<>"",IFERROR(VLOOKUP(A12,Feuil3!$A$2:$D$5127,3,FALSE),""),"") | C11: =IF(A12<>"",IFERROR(VLOOKUP(A12,Feuil3!$A$2:$D$5127,2,FALSE),""),"") | D11: =IF(A12<>"",IFERROR(VLOOKUP(A12,Feuil3!$A$2:$D$5127,4,FALSE),""),"")
B12: =IF(A13<>"",IFERROR(VLOOKUP(A13,Feuil3!$A$2:$D$5127,3,FALSE),""),"") | C12: =IF(A13<>"",IFERROR(VLOOKUP(A13,Feuil3!$A$2:$D$5127,2,FALSE),""),"") | D12: =IF(A13<>"",IFERROR(VLOOKUP(A13,Feuil3!$A$2:$D$5127,4,FALSE),""),"")
B13: =IF(A14<>"",IFERROR(VLOOKUP(A14,Feuil3!$A$2:$D$5127,3,FALSE),""),"") | C13: =IF(A14<>"",IFERROR(VLOOKUP(A14,Feuil3!$A$2:$D$5127,2,FALSE),""),"") | D13: =IF(A14<>"",IFERROR(VLOOKUP(A14,Feuil3!$A$2:$D$5127,4,FALSE),""),"")
B14: =IF(A15<>"",IFERROR(VLOOKUP(A15,Feuil3!$A$2:$D$5127,3,FALSE),""),"") | C14: =IF(A15<>"",IFERROR(VLOOKUP(A15,Feuil3!$A$2:$D$5127,2,FALSE),""),"") | D14: =IF(A15<>"",IFERROR(VLOOKUP(A15,Feuil3!$A$2:$D$5127,4,FALSE),""),"")
A15: MERCREDI | B15: =IF(A16<>"",IFERROR(VLOOKUP(A16,Feuil3!$A$2:$D$5127,3,FALSE),""),"") -> 0 | C15: =IF(A16<>"",IFERROR(VLOOKUP(A16,Feuil3!$A$2:$D$5127,2,FALSE),""),"") -> tondre pelouse | D15: =IF(A16<>"",IFERROR(VLOOKUP(A16,Feuil3!$A$2:$D$5127,4,FALSE),""),"") -> 0
A16: 43677 | B16: =IF(A17<>"",IFERROR(VLOOKUP(A17,Feuil3!$A$2:$D$5127,3,FALSE),""),"") | C16: =IF(A17<>"",IFERROR(VLOOKUP(A17,Feuil3!$A$2:$D$5127,2,FALSE),""),"") | D16: =IF(A17<>"",IFERROR(VLOOKUP(A17,Feuil3!$A$2:$D$5127,4,FALSE),""),"")
B17: =IF(A18<>"",IFERROR(VLOOKUP(A18,Feuil3!$A$2:$D$5127,3,FALSE),""),"") | C17: =IF(A18<>"",IFERROR(VLOOKUP(A18,Feuil3!$A$2:$D$5127,2,FALSE),""),"") | D17: =IF(A18<>"",IFERROR(VLOOKUP(A18,Feuil3!$A$2:$D$5127,4,FALSE),""),"")
B18: =IF(A19<>"",IFERROR(VLOOKUP(A19,Feuil3!$A$2:$D$5127,3,FALSE),""),"") | C18: =IF(A19<>"",IFERROR(VLOOKUP(A19,Feuil3!$A$2:$D$5127,2,FALSE),""),"") | D18: =IF(A19<>"",IFERROR(VLOOKUP(A19,Feuil3!$A$2:$D$5127,4,FALSE),""),"")
B19: =IF(A20<>"",IFERROR(VLOOKUP(A20,Feuil3!$A$2:$D$5127,3,FALSE),""),"") | C19: =IF(A20<>"",IFERROR(VLOOKUP(A20,Feuil3!$A$2:$D$5127,2,FALSE),""),"") | D19: =IF(A20<>"",IFERROR(VLOOKUP(A20,Feuil3!$A$2:$D$5127,4,FALSE),""),"")
B20: =IF(A21<>"",IFERROR(VLOOKUP(A21,Feuil3!$A$2:$D$5127,3,FALSE),""),"") | C20: =IF(A21<>"",IFERROR(VLOOKUP(A21,Feuil3!$A$2:$D$5127,2,FALSE),""),"") | D20: =IF(A21<>"",IFERROR(VLOOKUP(A21,Feuil3!$A$2:$D$5127,4,FALSE),""),"")
A21: JEUDI | B21: =IF(A22<>"",IFERROR(VLOOKUP(A22,Feuil3!$A$2:$D$5127,3,FALSE),""),"") | C21: =IF(A22<>"",IFERROR(VLOOKUP(A22,Feuil3!$A$2:$D$5127,2,FALSE),""),"") | D21: =IF(A22<>"",IFERROR(VLOOKUP(A22,Feuil3!$A$2:$D$5127,4,FALSE),""),"")
A22: 43678 | B22: =IF(A23<>"",IFERROR(VLOOKUP(A23,Feuil3!$A$2:$D$5127,3,FALSE),""),"") | C22: =IF(A23<>"",IFERROR(VLOOKUP(A23,Feuil3!$A$2:$D$5127,2,FALSE),""),"") | D22: =IF(A23<>"",IFERROR(VLOOKUP(A23,Feuil3!$A$2:$D$5127,4,FALSE),""),"")
B23: =IF(A24<>"",IFERROR(VLOOKUP(A24,Feuil3!$A$2:$D$5127,3,FALSE),""),"") | C23: =IF(A24<>"",IFERROR(VLOOKUP(A24,Feuil3!$A$2:$D$5127,2,FALSE),""),"") | D23: =IF(A24<>"",IFERROR(VLOOKUP(A24,Feuil3!$A$2:$D$5127,4,FALSE),""),"")
B24: =IF(A25<>"",IFERROR(VLOOKUP(A25,Feuil3!$A$2:$D$5127,3,FALSE),""),"") | C24: =IF(A25<>"",IFERROR(VLOOKUP(A25,Feuil3!$A$2:$D$5127,2,FALSE),""),"") | D24: =IF(A25<>"",IFERROR(VLOOKUP(A25,Feuil3!$A$2:$D$5127,4,FALSE),""),"")
B25: =IF(A26<>"",IFERROR(VLOOKUP(A26,Feuil3!$A$2:$D$5127,3,FALSE),""),"") | C25: =IF(A26<>"",IFERROR(VLOOKUP(A26,Feuil3!$A$2:$D$5127,2,FALSE),""),"") | D25: =IF(A26<>"",IFERROR(VLOOKUP(A26,Feuil3!$A$2:$D$5127,4,FALSE),""),"")
B26: =IF(A27<>"",IFERROR(VLOOKUP(A27,Feuil3!$A$2:$D$5127,3,FALSE),""),"") | C26: =IF(A27<>"",IFERROR(VLOOKUP(A27,Feuil3!$A$2:$D$5127,2,FALSE),""),"") | D26: =IF(A27<>"",IFERROR(VLOOKUP(A27,Feuil3!$A$2:$D$5127,4,FALSE),""),"")
A27: VENDREDI | B27: =IF(A28<>"",IFERROR(VLOOKUP(A28,Feuil3!$A$2:$D$5127,3,FALSE),""),"") | C27: =IF(A28<>"",IFERROR(VLOOKUP(A28,Feuil3!$A$2:$D$5127,2,FALSE),""),"") | D27: =IF(A28<>"",IFERROR(VLOOKUP(A28,Feuil3!$A$2:$D$5127,4,FALSE),""),"")
A28: 43679 | B28: =IF(A29<>"",IFERROR(VLOOKUP(A29,Feuil3!$A$2:$D$5127,3,FALSE),""),"") | C28: =IF(A29<>"",IFERROR(VLOOKUP(A29,Feuil3!$A$2:$D$5127,2,FALSE),""),"") | D28: =IF(A29<>"",IFERROR(VLOOKUP(A29,Feuil3!$A$2:$D$5127,4,FALSE),""),"")
B29: =IF(A30<>"",IFERROR(VLOOKUP(A30,Feuil3!$A$2:$D$5127,3,FALSE),""),"") | C29: =IF(A30<>"",IFERROR(VLOOKUP(A30,Feuil3!$A$2:$D$5127,2,FALSE),""),"") | D29: =IF(A30<>"",IFERROR(VLOOKUP(A30,Feuil3!$A$2:$D$5127,4,FALSE),""),"")
B30: =IF(A31<>"",IFERROR(VLOOKUP(A31,Feuil3!$A$2:$D$5127,3,FALSE),""),"") | C30: =IF(A31<>"",IFERROR(VLOOKUP(A31,Feuil3!$A$2:$D$5127,2,FALSE),""),"") | D30: =IF(A31<>"",IFERROR(VLOOKUP(A31,Feuil3!$A$2:$D$5127,4,FALSE),""),"")
B31: =IF(A32<>"",IFERROR(VLOOKUP(A32,Feuil3!$A$2:$D$5127,3,FALSE),""),"") | C31: =IF(A32<>"",IFERROR(VLOOKUP(A32,Feuil3!$A$2:$D$5127,2,FALSE),""),"") | D31: =IF(A32<>"",IFERROR(VLOOKUP(A32,Feuil3!$A$2:$D$5127,4,FALSE),""),"")
B32: =IF(A33<>"",IFERROR(VLOOKUP(A33,Feuil3!$A$2:$D$5127,3,FALSE),""),"") | C32: =IF(A33<>"",IFERROR(VLOOKUP(A33,Feuil3!$A$2:$D$5127,2,FALSE),""),"") | D32: =IF(A33<>"",IFERROR(VLOOKUP(A33,Feuil3!$A$2:$D$5127,4,FALSE),""),"")

Sheet Feuil3
A1: date | B1: commun | C1: oliver | D1: laura
A2: 43610 | B2: ranger chambre
A3: 43677 | B3: tondre pelouse
A4: 43709 | B4: rentrée des classes
