Workbook

Sheet TCD
B3: Nombre de opération
B4: ref | C4: Séquencement | D4: opération | E4: Total
B5: ZONE 121/1 | C5: 1 | D5: Ouverture | E5: 1
B6: ZONE 121/2 | C6: 2 | D6: fermeture | E6: 1
B7: ZONE 121/3 | C7: 3 | D7: dépose | E7: 1
B8: ZONE 121/4 | C8: 4 | D8: aile | E8: 1
B9: ZONE 121/5 | C9: 5 | D9: Ouverture | E9: 1
B10: ZONE 121/6 | C10: 6 | D10: cockpit | E10: 1
B11: ZONE 121/7 | C11: 7 | D11: test | E11: 1
B12: ZONE 121/8 | C12: 8 | D12: pose | E12: 1
B13: ZONE 122/1 | C13: 1 | D13: fermeture | E13: 1
B14: ZONE 122/2 | C14: 2 | D14: test | E14: 1
B15: ZONE 122/3 | C15: 3 | D15: pose | E15: 1
B16: ZONE 122/4 | C16: 4 | D16: cockpit | E16: 1
... B55: ZONE 128/8 | C55: 8 | D55: dépose | E55: 1
B56: Total général | E56: 51

Sheet Test
A1: ref | B1: titre 1 | C1: titre2 | D1: titre 3 | E1: titre 4 | F1: titre 5 | G1: titre 6 | H1: ZONE | I1: titre 8 | J1: titre 9 | K1: titre 10 | L1: titre 11 | M1: Séquencement | N1: xx | O1: opération
A2: =CONCATENATE(H2,"/",M2) -> ZONE 121/5 | B2: *** | C2: INSPECTION COMPLÉMENTAIRE | D2: *** | E2: *** | F2: INSPECTION DE ZONE 121 | G2: *** | H2: ZONE 121 | J2: *** | K2: INSPECTION DE ZONE 121 | L2: *** | M2: 5 | N2: ** | O2: Ouverture
A3: =CONCATENATE(H3,"/",M3) -> ZONE 121/2 | B3: *** | C3: INSPECTION COMPLÉMENTAIRE | D3: *** | E3: *** | F3: INSPECTION DE ZONE 121 | G3: *** | H3: ZONE 121 | J3: *** | K3: INSPECTION DE ZONE 121 | L3: *** | M3: 2 | N3: ** | O3: fermeture
A4: =CONCATENATE(H4,"/",M4) -> ZONE 121/7 | B4: *** | C4: INSPECTION COMPLÉMENTAIRE | D4: *** | E4: *** | F4: INSPECTION DE ZONE 121 | G4: *** | H4: ZONE 121 | J4: *** | K4: INSPECTION DE ZONE 121 | L4: *** | M4: 7 | N4: ** | O4: test
A5: =CONCATENATE(H5,"/",M5) -> ZONE 121/3 | B5: *** | C5: INSPECTION COMPLÉMENTAIRE | D5: *** | E5: *** | F5: INSPECTION DE ZONE 121 | G5: *** | H5: ZONE 121 | J5: *** | K5: INSPECTION DE ZONE 121 | L5: *** | M5: 3 | N5: ** | O5: dépose
A6: =CONCATENATE(H6,"/",M6) -> ZONE 121/8 | B6: *** | C6: INSPECTION COMPLÉMENTAIRE | D6: *** | E6: *** | F6: INSPECTION DE ZONE 121 | G6: *** | H6: ZONE 121 | J6: *** | K6: INSPECTION DE ZONE 121 | L6: *** | M6: 8 | N6: ** | O6: pose
A7: =CONCATENATE(H7,"/",M7) -> ZONE 121/4 | B7: *** | C7: INSPECTION COMPLÉMENTAIRE | D7: *** | E7: *** | F7: INSPECTION DE ZONE 121 | G7: *** | H7: ZONE 121 | J7: *** | K7: INSPECTION DE ZONE 121 | L7: *** | M7: 4 | N7: ** | O7: aile
A8: =CONCATENATE(H8,"/",M8) -> ZONE 121/6 | B8: *** | C8: INSPECTION COMPLÉMENTAIRE | D8: *** | E8: *** | F8: INSPECTION DE ZONE 121 | G8: *** | H8: ZONE 121 | J8: *** | K8: INSPECTION DE ZONE 121 | L8: *** | M8: 6 | N8: ** | O8: cockpit
A9: =CONCATENATE(H9,"/",M9) -> ZONE 121/1 | B9: *** | C9: INSPECTION COMPLÉMENTAIRE | D9: *** | E9: *** | F9: INSPECTION DE ZONE 121 | G9: *** | H9: ZONE 121 | J9: *** | K9: INSPECTION DE ZONE 121 | L9: *** | M9: 1 | N9: ** | O9: Ouverture
A10: =CONCATENATE(H10,"/",M10) -> ZONE 122/5 | B10: *** | C10: INSPECTION COMPLÉMENTAIRE | D10: *** | E10: *** | F10: INSPECTION DE ZONE 122 | G10: *** | H10: ZONE 122 | J10: *** | K10: INSPECTION DE ZONE 122 | L10: *** | M10: 5 | N10: ** | O10: fermeture
A11: =CONCATENATE(H11,"/",M11) -> ZONE 122/2 | B11: *** | C11: INSPECTION COMPLÉMENTAIRE | D11: *** | E11: *** | F11: INSPECTION DE ZONE 122 | G11: *** | H11: ZONE 122 | J11: *** | K11: INSPECTION DE ZONE 122 | L11: *** | M11: 2 | N11: ** | O11: test
A12: =CONCATENATE(H12,"/",M12) -> ZONE 122/6 | B12: *** | C12: INSPECTION COMPLÉMENTAIRE | D12: *** | E12: *** | F12: INSPECTION DE ZONE 122 | G12: *** | H12: ZONE 122 | J12: *** | K12: INSPECTION DE ZONE 122 | L12: *** | M12: 6 | N12: ** | O12: dépose
A13: =CONCATENATE(H13,"/",M13) -> ZONE 122/3 | B13: *** | C13: INSPECTION COMPLÉMENTAIRE | D13: *** | E13: *** | F13: INSPECTION DE ZONE 122 | G13: *** | H13: ZONE 122 | J13: *** | K13: INSPECTION DE ZONE 122 | L13: *** | M13: 3 | N13: ** | O13: pose
... A328: =CONCATENATE(H328,"/",M328) -> ZONE 292/1 | B328: *** | C328: INSPECTION COMPLÉMENTAIRE | D328: *** | E328: *** | F328: INSPECTION DE ZONE 292 | G328: *** | H328: ZONE 292 | J328: *** | K328: INSPECTION DE ZONE 292 | L328: *** | M328: 1 | N328: ** | O328: pose
A329: =CONCATENATE(H329,"/",M329) -> ZONE 295/ | B329: *** | C329: INSPECTION COMPLÉMENTAIRE | D329: *** | E329: *** | F329: INSPECTION DE ZONE 295 | G329: *** | H329: ZONE 295 | J329: *** | K329: INSPECTION DE ZONE 295 | N329: ** | O329: aile
A330: =CONCATENATE(H330,"/",M330) -> ZONE 311/24 | B330: *** | C330: INSPECTION COMPLÉMENTAIRE | D330: *** | E330: *** | F330: INSPECTION DE ZONE 311 | G330: *** | H330: ZONE 311 | J330: *** | K330: INSPECTION DE ZONE 311 | L330: ZONE INSPECTION 311 at 4years | M330: 24 | N330: ** | O330: cockpit
A331: =CONCATENATE(H331,"/",M331) -> ZONE 311/25 | B331: *** | C331: INSPECTION COMPLÉMENTAIRE | D331: *** | E331: *** | F331: INSPECTION DE ZONE 311 | G331: *** | H331: ZONE 311 | J331: *** | K331: INSPECTION DE ZONE 311 | L331: ZONE INSPECTION 311 at 4years | M331: 25 | N331: ** | O331: Ouverture
A332: =CONCATENATE(H332,"/",M332) -> ZONE 311/26 | B332: *** | C332: INSPECTION COMPLÉMENTAIRE | D332: *** | E332: *** | F332: INSPECTION DE ZONE 311 | G332: *** | H332: ZONE 311 | J332: *** | K332: INSPECTION DE ZONE 311 | L332: ZONE INSPECTION 311 at 4years | M332: 26 | N332: ** | O332: fermeture
A333: =CONCATENATE(H333,"/",M333) -> ZONE 311/27 | B333: *** | C333: INSPECTION COMPLÉMENTAIRE | D333: *** | E333: *** | F333: INSPECTION DE ZONE 311 | G333: *** | H333: ZONE 311 | J333: *** | K333: INSPECTION DE ZONE 311 | L333: ZONE INSPECTION 311 at 4years | M333: 27 | N333: ** | O333: test
A334: =CONCATENATE(H334,"/",M334) -> ZONE 311/28 | B334: *** | C334: INSPECTION COMPLÉMENTAIRE | D334: *** | E334: *** | F334: INSPECTION DE ZONE 311 | G334: *** | H334: ZONE 311 | J334: *** | K334: INSPECTION DE ZONE 311 | L334: ZONE INSPECTION 311 at 4years | M334: 28 | N334: ** | O334: dépose
A335: =CONCATENATE(H335,"/",M335) -> ZONE 311/29 | B335: *** | C335: INSPECTION COMPLÉMENTAIRE | D335: *** | E335: *** | F335: INSPECTION DE ZONE 311 | G335: *** | H335: ZONE 311 | J335: *** | K335: INSPECTION DE ZONE 311 | L335: ZONE INSPECTION 311 at 4years | M335: 29 | N335: ** | O335: pose
A336: =CONCATENATE(H336,"/",M336) -> ZONE 311/30 | B336: *** | C336: INSPECTION COMPLÉMENTAIRE | D336: *** | E336: *** | F336: INSPECTION DE ZONE 311 | G336: *** | H336: ZONE 311 | J336: *** | K336: INSPECTION DE ZONE 311 | L336: ZONE INSPECTION 311 at 4years | M336: 30 | N336: ** | O336: aile
A337: =CONCATENATE(H337,"/",M337) -> ZONE 311/31 | B337: *** | C337: INSPECTION COMPLÉMENTAIRE | D337: *** | E337: *** | F337: INSPECTION DE ZONE 311 | G337: *** | H337: ZONE 311 | J337: *** | K337: INSPECTION DE ZONE 311 | L337: ZONE INSPECTION 311 at 4years | M337: 31 | N337: ** | O337: cockpit
A338: =CONCATENATE(H338,"/",M338) -> ZONE 311/32 | B338: *** | C338: INSPECTION COMPLÉMENTAIRE | D338: *** | E338: *** | F338: INSPECTION DE ZONE 311 | G338: *** | H338: ZONE 311 | J338: *** | K338: INSPECTION DE ZONE 311 | L338: ZONE INSPECTION 311 at 4years | M338: 32 | N338: ** | O338: Ouverture
A339: =CONCATENATE(H339,"/",M339) -> ZONE 311/2 | B339: *** | C339: INSPECTION COMPLÉMENTAIRE | D339: *** | E339: *** | F339: INSPECTION DE ZONE 311 | G339: *** | H339: ZONE 311 | J339: *** | K339: INSPECTION DE ZONE 311 | L339: ZONE INSPECTION 311 at 4years | M339: 2 | N339: ** | O339: fermeture
A340: =CONCATENATE(H340,"/",M340) -> ZONE 311/33 | B340: *** | C340: INSPECTION COMPLÉMENTAIRE | D340: *** | E340: *** | F340: INSPECTION DE ZONE 311 | G340: *** | H340: ZONE 311 | J340: *** | K340: INSPECTION DE ZONE 311 | L340: ZONE INSPECTION 311 at 4years | M340: 33 | N340: ** | O340: test
A341: =CONCATENATE(H341,"/",M341) -> ZONE 311/1 | B341: *** | C341: INSPECTION COMPLÉMENTAIRE | D341: *** | E341: *** | F341: INSPECTION DE ZONE 311 | G341: *** | H341: ZONE 311 | J341: *** | K341: INSPECTION DE ZONE 311 | L341: ZONE INSPECTION 311 at 4years | M341: 1 | N341: ** | O341: dépose
... A861: =CONCATENATE(H861,"/",M861) -> ZONE 521/6 | B861: *** | C861: INSPECTION COMPLÉMENTAIRE | D861: *** | E861: *** | F861: INSPECTION DE ZONE 521 | G861: *** | H861: ZONE 521 | J861: *** | K861: INSPECTION DE ZONE 521 | L861: ZONE INSPECTION 521 at 4years | M861: 6 | N861: ** | O861: aile

Sheet Feuil1
C2: Zone | E2: Déroulement des opérations
C3: Zone 124
B5: Séquencement | C5: Opération concerné | J5: DM/Fichier concerné
B6: 1 | C6: =IFERROR(VLOOKUP(CONCATENATE($C$3,"/",B6),Test!$A$2:$O$1089,15,FALSE),"") -> Ouverture
B7: 2 | C7: =IFERROR(VLOOKUP(CONCATENATE($C$3,"/",B7),Test!$A$2:$O$1089,15,FALSE),"") -> cockpit
B8: 3 | C8: =IFERROR(VLOOKUP(CONCATENATE($C$3,"/",B8),Test!$A$2:$O$1089,15,FALSE),"") -> fermeture
B9: 4 | C9: =IFERROR(VLOOKUP(CONCATENATE($C$3,"/",B9),Test!$A$2:$O$1089,15,FALSE),"") -> test
B10: 5 | C10: =IFERROR(VLOOKUP(CONCATENATE($C$3,"/",B10),Test!$A$2:$O$1089,15,FALSE),"") -> pose
B11: 6 | C11: =IFERROR(VLOOKUP(CONCATENATE($C$3,"/",B11),Test!$A$2:$O$1089,15,FALSE),"") -> Ouverture
B12: 7 | C12: =IFERROR(VLOOKUP(CONCATENATE($C$3,"/",B12),Test!$A$2:$O$1089,15,FALSE),"") -> aile
B13: 8 | C13: =IFERROR(VLOOKUP(CONCATENATE($C$3,"/",B13),Test!$A$2:$O$1089,15,FALSE),"") -> dépose
B14: 9 | C14: =IFERROR(VLOOKUP(CONCATENATE($C$3,"/",B14),Test!$A$2:$O$1089,15,FALSE),"") -> dépose
B15: 10 | C15: =IFERROR(VLOOKUP(CONCATENATE($C$3,"/",B15),Test!$A$2:$O$1089,15,FALSE),"") -> pose
B16: 11 | C16: =IFERROR(VLOOKUP(CONCATENATE($C$3,"/",B16),Test!$A$2:$O$1089,15,FALSE),"") -> aile
B17: 12 | C17: =IFERROR(VLOOKUP(CONCATENATE($C$3,"/",B17),Test!$A$2:$O$1089,15,FALSE),"") -> cockpit
... B423: 418 | C423: =IFERROR(VLOOKUP(CONCATENATE($C$3,"/",B423),Test!$A$2:$O$1089,15,FALSE),"")
