Workbook
Name _56F9DC9755BA473782653E2940F9FormId: "xaiN1wYeSk29--q1PA4oV3d_WcuDrvhNlEM2wY1hNcJUQUM5UUc1RERZQUc5UFhKUzQ0V1VJSDZQNS4u"
Name _56F9DC9755BA473782653E2940F9ResponseSheet: "Form1"
Name _56F9DC9755BA473782653E2940F9SourceDocId: "{118b3a72-6c41-4eb7-b5cf-d327c17c306b}"

Sheet STATISTIQUES
A1: =COUNTIF(BISTROT!D7:D14,"Plat du jour ")+COUNTIF(BISTROT!O7:O14,"Plat du jour ")+COUNTIF(BISTROT!Z7:Z14,"Plat du jour ")+COUNTIF(BISTROT!AK7:AK14,"Plat du jour ")+COUNTIF(BISTROT!AV7:AV14,"Plat du jour ") -> 0
C4: Bavette | D4: 11.2 | F4: =VLOOKUP("Bavette",C4:D30,2) -> 11.2
C5: Bistrot Burger | D5: 7.8
C6: Burger Périgourdin | D6: 8.8
C7: Camembert chaud, frites, charcuterie | D7: 8
C8: Croque monsieur | D8: 5
C9: Croque monsieur au bleu | D9: 5
C10: Escalope de volaille sauce forestière | D10: 9
C11: Magret de Canard | D11: 12.1
C12: Pates aux fruits de mer | D12: 7.1
C13: Pates lardons, Persillade | D13: 7.1
C14: Pavé de saumon riz sauce hollandaise | D14: 8.3
C15: Plat du jour | D15: 6.2
C16: Poisson pané façon Fish and Chips | D16: 6.2
... C31: Steack haché | D31: 5.9

Sheet FEUILLE DE CALCUL
F3: PLATS :
F4: -
F5: Bavette
F6: Bistrot Burger
F7: Burger Périgourdin
F8: Camembert chaud, frites, charcuterie
F9: Croque monsieur
F10: Croque monsieur au bleu
F11: Escalope de volaille sauce forestière
F12: Magret de Canard
F13: Pates aux fruits de mer
F14: Pates lardons, Persillade
... F16: Plat du jour
A17: NOMS : | B17: GARN. | C17: MDP : | D17: VOITURE : | E17: SAUCE | F17: Poisson pané façon Fish and Chips | K17: CUISSON :
A18: - | B18: - | C18: - | D18: - | E18: - | F18: Salade césar | K18: -
A19: Alex | B19: Pâtes | C19: CB | D19: 12h | E19: Roquefort | F19: Salade fromagère | K19: Bleu
A20: Cédric | B20: Riz | C20: TR | D20: 12h05 | E20: Poivre | F20: Salade landaise | K20: Saignant
A21: Déborah | B21: Frites | C21: CB + TR | D21: 12h10 | E21: Mayo | F21: Salade océane | K21: À point
A22: Marine L | B22: Haricots Verts | C22: L | D22: 12h15 | E22: Ketchup | F22: Sandwich américain | K22: Cuit
A23: Marine M | B23: Frites + Salades | C23: L + TR | D23: 12h20 | E23: Burger | F23: Sandwich chicken | K23: Bien cuit
A24: Matthieu | C24: L + CB | D24: 12h25 | E24: Moutarde | F24: Sandwich emmental
A25: Jordan | D25: 12h30 | F25: Sandwich jambon
A26: Julia | F26: Sandwich jambon cru
F27: Sandwich jambon cru emmental crudités
F28: Sandwich jambon emmental crudités
F29: Sandwich poulet emmental crudités
F30: Sandwich rosette
F31: Sandwich rosette cornichons
F32: Steack haché

Sheet BISTROT
B4: SEMAINE 46
C5: LUNDI | F5: Garn. | G5: Sauce | H5: Cuisson | I5: Autres | J5: Mode de réglement | K5: Voiture | L5: Prix | N5: MARDI | Q5: Garn. | R5: Sauce | S5: Cuisson | T5: Autres | U5: Mode de réglement | V5: Voiture | W5: Prix | Y5: MERCREDI | AB5: Garn. | AC5: Sauce | AD5: Cuisson | AE5: Autres | AF5: Mode de réglement | AG5: Voiture | AH5: Prix | AJ5: JEUDI | AM5: Garn. | AN5: Sauce | AO5: Cuisson | AP5: Autres | AQ5: Mode de réglement | AR5: Voiture | AS5: Prix | AU5: VENDREDI | AX5: Garn. | AY5: Sauce | AZ5: Cuisson | BA5: Autres | BB5: Mode de réglement | BC5: Voiture | BD5: Prix
B6: Plat du jour | C6: Xxxxxxxxxx | N6: Xxxxxxxxxx | Y6: Xxxxxxxxxxxx | AJ6: Xxxxxxxxxxxx | AU6: Xxxxxxxxxxxx
B7: Nom / Plat | C7: - | D7: Bistrot Burger | E7: ▶ | F7: - | G7: - | H7: - | J7: - | K7: - | L7: =IF(D7<>"-",VLOOKUP(D7,STATISTIQUES!$C$4:$D$31,2,FALSE),"") -> 7.8 | N7: - | O7: - | P7: ▶ | Q7: - | R7: - | S7: - | U7: - | V7: - | W7: =IF(O7<>"-",VLOOKUP(O7,STATISTIQUES!$C$4:$D$31,2,FALSE),"") | Y7: - | Z7: - | AA7: ▶ | AB7: - | AC7: - | AD7: - | AF7: - | AG7: - | AH7: =IF(Z7<>"-",VLOOKUP(Z7,STATISTIQUES!$C$4:$D$31,2,FALSE),"") | AJ7: - | AK7: - | AL7: ▶ | AM7: - | AN7: - | AO7: - | AQ7: - | AR7: - | AU7: - | AV7: - | AW7: ▶ | AX7: - | AY7: - | AZ7: - | BB7: - | BC7: -
C8: - | D8: Croque monsieur | E8: ▶ | F8: - | G8: - | H8: - | J8: - | K8: - | L8: =IF(D8<>"-",VLOOKUP(D8,STATISTIQUES!$C$4:$D$31,2,FALSE),"") -> 5 | N8: - | O8: - | P8: ▶ | Q8: - | R8: - | S8: - | U8: - | V8: - | W8: =IF(O8<>"-",VLOOKUP(O8,STATISTIQUES!$C$4:$D$31,2,FALSE),"") | Y8: - | Z8: - | AA8: ▶ | AB8: - | AC8: - | AD8: - | AF8: - | AG8: - | AH8: =IF(Z8<>"-",VLOOKUP(Z8,STATISTIQUES!$C$4:$D$31,2,FALSE),"") | AJ8: - | AK8: - | AL8: ▶ | AM8: - | AN8: - | AO8: - | AQ8: - | AR8: - | AU8: - | AV8: - | AW8: ▶ | AX8: - | AY8: - | AZ8: - | BB8: - | BC8: -
C9: - | D9: - | E9: ▶ | F9: - | G9: - | H9: - | J9: - | K9: - | L9: =IF(D9<>"-",VLOOKUP(D9,STATISTIQUES!$C$4:$D$31,2,FALSE),"") | N9: - | O9: - | P9: ▶ | Q9: - | R9: - | S9: - | U9: - | V9: - | W9: =IF(O9<>"-",VLOOKUP(O9,STATISTIQUES!$C$4:$D$31,2,FALSE),"") | Y9: - | Z9: - | AA9: ▶ | AB9: - | AC9: - | AD9: - | AF9: - | AG9: - | AH9: =IF(Z9<>"-",VLOOKUP(Z9,STATISTIQUES!$C$4:$D$31,2,FALSE),"") | AJ9: - | AK9: - | AL9: ▶ | AM9: - | AN9: - | AO9: - | AQ9: - | AR9: - | AU9: - | AV9: - | AW9: ▶ | AX9: - | AY9: - | AZ9: - | BB9: - | BC9: -
C10: - | D10: - | E10: ▶ | F10: - | G10: - | H10: - | J10: - | K10: - | L10: =IF(D10<>"-",VLOOKUP(D10,STATISTIQUES!$C$4:$D$31,2,FALSE),"") | N10: - | O10: - | P10: ▶ | Q10: - | R10: - | S10: - | U10: - | V10: - | W10: =IF(O10<>"-",VLOOKUP(O10,STATISTIQUES!$C$4:$D$31,2,FALSE),"") | Y10: - | Z10: - | AA10: ▶ | AB10: - | AC10: - | AD10: - | AF10: - | AG10: - | AH10: =IF(Z10<>"-",VLOOKUP(Z10,STATISTIQUES!$C$4:$D$31,2,FALSE),"") | AJ10: - | AK10: - | AL10: ▶ | AM10: - | AN10: - | AO10: - | AQ10: - | AR10: - | AU10: - | AV10: - | AW10: ▶ | AX10: - | AY10: - | AZ10: - | BB10: - | BC10: -
C11: - | D11: - | E11: ▶ | F11: - | G11: - | H11: - | J11: - | K11: - | L11: =IF(D11<>"-",VLOOKUP(D11,STATISTIQUES!$C$4:$D$31,2,FALSE),"") | N11: - | O11: - | P11: ▶ | Q11: - | R11: - | S11: - | U11: - | V11: - | W11: =IF(O11<>"-",VLOOKUP(O11,STATISTIQUES!$C$4:$D$31,2,FALSE),"") | Y11: - | Z11: - | AA11: ▶ | AB11: - | AC11: - | AD11: - | AF11: - | AG11: - | AH11: =IF(Z11<>"-",VLOOKUP(Z11,STATISTIQUES!$C$4:$D$31,2,FALSE),"") | AJ11: - | AK11: - | AL11: ▶ | AM11: - | AN11: - | AO11: - | AQ11: - | AR11: - | AU11: - | AV11: - | AW11: ▶ | AX11: - | AY11: - | AZ11: - | BB11: - | BC11: -
C12: - | D12: - | E12: ▶ | F12: - | G12: - | H12: - | J12: - | K12: - | L12: =IF(D12<>"-",VLOOKUP(D12,STATISTIQUES!$C$4:$D$31,2,FALSE),"") | N12: - | O12: - | P12: ▶ | Q12: - | R12: - | S12: - | U12: - | V12: - | W12: =IF(O12<>"-",VLOOKUP(O12,STATISTIQUES!$C$4:$D$31,2,FALSE),"") | Y12: - | Z12: - | AA12: ▶ | AB12: - | AC12: - | AD12: - | AF12: - | AG12: - | AH12: =IF(Z12<>"-",VLOOKUP(Z12,STATISTIQUES!$C$4:$D$31,2,FALSE),"") | AJ12: - | AK12: - | AL12: ▶ | AM12: - | AN12: - | AO12: - | AQ12: - | AR12: - | AU12: - | AV12: - | AW12: ▶ | AX12: - | AY12: - | AZ12: - | BB12: - | BC12: -
C13: - | D13: - | E13: ▶ | F13: - | G13: - | H13: - | J13: - | K13: - | L13: =IF(D13<>"-",VLOOKUP(D13,STATISTIQUES!$C$4:$D$31,2,FALSE),"") | N13: - | O13: - | P13: ▶ | Q13: - | R13: - | S13: - | U13: - | V13: - | W13: =IF(O13<>"-",VLOOKUP(O13,STATISTIQUES!$C$4:$D$31,2,FALSE),"") | Y13: - | Z13: - | AA13: ▶ | AB13: - | AC13: - | AD13: - | AF13: - | AG13: - | AH13: =IF(Z13<>"-",VLOOKUP(Z13,STATISTIQUES!$C$4:$D$31,2,FALSE),"") | AJ13: - | AK13: - | AL13: ▶ | AM13: - | AN13: - | AO13: - | AQ13: - | AR13: - | AU13: - | AV13: - | AW13: ▶ | AX13: - | AY13: - | AZ13: - | BB13: - | BC13: -
C14: - | D14: - | E14: ▶ | F14: - | G14: - | H14: - | J14: - | K14: - | L14: =IF(D14<>"-",VLOOKUP(D14,STATISTIQUES!$C$4:$D$31,2,FALSE),"") | N14: - | O14: - | P14: ▶ | Q14: - | R14: - | S14: - | U14: - | V14: - | W14: =IF(O14<>"-",VLOOKUP(O14,STATISTIQUES!$C$4:$D$31,2,FALSE),"") | Y14: - | Z14: - | AA14: ▶ | AB14: - | AC14: - | AD14: - | AF14: - | AG14: - | AH14: =IF(Z14<>"-",VLOOKUP(Z14,STATISTIQUES!$C$4:$D$31,2,FALSE),"") | AJ14: - | AK14: - | AL14: ▶ | AM14: - | AN14: - | AO14: - | AQ14: - | AR14: - | AU14: - | AV14: - | AW14: ▶ | AX14: - | AY14: - | AZ14: - | BB14: - | BC14: -

Sheet _56F9DC9755BA473782653E2940F9
A1: xaiN1wYeSk29--q1PA4oV3d_WcuDrvhNlEM2wY1hNcJUQUM5UUc1RERZQUc5UFhKUzQ0V1VJSDZQNS4u
A2: Form1
A3: {118b3a72-6c41-4eb7-b5cf-d327c17c306b}
