Workbook
Name atiacldeduc: [1]BORDEREAU!$O$34
Name atiaclmontant: [1]BORDEREAU!$T$34
Name ATIACLTOT: [1]CNRACL!$F$9
Name base: '[2]TARIFS PAR CLASSE 2007'!$C$6
Name base100CPAcsgcrds: '[3]URSSAF PAGE SAISIE'!#REF!
Name base97CPAcsgcrds: '[3]URSSAF PAGE SAISIE'!#REF!
Name BASEAPPRENTI: [1]Feuil1!$S$2
Name baseapprentiseuil: [1]Feuil1!$BY$2
Name BASEASSEDIC: '[3]URSSAF PAGE SAISIE'!$K$56
Name BASEATI: [1]Feuil1!$Z$2
Name basecaeplafonnée: '[3]URSSAF PAGE SAISIE'!$K$47
Name basecaplafonnée: '[3]URSSAF PAGE SAISIE'!#REF!
Name basecasFOURNIERplafonnée: '[3]URSSAF PAGE SAISIE'!$K$51
Name basecasFOURNIERtotalitée: '[3]URSSAF PAGE SAISIE'!$K$50
Name basecasgeneralplafonnée: '[3]URSSAF PAGE SAISIE'!$K$30
Name basecasgeneraltotal: '[3]URSSAF PAGE SAISIE'!$K$29
Name basecatotalite: '[3]URSSAF PAGE SAISIE'!#REF!
Name BASECDGRG: [1]Feuil1!$AD$2
Name BASECDGTIT: [1]Feuil1!$AE$2
Name basececplafonnee: '[3]URSSAF PAGE SAISIE'!#REF!
Name basecectotalite: '[3]URSSAF PAGE SAISIE'!#REF!
Name baseCENTREloisirsPlafonnée: '[3]URSSAF PAGE SAISIE'!$K$32
Name baseCENTREloisirsTotalitée: '[3]URSSAF PAGE SAISIE'!$K$31
Name BASECNRACL: [1]Feuil1!$W$2
Name BASECNRACT: [1]Feuil1!$M$2
Name basecollabooccas: [1]Feuil1!$BM$2
Name BASECSGELU: [1]Feuil1!$K$2
Name BASECSGRG: [1]Feuil1!$E$2
Name BASECSGTIT: [1]Feuil1!$G$2
Name BASECUICAE: [1]Feuil1!$O$2
Name BASEELUTOT: [1]Feuil1!$I$2
Name BASEFNAL: [1]Feuil1!$Q$2
Name BASEFORFAITSOCIAL: '[3]URSSAF PAGE SAISIE'!$K$61
Name basehs: '[3]URSSAF PAGE SAISIE'!$K$49
Name basehscaeT: [1]BORDEREAU!#REF!
Name basehscaplafonnée: '[3]URSSAF PAGE SAISIE'!#REF!
Name basehscaT: '[3]URSSAF PAGE SAISIE'!#REF!
Name basehscecplafonnée: '[3]URSSAF PAGE SAISIE'!#REF!
Name basehscecT: '[3]URSSAF PAGE SAISIE'!#REF!
Name BASEIRCAELUS: [1]Feuil1!$AR$2
Name BASEIRCARG: [1]Feuil1!$AO$2
Name BASEMALADIECOMP: [1]Feuil1!$BP$2
Name BASEPLAFONNECOLLABO: '[3]URSSAF PAGE SAISIE'!$K$41
Name BASEPOLEEMPLOI: [1]Feuil1!$U$2
Name BASERAFP: [1]Feuil1!$AM$2
Name BASERGPLAF: [1]Feuil1!$B$2
Name BASERGTOT: [1]Feuil1!$A$2
Name basetotalecaecui: [1]Feuil1!$BL$2
Name BASETOTALITECOLLABO: [1]BORDEREAU!#REF!
Name baseurssafpagnol: '[4]base code'!$A$3:$C$14
Name BASEVIGNETTE: [5]BASE!$A$4:$I$15
Name baseVTRANSP: [1]Feuil1!$BI$2
Name BASIRCAAPPRENTI: [1]Feuil1!$AT$2
Name BSRGEXOHS: [1]Feuil1!$BV$2
Name CAPITALDC: [1]Feuil1!$BB$2
Name CARELPO: [1]Feuil1!$BC$2
Name CARELPP: [1]Feuil1!$BD$2
Name cdgtot: [1]CDG!$F$32
Name CNFPTAVENIR: [1]Feuil1!$AI$2
Name CNFPTRG: [1]Feuil1!$AH$2

Sheet base demandes
A1: Reference demande | B1: Nom | C1: Prénom | D1: Montant | E1: Montant lettre
A2: N° 001 / 15/04/2019 | B2: MARTIN | C2: Arthur | D2: 500 | E2: =IF(D2<>"",converte!C2,"") -> Cinq cents €uros
E3: =IF(D3<>"",converte!C3,"")
E4: =IF(D4<>"",converte!C4,"")
E5: =IF(D5<>"",converte!C5,"")
E6: =IF(D6<>"",converte!C6,"")
E7: =IF(D7<>"",converte!C7,"")
E8: =IF(D8<>"",converte!C8,"")
E9: =IF(D9<>"",converte!C9,"")
E10: =IF(D10<>"",converte!C10,"")
E11: =IF(D11<>"",converte!C11,"")
E12: =IF(D12<>"",converte!C12,"")
E13: =IF(D13<>"",converte!C13,"")
E14: =IF(D14<>"",converte!C14,"")
... E122: =IF(D122<>"",converte!C122,"")
E123: =IF(D123<>"",converte!#REF!,"")
E124: =IF(D124<>"",converte!#REF!,"")
E125: =IF(D125<>"",converte!#REF!,"")
E126: =IF(D126<>"",converte!#REF!,"")
E127: =IF(D127<>"",converte!#REF!,"")
E128: =IF(D128<>"",converte!#REF!,"")
E129: =IF(D129<>"",converte!#REF!,"")
E130: =IF(D130<>"",converte!#REF!,"")
E131: =IF(D131<>"",converte!#REF!,"")
E132: =IF(D132<>"",converte!#REF!,"")
E133: =IF(D133<>"",converte!#REF!,"")
E134: =IF(D134<>"",converte!#REF!,"")
... E735: =IF(D735<>"",converte!#REF!,"")

Sheet converte
B2: =IF('base demandes'!D2<>"",'base demandes'!D2,0) -> 500 | C2: =UPPER(MID(CU2,1,1))&MID(CU2,2,168) -> Cinq cents €uros | D2: =INT(B2/1000000) -> 0 | E2: =INT((B2-D2*1000000)/1000) -> 0 | F2: =INT(B2-D2*1000000-E2*1000) -> 500 | G2: =ROUND(B2-D2*1000000-E2*1000-F2,2)*100 -> 0 | H2: =D2-M2*100 -> 0 | J2: =E2-P2*100 -> 0 | K2: =ROUND(F2-S2*100,0) -> 0 | L2: =G2 -> 0 | M2: =INT(D2/100) -> 0 | N2: =INT((D2-M2*100)/10) -> 0 | O2: =D2-M2*100-N2*10 -> 0 | P2: =INT(E2/100) -> 0 | Q2: =INT((E2-P2*100)/10) -> 0 | R2: =E2-P2*100-Q2*10 -> 0 | S2: =INT(F2/100) -> 5 | T2: =INT((F2-S2*100)/10) -> 0 | U2: =F2-S2*100-T2*10 -> 0 | V2: =INT(G2/10) -> 0 | W2: =ROUND(G2-V2*10,0) -> 0 | X2: =IF(M2=0,"",IF(M2=1,"",IF(M2=2,"deux ",IF(M2=3,"trois ",IF(M2=4,"quatre ",IF(M2=5,"cinq ",AQ2)))))) | Y2: =IF(M2=0,"",IF(M2<2,"cent ",AR2)) | Z2: =IF(N2=1,AS2,IF(N2=7,BM2,IF(N2=9,CC2,CL2))) | AA2: =IF(H2=11,"",IF(H2=12,"",IF(H2=13,"",IF(H2=14,"",IF(H2=15,"",IF(H2=16,"",AT2)))))) | AB2: =IF(D2=0,"",IF(D2<2,"million ","millions ")) | AC2: =IF(I2=1,"",IF(P2=0,"",IF(P2=1,"",IF(P2=2,"deux ",IF(P2=3,"trois ",IF(P2=4,"quatre ",IF(P2=5,"cinq ",AU2))))))) | AD2: =IF(P2=0,"",IF(P2<2,"cent ",AV2)) | AE2: =IF(Q2=1,AW2,IF(Q2=7,BO2,IF(Q2=9,CD2,CM2))) | AF2: =IF(E2=1,"",AX2) | AG2: =IF(E2>0,"mille ","") | AH2: =IF(INT(B2)=0,"zéro ",IF(S2=0,"",IF(S2=1,"",IF(S2=2,"deux ",IF(S2=3,"trois ",IF(S2=4,"quatre ",IF(S2=5,"cinq ",AY2))))))) -> cinq | AI2: =IF(S2=0,"",IF(S2<2,"cent ",AZ2)) -> cents | AJ2: =IF(T2=1,BA2,IF(T2=7,BQ2,IF(T2=9,CF2,CN2))) | AK2: =IF(K2=11,"",IF(K2=12,"",IF(K2=13,"",IF(K2=14,"",IF(K2=15,"",IF(K2=16,"",BB2)))))) | AL2: =IF(INT(B2<2),"€uro ","€uros ") -> €uros | AM2: =IF(G2>0,"et ","") | AN2: =IF(V2=1,BC2,IF(V2=7,BS2,IF(V2=9,CG2,CO2))) | AO2: =IF(L2=11,"",IF(L2=12,"",IF(L2=13,"",IF(L2=14,"",IF(L2=15,"",IF(L2=16,"",BD2)))))) | AP2: =IF(G2=0,"",IF(G2<2,"centime","centimes")) | AQ2: =IF(D2=0," ",IF(M2=6,"six ",IF(M2=7,"sept ",IF(M2=8,"huit ",IF(M2=9,"neuf ",))))) | AR2: =IF(H2>0,"cent ", "cents ") -> cents | AS2: =IF(H2=10,"dix ",IF(H2=11,"onze ",IF(H2=12,"douze ",IF(H2=13,"treize ",IF(H2=14,"quatorze ",IF(H2=15,"quinze ",BE2)))))) | AT2: =IF(H2=17,"",IF(H2=18,"",IF(H2=19,"",BF2))) | AU2: =IF(P2=6,"six ",IF(P2=7,"sept ",IF(P2=8,"huit ",IF(P2=9,"neuf ",)))) -> 0 | AV2: =IF(J2>0,"cent ", "cents ") -> cents | AW2: =IF(J2=10,"dix ",IF(J2=11,"onze ",IF(J2=12,"douze ",IF(J2=13,"treize ",IF(J2=14,"quatorze ",IF(J2=15,"quinze ",BG2)))))) | AX2: =IF(J2=11,"",IF(J2=12,"",IF(J2=13,"",IF(J2=14,"",IF(J2=15,"",IF(J2=16,"",BH2)))))) | AY2: =IF(S2=6,"six ",IF(S2=7,"sept ",IF(S2=8,"huit ",IF(S2=9,"neuf ",)))) -> 0 | AZ2: =IF(K2>0,"cent ", "cents ") -> cents | BA2: =IF(K2=10,"dix ",IF(K2=11,"onze ",IF(K2=12,"douze ",IF(K2=13,"treize ",IF(K2=14,"quatorze ",IF(K2=15,"quinze ",BI2)))))) | BB2: =IF(K2=17,"",IF(K2=18,"",IF(K2=19,"",BJ2))) | BC2: =IF(L2=10,"dix ",IF(L2=11,"onze ",IF(L2=12,"douze ",IF(L2=13,"treize ",IF(L2=14,"quatorze ",IF(L2=15,"quinze ",BK2)))))) | BD2: =IF(L2=17,"",IF(L2=18,"",IF(L2=19,"",BL2))) | BE2: =IF(H2=16,"seize ",IF(H2=17,"dix-sept ",IF(H2=18,"dix-huit ",IF(H2=19,"dix-neuf ",BM2)))) | BF2: =IF(H2=21,"et un ",IF(H2=31,"et un ",IF(H2=41,"et un ",IF(H2=51,"et un ",IF(H2=61,"et un ",BN2))))) | BG2: =IF(J2=16,"seize ",IF(J2=17,"dix-sept ",IF(J2=18,"dix-huit ",IF(J2=19,"dix-neuf ",BO2)))) | BH2: =IF(J2=17,"",IF(J2=18,"",IF(J2=19,"",BP2))) | BI2: =IF(K2=16,"seize ",IF(K2=17,"dix-sept ",IF(K2=18,"dix-huit ",IF(K2=19,"dix-neuf ",BQ2)))) | BJ2: =IF(K2=21,"et un ",IF(K2=31,"et un ",IF(K2=41,"et un ",IF(K2=51,"et un ",IF(K2=61,"et un ",BR2))))) | BK2: =IF(L2=16,"seize ",IF(L2=17,"dix-sept ",IF(L2=18,"dix-huit ",IF(L2=19,"dix-neuf ",BS2)))) | BL2: =IF(L2=21,"et un ",IF(L2=31,"et un ",IF(L2=41,"et un ",IF(L2=51,"et un ",IF(L2=61,"et un ",BT2))))) | BM2: =IF(H2=70,"soixante-dix ",IF(H2=71,"soixante et onze ",IF(H2=72,"soixante-douze ",IF(H2=73,"soixante-treize ",IF(H2=74,"soixante-quatorze ",IF(H2=75,"soixante-quinze ",BU2)))))) | BN2: =IF(N2=9,"",IF(N2=7,"",IF(O2=0,"",IF(O2=1,"un ",IF(O2=2,"deux ",IF(O2=3,"trois ",IF(O2=4,"quatre ",IF(O2=5,"cinq ",BV2)))))))) | BO2: =IF(J2=70,"soixante-dix ",IF(J2=71,"soixante et onze ",IF(J2=72,"soixante-douze ",IF(J2=73,"soixante-treize ",IF(J2=74,"soixante-quatorze ",IF(J2=75,"soixante-quinze ",BW2)))))) | BP2: =IF(J2=21,"et un ",IF(J2=31,"et un ",IF(J2=41,"et un ",IF(J2=51,"et un ",IF(J2=61,"et un ",BX2))))) | BQ2: =IF(K2=70,"soixante-dix ",IF(K2=71,"soixante et onze ",IF(K2=72,"soixante-douze ",IF(K2=73,"soixante-treize ",IF(K2=74,"soixante-quatorze ",IF(K2=75,"soixante-quinze ",BY2)))))) | BR2: =IF(T2=9,"",IF(T2=7,"",IF(U2=0,"",IF(U2=1,"un ",IF(U2=2,"deux ",IF(U2=3,"trois ",IF(U2=4,"quatre ",IF(U2=5,"cinq ",BZ2)))))))) | BS2: =IF(L2=70,"soixante-dix ",IF(L2=71,"soixante et onze ",IF(L2=72,"soixante-douze ",IF(L2=73,"soixante-treize ",IF(L2=74,"soixante-quatorze ",IF(L2=75,"soixante-quinze ",CA2)))))) | BT2: =IF(V2=9,"",IF(V2=7,"",IF(W2=0,"",IF(W2=1,"un ",IF(W2=2,"deux ",IF(W2=3,"trois ",IF(W2=4,"quatre ",IF(W2=5,"cinq ",CB2)))))))) | BU2: =IF(H2=76,"soixante-seize ",IF(H2=77,"soixante-dix-sept ",IF(H2=78,"soixante-dix-huit ",IF(H2=79,"soixante-dix-neuf ",CC2)))) | BV2: =IF(N2=9,"",IF(O2=6,"six ",IF(O2=7,"sept ",IF(O2=8,"huit ",IF(O2=9,"neuf ",))))) -> 0 | BW2: =IF(J2=76,"soixante-seize ",IF(J2=77,"soixante-dix-sept ",IF(J2=78,"soixante-dix-huit ",IF(J2=79,"soixante-dix-neuf ",CD2)))) | BX2: =IF(Q2=9,"",IF(Q2=7,"",IF(R2=0,"",IF(R2=1,"un ",IF(R2=2,"deux ",IF(R2=3,"trois ",IF(R2=4,"quatre ",IF(R2=5,"cinq ",CE2)))))))) | BY2: =IF(K2=76,"soixante-seize ",IF(K2=77,"soixante-dix-sept ",IF(K2=78,"soixante-dix-huit ",IF(K2=79,"soixante-dix-neuf ",CF2)))) | BZ2: =IF(T2=9,"",IF(U2=6,"six ",IF(U2=7,"sept ",IF(U2=8,"huit ",IF(U2=9,"neuf ",))))) -> 0 | CA2: =IF(L2=76,"soixante-seize ",IF(L2=77,"soixante-dix-sept ",IF(L2=78,"soixante-dix-huit ",IF(L2=79,"soixante-dix-neuf ",CG2)))) | CB2: =IF(V2=9,"",IF(W2=6,"six ",IF(W2=7,"sept ",IF(W2=8,"huit ",IF(W2=9,"neuf ",))))) -> 0 | CC2: =IF(H2=90,"quatre-vingt-dix ",IF(H2=91,"quatre-vingt-onze ",IF(H2=92,"quatre-vingt-douze ",IF(H2=93,"quatre-vingt-treize ",IF(H2=94,"quatre-vingt-quatorze ",IF(H2=95,"quatre-vingt-quinze ",CH2)))))) | CD2: =IF(J2=90,"quatre-vingt-dix ",IF(J2=91,"quatre-vingt-onze ",IF(J2=92,"quatre-vingt-douze ",IF(J2=93,"quatre-vingt-treize ",IF(J2=94,"quatre-vingt-quatorze ",IF(J2=95,"quatre-vingt-quinze ",CI2)))))) | CE2: =IF(Q2=9,"",IF(R2=6,"six ",IF(R2=7,"sept ",IF(R2=8,"huit ",IF(R2=9,"neuf ",))))) -> 0 | CF2: =IF(K2=90,"quatre-vingt-dix ",IF(K2=91,"quatre-vingt-onze ",IF(K2=92,"quatre-vingt-douze ",IF(K2=93,"quatre-vingt-treize ",IF(K2=94,"quatre-vingt-quatorze ",IF(K2=95,"quatre-vingt-quinze ",CJ2)))))) | CG2: =IF(L2=90,"quatre-vingt-dix ",IF(L2=91,"quatre-vingt-onze ",IF(L2=92,"quatre-vingt-douze ",IF(L2=93,"quatre-vingt-treize ",IF(L2=94,"quatre-vingt-quatorze ",IF(L2=95,"quatre-vingt-quinze ",CK2)))))) | CH2: =IF(H2=96,"quatre-vingt-seize ",IF(H2=97,"quatre-vingt-dix-sept ",IF(H2=98,"quatre-vingt-dix-huit ",IF(H2=99,"quatre-vingt-dix-neuf ",CL2)))) | CI2: =IF(J2=96,"quatre-vingt-seize ",IF(J2=97,"quatre-vingt-dix-sept ",IF(J2=98,"quatre-vingt-dix-huit ",IF(J2=99,"quatre-vingt-dix-neuf ",CM2)))) | CJ2: =IF(K2=96,"quatre-vingt-seize ",IF(K2=97,"quatre-vingt-dix-sept ",IF(K2=98,"quatre-vingt-dix-huit ",IF(K2=99,"quatre-vingt-dix-neuf ",CN2)))) | CK2: =IF(L2=96,"quatre-vingt-seize ",IF(L2=97,"quatre-vingt-dix-sept ",IF(L2=98,"quatre-vingt-dix-huit ",IF(L2=99,"quatre-vingt-dix-neuf ",CO2)))) | CL2: =IF(N2=2,"vingt ",IF(N2=3,"trente ",IF(N2=4,"quarante ",IF(N2=5,"cinquante ",CP2)))) | CM2: =IF(Q2=2,"vingt ",IF(Q2=3,"trente ",IF(Q2=4,"quarante ",IF(Q2=5,"cinquante ",CQ2)))) | CN2: =IF(T2=2,"vingt ",IF(T2=3,"trente ",IF(T2=4,"quarante ",IF(T2=5,"cinquante ",CR2)))) | CO2: =IF(V2=2,"vingt ",IF(V2=3,"trente ",IF(V2=4,"quarante ",IF(V2=5,"cinquante ",CS2)))) | CP2: =IF(N2=6,"soixante ",IF(H2=80,"quatre-vingts ",IF(N2=8,"quatre-vingt-",""))) | CQ2: =IF(Q2=6,"soixante ",IF(J2=80,"quatre-vingts ",IF(Q2=8,"quatre-vingt-",""))) | CR2: =IF(T2=6,"soixante ",IF(K2=80,"quatre-vingts ",IF(T2=8,"quatre-vingt-",""))) | CS2: =IF(V2=6,"soixante ",IF(L2=80,"quatre-vingts ",IF(V2=8,"quatre-vingt-",""))) | CU2: =(X2&Y2&Z2&AA2&AB2&AC2&AD2&AE2&AF2&AG2&AH2&AI2&AJ2&AK2&AL2&AM2&AN2&AO2&AP2) -> cinq cents €uros
B3: =IF('base demandes'!D3<>"",'base demandes'!D3,0) -> 0 | C3: =UPPER(MID(CU3,1,1))&MID(CU3,2,168) -> Zéro €uro | D3: =INT(B3/1000000) -> 0 | E3: =INT((B3-D3*1000000)/1000) -> 0 | F3: =INT(B3-D3*1000000-E3*1000) -> 0 | G3: =ROUND(B3-D3*1000000-E3*1000-F3,2)*100 -> 0 | H3: =D3-M3*100 -> 0 | J3: =E3-P3*100 -> 0 | K3: =ROUND(F3-S3*100,0) -> 0 | L3: =G3 -> 0 | M3: =INT(D3/100) -> 0 | N3: =INT((D3-M3*100)/10) -> 0 | O3: =D3-M3*100-N3*10 -> 0 | P3: =INT(E3/100) -> 0 | Q3: =INT((E3-P3*100)/10) -> 0 | R3: =E3-P3*100-Q3*10 -> 0 | S3: =INT(F3/100) -> 0 | T3: =INT((F3-S3*100)/10) -> 0 | U3: =F3-S3*100-T3*10 -> 0 | V3: =INT(G3/10) -> 0 | W3: =ROUND(G3-V3*10,0) -> 0 | X3: =IF(M3=0,"",IF(M3=1,"",IF(M3=2,"deux ",IF(M3=3,"trois ",IF(M3=4,"quatre ",IF(M3=5,"cinq ",AQ3)))))) | Y3: =IF(M3=0,"",IF(M3<2,"cent ",AR3)) | Z3: =IF(N3=1,AS3,IF(N3=7,BM3,IF(N3=9,CC3,CL3))) | AA3: =IF(H3=11,"",IF(H3=12,"",IF(H3=13,"",IF(H3=14,"",IF(H3=15,"",IF(H3=16,"",AT3)))))) | AB3: =IF(D3=0,"",IF(D3<2,"million ","millions ")) | AC3: =IF(I3=1,"",IF(P3=0,"",IF(P3=1,"",IF(P3=2,"deux ",IF(P3=3,"trois ",IF(P3=4,"quatre ",IF(P3=5,"cinq ",AU3))))))) | AD3: =IF(P3=0,"",IF(P3<2,"cent ",AV3)) | AE3: =IF(Q3=1,AW3,IF(Q3=7,BO3,IF(Q3=9,CD3,CM3))) | AF3: =IF(E3=1,"",AX3) | AG3: =IF(E3>0,"mille ","") | AH3: =IF(INT(B3)=0,"zéro ",IF(S3=0,"",IF(S3=1,"",IF(S3=2,"deux ",IF(S3=3,"trois ",IF(S3=4,"quatre ",IF(S3=5,"cinq ",AY3))))))) -> zéro | AI3: =IF(S3=0,"",IF(S3<2,"cent ",AZ3)) | AJ3: =IF(T3=1,BA3,IF(T3=7,BQ3,IF(T3=9,CF3,CN3))) | AK3: =IF(K3=11,"",IF(K3=12,"",IF(K3=13,"",IF(K3=14,"",IF(K3=15,"",IF(K3=16,"",BB3)))))) | AL3: =IF(INT(B3<2),"€uro ","€uros ") -> €uro | AM3: =IF(G3>0,"et ","") | AN3: =IF(V3=1,BC3,IF(V3=7,BS3,IF(V3=9,CG3,CO3))) | AO3: =IF(L3=11,"",IF(L3=12,"",IF(L3=13,"",IF(L3=14,"",IF(L3=15,"",IF(L3=16,"",BD3)))))) | AP3: =IF(G3=0,"",IF(G3<2,"centime","centimes")) | AQ3: =IF(D3=0," ",IF(M3=6,"six ",IF(M3=7,"sept ",IF(M3=8,"huit ",IF(M3=9,"neuf ",))))) | AR3: =IF(H3>0,"cent ", "cents ") -> cents | AS3: =IF(H3=10,"dix ",IF(H3=11,"onze ",IF(H3=12,"douze ",IF(H3=13,"treize ",IF(H3=14,"quatorze ",IF(H3=15,"quinze ",BE3)))))) | AT3: =IF(H3=17,"",IF(H3=18,"",IF(H3=19,"",BF3))) | AU3: =IF(P3=6,"six ",IF(P3=7,"sept ",IF(P3=8,"huit ",IF(P3=9,"neuf ",)))) -> 0 | AV3: =IF(J3>0,"cent ", "cents ") -> cents | AW3: =IF(J3=10,"dix ",IF(J3=11,"onze ",IF(J3=12,"douze ",IF(J3=13,"treize ",IF(J3=14,"quatorze ",IF(J3=15,"quinze ",BG3)))))) | AX3: =IF(J3=11,"",IF(J3=12,"",IF(J3=13,"",IF(J3=14,"",IF(J3=15,"",IF(J3=16,"",BH3)))))) | AY3: =IF(S3=6,"six ",IF(S3=7,"sept ",IF(S3=8,"huit ",IF(S3=9,"neuf ",)))) -> 0 | AZ3: =IF(K3>0,"cent ", "cents ") -> cents | BA3: =IF(K3=10,"dix ",IF(K3=11,"onze ",IF(K3=12,"douze ",IF(K3=13,"treize ",IF(K3=14,"quatorze ",IF(K3=15,"quinze ",BI3)))))) | BB3: =IF(K3=17,"",IF(K3=18,"",IF(K3=19,"",BJ3))) | BC3: =IF(L3=10,"dix ",IF(L3=11,"onze ",IF(L3=12,"douze ",IF(L3=13,"treize ",IF(L3=14,"quatorze ",IF(L3=15,"quinze ",BK3)))))) | BD3: =IF(L3=17,"",IF(L3=18,"",IF(L3=19,"",BL3))) | BE3: =IF(H3=16,"seize ",IF(H3=17,"dix-sept ",IF(H3=18,"dix-huit ",IF(H3=19,"dix-neuf ",BM3)))) | BF3: =IF(H3=21,"et un ",IF(H3=31,"et un ",IF(H3=41,"et un ",IF(H3=51,"et un ",IF(H3=61,"et un ",BN3))))) | BG3: =IF(J3=16,"seize ",IF(J3=17,"dix-sept ",IF(J3=18,"dix-huit ",IF(J3=19,"dix-neuf ",BO3)))) | BH3: =IF(J3=17,"",IF(J3=18,"",IF(J3=19,"",BP3))) | BI3: =IF(K3=16,"seize ",IF(K3=17,"dix-sept ",IF(K3=18,"dix-huit ",IF(K3=19,"dix-neuf ",BQ3)))) | BJ3: =IF(K3=21,"et un ",IF(K3=31,"et un ",IF(K3=41,"et un ",IF(K3=51,"et un ",IF(K3=61,"et un ",BR3))))) | BK3: =IF(L3=16,"seize ",IF(L3=17,"dix-sept ",IF(L3=18,"dix-huit ",IF(L3=19,"dix-neuf ",BS3)))) | BL3: =IF(L3=21,"et un ",IF(L3=31,"et un ",IF(L3=41,"et un ",IF(L3=51,"et un ",IF(L3=61,"et un ",BT3))))) | BM3: =IF(H3=70,"soixante-dix ",IF(H3=71,"soixante et onze ",IF(H3=72,"soixante-douze ",IF(H3=73,"soixante-treize ",IF(H3=74,"soixante-quatorze ",IF(H3=75,"soixante-quinze ",BU3)))))) | BN3: =IF(N3=9,"",IF(N3=7,"",IF(O3=0,"",IF(O3=1,"un ",IF(O3=2,"deux ",IF(O3=3,"trois ",IF(O3=4,"quatre ",IF(O3=5,"cinq ",BV3)))))))) | BO3: =IF(J3=70,"soixante-dix ",IF(J3=71,"soixante et onze ",IF(J3=72,"soixante-douze ",IF(J3=73,"soixante-treize ",IF(J3=74,"soixante-quatorze ",IF(J3=75,"soixante-quinze ",BW3)))))) | BP3: =IF(J3=21,"et un ",IF(J3=31,"et un ",IF(J3=41,"et un ",IF(J3=51,"et un ",IF(J3=61,"et un ",BX3))))) | BQ3: =IF(K3=70,"soixante-dix ",IF(K3=71,"soixante et onze ",IF(K3=72,"soixante-douze ",IF(K3=73,"soixante-treize ",IF(K3=74,"soixante-quatorze ",IF(K3=75,"soixante-quinze ",BY3)))))) | BR3: =IF(T3=9,"",IF(T3=7,"",IF(U3=0,"",IF(U3=1,"un ",IF(U3=2,"deux ",IF(U3=3,"trois ",IF(U3=4,"quatre ",IF(U3=5,"cinq ",BZ3)))))))) | BS3: =IF(L3=70,"soixante-dix ",IF(L3=71,"soixante et onze ",IF(L3=72,"soixante-douze ",IF(L3=73,"soixante-treize ",IF(L3=74,"soixante-quatorze ",IF(L3=75,"soixante-quinze ",CA3)))))) | BT3: =IF(V3=9,"",IF(V3=7,"",IF(W3=0,"",IF(W3=1,"un ",IF(W3=2,"deux ",IF(W3=3,"trois ",IF(W3=4,"quatre ",IF(W3=5,"cinq ",CB3)))))))) | BU3: =IF(H3=76,"soixante-seize ",IF(H3=77,"soixante-dix-sept ",IF(H3=78,"soixante-dix-huit ",IF(H3=79,"soixante-dix-neuf ",CC3)))) | BV3: =IF(N3=9,"",IF(O3=6,"six ",IF(O3=7,"sept ",IF(O3=8,"huit ",IF(O3=9,"neuf ",))))) -> 0 | BW3: =IF(J3=76,"soixante-seize ",IF(J3=77,"soixante-dix-sept ",IF(J3=78,"soixante-dix-huit ",IF(J3=79,"soixante-dix-neuf ",CD3)))) | BX3: =IF(Q3=9,"",IF(Q3=7,"",IF(R3=0,"",IF(R3=1,"un ",IF(R3=2,"deux ",IF(R3=3,"trois ",IF(R3=4,"quatre ",IF(R3=5,"cinq ",CE3)))))))) | BY3: =IF(K3=76,"soixante-seize ",IF(K3=77,"soixante-dix-sept ",IF(K3=78,"soixante-dix-huit ",IF(K3=79,"soixante-dix-neuf ",CF3)))) | BZ3: =IF(T3=9,"",IF(U3=6,"six ",IF(U3=7,"sept ",IF(U3=8,"huit ",IF(U3=9,"neuf ",))))) -> 0 | CA3: =IF(L3=76,"soixante-seize ",IF(L3=77,"soixante-dix-sept ",IF(L3=78,"soixante-dix-huit ",IF(L3=79,"soixante-dix-neuf ",CG3)))) | CB3: =IF(V3=9,"",IF(W3=6,"six ",IF(W3=7,"sept ",IF(W3=8,"huit ",IF(W3=9,"neuf ",))))) -> 0 | CC3: =IF(H3=90,"quatre-vingt-dix ",IF(H3=91,"quatre-vingt-onze ",IF(H3=92,"quatre-vingt-douze ",IF(H3=93,"quatre-vingt-treize ",IF(H3=94,"quatre-vingt-quatorze ",IF(H3=95,"quatre-vingt-quinze ",CH3)))))) | CD3: =IF(J3=90,"quatre-vingt-dix ",IF(J3=91,"quatre-vingt-onze ",IF(J3=92,"quatre-vingt-douze ",IF(J3=93,"quatre-vingt-treize ",IF(J3=94,"quatre-vingt-quatorze ",IF(J3=95,"quatre-vingt-quinze ",CI3)))))) | CE3: =IF(Q3=9,"",IF(R3=6,"six ",IF(R3=7,"sept ",IF(R3=8,"huit ",IF(R3=9,"neuf ",))))) -> 0 | CF3: =IF(K3=90,"quatre-vingt-dix ",IF(K3=91,"quatre-vingt-onze ",IF(K3=92,"quatre-vingt-douze ",IF(K3=93,"quatre-vingt-treize ",IF(K3=94,"quatre-vingt-quatorze ",IF(K3=95,"quatre-vingt-quinze ",CJ3)))))) | CG3: =IF(L3=90,"quatre-vingt-dix ",IF(L3=91,"quatre-vingt-onze ",IF(L3=92,"quatre-vingt-douze ",IF(L3=93,"quatre-vingt-treize ",IF(L3=94,"quatre-vingt-quatorze ",IF(L3=95,"quatre-vingt-quinze ",CK3)))))) | CH3: =IF(H3=96,"quatre-vingt-seize ",IF(H3=97,"quatre-vingt-dix-sept ",IF(H3=98,"quatre-vingt-dix-huit ",IF(H3=99,"quatre-vingt-dix-neuf ",CL3)))) | CI3: =IF(J3=96,"quatre-vingt-seize ",IF(J3=97,"quatre-vingt-dix-sept ",IF(J3=98,"quatre-vingt-dix-huit ",IF(J3=99,"quatre-vingt-dix-neuf ",CM3)))) | CJ3: =IF(K3=96,"quatre-vingt-seize ",IF(K3=97,"quatre-vingt-dix-sept ",IF(K3=98,"quatre-vingt-dix-huit ",IF(K3=99,"quatre-vingt-dix-neuf ",CN3)))) | CK3: =IF(L3=96,"quatre-vingt-seize ",IF(L3=97,"quatre-vingt-dix-sept ",IF(L3=98,"quatre-vingt-dix-huit ",IF(L3=99,"quatre-vingt-dix-neuf ",CO3)))) | CL3: =IF(N3=2,"vingt ",IF(N3=3,"trente ",IF(N3=4,"quarante ",IF(N3=5,"cinquante ",CP3)))) | CM3: =IF(Q3=2,"vingt ",IF(Q3=3,"trente ",IF(Q3=4,"quarante ",IF(Q3=5,"cinquante ",CQ3)))) | CN3: =IF(T3=2,"vingt ",IF(T3=3,"trente ",IF(T3=4,"quarante ",IF(T3=5,"cinquante ",CR3)))) | CO3: =IF(V3=2,"vingt ",IF(V3=3,"trente ",IF(V3=4,"quarante ",IF(V3=5,"cinquante ",CS3)))) | CP3: =IF(N3=6,"soixante ",IF(H3=80,"quatre-vingts ",IF(N3=8,"quatre-vingt-",""))) | CQ3: =IF(Q3=6,"soixante ",IF(J3=80,"quatre-vingts ",IF(Q3=8,"quatre-vingt-",""))) | CR3: =IF(T3=6,"soixante ",IF(K3=80,"quatre-vingts ",IF(T3=8,"quatre-vingt-",""))) | CS3: =IF(V3=6,"soixante ",IF(L3=80,"quatre-vingts ",IF(V3=8,"quatre-vingt-",""))) | CU3: =(X3&Y3&Z3&AA3&AB3&AC3&AD3&AE3&AF3&AG3&AH3&AI3&AJ3&AK3&AL3&AM3&AN3&AO3&AP3) -> zéro €uro
B4: =IF('base demandes'!D4<>"",'base demandes'!D4,0) -> 0 | C4: =UPPER(MID(CU4,1,1))&MID(CU4,2,168) -> Zéro €uro | D4: =INT(B4/1000000) -> 0 | E4: =INT((B4-D4*1000000)/1000) -> 0 | F4: =INT(B4-D4*1000000-E4*1000) -> 0 | G4: =ROUND(B4-D4*1000000-E4*1000-F4,2)*100 -> 0 | H4: =D4-M4*100 -> 0 | J4: =E4-P4*100 -> 0 | K4: =ROUND(F4-S4*100,0) -> 0 | L4: =G4 -> 0 | M4: =INT(D4/100) -> 0 | N4: =INT((D4-M4*100)/10) -> 0 | O4: =D4-M4*100-N4*10 -> 0 | P4: =INT(E4/100) -> 0 | Q4: =INT((E4-P4*100)/10) -> 0 | R4: =E4-P4*100-Q4*10 -> 0 | S4: =INT(F4/100) -> 0 | T4: =INT((F4-S4*100)/10) -> 0 | U4: =F4-S4*100-T4*10 -> 0 | V4: =INT(G4/10) -> 0 | W4: =ROUND(G4-V4*10,0) -> 0 | X4: =IF(M4=0,"",IF(M4=1,"",IF(M4=2,"deux ",IF(M4=3,"trois ",IF(M4=4,"quatre ",IF(M4=5,"cinq ",AQ4)))))) | Y4: =IF(M4=0,"",IF(M4<2,"cent ",AR4)) | Z4: =IF(N4=1,AS4,IF(N4=7,BM4,IF(N4=9,CC4,CL4))) | AA4: =IF(H4=11,"",IF(H4=12,"",IF(H4=13,"",IF(H4=14,"",IF(H4=15,"",IF(H4=16,"",AT4)))))) | AB4: =IF(D4=0,"",IF(D4<2,"million ","millions ")) | AC4: =IF(I4=1,"",IF(P4=0,"",IF(P4=1,"",IF(P4=2,"deux ",IF(P4=3,"trois ",IF(P4=4,"quatre ",IF(P4=5,"cinq ",AU4))))))) | AD4: =IF(P4=0,"",IF(P4<2,"cent ",AV4)) | AE4: =IF(Q4=1,AW4,IF(Q4=7,BO4,IF(Q4=9,CD4,CM4))) | AF4: =IF(E4=1,"",AX4) | AG4: =IF(E4>0,"mille ","") | AH4: =IF(INT(B4)=0,"zéro ",IF(S4=0,"",IF(S4=1,"",IF(S4=2,"deux ",IF(S4=3,"trois ",IF(S4=4,"quatre ",IF(S4=5,"cinq ",AY4))))))) -> zéro | AI4: =IF(S4=0,"",IF(S4<2,"cent ",AZ4)) | AJ4: =IF(T4=1,BA4,IF(T4=7,BQ4,IF(T4=9,CF4,CN4))) | AK4: =IF(K4=11,"",IF(K4=12,"",IF(K4=13,"",IF(K4=14,"",IF(K4=15,"",IF(K4=16,"",BB4)))))) | AL4: =IF(INT(B4<2),"€uro ","€uros ") -> €uro | AM4: =IF(G4>0,"et ","") | AN4: =IF(V4=1,BC4,IF(V4=7,BS4,IF(V4=9,CG4,CO4))) | AO4: =IF(L4=11,"",IF(L4=12,"",IF(L4=13,"",IF(L4=14,"",IF(L4=15,"",IF(L4=16,"",BD4)))))) | AP4: =IF(G4=0,"",IF(G4<2,"centime","centimes")) | AQ4: =IF(D4=0," ",IF(M4=6,"six ",IF(M4=7,"sept ",IF(M4=8,"huit ",IF(M4=9,"neuf ",))))) | AR4: =IF(H4>0,"cent ", "cents ") -> cents | AS4: =IF(H4=10,"dix ",IF(H4=11,"onze ",IF(H4=12,"douze ",IF(H4=13,"treize ",IF(H4=14,"quatorze ",IF(H4=15,"quinze ",BE4)))))) | AT4: =IF(H4=17,"",IF(H4=18,"",IF(H4=19,"",BF4))) | AU4: =IF(P4=6,"six ",IF(P4=7,"sept ",IF(P4=8,"huit ",IF(P4=9,"neuf ",)))) -> 0 | AV4: =IF(J4>0,"cent ", "cents ") -> cents | AW4: =IF(J4=10,"dix ",IF(J4=11,"onze ",IF(J4=12,"douze ",IF(J4=13,"treize ",IF(J4=14,"quatorze ",IF(J4=15,"quinze ",BG4)))))) | AX4: =IF(J4=11,"",IF(J4=12,"",IF(J4=13,"",IF(J4=14,"",IF(J4=15,"",IF(J4=16,"",BH4)))))) | AY4: =IF(S4=6,"six ",IF(S4=7,"sept ",IF(S4=8,"huit ",IF(S4=9,"neuf ",)))) -> 0 | AZ4: =IF(K4>0,"cent ", "cents ") -> cents | BA4: =IF(K4=10,"dix ",IF(K4=11,"onze ",IF(K4=12,"douze ",IF(K4=13,"treize ",IF(K4=14,"quatorze ",IF(K4=15,"quinze ",BI4)))))) | BB4: =IF(K4=17,"",IF(K4=18,"",IF(K4=19,"",BJ4))) | BC4: =IF(L4=10,"dix ",IF(L4=11,"onze ",IF(L4=12,"douze ",IF(L4=13,"treize ",IF(L4=14,"quatorze ",IF(L4=15,"quinze ",BK4)))))) | BD4: =IF(L4=17,"",IF(L4=18,"",IF(L4=19,"",BL4))) | BE4: =IF(H4=16,"seize ",IF(H4=17,"dix-sept ",IF(H4=18,"dix-huit ",IF(H4=19,"dix-neuf ",BM4)))) | BF4: =IF(H4=21,"et un ",IF(H4=31,"et un ",IF(H4=41,"et un ",IF(H4=51,"et un ",IF(H4=61,"et un ",BN4))))) | BG4: =IF(J4=16,"seize ",IF(J4=17,"dix-sept ",IF(J4=18,"dix-huit ",IF(J4=19,"dix-neuf ",BO4)))) | BH4: =IF(J4=17,"",IF(J4=18,"",IF(J4=19,"",BP4))) | BI4: =IF(K4=16,"seize ",IF(K4=17,"dix-sept ",IF(K4=18,"dix-huit ",IF(K4=19,"dix-neuf ",BQ4)))) | BJ4: =IF(K4=21,"et un ",IF(K4=31,"et un ",IF(K4=41,"et un ",IF(K4=51,"et un ",IF(K4=61,"et un ",BR4))))) | BK4: =IF(L4=16,"seize ",IF(L4=17,"dix-sept ",IF(L4=18,"dix-huit ",IF(L4=19,"dix-neuf ",BS4)))) | BL4: =IF(L4=21,"et un ",IF(L4=31,"et un ",IF(L4=41,"et un ",IF(L4=51,"et un ",IF(L4=61,"et un ",BT4))))) | BM4: =IF(H4=70,"soixante-dix ",IF(H4=71,"soixante et onze ",IF(H4=72,"soixante-douze ",IF(H4=73,"soixante-treize ",IF(H4=74,"soixante-quatorze ",IF(H4=75,"soixante-quinze ",BU4)))))) | BN4: =IF(N4=9,"",IF(N4=7,"",IF(O4=0,"",IF(O4=1,"un ",IF(O4=2,"deux ",IF(O4=3,"trois ",IF(O4=4,"quatre ",IF(O4=5,"cinq ",BV4)))))))) | BO4: =IF(J4=70,"soixante-dix ",IF(J4=71,"soixante et onze ",IF(J4=72,"soixante-douze ",IF(J4=73,"soixante-treize ",IF(J4=74,"soixante-quatorze ",IF(J4=75,"soixante-quinze ",BW4)))))) | BP4: =IF(J4=21,"et un ",IF(J4=31,"et un ",IF(J4=41,"et un ",IF(J4=51,"et un ",IF(J4=61,"et un ",BX4))))) | BQ4: =IF(K4=70,"soixante-dix ",IF(K4=71,"soixante et onze ",IF(K4=72,"soixante-douze ",IF(K4=73,"soixante-treize ",IF(K4=74,"soixante-quatorze ",IF(K4=75,"soixante-quinze ",BY4)))))) | BR4: =IF(T4=9,"",IF(T4=7,"",IF(U4=0,"",IF(U4=1,"un ",IF(U4=2,"deux ",IF(U4=3,"trois ",IF(U4=4,"quatre ",IF(U4=5,"cinq ",BZ4)))))))) | BS4: =IF(L4=70,"soixante-dix ",IF(L4=71,"soixante et onze ",IF(L4=72,"soixante-douze ",IF(L4=73,"soixante-treize ",IF(L4=74,"soixante-quatorze ",IF(L4=75,"soixante-quinze ",CA4)))))) | BT4: =IF(V4=9,"",IF(V4=7,"",IF(W4=0,"",IF(W4=1,"un ",IF(W4=2,"deux ",IF(W4=3,"trois ",IF(W4=4,"quatre ",IF(W4=5,"cinq ",CB4)))))))) | BU4: =IF(H4=76,"soixante-seize ",IF(H4=77,"soixante-dix-sept ",IF(H4=78,"soixante-dix-huit ",IF(H4=79,"soixante-dix-neuf ",CC4)))) | BV4: =IF(N4=9,"",IF(O4=6,"six ",IF(O4=7,"sept ",IF(O4=8,"huit ",IF(O4=9,"neuf ",))))) -> 0 | BW4: =IF(J4=76,"soixante-seize ",IF(J4=77,"soixante-dix-sept ",IF(J4=78,"soixante-dix-huit ",IF(J4=79,"soixante-dix-neuf ",CD4)))) | BX4: =IF(Q4=9,"",IF(Q4=7,"",IF(R4=0,"",IF(R4=1,"un ",IF(R4=2,"deux ",IF(R4=3,"trois ",IF(R4=4,"quatre ",IF(R4=5,"cinq ",CE4)))))))) | BY4: =IF(K4=76,"soixante-seize ",IF(K4=77,"soixante-dix-sept ",IF(K4=78,"soixante-dix-huit ",IF(K4=79,"soixante-dix-neuf ",CF4)))) | BZ4: =IF(T4=9,"",IF(U4=6,"six ",IF(U4=7,"sept ",IF(U4=8,"huit ",IF(U4=9,"neuf ",))))) -> 0 | CA4: =IF(L4=76,"soixante-seize ",IF(L4=77,"soixante-dix-sept ",IF(L4=78,"soixante-dix-huit ",IF(L4=79,"soixante-dix-neuf ",CG4)))) | CB4: =IF(V4=9,"",IF(W4=6,"six ",IF(W4=7,"sept ",IF(W4=8,"huit ",IF(W4=9,"neuf ",))))) -> 0 | CC4: =IF(H4=90,"quatre-vingt-dix ",IF(H4=91,"quatre-vingt-onze ",IF(H4=92,"quatre-vingt-douze ",IF(H4=93,"quatre-vingt-treize ",IF(H4=94,"quatre-vingt-quatorze ",IF(H4=95,"quatre-vingt-quinze ",CH4)))))) | CD4: =IF(J4=90,"quatre-vingt-dix ",IF(J4=91,"quatre-vingt-onze ",IF(J4=92,"quatre-vingt-douze ",IF(J4=93,"quatre-vingt-treize ",IF(J4=94,"quatre-vingt-quatorze ",IF(J4=95,"quatre-vingt-quinze ",CI4)))))) | CE4: =IF(Q4=9,"",IF(R4=6,"six ",IF(R4=7,"sept ",IF(R4=8,"huit ",IF(R4=9,"neuf ",))))) -> 0 | CF4: =IF(K4=90,"quatre-vingt-dix ",IF(K4=91,"quatre-vingt-onze ",IF(K4=92,"quatre-vingt-douze ",IF(K4=93,"quatre-vingt-treize ",IF(K4=94,"quatre-vingt-quatorze ",IF(K4=95,"quatre-vingt-quinze ",CJ4)))))) | CG4: =IF(L4=90,"quatre-vingt-dix ",IF(L4=91,"quatre-vingt-onze ",IF(L4=92,"quatre-vingt-douze ",IF(L4=93,"quatre-vingt-treize ",IF(L4=94,"quatre-vingt-quatorze ",IF(L4=95,"quatre-vingt-quinze ",CK4)))))) | CH4: =IF(H4=96,"quatre-vingt-seize ",IF(H4=97,"quatre-vingt-dix-sept ",IF(H4=98,"quatre-vingt-dix-huit ",IF(H4=99,"quatre-vingt-dix-neuf ",CL4)))) | CI4: =IF(J4=96,"quatre-vingt-seize ",IF(J4=97,"quatre-vingt-dix-sept ",IF(J4=98,"quatre-vingt-dix-huit ",IF(J4=99,"quatre-vingt-dix-neuf ",CM4)))) | CJ4: =IF(K4=96,"quatre-vingt-seize ",IF(K4=97,"quatre-vingt-dix-sept ",IF(K4=98,"quatre-vingt-dix-huit ",IF(K4=99,"quatre-vingt-dix-neuf ",CN4)))) | CK4: =IF(L4=96,"quatre-vingt-seize ",IF(L4=97,"quatre-vingt-dix-sept ",IF(L4=98,"quatre-vingt-dix-huit ",IF(L4=99,"quatre-vingt-dix-neuf ",CO4)))) | CL4: =IF(N4=2,"vingt ",IF(N4=3,"trente ",IF(N4=4,"quarante ",IF(N4=5,"cinquante ",CP4)))) | CM4: =IF(Q4=2,"vingt ",IF(Q4=3,"trente ",IF(Q4=4,"quarante ",IF(Q4=5,"cinquante ",CQ4)))) | CN4: =IF(T4=2,"vingt ",IF(T4=3,"trente ",IF(T4=4,"quarante ",IF(T4=5,"cinquante ",CR4)))) | CO4: =IF(V4=2,"vingt ",IF(V4=3,"trente ",IF(V4=4,"quarante ",IF(V4=5,"cinquante ",CS4)))) | CP4: =IF(N4=6,"soixante ",IF(H4=80,"quatre-vingts ",IF(N4=8,"quatre-vingt-",""))) | CQ4: =IF(Q4=6,"soixante ",IF(J4=80,"quatre-vingts ",IF(Q4=8,"quatre-vingt-",""))) | CR4: =IF(T4=6,"soixante ",IF(K4=80,"quatre-vingts ",IF(T4=8,"quatre-vingt-",""))) | CS4: =IF(V4=6,"soixante ",IF(L4=80,"quatre-vingts ",IF(V4=8,"quatre-vingt-",""))) | CU4: =(X4&Y4&Z4&AA4&AB4&AC4&AD4&AE4&AF4&AG4&AH4&AI4&AJ4&AK4&AL4&AM4&AN4&AO4&AP4) -> zéro €uro
B5: =IF('base demandes'!D5<>"",'base demandes'!D5,0) -> 0 | C5: =UPPER(MID(CU5,1,1))&MID(CU5,2,168) -> Zéro €uro | D5: =INT(B5/1000000) -> 0 | E5: =INT((B5-D5*1000000)/1000) -> 0 | F5: =INT(B5-D5*1000000-E5*1000) -> 0 | G5: =ROUND(B5-D5*1000000-E5*1000-F5,2)*100 -> 0 | H5: =D5-M5*100 -> 0 | J5: =E5-P5*100 -> 0 | K5: =ROUND(F5-S5*100,0) -> 0 | L5: =G5 -> 0 | M5: =INT(D5/100) -> 0 | N5: =INT((D5-M5*100)/10) -> 0 | O5: =D5-M5*100-N5*10 -> 0 | P5: =INT(E5/100) -> 0 | Q5: =INT((E5-P5*100)/10) -> 0 | R5: =E5-P5*100-Q5*10 -> 0 | S5: =INT(F5/100) -> 0 | T5: =INT((F5-S5*100)/10) -> 0 | U5: =F5-S5*100-T5*10 -> 0 | V5: =INT(G5/10) -> 0 | W5: =ROUND(G5-V5*10,0) -> 0 | X5: =IF(M5=0,"",IF(M5=1,"",IF(M5=2,"deux ",IF(M5=3,"trois ",IF(M5=4,"quatre ",IF(M5=5,"cinq ",AQ5)))))) | Y5: =IF(M5=0,"",IF(M5<2,"cent ",AR5)) | Z5: =IF(N5=1,AS5,IF(N5=7,BM5,IF(N5=9,CC5,CL5))) | AA5: =IF(H5=11,"",IF(H5=12,"",IF(H5=13,"",IF(H5=14,"",IF(H5=15,"",IF(H5=16,"",AT5)))))) | AB5: =IF(D5=0,"",IF(D5<2,"million ","millions ")) | AC5: =IF(I5=1,"",IF(P5=0,"",IF(P5=1,"",IF(P5=2,"deux ",IF(P5=3,"trois ",IF(P5=4,"quatre ",IF(P5=5,"cinq ",AU5))))))) | AD5: =IF(P5=0,"",IF(P5<2,"cent ",AV5)) | AE5: =IF(Q5=1,AW5,IF(Q5=7,BO5,IF(Q5=9,CD5,CM5))) | AF5: =IF(E5=1,"",AX5) | AG5: =IF(E5>0,"mille ","") | AH5: =IF(INT(B5)=0,"zéro ",IF(S5=0,"",IF(S5=1,"",IF(S5=2,"deux ",IF(S5=3,"trois ",IF(S5=4,"quatre ",IF(S5=5,"cinq ",AY5))))))) -> zéro | AI5: =IF(S5=0,"",IF(S5<2,"cent ",AZ5)) | AJ5: =IF(T5=1,BA5,IF(T5=7,BQ5,IF(T5=9,CF5,CN5))) | AK5: =IF(K5=11,"",IF(K5=12,"",IF(K5=13,"",IF(K5=14,"",IF(K5=15,"",IF(K5=16,"",BB5)))))) | AL5: =IF(INT(B5<2),"€uro ","€uros ") -> €uro | AM5: =IF(G5>0,"et ","") | AN5: =IF(V5=1,BC5,IF(V5=7,BS5,IF(V5=9,CG5,CO5))) | AO5: =IF(L5=11,"",IF(L5=12,"",IF(L5=13,"",IF(L5=14,"",IF(L5=15,"",IF(L5=16,"",BD5)))))) | AP5: =IF(G5=0,"",IF(G5<2,"centime","centimes")) | AQ5: =IF(D5=0," ",IF(M5=6,"six ",IF(M5=7,"sept ",IF(M5=8,"huit ",IF(M5=9,"neuf ",))))) | AR5: =IF(H5>0,"cent ", "cents ") -> cents | AS5: =IF(H5=10,"dix ",IF(H5=11,"onze ",IF(H5=12,"douze ",IF(H5=13,"treize ",IF(H5=14,"quatorze ",IF(H5=15,"quinze ",BE5)))))) | AT5: =IF(H5=17,"",IF(H5=18,"",IF(H5=19,"",BF5))) | AU5: =IF(P5=6,"six ",IF(P5=7,"sept ",IF(P5=8,"huit ",IF(P5=9,"neuf ",)))) -> 0 | AV5: =IF(J5>0,"cent ", "cents ") -> cents | AW5: =IF(J5=10,"dix ",IF(J5=11,"onze ",IF(J5=12,"douze ",IF(J5=13,"treize ",IF(J5=14,"quatorze ",IF(J5=15,"quinze ",BG5)))))) | AX5: =IF(J5=11,"",IF(J5=12,"",IF(J5=13,"",IF(J5=14,"",IF(J5=15,"",IF(J5=16,"",BH5)))))) | AY5: =IF(S5=6,"six ",IF(S5=7,"sept ",IF(S5=8,"huit ",IF(S5=9,"neuf ",)))) -> 0 | AZ5: =IF(K5>0,"cent ", "cents ") -> cents | BA5: =IF(K5=10,"dix ",IF(K5=11,"onze ",IF(K5=12,"douze ",IF(K5=13,"treize ",IF(K5=14,"quatorze ",IF(K5=15,"quinze ",BI5)))))) | BB5: =IF(K5=17,"",IF(K5=18,"",IF(K5=19,"",BJ5))) | BC5: =IF(L5=10,"dix ",IF(L5=11,"onze ",IF(L5=12,"douze ",IF(L5=13,"treize ",IF(L5=14,"quatorze ",IF(L5=15,"quinze ",BK5)))))) | BD5: =IF(L5=17,"",IF(L5=18,"",IF(L5=19,"",BL5))) | BE5: =IF(H5=16,"seize ",IF(H5=17,"dix-sept ",IF(H5=18,"dix-huit ",IF(H5=19,"dix-neuf ",BM5)))) | BF5: =IF(H5=21,"et un ",IF(H5=31,"et un ",IF(H5=41,"et un ",IF(H5=51,"et un ",IF(H5=61,"et un ",BN5))))) | BG5: =IF(J5=16,"seize ",IF(J5=17,"dix-sept ",IF(J5=18,"dix-huit ",IF(J5=19,"dix-neuf ",BO5)))) | BH5: =IF(J5=17,"",IF(J5=18,"",IF(J5=19,"",BP5))) | BI5: =IF(K5=16,"seize ",IF(K5=17,"dix-sept ",IF(K5=18,"dix-huit ",IF(K5=19,"dix-neuf ",BQ5)))) | BJ5: =IF(K5=21,"et un ",IF(K5=31,"et un ",IF(K5=41,"et un ",IF(K5=51,"et un ",IF(K5=61,"et un ",BR5))))) | BK5: =IF(L5=16,"seize ",IF(L5=17,"dix-sept ",IF(L5=18,"dix-huit ",IF(L5=19,"dix-neuf ",BS5)))) | BL5: =IF(L5=21,"et un ",IF(L5=31,"et un ",IF(L5=41,"et un ",IF(L5=51,"et un ",IF(L5=61,"et un ",BT5))))) | BM5: =IF(H5=70,"soixante-dix ",IF(H5=71,"soixante et onze ",IF(H5=72,"soixante-douze ",IF(H5=73,"soixante-treize ",IF(H5=74,"soixante-quatorze ",IF(H5=75,"soixante-quinze ",BU5)))))) | BN5: =IF(N5=9,"",IF(N5=7,"",IF(O5=0,"",IF(O5=1,"un ",IF(O5=2,"deux ",IF(O5=3,"trois ",IF(O5=4,"quatre ",IF(O5=5,"cinq ",BV5)))))))) | BO5: =IF(J5=70,"soixante-dix ",IF(J5=71,"soixante et onze ",IF(J5=72,"soixante-douze ",IF(J5=73,"soixante-treize ",IF(J5=74,"soixante-quatorze ",IF(J5=75,"soixante-quinze ",BW5)))))) | BP5: =IF(J5=21,"et un ",IF(J5=31,"et un ",IF(J5=41,"et un ",IF(J5=51,"et un ",IF(J5=61,"et un ",BX5))))) | BQ5: =IF(K5=70,"soixante-dix ",IF(K5=71,"soixante et onze ",IF(K5=72,"soixante-douze ",IF(K5=73,"soixante-treize ",IF(K5=74,"soixante-quatorze ",IF(K5=75,"soixante-quinze ",BY5)))))) | BR5: =IF(T5=9,"",IF(T5=7,"",IF(U5=0,"",IF(U5=1,"un ",IF(U5=2,"deux ",IF(U5=3,"trois ",IF(U5=4,"quatre ",IF(U5=5,"cinq ",BZ5)))))))) | BS5: =IF(L5=70,"soixante-dix ",IF(L5=71,"soixante et onze ",IF(L5=72,"soixante-douze ",IF(L5=73,"soixante-treize ",IF(L5=74,"soixante-quatorze ",IF(L5=75,"soixante-quinze ",CA5)))))) | BT5: =IF(V5=9,"",IF(V5=7,"",IF(W5=0,"",IF(W5=1,"un ",IF(W5=2,"deux ",IF(W5=3,"trois ",IF(W5=4,"quatre ",IF(W5=5,"cinq ",CB5)))))))) | BU5: =IF(H5=76,"soixante-seize ",IF(H5=77,"soixante-dix-sept ",IF(H5=78,"soixante-dix-huit ",IF(H5=79,"soixante-dix-neuf ",CC5)))) | BV5: =IF(N5=9,"",IF(O5=6,"six ",IF(O5=7,"sept ",IF(O5=8,"huit ",IF(O5=9,"neuf ",))))) -> 0 | BW5: =IF(J5=76,"soixante-seize ",IF(J5=77,"soixante-dix-sept ",IF(J5=78,"soixante-dix-huit ",IF(J5=79,"soixante-dix-neuf ",CD5)))) | BX5: =IF(Q5=9,"",IF(Q5=7,"",IF(R5=0,"",IF(R5=1,"un ",IF(R5=2,"deux ",IF(R5=3,"trois ",IF(R5=4,"quatre ",IF(R5=5,"cinq ",CE5)))))))) | BY5: =IF(K5=76,"soixante-seize ",IF(K5=77,"soixante-dix-sept ",IF(K5=78,"soixante-dix-huit ",IF(K5=79,"soixante-dix-neuf ",CF5)))) | BZ5: =IF(T5=9,"",IF(U5=6,"six ",IF(U5=7,"sept ",IF(U5=8,"huit ",IF(U5=9,"neuf ",))))) -> 0 | CA5: =IF(L5=76,"soixante-seize ",IF(L5=77,"soixante-dix-sept ",IF(L5=78,"soixante-dix-huit ",IF(L5=79,"soixante-dix-neuf ",CG5)))) | CB5: =IF(V5=9,"",IF(W5=6,"six ",IF(W5=7,"sept ",IF(W5=8,"huit ",IF(W5=9,"neuf ",))))) -> 0 | CC5: =IF(H5=90,"quatre-vingt-dix ",IF(H5=91,"quatre-vingt-onze ",IF(H5=92,"quatre-vingt-douze ",IF(H5=93,"quatre-vingt-treize ",IF(H5=94,"quatre-vingt-quatorze ",IF(H5=95,"quatre-vingt-quinze ",CH5)))))) | CD5: =IF(J5=90,"quatre-vingt-dix ",IF(J5=91,"quatre-vingt-onze ",IF(J5=92,"quatre-vingt-douze ",IF(J5=93,"quatre-vingt-treize ",IF(J5=94,"quatre-vingt-quatorze ",IF(J5=95,"quatre-vingt-quinze ",CI5)))))) | CE5: =IF(Q5=9,"",IF(R5=6,"six ",IF(R5=7,"sept ",IF(R5=8,"huit ",IF(R5=9,"neuf ",))))) -> 0 | CF5: =IF(K5=90,"quatre-vingt-dix ",IF(K5=91,"quatre-vingt-onze ",IF(K5=92,"quatre-vingt-douze ",IF(K5=93,"quatre-vingt-treize ",IF(K5=94,"quatre-vingt-quatorze ",IF(K5=95,"quatre-vingt-quinze ",CJ5)))))) | CG5: =IF(L5=90,"quatre-vingt-dix ",IF(L5=91,"quatre-vingt-onze ",IF(L5=92,"quatre-vingt-douze ",IF(L5=93,"quatre-vingt-treize ",IF(L5=94,"quatre-vingt-quatorze ",IF(L5=95,"quatre-vingt-quinze ",CK5)))))) | CH5: =IF(H5=96,"quatre-vingt-seize ",IF(H5=97,"quatre-vingt-dix-sept ",IF(H5=98,"quatre-vingt-dix-huit ",IF(H5=99,"quatre-vingt-dix-neuf ",CL5)))) | CI5: =IF(J5=96,"quatre-vingt-seize ",IF(J5=97,"quatre-vingt-dix-sept ",IF(J5=98,"quatre-vingt-dix-huit ",IF(J5=99,"quatre-vingt-dix-neuf ",CM5)))) | CJ5: =IF(K5=96,"quatre-vingt-seize ",IF(K5=97,"quatre-vingt-dix-sept ",IF(K5=98,"quatre-vingt-dix-huit ",IF(K5=99,"quatre-vingt-dix-neuf ",CN5)))) | CK5: =IF(L5=96,"quatre-vingt-seize ",IF(L5=97,"quatre-vingt-dix-sept ",IF(L5=98,"quatre-vingt-dix-huit ",IF(L5=99,"quatre-vingt-dix-neuf ",CO5)))) | CL5: =IF(N5=2,"vingt ",IF(N5=3,"trente ",IF(N5=4,"quarante ",IF(N5=5,"cinquante ",CP5)))) | CM5: =IF(Q5=2,"vingt ",IF(Q5=3,"trente ",IF(Q5=4,"quarante ",IF(Q5=5,"cinquante ",CQ5)))) | CN5: =IF(T5=2,"vingt ",IF(T5=3,"trente ",IF(T5=4,"quarante ",IF(T5=5,"cinquante ",CR5)))) | CO5: =IF(V5=2,"vingt ",IF(V5=3,"trente ",IF(V5=4,"quarante ",IF(V5=5,"cinquante ",CS5)))) | CP5: =IF(N5=6,"soixante ",IF(H5=80,"quatre-vingts ",IF(N5=8,"quatre-vingt-",""))) | CQ5: =IF(Q5=6,"soixante ",IF(J5=80,"quatre-vingts ",IF(Q5=8,"quatre-vingt-",""))) | CR5: =IF(T5=6,"soixante ",IF(K5=80,"quatre-vingts ",IF(T5=8,"quatre-vingt-",""))) | CS5: =IF(V5=6,"soixante ",IF(L5=80,"quatre-vingts ",IF(V5=8,"quatre-vingt-",""))) | CU5: =(X5&Y5&Z5&AA5&AB5&AC5&AD5&AE5&AF5&AG5&AH5&AI5&AJ5&AK5&AL5&AM5&AN5&AO5&AP5) -> zéro €uro
B6: =IF('base demandes'!D6<>"",'base demandes'!D6,0) -> 0 | C6: =UPPER(MID(CU6,1,1))&MID(CU6,2,168) -> Zéro €uro | D6: =INT(B6/1000000) -> 0 | E6: =INT((B6-D6*1000000)/1000) -> 0 | F6: =INT(B6-D6*1000000-E6*1000) -> 0 | G6: =ROUND(B6-D6*1000000-E6*1000-F6,2)*100 -> 0 | H6: =D6-M6*100 -> 0 | J6: =E6-P6*100 -> 0 | K6: =ROUND(F6-S6*100,0) -> 0 | L6: =G6 -> 0 | M6: =INT(D6/100) -> 0 | N6: =INT((D6-M6*100)/10) -> 0 | O6: =D6-M6*100-N6*10 -> 0 | P6: =INT(E6/100) -> 0 | Q6: =INT((E6-P6*100)/10) -> 0 | R6: =E6-P6*100-Q6*10 -> 0 | S6: =INT(F6/100) -> 0 | T6: =INT((F6-S6*100)/10) -> 0 | U6: =F6-S6*100-T6*10 -> 0 | V6: =INT(G6/10) -> 0 | W6: =ROUND(G6-V6*10,0) -> 0 | X6: =IF(M6=0,"",IF(M6=1,"",IF(M6=2,"deux ",IF(M6=3,"trois ",IF(M6=4,"quatre ",IF(M6=5,"cinq ",AQ6)))))) | Y6: =IF(M6=0,"",IF(M6<2,"cent ",AR6)) | Z6: =IF(N6=1,AS6,IF(N6=7,BM6,IF(N6=9,CC6,CL6))) | AA6: =IF(H6=11,"",IF(H6=12,"",IF(H6=13,"",IF(H6=14,"",IF(H6=15,"",IF(H6=16,"",AT6)))))) | AB6: =IF(D6=0,"",IF(D6<2,"million ","millions ")) | AC6: =IF(I6=1,"",IF(P6=0,"",IF(P6=1,"",IF(P6=2,"deux ",IF(P6=3,"trois ",IF(P6=4,"quatre ",IF(P6=5,"cinq ",AU6))))))) | AD6: =IF(P6=0,"",IF(P6<2,"cent ",AV6)) | AE6: =IF(Q6=1,AW6,IF(Q6=7,BO6,IF(Q6=9,CD6,CM6))) | AF6: =IF(E6=1,"",AX6) | AG6: =IF(E6>0,"mille ","") | AH6: =IF(INT(B6)=0,"zéro ",IF(S6=0,"",IF(S6=1,"",IF(S6=2,"deux ",IF(S6=3,"trois ",IF(S6=4,"quatre ",IF(S6=5,"cinq ",AY6))))))) -> zéro | AI6: =IF(S6=0,"",IF(S6<2,"cent ",AZ6)) | AJ6: =IF(T6=1,BA6,IF(T6=7,BQ6,IF(T6=9,CF6,CN6))) | AK6: =IF(K6=11,"",IF(K6=12,"",IF(K6=13,"",IF(K6=14,"",IF(K6=15,"",IF(K6=16,"",BB6)))))) | AL6: =IF(INT(B6<2),"€uro ","€uros ") -> €uro | AM6: =IF(G6>0,"et ","") | AN6: =IF(V6=1,BC6,IF(V6=7,BS6,IF(V6=9,CG6,CO6))) | AO6: =IF(L6=11,"",IF(L6=12,"",IF(L6=13,"",IF(L6=14,"",IF(L6=15,"",IF(L6=16,"",BD6)))))) | AP6: =IF(G6=0,"",IF(G6<2,"centime","centimes")) | AQ6: =IF(D6=0," ",IF(M6=6,"six ",IF(M6=7,"sept ",IF(M6=8,"huit ",IF(M6=9,"neuf ",))))) | AR6: =IF(H6>0,"cent ", "cents ") -> cents | AS6: =IF(H6=10,"dix ",IF(H6=11,"onze ",IF(H6=12,"douze ",IF(H6=13,"treize ",IF(H6=14,"quatorze ",IF(H6=15,"quinze ",BE6)))))) | AT6: =IF(H6=17,"",IF(H6=18,"",IF(H6=19,"",BF6))) | AU6: =IF(P6=6,"six ",IF(P6=7,"sept ",IF(P6=8,"huit ",IF(P6=9,"neuf ",)))) -> 0 | AV6: =IF(J6>0,"cent ", "cents ") -> cents | AW6: =IF(J6=10,"dix ",IF(J6=11,"onze ",IF(J6=12,"douze ",IF(J6=13,"treize ",IF(J6=14,"quatorze ",IF(J6=15,"quinze ",BG6)))))) | AX6: =IF(J6=11,"",IF(J6=12,"",IF(J6=13,"",IF(J6=14,"",IF(J6=15,"",IF(J6=16,"",BH6)))))) | AY6: =IF(S6=6,"six ",IF(S6=7,"sept ",IF(S6=8,"huit ",IF(S6=9,"neuf ",)))) -> 0 | AZ6: =IF(K6>0,"cent ", "cents ") -> cents | BA6: =IF(K6=10,"dix ",IF(K6=11,"onze ",IF(K6=12,"douze ",IF(K6=13,"treize ",IF(K6=14,"quatorze ",IF(K6=15,"quinze ",BI6)))))) | BB6: =IF(K6=17,"",IF(K6=18,"",IF(K6=19,"",BJ6))) | BC6: =IF(L6=10,"dix ",IF(L6=11,"onze ",IF(L6=12,"douze ",IF(L6=13,"treize ",IF(L6=14,"quatorze ",IF(L6=15,"quinze ",BK6)))))) | BD6: =IF(L6=17,"",IF(L6=18,"",IF(L6=19,"",BL6))) | BE6: =IF(H6=16,"seize ",IF(H6=17,"dix-sept ",IF(H6=18,"dix-huit ",IF(H6=19,"dix-neuf ",BM6)))) | BF6: =IF(H6=21,"et un ",IF(H6=31,"et un ",IF(H6=41,"et un ",IF(H6=51,"et un ",IF(H6=61,"et un ",BN6))))) | BG6: =IF(J6=16,"seize ",IF(J6=17,"dix-sept ",IF(J6=18,"dix-huit ",IF(J6=19,"dix-neuf ",BO6)))) | BH6: =IF(J6=17,"",IF(J6=18,"",IF(J6=19,"",BP6))) | BI6: =IF(K6=16,"seize ",IF(K6=17,"dix-sept ",IF(K6=18,"dix-huit ",IF(K6=19,"dix-neuf ",BQ6)))) | BJ6: =IF(K6=21,"et un ",IF(K6=31,"et un ",IF(K6=41,"et un ",IF(K6=51,"et un ",IF(K6=61,"et un ",BR6))))) | BK6: =IF(L6=16,"seize ",IF(L6=17,"dix-sept ",IF(L6=18,"dix-huit ",IF(L6=19,"dix-neuf ",BS6)))) | BL6: =IF(L6=21,"et un ",IF(L6=31,"et un ",IF(L6=41,"et un ",IF(L6=51,"et un ",IF(L6=61,"et un ",BT6))))) | BM6: =IF(H6=70,"soixante-dix ",IF(H6=71,"soixante et onze ",IF(H6=72,"soixante-douze ",IF(H6=73,"soixante-treize ",IF(H6=74,"soixante-quatorze ",IF(H6=75,"soixante-quinze ",BU6)))))) | BN6: =IF(N6=9,"",IF(N6=7,"",IF(O6=0,"",IF(O6=1,"un ",IF(O6=2,"deux ",IF(O6=3,"trois ",IF(O6=4,"quatre ",IF(O6=5,"cinq ",BV6)))))))) | BO6: =IF(J6=70,"soixante-dix ",IF(J6=71,"soixante et onze ",IF(J6=72,"soixante-douze ",IF(J6=73,"soixante-treize ",IF(J6=74,"soixante-quatorze ",IF(J6=75,"soixante-quinze ",BW6)))))) | BP6: =IF(J6=21,"et un ",IF(J6=31,"et un ",IF(J6=41,"et un ",IF(J6=51,"et un ",IF(J6=61,"et un ",BX6))))) | BQ6: =IF(K6=70,"soixante-dix ",IF(K6=71,"soixante et onze ",IF(K6=72,"soixante-douze ",IF(K6=73,"soixante-treize ",IF(K6=74,"soixante-quatorze ",IF(K6=75,"soixante-quinze ",BY6)))))) | BR6: =IF(T6=9,"",IF(T6=7,"",IF(U6=0,"",IF(U6=1,"un ",IF(U6=2,"deux ",IF(U6=3,"trois ",IF(U6=4,"quatre ",IF(U6=5,"cinq ",BZ6)))))))) | BS6: =IF(L6=70,"soixante-dix ",IF(L6=71,"soixante et onze ",IF(L6=72,"soixante-douze ",IF(L6=73,"soixante-treize ",IF(L6=74,"soixante-quatorze ",IF(L6=75,"soixante-quinze ",CA6)))))) | BT6: =IF(V6=9,"",IF(V6=7,"",IF(W6=0,"",IF(W6=1,"un ",IF(W6=2,"deux ",IF(W6=3,"trois ",IF(W6=4,"quatre ",IF(W6=5,"cinq ",CB6)))))))) | BU6: =IF(H6=76,"soixante-seize ",IF(H6=77,"soixante-dix-sept ",IF(H6=78,"soixante-dix-huit ",IF(H6=79,"soixante-dix-neuf ",CC6)))) | BV6: =IF(N6=9,"",IF(O6=6,"six ",IF(O6=7,"sept ",IF(O6=8,"huit ",IF(O6=9,"neuf ",))))) -> 0 | BW6: =IF(J6=76,"soixante-seize ",IF(J6=77,"soixante-dix-sept ",IF(J6=78,"soixante-dix-huit ",IF(J6=79,"soixante-dix-neuf ",CD6)))) | BX6: =IF(Q6=9,"",IF(Q6=7,"",IF(R6=0,"",IF(R6=1,"un ",IF(R6=2,"deux ",IF(R6=3,"trois ",IF(R6=4,"quatre ",IF(R6=5,"cinq ",CE6)))))))) | BY6: =IF(K6=76,"soixante-seize ",IF(K6=77,"soixante-dix-sept ",IF(K6=78,"soixante-dix-huit ",IF(K6=79,"soixante-dix-neuf ",CF6)))) | BZ6: =IF(T6=9,"",IF(U6=6,"six ",IF(U6=7,"sept ",IF(U6=8,"huit ",IF(U6=9,"neuf ",))))) -> 0 | CA6: =IF(L6=76,"soixante-seize ",IF(L6=77,"soixante-dix-sept ",IF(L6=78,"soixante-dix-huit ",IF(L6=79,"soixante-dix-neuf ",CG6)))) | CB6: =IF(V6=9,"",IF(W6=6,"six ",IF(W6=7,"sept ",IF(W6=8,"huit ",IF(W6=9,"neuf ",))))) -> 0 | CC6: =IF(H6=90,"quatre-vingt-dix ",IF(H6=91,"quatre-vingt-onze ",IF(H6=92,"quatre-vingt-douze ",IF(H6=93,"quatre-vingt-treize ",IF(H6=94,"quatre-vingt-quatorze ",IF(H6=95,"quatre-vingt-quinze ",CH6)))))) | CD6: =IF(J6=90,"quatre-vingt-dix ",IF(J6=91,"quatre-vingt-onze ",IF(J6=92,"quatre-vingt-douze ",IF(J6=93,"quatre-vingt-treize ",IF(J6=94,"quatre-vingt-quatorze ",IF(J6=95,"quatre-vingt-quinze ",CI6)))))) | CE6: =IF(Q6=9,"",IF(R6=6,"six ",IF(R6=7,"sept ",IF(R6=8,"huit ",IF(R6=9,"neuf ",))))) -> 0 | CF6: =IF(K6=90,"quatre-vingt-dix ",IF(K6=91,"quatre-vingt-onze ",IF(K6=92,"quatre-vingt-douze ",IF(K6=93,"quatre-vingt-treize ",IF(K6=94,"quatre-vingt-quatorze ",IF(K6=95,"quatre-vingt-quinze ",CJ6)))))) | CG6: =IF(L6=90,"quatre-vingt-dix ",IF(L6=91,"quatre-vingt-onze ",IF(L6=92,"quatre-vingt-douze ",IF(L6=93,"quatre-vingt-treize ",IF(L6=94,"quatre-vingt-quatorze ",IF(L6=95,"quatre-vingt-quinze ",CK6)))))) | CH6: =IF(H6=96,"quatre-vingt-seize ",IF(H6=97,"quatre-vingt-dix-sept ",IF(H6=98,"quatre-vingt-dix-huit ",IF(H6=99,"quatre-vingt-dix-neuf ",CL6)))) | CI6: =IF(J6=96,"quatre-vingt-seize ",IF(J6=97,"quatre-vingt-dix-sept ",IF(J6=98,"quatre-vingt-dix-huit ",IF(J6=99,"quatre-vingt-dix-neuf ",CM6)))) | CJ6: =IF(K6=96,"quatre-vingt-seize ",IF(K6=97,"quatre-vingt-dix-sept ",IF(K6=98,"quatre-vingt-dix-huit ",IF(K6=99,"quatre-vingt-dix-neuf ",CN6)))) | CK6: =IF(L6=96,"quatre-vingt-seize ",IF(L6=97,"quatre-vingt-dix-sept ",IF(L6=98,"quatre-vingt-dix-huit ",IF(L6=99,"quatre-vingt-dix-neuf ",CO6)))) | CL6: =IF(N6=2,"vingt ",IF(N6=3,"trente ",IF(N6=4,"quarante ",IF(N6=5,"cinquante ",CP6)))) | CM6: =IF(Q6=2,"vingt ",IF(Q6=3,"trente ",IF(Q6=4,"quarante ",IF(Q6=5,"cinquante ",CQ6)))) | CN6: =IF(T6=2,"vingt ",IF(T6=3,"trente ",IF(T6=4,"quarante ",IF(T6=5,"cinquante ",CR6)))) | CO6: =IF(V6=2,"vingt ",IF(V6=3,"trente ",IF(V6=4,"quarante ",IF(V6=5,"cinquante ",CS6)))) | CP6: =IF(N6=6,"soixante ",IF(H6=80,"quatre-vingts ",IF(N6=8,"quatre-vingt-",""))) | CQ6: =IF(Q6=6,"soixante ",IF(J6=80,"quatre-vingts ",IF(Q6=8,"quatre-vingt-",""))) | CR6: =IF(T6=6,"soixante ",IF(K6=80,"quatre-vingts ",IF(T6=8,"quatre-vingt-",""))) | CS6: =IF(V6=6,"soixante ",IF(L6=80,"quatre-vingts ",IF(V6=8,"quatre-vingt-",""))) | CU6: =(X6&Y6&Z6&AA6&AB6&AC6&AD6&AE6&AF6&AG6&AH6&AI6&AJ6&AK6&AL6&AM6&AN6&AO6&AP6) -> zéro €uro
B7: =IF('base demandes'!D7<>"",'base demandes'!D7,0) -> 0 | C7: =UPPER(MID(CU7,1,1))&MID(CU7,2,168) -> Zéro €uro | D7: =INT(B7/1000000) -> 0 | E7: =INT((B7-D7*1000000)/1000) -> 0 | F7: =INT(B7-D7*1000000-E7*1000) -> 0 | G7: =ROUND(B7-D7*1000000-E7*1000-F7,2)*100 -> 0 | H7: =D7-M7*100 -> 0 | J7: =E7-P7*100 -> 0 | K7: =ROUND(F7-S7*100,0) -> 0 | L7: =G7 -> 0 | M7: =INT(D7/100) -> 0 | N7: =INT((D7-M7*100)/10) -> 0 | O7: =D7-M7*100-N7*10 -> 0 | P7: =INT(E7/100) -> 0 | Q7: =INT((E7-P7*100)/10) -> 0 | R7: =E7-P7*100-Q7*10 -> 0 | S7: =INT(F7/100) -> 0 | T7: =INT((F7-S7*100)/10) -> 0 | U7: =F7-S7*100-T7*10 -> 0 | V7: =INT(G7/10) -> 0 | W7: =ROUND(G7-V7*10,0) -> 0 | X7: =IF(M7=0,"",IF(M7=1,"",IF(M7=2,"deux ",IF(M7=3,"trois ",IF(M7=4,"quatre ",IF(M7=5,"cinq ",AQ7)))))) | Y7: =IF(M7=0,"",IF(M7<2,"cent ",AR7)) | Z7: =IF(N7=1,AS7,IF(N7=7,BM7,IF(N7=9,CC7,CL7))) | AA7: =IF(H7=11,"",IF(H7=12,"",IF(H7=13,"",IF(H7=14,"",IF(H7=15,"",IF(H7=16,"",AT7)))))) | AB7: =IF(D7=0,"",IF(D7<2,"million ","millions ")) | AC7: =IF(I7=1,"",IF(P7=0,"",IF(P7=1,"",IF(P7=2,"deux ",IF(P7=3,"trois ",IF(P7=4,"quatre ",IF(P7=5,"cinq ",AU7))))))) | AD7: =IF(P7=0,"",IF(P7<2,"cent ",AV7)) | AE7: =IF(Q7=1,AW7,IF(Q7=7,BO7,IF(Q7=9,CD7,CM7))) | AF7: =IF(E7=1,"",AX7) | AG7: =IF(E7>0,"mille ","") | AH7: =IF(INT(B7)=0,"zéro ",IF(S7=0,"",IF(S7=1,"",IF(S7=2,"deux ",IF(S7=3,"trois ",IF(S7=4,"quatre ",IF(S7=5,"cinq ",AY7))))))) -> zéro | AI7: =IF(S7=0,"",IF(S7<2,"cent ",AZ7)) | AJ7: =IF(T7=1,BA7,IF(T7=7,BQ7,IF(T7=9,CF7,CN7))) | AK7: =IF(K7=11,"",IF(K7=12,"",IF(K7=13,"",IF(K7=14,"",IF(K7=15,"",IF(K7=16,"",BB7)))))) | AL7: =IF(INT(B7<2),"€uro ","€uros ") -> €uro | AM7: =IF(G7>0,"et ","") | AN7: =IF(V7=1,BC7,IF(V7=7,BS7,IF(V7=9,CG7,CO7))) | AO7: =IF(L7=11,"",IF(L7=12,"",IF(L7=13,"",IF(L7=14,"",IF(L7=15,"",IF(L7=16,"",BD7)))))) | AP7: =IF(G7=0,"",IF(G7<2,"centime","centimes")) | AQ7: =IF(D7=0," ",IF(M7=6,"six ",IF(M7=7,"sept ",IF(M7=8,"huit ",IF(M7=9,"neuf ",))))) | AR7: =IF(H7>0,"cent ", "cents ") -> cents | AS7: =IF(H7=10,"dix ",IF(H7=11,"onze ",IF(H7=12,"douze ",IF(H7=13,"treize ",IF(H7=14,"quatorze ",IF(H7=15,"quinze ",BE7)))))) | AT7: =IF(H7=17,"",IF(H7=18,"",IF(H7=19,"",BF7))) | AU7: =IF(P7=6,"six ",IF(P7=7,"sept ",IF(P7=8,"huit ",IF(P7=9,"neuf ",)))) -> 0 | AV7: =IF(J7>0,"cent ", "cents ") -> cents | AW7: =IF(J7=10,"dix ",IF(J7=11,"onze ",IF(J7=12,"douze ",IF(J7=13,"treize ",IF(J7=14,"quatorze ",IF(J7=15,"quinze ",BG7)))))) | AX7: =IF(J7=11,"",IF(J7=12,"",IF(J7=13,"",IF(J7=14,"",IF(J7=15,"",IF(J7=16,"",BH7)))))) | AY7: =IF(S7=6,"six ",IF(S7=7,"sept ",IF(S7=8,"huit ",IF(S7=9,"neuf ",)))) -> 0 | AZ7: =IF(K7>0,"cent ", "cents ") -> cents | BA7: =IF(K7=10,"dix ",IF(K7=11,"onze ",IF(K7=12,"douze ",IF(K7=13,"treize ",IF(K7=14,"quatorze ",IF(K7=15,"quinze ",BI7)))))) | BB7: =IF(K7=17,"",IF(K7=18,"",IF(K7=19,"",BJ7))) | BC7: =IF(L7=10,"dix ",IF(L7=11,"onze ",IF(L7=12,"douze ",IF(L7=13,"treize ",IF(L7=14,"quatorze ",IF(L7=15,"quinze ",BK7)))))) | BD7: =IF(L7=17,"",IF(L7=18,"",IF(L7=19,"",BL7))) | BE7: =IF(H7=16,"seize ",IF(H7=17,"dix-sept ",IF(H7=18,"dix-huit ",IF(H7=19,"dix-neuf ",BM7)))) | BF7: =IF(H7=21,"et un ",IF(H7=31,"et un ",IF(H7=41,"et un ",IF(H7=51,"et un ",IF(H7=61,"et un ",BN7))))) | BG7: =IF(J7=16,"seize ",IF(J7=17,"dix-sept ",IF(J7=18,"dix-huit ",IF(J7=19,"dix-neuf ",BO7)))) | BH7: =IF(J7=17,"",IF(J7=18,"",IF(J7=19,"",BP7))) | BI7: =IF(K7=16,"seize ",IF(K7=17,"dix-sept ",IF(K7=18,"dix-huit ",IF(K7=19,"dix-neuf ",BQ7)))) | BJ7: =IF(K7=21,"et un ",IF(K7=31,"et un ",IF(K7=41,"et un ",IF(K7=51,"et un ",IF(K7=61,"et un ",BR7))))) | BK7: =IF(L7=16,"seize ",IF(L7=17,"dix-sept ",IF(L7=18,"dix-huit ",IF(L7=19,"dix-neuf ",BS7)))) | BL7: =IF(L7=21,"et un ",IF(L7=31,"et un ",IF(L7=41,"et un ",IF(L7=51,"et un ",IF(L7=61,"et un ",BT7))))) | BM7: =IF(H7=70,"soixante-dix ",IF(H7=71,"soixante et onze ",IF(H7=72,"soixante-douze ",IF(H7=73,"soixante-treize ",IF(H7=74,"soixante-quatorze ",IF(H7=75,"soixante-quinze ",BU7)))))) | BN7: =IF(N7=9,"",IF(N7=7,"",IF(O7=0,"",IF(O7=1,"un ",IF(O7=2,"deux ",IF(O7=3,"trois ",IF(O7=4,"quatre ",IF(O7=5,"cinq ",BV7)))))))) | BO7: =IF(J7=70,"soixante-dix ",IF(J7=71,"soixante et onze ",IF(J7=72,"soixante-douze ",IF(J7=73,"soixante-treize ",IF(J7=74,"soixante-quatorze ",IF(J7=75,"soixante-quinze ",BW7)))))) | BP7: =IF(J7=21,"et un ",IF(J7=31,"et un ",IF(J7=41,"et un ",IF(J7=51,"et un ",IF(J7=61,"et un ",BX7))))) | BQ7: =IF(K7=70,"soixante-dix ",IF(K7=71,"soixante et onze ",IF(K7=72,"soixante-douze ",IF(K7=73,"soixante-treize ",IF(K7=74,"soixante-quatorze ",IF(K7=75,"soixante-quinze ",BY7)))))) | BR7: =IF(T7=9,"",IF(T7=7,"",IF(U7=0,"",IF(U7=1,"un ",IF(U7=2,"deux ",IF(U7=3,"trois ",IF(U7=4,"quatre ",IF(U7=5,"cinq ",BZ7)))))))) | BS7: =IF(L7=70,"soixante-dix ",IF(L7=71,"soixante et onze ",IF(L7=72,"soixante-douze ",IF(L7=73,"soixante-treize ",IF(L7=74,"soixante-quatorze ",IF(L7=75,"soixante-quinze ",CA7)))))) | BT7: =IF(V7=9,"",IF(V7=7,"",IF(W7=0,"",IF(W7=1,"un ",IF(W7=2,"deux ",IF(W7=3,"trois ",IF(W7=4,"quatre ",IF(W7=5,"cinq ",CB7)))))))) | BU7: =IF(H7=76,"soixante-seize ",IF(H7=77,"soixante-dix-sept ",IF(H7=78,"soixante-dix-huit ",IF(H7=79,"soixante-dix-neuf ",CC7)))) | BV7: =IF(N7=9,"",IF(O7=6,"six ",IF(O7=7,"sept ",IF(O7=8,"huit ",IF(O7=9,"neuf ",))))) -> 0 | BW7: =IF(J7=76,"soixante-seize ",IF(J7=77,"soixante-dix-sept ",IF(J7=78,"soixante-dix-huit ",IF(J7=79,"soixante-dix-neuf ",CD7)))) | BX7: =IF(Q7=9,"",IF(Q7=7,"",IF(R7=0,"",IF(R7=1,"un ",IF(R7=2,"deux ",IF(R7=3,"trois ",IF(R7=4,"quatre ",IF(R7=5,"cinq ",CE7)))))))) | BY7: =IF(K7=76,"soixante-seize ",IF(K7=77,"soixante-dix-sept ",IF(K7=78,"soixante-dix-huit ",IF(K7=79,"soixante-dix-neuf ",CF7)))) | BZ7: =IF(T7=9,"",IF(U7=6,"six ",IF(U7=7,"sept ",IF(U7=8,"huit ",IF(U7=9,"neuf ",))))) -> 0 | CA7: =IF(L7=76,"soixante-seize ",IF(L7=77,"soixante-dix-sept ",IF(L7=78,"soixante-dix-huit ",IF(L7=79,"soixante-dix-neuf ",CG7)))) | CB7: =IF(V7=9,"",IF(W7=6,"six ",IF(W7=7,"sept ",IF(W7=8,"huit ",IF(W7=9,"neuf ",))))) -> 0 | CC7: =IF(H7=90,"quatre-vingt-dix ",IF(H7=91,"quatre-vingt-onze ",IF(H7=92,"quatre-vingt-douze ",IF(H7=93,"quatre-vingt-treize ",IF(H7=94,"quatre-vingt-quatorze ",IF(H7=95,"quatre-vingt-quinze ",CH7)))))) | CD7: =IF(J7=90,"quatre-vingt-dix ",IF(J7=91,"quatre-vingt-onze ",IF(J7=92,"quatre-vingt-douze ",IF(J7=93,"quatre-vingt-treize ",IF(J7=94,"quatre-vingt-quatorze ",IF(J7=95,"quatre-vingt-quinze ",CI7)))))) | CE7: =IF(Q7=9,"",IF(R7=6,"six ",IF(R7=7,"sept ",IF(R7=8,"huit ",IF(R7=9,"neuf ",))))) -> 0 | CF7: =IF(K7=90,"quatre-vingt-dix ",IF(K7=91,"quatre-vingt-onze ",IF(K7=92,"quatre-vingt-douze ",IF(K7=93,"quatre-vingt-treize ",IF(K7=94,"quatre-vingt-quatorze ",IF(K7=95,"quatre-vingt-quinze ",CJ7)))))) | CG7: =IF(L7=90,"quatre-vingt-dix ",IF(L7=91,"quatre-vingt-onze ",IF(L7=92,"quatre-vingt-douze ",IF(L7=93,"quatre-vingt-treize ",IF(L7=94,"quatre-vingt-quatorze ",IF(L7=95,"quatre-vingt-quinze ",CK7)))))) | CH7: =IF(H7=96,"quatre-vingt-seize ",IF(H7=97,"quatre-vingt-dix-sept ",IF(H7=98,"quatre-vingt-dix-huit ",IF(H7=99,"quatre-vingt-dix-neuf ",CL7)))) | CI7: =IF(J7=96,"quatre-vingt-seize ",IF(J7=97,"quatre-vingt-dix-sept ",IF(J7=98,"quatre-vingt-dix-huit ",IF(J7=99,"quatre-vingt-dix-neuf ",CM7)))) | CJ7: =IF(K7=96,"quatre-vingt-seize ",IF(K7=97,"quatre-vingt-dix-sept ",IF(K7=98,"quatre-vingt-dix-huit ",IF(K7=99,"quatre-vingt-dix-neuf ",CN7)))) | CK7: =IF(L7=96,"quatre-vingt-seize ",IF(L7=97,"quatre-vingt-dix-sept ",IF(L7=98,"quatre-vingt-dix-huit ",IF(L7=99,"quatre-vingt-dix-neuf ",CO7)))) | CL7: =IF(N7=2,"vingt ",IF(N7=3,"trente ",IF(N7=4,"quarante ",IF(N7=5,"cinquante ",CP7)))) | CM7: =IF(Q7=2,"vingt ",IF(Q7=3,"trente ",IF(Q7=4,"quarante ",IF(Q7=5,"cinquante ",CQ7)))) | CN7: =IF(T7=2,"vingt ",IF(T7=3,"trente ",IF(T7=4,"quarante ",IF(T7=5,"cinquante ",CR7)))) | CO7: =IF(V7=2,"vingt ",IF(V7=3,"trente ",IF(V7=4,"quarante ",IF(V7=5,"cinquante ",CS7)))) | CP7: =IF(N7=6,"soixante ",IF(H7=80,"quatre-vingts ",IF(N7=8,"quatre-vingt-",""))) | CQ7: =IF(Q7=6,"soixante ",IF(J7=80,"quatre-vingts ",IF(Q7=8,"quatre-vingt-",""))) | CR7: =IF(T7=6,"soixante ",IF(K7=80,"quatre-vingts ",IF(T7=8,"quatre-vingt-",""))) | CS7: =IF(V7=6,"soixante ",IF(L7=80,"quatre-vingts ",IF(V7=8,"quatre-vingt-",""))) | CU7: =(X7&Y7&Z7&AA7&AB7&AC7&AD7&AE7&AF7&AG7&AH7&AI7&AJ7&AK7&AL7&AM7&AN7&AO7&AP7) -> zéro €uro
