Workbook
Name atiacldeduc: [1]BORDEREAU!$O$34
Name atiaclmontant: [1]BORDEREAU!$T$34
Name ATIACLTOT: [1]CNRACL!$F$9
Name base: '[2]TARIFS PAR CLASSE 2007'!$C$6
Name base100CPAcsgcrds: '[3]URSSAF PAGE SAISIE'!#REF!
Name base97CPAcsgcrds: '[3]URSSAF PAGE SAISIE'!#REF!
Name BASEAPPRENTI: [1]Feuil1!$S$2
Name baseapprentiseuil: [1]Feuil1!$BY$2
Name BASEASSEDIC: '[3]URSSAF PAGE SAISIE'!$K$56
Name BASEATI: [1]Feuil1!$Z$2
Name basecaeplafonnée: '[3]URSSAF PAGE SAISIE'!$K$47
Name basecaplafonnée: '[3]URSSAF PAGE SAISIE'!#REF!
Name basecasFOURNIERplafonnée: '[3]URSSAF PAGE SAISIE'!$K$51
Name basecasFOURNIERtotalitée: '[3]URSSAF PAGE SAISIE'!$K$50
Name basecasgeneralplafonnée: '[3]URSSAF PAGE SAISIE'!$K$30
Name basecasgeneraltotal: '[3]URSSAF PAGE SAISIE'!$K$29
Name basecatotalite: '[3]URSSAF PAGE SAISIE'!#REF!
Name BASECDGRG: [1]Feuil1!$AD$2
Name BASECDGTIT: [1]Feuil1!$AE$2
Name basececplafonnee: '[3]URSSAF PAGE SAISIE'!#REF!
Name basecectotalite: '[3]URSSAF PAGE SAISIE'!#REF!
Name baseCENTREloisirsPlafonnée: '[3]URSSAF PAGE SAISIE'!$K$32
Name baseCENTREloisirsTotalitée: '[3]URSSAF PAGE SAISIE'!$K$31
Name BASECNRACL: [1]Feuil1!$W$2
Name BASECNRACT: [1]Feuil1!$M$2
Name basecollabooccas: [1]Feuil1!$BM$2
Name BASECSGELU: [1]Feuil1!$K$2
Name BASECSGRG: [1]Feuil1!$E$2
Name BASECSGTIT: [1]Feuil1!$G$2
Name BASECUICAE: [1]Feuil1!$O$2
Name BASEELUTOT: [1]Feuil1!$I$2
Name BASEFNAL: [1]Feuil1!$Q$2
Name BASEFORFAITSOCIAL: '[3]URSSAF PAGE SAISIE'!$K$61
Name basehs: '[3]URSSAF PAGE SAISIE'!$K$49
Name basehscaeT: [1]BORDEREAU!#REF!
Name basehscaplafonnée: '[3]URSSAF PAGE SAISIE'!#REF!
Name basehscaT: '[3]URSSAF PAGE SAISIE'!#REF!
Name basehscecplafonnée: '[3]URSSAF PAGE SAISIE'!#REF!
Name basehscecT: '[3]URSSAF PAGE SAISIE'!#REF!
Name BASEIRCAELUS: [1]Feuil1!$AR$2
Name BASEIRCARG: [1]Feuil1!$AO$2
Name BASEMALADIECOMP: [1]Feuil1!$BP$2
Name BASEPLAFONNECOLLABO: '[3]URSSAF PAGE SAISIE'!$K$41
Name BASEPOLEEMPLOI: [1]Feuil1!$U$2
Name BASERAFP: [1]Feuil1!$AM$2
Name BASERGPLAF: [1]Feuil1!$B$2
Name BASERGTOT: [1]Feuil1!$A$2
Name basetotalecaecui: [1]Feuil1!$BL$2
Name BASETOTALITECOLLABO: [1]BORDEREAU!#REF!
Name baseurssafpagnol: '[4]base code'!$A$3:$C$14
Name BASEVIGNETTE: [5]BASE!$A$4:$I$15
Name baseVTRANSP: [1]Feuil1!$BI$2
Name BASIRCAAPPRENTI: [1]Feuil1!$AT$2
Name BSRGEXOHS: [1]Feuil1!$BV$2
Name CAPITALDC: [1]Feuil1!$BB$2
Name CARELPO: [1]Feuil1!$BC$2
Name CARELPP: [1]Feuil1!$BD$2
Name cdgtot: [1]CDG!$F$32
Name CNFPTAVENIR: [1]Feuil1!$AI$2
Name CNFPTRG: [1]Feuil1!$AH$2

Sheet base demandes
A1: Reference demande | B1: Nom | C1: Prénom | D1: Montant | E1: Montant lettre
A2: N° 001 / 15/04/2019 | B2: MARTIN | C2: Arthur | D2: 500 | E2: =IF(D2<>"",converte!C2,"") -> Cinq cents €uros
E3: =IF(D3<>"",converte!C3,"")
E4: =IF(D4<>"",converte!C4,"")
E5: =IF(D5<>"",converte!C5,"")
E6: =IF(D6<>"",converte!C6,"")
E7: =IF(D7<>"",converte!C7,"")
E8: =IF(D8<>"",converte!C8,"")
E9: =IF(D9<>"",converte!C9,"")
E10: =IF(D10<>"",converte!C10,"")
E11: =IF(D11<>"",converte!C11,"")
E12: =IF(D12<>"",converte!C12,"")
E13: =IF(D13<>"",converte!C13,"")
E14: =IF(D14<>"",converte!C14,"")
... E122: =IF(D122<>"",converte!C122,"")
E123: =IF(D123<>"",converte!#REF!,"")
E124: =IF(D124<>"",converte!#REF!,"")
E125: =IF(D125<>"",converte!#REF!,"")
E126: =IF(D126<>"",converte!#REF!,"")
E127: =IF(D127<>"",converte!#REF!,"")
E128: =IF(D128<>"",converte!#REF!,"")
E129: =IF(D129<>"",converte!#REF!,"")
E130: =IF(D130<>"",converte!#REF!,"")
E131: =IF(D131<>"",converte!#REF!,"")
E132: =IF(D132<>"",converte!#REF!,"")
E133: =IF(D133<>"",converte!#REF!,"")
E134: =IF(D134<>"",converte!#REF!,"")
... E735: =IF(D735<>"",converte!#REF!,"")

Sheet converte
B2: =IF('base demandes'!D2<>"",'base demandes'!D2,0) -> 500 | C2: =UPPER(MID(CU2,1,1))&MID(CU2,2,168) -> Cinq cents €uros | D2: =INT(B2/1000000) -> 0 | E2: =INT((B2-D2*1000000)/1000) -> 0 | F2: =INT(B2-D2*1000000-E2*1000) -> 500 | G2: =ROUND(B2-D2*1000000-E2*1000-F2,2)*100 -> 0 | H2: =D2-M2*100 -> 0 | J2: =E2-P2*100 -> 0 | K2: =ROUND(F2-S2*100,0) -> 0 | L2: =G2 -> 0 | M2: =INT(D2/100) -> 0 | N2: =INT((D2-M2*100)/10) -> 0 | O2: =D2-M2*100-N2*10 -> 0 | P2: =INT(E2/100) -> 0 | Q2: =INT((E2-P2*100)/10) -> 0 | R2: =E2-P2*100-Q2*10 -> 0 | S2: =INT(F2/100) -> 5 | T2: =INT((F2-S2*100)/10) -> 0 | U2: =F2-S2*100-T2*10 -> 0 | V2: =INT(G2/10) -> 0 | W2: =ROUND(G2-V2*10,0) -> 0 | X2: =IF(M2=0,"",IF(M2=1,"",IF(M2=2,"deux ",IF(M2=3,"trois ",IF(M2=4,"quatre ",IF(M2=5,"cinq ",AQ2)))))) | Y2: =IF(M2=0,"",IF(M2<2,"cent ",AR2)) | Z2: =IF(N2=1,AS2,IF(N2=7,BM2,IF(N2=9,CC2,CL2))) | AA2: =IF(H2=11,"",IF(H2=12,"",IF(H2=13,"",IF(H2=14,"",IF(H2=15,"",IF(H2=16,"",AT2)))))) | AB2: =IF(D2=0,"",IF(D2<2,"million ","millions ")) | AC2: =IF(I2=1,"",IF(P2=0,"",IF(P2=1,"",IF(P2=2,"deux ",IF(P2=3,"trois ",IF(P2=4,"quatre ",IF(P2=5,"cinq ",AU2))))))) | AD2: =IF(P2=0,"",IF(P2<2,"cent ",AV2)) | AE2: =IF(Q2=1,AW2,IF(Q2=7,BO2,IF(Q2=9,CD2,CM2))) | AF2: =IF(E2=1,"",AX2) | AG2: =IF(E2>0,"mille ","") | AH2: =IF(INT(B2)=0,"zéro ",IF(S2=0,"",IF(S2=1,"",IF(S2=2,"deux ",IF(S2=3,"trois ",IF(S2=4,"quatre ",IF(S2=5,"cinq ",AY2))))))) -> cinq | AI2: =IF(S2=0,"",IF(S2<2,"cent ",AZ2)) -> cents | AJ2: =IF(T2=1,BA2,IF(T2=7,BQ2,IF(T2=9,CF2,CN2))) | AK2: =IF(K2=11,"",IF(K2=12,"",IF(K2=13,"",IF(K2=14,"",IF(K2=15,"",IF(K2=16,"",BB2)))))) | AL2: =IF(INT(B2<2),"€uro ","€uros ") -> €uros | AM2: =IF(G2>0,"et ","") | AN2: =IF(V2=1,BC2,IF(V2=7,BS2,IF(V2=9,CG2,CO2))) | AO2: =IF(L2=11,"",IF(L2=12,"",IF(L2=13,"",IF(L2=14,"",IF(L2=15,"",IF(L2=16,"",BD2)))))) | AP2: =IF(G2=0,"",IF(G2<2,"centime","centimes")) | AQ2: =IF(D2=0," ",IF(M2=6,"six ",IF(M2=7,"sept ",IF(M2=8,"huit ",IF(M2=9,"neuf ",))))) | AR2: =IF(H2>0,"cent ", "cents ") -> cents | AS2: =IF(H2=10,"dix ",IF(H2=11,"onze ",IF(H2=12,"douze ",IF(H2=13,"treize ",IF(H2=14,"quatorze ",IF(H2=15,"quinze ",BE2)))))) | AT2: =IF(H2=17,"",IF(H2=18,"",IF(H2=19,"",BF2))) | AU2: =IF(P2=6,"six ",IF(P2=7,"sept ",IF(P2=8,"huit ",IF(P2=9,"neuf ",)))) -> 0 | AV2: =IF(J2>0,"cent ", "cents ") -> cents | AW2: =IF(J2=10,"dix ",IF(J2=11,"onze ",IF(J2=12,"douze ",IF(J2=13,"treize ",IF(J2=14,"quatorze ",IF(J2=15,"quinze ",BG2)))))) | AX2: =IF(J2=11,"",IF(J2=12,"",IF(J2=13,"",IF(J2=14,"",IF(J2=15,"",IF(J2=16,"",BH2)))))) | AY2: =IF(S2=6,"six ",IF(S2=7,"sept ",IF(S2=8,"huit ",IF(S2=9,"neuf ",)))) -> 0 | AZ2: =IF(K2>0,"cent ", "cents ") -> cents | BA2: =IF(K2=10,"dix ",IF(K2=11,"onze ",IF(K2=12,"douze ",IF(K2=13,"treize ",IF(K2=14,"quatorze ",IF(K2=15,"quinze ",BI2)))))) | BB2: =IF(K2=17,"",IF(K2=18,"",IF(K2=19,"",BJ2))) | BC2: =IF(L2=10,"dix ",IF(L2=11,"onze ",IF(L2=12,"douze ",IF(L2=13,"treize ",IF(L2=14,"quatorze ",IF(L2=15,"quinze ",BK2)))))) | BD2: =IF(L2=17,"",IF(L2=18,"",IF(L2=19,"",BL2))) | BE2: =IF(H2=16,"seize ",IF(H2=17,"dix-sept ",IF(H2=18,"dix-huit ",IF(H2=19,"dix-neuf ",BM2)))) | BF2: =IF(H2=21,"et un ",IF(H2=31,"et un ",IF(H2=41,"et un ",IF(H2=51,"et un ",IF(H2=61,"et un ",BN2))))) | BG2: =IF(J2=16,"seize ",IF(J2=17,"dix-sept ",IF(J2=18,"dix-huit ",IF(J2=19,"dix-neuf ",BO2)))) | BH2: =IF(J2=17,"",IF(J2=18,"",IF(J2=19,"",BP2))) | BI2: =IF(K2=16,"seize ",IF(K2=17,"dix-sept ",IF(K2=18,"dix-huit ",IF(K2=19,"dix-neuf ",BQ2)))) | BJ2: =IF(K2=21,"et un ",IF(K2=31,"et un ",IF(K2=41,"et un ",IF(K2=51,"et un ",IF(K2=61,"et un ",BR2))))) | BK2: =IF(L2=16,"seize ",IF(L2=17,"dix-sept ",IF(L2=18,"dix-huit ",IF(L2=19,"dix-neuf ",BS2)))) | BL2: =IF(L2=21,"et un ",IF(L2=31,"et un ",IF(L2=41,"et un ",IF(L2=51,"et un ",IF(L2=61,"et un ",BT2))))) | BM2: =IF(H2=70,"soixante-dix ",IF(H2=71,"soixante et onze ",IF(H2=72,"soixante-douze ",IF(H2=73,"soixante-treize ",IF(H2=74,"soixante-quatorze ",IF(H2=75,"soixante-quinze ",BU2)))))) | BN2: =IF(N2=9,"",IF(N2=7,"",IF(O2=0,"",IF(O2=1,"un ",IF(O2=2,"deux ",IF(O2=3,"trois ",IF(O2=4,"quatre ",IF(O2=5,"cinq ",BV2)))))))) | BO2: =IF(J2=70,"soixante-dix ",IF(J2=71,"soixante et onze ",IF(J2=72,"soixante-douze ",IF(J2=73,"soixante-treize ",IF(J2=74,"soixante-quatorze ",IF(J2=75,"soixante-quinze ",BW2)))))) | BP2: =IF(J2=21,"et un ",IF(J2=31,"et un ",IF(J2=41,"et un ",IF(J2=51,"et un ",IF(J2=61,"et un ",BX2))))) | BQ2: =IF(K2=70,"soixante-dix ",IF(K2=71,"soixante et onze ",IF(K2=72,"soixante-douze ",IF(K2=73,"soixante-treize ",IF(K2=74,"soixante-quatorze ",IF(K2=75,"soixante-quinze ",BY2)))))) | BR2: =IF(T2=9,"",IF(T2=7,"",IF(U2=0,"",IF(U2=1,"un ",IF(U2=2,"deux ",IF(U2=3,"trois ",IF(U2=4,"quatre ",IF(U2=5,"cinq ",BZ2)))))))) | BS2: =IF(L2=70,"soixante-dix ",IF(L2=71,"soixante et onze ",IF(L2=72,"soixante-douze ",IF(L2=73,"soixante-treize ",IF(L2=74,"soixante-quatorze ",IF(L2=75,"soixante-quinze ",CA2)))))) | BT2: =IF(V2=9,"",IF(V2=7,"",IF(W2=0,"",IF(W2=1,"un ",IF(W2=2,"deux ",IF(W2=3,"trois ",IF(W2=4,"quatre ",IF(W2=5,"cinq ",CB2)))))))) | BU2: =IF(H2=76,"soixante-seize ",IF(H2=77,"soixante-dix-sept ",IF(H2=78,"soixante-dix-huit ",IF(H2=79,"soixante-dix-neuf ",CC2)))) | BV2: =IF(N2=9,"",IF(O2=6,"six ",IF(O2=7,"sept ",IF(O2=8,"huit ",IF(O2=9,"neuf ",))))) -> 0 | BW2: =IF(J2=76,"soixante-seize ",IF(J2=77,"soixante-dix-sept ",IF(J2=78,"soixante-dix-huit ",IF(J2=79,"soixante-dix-neuf ",CD2)))) | BX2: =IF(Q2=9,"",IF(Q2=7,"",IF(R2=0,"",IF(R2=1,"un ",IF(R2=2,"deux ",IF(R2=3,"trois ",IF(R2=4,"quatre ",IF(R2=5,"cinq ",CE2)))))))) | BY2: =IF(K2=76,"soixante-seize ",IF(K2=77,"soixante-dix-sept ",IF(K2=78,"soixante-dix-huit ",IF(K2=79,"soixante-dix-neuf ",CF2)))) | BZ2: =IF(T2=9,"",IF(U2=6,"six ",IF(U2=7,"sept ",IF(U2=8,"huit ",IF(U2=9,"neuf ",))))) -> 0 | CA2: =IF(L2=76,"soixante-seize ",IF(L2=77,"soixante-dix-sept ",IF(L2=78,"soixante-dix-huit ",IF(L2=79,"soixante-dix-neuf ",CG2)))) | CB2: =IF(V2=9,"",IF(W2=6,"six ",IF(W2=7,"sept ",IF(W2=8,"huit ",IF(W2=9,"neuf ",))))) -> 0 | CC2: =IF(H2=90,"quatre-vingt-dix ",IF(H2=91,"quatre-vingt-onze ",IF(H2=92,"quatre-vingt-douze ",IF(H2=93,"quatre-vingt-treize ",IF(H2=94,"quatre-vingt-quatorze ",IF(H2=95,"quatre-vingt-quinze ",CH2)))))) | CD2: =IF(J2=90,"quatre-vingt-dix ",IF(J2=91,"quatre-vingt-onze ",IF(J2=92,"quatre-vingt-douze ",IF(J2=93,"quatre-vingt-treize ",IF(J2=94,"quatre-vingt-quatorze ",IF(J2=95,"quatre-vingt-quinze ",CI2)))))) | CE2: =IF(Q2=9,"",IF(R2=6,"six ",IF(R2=7,"sept ",IF(R2=8,"huit ",IF(R2=9,"neuf ",))))) -> 0 | CF2: =IF(K2=90,"quatre-vingt-dix ",IF(K2=91,"quatre-vingt-onze ",IF(K2=92,"quatre-vingt-douze ",IF(K2=93,"quatre-vingt-treize ",IF(K2=94,"quatre-vingt-quatorze ",IF(K2=95,"quatre-vingt-quinze ",CJ2)))))) | CG2: =IF(L2=90,"quatre-vingt-dix ",IF(L2=91,"quatre-vingt-onze ",IF(L2=92,"quatre-vingt-douze ",IF(L2=93,"quatre-vingt-treize ",IF(L2=94,"quatre-vingt-quatorze ",IF(L2=95,"quatre-vingt-quinze ",CK2)))))) | CH2: =IF(H2=96,"quatre-vingt-seize ",IF(H2=97,"quatre-vingt-dix-sept ",IF(H2=98,"quatre-vingt-dix-huit ",IF(H2=99,"quatre-vingt-dix-neuf ",CL2)))) | CI2: =IF(J2=96,"quatre-vingt-seize ",IF(J2=97,"quatre-vingt-dix-sept ",IF(J2=98,"quatre-vingt-dix-huit ",IF(J2=99,"quatre-vingt-dix-neuf ",CM2)))) | CJ2: =IF(K2=96,"quatre-vingt-seize ",IF(K2=97,"quatre-vingt-dix-sept ",IF(K2=98,"quatre-vingt-dix-huit ",IF(K2=99,"quatre-vingt-dix-neuf ",CN2)))) | CK2: =IF(L2=96,"quatre-vingt-seize ",IF(L2=97,"quatre-vingt-dix-sept ",IF(L2=98,"quatre-vingt-dix-huit ",IF(L2=99,"quatre-vingt-dix-neuf ",CO2)))) | CL2: =IF(N2=2,"vingt ",IF(N2=3,"trente ",IF(N2=4,"quarante ",IF(N2=5,"cinquante ",CP2)))) | CM2: =IF(Q2=2,"vingt ",IF(Q2=3,"trente ",IF(Q2=4,"quarante ",IF(Q2=5,"cinquante ",CQ2)))) | CN2: =IF(T2=2,"vingt ",IF(T2=3,"trente ",IF(T2=4,"quarante ",IF(T2=5,"cinquante ",CR2)))) | CO2: =IF(V2=2,"vingt ",IF(V2=3,"trente ",IF(V2=4,"quarante ",IF(V2=5,"cinquante ",CS2)))) | CP2: =IF(N2=6,"soixante ",IF(H2=80,"quatre-vingts ",IF(N2=8,"quatre-vingt-",""))) | CQ2: =IF(Q2=6,"soixante ",IF(J2=80,"quatre-vingts ",IF(Q2=8,"quatre-vingt-",""))) | CR2: =IF(T2=6,"soixante ",IF(K2=80,"quatre-vingts ",IF(T2=8,"quatre-vingt-",""))) | CS2: =IF(V2=6,"soixante ",IF(L2=80,"quatre-vingts ",IF(V2=8,"quatre-vingt-",""))) | CU2: =(X2&Y2&Z2&AA2&AB2&AC2&AD2&AE2&AF2&AG2&AH2&AI2&AJ2&AK2&AL2&AM2&AN2&AO2&AP2) -> cinq cents €uros
B3: =IF('base demandes'!D3<>"",'base demandes'!D3,0) -> 0 | C3: =UPPER(MID(CU3,1,1))&MID(CU3,2,168) -> Zéro €uro | D3: =INT(B3/1000000) -> 0 | E3: =INT((B3-D3*1000000)/1000) -> 0 | F3: =INT(B3-D3*1000000-E3*1000) -> 0 | G3: =ROUND(B3-D3*1000000-E3*1000-F3,2)*100 -> 0 | H3: =D3-M3*100 -> 0 | J3: =E3-P3*100 -> 0 | K3: =ROUND(F3-S3*100,0) -> 0 | L3: =G3 -> 0 | M3: =INT(D3/100) -> 0 | N3: =INT((D3-M3*100)/10) -> 0 | O3: =D3-M3*100-N3*10 -> 0 | P3: =INT(E3/100) -> 0 | Q3: =INT((E3-P3*100)/10) -> 0 | R3: =E3-P3*100-Q3*10 -> 0 | S3: =INT(F3/100) -> 0 | T3: =INT((F3-S3*100)/10) -> 0 | U3: =F3-S3*100-T3*10 -> 0 | V3: =INT(G3/10) -> 0 | W3: =ROUND(G3-V3*10,0) -> 0 | X3: =IF(M3=0,"",IF(M3=1,"",IF(M3=2,"deux ",IF(M3=3,"trois ",IF(M3=4,"quatre ",IF(M3=5,"cinq ",AQ3)))))) | Y3: =IF(M3=0,"",IF(M3<2,"cent ",AR3)) | Z3: =IF(N3=1,AS3,IF(N3=7,BM3,IF(N3=9,CC3,CL3))) | AA3: =IF(H3=11,"",IF(H3=12,"",IF(H3=13,"",IF(H3=14,"",IF(H3=15,"",IF(H3=16,"",AT3)))))) | AB3: =IF(D3=0,"",IF(D3<2,"million ","millions ")) | AC3: =IF(I3=1,"",IF(P3=0,"",IF(P3=1,"",IF(P3=2,"deux ",IF(P3=3,"trois ",IF(P3=4,"quatre ",IF(P3=5,"cinq ",AU3))))))) | AD3: =IF(P3=0,"",IF(P3<2,"cent ",AV3)) | AE3: =IF(Q3=1,AW3,IF(Q3=7,BO3,IF(Q3=9,CD3,CM3))) | AF3: =IF(E3=1,"",AX3) | AG3: =IF(E3>0,"mille ","") | AH3: =IF(INT(B3)=0,"zéro ",IF(S3=0,"",IF(S3=1,"",IF(S3=2,"deux ",IF(S3=3,"trois ",IF(S3=4,"quatre ",IF(S3=5,"cinq ",AY3))))))) -> zéro | AI3: =IF(S3=0,"",IF(S3<2,"cent ",AZ3)) | AJ3: =IF(T3=1,BA3,IF(T3=7,BQ3,IF(T3=9,CF3,CN3))) | AK3: =IF(K3=11,"",IF(K3=12,"",IF(K3=13,"",IF(K3=14,"",IF(K3=15,"",IF(K3=16,"",BB3)))))) | AL3: =IF(INT(B3<2),"€uro ","€uros ") -> €uro | AM3: =IF(G3>0,"et ","") | AN3: =IF(V3=1,BC3,IF(V3=7,BS3,IF(V3=9,CG3,CO3))) | AO3: =IF(L3=11,"",IF(L3=12,"",IF(L3=13,"",IF(L3=14,"",IF(L3=15,"",IF(L3=16,"",BD3)))))) | AP3: =IF(G3=0,"",IF(G3<2,"centime","centimes")) | AQ3: =IF(D3=0," ",IF(M3=6,"six ",IF(M3=7,"sept ",IF(M3=8,"huit ",IF(M3=9,"neuf ",))))) | AR3: =IF(H3>0,"cent ", "cents ") -> cents | AS3: =IF(H3=10,"dix ",IF(H3=11,"onze ",IF(H3=12,"douze ",IF(H3=13,"treize ",IF(H3=14,"quatorze ",IF(H3=15,"quinze ",BE3)))))) | AT3: =IF(H3=17,"",IF(H3=18,"",IF(H3=19,"",BF3))) | AU3: =IF(P3=6,"six ",IF(P3=7,"sept ",IF(P3=8,"huit ",IF(P3=9,"neuf ",)))) -> 0 | AV3: =IF(J3>0,"cent ", "cents ") -> cents | AW3: =IF(J3=10,"dix ",IF(J3=11,"onze ",IF(J3=12,"douze ",IF(J3=13,"treize ",IF(J3=14,"quatorze ",IF(J3=15,"quinze ",BG3)))))) | AX3: =IF(J3=11,"",IF(J3=12,"",IF(J3=13,"",IF(J3=14,"",IF(J3=15,"",IF(J3=16,"",BH3)))))) | AY3: =IF(S3=6,"six ",IF(S3=7,"sept ",IF(S3=8,"huit ",IF(S3=9,"neuf ",)))) -> 0 | AZ3: =IF(K3>0,"cent ", "cents ") -> cents | BA3: =IF(K3=10,"dix ",IF(K3=11,"onze ",IF(K3=12,"douze ",IF(K3=13,"treize ",IF(K3=14,"quatorze ",IF(K3=15,"quinze ",BI3)))))) | BB3: =IF(K3=17,"",IF(K3=18,"",IF(K3=19,"",BJ3))) | BC3: =IF(L3=10,"dix ",IF(L3=11,"onze ",IF(L3=12,"douze ",IF(L3=13,"treize ",IF(L3=14,"quatorze ",IF(L3=15,"quinze ",BK3)))))) | BD3: =IF(L3=17,"",IF(L3=18,"",IF(L3=19,"",BL3))) | BE3: =IF(H3=16,"seize ",IF(H3=17,"dix-sept ",IF(H3=18,"dix-huit ",IF(H3=19,"dix-neuf ",BM3)))) | BF3: =IF(H3=21,"et un ",IF(H3=31,"et un ",IF(H3=41,"et un ",IF(H3=51,"et un ",IF(H3=61,"et un ",BN3))))) | BG3: =IF(J3=16,"seize ",IF(J3=17,"dix-sept ",IF(J3=18,"dix-huit ",IF(J3=19,"dix-neuf ",BO3)))) | BH3: =IF(J3=17,"",IF(J3=18,"",IF(J3=19,"",BP3))) | BI3: =IF(K3=16,"seize ",IF(K3=17,"dix-sept ",IF(K3=18,"dix-huit ",IF(K3=19,"dix-neuf ",BQ3)))) | BJ3: =IF(K3=21,"et un ",IF(K3=31,"et un ",IF(K3=41,"et un ",IF(K3=51,"et un ",IF(K3=61,"et un ",BR3))))) | BK3: =IF(L3=16,"seize ",IF(L3=17,"dix-sept ",IF(L3=18,"dix-huit ",IF(L3=19,"dix-neuf ",BS3)))) | BL3: =IF(L3=21,"et un ",IF(L3=31,"et un ",IF(L3=41,"et un ",IF(L3=51,"et un ",IF(L3=61,"et un ",BT3))))) | BM3: =IF(H3=70,"soixante-dix ",IF(H3=71,"soixante et onze ",IF(H3=72,"soixante-douze ",IF(H3=73,"soixante-treize ",IF(H3=74,"soixante-quatorze ",IF(H3=75,"soixante-quinze ",BU3)))))) | BN3: =IF(N3=9,"",IF(N3=7,"",IF(O3=0,"",IF(O3=1,"un ",IF(O3=2,"deux ",IF(O3=3,"trois ",IF(O3=4,"quatre ",IF(O3=5,"cinq ",BV3)))))))) | BO3: =IF(J3=70,"soixante-dix ",IF(J3=71,"soixante et onze ",IF(J3=72,"soixante-douze ",IF(J3=73,"soixante-treize ",IF(J3=74,"soixante-quatorze ",IF(J3=75,"soixante-quinze ",BW3)))))) | BP3: =IF(J3=21,"et un ",IF(J3=31,"et un ",IF(J3=41,"et un ",IF(J3=51,"et un ",IF(J3=61,"et un ",BX3))))) | BQ3: =IF(K3=70,"soixante-dix ",IF(K3=71,"soixante et onze ",IF(K3=72,"soixante-douze ",IF(K3=73,"soixante-treize ",IF(K3=74,"soixante-quatorze ",IF(K3=75,"soixante-quinze ",BY3)))))) | BR3: =IF(T3=9,"",IF(T3=7,"",IF(U3=0,"",IF(U3=1,"un ",IF(U3=2,"deux ",IF(U3=3,"trois ",IF(U3=4,"quatre ",IF(U3=5,"cinq ",BZ3)))))))) | BS3: =IF(L3=70,"soixante-dix ",IF(L3=71,"soixante et onze ",IF(L3=72,"soixante-douze ",IF(L3=73,"soixante-treize ",IF(L3=74,"soixante-quatorze ",IF(L3=75,"soixante-quinze ",CA3)))))) | BT3: =IF(V3=9,"",IF(V3=7,"",IF(W3=0,"",IF(W3=1,"un ",IF(W3=2,"deux ",IF(W3=3,"trois ",IF(W3=4,"quatre ",IF(W3=5,"cinq ",CB3)))))))) | BU3: =IF(H3=76,"soixante-seize ",IF(H3=77,"soixante-dix-sept ",IF(H3=78,"soixante-dix-huit ",IF(H3=79,"soixante-dix-neuf ",CC3)))) | BV3: =IF(N3=9,"",IF(O3=6,"six ",IF(O3=7,"sept ",IF(O3=8,"huit ",IF(O3=9,"neuf ",))))) -> 0 | BW3: =IF(J3=76,"soixante-seize ",IF(J3=77,"soixante-dix-sept ",IF(J3=78,"soixante-dix-huit ",IF(J3=79,"soixante-dix-neuf ",CD3)))) | BX3: =IF(Q3=9,"",IF(Q3=7,"",IF(R3=0,"",IF(R3=1,"un ",IF(R3=2,"deux ",IF(R3=3,"trois ",IF(R3=4,"quatre ",IF(R3=5,"cinq ",CE3)))))))) | BY3: =IF(K3=76,"soixante-seize ",IF(K3=77,"soixante-dix-sept ",IF(K3=78,"soixante-dix-huit ",IF(K3=79,"soixante-dix-neuf ",CF3)))) | BZ3: =IF(T3=9,"",IF(U3=6,"six ",IF(U3=7,"sept ",IF(U3=8,"huit ",IF(U3=9,"neuf ",))))) -> 0 | CA3: =IF(L3=76,"soixante-seize ",IF(L3=77,"soixante-dix-sept ",IF(L3=78,"soixante-dix-huit ",IF(L3=79,"soixante-dix-neuf ",CG3)))) | CB3: =IF(V3=9,"",IF(W3=6,"six ",IF(W3=7,"sept ",IF(W3=8,"huit ",IF(W3=9,"neuf ",))))) -> 0 | CC3: =IF(H3=90,"quatre-vingt-dix ",IF(H3=91,"quatre-vingt-onze ",IF(H3=92,"quatre-vingt-douze ",IF(H3=93,"quatre-vingt-treize ",IF(H3=94,"quatre-vingt-quatorze ",IF(H3=95,"quatre-vingt-quinze ",CH3)))))) | CD3: =IF(J3=90,"quatre-vingt-dix ",IF(J3=91,"quatre-vingt-onze ",IF(J3=92,"quatre-vingt-douze ",IF(J3=93,"quatre-vingt-treize ",IF(J3=94,"quatre-vingt-quatorze ",IF(J3=95,"quatre-vingt-quinze ",CI3)))))) | CE3: =IF(Q3=9,"",IF(R3=6,"six ",IF(R3=7,"sept ",IF(R3=8,"huit ",IF(R3=9,"neuf ",))))) -> 0 | CF3: =IF(K3=90,"quatre-vingt-dix ",IF(K3=91,"quatre-vingt-onze ",IF(K3=92,"quatre-vingt-douze ",IF(K3=93,"quatre-vingt-treize ",IF(K3=94,"quatre-vingt-quatorze ",IF(K3=95,"quatre-vingt-quinze ",CJ3)))))) | CG3: =IF(L3=90,"quatre-vingt-dix ",IF(L3=91,"quatre-vingt-onze ",IF(L3=92,"quatre-vingt-douze ",IF(L3=93,"quatre-vingt-treize ",IF(L3=94,"quatre-vingt-quatorze ",IF(L3=95,"quatre-vingt-quinze ",CK3)))))) | CH3: =IF(H3=96,"quatre-vingt-seize ",IF(H3=97,"quatre-vingt-dix-sept ",IF(H3=98,"quatre-vingt-dix-huit ",IF(H3=99,"quatre-vingt-dix-neuf ",CL3)))) | CI3: =IF(J3=96,"quatre-vingt-seize ",IF(J3=97,"quatre-vingt-dix-sept ",IF(J3=98,"quatre-vingt-dix-huit ",IF(J3=99,"quatre-vingt-dix-neuf ",CM3)))) | CJ3: =IF(K3=96,"quatre-vingt-seize ",IF(K3=97,"quatre-vingt-dix-sept ",IF(K3=98,"quatre-vingt-dix-huit ",IF(K3=99,"quatre-vingt-dix-neuf ",CN3)))) | CK3: =IF(L3=96,"quatre-vingt-seize ",IF(L3=97,"quatre-vingt-dix-sept ",IF(L3=98,"quatre-vingt-dix-huit ",IF(L3=99,"quatre-vingt-dix-neuf ",CO3)))) | CL3: =IF(N3=2,"vingt ",IF(N3=3,"trente ",IF(N3=4,"quarante ",IF(N3=5,"cinquante ",CP3)))) | CM3: =IF(Q3=2,"vingt ",IF(Q3=3,"trente ",IF(Q3=4,"quarante ",IF(Q3=5,"cinquante ",CQ3)))) | CN3: =IF(T3=2,"vingt ",IF(T3=3,"trente ",IF(T3=4,"quarante ",IF(T3=5,"cinquante ",CR3)))) | CO3: =IF(V3=2,"vingt ",IF(V3=3,"trente ",IF(V3=4,"quarante ",IF(V3=5,"cinquante ",CS3)))) | CP3: =IF(N3=6,"soixante ",IF(H3=80,"quatre-vingts ",IF(N3=8,"quatre-vingt-",""))) | CQ3: =IF(Q3=6,"soixante ",IF(J3=80,"quatre-vingts ",IF(Q3=8,"quatre-vingt-",""))) | CR3: =IF(T3=6,"soixante ",IF(K3=80,"quatre-vingts ",IF(T3=8,"quatre-vingt-",""))) | CS3: =IF(V3=6,"soixante ",IF(L3=80,"quatre-vingts ",IF(V3=8,"quatre-vingt-",""))) | CU3: =(X3&Y3&Z3&AA3&AB3&AC3&AD3&AE3&AF3&AG3&AH3&AI3&AJ3&AK3&AL3&AM3&AN3&AO3&AP3) -> zéro €uro
B4: =IF('base demandes'!D4<>"",'base demandes'!D4,0) -> 0 | C4: =UPPER(MID(CU4,1,1))&MID(CU4,2,168) -> Zéro €uro | D4: =INT(B4/1000000) -> 0 | E4: =INT((B4-D4*1000000)/1000) -> 0 | F4: =INT(B4-D4*1000000-E4*1000) -> 0 | G4: =ROUND(B4-D4*1000000-E4*1000-F4,2)*100 -> 0 | H4: =D4-M4*100 -> 0 | J4: =E4-P4*100 -> 0 | K4: =ROUND(F4-S4*100,0) -> 0 | L4: =G4 -> 0 | M4: =INT(D4/100) -> 0 | N4: =INT((D4-M4*100)/10) -> 0 | O4: =D4-M4*100-N4*10 -> 0 | P4: =INT(E4/100) -> 0 | Q4: =INT((E4-P4*100)/10) -> 0 | R4: =E4-P4*100-Q4*10 -> 0 | S4: =INT(F4/100) -> 0 | T4: =INT((F4-S4*100)/10) -> 0 | U4: =F4-S4*100-T4*10 -> 0 | V4: =INT(G4/10) -> 0 | W4: =ROUND(G4-V4*10,0) -> 0 | X4: =IF(M4=0,"",IF(M4=1,"",IF(M4=2,"deux ",IF(M4=3,"trois ",IF(M4=4,"quatre ",IF(M4=5,"cinq ",AQ4)))))) | Y4: =IF(M4=0,"",IF(M4<2,"cent ",AR4)) | Z4: =IF(N4=1,AS4,IF(N4=7,BM4,IF(N4=9,CC4,CL4))) | AA4: =IF(H4=11,"",IF(H4=12,"",IF(H4=13,"",IF(H4=14,"",IF(H4=15,"",IF(H4=16,"",AT4)))))) | AB4: =IF(D4=0,"",IF(D4<2,"million ","millions ")) | AC4: =IF(I4=1,"",IF(P4=0,"",IF(P4=1,"",IF(P4=2,"deux ",IF(P4=3,"trois ",IF(P4=4,"quatre ",IF(P4=5,"cinq ",AU4))))))) | AD4: =IF(P4=0,"",IF(P4<2,"cent ",AV4)) | AE4: =IF(Q4=1,AW4,IF(Q4=7,BO4,IF(Q4=9,CD4,CM4))) | AF4: =IF(E4=1,"",AX4) | AG4: =IF(E4>0,"mille ","") | AH4: =IF(INT(B4)=0,"zéro ",IF(S4=0,"",IF(S4=1,"",IF(S4=2,"deux ",IF(S4=3,"trois ",IF(S4=4,"quatre ",IF(S4=5,"cinq ",AY4))))))) -> zéro | AI4: =IF(S4=0,"",IF(S4<2,"cent ",AZ4)) | AJ4: =IF(T4=1,BA4,IF(T4=7,BQ4,IF(T4=9,CF4,CN4))) | AK4: =IF(K4=11,"",IF(K4=12,"",IF(K4=13,"",IF(K4=14,"",IF(K4=15,"",IF(K4=16,"",BB4)))))) | AL4: =IF(INT(B4<2),"€uro ","€uros ") -> €uro | AM4: =IF(G4>0,"et ","") | AN4: =IF(V4=1,BC4,IF(V4=7,BS4,IF(V4=9,CG4,CO4))) | AO4: =IF(L4=11,"",IF(L4=12,"",IF(L4=13,"",IF(L4=14,"",IF(L4=15,"",IF(L4=16,"",BD4)))))) | AP4: =IF(G4=0,"",IF(G4<2,"centime","centimes")) | AQ4: =IF(D4=0," ",IF(M4=6,"six ",IF(M4=7,"sept ",IF(M4=8,"huit ",IF(M4=9,"neuf ",))))) | AR4: =IF(H4>0,"cent ", "cents ") -> cents | AS4: =IF(H4=10,"dix ",IF(H4=11,"onze ",IF(H4=12,"douze ",IF(H4=13,"treize ",IF(H4=14,"quatorze ",IF(H4=15,"quinze ",BE4)))))) | AT4: =IF(H4=17,"",IF(H4=18,"",IF(H4=19,"",BF4))) | AU4: =IF(P4=6,"six ",IF(P4=7,"sept ",IF(P4=8,"huit ",IF(P4=9,"neuf ",)))) -> 0 | AV4: =IF(J4>0,"cent ", "cents ") -> cents | AW4: =IF(J4=10,"dix ",IF(J4=11,"onze ",IF(J4=12,"douze ",IF(J4=13,"treize ",IF(J4=14,"quatorze ",IF(J4=15,"quinze ",BG4)))))) | AX4: =IF(J4=11,"",IF(J4=12,"",IF(J4=13,"",IF(J4=14,"",IF(J4=15,"",IF(J4=16,"",BH4)))))) | AY4: =IF(S4=6,"six ",IF(S4=7,"sept ",IF(S4=8,"huit ",IF(S4=9,"neuf ",)))) -> 0 | AZ4: =IF(K4>0,"cent ", "cents ") -> cents | BA4: =IF(K4=10,"dix ",IF(K4=11,"onze ",IF(K4=12,"douze ",IF(K4=13,"treize ",IF(K4=14,"quatorze ",IF(K4=15,"quinze ",BI4)))))) | BB4: =IF(K4=17,"",IF(K4=18,"",IF(K4=19,"",BJ4))) | BC4: =IF(L4=10,"dix ",IF(L4=11,"onze ",IF(L4=12,"douze ",IF(L4=13,"treize ",IF(L4=14,"quatorze ",IF(L4=15,"quinze ",BK4)))))) | BD4: =IF(L4=17,"",IF(L4=18,"",IF(L4=19,"",BL4))) | BE4: =IF(H4=16,"seize ",IF(H4=17,"dix-sept ",IF(H4=18,"dix-huit ",IF(H4=19,"dix-neuf ",BM4)))) | BF4: =IF(H4=21,"et un ",IF(H4=31,"et un ",IF(H4=41,"et un ",IF(H4=51,"et un ",IF(H4=61,"et un ",BN4))))) | BG4: =IF(J4=16,"seize ",IF(J4=17,"dix-sept ",IF(J4=18,"dix-huit ",IF(J4=19,"dix-neuf ",BO4)))) | BH4: =IF(J4=17,"",IF(J4=18,"",IF(J4=19,"",BP4))) | BI4: =IF(K4=16,"seize ",IF(K4=17,"dix-sept ",IF(K4=18,"dix-huit ",IF(K4=19,"dix-neuf ",BQ4)))) | BJ4: =IF(K4=21,"et un ",IF(K4=31,"et un ",IF(K4=41,"et un ",IF(K4=51,"et un ",IF(K4=61,"et un ",BR4))))) | BK4: =IF(L4=16,"seize ",IF(L4=17,"dix-sept ",IF(L4=18,"dix-huit ",IF(L4=19,"dix-neuf ",BS4)))) | BL4: =IF(L4=21,"et un ",IF(L4=31,"et un ",IF(L4=41,"et un ",IF(L4=51,"et un ",IF(L4=61,"et un ",BT4))))) | BM4: =IF(H4=70,"soixante-dix ",IF(H4=71,"soixante et onze ",IF(H4=72,"soixante-douze ",IF(H4=73,"soixante-treize ",IF(H4=74,"soixante-quatorze ",IF(H4=75,"soixante-quinze ",BU4)))))) | BN4: =IF(N4=9,"",IF(N4=7,"",IF(O4=0,"",IF(O4=1,"un ",IF(O4=2,"deux ",IF(O4=3,"trois ",IF(O4=4,"quatre ",IF(O4=5,"cinq ",BV4)))))))) | BO4: =IF(J4=70,"soixante-dix ",IF(J4=71,"soixante et onze ",IF(J4=72,"soixante-douze ",IF(J4=73,"soixante-treize ",IF(J4=74,"soixante-quatorze ",IF(J4=75,"soixante-quinze ",BW4)))))) | BP4: =IF(J4=21,"et un ",IF(J4=31,"et un ",IF(J4=41,"et un ",IF(J4=51,"et un ",IF(J4=61,"et un ",BX4))))) | BQ4: =IF(K4=70,"soixante-dix ",IF(K4=71,"soixante et onze ",IF(K4=72,"soixante-douze ",IF(K4=73,"soixante-treize ",IF(K4=74,"soixante-quatorze ",IF(K4=75,"soixante-quinze ",BY4)))))) | BR4: =IF(T4=9,"",IF(T4=7,"",IF(U4=0,"",IF(U4=1,"un ",IF(U4=2,"deux ",IF(U4=3,"trois ",IF(U4=4,"quatre ",IF(U4=5,"cinq ",BZ4)))))))) | BS4: =IF(L4=70,"soixante-dix ",IF(L4=71,"soixante et onze ",IF(L4=72,"soixante-douze ",IF(L4=73,"soixante-treize ",IF(L4=74,"soixante-quatorze ",IF(L4=75,"soixante-quinze ",CA4)))))) | BT4: =IF(V4=9,"",IF(V4=7,"",IF(W4=0,"",IF(W4=1,"un ",IF(W4=2,"deux ",IF(W4=3,"trois ",IF(W4=4,"quatre ",IF(W4=5,"cinq ",CB4)))))))) | BU4: =IF(H4=76,"soixante-seize ",IF(H4=77,"soixante-dix-sept ",IF(H4=78,"soixante-dix-huit ",IF(H4=79,"soixante-dix-neuf ",CC4)))) | BV4: =IF(N4=9,"",IF(O4=6,"six ",IF(O4=7,"sept ",IF(O4=8,"huit ",IF(O4=9,"neuf ",))))) -> 0 | BW4: =IF(J4=76,"soixante-seize ",IF(J4=77,"soixante-dix-sept ",IF(J4=78,"soixante-dix-huit ",IF(J4=79,"soixante-dix-neuf ",CD4)))) | BX4: =IF(Q4=9,"",IF(Q4=7,"",IF(R4=0,"",IF(R4=1,"un ",IF(R4=2,"deux ",IF(R4=3,"trois ",IF(R4=4,"quatre ",IF(R4=5,"cinq ",CE4)))))))) | BY4: =IF(K4=76,"soixante-seize ",IF(K4=77,"soixante-dix-sept ",IF(K4=78,"soixante-dix-huit ",IF(K4=79,"soixante-dix-neuf ",CF4)))) | BZ4: =IF(T4=9,"",IF(U4=6,"six ",IF(U4=7,"sept ",IF(U4=8,"huit ",IF(U4=9,"neuf ",))))) -> 0 | CA4: =IF(L4=76,"soixante-seize ",IF(L4=77,"soixante-dix-sept ",IF(L4=78,"soixante-dix-huit ",IF(L4=79,"soixante-dix-neuf ",CG4)))) | CB4: =IF(V4=9,"",IF(W4=6,"six ",IF(W4=7,"sept ",IF(W4=8,"huit ",IF(W4=9,"neuf ",))))) -> 0 | CC4: =IF(H4=90,"quatre-vingt-dix ",IF(H4=91,"quatre-vingt-onze ",IF(H4=92,"quatre-vingt-douze ",IF(H4=93,"quatre-vingt-treize ",IF(H4=94,"quatre-vingt-quatorze ",IF(H4=95,"quatre-vingt-quinze ",CH4)))))) | CD4: =IF(J4=90,"quatre-vingt-dix ",IF(J4=91,"quatre-vingt-onze ",IF(J4=92,"quatre-vingt-douze ",IF(J4=93,"quatre-vingt-treize ",IF(J4=94,"quatre-vingt-quatorze ",IF(J4=95,"quatre-vingt-quinze ",CI4)))))) | CE4: =IF(Q4=9,"",IF(R4=6,"six ",IF(R4=7,"sept ",IF(R4=8,"huit ",IF(R4=9,"neuf ",))))) -> 0 | CF4: =IF(K4=90,"quatre-vingt-dix ",IF(K4=91,"quatre-vingt-onze ",IF(K4=92,"quatre-vingt-douze ",IF(K4=93,"quatre-vingt-treize ",IF(K4=94,"quatre-vingt-quatorze ",IF(K4=95,"quatre-vingt-quinze ",CJ4)))))) | CG4: =IF(L4=90,"quatre-vingt-dix ",IF(L4=91,"quatre-vingt-onze ",IF(L4=92,"quatre-vingt-douze ",IF(L4=93,"quatre-vingt-treize ",IF(L4=94,"quatre-vingt-quatorze ",IF(L4=95,"quatre-vingt-quinze ",CK4)))))) | CH4: =IF(H4=96,"quatre-vingt-seize ",IF(H4=97,"quatre-vingt-dix-sept ",IF(H4=98,"quatre-vingt-dix-huit ",IF(H4=99,"quatre-vingt-dix-neuf ",CL4)))) | CI4: =IF(J4=96,"quatre-vingt-seize ",IF(J4=97,"quatre-vingt-dix-sept ",IF(J4=98,"quatre-vingt-dix-huit ",IF(J4=99,"quatre-vingt-dix-neuf ",CM4)))) | CJ4: =IF(K4=96,"quatre-vingt-seize ",IF(K4=97,"quatre-vingt-dix-sept ",IF(K4=98,"quatre-vingt-dix-huit ",IF(K4=99,"quatre-vingt-dix-neuf ",CN4)))) | CK4: =IF(L4=96,"quatre-vingt-seize ",IF(L4=97,"quatre-vingt-dix-sept ",IF(L4=98,"quatre-vingt-dix-huit ",IF(L4=99,"quatre-vingt-dix-neuf ",CO4)))) | CL4: =IF(N4=2,"vingt ",IF(N4=3,"trente ",IF(N4=4,"quarante ",IF(N4=5,"cinquante ",CP4)))) | CM4: =IF(Q4=2,"vingt ",IF(Q4=3,"trente ",IF(Q4=4,"quarante ",IF(Q4=5,"cinquante ",CQ4)))) | CN4: =IF(T4=2,"vingt ",IF(T4=3,"trente ",IF(T4=4,"quarante ",IF(T4=5,"cinquante ",CR4)))) | CO4: =IF(V4=2,"vingt ",IF(V4=3,"trente ",IF(V4=4,"quarante ",IF(V4=5,"cinquante ",CS4)))) | CP4: =IF(N4=6,"soixante ",IF(H4=80,"quatre-vingts ",IF(N4=8,"quatre-vingt-",""))) | CQ4: =IF(Q4=6,"soixante ",IF(J4=80,"quatre-vingts ",IF(Q4=8,"quatre-vingt-",""))) | CR4: =IF(T4=6,"soixante ",IF(K4=80,"quatre-vingts ",IF(T4=8,"quatre-vingt-",""))) | CS4: =IF(V4=6,"soixante ",IF(L4=80,"quatre-vingts ",IF(V4=8,"quatre-vingt-",""))) | CU4: =(X4&Y4&Z4&AA4&AB4&AC4&AD4&AE4&AF4&AG4&AH4&AI4&AJ4&AK4&AL4&AM4&AN4&AO4&AP4) -> zéro €uro
B5: =IF('base demandes'!D5<>"",'base demandes'!D5,0) -> 0 | C5: =UPPER(MID(CU5,1,1))&MID(CU5,2,168) -> Zéro €uro | D5: =INT(B5/1000000) -> 0 | E5: =INT((B5-D5*1000000)/1000) -> 0 | F5: =INT(B5-D5*1000000-E5*1000) -> 0 | G5: =ROUND(B5-D5*1000000-E5*1000-F5,2)*100 -> 0 | H5: =D5-M5*100 -> 0 | J5: =E5-P5*100 -> 0 | K5: =ROUND(F5-S5*100,0) -> 0 | L5: =G5 -> 0 | M5: =INT(D5/100) -> 0 | N5: =INT((D5-M5*100)/10) -> 0 | O5: =D5-M5*100-N5*10 -> 0 | P5: =INT(E5/100) -> 0 | Q5: =INT((E5-P5*100)/10) -> 0 | R5: =E5-P5*100-Q5*10 -> 0 | S5: =INT(F5/100) -> 0 | T5: =INT((F5-S5*100)/10) -> 0 | U5: =F5-S5*100-T5*10 -> 0 | V5: =INT(G5/10) -> 0 | W5: =ROUND(G5-V5*10,0) -> 0 | X5: =IF(M5=0,"",IF(M5=1,"",IF(M5=2,"deux ",IF(M5=3,"trois ",IF(M5=4,"quatre ",IF(M5=5,"cinq ",AQ5)))))) | Y5: =IF(M5=0,"",IF(M5<2,"cent ",AR5)) | Z5: =IF(N5=1,AS5,IF(N5=7,BM5,IF(N5=9,CC5,CL5))) | AA5: =IF(H5=11,"",IF(H5=12,"",IF(H5=13,"",IF(H5=14,"",IF(H5=15,"",IF(H5=16,"",AT5)))))) | AB5: =IF(D5=0,"",IF(D5<2,"million ","millions ")) | AC5: =IF(I5=1,"",IF(P5=0,"",IF(P5=1,"",IF(P5=2,"deux ",IF(P5=3,"trois ",IF(P5=4,"quatre ",IF(P5=5,"cinq ",AU5))))))) | AD5: =IF(P5=0,"",IF(P5<2,"cent ",AV5)) | AE5: =IF(Q5=1,AW5,IF(Q5=7,BO5,IF(Q5=9,CD5,CM5))) | AF5: =IF(E5=1,"",AX5) | AG5: =IF(E5>0,"mille ","") | AH5: =IF(INT(B5)=0,"zéro ",IF(S5=0,"",IF(S5=1,"",IF(S5=2,"deux ",IF(S5=3,"trois ",IF(S5=4,"quatre ",IF(S5=5,"cinq ",AY5))))))) -> zéro | AI5: =IF(S5=0,"",IF(S5<2,"cent ",AZ5)) | AJ5: =IF(T5=1,BA5,IF(T5=7,BQ5,IF(T5=9,CF5,CN5))) | AK5: =IF(K5=11,"",IF(K5=12,"",IF(K5=13,"",IF(K5=14,"",IF(K5=15,"",IF(K5=16,"",BB5)))))) | AL5: =IF(INT(B5<2),"€uro ","€uros ") -> €uro | AM5: =IF(G5>0,"et ","") | AN5: =IF(V5=1,BC5,IF(V5=7,BS5,IF(V5=9,CG5,CO5))) | AO5: =IF(L5=11,"",IF(L5=12,"",IF(L5=13,"",IF(L5=14,"",IF(L5=15,"",IF(L5=16,"",BD5)))))) | AP5: =IF(G5=0,"",IF(G5<2,"centime","centimes")) | AQ5: =IF(D5=0," ",IF(M5=6,"six ",IF(M5=7,"sept ",IF(M5=8,"huit ",IF(M5=9,"neuf ",))))) | AR5: =IF(H5>0,"cent ", "cents ") -> cents | AS5: =IF(H5=10,"dix ",IF(H5=11,"onze ",IF(H5=12,"douze ",IF(H5=13,"treize ",IF(H5=14,"quatorze ",IF(H5=15,"quinze ",BE5)))))) | AT5: =IF(H5=17,"",IF(H5=18,"",IF(H5=19,"",BF5))) | AU5: =IF(P5=6,"six ",IF(P5=7,"sept ",IF(P5=8,"huit ",IF(P5=9,"neuf ",)))) -> 0 | AV5: =IF(J5>0,"cent ", "cents ") -> cents | AW5: =IF(J5=10,"dix ",IF(J5=11,"onze ",IF(J5=12,"douze ",IF(J5=13,"treize ",IF(J5=14,"quatorze ",IF(J5=15,"quinze ",BG5)))))) | AX5: =IF(J5=11,"",IF(J5=12,"",IF(J5=13,"",IF(J5=14,"",IF(J5=15,"",IF(J5=16,"",BH5)))))) | AY5: =IF(S5=6,"six ",IF(S5=7,"sept ",IF(S5=8,"huit ",IF(S5=9,"neuf ",)))) -> 0 | AZ5: =IF(K5>0,"cent ", "cents ") -> cents | BA5: =IF(K5=10,"dix ",IF(K5=11,"onze ",IF(K5=12,"douze ",IF(K5=13,"treize ",IF(K5=14,"quatorze ",IF(K5=15,"quinze ",BI5)))))) | BB5: =IF(K5=17,"",IF(K5=18,"",IF(K5=19,"",BJ5))) | BC5: =IF(L5=10,"dix ",IF(L5=11,"onze ",IF(L5=12,"douze ",IF(L5=13,"treize ",IF(L5=14,"quatorze ",IF(L5=15,"quinze ",BK5)))))) | BD5: =IF(L5=17,"",IF(L5=18,"",IF(L5=19,"",BL5))) | BE5: =IF(H5=16,"seize ",IF(H5=17,"dix-sept ",IF(H5=18,"dix-huit ",IF(H5=19,"dix-neuf ",BM5)))) | BF5: =IF(H5=21,"et un ",IF(H5=31,"et un ",IF(H5=41,"et un ",IF(H5=51,"et un ",IF(H5=61,"et un ",BN5))))) | BG5: =IF(J5=16,"seize ",IF(J5=17,"dix-sept ",IF(J5=18,"dix-huit ",IF(J5=19,"dix-neuf ",BO5)))) | BH5: =IF(J5=17,"",IF(J5=18,"",IF(J5=19,"",BP5))) | BI5: =IF(K5=16,"seize ",IF(K5=17,"dix-sept ",IF(K5=18,"dix-huit ",IF(K5=19,"dix-neuf ",BQ5)))) | BJ5: =IF(K5=21,"et un ",IF(K5=31,"et un ",IF(K5=41,"et un ",IF(K5=51,"et un ",IF(K5=61,"et un ",BR5))))) | BK5: =IF(L5=16,"seize ",IF(L5=17,"dix-sept ",IF(L5=18,"dix-huit ",IF(L5=19,"dix-neuf ",BS5)))) | BL5: =IF(L5=21,"et un ",IF(L5=31,"et un ",IF(L5=41,"et un ",IF(L5=51,"et un ",IF(L5=61,"et un ",BT5))))) | BM5: =IF(H5=70,"soixante-dix ",IF(H5=71,"soixante et onze ",IF(H5=72,"soixante-douze ",IF(H5=73,"soixante-treize ",IF(H5=74,"soixante-quatorze ",IF(H5=75,"soixante-quinze ",BU5)))))) | BN5: =IF(N5=9,"",IF(N5=7,"",IF(O5=0,"",IF(O5=1,"un ",IF(O5=2,"deux ",IF(O5=3,"trois ",IF(O5=4,"quatre ",IF(O5=5,"cinq ",BV5)))))))) | BO5: =IF(J5=70,"soixante-dix ",IF(J5=71,"soixante et onze ",IF(J5=72,"soixante-douze ",IF(J5=73,"soixante-treize ",IF(J5=74,"soixante-quatorze ",IF(J5=75,"soixante-quinze ",BW5)))))) | BP5: =IF(J5=21,"et un ",IF(J5=31,"et un ",IF(J5=41,"et un ",IF(J5=51,"et un ",IF(J5=61,"et un ",BX5))))) | BQ5: =IF(K5=70,"soixante-dix ",IF(K5=71,"soixante et onze ",IF(K5=72,"soixante-douze ",IF(K5=73,"soixante-treize ",IF(K5=74,"soixante-quatorze ",IF(K5=75,"soixante-quinze ",BY5)))))) | BR5: =IF(T5=9,"",IF(T5=7,"",IF(U5=0,"",IF(U5=1,"un ",IF(U5=2,"deux ",IF(U5=3,"trois ",IF(U5=4,"quatre ",IF(U5=5,"cinq ",BZ5)))))))) | BS5: =IF(L5=70,"soixante-dix ",IF(L5=71,"soixante et onze ",IF(L5=72,"soixante-douze ",IF(L5=73,"soixante-treize ",IF(L5=74,"soixante-quatorze ",IF(L5=75,"soixante-quinze ",CA5)))))) | BT5: =IF(V5=9,"",IF(V5=7,"",IF(W5=0,"",IF(W5=1,"un ",IF(W5=2,"deux ",IF(W5=3,"trois ",IF(W5=4,"quatre ",IF(W5=5,"cinq ",CB5)))))))) | BU5: =IF(H5=76,"soixante-seize ",IF(H5=77,"soixante-dix-sept ",IF(H5=78,"soixante-dix-huit ",IF(H5=79,"soixante-dix-neuf ",CC5)))) | BV5: =IF(N5=9,"",IF(O5=6,"six ",IF(O5=7,"sept ",IF(O5=8,"huit ",IF(O5=9,"neuf ",))))) -> 0 | BW5: =IF(J5=76,"soixante-seize ",IF(J5=77,"soixante-dix-sept ",IF(J5=78,"soixante-dix-huit ",IF(J5=79,"soixante-dix-neuf ",CD5)))) | BX5: =IF(Q5=9,"",IF(Q5=7,"",IF(R5=0,"",IF(R5=1,"un ",IF(R5=2,"deux ",IF(R5=3,"trois ",IF(R5=4,"quatre ",IF(R5=5,"cinq ",CE5)))))))) | BY5: =IF(K5=76,"soixante-seize ",IF(K5=77,"soixante-dix-sept ",IF(K5=78,"soixante-dix-huit ",IF(K5=79,"soixante-dix-neuf ",CF5)))) | BZ5: =IF(T5=9,"",IF(U5=6,"six ",IF(U5=7,"sept ",IF(U5=8,"huit ",IF(U5=9,"neuf ",))))) -> 0 | CA5: =IF(L5=76,"soixante-seize ",IF(L5=77,"soixante-dix-sept ",IF(L5=78,"soixante-dix-huit ",IF(L5=79,"soixante-dix-neuf ",CG5)))) | CB5: =IF(V5=9,"",IF(W5=6,"six ",IF(W5=7,"sept ",IF(W5=8,"huit ",IF(W5=9,"neuf ",))))) -> 0 | CC5: =IF(H5=90,"quatre-vingt-dix ",IF(H5=91,"quatre-vingt-onze ",IF(H5=92,"quatre-vingt-douze ",IF(H5=93,"quatre-vingt-treize ",IF(H5=94,"quatre-vingt-quatorze ",IF(H5=95,"quatre-vingt-quinze ",CH5)))))) | CD5: =IF(J5=90,"quatre-vingt-dix ",IF(J5=91,"quatre-vingt-onze ",IF(J5=92,"quatre-vingt-douze ",IF(J5=93,"quatre-vingt-treize ",IF(J5=94,"quatre-vingt-quatorze ",IF(J5=95,"quatre-vingt-quinze ",CI5)))))) | CE5: =IF(Q5=9,"",IF(R5=6,"six ",IF(R5=7,"sept ",IF(R5=8,"huit ",IF(R5=9,"neuf ",))))) -> 0 | CF5: =IF(K5=90,"quatre-vingt-dix ",IF(K5=91,"quatre-vingt-onze ",IF(K5=92,"quatre-vingt-douze ",IF(K5=93,"quatre-vingt-treize ",IF(K5=94,"quatre-vingt-quatorze ",IF(K5=95,"quatre-vingt-quinze ",CJ5)))))) | CG5: =IF(L5=90,"quatre-vingt-dix ",IF(L5=91,"quatre-vingt-onze ",IF(L5=92,"quatre-vingt-douze ",IF(L5=93,"quatre-vingt-treize ",IF(L5=94,"quatre-vingt-quatorze ",IF(L5=95,"quatre-vingt-quinze ",CK5)))))) | CH5: =IF(H5=96,"quatre-vingt-seize ",IF(H5=97,"quatre-vingt-dix-sept ",IF(H5=98,"quatre-vingt-dix-huit ",IF(H5=99,"quatre-vingt-dix-neuf ",CL5)))) | CI5: =IF(J5=96,"quatre-vingt-seize ",IF(J5=97,"quatre-vingt-dix-sept ",IF(J5=98,"quatre-vingt-dix-huit ",IF(J5=99,"quatre-vingt-dix-neuf ",CM5)))) | CJ5: =IF(K5=96,"quatre-vingt-seize ",IF(K5=97,"quatre-vingt-dix-sept ",IF(K5=98,"quatre-vingt-dix-huit ",IF(K5=99,"quatre-vingt-dix-neuf ",CN5)))) | CK5: =IF(L5=96,"quatre-vingt-seize ",IF(L5=97,"quatre-vingt-dix-sept ",IF(L5=98,"quatre-vingt-dix-huit ",IF(L5=99,"quatre-vingt-dix-neuf ",CO5)))) | CL5: =IF(N5=2,"vingt ",IF(N5=3,"trente ",IF(N5=4,"quarante ",IF(N5=5,"cinquante ",CP5)))) | CM5: =IF(Q5=2,"vingt ",IF(Q5=3,"trente ",IF(Q5=4,"quarante ",IF(Q5=5,"cinquante ",CQ5)))) | CN5: =IF(T5=2,"vingt ",IF(T5=3,"trente ",IF(T5=4,"quarante ",IF(T5=5,"cinquante ",CR5)))) | CO5: =IF(V5=2,"vingt ",IF(V5=3,"trente ",IF(V5=4,"quarante ",IF(V5=5,"cinquante ",CS5)))) | CP5: =IF(N5=6,"soixante ",IF(H5=80,"quatre-vingts ",IF(N5=8,"quatre-vingt-",""))) | CQ5: =IF(Q5=6,"soixante ",IF(J5=80,"quatre-vingts ",IF(Q5=8,"quatre-vingt-",""))) | CR5: =IF(T5=6,"soixante ",IF(K5=80,"quatre-vingts ",IF(T5=8,"quatre-vingt-",""))) | CS5: =IF(V5=6,"soixante ",IF(L5=80,"quatre-vingts ",IF(V5=8,"quatre-vingt-",""))) | CU5: =(X5&Y5&Z5&AA5&AB5&AC5&AD5&AE5&AF5&AG5&AH5&AI5&AJ5&AK5&AL5&AM5&AN5&AO5&AP5) -> zéro €uro
B6: =IF('base demandes'!D6<>"",'base demandes'!D6,0) -> 0 | C6: =UPPER(MID(CU6,1,1))&MID(CU6,2,168) -> Zéro €uro | D6: =INT(B6/1000000) -> 0 | E6: =INT((B6-D6*1000000)/1000) -> 0 | F6: =INT(B6-D6*1000000-E6*1000) -> 0 | G6: =ROUND(B6-D6*1000000-E6*1000-F6,2)*100 -> 0 | H6: =D6-M6*100 -> 0 | J6: =E6-P6*100 -> 0 | K6: =ROUND(F6-S6*100,0) -> 0 | L6: =G6 -> 0 | M6: =INT(D6/100) -> 0 | N6: =INT((D6-M6*100)/10) -> 0 | O6: =D6-M6*100-N6*10 -> 0 | P6: =INT(E6/100) -> 0 | Q6: =INT((E6-P6*100)/10) -> 0 | R6: =E6-P6*100-Q6*10 -> 0 | S6: =INT(F6/100) -> 0 | T6: =INT((F6-S6*100)/10) -> 0 | U6: =F6-S6*100-T6*10 -> 0 | V6: =INT(G6/10) -> 0 | W6: =ROUND(G6-V6*10,0) -> 0 | X6: =IF(M6=0,"",IF(M6=1,"",IF(M6=2,"deux ",IF(M6=3,"trois ",IF(M6=4,"quatre ",IF(M6=5,"cinq ",AQ6)))))) | Y6: =IF(M6=0,"",IF(M6<2,"cent ",AR6)) | Z6: =IF(N6=1,AS6,IF(N6=7,BM6,IF(N6=9,CC6,CL6))) | AA6: =IF(H6=11,"",IF(H6=12,"",IF(H6=13,"",IF(H6=14,"",IF(H6=15,"",IF(H6=16,"",AT6)))))) | AB6: =IF(D6=0,"",IF(D6<2,"million ","millions ")) | AC6: =IF(I6=1,"",IF(P6=0,"",IF(P6=1,"",IF(P6=2,"deux ",IF(P6=3,"trois ",IF(P6=4,"quatre ",IF(P6=5,"cinq ",AU6))))))) | AD6: =IF(P6=0,"",IF(P6<2,"cent ",AV6)) | AE6: =IF(Q6=1,AW6,IF(Q6=7,BO6,IF(Q6=9,CD6,CM6))) | AF6: =IF(E6=1,"",AX6) | AG6: =IF(E6>0,"mille ","") | AH6: =IF(INT(B6)=0,"zéro ",IF(S6=0,"",IF(S6=1,"",IF(S6=2,"deux ",IF(S6=3,"trois ",IF(S6=4,"quatre ",IF(S6=5,"cinq ",AY6))))))) -> zéro | AI6: =IF(S6=0,"",IF(S6<2,"cent ",AZ6)) | AJ6: =IF(T6=1,BA6,IF(T6=7,BQ6,IF(T6=9,CF6,CN6))) | AK6: =IF(K6=11,"",IF(K6=12,"",IF(K6=13,"",IF(K6=14,"",IF(K6=15,"",IF(K6=16,"",BB6)))))) | AL6: =IF(INT(B6<2),"€uro ","€uros ") -> €uro | AM6: =IF(G6>0,"et ","") | AN6: =IF(V6=1,BC6,IF(V6=7,BS6,IF(V6=9,CG6,CO6))) | AO6: =IF(L6=11,"",IF(L6=12,"",IF(L6=13,"",IF(L6=14,"",IF(L6=15,"",IF(L6=16,"",BD6)))))) | AP6: =IF(G6=0,"",IF(G6<2,"centime","centimes")) | AQ6: =IF(D6=0," ",IF(M6=6,"six ",IF(M6=7,"sept ",IF(M6=8,"huit ",IF(M6=9,"neuf ",))))) | AR6: =IF(H6>0,"cent ", "cents ") -> cents | AS6: =IF(H6=10,"dix ",IF(H6=11,"onze ",IF(H6=12,"douze ",IF(H6=13,"treize ",IF(H6=14,"quatorze ",IF(H6=15,"quinze ",BE6)))))) | AT6: =IF(H6=17,"",IF(H6=18,"",IF(H6=19,"",BF6))) | AU6: =IF(P6=6,"six ",IF(P6=7,"sept ",IF(P6=8,"huit ",IF(P6=9,"neuf ",)))) -> 0 | AV6: =IF(J6>0,"cent ", "cents ") -> cents | AW6: =IF(J6=10,"dix ",IF(J6=11,"onze ",IF(J6=12,"douze ",IF(J6=13,"treize ",IF(J6=14,"quatorze ",IF(J6=15,"quinze ",BG6)))))) | AX6: =IF(J6=11,"",IF(J6=12,"",IF(J6=13,"",IF(J6=14,"",IF(J6=15,"",IF(J6=16,"",BH6)))))) | AY6: =IF(S6=6,"six ",IF(S6=7,"sept ",IF(S6=8,"huit ",IF(S6=9,"neuf ",)))) -> 0 | AZ6: =IF(K6>0,"cent ", "cents ") -> cents | BA6: =IF(K6=10,"dix ",IF(K6=11,"onze ",IF(K6=12,"douze ",IF(K6=13,"treize ",IF(K6=14,"quatorze ",IF(K6=15,"quinze ",BI6)))))) | BB6: =IF(K6=17,"",IF(K6=18,"",IF(K6=19,"",BJ6))) | BC6: =IF(L6=10,"dix ",IF(L6=11,"onze ",IF(L6=12,"douze ",IF(L6=13,"treize ",IF(L6=14,"quatorze ",IF(L6=15,"quinze ",BK6)))))) | BD6: =IF(L6=17,"",IF(L6=18,"",IF(L6=19,"",BL6))) | BE6: =IF(H6=16,"seize ",IF(H6=17,"dix-sept ",IF(H6=18,"dix-huit ",IF(H6=19,"dix-neuf ",BM6)))) | BF6: =IF(H6=21,"et un ",IF(H6=31,"et un ",IF(H6=41,"et un ",IF(H6=51,"et un ",IF(H6=61,"et un ",BN6))))) | BG6: =IF(J6=16,"seize ",IF(J6=17,"dix-sept ",IF(J6=18,"dix-huit ",IF(J6=19,"dix-neuf ",BO6)))) | BH6: =IF(J6=17,"",IF(J6=18,"",IF(J6=19,"",BP6))) | BI6: =IF(K6=16,"seize ",IF(K6=17,"dix-sept ",IF(K6=18,"dix-huit ",IF(K6=19,"dix-neuf ",BQ6)))) | BJ6: =IF(K6=21,"et un ",IF(K6=31,"et un ",IF(K6=41,"et un ",IF(K6=51,"et un ",IF(K6=61,"et un ",BR6))))) | BK6: =IF(L6=16,"seize ",IF(L6=17,"dix-sept ",IF(L6=18,"dix-huit ",IF(L6=19,"dix-neuf ",BS6)))) | BL6: =IF(L6=21,"et un ",IF(L6=31,"et un ",IF(L6=41,"et un ",IF(L6=51,"et un ",IF(L6=61,"et un ",BT6))))) | BM6: =IF(H6=70,"soixante-dix ",IF(H6=71,"soixante et onze ",IF(H6=72,"soixante-douze ",IF(H6=73,"soixante-treize ",IF(H6=74,"soixante-quatorze ",IF(H6=75,"soixante-quinze ",BU6)))))) | BN6: =IF(N6=9,"",IF(N6=7,"",IF(O6=0,"",IF(O6=1,"un ",IF(O6=2,"deux ",IF(O6=3,"trois ",IF(O6=4,"quatre ",IF(O6=5,"cinq ",BV6)))))))) | BO6: =IF(J6=70,"soixante-dix ",IF(J6=71,"soixante et onze ",IF(J6=72,"soixante-douze ",IF(J6=73,"soixante-treize ",IF(J6=74,"soixante-quatorze ",IF(J6=75,"soixante-quinze ",BW6)))))) | BP6: =IF(J6=21,"et un ",IF(J6=31,"et un ",IF(J6=41,"et un ",IF(J6=51,"et un ",IF(J6=61,"et un ",BX6))))) | BQ6: =IF(K6=70,"soixante-dix ",IF(K6=71,"soixante et onze ",IF(K6=72,"soixante-douze ",IF(K6=73,"soixante-treize ",IF(K6=74,"soixante-quatorze ",IF(K6=75,"soixante-quinze ",BY6)))))) | BR6: =IF(T6=9,"",IF(T6=7,"",IF(U6=0,"",IF(U6=1,"un ",IF(U6=2,"deux ",IF(U6=3,"trois ",IF(U6=4,"quatre ",IF(U6=5,"cinq ",BZ6)))))))) | BS6: =IF(L6=70,"soixante-dix ",IF(L6=71,"soixante et onze ",IF(L6=72,"soixante-douze ",IF(L6=73,"soixante-treize ",IF(L6=74,"soixante-quatorze ",IF(L6=75,"soixante-quinze ",CA6)))))) | BT6: =IF(V6=9,"",IF(V6=7,"",IF(W6=0,"",IF(W6=1,"un ",IF(W6=2,"deux ",IF(W6=3,"trois ",IF(W6=4,"quatre ",IF(W6=5,"cinq ",CB6)))))))) | BU6: =IF(H6=76,"soixante-seize ",IF(H6=77,"soixante-dix-sept ",IF(H6=78,"soixante-dix-huit ",IF(H6=79,"soixante-dix-neuf ",CC6)))) | BV6: =IF(N6=9,"",IF(O6=6,"six ",IF(O6=7,"sept ",IF(O6=8,"huit ",IF(O6=9,"neuf ",))))) -> 0 | BW6: =IF(J6=76,"soixante-seize ",IF(J6=77,"soixante-dix-sept ",IF(J6=78,"soixante-dix-huit ",IF(J6=79,"soixante-dix-neuf ",CD6)))) | BX6: =IF(Q6=9,"",IF(Q6=7,"",IF(R6=0,"",IF(R6=1,"un ",IF(R6=2,"deux ",IF(R6=3,"trois ",IF(R6=4,"quatre ",IF(R6=5,"cinq ",CE6)))))))) | BY6: =IF(K6=76,"soixante-seize ",IF(K6=77,"soixante-dix-sept ",IF(K6=78,"soixante-dix-huit ",IF(K6=79,"soixante-dix-neuf ",CF6)))) | BZ6: =IF(T6=9,"",IF(U6=6,"six ",IF(U6=7,"sept ",IF(U6=8,"huit ",IF(U6=9,"neuf ",))))) -> 0 | CA6: =IF(L6=76,"soixante-seize ",IF(L6=77,"soixante-dix-sept ",IF(L6=78,"soixante-dix-huit ",IF(L6=79,"soixante-dix-neuf ",CG6)))) | CB6: =IF(V6=9,"",IF(W6=6,"six ",IF(W6=7,"sept ",IF(W6=8,"huit ",IF(W6=9,"neuf ",))))) -> 0 | CC6: =IF(H6=90,"quatre-vingt-dix ",IF(H6=91,"quatre-vingt-onze ",IF(H6=92,"quatre-vingt-douze ",IF(H6=93,"quatre-vingt-treize ",IF(H6=94,"quatre-vingt-quatorze ",IF(H6=95,"quatre-vingt-quinze ",CH6)))))) | CD6: =IF(J6=90,"quatre-vingt-dix ",IF(J6=91,"quatre-vingt-onze ",IF(J6=92,"quatre-vingt-douze ",IF(J6=93,"quatre-vingt-treize ",IF(J6=94,"quatre-vingt-quatorze ",IF(J6=95,"quatre-vingt-quinze ",CI6)))))) | CE6: =IF(Q6=9,"",IF(R6=6,"six ",IF(R6=7,"sept ",IF(R6=8,"huit ",IF(R6=9,"neuf ",))))) -> 0 | CF6: =IF(K6=90,"quatre-vingt-dix ",IF(K6=91,"quatre-vingt-onze ",IF(K6=92,"quatre-vingt-douze ",IF(K6=93,"quatre-vingt-treize ",IF(K6=94,"quatre-vingt-quatorze ",IF(K6=95,"quatre-vingt-quinze ",CJ6)))))) | CG6: =IF(L6=90,"quatre-vingt-dix ",IF(L6=91,"quatre-vingt-onze ",IF(L6=92,"quatre-vingt-douze ",IF(L6=93,"quatre-vingt-treize ",IF(L6=94,"quatre-vingt-quatorze ",IF(L6=95,"quatre-vingt-quinze ",CK6)))))) | CH6: =IF(H6=96,"quatre-vingt-seize ",IF(H6=97,"quatre-vingt-dix-sept ",IF(H6=98,"quatre-vingt-dix-huit ",IF(H6=99,"quatre-vingt-dix-neuf ",CL6)))) | CI6: =IF(J6=96,"quatre-vingt-seize ",IF(J6=97,"quatre-vingt-dix-sept ",IF(J6=98,"quatre-vingt-dix-huit ",IF(J6=99,"quatre-vingt-dix-neuf ",CM6)))) | CJ6: =IF(K6=96,"quatre-vingt-seize ",IF(K6=97,"quatre-vingt-dix-sept ",IF(K6=98,"quatre-vingt-dix-huit ",IF(K6=99,"quatre-vingt-dix-neuf ",CN6)))) | CK6: =IF(L6=96,"quatre-vingt-seize ",IF(L6=97,"quatre-vingt-dix-sept ",IF(L6=98,"quatre-vingt-dix-huit ",IF(L6=99,"quatre-vingt-dix-neuf ",CO6)))) | CL6: =IF(N6=2,"vingt ",IF(N6=3,"trente ",IF(N6=4,"quarante ",IF(N6=5,"cinquante ",CP6)))) | CM6: =IF(Q6=2,"vingt ",IF(Q6=3,"trente ",IF(Q6=4,"quarante ",IF(Q6=5,"cinquante ",CQ6)))) | CN6: =IF(T6=2,"vingt ",IF(T6=3,"trente ",IF(T6=4,"quarante ",IF(T6=5,"cinquante ",CR6)))) | CO6: =IF(V6=2,"vingt ",IF(V6=3,"trente ",IF(V6=4,"quarante ",IF(V6=5,"cinquante ",CS6)))) | CP6: =IF(N6=6,"soixante ",IF(H6=80,"quatre-vingts ",IF(N6=8,"quatre-vingt-",""))) | CQ6: =IF(Q6=6,"soixante ",IF(J6=80,"quatre-vingts ",IF(Q6=8,"quatre-vingt-",""))) | CR6: =IF(T6=6,"soixante ",IF(K6=80,"quatre-vingts ",IF(T6=8,"quatre-vingt-",""))) | CS6: =IF(V6=6,"soixante ",IF(L6=80,"quatre-vingts ",IF(V6=8,"quatre-vingt-",""))) | CU6: =(X6&Y6&Z6&AA6&AB6&AC6&AD6&AE6&AF6&AG6&AH6&AI6&AJ6&AK6&AL6&AM6&AN6&AO6&AP6) -> zéro €uro
B7: =IF('base demandes'!D7<>"",'base demandes'!D7,0) -> 0 | C7: =UPPER(MID(CU7,1,1))&MID(CU7,2,168) -> Zéro €uro | D7: =INT(B7/1000000) -> 0 | E7: =INT((B7-D7*1000000)/1000) -> 0 | F7: =INT(B7-D7*1000000-E7*1000) -> 0 | G7: =ROUND(B7-D7*1000000-E7*1000-F7,2)*100 -> 0 | H7: =D7-M7*100 -> 0 | J7: =E7-P7*100 -> 0 | K7: =ROUND(F7-S7*100,0) -> 0 | L7: =G7 -> 0 | M7: =INT(D7/100) -> 0 | N7: =INT((D7-M7*100)/10) -> 0 | O7: =D7-M7*100-N7*10 -> 0 | P7: =INT(E7/100) -> 0 | Q7: =INT((E7-P7*100)/10) -> 0 | R7: =E7-P7*100-Q7*10 -> 0 | S7: =INT(F7/100) -> 0 | T7: =INT((F7-S7*100)/10) -> 0 | U7: =F7-S7*100-T7*10 -> 0 | V7: =INT(G7/10) -> 0 | W7: =ROUND(G7-V7*10,0) -> 0 | X7: =IF(M7=0,"",IF(M7=1,"",IF(M7=2,"deux ",IF(M7=3,"trois ",IF(M7=4,"quatre ",IF(M7=5,"cinq ",AQ7)))))) | Y7: =IF(M7=0,"",IF(M7<2,"cent ",AR7)) | Z7: =IF(N7=1,AS7,IF(N7=7,BM7,IF(N7=9,CC7,CL7))) | AA7: =IF(H7=11,"",IF(H7=12,"",IF(H7=13,"",IF(H7=14,"",IF(H7=15,"",IF(H7=16,"",AT7)))))) | AB7: =IF(D7=0,"",IF(D7<2,"million ","millions ")) | AC7: =IF(I7=1,"",IF(P7=0,"",IF(P7=1,"",IF(P7=2,"deux ",IF(P7=3,"trois ",IF(P7=4,"quatre ",IF(P7=5,"cinq ",AU7))))))) | AD7: =IF(P7=0,"",IF(P7<2,"cent ",AV7)) | AE7: =IF(Q7=1,AW7,IF(Q7=7,BO7,IF(Q7=9,CD7,CM7))) | AF7: =IF(E7=1,"",AX7) | AG7: =IF(E7>0,"mille ","") | AH7: =IF(INT(B7)=0,"zéro ",IF(S7=0,"",IF(S7=1,"",IF(S7=2,"deux ",IF(S7=3,"trois ",IF(S7=4,"quatre ",IF(S7=5,"cinq ",AY7))))))) -> zéro | AI7: =IF(S7=0,"",IF(S7<2,"cent ",AZ7)) | AJ7: =IF(T7=1,BA7,IF(T7=7,BQ7,IF(T7=9,CF7,CN7))) | AK7: =IF(K7=11,"",IF(K7=12,"",IF(K7=13,"",IF(K7=14,"",IF(K7=15,"",IF(K7=16,"",BB7)))))) | AL7: =IF(INT(B7<2),"€uro ","€uros ") -> €uro | AM7: =IF(G7>0,"et ","") | AN7: =IF(V7=1,BC7,IF(V7=7,BS7,IF(V7=9,CG7,CO7))) | AO7: =IF(L7=11,"",IF(L7=12,"",IF(L7=13,"",IF(L7=14,"",IF(L7=15,"",IF(L7=16,"",BD7)))))) | AP7: =IF(G7=0,"",IF(G7<2,"centime","centimes")) | AQ7: =IF(D7=0," ",IF(M7=6,"six ",IF(M7=7,"sept ",IF(M7=8,"huit ",IF(M7=9,"neuf ",))))) | AR7: =IF(H7>0,"cent ", "cents ") -> cents | AS7: =IF(H7=10,"dix ",IF(H7=11,"onze ",IF(H7=12,"douze ",IF(H7=13,"treize ",IF(H7=14,"quatorze ",IF(H7=15,"quinze ",BE7)))))) | AT7: =IF(H7=17,"",IF(H7=18,"",IF(H7=19,"",BF7))) | AU7: =IF(P7=6,"six ",IF(P7=7,"sept ",IF(P7=8,"huit ",IF(P7=9,"neuf ",)))) -> 0 | AV7: =IF(J7>0,"cent ", "cents ") -> cents | AW7: =IF(J7=10,"dix ",IF(J7=11,"onze ",IF(J7=12,"douze ",IF(J7=13,"treize ",IF(J7=14,"quatorze ",IF(J7=15,"quinze ",BG7)))))) | AX7: =IF(J7=11,"",IF(J7=12,"",IF(J7=13,"",IF(J7=14,"",IF(J7=15,"",IF(J7=16,"",BH7)))))) | AY7: =IF(S7=6,"six ",IF(S7=7,"sept ",IF(S7=8,"huit ",IF(S7=9,"neuf ",)))) -> 0 | AZ7: =IF(K7>0,"cent ", "cents ") -> cents | BA7: =IF(K7=10,"dix ",IF(K7=11,"onze ",IF(K7=12,"douze ",IF(K7=13,"treize ",IF(K7=14,"quatorze ",IF(K7=15,"quinze ",BI7)))))) | BB7: =IF(K7=17,"",IF(K7=18,"",IF(K7=19,"",BJ7))) | BC7: =IF(L7=10,"dix ",IF(L7=11,"onze ",IF(L7=12,"douze ",IF(L7=13,"treize ",IF(L7=14,"quatorze ",IF(L7=15,"quinze ",BK7)))))) | BD7: =IF(L7=17,"",IF(L7=18,"",IF(L7=19,"",BL7))) | BE7: =IF(H7=16,"seize ",IF(H7=17,"dix-sept ",IF(H7=18,"dix-huit ",IF(H7=19,"dix-neuf ",BM7)))) | BF7: =IF(H7=21,"et un ",IF(H7=31,"et un ",IF(H7=41,"et un ",IF(H7=51,"et un ",IF(H7=61,"et un ",BN7))))) | BG7: =IF(J7=16,"seize ",IF(J7=17,"dix-sept ",IF(J7=18,"dix-huit ",IF(J7=19,"dix-neuf ",BO7)))) | BH7: =IF(J7=17,"",IF(J7=18,"",IF(J7=19,"",BP7))) | BI7: =IF(K7=16,"seize ",IF(K7=17,"dix-sept ",IF(K7=18,"dix-huit ",IF(K7=19,"dix-neuf ",BQ7)))) | BJ7: =IF(K7=21,"et un ",IF(K7=31,"et un ",IF(K7=41,"et un ",IF(K7=51,"et un ",IF(K7=61,"et un ",BR7))))) | BK7: =IF(L7=16,"seize ",IF(L7=17,"dix-sept ",IF(L7=18,"dix-huit ",IF(L7=19,"dix-neuf ",BS7)))) | BL7: =IF(L7=21,"et un ",IF(L7=31,"et un ",IF(L7=41,"et un ",IF(L7=51,"et un ",IF(L7=61,"et un ",BT7))))) | BM7: =IF(H7=70,"soixante-dix ",IF(H7=71,"soixante et onze ",IF(H7=72,"soixante-douze ",IF(H7=73,"soixante-treize ",IF(H7=74,"soixante-quatorze ",IF(H7=75,"soixante-quinze ",BU7)))))) | BN7: =IF(N7=9,"",IF(N7=7,"",IF(O7=0,"",IF(O7=1,"un ",IF(O7=2,"deux ",IF(O7=3,"trois ",IF(O7=4,"quatre ",IF(O7=5,"cinq ",BV7)))))))) | BO7: =IF(J7=70,"soixante-dix ",IF(J7=71,"soixante et onze ",IF(J7=72,"soixante-douze ",IF(J7=73,"soixante-treize ",IF(J7=74,"soixante-quatorze ",IF(J7=75,"soixante-quinze ",BW7)))))) | BP7: =IF(J7=21,"et un ",IF(J7=31,"et un ",IF(J7=41,"et un ",IF(J7=51,"et un ",IF(J7=61,"et un ",BX7))))) | BQ7: =IF(K7=70,"soixante-dix ",IF(K7=71,"soixante et onze ",IF(K7=72,"soixante-douze ",IF(K7=73,"soixante-treize ",IF(K7=74,"soixante-quatorze ",IF(K7=75,"soixante-quinze ",BY7)))))) | BR7: =IF(T7=9,"",IF(T7=7,"",IF(U7=0,"",IF(U7=1,"un ",IF(U7=2,"deux ",IF(U7=3,"trois ",IF(U7=4,"quatre ",IF(U7=5,"cinq ",BZ7)))))))) | BS7: =IF(L7=70,"soixante-dix ",IF(L7=71,"soixante et onze ",IF(L7=72,"soixante-douze ",IF(L7=73,"soixante-treize ",IF(L7=74,"soixante-quatorze ",IF(L7=75,"soixante-quinze ",CA7)))))) | BT7: =IF(V7=9,"",IF(V7=7,"",IF(W7=0,"",IF(W7=1,"un ",IF(W7=2,"deux ",IF(W7=3,"trois ",IF(W7=4,"quatre ",IF(W7=5,"cinq ",CB7)))))))) | BU7: =IF(H7=76,"soixante-seize ",IF(H7=77,"soixante-dix-sept ",IF(H7=78,"soixante-dix-huit ",IF(H7=79,"soixante-dix-neuf ",CC7)))) | BV7: =IF(N7=9,"",IF(O7=6,"six ",IF(O7=7,"sept ",IF(O7=8,"huit ",IF(O7=9,"neuf ",))))) -> 0 | BW7: =IF(J7=76,"soixante-seize ",IF(J7=77,"soixante-dix-sept ",IF(J7=78,"soixante-dix-huit ",IF(J7=79,"soixante-dix-neuf ",CD7)))) | BX7: =IF(Q7=9,"",IF(Q7=7,"",IF(R7=0,"",IF(R7=1,"un ",IF(R7=2,"deux ",IF(R7=3,"trois ",IF(R7=4,"quatre ",IF(R7=5,"cinq ",CE7)))))))) | BY7: =IF(K7=76,"soixante-seize ",IF(K7=77,"soixante-dix-sept ",IF(K7=78,"soixante-dix-huit ",IF(K7=79,"soixante-dix-neuf ",CF7)))) | BZ7: =IF(T7=9,"",IF(U7=6,"six ",IF(U7=7,"sept ",IF(U7=8,"huit ",IF(U7=9,"neuf ",))))) -> 0 | CA7: =IF(L7=76,"soixante-seize ",IF(L7=77,"soixante-dix-sept ",IF(L7=78,"soixante-dix-huit ",IF(L7=79,"soixante-dix-neuf ",CG7)))) | CB7: =IF(V7=9,"",IF(W7=6,"six ",IF(W7=7,"sept ",IF(W7=8,"huit ",IF(W7=9,"neuf ",))))) -> 0 | CC7: =IF(H7=90,"quatre-vingt-dix ",IF(H7=91,"quatre-vingt-onze ",IF(H7=92,"quatre-vingt-douze ",IF(H7=93,"quatre-vingt-treize ",IF(H7=94,"quatre-vingt-quatorze ",IF(H7=95,"quatre-vingt-quinze ",CH7)))))) | CD7: =IF(J7=90,"quatre-vingt-dix ",IF(J7=91,"quatre-vingt-onze ",IF(J7=92,"quatre-vingt-douze ",IF(J7=93,"quatre-vingt-treize ",IF(J7=94,"quatre-vingt-quatorze ",IF(J7=95,"quatre-vingt-quinze ",CI7)))))) | CE7: =IF(Q7=9,"",IF(R7=6,"six ",IF(R7=7,"sept ",IF(R7=8,"huit ",IF(R7=9,"neuf ",))))) -> 0 | CF7: =IF(K7=90,"quatre-vingt-dix ",IF(K7=91,"quatre-vingt-onze ",IF(K7=92,"quatre-vingt-douze ",IF(K7=93,"quatre-vingt-treize ",IF(K7=94,"quatre-vingt-quatorze ",IF(K7=95,"quatre-vingt-quinze ",CJ7)))))) | CG7: =IF(L7=90,"quatre-vingt-dix ",IF(L7=91,"quatre-vingt-onze ",IF(L7=92,"quatre-vingt-douze ",IF(L7=93,"quatre-vingt-treize ",IF(L7=94,"quatre-vingt-quatorze ",IF(L7=95,"quatre-vingt-quinze ",CK7)))))) | CH7: =IF(H7=96,"quatre-vingt-seize ",IF(H7=97,"quatre-vingt-dix-sept ",IF(H7=98,"quatre-vingt-dix-huit ",IF(H7=99,"quatre-vingt-dix-neuf ",CL7)))) | CI7: =IF(J7=96,"quatre-vingt-seize ",IF(J7=97,"quatre-vingt-dix-sept ",IF(J7=98,"quatre-vingt-dix-huit ",IF(J7=99,"quatre-vingt-dix-neuf ",CM7)))) | CJ7: =IF(K7=96,"quatre-vingt-seize ",IF(K7=97,"quatre-vingt-dix-sept ",IF(K7=98,"quatre-vingt-dix-huit ",IF(K7=99,"quatre-vingt-dix-neuf ",CN7)))) | CK7: =IF(L7=96,"quatre-vingt-seize ",IF(L7=97,"quatre-vingt-dix-sept ",IF(L7=98,"quatre-vingt-dix-huit ",IF(L7=99,"quatre-vingt-dix-neuf ",CO7)))) | CL7: =IF(N7=2,"vingt ",IF(N7=3,"trente ",IF(N7=4,"quarante ",IF(N7=5,"cinquante ",CP7)))) | CM7: =IF(Q7=2,"vingt ",IF(Q7=3,"trente ",IF(Q7=4,"quarante ",IF(Q7=5,"cinquante ",CQ7)))) | CN7: =IF(T7=2,"vingt ",IF(T7=3,"trente ",IF(T7=4,"quarante ",IF(T7=5,"cinquante ",CR7)))) | CO7: =IF(V7=2,"vingt ",IF(V7=3,"trente ",IF(V7=4,"quarante ",IF(V7=5,"cinquante ",CS7)))) | CP7: =IF(N7=6,"soixante ",IF(H7=80,"quatre-vingts ",IF(N7=8,"quatre-vingt-",""))) | CQ7: =IF(Q7=6,"soixante ",IF(J7=80,"quatre-vingts ",IF(Q7=8,"quatre-vingt-",""))) | CR7: =IF(T7=6,"soixante ",IF(K7=80,"quatre-vingts ",IF(T7=8,"quatre-vingt-",""))) | CS7: =IF(V7=6,"soixante ",IF(L7=80,"quatre-vingts ",IF(V7=8,"quatre-vingt-",""))) | CU7: =(X7&Y7&Z7&AA7&AB7&AC7&AD7&AE7&AF7&AG7&AH7&AI7&AJ7&AK7&AL7&AM7&AN7&AO7&AP7) -> zéro €uro
B8: =IF('base demandes'!D8<>"",'base demandes'!D8,0) -> 0 | C8: =UPPER(MID(CU8,1,1))&MID(CU8,2,168) -> Zéro €uro | D8: =INT(B8/1000000) -> 0 | E8: =INT((B8-D8*1000000)/1000) -> 0 | F8: =INT(B8-D8*1000000-E8*1000) -> 0 | G8: =ROUND(B8-D8*1000000-E8*1000-F8,2)*100 -> 0 | H8: =D8-M8*100 -> 0 | J8: =E8-P8*100 -> 0 | K8: =ROUND(F8-S8*100,0) -> 0 | L8: =G8 -> 0 | M8: =INT(D8/100) -> 0 | N8: =INT((D8-M8*100)/10) -> 0 | O8: =D8-M8*100-N8*10 -> 0 | P8: =INT(E8/100) -> 0 | Q8: =INT((E8-P8*100)/10) -> 0 | R8: =E8-P8*100-Q8*10 -> 0 | S8: =INT(F8/100) -> 0 | T8: =INT((F8-S8*100)/10) -> 0 | U8: =F8-S8*100-T8*10 -> 0 | V8: =INT(G8/10) -> 0 | W8: =ROUND(G8-V8*10,0) -> 0 | X8: =IF(M8=0,"",IF(M8=1,"",IF(M8=2,"deux ",IF(M8=3,"trois ",IF(M8=4,"quatre ",IF(M8=5,"cinq ",AQ8)))))) | Y8: =IF(M8=0,"",IF(M8<2,"cent ",AR8)) | Z8: =IF(N8=1,AS8,IF(N8=7,BM8,IF(N8=9,CC8,CL8))) | AA8: =IF(H8=11,"",IF(H8=12,"",IF(H8=13,"",IF(H8=14,"",IF(H8=15,"",IF(H8=16,"",AT8)))))) | AB8: =IF(D8=0,"",IF(D8<2,"million ","millions ")) | AC8: =IF(I8=1,"",IF(P8=0,"",IF(P8=1,"",IF(P8=2,"deux ",IF(P8=3,"trois ",IF(P8=4,"quatre ",IF(P8=5,"cinq ",AU8))))))) | AD8: =IF(P8=0,"",IF(P8<2,"cent ",AV8)) | AE8: =IF(Q8=1,AW8,IF(Q8=7,BO8,IF(Q8=9,CD8,CM8))) | AF8: =IF(E8=1,"",AX8) | AG8: =IF(E8>0,"mille ","") | AH8: =IF(INT(B8)=0,"zéro ",IF(S8=0,"",IF(S8=1,"",IF(S8=2,"deux ",IF(S8=3,"trois ",IF(S8=4,"quatre ",IF(S8=5,"cinq ",AY8))))))) -> zéro | AI8: =IF(S8=0,"",IF(S8<2,"cent ",AZ8)) | AJ8: =IF(T8=1,BA8,IF(T8=7,BQ8,IF(T8=9,CF8,CN8))) | AK8: =IF(K8=11,"",IF(K8=12,"",IF(K8=13,"",IF(K8=14,"",IF(K8=15,"",IF(K8=16,"",BB8)))))) | AL8: =IF(INT(B8<2),"€uro ","€uros ") -> €uro | AM8: =IF(G8>0,"et ","") | AN8: =IF(V8=1,BC8,IF(V8=7,BS8,IF(V8=9,CG8,CO8))) | AO8: =IF(L8=11,"",IF(L8=12,"",IF(L8=13,"",IF(L8=14,"",IF(L8=15,"",IF(L8=16,"",BD8)))))) | AP8: =IF(G8=0,"",IF(G8<2,"centime","centimes")) | AQ8: =IF(D8=0," ",IF(M8=6,"six ",IF(M8=7,"sept ",IF(M8=8,"huit ",IF(M8=9,"neuf ",))))) | AR8: =IF(H8>0,"cent ", "cents ") -> cents | AS8: =IF(H8=10,"dix ",IF(H8=11,"onze ",IF(H8=12,"douze ",IF(H8=13,"treize ",IF(H8=14,"quatorze ",IF(H8=15,"quinze ",BE8)))))) | AT8: =IF(H8=17,"",IF(H8=18,"",IF(H8=19,"",BF8))) | AU8: =IF(P8=6,"six ",IF(P8=7,"sept ",IF(P8=8,"huit ",IF(P8=9,"neuf ",)))) -> 0 | AV8: =IF(J8>0,"cent ", "cents ") -> cents | AW8: =IF(J8=10,"dix ",IF(J8=11,"onze ",IF(J8=12,"douze ",IF(J8=13,"treize ",IF(J8=14,"quatorze ",IF(J8=15,"quinze ",BG8)))))) | AX8: =IF(J8=11,"",IF(J8=12,"",IF(J8=13,"",IF(J8=14,"",IF(J8=15,"",IF(J8=16,"",BH8)))))) | AY8: =IF(S8=6,"six ",IF(S8=7,"sept ",IF(S8=8,"huit ",IF(S8=9,"neuf ",)))) -> 0 | AZ8: =IF(K8>0,"cent ", "cents ") -> cents | BA8: =IF(K8=10,"dix ",IF(K8=11,"onze ",IF(K8=12,"douze ",IF(K8=13,"treize ",IF(K8=14,"quatorze ",IF(K8=15,"quinze ",BI8)))))) | BB8: =IF(K8=17,"",IF(K8=18,"",IF(K8=19,"",BJ8))) | BC8: =IF(L8=10,"dix ",IF(L8=11,"onze ",IF(L8=12,"douze ",IF(L8=13,"treize ",IF(L8=14,"quatorze ",IF(L8=15,"quinze ",BK8)))))) | BD8: =IF(L8=17,"",IF(L8=18,"",IF(L8=19,"",BL8))) | BE8: =IF(H8=16,"seize ",IF(H8=17,"dix-sept ",IF(H8=18,"dix-huit ",IF(H8=19,"dix-neuf ",BM8)))) | BF8: =IF(H8=21,"et un ",IF(H8=31,"et un ",IF(H8=41,"et un ",IF(H8=51,"et un ",IF(H8=61,"et un ",BN8))))) | BG8: =IF(J8=16,"seize ",IF(J8=17,"dix-sept ",IF(J8=18,"dix-huit ",IF(J8=19,"dix-neuf ",BO8)))) | BH8: =IF(J8=17,"",IF(J8=18,"",IF(J8=19,"",BP8))) | BI8: =IF(K8=16,"seize ",IF(K8=17,"dix-sept ",IF(K8=18,"dix-huit ",IF(K8=19,"dix-neuf ",BQ8)))) | BJ8: =IF(K8=21,"et un ",IF(K8=31,"et un ",IF(K8=41,"et un ",IF(K8=51,"et un ",IF(K8=61,"et un ",BR8))))) | BK8: =IF(L8=16,"seize ",IF(L8=17,"dix-sept ",IF(L8=18,"dix-huit ",IF(L8=19,"dix-neuf ",BS8)))) | BL8: =IF(L8=21,"et un ",IF(L8=31,"et un ",IF(L8=41,"et un ",IF(L8=51,"et un ",IF(L8=61,"et un ",BT8))))) | BM8: =IF(H8=70,"soixante-dix ",IF(H8=71,"soixante et onze ",IF(H8=72,"soixante-douze ",IF(H8=73,"soixante-treize ",IF(H8=74,"soixante-quatorze ",IF(H8=75,"soixante-quinze ",BU8)))))) | BN8: =IF(N8=9,"",IF(N8=7,"",IF(O8=0,"",IF(O8=1,"un ",IF(O8=2,"deux ",IF(O8=3,"trois ",IF(O8=4,"quatre ",IF(O8=5,"cinq ",BV8)))))))) | BO8: =IF(J8=70,"soixante-dix ",IF(J8=71,"soixante et onze ",IF(J8=72,"soixante-douze ",IF(J8=73,"soixante-treize ",IF(J8=74,"soixante-quatorze ",IF(J8=75,"soixante-quinze ",BW8)))))) | BP8: =IF(J8=21,"et un ",IF(J8=31,"et un ",IF(J8=41,"et un ",IF(J8=51,"et un ",IF(J8=61,"et un ",BX8))))) | BQ8: =IF(K8=70,"soixante-dix ",IF(K8=71,"soixante et onze ",IF(K8=72,"soixante-douze ",IF(K8=73,"soixante-treize ",IF(K8=74,"soixante-quatorze ",IF(K8=75,"soixante-quinze ",BY8)))))) | BR8: =IF(T8=9,"",IF(T8=7,"",IF(U8=0,"",IF(U8=1,"un ",IF(U8=2,"deux ",IF(U8=3,"trois ",IF(U8=4,"quatre ",IF(U8=5,"cinq ",BZ8)))))))) | BS8: =IF(L8=70,"soixante-dix ",IF(L8=71,"soixante et onze ",IF(L8=72,"soixante-douze ",IF(L8=73,"soixante-treize ",IF(L8=74,"soixante-quatorze ",IF(L8=75,"soixante-quinze ",CA8)))))) | BT8: =IF(V8=9,"",IF(V8=7,"",IF(W8=0,"",IF(W8=1,"un ",IF(W8=2,"deux ",IF(W8=3,"trois ",IF(W8=4,"quatre ",IF(W8=5,"cinq ",CB8)))))))) | BU8: =IF(H8=76,"soixante-seize ",IF(H8=77,"soixante-dix-sept ",IF(H8=78,"soixante-dix-huit ",IF(H8=79,"soixante-dix-neuf ",CC8)))) | BV8: =IF(N8=9,"",IF(O8=6,"six ",IF(O8=7,"sept ",IF(O8=8,"huit ",IF(O8=9,"neuf ",))))) -> 0 | BW8: =IF(J8=76,"soixante-seize ",IF(J8=77,"soixante-dix-sept ",IF(J8=78,"soixante-dix-huit ",IF(J8=79,"soixante-dix-neuf ",CD8)))) | BX8: =IF(Q8=9,"",IF(Q8=7,"",IF(R8=0,"",IF(R8=1,"un ",IF(R8=2,"deux ",IF(R8=3,"trois ",IF(R8=4,"quatre ",IF(R8=5,"cinq ",CE8)))))))) | BY8: =IF(K8=76,"soixante-seize ",IF(K8=77,"soixante-dix-sept ",IF(K8=78,"soixante-dix-huit ",IF(K8=79,"soixante-dix-neuf ",CF8)))) | BZ8: =IF(T8=9,"",IF(U8=6,"six ",IF(U8=7,"sept ",IF(U8=8,"huit ",IF(U8=9,"neuf ",))))) -> 0 | CA8: =IF(L8=76,"soixante-seize ",IF(L8=77,"soixante-dix-sept ",IF(L8=78,"soixante-dix-huit ",IF(L8=79,"soixante-dix-neuf ",CG8)))) | CB8: =IF(V8=9,"",IF(W8=6,"six ",IF(W8=7,"sept ",IF(W8=8,"huit ",IF(W8=9,"neuf ",))))) -> 0 | CC8: =IF(H8=90,"quatre-vingt-dix ",IF(H8=91,"quatre-vingt-onze ",IF(H8=92,"quatre-vingt-douze ",IF(H8=93,"quatre-vingt-treize ",IF(H8=94,"quatre-vingt-quatorze ",IF(H8=95,"quatre-vingt-quinze ",CH8)))))) | CD8: =IF(J8=90,"quatre-vingt-dix ",IF(J8=91,"quatre-vingt-onze ",IF(J8=92,"quatre-vingt-douze ",IF(J8=93,"quatre-vingt-treize ",IF(J8=94,"quatre-vingt-quatorze ",IF(J8=95,"quatre-vingt-quinze ",CI8)))))) | CE8: =IF(Q8=9,"",IF(R8=6,"six ",IF(R8=7,"sept ",IF(R8=8,"huit ",IF(R8=9,"neuf ",))))) -> 0 | CF8: =IF(K8=90,"quatre-vingt-dix ",IF(K8=91,"quatre-vingt-onze ",IF(K8=92,"quatre-vingt-douze ",IF(K8=93,"quatre-vingt-treize ",IF(K8=94,"quatre-vingt-quatorze ",IF(K8=95,"quatre-vingt-quinze ",CJ8)))))) | CG8: =IF(L8=90,"quatre-vingt-dix ",IF(L8=91,"quatre-vingt-onze ",IF(L8=92,"quatre-vingt-douze ",IF(L8=93,"quatre-vingt-treize ",IF(L8=94,"quatre-vingt-quatorze ",IF(L8=95,"quatre-vingt-quinze ",CK8)))))) | CH8: =IF(H8=96,"quatre-vingt-seize ",IF(H8=97,"quatre-vingt-dix-sept ",IF(H8=98,"quatre-vingt-dix-huit ",IF(H8=99,"quatre-vingt-dix-neuf ",CL8)))) | CI8: =IF(J8=96,"quatre-vingt-seize ",IF(J8=97,"quatre-vingt-dix-sept ",IF(J8=98,"quatre-vingt-dix-huit ",IF(J8=99,"quatre-vingt-dix-neuf ",CM8)))) | CJ8: =IF(K8=96,"quatre-vingt-seize ",IF(K8=97,"quatre-vingt-dix-sept ",IF(K8=98,"quatre-vingt-dix-huit ",IF(K8=99,"quatre-vingt-dix-neuf ",CN8)))) | CK8: =IF(L8=96,"quatre-vingt-seize ",IF(L8=97,"quatre-vingt-dix-sept ",IF(L8=98,"quatre-vingt-dix-huit ",IF(L8=99,"quatre-vingt-dix-neuf ",CO8)))) | CL8: =IF(N8=2,"vingt ",IF(N8=3,"trente ",IF(N8=4,"quarante ",IF(N8=5,"cinquante ",CP8)))) | CM8: =IF(Q8=2,"vingt ",IF(Q8=3,"trente ",IF(Q8=4,"quarante ",IF(Q8=5,"cinquante ",CQ8)))) | CN8: =IF(T8=2,"vingt ",IF(T8=3,"trente ",IF(T8=4,"quarante ",IF(T8=5,"cinquante ",CR8)))) | CO8: =IF(V8=2,"vingt ",IF(V8=3,"trente ",IF(V8=4,"quarante ",IF(V8=5,"cinquante ",CS8)))) | CP8: =IF(N8=6,"soixante ",IF(H8=80,"quatre-vingts ",IF(N8=8,"quatre-vingt-",""))) | CQ8: =IF(Q8=6,"soixante ",IF(J8=80,"quatre-vingts ",IF(Q8=8,"quatre-vingt-",""))) | CR8: =IF(T8=6,"soixante ",IF(K8=80,"quatre-vingts ",IF(T8=8,"quatre-vingt-",""))) | CS8: =IF(V8=6,"soixante ",IF(L8=80,"quatre-vingts ",IF(V8=8,"quatre-vingt-",""))) | CU8: =(X8&Y8&Z8&AA8&AB8&AC8&AD8&AE8&AF8&AG8&AH8&AI8&AJ8&AK8&AL8&AM8&AN8&AO8&AP8) -> zéro €uro
B9: =IF('base demandes'!D9<>"",'base demandes'!D9,0) -> 0 | C9: =UPPER(MID(CU9,1,1))&MID(CU9,2,168) -> Zéro €uro | D9: =INT(B9/1000000) -> 0 | E9: =INT((B9-D9*1000000)/1000) -> 0 | F9: =INT(B9-D9*1000000-E9*1000) -> 0 | G9: =ROUND(B9-D9*1000000-E9*1000-F9,2)*100 -> 0 | H9: =D9-M9*100 -> 0 | J9: =E9-P9*100 -> 0 | K9: =ROUND(F9-S9*100,0) -> 0 | L9: =G9 -> 0 | M9: =INT(D9/100) -> 0 | N9: =INT((D9-M9*100)/10) -> 0 | O9: =D9-M9*100-N9*10 -> 0 | P9: =INT(E9/100) -> 0 | Q9: =INT((E9-P9*100)/10) -> 0 | R9: =E9-P9*100-Q9*10 -> 0 | S9: =INT(F9/100) -> 0 | T9: =INT((F9-S9*100)/10) -> 0 | U9: =F9-S9*100-T9*10 -> 0 | V9: =INT(G9/10) -> 0 | W9: =ROUND(G9-V9*10,0) -> 0 | X9: =IF(M9=0,"",IF(M9=1,"",IF(M9=2,"deux ",IF(M9=3,"trois ",IF(M9=4,"quatre ",IF(M9=5,"cinq ",AQ9)))))) | Y9: =IF(M9=0,"",IF(M9<2,"cent ",AR9)) | Z9: =IF(N9=1,AS9,IF(N9=7,BM9,IF(N9=9,CC9,CL9))) | AA9: =IF(H9=11,"",IF(H9=12,"",IF(H9=13,"",IF(H9=14,"",IF(H9=15,"",IF(H9=16,"",AT9)))))) | AB9: =IF(D9=0,"",IF(D9<2,"million ","millions ")) | AC9: =IF(I9=1,"",IF(P9=0,"",IF(P9=1,"",IF(P9=2,"deux ",IF(P9=3,"trois ",IF(P9=4,"quatre ",IF(P9=5,"cinq ",AU9))))))) | AD9: =IF(P9=0,"",IF(P9<2,"cent ",AV9)) | AE9: =IF(Q9=1,AW9,IF(Q9=7,BO9,IF(Q9=9,CD9,CM9))) | AF9: =IF(E9=1,"",AX9) | AG9: =IF(E9>0,"mille ","") | AH9: =IF(INT(B9)=0,"zéro ",IF(S9=0,"",IF(S9=1,"",IF(S9=2,"deux ",IF(S9=3,"trois ",IF(S9=4,"quatre ",IF(S9=5,"cinq ",AY9))))))) -> zéro | AI9: =IF(S9=0,"",IF(S9<2,"cent ",AZ9)) | AJ9: =IF(T9=1,BA9,IF(T9=7,BQ9,IF(T9=9,CF9,CN9))) | AK9: =IF(K9=11,"",IF(K9=12,"",IF(K9=13,"",IF(K9=14,"",IF(K9=15,"",IF(K9=16,"",BB9)))))) | AL9: =IF(INT(B9<2),"€uro ","€uros ") -> €uro | AM9: =IF(G9>0,"et ","") | AN9: =IF(V9=1,BC9,IF(V9=7,BS9,IF(V9=9,CG9,CO9))) | AO9: =IF(L9=11,"",IF(L9=12,"",IF(L9=13,"",IF(L9=14,"",IF(L9=15,"",IF(L9=16,"",BD9)))))) | AP9: =IF(G9=0,"",IF(G9<2,"centime","centimes")) | AQ9: =IF(D9=0," ",IF(M9=6,"six ",IF(M9=7,"sept ",IF(M9=8,"huit ",IF(M9=9,"neuf ",))))) | AR9: =IF(H9>0,"cent ", "cents ") -> cents | AS9: =IF(H9=10,"dix ",IF(H9=11,"onze ",IF(H9=12,"douze ",IF(H9=13,"treize ",IF(H9=14,"quatorze ",IF(H9=15,"quinze ",BE9)))))) | AT9: =IF(H9=17,"",IF(H9=18,"",IF(H9=19,"",BF9))) | AU9: =IF(P9=6,"six ",IF(P9=7,"sept ",IF(P9=8,"huit ",IF(P9=9,"neuf ",)))) -> 0 | AV9: =IF(J9>0,"cent ", "cents ") -> cents | AW9: =IF(J9=10,"dix ",IF(J9=11,"onze ",IF(J9=12,"douze ",IF(J9=13,"treize ",IF(J9=14,"quatorze ",IF(J9=15,"quinze ",BG9)))))) | AX9: =IF(J9=11,"",IF(J9=12,"",IF(J9=13,"",IF(J9=14,"",IF(J9=15,"",IF(J9=16,"",BH9)))))) | AY9: =IF(S9=6,"six ",IF(S9=7,"sept ",IF(S9=8,"huit ",IF(S9=9,"neuf ",)))) -> 0 | AZ9: =IF(K9>0,"cent ", "cents ") -> cents | BA9: =IF(K9=10,"dix ",IF(K9=11,"onze ",IF(K9=12,"douze ",IF(K9=13,"treize ",IF(K9=14,"quatorze ",IF(K9=15,"quinze ",BI9)))))) | BB9: =IF(K9=17,"",IF(K9=18,"",IF(K9=19,"",BJ9))) | BC9: =IF(L9=10,"dix ",IF(L9=11,"onze ",IF(L9=12,"douze ",IF(L9=13,"treize ",IF(L9=14,"quatorze ",IF(L9=15,"quinze ",BK9)))))) | BD9: =IF(L9=17,"",IF(L9=18,"",IF(L9=19,"",BL9))) | BE9: =IF(H9=16,"seize ",IF(H9=17,"dix-sept ",IF(H9=18,"dix-huit ",IF(H9=19,"dix-neuf ",BM9)))) | BF9: =IF(H9=21,"et un ",IF(H9=31,"et un ",IF(H9=41,"et un ",IF(H9=51,"et un ",IF(H9=61,"et un ",BN9))))) | BG9: =IF(J9=16,"seize ",IF(J9=17,"dix-sept ",IF(J9=18,"dix-huit ",IF(J9=19,"dix-neuf ",BO9)))) | BH9: =IF(J9=17,"",IF(J9=18,"",IF(J9=19,"",BP9))) | BI9: =IF(K9=16,"seize ",IF(K9=17,"dix-sept ",IF(K9=18,"dix-huit ",IF(K9=19,"dix-neuf ",BQ9)))) | BJ9: =IF(K9=21,"et un ",IF(K9=31,"et un ",IF(K9=41,"et un ",IF(K9=51,"et un ",IF(K9=61,"et un ",BR9))))) | BK9: =IF(L9=16,"seize ",IF(L9=17,"dix-sept ",IF(L9=18,"dix-huit ",IF(L9=19,"dix-neuf ",BS9)))) | BL9: =IF(L9=21,"et un ",IF(L9=31,"et un ",IF(L9=41,"et un ",IF(L9=51,"et un ",IF(L9=61,"et un ",BT9))))) | BM9: =IF(H9=70,"soixante-dix ",IF(H9=71,"soixante et onze ",IF(H9=72,"soixante-douze ",IF(H9=73,"soixante-treize ",IF(H9=74,"soixante-quatorze ",IF(H9=75,"soixante-quinze ",BU9)))))) | BN9: =IF(N9=9,"",IF(N9=7,"",IF(O9=0,"",IF(O9=1,"un ",IF(O9=2,"deux ",IF(O9=3,"trois ",IF(O9=4,"quatre ",IF(O9=5,"cinq ",BV9)))))))) | BO9: =IF(J9=70,"soixante-dix ",IF(J9=71,"soixante et onze ",IF(J9=72,"soixante-douze ",IF(J9=73,"soixante-treize ",IF(J9=74,"soixante-quatorze ",IF(J9=75,"soixante-quinze ",BW9)))))) | BP9: =IF(J9=21,"et un ",IF(J9=31,"et un ",IF(J9=41,"et un ",IF(J9=51,"et un ",IF(J9=61,"et un ",BX9))))) | BQ9: =IF(K9=70,"soixante-dix ",IF(K9=71,"soixante et onze ",IF(K9=72,"soixante-douze ",IF(K9=73,"soixante-treize ",IF(K9=74,"soixante-quatorze ",IF(K9=75,"soixante-quinze ",BY9)))))) | BR9: =IF(T9=9,"",IF(T9=7,"",IF(U9=0,"",IF(U9=1,"un ",IF(U9=2,"deux ",IF(U9=3,"trois ",IF(U9=4,"quatre ",IF(U9=5,"cinq ",BZ9)))))))) | BS9: =IF(L9=70,"soixante-dix ",IF(L9=71,"soixante et onze ",IF(L9=72,"soixante-douze ",IF(L9=73,"soixante-treize ",IF(L9=74,"soixante-quatorze ",IF(L9=75,"soixante-quinze ",CA9)))))) | BT9: =IF(V9=9,"",IF(V9=7,"",IF(W9=0,"",IF(W9=1,"un ",IF(W9=2,"deux ",IF(W9=3,"trois ",IF(W9=4,"quatre ",IF(W9=5,"cinq ",CB9)))))))) | BU9: =IF(H9=76,"soixante-seize ",IF(H9=77,"soixante-dix-sept ",IF(H9=78,"soixante-dix-huit ",IF(H9=79,"soixante-dix-neuf ",CC9)))) | BV9: =IF(N9=9,"",IF(O9=6,"six ",IF(O9=7,"sept ",IF(O9=8,"huit ",IF(O9=9,"neuf ",))))) -> 0 | BW9: =IF(J9=76,"soixante-seize ",IF(J9=77,"soixante-dix-sept ",IF(J9=78,"soixante-dix-huit ",IF(J9=79,"soixante-dix-neuf ",CD9)))) | BX9: =IF(Q9=9,"",IF(Q9=7,"",IF(R9=0,"",IF(R9=1,"un ",IF(R9=2,"deux ",IF(R9=3,"trois ",IF(R9=4,"quatre ",IF(R9=5,"cinq ",CE9)))))))) | BY9: =IF(K9=76,"soixante-seize ",IF(K9=77,"soixante-dix-sept ",IF(K9=78,"soixante-dix-huit ",IF(K9=79,"soixante-dix-neuf ",CF9)))) | BZ9: =IF(T9=9,"",IF(U9=6,"six ",IF(U9=7,"sept ",IF(U9=8,"huit ",IF(U9=9,"neuf ",))))) -> 0 | CA9: =IF(L9=76,"soixante-seize ",IF(L9=77,"soixante-dix-sept ",IF(L9=78,"soixante-dix-huit ",IF(L9=79,"soixante-dix-neuf ",CG9)))) | CB9: =IF(V9=9,"",IF(W9=6,"six ",IF(W9=7,"sept ",IF(W9=8,"huit ",IF(W9=9,"neuf ",))))) -> 0 | CC9: =IF(H9=90,"quatre-vingt-dix ",IF(H9=91,"quatre-vingt-onze ",IF(H9=92,"quatre-vingt-douze ",IF(H9=93,"quatre-vingt-treize ",IF(H9=94,"quatre-vingt-quatorze ",IF(H9=95,"quatre-vingt-quinze ",CH9)))))) | CD9: =IF(J9=90,"quatre-vingt-dix ",IF(J9=91,"quatre-vingt-onze ",IF(J9=92,"quatre-vingt-douze ",IF(J9=93,"quatre-vingt-treize ",IF(J9=94,"quatre-vingt-quatorze ",IF(J9=95,"quatre-vingt-quinze ",CI9)))))) | CE9: =IF(Q9=9,"",IF(R9=6,"six ",IF(R9=7,"sept ",IF(R9=8,"huit ",IF(R9=9,"neuf ",))))) -> 0 | CF9: =IF(K9=90,"quatre-vingt-dix ",IF(K9=91,"quatre-vingt-onze ",IF(K9=92,"quatre-vingt-douze ",IF(K9=93,"quatre-vingt-treize ",IF(K9=94,"quatre-vingt-quatorze ",IF(K9=95,"quatre-vingt-quinze ",CJ9)))))) | CG9: =IF(L9=90,"quatre-vingt-dix ",IF(L9=91,"quatre-vingt-onze ",IF(L9=92,"quatre-vingt-douze ",IF(L9=93,"quatre-vingt-treize ",IF(L9=94,"quatre-vingt-quatorze ",IF(L9=95,"quatre-vingt-quinze ",CK9)))))) | CH9: =IF(H9=96,"quatre-vingt-seize ",IF(H9=97,"quatre-vingt-dix-sept ",IF(H9=98,"quatre-vingt-dix-huit ",IF(H9=99,"quatre-vingt-dix-neuf ",CL9)))) | CI9: =IF(J9=96,"quatre-vingt-seize ",IF(J9=97,"quatre-vingt-dix-sept ",IF(J9=98,"quatre-vingt-dix-huit ",IF(J9=99,"quatre-vingt-dix-neuf ",CM9)))) | CJ9: =IF(K9=96,"quatre-vingt-seize ",IF(K9=97,"quatre-vingt-dix-sept ",IF(K9=98,"quatre-vingt-dix-huit ",IF(K9=99,"quatre-vingt-dix-neuf ",CN9)))) | CK9: =IF(L9=96,"quatre-vingt-seize ",IF(L9=97,"quatre-vingt-dix-sept ",IF(L9=98,"quatre-vingt-dix-huit ",IF(L9=99,"quatre-vingt-dix-neuf ",CO9)))) | CL9: =IF(N9=2,"vingt ",IF(N9=3,"trente ",IF(N9=4,"quarante ",IF(N9=5,"cinquante ",CP9)))) | CM9: =IF(Q9=2,"vingt ",IF(Q9=3,"trente ",IF(Q9=4,"quarante ",IF(Q9=5,"cinquante ",CQ9)))) | CN9: =IF(T9=2,"vingt ",IF(T9=3,"trente ",IF(T9=4,"quarante ",IF(T9=5,"cinquante ",CR9)))) | CO9: =IF(V9=2,"vingt ",IF(V9=3,"trente ",IF(V9=4,"quarante ",IF(V9=5,"cinquante ",CS9)))) | CP9: =IF(N9=6,"soixante ",IF(H9=80,"quatre-vingts ",IF(N9=8,"quatre-vingt-",""))) | CQ9: =IF(Q9=6,"soixante ",IF(J9=80,"quatre-vingts ",IF(Q9=8,"quatre-vingt-",""))) | CR9: =IF(T9=6,"soixante ",IF(K9=80,"quatre-vingts ",IF(T9=8,"quatre-vingt-",""))) | CS9: =IF(V9=6,"soixante ",IF(L9=80,"quatre-vingts ",IF(V9=8,"quatre-vingt-",""))) | CU9: =(X9&Y9&Z9&AA9&AB9&AC9&AD9&AE9&AF9&AG9&AH9&AI9&AJ9&AK9&AL9&AM9&AN9&AO9&AP9) -> zéro €uro
B10: =IF('base demandes'!D10<>"",'base demandes'!D10,0) -> 0 | C10: =UPPER(MID(CU10,1,1))&MID(CU10,2,168) -> Zéro €uro | D10: =INT(B10/1000000) -> 0 | E10: =INT((B10-D10*1000000)/1000) -> 0 | F10: =INT(B10-D10*1000000-E10*1000) -> 0 | G10: =ROUND(B10-D10*1000000-E10*1000-F10,2)*100 -> 0 | H10: =D10-M10*100 -> 0 | J10: =E10-P10*100 -> 0 | K10: =ROUND(F10-S10*100,0) -> 0 | L10: =G10 -> 0 | M10: =INT(D10/100) -> 0 | N10: =INT((D10-M10*100)/10) -> 0 | O10: =D10-M10*100-N10*10 -> 0 | P10: =INT(E10/100) -> 0 | Q10: =INT((E10-P10*100)/10) -> 0 | R10: =E10-P10*100-Q10*10 -> 0 | S10: =INT(F10/100) -> 0 | T10: =INT((F10-S10*100)/10) -> 0 | U10: =F10-S10*100-T10*10 -> 0 | V10: =INT(G10/10) -> 0 | W10: =ROUND(G10-V10*10,0) -> 0 | X10: =IF(M10=0,"",IF(M10=1,"",IF(M10=2,"deux ",IF(M10=3,"trois ",IF(M10=4,"quatre ",IF(M10=5,"cinq ",AQ10)))))) | Y10: =IF(M10=0,"",IF(M10<2,"cent ",AR10)) | Z10: =IF(N10=1,AS10,IF(N10=7,BM10,IF(N10=9,CC10,CL10))) | AA10: =IF(H10=11,"",IF(H10=12,"",IF(H10=13,"",IF(H10=14,"",IF(H10=15,"",IF(H10=16,"",AT10)))))) | AB10: =IF(D10=0,"",IF(D10<2,"million ","millions ")) | AC10: =IF(I10=1,"",IF(P10=0,"",IF(P10=1,"",IF(P10=2,"deux ",IF(P10=3,"trois ",IF(P10=4,"quatre ",IF(P10=5,"cinq ",AU10))))))) | AD10: =IF(P10=0,"",IF(P10<2,"cent ",AV10)) | AE10: =IF(Q10=1,AW10,IF(Q10=7,BO10,IF(Q10=9,CD10,CM10))) | AF10: =IF(E10=1,"",AX10) | AG10: =IF(E10>0,"mille ","") | AH10: =IF(INT(B10)=0,"zéro ",IF(S10=0,"",IF(S10=1,"",IF(S10=2,"deux ",IF(S10=3,"trois ",IF(S10=4,"quatre ",IF(S10=5,"cinq ",AY10))))))) -> zéro | AI10: =IF(S10=0,"",IF(S10<2,"cent ",AZ10)) | AJ10: =IF(T10=1,BA10,IF(T10=7,BQ10,IF(T10=9,CF10,CN10))) | AK10: =IF(K10=11,"",IF(K10=12,"",IF(K10=13,"",IF(K10=14,"",IF(K10=15,"",IF(K10=16,"",BB10)))))) | AL10: =IF(INT(B10<2),"€uro ","€uros ") -> €uro | AM10: =IF(G10>0,"et ","") | AN10: =IF(V10=1,BC10,IF(V10=7,BS10,IF(V10=9,CG10,CO10))) | AO10: =IF(L10=11,"",IF(L10=12,"",IF(L10=13,"",IF(L10=14,"",IF(L10=15,"",IF(L10=16,"",BD10)))))) | AP10: =IF(G10=0,"",IF(G10<2,"centime","centimes")) | AQ10: =IF(D10=0," ",IF(M10=6,"six ",IF(M10=7,"sept ",IF(M10=8,"huit ",IF(M10=9,"neuf ",))))) | AR10: =IF(H10>0,"cent ", "cents ") -> cents | AS10: =IF(H10=10,"dix ",IF(H10=11,"onze ",IF(H10=12,"douze ",IF(H10=13,"treize ",IF(H10=14,"quatorze ",IF(H10=15,"quinze ",BE10)))))) | AT10: =IF(H10=17,"",IF(H10=18,"",IF(H10=19,"",BF10))) | AU10: =IF(P10=6,"six ",IF(P10=7,"sept ",IF(P10=8,"huit ",IF(P10=9,"neuf ",)))) -> 0 | AV10: =IF(J10>0,"cent ", "cents ") -> cents | AW10: =IF(J10=10,"dix ",IF(J10=11,"onze ",IF(J10=12,"douze ",IF(J10=13,"treize ",IF(J10=14,"quatorze ",IF(J10=15,"quinze ",BG10)))))) | AX10: =IF(J10=11,"",IF(J10=12,"",IF(J10=13,"",IF(J10=14,"",IF(J10=15,"",IF(J10=16,"",BH10)))))) | AY10: =IF(S10=6,"six ",IF(S10=7,"sept ",IF(S10=8,"huit ",IF(S10=9,"neuf ",)))) -> 0 | AZ10: =IF(K10>0,"cent ", "cents ") -> cents | BA10: =IF(K10=10,"dix ",IF(K10=11,"onze ",IF(K10=12,"douze ",IF(K10=13,"treize ",IF(K10=14,"quatorze ",IF(K10=15,"quinze ",BI10)))))) | BB10: =IF(K10=17,"",IF(K10=18,"",IF(K10=19,"",BJ10))) | BC10: =IF(L10=10,"dix ",IF(L10=11,"onze ",IF(L10=12,"douze ",IF(L10=13,"treize ",IF(L10=14,"quatorze ",IF(L10=15,"quinze ",BK10)))))) | BD10: =IF(L10=17,"",IF(L10=18,"",IF(L10=19,"",BL10))) | BE10: =IF(H10=16,"seize ",IF(H10=17,"dix-sept ",IF(H10=18,"dix-huit ",IF(H10=19,"dix-neuf ",BM10)))) | BF10: =IF(H10=21,"et un ",IF(H10=31,"et un ",IF(H10=41,"et un ",IF(H10=51,"et un ",IF(H10=61,"et un ",BN10))))) | BG10: =IF(J10=16,"seize ",IF(J10=17,"dix-sept ",IF(J10=18,"dix-huit ",IF(J10=19,"dix-neuf ",BO10)))) | BH10: =IF(J10=17,"",IF(J10=18,"",IF(J10=19,"",BP10))) | BI10: =IF(K10=16,"seize ",IF(K10=17,"dix-sept ",IF(K10=18,"dix-huit ",IF(K10=19,"dix-neuf ",BQ10)))) | BJ10: =IF(K10=21,"et un ",IF(K10=31,"et un ",IF(K10=41,"et un ",IF(K10=51,"et un ",IF(K10=61,"et un ",BR10))))) | BK10: =IF(L10=16,"seize ",IF(L10=17,"dix-sept ",IF(L10=18,"dix-huit ",IF(L10=19,"dix-neuf ",BS10)))) | BL10: =IF(L10=21,"et un ",IF(L10=31,"et un ",IF(L10=41,"et un ",IF(L10=51,"et un ",IF(L10=61,"et un ",BT10))))) | BM10: =IF(H10=70,"soixante-dix ",IF(H10=71,"soixante et onze ",IF(H10=72,"soixante-douze ",IF(H10=73,"soixante-treize ",IF(H10=74,"soixante-quatorze ",IF(H10=75,"soixante-quinze ",BU10)))))) | BN10: =IF(N10=9,"",IF(N10=7,"",IF(O10=0,"",IF(O10=1,"un ",IF(O10=2,"deux ",IF(O10=3,"trois ",IF(O10=4,"quatre ",IF(O10=5,"cinq ",BV10)))))))) | BO10: =IF(J10=70,"soixante-dix ",IF(J10=71,"soixante et onze ",IF(J10=72,"soixante-douze ",IF(J10=73,"soixante-treize ",IF(J10=74,"soixante-quatorze ",IF(J10=75,"soixante-quinze ",BW10)))))) | BP10: =IF(J10=21,"et un ",IF(J10=31,"et un ",IF(J10=41,"et un ",IF(J10=51,"et un ",IF(J10=61,"et un ",BX10))))) | BQ10: =IF(K10=70,"soixante-dix ",IF(K10=71,"soixante et onze ",IF(K10=72,"soixante-douze ",IF(K10=73,"soixante-treize ",IF(K10=74,"soixante-quatorze ",IF(K10=75,"soixante-quinze ",BY10)))))) | BR10: =IF(T10=9,"",IF(T10=7,"",IF(U10=0,"",IF(U10=1,"un ",IF(U10=2,"deux ",IF(U10=3,"trois ",IF(U10=4,"quatre ",IF(U10=5,"cinq ",BZ10)))))))) | BS10: =IF(L10=70,"soixante-dix ",IF(L10=71,"soixante et onze ",IF(L10=72,"soixante-douze ",IF(L10=73,"soixante-treize ",IF(L10=74,"soixante-quatorze ",IF(L10=75,"soixante-quinze ",CA10)))))) | BT10: =IF(V10=9,"",IF(V10=7,"",IF(W10=0,"",IF(W10=1,"un ",IF(W10=2,"deux ",IF(W10=3,"trois ",IF(W10=4,"quatre ",IF(W10=5,"cinq ",CB10)))))))) | BU10: =IF(H10=76,"soixante-seize ",IF(H10=77,"soixante-dix-sept ",IF(H10=78,"soixante-dix-huit ",IF(H10=79,"soixante-dix-neuf ",CC10)))) | BV10: =IF(N10=9,"",IF(O10=6,"six ",IF(O10=7,"sept ",IF(O10=8,"huit ",IF(O10=9,"neuf ",))))) -> 0 | BW10: =IF(J10=76,"soixante-seize ",IF(J10=77,"soixante-dix-sept ",IF(J10=78,"soixante-dix-huit ",IF(J10=79,"soixante-dix-neuf ",CD10)))) | BX10: =IF(Q10=9,"",IF(Q10=7,"",IF(R10=0,"",IF(R10=1,"un ",IF(R10=2,"deux ",IF(R10=3,"trois ",IF(R10=4,"quatre ",IF(R10=5,"cinq ",CE10)))))))) | BY10: =IF(K10=76,"soixante-seize ",IF(K10=77,"soixante-dix-sept ",IF(K10=78,"soixante-dix-huit ",IF(K10=79,"soixante-dix-neuf ",CF10)))) | BZ10: =IF(T10=9,"",IF(U10=6,"six ",IF(U10=7,"sept ",IF(U10=8,"huit ",IF(U10=9,"neuf ",))))) -> 0 | CA10: =IF(L10=76,"soixante-seize ",IF(L10=77,"soixante-dix-sept ",IF(L10=78,"soixante-dix-huit ",IF(L10=79,"soixante-dix-neuf ",CG10)))) | CB10: =IF(V10=9,"",IF(W10=6,"six ",IF(W10=7,"sept ",IF(W10=8,"huit ",IF(W10=9,"neuf ",))))) -> 0 | CC10: =IF(H10=90,"quatre-vingt-dix ",IF(H10=91,"quatre-vingt-onze ",IF(H10=92,"quatre-vingt-douze ",IF(H10=93,"quatre-vingt-treize ",IF(H10=94,"quatre-vingt-quatorze ",IF(H10=95,"quatre-vingt-quinze ",CH10)))))) | CD10: =IF(J10=90,"quatre-vingt-dix ",IF(J10=91,"quatre-vingt-onze ",IF(J10=92,"quatre-vingt-douze ",IF(J10=93,"quatre-vingt-treize ",IF(J10=94,"quatre-vingt-quatorze ",IF(J10=95,"quatre-vingt-quinze ",CI10)))))) | CE10: =IF(Q10=9,"",IF(R10=6,"six ",IF(R10=7,"sept ",IF(R10=8,"huit ",IF(R10=9,"neuf ",))))) -> 0 | CF10: =IF(K10=90,"quatre-vingt-dix ",IF(K10=91,"quatre-vingt-onze ",IF(K10=92,"quatre-vingt-douze ",IF(K10=93,"quatre-vingt-treize ",IF(K10=94,"quatre-vingt-quatorze ",IF(K10=95,"quatre-vingt-quinze ",CJ10)))))) | CG10: =IF(L10=90,"quatre-vingt-dix ",IF(L10=91,"quatre-vingt-onze ",IF(L10=92,"quatre-vingt-douze ",IF(L10=93,"quatre-vingt-treize ",IF(L10=94,"quatre-vingt-quatorze ",IF(L10=95,"quatre-vingt-quinze ",CK10)))))) | CH10: =IF(H10=96,"quatre-vingt-seize ",IF(H10=97,"quatre-vingt-dix-sept ",IF(H10=98,"quatre-vingt-dix-huit ",IF(H10=99,"quatre-vingt-dix-neuf ",CL10)))) | CI10: =IF(J10=96,"quatre-vingt-seize ",IF(J10=97,"quatre-vingt-dix-sept ",IF(J10=98,"quatre-vingt-dix-huit ",IF(J10=99,"quatre-vingt-dix-neuf ",CM10)))) | CJ10: =IF(K10=96,"quatre-vingt-seize ",IF(K10=97,"quatre-vingt-dix-sept ",IF(K10=98,"quatre-vingt-dix-huit ",IF(K10=99,"quatre-vingt-dix-neuf ",CN10)))) | CK10: =IF(L10=96,"quatre-vingt-seize ",IF(L10=97,"quatre-vingt-dix-sept ",IF(L10=98,"quatre-vingt-dix-huit ",IF(L10=99,"quatre-vingt-dix-neuf ",CO10)))) | CL10: =IF(N10=2,"vingt ",IF(N10=3,"trente ",IF(N10=4,"quarante ",IF(N10=5,"cinquante ",CP10)))) | CM10: =IF(Q10=2,"vingt ",IF(Q10=3,"trente ",IF(Q10=4,"quarante ",IF(Q10=5,"cinquante ",CQ10)))) | CN10: =IF(T10=2,"vingt ",IF(T10=3,"trente ",IF(T10=4,"quarante ",IF(T10=5,"cinquante ",CR10)))) | CO10: =IF(V10=2,"vingt ",IF(V10=3,"trente ",IF(V10=4,"quarante ",IF(V10=5,"cinquante ",CS10)))) | CP10: =IF(N10=6,"soixante ",IF(H10=80,"quatre-vingts ",IF(N10=8,"quatre-vingt-",""))) | CQ10: =IF(Q10=6,"soixante ",IF(J10=80,"quatre-vingts ",IF(Q10=8,"quatre-vingt-",""))) | CR10: =IF(T10=6,"soixante ",IF(K10=80,"quatre-vingts ",IF(T10=8,"quatre-vingt-",""))) | CS10: =IF(V10=6,"soixante ",IF(L10=80,"quatre-vingts ",IF(V10=8,"quatre-vingt-",""))) | CU10: =(X10&Y10&Z10&AA10&AB10&AC10&AD10&AE10&AF10&AG10&AH10&AI10&AJ10&AK10&AL10&AM10&AN10&AO10&AP10) -> zéro €uro
B11: =IF('base demandes'!D11<>"",'base demandes'!D11,0) -> 0 | C11: =UPPER(MID(CU11,1,1))&MID(CU11,2,168) -> Zéro €uro | D11: =INT(B11/1000000) -> 0 | E11: =INT((B11-D11*1000000)/1000) -> 0 | F11: =INT(B11-D11*1000000-E11*1000) -> 0 | G11: =ROUND(B11-D11*1000000-E11*1000-F11,2)*100 -> 0 | H11: =D11-M11*100 -> 0 | J11: =E11-P11*100 -> 0 | K11: =ROUND(F11-S11*100,0) -> 0 | L11: =G11 -> 0 | M11: =INT(D11/100) -> 0 | N11: =INT((D11-M11*100)/10) -> 0 | O11: =D11-M11*100-N11*10 -> 0 | P11: =INT(E11/100) -> 0 | Q11: =INT((E11-P11*100)/10) -> 0 | R11: =E11-P11*100-Q11*10 -> 0 | S11: =INT(F11/100) -> 0 | T11: =INT((F11-S11*100)/10) -> 0 | U11: =F11-S11*100-T11*10 -> 0 | V11: =INT(G11/10) -> 0 | W11: =ROUND(G11-V11*10,0) -> 0 | X11: =IF(M11=0,"",IF(M11=1,"",IF(M11=2,"deux ",IF(M11=3,"trois ",IF(M11=4,"quatre ",IF(M11=5,"cinq ",AQ11)))))) | Y11: =IF(M11=0,"",IF(M11<2,"cent ",AR11)) | Z11: =IF(N11=1,AS11,IF(N11=7,BM11,IF(N11=9,CC11,CL11))) | AA11: =IF(H11=11,"",IF(H11=12,"",IF(H11=13,"",IF(H11=14,"",IF(H11=15,"",IF(H11=16,"",AT11)))))) | AB11: =IF(D11=0,"",IF(D11<2,"million ","millions ")) | AC11: =IF(I11=1,"",IF(P11=0,"",IF(P11=1,"",IF(P11=2,"deux ",IF(P11=3,"trois ",IF(P11=4,"quatre ",IF(P11=5,"cinq ",AU11))))))) | AD11: =IF(P11=0,"",IF(P11<2,"cent ",AV11)) | AE11: =IF(Q11=1,AW11,IF(Q11=7,BO11,IF(Q11=9,CD11,CM11))) | AF11: =IF(E11=1,"",AX11) | AG11: =IF(E11>0,"mille ","") | AH11: =IF(INT(B11)=0,"zéro ",IF(S11=0,"",IF(S11=1,"",IF(S11=2,"deux ",IF(S11=3,"trois ",IF(S11=4,"quatre ",IF(S11=5,"cinq ",AY11))))))) -> zéro | AI11: =IF(S11=0,"",IF(S11<2,"cent ",AZ11)) | AJ11: =IF(T11=1,BA11,IF(T11=7,BQ11,IF(T11=9,CF11,CN11))) | AK11: =IF(K11=11,"",IF(K11=12,"",IF(K11=13,"",IF(K11=14,"",IF(K11=15,"",IF(K11=16,"",BB11)))))) | AL11: =IF(INT(B11<2),"€uro ","€uros ") -> €uro | AM11: =IF(G11>0,"et ","") | AN11: =IF(V11=1,BC11,IF(V11=7,BS11,IF(V11=9,CG11,CO11))) | AO11: =IF(L11=11,"",IF(L11=12,"",IF(L11=13,"",IF(L11=14,"",IF(L11=15,"",IF(L11=16,"",BD11)))))) | AP11: =IF(G11=0,"",IF(G11<2,"centime","centimes")) | AQ11: =IF(D11=0," ",IF(M11=6,"six ",IF(M11=7,"sept ",IF(M11=8,"huit ",IF(M11=9,"neuf ",))))) | AR11: =IF(H11>0,"cent ", "cents ") -> cents | AS11: =IF(H11=10,"dix ",IF(H11=11,"onze ",IF(H11=12,"douze ",IF(H11=13,"treize ",IF(H11=14,"quatorze ",IF(H11=15,"quinze ",BE11)))))) | AT11: =IF(H11=17,"",IF(H11=18,"",IF(H11=19,"",BF11))) | AU11: =IF(P11=6,"six ",IF(P11=7,"sept ",IF(P11=8,"huit ",IF(P11=9,"neuf ",)))) -> 0 | AV11: =IF(J11>0,"cent ", "cents ") -> cents | AW11: =IF(J11=10,"dix ",IF(J11=11,"onze ",IF(J11=12,"douze ",IF(J11=13,"treize ",IF(J11=14,"quatorze ",IF(J11=15,"quinze ",BG11)))))) | AX11: =IF(J11=11,"",IF(J11=12,"",IF(J11=13,"",IF(J11=14,"",IF(J11=15,"",IF(J11=16,"",BH11)))))) | AY11: =IF(S11=6,"six ",IF(S11=7,"sept ",IF(S11=8,"huit ",IF(S11=9,"neuf ",)))) -> 0 | AZ11: =IF(K11>0,"cent ", "cents ") -> cents | BA11: =IF(K11=10,"dix ",IF(K11=11,"onze ",IF(K11=12,"douze ",IF(K11=13,"treize ",IF(K11=14,"quatorze ",IF(K11=15,"quinze ",BI11)))))) | BB11: =IF(K11=17,"",IF(K11=18,"",IF(K11=19,"",BJ11))) | BC11: =IF(L11=10,"dix ",IF(L11=11,"onze ",IF(L11=12,"douze ",IF(L11=13,"treize ",IF(L11=14,"quatorze ",IF(L11=15,"quinze ",BK11)))))) | BD11: =IF(L11=17,"",IF(L11=18,"",IF(L11=19,"",BL11))) | BE11: =IF(H11=16,"seize ",IF(H11=17,"dix-sept ",IF(H11=18,"dix-huit ",IF(H11=19,"dix-neuf ",BM11)))) | BF11: =IF(H11=21,"et un ",IF(H11=31,"et un ",IF(H11=41,"et un ",IF(H11=51,"et un ",IF(H11=61,"et un ",BN11))))) | BG11: =IF(J11=16,"seize ",IF(J11=17,"dix-sept ",IF(J11=18,"dix-huit ",IF(J11=19,"dix-neuf ",BO11)))) | BH11: =IF(J11=17,"",IF(J11=18,"",IF(J11=19,"",BP11))) | BI11: =IF(K11=16,"seize ",IF(K11=17,"dix-sept ",IF(K11=18,"dix-huit ",IF(K11=19,"dix-neuf ",BQ11)))) | BJ11: =IF(K11=21,"et un ",IF(K11=31,"et un ",IF(K11=41,"et un ",IF(K11=51,"et un ",IF(K11=61,"et un ",BR11))))) | BK11: =IF(L11=16,"seize ",IF(L11=17,"dix-sept ",IF(L11=18,"dix-huit ",IF(L11=19,"dix-neuf ",BS11)))) | BL11: =IF(L11=21,"et un ",IF(L11=31,"et un ",IF(L11=41,"et un ",IF(L11=51,"et un ",IF(L11=61,"et un ",BT11))))) | BM11: =IF(H11=70,"soixante-dix ",IF(H11=71,"soixante et onze ",IF(H11=72,"soixante-douze ",IF(H11=73,"soixante-treize ",IF(H11=74,"soixante-quatorze ",IF(H11=75,"soixante-quinze ",BU11)))))) | BN11: =IF(N11=9,"",IF(N11=7,"",IF(O11=0,"",IF(O11=1,"un ",IF(O11=2,"deux ",IF(O11=3,"trois ",IF(O11=4,"quatre ",IF(O11=5,"cinq ",BV11)))))))) | BO11: =IF(J11=70,"soixante-dix ",IF(J11=71,"soixante et onze ",IF(J11=72,"soixante-douze ",IF(J11=73,"soixante-treize ",IF(J11=74,"soixante-quatorze ",IF(J11=75,"soixante-quinze ",BW11)))))) | BP11: =IF(J11=21,"et un ",IF(J11=31,"et un ",IF(J11=41,"et un ",IF(J11=51,"et un ",IF(J11=61,"et un ",BX11))))) | BQ11: =IF(K11=70,"soixante-dix ",IF(K11=71,"soixante et onze ",IF(K11=72,"soixante-douze ",IF(K11=73,"soixante-treize ",IF(K11=74,"soixante-quatorze ",IF(K11=75,"soixante-quinze ",BY11)))))) | BR11: =IF(T11=9,"",IF(T11=7,"",IF(U11=0,"",IF(U11=1,"un ",IF(U11=2,"deux ",IF(U11=3,"trois ",IF(U11=4,"quatre ",IF(U11=5,"cinq ",BZ11)))))))) | BS11: =IF(L11=70,"soixante-dix ",IF(L11=71,"soixante et onze ",IF(L11=72,"soixante-douze ",IF(L11=73,"soixante-treize ",IF(L11=74,"soixante-quatorze ",IF(L11=75,"soixante-quinze ",CA11)))))) | BT11: =IF(V11=9,"",IF(V11=7,"",IF(W11=0,"",IF(W11=1,"un ",IF(W11=2,"deux ",IF(W11=3,"trois ",IF(W11=4,"quatre ",IF(W11=5,"cinq ",CB11)))))))) | BU11: =IF(H11=76,"soixante-seize ",IF(H11=77,"soixante-dix-sept ",IF(H11=78,"soixante-dix-huit ",IF(H11=79,"soixante-dix-neuf ",CC11)))) | BV11: =IF(N11=9,"",IF(O11=6,"six ",IF(O11=7,"sept ",IF(O11=8,"huit ",IF(O11=9,"neuf ",))))) -> 0 | BW11: =IF(J11=76,"soixante-seize ",IF(J11=77,"soixante-dix-sept ",IF(J11=78,"soixante-dix-huit ",IF(J11=79,"soixante-dix-neuf ",CD11)))) | BX11: =IF(Q11=9,"",IF(Q11=7,"",IF(R11=0,"",IF(R11=1,"un ",IF(R11=2,"deux ",IF(R11=3,"trois ",IF(R11=4,"quatre ",IF(R11=5,"cinq ",CE11)))))))) | BY11: =IF(K11=76,"soixante-seize ",IF(K11=77,"soixante-dix-sept ",IF(K11=78,"soixante-dix-huit ",IF(K11=79,"soixante-dix-neuf ",CF11)))) | BZ11: =IF(T11=9,"",IF(U11=6,"six ",IF(U11=7,"sept ",IF(U11=8,"huit ",IF(U11=9,"neuf ",))))) -> 0 | CA11: =IF(L11=76,"soixante-seize ",IF(L11=77,"soixante-dix-sept ",IF(L11=78,"soixante-dix-huit ",IF(L11=79,"soixante-dix-neuf ",CG11)))) | CB11: =IF(V11=9,"",IF(W11=6,"six ",IF(W11=7,"sept ",IF(W11=8,"huit ",IF(W11=9,"neuf ",))))) -> 0 | CC11: =IF(H11=90,"quatre-vingt-dix ",IF(H11=91,"quatre-vingt-onze ",IF(H11=92,"quatre-vingt-douze ",IF(H11=93,"quatre-vingt-treize ",IF(H11=94,"quatre-vingt-quatorze ",IF(H11=95,"quatre-vingt-quinze ",CH11)))))) | CD11: =IF(J11=90,"quatre-vingt-dix ",IF(J11=91,"quatre-vingt-onze ",IF(J11=92,"quatre-vingt-douze ",IF(J11=93,"quatre-vingt-treize ",IF(J11=94,"quatre-vingt-quatorze ",IF(J11=95,"quatre-vingt-quinze ",CI11)))))) | CE11: =IF(Q11=9,"",IF(R11=6,"six ",IF(R11=7,"sept ",IF(R11=8,"huit ",IF(R11=9,"neuf ",))))) -> 0 | CF11: =IF(K11=90,"quatre-vingt-dix ",IF(K11=91,"quatre-vingt-onze ",IF(K11=92,"quatre-vingt-douze ",IF(K11=93,"quatre-vingt-treize ",IF(K11=94,"quatre-vingt-quatorze ",IF(K11=95,"quatre-vingt-quinze ",CJ11)))))) | CG11: =IF(L11=90,"quatre-vingt-dix ",IF(L11=91,"quatre-vingt-onze ",IF(L11=92,"quatre-vingt-douze ",IF(L11=93,"quatre-vingt-treize ",IF(L11=94,"quatre-vingt-quatorze ",IF(L11=95,"quatre-vingt-quinze ",CK11)))))) | CH11: =IF(H11=96,"quatre-vingt-seize ",IF(H11=97,"quatre-vingt-dix-sept ",IF(H11=98,"quatre-vingt-dix-huit ",IF(H11=99,"quatre-vingt-dix-neuf ",CL11)))) | CI11: =IF(J11=96,"quatre-vingt-seize ",IF(J11=97,"quatre-vingt-dix-sept ",IF(J11=98,"quatre-vingt-dix-huit ",IF(J11=99,"quatre-vingt-dix-neuf ",CM11)))) | CJ11: =IF(K11=96,"quatre-vingt-seize ",IF(K11=97,"quatre-vingt-dix-sept ",IF(K11=98,"quatre-vingt-dix-huit ",IF(K11=99,"quatre-vingt-dix-neuf ",CN11)))) | CK11: =IF(L11=96,"quatre-vingt-seize ",IF(L11=97,"quatre-vingt-dix-sept ",IF(L11=98,"quatre-vingt-dix-huit ",IF(L11=99,"quatre-vingt-dix-neuf ",CO11)))) | CL11: =IF(N11=2,"vingt ",IF(N11=3,"trente ",IF(N11=4,"quarante ",IF(N11=5,"cinquante ",CP11)))) | CM11: =IF(Q11=2,"vingt ",IF(Q11=3,"trente ",IF(Q11=4,"quarante ",IF(Q11=5,"cinquante ",CQ11)))) | CN11: =IF(T11=2,"vingt ",IF(T11=3,"trente ",IF(T11=4,"quarante ",IF(T11=5,"cinquante ",CR11)))) | CO11: =IF(V11=2,"vingt ",IF(V11=3,"trente ",IF(V11=4,"quarante ",IF(V11=5,"cinquante ",CS11)))) | CP11: =IF(N11=6,"soixante ",IF(H11=80,"quatre-vingts ",IF(N11=8,"quatre-vingt-",""))) | CQ11: =IF(Q11=6,"soixante ",IF(J11=80,"quatre-vingts ",IF(Q11=8,"quatre-vingt-",""))) | CR11: =IF(T11=6,"soixante ",IF(K11=80,"quatre-vingts ",IF(T11=8,"quatre-vingt-",""))) | CS11: =IF(V11=6,"soixante ",IF(L11=80,"quatre-vingts ",IF(V11=8,"quatre-vingt-",""))) | CU11: =(X11&Y11&Z11&AA11&AB11&AC11&AD11&AE11&AF11&AG11&AH11&AI11&AJ11&AK11&AL11&AM11&AN11&AO11&AP11) -> zéro €uro
B12: =IF('base demandes'!D12<>"",'base demandes'!D12,0) -> 0 | C12: =UPPER(MID(CU12,1,1))&MID(CU12,2,168) -> Zéro €uro | D12: =INT(B12/1000000) -> 0 | E12: =INT((B12-D12*1000000)/1000) -> 0 | F12: =INT(B12-D12*1000000-E12*1000) -> 0 | G12: =ROUND(B12-D12*1000000-E12*1000-F12,2)*100 -> 0 | H12: =D12-M12*100 -> 0 | J12: =E12-P12*100 -> 0 | K12: =ROUND(F12-S12*100,0) -> 0 | L12: =G12 -> 0 | M12: =INT(D12/100) -> 0 | N12: =INT((D12-M12*100)/10) -> 0 | O12: =D12-M12*100-N12*10 -> 0 | P12: =INT(E12/100) -> 0 | Q12: =INT((E12-P12*100)/10) -> 0 | R12: =E12-P12*100-Q12*10 -> 0 | S12: =INT(F12/100) -> 0 | T12: =INT((F12-S12*100)/10) -> 0 | U12: =F12-S12*100-T12*10 -> 0 | V12: =INT(G12/10) -> 0 | W12: =ROUND(G12-V12*10,0) -> 0 | X12: =IF(M12=0,"",IF(M12=1,"",IF(M12=2,"deux ",IF(M12=3,"trois ",IF(M12=4,"quatre ",IF(M12=5,"cinq ",AQ12)))))) | Y12: =IF(M12=0,"",IF(M12<2,"cent ",AR12)) | Z12: =IF(N12=1,AS12,IF(N12=7,BM12,IF(N12=9,CC12,CL12))) | AA12: =IF(H12=11,"",IF(H12=12,"",IF(H12=13,"",IF(H12=14,"",IF(H12=15,"",IF(H12=16,"",AT12)))))) | AB12: =IF(D12=0,"",IF(D12<2,"million ","millions ")) | AC12: =IF(I12=1,"",IF(P12=0,"",IF(P12=1,"",IF(P12=2,"deux ",IF(P12=3,"trois ",IF(P12=4,"quatre ",IF(P12=5,"cinq ",AU12))))))) | AD12: =IF(P12=0,"",IF(P12<2,"cent ",AV12)) | AE12: =IF(Q12=1,AW12,IF(Q12=7,BO12,IF(Q12=9,CD12,CM12))) | AF12: =IF(E12=1,"",AX12) | AG12: =IF(E12>0,"mille ","") | AH12: =IF(INT(B12)=0,"zéro ",IF(S12=0,"",IF(S12=1,"",IF(S12=2,"deux ",IF(S12=3,"trois ",IF(S12=4,"quatre ",IF(S12=5,"cinq ",AY12))))))) -> zéro | AI12: =IF(S12=0,"",IF(S12<2,"cent ",AZ12)) | AJ12: =IF(T12=1,BA12,IF(T12=7,BQ12,IF(T12=9,CF12,CN12))) | AK12: =IF(K12=11,"",IF(K12=12,"",IF(K12=13,"",IF(K12=14,"",IF(K12=15,"",IF(K12=16,"",BB12)))))) | AL12: =IF(INT(B12<2),"€uro ","€uros ") -> €uro | AM12: =IF(G12>0,"et ","") | AN12: =IF(V12=1,BC12,IF(V12=7,BS12,IF(V12=9,CG12,CO12))) | AO12: =IF(L12=11,"",IF(L12=12,"",IF(L12=13,"",IF(L12=14,"",IF(L12=15,"",IF(L12=16,"",BD12)))))) | AP12: =IF(G12=0,"",IF(G12<2,"centime","centimes")) | AQ12: =IF(D12=0," ",IF(M12=6,"six ",IF(M12=7,"sept ",IF(M12=8,"huit ",IF(M12=9,"neuf ",))))) | AR12: =IF(H12>0,"cent ", "cents ") -> cents | AS12: =IF(H12=10,"dix ",IF(H12=11,"onze ",IF(H12=12,"douze ",IF(H12=13,"treize ",IF(H12=14,"quatorze ",IF(H12=15,"quinze ",BE12)))))) | AT12: =IF(H12=17,"",IF(H12=18,"",IF(H12=19,"",BF12))) | AU12: =IF(P12=6,"six ",IF(P12=7,"sept ",IF(P12=8,"huit ",IF(P12=9,"neuf ",)))) -> 0 | AV12: =IF(J12>0,"cent ", "cents ") -> cents | AW12: =IF(J12=10,"dix ",IF(J12=11,"onze ",IF(J12=12,"douze ",IF(J12=13,"treize ",IF(J12=14,"quatorze ",IF(J12=15,"quinze ",BG12)))))) | AX12: =IF(J12=11,"",IF(J12=12,"",IF(J12=13,"",IF(J12=14,"",IF(J12=15,"",IF(J12=16,"",BH12)))))) | AY12: =IF(S12=6,"six ",IF(S12=7,"sept ",IF(S12=8,"huit ",IF(S12=9,"neuf ",)))) -> 0 | AZ12: =IF(K12>0,"cent ", "cents ") -> cents | BA12: =IF(K12=10,"dix ",IF(K12=11,"onze ",IF(K12=12,"douze ",IF(K12=13,"treize ",IF(K12=14,"quatorze ",IF(K12=15,"quinze ",BI12)))))) | BB12: =IF(K12=17,"",IF(K12=18,"",IF(K12=19,"",BJ12))) | BC12: =IF(L12=10,"dix ",IF(L12=11,"onze ",IF(L12=12,"douze ",IF(L12=13,"treize ",IF(L12=14,"quatorze ",IF(L12=15,"quinze ",BK12)))))) | BD12: =IF(L12=17,"",IF(L12=18,"",IF(L12=19,"",BL12))) | BE12: =IF(H12=16,"seize ",IF(H12=17,"dix-sept ",IF(H12=18,"dix-huit ",IF(H12=19,"dix-neuf ",BM12)))) | BF12: =IF(H12=21,"et un ",IF(H12=31,"et un ",IF(H12=41,"et un ",IF(H12=51,"et un ",IF(H12=61,"et un ",BN12))))) | BG12: =IF(J12=16,"seize ",IF(J12=17,"dix-sept ",IF(J12=18,"dix-huit ",IF(J12=19,"dix-neuf ",BO12)))) | BH12: =IF(J12=17,"",IF(J12=18,"",IF(J12=19,"",BP12))) | BI12: =IF(K12=16,"seize ",IF(K12=17,"dix-sept ",IF(K12=18,"dix-huit ",IF(K12=19,"dix-neuf ",BQ12)))) | BJ12: =IF(K12=21,"et un ",IF(K12=31,"et un ",IF(K12=41,"et un ",IF(K12=51,"et un ",IF(K12=61,"et un ",BR12))))) | BK12: =IF(L12=16,"seize ",IF(L12=17,"dix-sept ",IF(L12=18,"dix-huit ",IF(L12=19,"dix-neuf ",BS12)))) | BL12: =IF(L12=21,"et un ",IF(L12=31,"et un ",IF(L12=41,"et un ",IF(L12=51,"et un ",IF(L12=61,"et un ",BT12))))) | BM12: =IF(H12=70,"soixante-dix ",IF(H12=71,"soixante et onze ",IF(H12=72,"soixante-douze ",IF(H12=73,"soixante-treize ",IF(H12=74,"soixante-quatorze ",IF(H12=75,"soixante-quinze ",BU12)))))) | BN12: =IF(N12=9,"",IF(N12=7,"",IF(O12=0,"",IF(O12=1,"un ",IF(O12=2,"deux ",IF(O12=3,"trois ",IF(O12=4,"quatre ",IF(O12=5,"cinq ",BV12)))))))) | BO12: =IF(J12=70,"soixante-dix ",IF(J12=71,"soixante et onze ",IF(J12=72,"soixante-douze ",IF(J12=73,"soixante-treize ",IF(J12=74,"soixante-quatorze ",IF(J12=75,"soixante-quinze ",BW12)))))) | BP12: =IF(J12=21,"et un ",IF(J12=31,"et un ",IF(J12=41,"et un ",IF(J12=51,"et un ",IF(J12=61,"et un ",BX12))))) | BQ12: =IF(K12=70,"soixante-dix ",IF(K12=71,"soixante et onze ",IF(K12=72,"soixante-douze ",IF(K12=73,"soixante-treize ",IF(K12=74,"soixante-quatorze ",IF(K12=75,"soixante-quinze ",BY12)))))) | BR12: =IF(T12=9,"",IF(T12=7,"",IF(U12=0,"",IF(U12=1,"un ",IF(U12=2,"deux ",IF(U12=3,"trois ",IF(U12=4,"quatre ",IF(U12=5,"cinq ",BZ12)))))))) | BS12: =IF(L12=70,"soixante-dix ",IF(L12=71,"soixante et onze ",IF(L12=72,"soixante-douze ",IF(L12=73,"soixante-treize ",IF(L12=74,"soixante-quatorze ",IF(L12=75,"soixante-quinze ",CA12)))))) | BT12: =IF(V12=9,"",IF(V12=7,"",IF(W12=0,"",IF(W12=1,"un ",IF(W12=2,"deux ",IF(W12=3,"trois ",IF(W12=4,"quatre ",IF(W12=5,"cinq ",CB12)))))))) | BU12: =IF(H12=76,"soixante-seize ",IF(H12=77,"soixante-dix-sept ",IF(H12=78,"soixante-dix-huit ",IF(H12=79,"soixante-dix-neuf ",CC12)))) | BV12: =IF(N12=9,"",IF(O12=6,"six ",IF(O12=7,"sept ",IF(O12=8,"huit ",IF(O12=9,"neuf ",))))) -> 0 | BW12: =IF(J12=76,"soixante-seize ",IF(J12=77,"soixante-dix-sept ",IF(J12=78,"soixante-dix-huit ",IF(J12=79,"soixante-dix-neuf ",CD12)))) | BX12: =IF(Q12=9,"",IF(Q12=7,"",IF(R12=0,"",IF(R12=1,"un ",IF(R12=2,"deux ",IF(R12=3,"trois ",IF(R12=4,"quatre ",IF(R12=5,"cinq ",CE12)))))))) | BY12: =IF(K12=76,"soixante-seize ",IF(K12=77,"soixante-dix-sept ",IF(K12=78,"soixante-dix-huit ",IF(K12=79,"soixante-dix-neuf ",CF12)))) | BZ12: =IF(T12=9,"",IF(U12=6,"six ",IF(U12=7,"sept ",IF(U12=8,"huit ",IF(U12=9,"neuf ",))))) -> 0 | CA12: =IF(L12=76,"soixante-seize ",IF(L12=77,"soixante-dix-sept ",IF(L12=78,"soixante-dix-huit ",IF(L12=79,"soixante-dix-neuf ",CG12)))) | CB12: =IF(V12=9,"",IF(W12=6,"six ",IF(W12=7,"sept ",IF(W12=8,"huit ",IF(W12=9,"neuf ",))))) -> 0 | CC12: =IF(H12=90,"quatre-vingt-dix ",IF(H12=91,"quatre-vingt-onze ",IF(H12=92,"quatre-vingt-douze ",IF(H12=93,"quatre-vingt-treize ",IF(H12=94,"quatre-vingt-quatorze ",IF(H12=95,"quatre-vingt-quinze ",CH12)))))) | CD12: =IF(J12=90,"quatre-vingt-dix ",IF(J12=91,"quatre-vingt-onze ",IF(J12=92,"quatre-vingt-douze ",IF(J12=93,"quatre-vingt-treize ",IF(J12=94,"quatre-vingt-quatorze ",IF(J12=95,"quatre-vingt-quinze ",CI12)))))) | CE12: =IF(Q12=9,"",IF(R12=6,"six ",IF(R12=7,"sept ",IF(R12=8,"huit ",IF(R12=9,"neuf ",))))) -> 0 | CF12: =IF(K12=90,"quatre-vingt-dix ",IF(K12=91,"quatre-vingt-onze ",IF(K12=92,"quatre-vingt-douze ",IF(K12=93,"quatre-vingt-treize ",IF(K12=94,"quatre-vingt-quatorze ",IF(K12=95,"quatre-vingt-quinze ",CJ12)))))) | CG12: =IF(L12=90,"quatre-vingt-dix ",IF(L12=91,"quatre-vingt-onze ",IF(L12=92,"quatre-vingt-douze ",IF(L12=93,"quatre-vingt-treize ",IF(L12=94,"quatre-vingt-quatorze ",IF(L12=95,"quatre-vingt-quinze ",CK12)))))) | CH12: =IF(H12=96,"quatre-vingt-seize ",IF(H12=97,"quatre-vingt-dix-sept ",IF(H12=98,"quatre-vingt-dix-huit ",IF(H12=99,"quatre-vingt-dix-neuf ",CL12)))) | CI12: =IF(J12=96,"quatre-vingt-seize ",IF(J12=97,"quatre-vingt-dix-sept ",IF(J12=98,"quatre-vingt-dix-huit ",IF(J12=99,"quatre-vingt-dix-neuf ",CM12)))) | CJ12: =IF(K12=96,"quatre-vingt-seize ",IF(K12=97,"quatre-vingt-dix-sept ",IF(K12=98,"quatre-vingt-dix-huit ",IF(K12=99,"quatre-vingt-dix-neuf ",CN12)))) | CK12: =IF(L12=96,"quatre-vingt-seize ",IF(L12=97,"quatre-vingt-dix-sept ",IF(L12=98,"quatre-vingt-dix-huit ",IF(L12=99,"quatre-vingt-dix-neuf ",CO12)))) | CL12: =IF(N12=2,"vingt ",IF(N12=3,"trente ",IF(N12=4,"quarante ",IF(N12=5,"cinquante ",CP12)))) | CM12: =IF(Q12=2,"vingt ",IF(Q12=3,"trente ",IF(Q12=4,"quarante ",IF(Q12=5,"cinquante ",CQ12)))) | CN12: =IF(T12=2,"vingt ",IF(T12=3,"trente ",IF(T12=4,"quarante ",IF(T12=5,"cinquante ",CR12)))) | CO12: =IF(V12=2,"vingt ",IF(V12=3,"trente ",IF(V12=4,"quarante ",IF(V12=5,"cinquante ",CS12)))) | CP12: =IF(N12=6,"soixante ",IF(H12=80,"quatre-vingts ",IF(N12=8,"quatre-vingt-",""))) | CQ12: =IF(Q12=6,"soixante ",IF(J12=80,"quatre-vingts ",IF(Q12=8,"quatre-vingt-",""))) | CR12: =IF(T12=6,"soixante ",IF(K12=80,"quatre-vingts ",IF(T12=8,"quatre-vingt-",""))) | CS12: =IF(V12=6,"soixante ",IF(L12=80,"quatre-vingts ",IF(V12=8,"quatre-vingt-",""))) | CU12: =(X12&Y12&Z12&AA12&AB12&AC12&AD12&AE12&AF12&AG12&AH12&AI12&AJ12&AK12&AL12&AM12&AN12&AO12&AP12) -> zéro €uro
B13: =IF('base demandes'!D13<>"",'base demandes'!D13,0) -> 0 | C13: =UPPER(MID(CU13,1,1))&MID(CU13,2,168) -> Zéro €uro | D13: =INT(B13/1000000) -> 0 | E13: =INT((B13-D13*1000000)/1000) -> 0 | F13: =INT(B13-D13*1000000-E13*1000) -> 0 | G13: =ROUND(B13-D13*1000000-E13*1000-F13,2)*100 -> 0 | H13: =D13-M13*100 -> 0 | J13: =E13-P13*100 -> 0 | K13: =ROUND(F13-S13*100,0) -> 0 | L13: =G13 -> 0 | M13: =INT(D13/100) -> 0 | N13: =INT((D13-M13*100)/10) -> 0 | O13: =D13-M13*100-N13*10 -> 0 | P13: =INT(E13/100) -> 0 | Q13: =INT((E13-P13*100)/10) -> 0 | R13: =E13-P13*100-Q13*10 -> 0 | S13: =INT(F13/100) -> 0 | T13: =INT((F13-S13*100)/10) -> 0 | U13: =F13-S13*100-T13*10 -> 0 | V13: =INT(G13/10) -> 0 | W13: =ROUND(G13-V13*10,0) -> 0 | X13: =IF(M13=0,"",IF(M13=1,"",IF(M13=2,"deux ",IF(M13=3,"trois ",IF(M13=4,"quatre ",IF(M13=5,"cinq ",AQ13)))))) | Y13: =IF(M13=0,"",IF(M13<2,"cent ",AR13)) | Z13: =IF(N13=1,AS13,IF(N13=7,BM13,IF(N13=9,CC13,CL13))) | AA13: =IF(H13=11,"",IF(H13=12,"",IF(H13=13,"",IF(H13=14,"",IF(H13=15,"",IF(H13=16,"",AT13)))))) | AB13: =IF(D13=0,"",IF(D13<2,"million ","millions ")) | AC13: =IF(I13=1,"",IF(P13=0,"",IF(P13=1,"",IF(P13=2,"deux ",IF(P13=3,"trois ",IF(P13=4,"quatre ",IF(P13=5,"cinq ",AU13))))))) | AD13: =IF(P13=0,"",IF(P13<2,"cent ",AV13)) | AE13: =IF(Q13=1,AW13,IF(Q13=7,BO13,IF(Q13=9,CD13,CM13))) | AF13: =IF(E13=1,"",AX13) | AG13: =IF(E13>0,"mille ","") | AH13: =IF(INT(B13)=0,"zéro ",IF(S13=0,"",IF(S13=1,"",IF(S13=2,"deux ",IF(S13=3,"trois ",IF(S13=4,"quatre ",IF(S13=5,"cinq ",AY13))))))) -> zéro | AI13: =IF(S13=0,"",IF(S13<2,"cent ",AZ13)) | AJ13: =IF(T13=1,BA13,IF(T13=7,BQ13,IF(T13=9,CF13,CN13))) | AK13: =IF(K13=11,"",IF(K13=12,"",IF(K13=13,"",IF(K13=14,"",IF(K13=15,"",IF(K13=16,"",BB13)))))) | AL13: =IF(INT(B13<2),"€uro ","€uros ") -> €uro | AM13: =IF(G13>0,"et ","") | AN13: =IF(V13=1,BC13,IF(V13=7,BS13,IF(V13=9,CG13,CO13))) | AO13: =IF(L13=11,"",IF(L13=12,"",IF(L13=13,"",IF(L13=14,"",IF(L13=15,"",IF(L13=16,"",BD13)))))) | AP13: =IF(G13=0,"",IF(G13<2,"centime","centimes")) | AQ13: =IF(D13=0," ",IF(M13=6,"six ",IF(M13=7,"sept ",IF(M13=8,"huit ",IF(M13=9,"neuf ",))))) | AR13: =IF(H13>0,"cent ", "cents ") -> cents | AS13: =IF(H13=10,"dix ",IF(H13=11,"onze ",IF(H13=12,"douze ",IF(H13=13,"treize ",IF(H13=14,"quatorze ",IF(H13=15,"quinze ",BE13)))))) | AT13: =IF(H13=17,"",IF(H13=18,"",IF(H13=19,"",BF13))) | AU13: =IF(P13=6,"six ",IF(P13=7,"sept ",IF(P13=8,"huit ",IF(P13=9,"neuf ",)))) -> 0 | AV13: =IF(J13>0,"cent ", "cents ") -> cents | AW13: =IF(J13=10,"dix ",IF(J13=11,"onze ",IF(J13=12,"douze ",IF(J13=13,"treize ",IF(J13=14,"quatorze ",IF(J13=15,"quinze ",BG13)))))) | AX13: =IF(J13=11,"",IF(J13=12,"",IF(J13=13,"",IF(J13=14,"",IF(J13=15,"",IF(J13=16,"",BH13)))))) | AY13: =IF(S13=6,"six ",IF(S13=7,"sept ",IF(S13=8,"huit ",IF(S13=9,"neuf ",)))) -> 0 | AZ13: =IF(K13>0,"cent ", "cents ") -> cents | BA13: =IF(K13=10,"dix ",IF(K13=11,"onze ",IF(K13=12,"douze ",IF(K13=13,"treize ",IF(K13=14,"quatorze ",IF(K13=15,"quinze ",BI13)))))) | BB13: =IF(K13=17,"",IF(K13=18,"",IF(K13=19,"",BJ13))) | BC13: =IF(L13=10,"dix ",IF(L13=11,"onze ",IF(L13=12,"douze ",IF(L13=13,"treize ",IF(L13=14,"quatorze ",IF(L13=15,"quinze ",BK13)))))) | BD13: =IF(L13=17,"",IF(L13=18,"",IF(L13=19,"",BL13))) | BE13: =IF(H13=16,"seize ",IF(H13=17,"dix-sept ",IF(H13=18,"dix-huit ",IF(H13=19,"dix-neuf ",BM13)))) | BF13: =IF(H13=21,"et un ",IF(H13=31,"et un ",IF(H13=41,"et un ",IF(H13=51,"et un ",IF(H13=61,"et un ",BN13))))) | BG13: =IF(J13=16,"seize ",IF(J13=17,"dix-sept ",IF(J13=18,"dix-huit ",IF(J13=19,"dix-neuf ",BO13)))) | BH13: =IF(J13=17,"",IF(J13=18,"",IF(J13=19,"",BP13))) | BI13: =IF(K13=16,"seize ",IF(K13=17,"dix-sept ",IF(K13=18,"dix-huit ",IF(K13=19,"dix-neuf ",BQ13)))) | BJ13: =IF(K13=21,"et un ",IF(K13=31,"et un ",IF(K13=41,"et un ",IF(K13=51,"et un ",IF(K13=61,"et un ",BR13))))) | BK13: =IF(L13=16,"seize ",IF(L13=17,"dix-sept ",IF(L13=18,"dix-huit ",IF(L13=19,"dix-neuf ",BS13)))) | BL13: =IF(L13=21,"et un ",IF(L13=31,"et un ",IF(L13=41,"et un ",IF(L13=51,"et un ",IF(L13=61,"et un ",BT13))))) | BM13: =IF(H13=70,"soixante-dix ",IF(H13=71,"soixante et onze ",IF(H13=72,"soixante-douze ",IF(H13=73,"soixante-treize ",IF(H13=74,"soixante-quatorze ",IF(H13=75,"soixante-quinze ",BU13)))))) | BN13: =IF(N13=9,"",IF(N13=7,"",IF(O13=0,"",IF(O13=1,"un ",IF(O13=2,"deux ",IF(O13=3,"trois ",IF(O13=4,"quatre ",IF(O13=5,"cinq ",BV13)))))))) | BO13: =IF(J13=70,"soixante-dix ",IF(J13=71,"soixante et onze ",IF(J13=72,"soixante-douze ",IF(J13=73,"soixante-treize ",IF(J13=74,"soixante-quatorze ",IF(J13=75,"soixante-quinze ",BW13)))))) | BP13: =IF(J13=21,"et un ",IF(J13=31,"et un ",IF(J13=41,"et un ",IF(J13=51,"et un ",IF(J13=61,"et un ",BX13))))) | BQ13: =IF(K13=70,"soixante-dix ",IF(K13=71,"soixante et onze ",IF(K13=72,"soixante-douze ",IF(K13=73,"soixante-treize ",IF(K13=74,"soixante-quatorze ",IF(K13=75,"soixante-quinze ",BY13)))))) | BR13: =IF(T13=9,"",IF(T13=7,"",IF(U13=0,"",IF(U13=1,"un ",IF(U13=2,"deux ",IF(U13=3,"trois ",IF(U13=4,"quatre ",IF(U13=5,"cinq ",BZ13)))))))) | BS13: =IF(L13=70,"soixante-dix ",IF(L13=71,"soixante et onze ",IF(L13=72,"soixante-douze ",IF(L13=73,"soixante-treize ",IF(L13=74,"soixante-quatorze ",IF(L13=75,"soixante-quinze ",CA13)))))) | BT13: =IF(V13=9,"",IF(V13=7,"",IF(W13=0,"",IF(W13=1,"un ",IF(W13=2,"deux ",IF(W13=3,"trois ",IF(W13=4,"quatre ",IF(W13=5,"cinq ",CB13)))))))) | BU13: =IF(H13=76,"soixante-seize ",IF(H13=77,"soixante-dix-sept ",IF(H13=78,"soixante-dix-huit ",IF(H13=79,"soixante-dix-neuf ",CC13)))) | BV13: =IF(N13=9,"",IF(O13=6,"six ",IF(O13=7,"sept ",IF(O13=8,"huit ",IF(O13=9,"neuf ",))))) -> 0 | BW13: =IF(J13=76,"soixante-seize ",IF(J13=77,"soixante-dix-sept ",IF(J13=78,"soixante-dix-huit ",IF(J13=79,"soixante-dix-neuf ",CD13)))) | BX13: =IF(Q13=9,"",IF(Q13=7,"",IF(R13=0,"",IF(R13=1,"un ",IF(R13=2,"deux ",IF(R13=3,"trois ",IF(R13=4,"quatre ",IF(R13=5,"cinq ",CE13)))))))) | BY13: =IF(K13=76,"soixante-seize ",IF(K13=77,"soixante-dix-sept ",IF(K13=78,"soixante-dix-huit ",IF(K13=79,"soixante-dix-neuf ",CF13)))) | BZ13: =IF(T13=9,"",IF(U13=6,"six ",IF(U13=7,"sept ",IF(U13=8,"huit ",IF(U13=9,"neuf ",))))) -> 0 | CA13: =IF(L13=76,"soixante-seize ",IF(L13=77,"soixante-dix-sept ",IF(L13=78,"soixante-dix-huit ",IF(L13=79,"soixante-dix-neuf ",CG13)))) | CB13: =IF(V13=9,"",IF(W13=6,"six ",IF(W13=7,"sept ",IF(W13=8,"huit ",IF(W13=9,"neuf ",))))) -> 0 | CC13: =IF(H13=90,"quatre-vingt-dix ",IF(H13=91,"quatre-vingt-onze ",IF(H13=92,"quatre-vingt-douze ",IF(H13=93,"quatre-vingt-treize ",IF(H13=94,"quatre-vingt-quatorze ",IF(H13=95,"quatre-vingt-quinze ",CH13)))))) | CD13: =IF(J13=90,"quatre-vingt-dix ",IF(J13=91,"quatre-vingt-onze ",IF(J13=92,"quatre-vingt-douze ",IF(J13=93,"quatre-vingt-treize ",IF(J13=94,"quatre-vingt-quatorze ",IF(J13=95,"quatre-vingt-quinze ",CI13)))))) | CE13: =IF(Q13=9,"",IF(R13=6,"six ",IF(R13=7,"sept ",IF(R13=8,"huit ",IF(R13=9,"neuf ",))))) -> 0 | CF13: =IF(K13=90,"quatre-vingt-dix ",IF(K13=91,"quatre-vingt-onze ",IF(K13=92,"quatre-vingt-douze ",IF(K13=93,"quatre-vingt-treize ",IF(K13=94,"quatre-vingt-quatorze ",IF(K13=95,"quatre-vingt-quinze ",CJ13)))))) | CG13: =IF(L13=90,"quatre-vingt-dix ",IF(L13=91,"quatre-vingt-onze ",IF(L13=92,"quatre-vingt-douze ",IF(L13=93,"quatre-vingt-treize ",IF(L13=94,"quatre-vingt-quatorze ",IF(L13=95,"quatre-vingt-quinze ",CK13)))))) | CH13: =IF(H13=96,"quatre-vingt-seize ",IF(H13=97,"quatre-vingt-dix-sept ",IF(H13=98,"quatre-vingt-dix-huit ",IF(H13=99,"quatre-vingt-dix-neuf ",CL13)))) | CI13: =IF(J13=96,"quatre-vingt-seize ",IF(J13=97,"quatre-vingt-dix-sept ",IF(J13=98,"quatre-vingt-dix-huit ",IF(J13=99,"quatre-vingt-dix-neuf ",CM13)))) | CJ13: =IF(K13=96,"quatre-vingt-seize ",IF(K13=97,"quatre-vingt-dix-sept ",IF(K13=98,"quatre-vingt-dix-huit ",IF(K13=99,"quatre-vingt-dix-neuf ",CN13)))) | CK13: =IF(L13=96,"quatre-vingt-seize ",IF(L13=97,"quatre-vingt-dix-sept ",IF(L13=98,"quatre-vingt-dix-huit ",IF(L13=99,"quatre-vingt-dix-neuf ",CO13)))) | CL13: =IF(N13=2,"vingt ",IF(N13=3,"trente ",IF(N13=4,"quarante ",IF(N13=5,"cinquante ",CP13)))) | CM13: =IF(Q13=2,"vingt ",IF(Q13=3,"trente ",IF(Q13=4,"quarante ",IF(Q13=5,"cinquante ",CQ13)))) | CN13: =IF(T13=2,"vingt ",IF(T13=3,"trente ",IF(T13=4,"quarante ",IF(T13=5,"cinquante ",CR13)))) | CO13: =IF(V13=2,"vingt ",IF(V13=3,"trente ",IF(V13=4,"quarante ",IF(V13=5,"cinquante ",CS13)))) | CP13: =IF(N13=6,"soixante ",IF(H13=80,"quatre-vingts ",IF(N13=8,"quatre-vingt-",""))) | CQ13: =IF(Q13=6,"soixante ",IF(J13=80,"quatre-vingts ",IF(Q13=8,"quatre-vingt-",""))) | CR13: =IF(T13=6,"soixante ",IF(K13=80,"quatre-vingts ",IF(T13=8,"quatre-vingt-",""))) | CS13: =IF(V13=6,"soixante ",IF(L13=80,"quatre-vingts ",IF(V13=8,"quatre-vingt-",""))) | CU13: =(X13&Y13&Z13&AA13&AB13&AC13&AD13&AE13&AF13&AG13&AH13&AI13&AJ13&AK13&AL13&AM13&AN13&AO13&AP13) -> zéro €uro
... B122: =IF('base demandes'!D122<>"",'base demandes'!D122,0) -> 0 | C122: =UPPER(MID(CU122,1,1))&MID(CU122,2,168) -> Zéro €uro | D122: =INT(B122/1000000) -> 0 | E122: =INT((B122-D122*1000000)/1000) -> 0 | F122: =INT(B122-D122*1000000-E122*1000) -> 0 | G122: =ROUND(B122-D122*1000000-E122*1000-F122,2)*100 -> 0 | H122: =D122-M122*100 -> 0 | J122: =E122-P122*100 -> 0 | K122: =ROUND(F122-S122*100,0) -> 0 | L122: =G122 -> 0 | M122: =INT(D122/100) -> 0 | N122: =INT((D122-M122*100)/10) -> 0 | O122: =D122-M122*100-N122*10 -> 0 | P122: =INT(E122/100) -> 0 | Q122: =INT((E122-P122*100)/10) -> 0 | R122: =E122-P122*100-Q122*10 -> 0 | S122: =INT(F122/100) -> 0 | T122: =INT((F122-S122*100)/10) -> 0 | U122: =F122-S122*100-T122*10 -> 0 | V122: =INT(G122/10) -> 0 | W122: =ROUND(G122-V122*10,0) -> 0 | X122: =IF(M122=0,"",IF(M122=1,"",IF(M122=2,"deux ",IF(M122=3,"trois ",IF(M122=4,"quatre ",IF(M122=5,"cinq ",AQ122)))))) | Y122: =IF(M122=0,"",IF(M122<2,"cent ",AR122)) | Z122: =IF(N122=1,AS122,IF(N122=7,BM122,IF(N122=9,CC122,CL122))) | AA122: =IF(H122=11,"",IF(H122=12,"",IF(H122=13,"",IF(H122=14,"",IF(H122=15,"",IF(H122=16,"",AT122)))))) | AB122: =IF(D122=0,"",IF(D122<2,"million ","millions ")) | AC122: =IF(I122=1,"",IF(P122=0,"",IF(P122=1,"",IF(P122=2,"deux ",IF(P122=3,"trois ",IF(P122=4,"quatre ",IF(P122=5,"cinq ",AU122))))))) | AD122: =IF(P122=0,"",IF(P122<2,"cent ",AV122)) | AE122: =IF(Q122=1,AW122,IF(Q122=7,BO122,IF(Q122=9,CD122,CM122))) | AF122: =IF(E122=1,"",AX122) | AG122: =IF(E122>0,"mille ","") | AH122: =IF(INT(B122)=0,"zéro ",IF(S122=0,"",IF(S122=1,"",IF(S122=2,"deux ",IF(S122=3,"trois ",IF(S122=4,"quatre ",IF(S122=5,"cinq ",AY122))))))) -> zéro | AI122: =IF(S122=0,"",IF(S122<2,"cent ",AZ122)) | AJ122: =IF(T122=1,BA122,IF(T122=7,BQ122,IF(T122=9,CF122,CN122))) | AK122: =IF(K122=11,"",IF(K122=12,"",IF(K122=13,"",IF(K122=14,"",IF(K122=15,"",IF(K122=16,"",BB122)))))) | AL122: =IF(INT(B122<2),"€uro ","€uros ") -> €uro | AM122: =IF(G122>0,"et ","") | AN122: =IF(V122=1,BC122,IF(V122=7,BS122,IF(V122=9,CG122,CO122))) | AO122: =IF(L122=11,"",IF(L122=12,"",IF(L122=13,"",IF(L122=14,"",IF(L122=15,"",IF(L122=16,"",BD122)))))) | AP122: =IF(G122=0,"",IF(G122<2,"centime","centimes")) | AQ122: =IF(D122=0," ",IF(M122=6,"six ",IF(M122=7,"sept ",IF(M122=8,"huit ",IF(M122=9,"neuf ",))))) | AR122: =IF(H122>0,"cent ", "cents ") -> cents | AS122: =IF(H122=10,"dix ",IF(H122=11,"onze ",IF(H122=12,"douze ",IF(H122=13,"treize ",IF(H122=14,"quatorze ",IF(H122=15,"quinze ",BE122)))))) | AT122: =IF(H122=17,"",IF(H122=18,"",IF(H122=19,"",BF122))) | AU122: =IF(P122=6,"six ",IF(P122=7,"sept ",IF(P122=8,"huit ",IF(P122=9,"neuf ",)))) -> 0 | AV122: =IF(J122>0,"cent ", "cents ") -> cents | AW122: =IF(J122=10,"dix ",IF(J122=11,"onze ",IF(J122=12,"douze ",IF(J122=13,"treize ",IF(J122=14,"quatorze ",IF(J122=15,"quinze ",BG122)))))) | AX122: =IF(J122=11,"",IF(J122=12,"",IF(J122=13,"",IF(J122=14,"",IF(J122=15,"",IF(J122=16,"",BH122)))))) | AY122: =IF(S122=6,"six ",IF(S122=7,"sept ",IF(S122=8,"huit ",IF(S122=9,"neuf ",)))) -> 0 | AZ122: =IF(K122>0,"cent ", "cents ") -> cents | BA122: =IF(K122=10,"dix ",IF(K122=11,"onze ",IF(K122=12,"douze ",IF(K122=13,"treize ",IF(K122=14,"quatorze ",IF(K122=15,"quinze ",BI122)))))) | BB122: =IF(K122=17,"",IF(K122=18,"",IF(K122=19,"",BJ122))) | BC122: =IF(L122=10,"dix ",IF(L122=11,"onze ",IF(L122=12,"douze ",IF(L122=13,"treize ",IF(L122=14,"quatorze ",IF(L122=15,"quinze ",BK122)))))) | BD122: =IF(L122=17,"",IF(L122=18,"",IF(L122=19,"",BL122))) | BE122: =IF(H122=16,"seize ",IF(H122=17,"dix-sept ",IF(H122=18,"dix-huit ",IF(H122=19,"dix-neuf ",BM122)))) | BF122: =IF(H122=21,"et un ",IF(H122=31,"et un ",IF(H122=41,"et un ",IF(H122=51,"et un ",IF(H122=61,"et un ",BN122))))) | BG122: =IF(J122=16,"seize ",IF(J122=17,"dix-sept ",IF(J122=18,"dix-huit ",IF(J122=19,"dix-neuf ",BO122)))) | BH122: =IF(J122=17,"",IF(J122=18,"",IF(J122=19,"",BP122))) | BI122: =IF(K122=16,"seize ",IF(K122=17,"dix-sept ",IF(K122=18,"dix-huit ",IF(K122=19,"dix-neuf ",BQ122)))) | BJ122: =IF(K122=21,"et un ",IF(K122=31,"et un ",IF(K122=41,"et un ",IF(K122=51,"et un ",IF(K122=61,"et un ",BR122))))) | BK122: =IF(L122=16,"seize ",IF(L122=17,"dix-sept ",IF(L122=18,"dix-huit ",IF(L122=19,"dix-neuf ",BS122)))) | BL122: =IF(L122=21,"et un ",IF(L122=31,"et un ",IF(L122=41,"et un ",IF(L122=51,"et un ",IF(L122=61,"et un ",BT122))))) | BM122: =IF(H122=70,"soixante-dix ",IF(H122=71,"soixante et onze ",IF(H122=72,"soixante-douze ",IF(H122=73,"soixante-treize ",IF(H122=74,"soixante-quatorze ",IF(H122=75,"soixante-quinze ",BU122)))))) | BN122: =IF(N122=9,"",IF(N122=7,"",IF(O122=0,"",IF(O122=1,"un ",IF(O122=2,"deux ",IF(O122=3,"trois ",IF(O122=4,"quatre ",IF(O122=5,"cinq ",BV122)))))))) | BO122: =IF(J122=70,"soixante-dix ",IF(J122=71,"soixante et onze ",IF(J122=72,"soixante-douze ",IF(J122=73,"soixante-treize ",IF(J122=74,"soixante-quatorze ",IF(J122=75,"soixante-quinze ",BW122)))))) | BP122: =IF(J122=21,"et un ",IF(J122=31,"et un ",IF(J122=41,"et un ",IF(J122=51,"et un ",IF(J122=61,"et un ",BX122))))) | BQ122: =IF(K122=70,"soixante-dix ",IF(K122=71,"soixante et onze ",IF(K122=72,"soixante-douze ",IF(K122=73,"soixante-treize ",IF(K122=74,"soixante-quatorze ",IF(K122=75,"soixante-quinze ",BY122)))))) | BR122: =IF(T122=9,"",IF(T122=7,"",IF(U122=0,"",IF(U122=1,"un ",IF(U122=2,"deux ",IF(U122=3,"trois ",IF(U122=4,"quatre ",IF(U122=5,"cinq ",BZ122)))))))) | BS122: =IF(L122=70,"soixante-dix ",IF(L122=71,"soixante et onze ",IF(L122=72,"soixante-douze ",IF(L122=73,"soixante-treize ",IF(L122=74,"soixante-quatorze ",IF(L122=75,"soixante-quinze ",CA122)))))) | BT122: =IF(V122=9,"",IF(V122=7,"",IF(W122=0,"",IF(W122=1,"un ",IF(W122=2,"deux ",IF(W122=3,"trois ",IF(W122=4,"quatre ",IF(W122=5,"cinq ",CB122)))))))) | BU122: =IF(H122=76,"soixante-seize ",IF(H122=77,"soixante-dix-sept ",IF(H122=78,"soixante-dix-huit ",IF(H122=79,"soixante-dix-neuf ",CC122)))) | BV122: =IF(N122=9,"",IF(O122=6,"six ",IF(O122=7,"sept ",IF(O122=8,"huit ",IF(O122=9,"neuf ",))))) -> 0 | BW122: =IF(J122=76,"soixante-seize ",IF(J122=77,"soixante-dix-sept ",IF(J122=78,"soixante-dix-huit ",IF(J122=79,"soixante-dix-neuf ",CD122)))) | BX122: =IF(Q122=9,"",IF(Q122=7,"",IF(R122=0,"",IF(R122=1,"un ",IF(R122=2,"deux ",IF(R122=3,"trois ",IF(R122=4,"quatre ",IF(R122=5,"cinq ",CE122)))))))) | BY122: =IF(K122=76,"soixante-seize ",IF(K122=77,"soixante-dix-sept ",IF(K122=78,"soixante-dix-huit ",IF(K122=79,"soixante-dix-neuf ",CF122)))) | BZ122: =IF(T122=9,"",IF(U122=6,"six ",IF(U122=7,"sept ",IF(U122=8,"huit ",IF(U122=9,"neuf ",))))) -> 0 | CA122: =IF(L122=76,"soixante-seize ",IF(L122=77,"soixante-dix-sept ",IF(L122=78,"soixante-dix-huit ",IF(L122=79,"soixante-dix-neuf ",CG122)))) | CB122: =IF(V122=9,"",IF(W122=6,"six ",IF(W122=7,"sept ",IF(W122=8,"huit ",IF(W122=9,"neuf ",))))) -> 0 | CC122: =IF(H122=90,"quatre-vingt-dix ",IF(H122=91,"quatre-vingt-onze ",IF(H122=92,"quatre-vingt-douze ",IF(H122=93,"quatre-vingt-treize ",IF(H122=94,"quatre-vingt-quatorze ",IF(H122=95,"quatre-vingt-quinze ",CH122)))))) | CD122: =IF(J122=90,"quatre-vingt-dix ",IF(J122=91,"quatre-vingt-onze ",IF(J122=92,"quatre-vingt-douze ",IF(J122=93,"quatre-vingt-treize ",IF(J122=94,"quatre-vingt-quatorze ",IF(J122=95,"quatre-vingt-quinze ",CI122)))))) | CE122: =IF(Q122=9,"",IF(R122=6,"six ",IF(R122=7,"sept ",IF(R122=8,"huit ",IF(R122=9,"neuf ",))))) -> 0 | CF122: =IF(K122=90,"quatre-vingt-dix ",IF(K122=91,"quatre-vingt-onze ",IF(K122=92,"quatre-vingt-douze ",IF(K122=93,"quatre-vingt-treize ",IF(K122=94,"quatre-vingt-quatorze ",IF(K122=95,"quatre-vingt-quinze ",CJ122)))))) | CG122: =IF(L122=90,"quatre-vingt-dix ",IF(L122=91,"quatre-vingt-onze ",IF(L122=92,"quatre-vingt-douze ",IF(L122=93,"quatre-vingt-treize ",IF(L122=94,"quatre-vingt-quatorze ",IF(L122=95,"quatre-vingt-quinze ",CK122)))))) | CH122: =IF(H122=96,"quatre-vingt-seize ",IF(H122=97,"quatre-vingt-dix-sept ",IF(H122=98,"quatre-vingt-dix-huit ",IF(H122=99,"quatre-vingt-dix-neuf ",CL122)))) | CI122: =IF(J122=96,"quatre-vingt-seize ",IF(J122=97,"quatre-vingt-dix-sept ",IF(J122=98,"quatre-vingt-dix-huit ",IF(J122=99,"quatre-vingt-dix-neuf ",CM122)))) | CJ122: =IF(K122=96,"quatre-vingt-seize ",IF(K122=97,"quatre-vingt-dix-sept ",IF(K122=98,"quatre-vingt-dix-huit ",IF(K122=99,"quatre-vingt-dix-neuf ",CN122)))) | CK122: =IF(L122=96,"quatre-vingt-seize ",IF(L122=97,"quatre-vingt-dix-sept ",IF(L122=98,"quatre-vingt-dix-huit ",IF(L122=99,"quatre-vingt-dix-neuf ",CO122)))) | CL122: =IF(N122=2,"vingt ",IF(N122=3,"trente ",IF(N122=4,"quarante ",IF(N122=5,"cinquante ",CP122)))) | CM122: =IF(Q122=2,"vingt ",IF(Q122=3,"trente ",IF(Q122=4,"quarante ",IF(Q122=5,"cinquante ",CQ122)))) | CN122: =IF(T122=2,"vingt ",IF(T122=3,"trente ",IF(T122=4,"quarante ",IF(T122=5,"cinquante ",CR122)))) | CO122: =IF(V122=2,"vingt ",IF(V122=3,"trente ",IF(V122=4,"quarante ",IF(V122=5,"cinquante ",CS122)))) | CP122: =IF(N122=6,"soixante ",IF(H122=80,"quatre-vingts ",IF(N122=8,"quatre-vingt-",""))) | CQ122: =IF(Q122=6,"soixante ",IF(J122=80,"quatre-vingts ",IF(Q122=8,"quatre-vingt-",""))) | CR122: =IF(T122=6,"soixante ",IF(K122=80,"quatre-vingts ",IF(T122=8,"quatre-vingt-",""))) | CS122: =IF(V122=6,"soixante ",IF(L122=80,"quatre-vingts ",IF(V122=8,"quatre-vingt-",""))) | CU122: =(X122&Y122&Z122&AA122&AB122&AC122&AD122&AE122&AF122&AG122&AH122&AI122&AJ122&AK122&AL122&AM122&AN122&AO122&AP122) -> zéro €uro
