Workbook

Sheet RECHERCHE
C1: W20 | D1: W21 | E1: W22 | F1: W23 | G1: W24 | H1: W25 | I1: W26 | J1: W27 | K1: W28 | L1: W29 | M1: W30 | N1: W31 | O1: W32 | P1: W33 | Q1: W34 | R1: W35 | S1: W36 | T1: W37 | U1: W38 | V1: W39 | W1: W40 | X1: W41 | Y1: W42 | Z1: W43 | AA1: W44 | AB1: W45 | AC1: W46 | AD1: W47 | AE1: W48 | AF1: W49 | AG1: W50 | AH1: W51 | AI1: W52 | AJ1: FAMILLE | AK1: W20/20 | AL1: W21/20 | AM1: W22/20 | AN1: W23/20 | AO1: W24/20 | AP1: 2020W25 | AQ1: 2020W26 | AR1: 2020W27 | AS1: 2020W28 | AT1: 2020W29 | AU1: 2020W30 | AV1: 2020W31 | AW1: 2020W32 | AX1: 2020W33 | AY1: 2020W34 | AZ1: 2020W35 | BA1: 2020W36 | BB1: 2020W37 | BC1: 2020W38 | BD1: 2020W39 | BE1: 2020W40 | BF1: 2020W41 | BG1: 2020W42 | BH1: 2020W43 | BI1: 2020W44 | BJ1: 2020W45 | BK1: 2020W46 | BL1: 2020W47 | BM1: 2020W48 | BN1: 2020W49 | BO1: 2020W50 | BP1: 2020W51 | BQ1: 2020W52 | BR1: 2020W53 | BS1: 2022W01 | BT1: 2022W02 | BU1: 2022W03 | BV1: 2022W04 | BW1: 2022W05 | BX1: 2022W06 | BY1: 2022W07 | BZ1: 2022W08 | CA1: 2022W09 | CB1: 2022W10 | CC1: 2022W11 | CD1: 2022W12 | CE1: 2022W13 | CF1: 2022W14 | CG1: 2022W15 | CH1: 2022W16 | CI1: 2022W17 | CJ1: 2022W18 | CK1: 2022W19 | CL1: 2022W20 | CM1: 2022W21 | CN1: 2022W22 | CO1: 2022W23 | CP1: 2022W24 | CQ1: 2022W25 | CR1: 2022W26 | CS1: 2022W27 | CT1: 2022W28 | CU1: 2022W29 | CV1: 2022W30 | CW1: 2022W31 | CX1: 2022W32 | CY1: 2022W33 | CZ1: 2022W34 | DA1: 2022W35 | DB1: 2022W36 | DC1: 2022W37 | DD1: 2022W38 | DE1: 2022W39 | DF1: 2022W40 | DG1: 2022W41 | DH1: 2022W42 | DI1: 2022W43 | DJ1: 2022W44 | DK1: 2022W45 | DL1: 2022W46 | DM1: 2022W47 | DN1: 2022W48 | DO1: 2022W49 | DP1: 2022W50 | DQ1: 2022W51 | DR1: 2022W52 | DS1: Moyenne 2022
B2: Famille | C2: Qttés | D2: Qttés | E2: Qttés | F2: Qttés | G2: Qttés | H2: Qttés | I2: Qttés | J2: Qttés | K2: Qttés | L2: Qttés | M2: Qttés | N2: Qttés | O2: Qttés | P2: Qttés | Q2: Qttés | R2: Qttés | S2: Qttés | T2: Qttés | U2: Qttés | V2: Qttés | W2: Qttés | X2: Qttés | Y2: Qttés | Z2: Qttés | AA2: Qttés | AB2: Qttés | AC2: Qttés | AD2: Qttés | AE2: Qttés | AF2: Qttés | AG2: Qttés | AH2: Qttés | AI2: Qttés | AJ2: NUMERO SEMAINE | BS2: =MID(BS1,6,2)*1 -> 1 | BT2: =MID(BT1,6,2)*1 -> 2 | BU2: =MID(BU1,6,2)*1 -> 3 | BV2: =MID(BV1,6,2)*1 -> 4 | BW2: =MID(BW1,6,2)*1 -> 5 | BX2: =MID(BX1,6,2)*1 -> 6 | BY2: =MID(BY1,6,2)*1 -> 7 | BZ2: =MID(BZ1,6,2)*1 -> 8 | ... DR2: =MID(DR1,6,2)*1 -> 52
A3: PAL POLYCARBONATE - S | B3: 547410081231401 | C3: 3281 | D3: 4427 | E3: 3187 | F3: 3002 | G3: 2976 | H3: 5793 | I3: 5761 | J3: 2178 | K3: 3975 | L3: 1917 | M3: 2613 | N3: 2806 | O3: 2072 | P3: 2113 | Q3: 1598 | R3: 2485 | S3: 2417 | T3: 2126 | U3: 2443 | V3: 3231 | W3: 2841 | X3: 3028 | Y3: 2696 | Z3: 3333 | AA3: 2911 | AB3: 2200 | AC3: 2063 | AD3: 3066 | AE3: 2547 | AF3: 2595 | AG3: 2474 | AH3: 4387 | AI3: 3434 | AJ3: 547410081200000 | AK3: 547410081200000 | AL3: 547410081200000 | AM3: 547410081200000 | AN3: 547410081200000 | AO3: 547410081200000 | AP3: 547410081200000 | AQ3: 547410081200000 | AR3: 547410081200000 | AS3: 547410081200000 | AT3: 547410081200000 | AU3: 547410081200000 | AV3: 547410081200000 | AW3: 547410081200000 | AX3: 547410081200000 | AY3: 547410081200000 | AZ3: 547410081200000 | BA3: 547410081200000 | BB3: 547410081200000 | BC3: 547410081200000 | BD3: 547410081200000 | BE3: 547410081200000 | BF3: 547410081200000 | BG3: 547410081200000 | BH3: 547410081200000 | BI3: 547410081200000 | BJ3: 547410081200000 | BK3: 547410081200000 | BL3: 547410081200000 | BM3: 547410081200000 | BN3: 547410081200000 | BO3: 547410081200000 | BP3: 547410081200000 | BQ3: 547410081200000 | BR3: 547410081200000 | BS3: =VLOOKUP($AJ3,DATA!$A$2:$BA$80,1+BS$2,FALSE) -> 0 | BT3: =VLOOKUP($AJ3,DATA!$A$2:$BA$80,1+BT$2,FALSE) -> 0 | BU3: =VLOOKUP($AJ3,DATA!$A$2:$BA$80,1+BU$2,FALSE) -> 0 | BV3: =VLOOKUP($AJ3,DATA!$A$2:$BA$80,1+BV$2,FALSE) -> 0 | BW3: =VLOOKUP($AJ3,DATA!$A$2:$BA$80,1+BW$2,FALSE) -> 0 | BX3: =VLOOKUP($AJ3,DATA!$A$2:$BA$80,1+BX$2,FALSE) -> 0 | BY3: =VLOOKUP($AJ3,DATA!$A$2:$BA$80,1+BY$2,FALSE) -> 13276 | BZ3: =VLOOKUP($AJ3,DATA!$A$2:$BA$80,1+BZ$2,FALSE) -> 413 | ... DR3: =VLOOKUP($AJ3,DATA!$A$2:$BA$80,1+DR$2,FALSE) -> 0 | DS3: =AVERAGE(AK3:BR3) -> #DIV/0!
B4: 548410081231400 | C4: 15401 | D4: 20095 | E4: 18473 | F4: 16438 | G4: 19114 | H4: 7994 | I4: 14294 | J4: 15721 | K4: 17944 | L4: 15915 | M4: 22505 | N4: 16694 | O4: 20733 | P4: 6260 | Q4: 11683 | R4: 18395 | S4: 25892 | T4: 17345 | U4: 4609 | V4: 21964 | W4: 12818 | X4: 10526 | Y4: 21972 | Z4: 7665 | AA4: 37773 | AB4: 14965 | AC4: 38284 | AD4: 20444 | AE4: 15777 | AF4: 22581 | AG4: 9807 | AH4: 19283 | AI4: 29907 | AJ4: 547410081231401 | AK4: 816 | AL4: 943 | AM4: 405 | AN4: 2052 | AO4: 1871 | AP4: 1934 | AQ4: 2992 | AR4: 1761 | AS4: 467 | AT4: 711 | AU4: 4728 | AV4: 1216 | AW4: 2679 | AX4: 1142 | AY4: 2590 | AZ4: 2090 | BA4: 1778 | BB4: 427 | BC4: 1801 | BD4: 1229 | BE4: 746 | BF4: 1290 | BG4: 572 | BH4: 1164 | BI4: 1466 | BJ4: 1548 | BK4: 1483 | BL4: 819 | BM4: 14111 | BN4: 8503 | BO4: 6549 | BP4: 19694 | BQ4: 9605 | BR4: 2684 | BS4: =VLOOKUP($AJ4,DATA!$A$2:$BA$80,1+BS$2,FALSE) -> 0 | BT4: =VLOOKUP($AJ4,DATA!$A$2:$BA$80,1+BT$2,FALSE) -> 0 | BU4: =VLOOKUP($AJ4,DATA!$A$2:$BA$80,1+BU$2,FALSE) -> 0 | BV4: =VLOOKUP($AJ4,DATA!$A$2:$BA$80,1+BV$2,FALSE) -> 0 | BW4: =VLOOKUP($AJ4,DATA!$A$2:$BA$80,1+BW$2,FALSE) -> 0 | BX4: =VLOOKUP($AJ4,DATA!$A$2:$BA$80,1+BX$2,FALSE) -> 0 | BY4: =VLOOKUP($AJ4,DATA!$A$2:$BA$80,1+BY$2,FALSE) -> 11803 | BZ4: =VLOOKUP($AJ4,DATA!$A$2:$BA$80,1+BZ$2,FALSE) -> 6211 | ... DR4: =VLOOKUP($AJ4,DATA!$A$2:$BA$80,1+DR$2,FALSE) -> 0 | DS4: =AVERAGE(AK4:BR4) -> 3054.8824
B5: 580410080231400 | C5: 2510 | D5: 2587 | E5: 3198 | F5: 2826 | G5: 3970 | H5: 2740 | I5: 3259 | J5: 2798 | K5: 3803 | L5: 2933 | M5: 3403 | N5: 2595 | O5: 2402 | P5: 2005 | Q5: 1938 | R5: 2440 | S5: 2495 | T5: 2174 | U5: 2405 | V5: 2566 | W5: 2491 | X5: 2745 | Y5: 2890 | Z5: 2694 | AA5: 2581 | AB5: 2556 | AC5: 2918 | AD5: 2430 | AE5: 2766 | AF5: 2644 | AG5: 2617 | AH5: 2423 | AI5: 1960 | AJ5: 548410081231400 | AK5: 4 | AL5: 14 | AM5: 616 | AN5: 1146 | AO5: 2743 | AP5: 2484 | AQ5: 881 | AR5: 1586 | AS5: 3196 | AT5: 12108 | AU5: 12713 | AV5: 14097 | AW5: 7535 | AX5: 1517 | AY5: 7258 | AZ5: 13713 | BA5: 18771 | BB5: 4141 | BC5: 10179 | BD5: 4512 | BE5: 4178 | BF5: 10338 | BG5: 7641 | BH5: 26379 | BI5: 16243 | BJ5: 5092 | BK5: 13902 | BL5: 29043 | BM5: 6446 | BN5: 14474 | BO5: 10847 | BP5: 4750 | BQ5: 4568 | BR5: 2957 | BS5: =VLOOKUP($AJ5,DATA!$A$2:$BA$80,1+BS$2,FALSE) -> 0 | BT5: =VLOOKUP($AJ5,DATA!$A$2:$BA$80,1+BT$2,FALSE) -> 0 | BU5: =VLOOKUP($AJ5,DATA!$A$2:$BA$80,1+BU$2,FALSE) -> 0 | BV5: =VLOOKUP($AJ5,DATA!$A$2:$BA$80,1+BV$2,FALSE) -> 0 | BW5: =VLOOKUP($AJ5,DATA!$A$2:$BA$80,1+BW$2,FALSE) -> 0 | BX5: =VLOOKUP($AJ5,DATA!$A$2:$BA$80,1+BX$2,FALSE) -> 0 | BY5: =VLOOKUP($AJ5,DATA!$A$2:$BA$80,1+BY$2,FALSE) -> 5571 | BZ5: =VLOOKUP($AJ5,DATA!$A$2:$BA$80,1+BZ$2,FALSE) -> 1233 | ... DR5: =VLOOKUP($AJ5,DATA!$A$2:$BA$80,1+DR$2,FALSE) -> 0 | DS5: =AVERAGE(AK5:BR5) -> 8119.7647
B6: 547410081200000 | C6: 574 | D6: 47 | E6: 758 | F6: 305 | G6: 424 | H6: 75 | I6: 398 | J6: 372 | K6: 324 | L6: 283 | M6: 394 | N6: 635 | O6: 61 | P6: 639 | Q6: 145 | R6: 420 | S6: 27 | T6: 683 | U6: 284 | V6: 344 | W6: 230 | X6: 327 | Y6: 322 | Z6: 457 | AA6: 271 | AB6: 376 | AC6: 308 | AD6: 355 | AE6: 149 | AF6: 139 | AG6: 472 | AH6: 384 | AI6: 20 | AJ6: 580410080231400 | AK6: 46 | AL6: 1 | AM6: 125 | AN6: 336 | AO6: 824 | AP6: 621 | AQ6: 756 | AR6: 733 | AS6: 718 | AT6: 727 | AU6: 1158 | AV6: 227 | AW6: 1502 | AX6: 374 | AY6: 409 | AZ6: 243 | BA6: 332 | BB6: 233 | BC6: 684 | BD6: 546 | BE6: 339 | BF6: 607 | BG6: 970 | BH6: 556 | BI6: 556 | BJ6: 468 | BK6: 636 | BL6: 299 | BM6: 385 | BN6: 549 | BO6: 714 | BP6: 789 | BQ6: 93 | BR6: 199 | BS6: =VLOOKUP($AJ6,DATA!$A$2:$BA$80,1+BS$2,FALSE) -> 0 | BT6: =VLOOKUP($AJ6,DATA!$A$2:$BA$80,1+BT$2,FALSE) -> 0 | BU6: =VLOOKUP($AJ6,DATA!$A$2:$BA$80,1+BU$2,FALSE) -> 0 | BV6: =VLOOKUP($AJ6,DATA!$A$2:$BA$80,1+BV$2,FALSE) -> 0 | BW6: =VLOOKUP($AJ6,DATA!$A$2:$BA$80,1+BW$2,FALSE) -> 0 | BX6: =VLOOKUP($AJ6,DATA!$A$2:$BA$80,1+BX$2,FALSE) -> 0 | BY6: =VLOOKUP($AJ6,DATA!$A$2:$BA$80,1+BY$2,FALSE) -> 0 | BZ6: =VLOOKUP($AJ6,DATA!$A$2:$BA$80,1+BZ$2,FALSE) -> 0 | ... DR6: =VLOOKUP($AJ6,DATA!$A$2:$BA$80,1+DR$2,FALSE) -> 0 | DS6: =AVERAGE(AK6:BR6) -> 522.20588
A7: Total PAL POLYCARBONATE - S | C7: 21766 | D7: 27156 | E7: 25616 | F7: 22571 | G7: 26484 | H7: 16602 | I7: 23712 | J7: 21069 | K7: 26046 | L7: 21048 | M7: 28915 | N7: 22730 | O7: 25268 | P7: 11017 | Q7: 15364 | R7: 23740 | S7: 30831 | T7: 22328 | U7: 9741 | V7: 28105 | W7: 18380 | X7: 16626 | Y7: 27880 | Z7: 14149 | AA7: 43536 | AB7: 20097 | AC7: 43573 | AD7: 26295 | AE7: 21239 | AF7: 27959 | AG7: 15370 | AH7: 26477 | AI7: 35321 | AJ7: SF PAL | AK7: =SUM(AK3:AK6) -> 866 | AL7: =SUM(AL3:AL6) -> 958 | AM7: =SUM(AM3:AM6) -> 1146 | AN7: =SUM(AN3:AN6) -> 3534 | AO7: =SUM(AO3:AO6) -> 5438 | AP7: =SUM(AP3:AP6) -> 5039 | AQ7: =SUM(AQ3:AQ6) -> 4629 | AR7: =SUM(AR3:AR6) -> 4080 | ... DP7: =SUM(DP3:DP6) -> 0 | DS7: =AVERAGE(AK7:BR7) -> 11696.853
A8: SV ORG. 1.6 - F | B8: 3518100650237EF | C8: 64 | D8: 100 | E8: 107 | F8: 121 | G8: 113 | H8: 147 | I8: 123 | J8: 124 | K8: 91 | L8: 99 | M8: 86 | N8: 101 | O8: 69 | P8: 76 | Q8: 65 | R8: 144 | S8: 85 | T8: 122 | U8: 100 | V8: 105 | W8: 95 | X8: 109 | Y8: 95 | Z8: 107 | AA8: 65 | AB8: 30 | AC8: 51 | AD8: 57 | AE8: 51 | AF8: 113 | AG8: 97 | AH8: 92 | AI8: 84 | AJ8: 3524100650237EF | AK8: 0 | AL8: 0 | AM8: 0 | AN8: 1 | AO8: 4 | AP8: 6 | AQ8: 2 | AR8: 3 | AS8: 6 | AT8: 1 | AU8: 12 | AV8: 6 | AW8: 5 | AX8: 2 | AY8: 7 | AZ8: 2 | BA8: 4 | BB8: 2 | BC8: 0 | BD8: 2 | BE8: 3 | BF8: 5 | BG8: 7 | BH8: 2 | BI8: 0 | BJ8: 7 | BK8: 6 | BL8: 6 | BM8: 4 | BN8: 5 | BO8: 5 | BP8: 4 | BQ8: 7 | BR8: 3 | BS8: =VLOOKUP($AJ8,DATA!$A$2:$BA$80,1+BS$2,FALSE) -> 0 | BT8: =VLOOKUP($AJ8,DATA!$A$2:$BA$80,1+BT$2,FALSE) -> 0 | BU8: =VLOOKUP($AJ8,DATA!$A$2:$BA$80,1+BU$2,FALSE) -> 0 | BV8: =VLOOKUP($AJ8,DATA!$A$2:$BA$80,1+BV$2,FALSE) -> 0 | BW8: =VLOOKUP($AJ8,DATA!$A$2:$BA$80,1+BW$2,FALSE) -> 0 | BX8: =VLOOKUP($AJ8,DATA!$A$2:$BA$80,1+BX$2,FALSE) -> 0 | BY8: =VLOOKUP($AJ8,DATA!$A$2:$BA$80,1+BY$2,FALSE) -> 243 | BZ8: =VLOOKUP($AJ8,DATA!$A$2:$BA$80,1+BZ$2,FALSE) -> 64 | ... DR8: =VLOOKUP($AJ8,DATA!$A$2:$BA$80,1+DR$2,FALSE) -> 0 | DS8: =AVERAGE(AK8:BR8) -> 3.7941176
B9: 3518100650675EF | C9: 104 | D9: 151 | E9: 201 | F9: 134 | G9: 199 | H9: 163 | I9: 181 | J9: 160 | K9: 181 | L9: 133 | M9: 219 | N9: 151 | O9: 165 | P9: 43 | Q9: 144 | R9: 170 | S9: 238 | T9: 191 | U9: 208 | V9: 176 | W9: 172 | X9: 182 | Y9: 196 | Z9: 217 | AA9: 62 | AB9: 135 | AC9: 114 | AD9: 156 | AE9: 96 | AF9: 161 | AG9: 174 | AH9: 214 | AI9: 153 | AJ9: 3524100650640EF | AK9: 0 | AL9: 0 | AM9: 0 | AN9: 11 | AO9: 19 | AP9: 24 | AQ9: 13 | AR9: 17 | AS9: 20 | AT9: 12 | AU9: 19 | AV9: 11 | AW9: 4 | AX9: 4 | AY9: 3 | AZ9: 6 | BA9: 12 | BB9: 15 | BC9: 9 | BD9: 11 | BE9: 13 | BF9: 19 | BG9: 5 | BH9: 12 | BI9: 8 | BJ9: 8 | BK9: 12 | BL9: 3 | BM9: 11 | BN9: 7 | BO9: 7 | BP9: 13 | BQ9: 8 | BR9: 10 | BS9: =VLOOKUP($AJ9,DATA!$A$2:$BA$80,1+BS$2,FALSE) -> 0 | BT9: =VLOOKUP($AJ9,DATA!$A$2:$BA$80,1+BT$2,FALSE) -> 0 | BU9: =VLOOKUP($AJ9,DATA!$A$2:$BA$80,1+BU$2,FALSE) -> 0 | BV9: =VLOOKUP($AJ9,DATA!$A$2:$BA$80,1+BV$2,FALSE) -> 0 | BW9: =VLOOKUP($AJ9,DATA!$A$2:$BA$80,1+BW$2,FALSE) -> 0 | BX9: =VLOOKUP($AJ9,DATA!$A$2:$BA$80,1+BX$2,FALSE) -> 0 | BY9: =VLOOKUP($AJ9,DATA!$A$2:$BA$80,1+BY$2,FALSE) -> 343 | BZ9: =VLOOKUP($AJ9,DATA!$A$2:$BA$80,1+BZ$2,FALSE) -> 369 | ... DR9: =VLOOKUP($AJ9,DATA!$A$2:$BA$80,1+DR$2,FALSE) -> 0 | DS9: =AVERAGE(AK9:BR9) -> 10.176471
B10: 3518100750237EF | C10: 53 | D10: 74 | E10: 39 | F10: 48 | G10: 42 | H10: 81 | I10: 51 | J10: 76 | K10: 61 | L10: 71 | M10: 55 | N10: 77 | O10: 46 | P10: 30 | Q10: 72 | R10: 53 | S10: 89 | T10: 98 | U10: 58 | V10: 26 | W10: 45 | X10: 49 | Y10: 46 | Z10: 55 | AA10: 36 | AB10: 19 | AC10: 11 | AD10: 29 | AE10: 23 | AF10: 70 | AG10: 42 | AH10: 44 | AI10: 48 | AJ10: 3524100650676EF | AK10: 0 | AL10: 0 | AM10: 0 | AN10: 4 | AO10: 2 | AP10: 3 | AQ10: 0 | AR10: 0 | AS10: 3 | AT10: 0 | AU10: 5 | AV10: 11 | AW10: 2 | AX10: 1 | AY10: 5 | AZ10: 10 | BA10: 7 | BB10: 5 | BC10: 5 | BD10: 0 | BE10: 5 | BF10: 2 | BG10: 6 | BH10: 6 | BI10: 0 | BJ10: 2 | BK10: 0 | BL10: 2 | BM10: 1 | BN10: 11 | BO10: 4 | BP10: 3 | BQ10: 3 | BR10: 1 | BS10: =VLOOKUP($AJ10,DATA!$A$2:$BA$80,1+BS$2,FALSE) -> 0 | BT10: =VLOOKUP($AJ10,DATA!$A$2:$BA$80,1+BT$2,FALSE) -> 0 | BU10: =VLOOKUP($AJ10,DATA!$A$2:$BA$80,1+BU$2,FALSE) -> 0 | BV10: =VLOOKUP($AJ10,DATA!$A$2:$BA$80,1+BV$2,FALSE) -> 0 | BW10: =VLOOKUP($AJ10,DATA!$A$2:$BA$80,1+BW$2,FALSE) -> 0 | BX10: =VLOOKUP($AJ10,DATA!$A$2:$BA$80,1+BX$2,FALSE) -> 0 | BY10: =VLOOKUP($AJ10,DATA!$A$2:$BA$80,1+BY$2,FALSE) -> 693 | BZ10: =VLOOKUP($AJ10,DATA!$A$2:$BA$80,1+BZ$2,FALSE) -> 639 | ... DR10: =VLOOKUP($AJ10,DATA!$A$2:$BA$80,1+DR$2,FALSE) -> 0 | DS10: =AVERAGE(AK10:BR10) -> 3.2058824
B11: 3518100750675EF | C11: 84 | D11: 167 | E11: 100 | F11: 123 | G11: 170 | H11: 184 | I11: 154 | J11: 203 | K11: 168 | L11: 176 | M11: 194 | N11: 190 | O11: 164 | P11: 54 | Q11: 129 | R11: 190 | S11: 159 | T11: 181 | U11: 151 | V11: 139 | W11: 146 | X11: 157 | Y11: 115 | Z11: 181 | AA11: 51 | AB11: 78 | AC11: 94 | AD11: 98 | AE11: 102 | AF11: 164 | AG11: 147 | AH11: 176 | AI11: 193 | AJ11: 3524100650719EF | AK11: 0 | AL11: 0 | AM11: 0 | AN11: 7 | AO11: 9 | AP11: 9 | AQ11: 9 | AR11: 15 | AS11: 12 | AT11: 5 | AU11: 17 | AV11: 12 | AW11: 5 | AX11: 11 | AY11: 10 | AZ11: 7 | BA11: 4 | BB11: 6 | BC11: 4 | BD11: 6 | BE11: 11 | BF11: 3 | BG11: 11 | BH11: 5 | BI11: 8 | BJ11: 7 | BK11: 8 | BL11: 9 | BM11: 10 | BN11: 7 | BO11: 17 | BP11: 5 | BQ11: 9 | BR11: 6 | BS11: =VLOOKUP($AJ11,DATA!$A$2:$BA$80,1+BS$2,FALSE) -> 0 | BT11: =VLOOKUP($AJ11,DATA!$A$2:$BA$80,1+BT$2,FALSE) -> 0 | BU11: =VLOOKUP($AJ11,DATA!$A$2:$BA$80,1+BU$2,FALSE) -> 0 | BV11: =VLOOKUP($AJ11,DATA!$A$2:$BA$80,1+BV$2,FALSE) -> 0 | BW11: =VLOOKUP($AJ11,DATA!$A$2:$BA$80,1+BW$2,FALSE) -> 0 | BX11: =VLOOKUP($AJ11,DATA!$A$2:$BA$80,1+BX$2,FALSE) -> 0 | BY11: =VLOOKUP($AJ11,DATA!$A$2:$BA$80,1+BY$2,FALSE) -> 0 | BZ11: =VLOOKUP($AJ11,DATA!$A$2:$BA$80,1+BZ$2,FALSE) -> 0 | ... DR11: =VLOOKUP($AJ11,DATA!$A$2:$BA$80,1+DR$2,FALSE) -> 0 | DS11: =AVERAGE(AK11:BR11) -> 7.7647059
B12: 3524100650237EF | C12: 274 | D12: 277 | E12: 325 | F12: 338 | G12: 395 | H12: 372 | I12: 432 | J12: 512 | K12: 382 | L12: 314 | M12: 382 | N12: 526 | O12: 442 | P12: 349 | Q12: 339 | R12: 605 | S12: 727 | T12: 761 | U12: 706 | V12: 614 | W12: 683 | X12: 638 | Y12: 716 | Z12: 710 | AA12: 634 | AB12: 597 | AC12: 501 | AD12: 739 | AE12: 682 | AF12: 858 | AG12: 684 | AH12: 806 | AI12: 580 | AJ12: 3524100650876EF | AK12: 30 | AL12: 208 | AM12: 174 | AN12: 234 | AO12: 277 | AP12: 326 | AQ12: 272 | AR12: 308 | AS12: 318 | AT12: 234 | AU12: 247 | AV12: 299 | AW12: 239 | AX12: 228 | AY12: 161 | AZ12: 229 | BA12: 279 | BB12: 271 | BC12: 278 | BD12: 237 | BE12: 249 | BF12: 329 | BG12: 290 | BH12: 307 | BI12: 259 | BJ12: 281 | BK12: 195 | BL12: 191 | BM12: 293 | BN12: 314 | BO12: 282 | BP12: 255 | BQ12: 271 | BR12: 185 | BS12: =VLOOKUP($AJ12,DATA!$A$2:$BA$80,1+BS$2,FALSE) -> 0 | BT12: =VLOOKUP($AJ12,DATA!$A$2:$BA$80,1+BT$2,FALSE) -> 0 | BU12: =VLOOKUP($AJ12,DATA!$A$2:$BA$80,1+BU$2,FALSE) -> 0 | BV12: =VLOOKUP($AJ12,DATA!$A$2:$BA$80,1+BV$2,FALSE) -> 0 | BW12: =VLOOKUP($AJ12,DATA!$A$2:$BA$80,1+BW$2,FALSE) -> 0 | BX12: =VLOOKUP($AJ12,DATA!$A$2:$BA$80,1+BX$2,FALSE) -> 0 | BY12: =VLOOKUP($AJ12,DATA!$A$2:$BA$80,1+BY$2,FALSE) -> 235 | BZ12: =VLOOKUP($AJ12,DATA!$A$2:$BA$80,1+BZ$2,FALSE) -> 329 | ... DR12: =VLOOKUP($AJ12,DATA!$A$2:$BA$80,1+DR$2,FALSE) -> 0 | DS12: =AVERAGE(AK12:BR12) -> 251.47059
B13: 3524100650675EF | C13: 481 | D13: 1180 | E13: 1073 | F13: 1034 | G13: 1136 | H13: 1166 | I13: 934 | J13: 1122 | K13: 1185 | L13: 904 | M13: 1093 | N13: 948 | O13: 1193 | P13: 436 | Q13: 739 | R13: 941 | S13: 1089 | T13: 1221 | U13: 1160 | V13: 1105 | W13: 1134 | X13: 1110 | Y13: 1123 | Z13: 1204 | AA13: 934 | AB13: 845 | AC13: 967 | AD13: 1191 | AE13: 1130 | AF13: 882 | AG13: 1152 | AH13: 1293 | AI13: 761 | AJ13: 3524100750237EF | AK13: 64 | AL13: 392 | AM13: 501 | AN13: 547 | AO13: 703 | AP13: 699 | AQ13: 744 | AR13: 636 | AS13: 660 | AT13: 528 | AU13: 649 | AV13: 612 | AW13: 570 | AX13: 449 | AY13: 386 | AZ13: 454 | BA13: 499 | BB13: 620 | BC13: 546 | BD13: 507 | BE13: 598 | BF13: 592 | BG13: 629 | BH13: 639 | BI13: 572 | BJ13: 596 | BK13: 420 | BL13: 541 | BM13: 533 | BN13: 630 | BO13: 608 | BP13: 594 | BQ13: 613 | BR13: 339 | BS13: =VLOOKUP($AJ13,DATA!$A$2:$BA$80,1+BS$2,FALSE) -> 0 | BT13: =VLOOKUP($AJ13,DATA!$A$2:$BA$80,1+BT$2,FALSE) -> 0 | BU13: =VLOOKUP($AJ13,DATA!$A$2:$BA$80,1+BU$2,FALSE) -> 0 | BV13: =VLOOKUP($AJ13,DATA!$A$2:$BA$80,1+BV$2,FALSE) -> 0 | BW13: =VLOOKUP($AJ13,DATA!$A$2:$BA$80,1+BW$2,FALSE) -> 0 | BX13: =VLOOKUP($AJ13,DATA!$A$2:$BA$80,1+BX$2,FALSE) -> 0 | BY13: =VLOOKUP($AJ13,DATA!$A$2:$BA$80,1+BY$2,FALSE) -> 221 | BZ13: =VLOOKUP($AJ13,DATA!$A$2:$BA$80,1+BZ$2,FALSE) -> 42 | ... DR13: =VLOOKUP($AJ13,DATA!$A$2:$BA$80,1+DR$2,FALSE) -> 0 | DS13: =AVERAGE(AK13:BR13) -> 549.11765
B14: 3524100650676EF | C14: 404 | D14: 789 | E14: 668 | F14: 772 | G14: 821 | H14: 646 | I14: 690 | J14: 783 | K14: 800 | L14: 580 | M14: 687 | N14: 645 | O14: 778 | P14: 324 | Q14: 557 | R14: 794 | S14: 899 | T14: 795 | U14: 793 | V14: 846 | W14: 925 | X14: 836 | Y14: 883 | Z14: 942 | AA14: 945 | AB14: 942 | AC14: 988 | AD14: 1058 | AE14: 791 | AF14: 825 | AG14: 945 | AH14: 1094 | AI14: 900 | AJ14: 3524100750640EF | AK14: 55 | AL14: 596 | AM14: 661 | AN14: 719 | AO14: 872 | AP14: 1050 | AQ14: 888 | AR14: 1104 | AS14: 1076 | AT14: 747 | AU14: 784 | AV14: 860 | AW14: 944 | AX14: 676 | AY14: 551 | AZ14: 754 | BA14: 1050 | BB14: 900 | BC14: 860 | BD14: 750 | BE14: 876 | BF14: 949 | BG14: 866 | BH14: 838 | BI14: 946 | BJ14: 959 | BK14: 789 | BL14: 708 | BM14: 756 | BN14: 831 | BO14: 818 | BP14: 815 | BQ14: 895 | BR14: 686 | BS14: =VLOOKUP($AJ14,DATA!$A$2:$BA$80,1+BS$2,FALSE) -> 0 | BT14: =VLOOKUP($AJ14,DATA!$A$2:$BA$80,1+BT$2,FALSE) -> 0 | BU14: =VLOOKUP($AJ14,DATA!$A$2:$BA$80,1+BU$2,FALSE) -> 0 | BV14: =VLOOKUP($AJ14,DATA!$A$2:$BA$80,1+BV$2,FALSE) -> 0 | BW14: =VLOOKUP($AJ14,DATA!$A$2:$BA$80,1+BW$2,FALSE) -> 0 | BX14: =VLOOKUP($AJ14,DATA!$A$2:$BA$80,1+BX$2,FALSE) -> 0 | BY14: =VLOOKUP($AJ14,DATA!$A$2:$BA$80,1+BY$2,FALSE) -> 374 | BZ14: =VLOOKUP($AJ14,DATA!$A$2:$BA$80,1+BZ$2,FALSE) -> 444 | ... DR14: =VLOOKUP($AJ14,DATA!$A$2:$BA$80,1+DR$2,FALSE) -> 0 | DS14: =AVERAGE(AK14:BR14) -> 812.61765
B15: 3524100750237EF | C15: 491 | D15: 633 | E15: 724 | F15: 570 | G15: 712 | H15: 822 | I15: 739 | J15: 876 | K15: 881 | L15: 756 | M15: 970 | N15: 1113 | O15: 997 | P15: 669 | Q15: 854 | R15: 1123 | S15: 1406 | T15: 1214 | U15: 1222 | V15: 1068 | W15: 1036 | X15: 1130 | Y15: 1054 | Z15: 1056 | AA15: 1147 | AB15: 912 | AC15: 851 | AD15: 955 | AE15: 1080 | AF15: 1265 | AG15: 1105 | AH15: 1285 | AI15: 1106 | AJ15: 3524100750676EF | AK15: 38 | AL15: 160 | AM15: 219 | AN15: 304 | AO15: 318 | AP15: 384 | AQ15: 300 | AR15: 343 | AS15: 330 | AT15: 289 | AU15: 381 | AV15: 287 | AW15: 374 | AX15: 291 | AY15: 232 | AZ15: 272 | BA15: 353 | BB15: 283 | BC15: 277 | BD15: 255 | BE15: 327 | BF15: 323 | BG15: 301 | BH15: 277 | BI15: 231 | BJ15: 265 | BK15: 198 | BL15: 193 | BM15: 260 | BN15: 256 | BO15: 315 | BP15: 296 | BQ15: 334 | BR15: 200 | BS15: =VLOOKUP($AJ15,DATA!$A$2:$BA$80,1+BS$2,FALSE) -> 0 | BT15: =VLOOKUP($AJ15,DATA!$A$2:$BA$80,1+BT$2,FALSE) -> 0 | BU15: =VLOOKUP($AJ15,DATA!$A$2:$BA$80,1+BU$2,FALSE) -> 0 | BV15: =VLOOKUP($AJ15,DATA!$A$2:$BA$80,1+BV$2,FALSE) -> 0 | BW15: =VLOOKUP($AJ15,DATA!$A$2:$BA$80,1+BW$2,FALSE) -> 0 | BX15: =VLOOKUP($AJ15,DATA!$A$2:$BA$80,1+BX$2,FALSE) -> 0 | BY15: =VLOOKUP($AJ15,DATA!$A$2:$BA$80,1+BY$2,FALSE) -> 971 | BZ15: =VLOOKUP($AJ15,DATA!$A$2:$BA$80,1+BZ$2,FALSE) -> 944 | ... DR15: =VLOOKUP($AJ15,DATA!$A$2:$BA$80,1+DR$2,FALSE) -> 0 | DS15: =AVERAGE(AK15:BR15) -> 278.41176
B16: 3524100750675EF | C16: 1428 | D16: 2645 | E16: 2359 | F16: 2095 | G16: 2900 | H16: 2517 | I16: 2388 | J16: 2610 | K16: 2889 | L16: 2501 | M16: 2726 | N16: 2334 | O16: 3122 | P16: 1189 | Q16: 1807 | R16: 2385 | S16: 2556 | T16: 2425 | U16: 2294 | V16: 2118 | W16: 2364 | X16: 2319 | Y16: 2541 | Z16: 2003 | AA16: 2214 | AB16: 2135 | AC16: 2315 | AD16: 1980 | AE16: 2213 | AF16: 2032 | AG16: 2736 | AH16: 2899 | AI16: 2140 | AJ16: 3524100750719EF | AK16: 52 | AL16: 351 | AM16: 708 | AN16: 941 | AO16: 1018 | AP16: 1111 | AQ16: 924 | AR16: 1057 | AS16: 1175 | AT16: 976 | AU16: 972 | AV16: 1020 | AW16: 925 | AX16: 740 | AY16: 667 | AZ16: 779 | BA16: 992 | BB16: 931 | BC16: 918 | BD16: 890 | BE16: 757 | BF16: 833 | BG16: 844 | BH16: 900 | BI16: 902 | BJ16: 647 | BK16: 651 | BL16: 549 | BM16: 789 | BN16: 712 | BO16: 820 | BP16: 809 | BQ16: 887 | BR16: 580 | BS16: =VLOOKUP($AJ16,DATA!$A$2:$BA$80,1+BS$2,FALSE) -> 0 | BT16: =VLOOKUP($AJ16,DATA!$A$2:$BA$80,1+BT$2,FALSE) -> 0 | BU16: =VLOOKUP($AJ16,DATA!$A$2:$BA$80,1+BU$2,FALSE) -> 0 | BV16: =VLOOKUP($AJ16,DATA!$A$2:$BA$80,1+BV$2,FALSE) -> 0 | BW16: =VLOOKUP($AJ16,DATA!$A$2:$BA$80,1+BW$2,FALSE) -> 0 | BX16: =VLOOKUP($AJ16,DATA!$A$2:$BA$80,1+BX$2,FALSE) -> 0 | BY16: =VLOOKUP($AJ16,DATA!$A$2:$BA$80,1+BY$2,FALSE) -> 0 | BZ16: =VLOOKUP($AJ16,DATA!$A$2:$BA$80,1+BZ$2,FALSE) -> 0 | ... DR16: =VLOOKUP($AJ16,DATA!$A$2:$BA$80,1+DR$2,FALSE) -> 0 | DS16: =AVERAGE(AK16:BR16) -> 818.44118
B17: 3524100750676EF | C17: 976 | D17: 1647 | E17: 1519 | F17: 1420 | G17: 1639 | H17: 1554 | I17: 1467 | J17: 1803 | K17: 1913 | L17: 1387 | M17: 1682 | N17: 1424 | O17: 1611 | P17: 764 | Q17: 1273 | R17: 1710 | S17: 1843 | T17: 1667 | U17: 1583 | V17: 1551 | W17: 1724 | X17: 1704 | Y17: 1703 | Z17: 1717 | AA17: 1909 | AB17: 1779 | AC17: 2077 | AD17: 1832 | AE17: 1668 | AF17: 1733 | AG17: 2090 | AH17: 2606 | AI17: 2216 | AJ17: 3524100750876EF | AK17: 54 | AL17: 949 | AM17: 1258 | AN17: 1367 | AO17: 1653 | AP17: 1821 | AQ17: 1607 | AR17: 2016 | AS17: 1827 | AT17: 1456 | AU17: 1520 | AV17: 1576 | AW17: 1775 | AX17: 1347 | AY17: 1156 | AZ17: 1636 | BA17: 1929 | BB17: 1450 | BC17: 1545 | BD17: 1410 | BE17: 1423 | BF17: 1551 | BG17: 1370 | BH17: 1180 | BI17: 1508 | BJ17: 1584 | BK17: 1151 | BL17: 1232 | BM17: 1259 | BN17: 1429 | BO17: 1504 | BP17: 1476 | BQ17: 1610 | BR17: 1251 | BS17: =VLOOKUP($AJ17,DATA!$A$2:$BA$80,1+BS$2,FALSE) -> 0 | BT17: =VLOOKUP($AJ17,DATA!$A$2:$BA$80,1+BT$2,FALSE) -> 0 | BU17: =VLOOKUP($AJ17,DATA!$A$2:$BA$80,1+BU$2,FALSE) -> 0 | BV17: =VLOOKUP($AJ17,DATA!$A$2:$BA$80,1+BV$2,FALSE) -> 0 | BW17: =VLOOKUP($AJ17,DATA!$A$2:$BA$80,1+BW$2,FALSE) -> 0 | BX17: =VLOOKUP($AJ17,DATA!$A$2:$BA$80,1+BX$2,FALSE) -> 0 | BY17: =VLOOKUP($AJ17,DATA!$A$2:$BA$80,1+BY$2,FALSE) -> 332 | BZ17: =VLOOKUP($AJ17,DATA!$A$2:$BA$80,1+BZ$2,FALSE) -> 376 | ... DR17: =VLOOKUP($AJ17,DATA!$A$2:$BA$80,1+DR$2,FALSE) -> 0 | DS17: =AVERAGE(AK17:BR17) -> 1437.6471
AJ18: 1.6 CLEAR | AK18: =SUM(AK8:AK17) -> 293 | AL18: =SUM(AL8:AL17) -> 2656 | AM18: =SUM(AM8:AM17) -> 3521 | AN18: =SUM(AN8:AN17) -> 4135 | AO18: =SUM(AO8:AO17) -> 4875 | AP18: =SUM(AP8:AP17) -> 5433 | AQ18: =SUM(AQ8:AQ17) -> 4759 | AR18: =SUM(AR8:AR17) -> 5499 | ... DP18: =SUM(DP8:DP17) -> 0 | DS18: =AVERAGE(AK18:BR18) -> 4172.6471
AJ19: 3524942650667EF | AK19: 21 | AL19: 89 | AM19: 85 | AN19: 109 | AO19: 129 | AP19: 229 | AQ19: 296 | AR19: 291 | AS19: 239 | AT19: 329 | AU19: 368 | AV19: 155 | AW19: 182 | AX19: 166 | AY19: 174 | AZ19: 169 | BA19: 180 | BB19: 182 | BC19: 182 | BD19: 206 | BE19: 190 | BF19: 206 | BG19: 251 | BH19: 235 | BI19: 218 | BJ19: 241 | BK19: 190 | BL19: 178 | BM19: 215 | BN19: 266 | BO19: 248 | BP19: 204 | BQ19: 293 | BR19: 127 | BS19: =VLOOKUP($AJ19,DATA!$A$2:$BA$80,1+BS$2,FALSE) -> 0 | BT19: =VLOOKUP($AJ19,DATA!$A$2:$BA$80,1+BT$2,FALSE) -> 0 | BU19: =VLOOKUP($AJ19,DATA!$A$2:$BA$80,1+BU$2,FALSE) -> 0 | BV19: =VLOOKUP($AJ19,DATA!$A$2:$BA$80,1+BV$2,FALSE) -> 0 | BW19: =VLOOKUP($AJ19,DATA!$A$2:$BA$80,1+BW$2,FALSE) -> 0 | BX19: =VLOOKUP($AJ19,DATA!$A$2:$BA$80,1+BX$2,FALSE) -> 0 | BY19: =VLOOKUP($AJ19,DATA!$A$2:$BA$80,1+BY$2,FALSE) -> 147 | BZ19: =VLOOKUP($AJ19,DATA!$A$2:$BA$80,1+BZ$2,FALSE) -> 159 | ... DR19: =VLOOKUP($AJ19,DATA!$A$2:$BA$80,1+DR$2,FALSE) -> 0 | DS19: =AVERAGE(AK19:BR19) -> 201.26471
AJ20: 3524942650876EF | AK20: 75 | AL20: 85 | AM20: 96 | AN20: 103 | AO20: 971 | AP20: 252 | AQ20: 197 | AR20: 297 | AS20: 293 | AT20: 324 | AU20: 387 | AV20: 387 | AW20: 115 | AX20: 103 | AY20: 68 | AZ20: 137 | BA20: 157 | BB20: 174 | BC20: 167 | BD20: 152 | BE20: 167 | BF20: 166 | BG20: 210 | BH20: 125 | BI20: 194 | BJ20: 173 | BK20: 162 | BL20: 150 | BM20: 172 | BN20: 185 | BO20: 188 | BP20: 211 | BQ20: 232 | BR20: 92 | BS20: =VLOOKUP($AJ20,DATA!$A$2:$BA$80,1+BS$2,FALSE) -> 0 | BT20: =VLOOKUP($AJ20,DATA!$A$2:$BA$80,1+BT$2,FALSE) -> 0 | BU20: =VLOOKUP($AJ20,DATA!$A$2:$BA$80,1+BU$2,FALSE) -> 0 | BV20: =VLOOKUP($AJ20,DATA!$A$2:$BA$80,1+BV$2,FALSE) -> 0 | BW20: =VLOOKUP($AJ20,DATA!$A$2:$BA$80,1+BW$2,FALSE) -> 0 | BX20: =VLOOKUP($AJ20,DATA!$A$2:$BA$80,1+BX$2,FALSE) -> 0 | BY20: =VLOOKUP($AJ20,DATA!$A$2:$BA$80,1+BY$2,FALSE) -> 89 | BZ20: =VLOOKUP($AJ20,DATA!$A$2:$BA$80,1+BZ$2,FALSE) -> 237 | ... DR20: =VLOOKUP($AJ20,DATA!$A$2:$BA$80,1+DR$2,FALSE) -> 0 | DS20: =AVERAGE(AK20:BR20) -> 204.91176
AJ21: 3524942650640EF | BS21: =VLOOKUP($AJ21,DATA!$A$2:$BA$80,1+BS$2,FALSE) -> 0 | BT21: =VLOOKUP($AJ21,DATA!$A$2:$BA$80,1+BT$2,FALSE) -> 0 | BU21: =VLOOKUP($AJ21,DATA!$A$2:$BA$80,1+BU$2,FALSE) -> 0 | BV21: =VLOOKUP($AJ21,DATA!$A$2:$BA$80,1+BV$2,FALSE) -> 0 | BW21: =VLOOKUP($AJ21,DATA!$A$2:$BA$80,1+BW$2,FALSE) -> 0 | BX21: =VLOOKUP($AJ21,DATA!$A$2:$BA$80,1+BX$2,FALSE) -> 0 | BY21: =VLOOKUP($AJ21,DATA!$A$2:$BA$80,1+BY$2,FALSE) -> 0 | BZ21: =VLOOKUP($AJ21,DATA!$A$2:$BA$80,1+BZ$2,FALSE) -> 0 | ... DR21: =VLOOKUP($AJ21,DATA!$A$2:$BA$80,1+DR$2,FALSE) -> 0 | DS21: =AVERAGE(AK21:BR21) -> #DIV/0!
AJ22: 3524942750667EF | BS22: =VLOOKUP($AJ22,DATA!$A$2:$BA$80,1+BS$2,FALSE) -> 0 | BT22: =VLOOKUP($AJ22,DATA!$A$2:$BA$80,1+BT$2,FALSE) -> 0 | BU22: =VLOOKUP($AJ22,DATA!$A$2:$BA$80,1+BU$2,FALSE) -> 0 | BV22: =VLOOKUP($AJ22,DATA!$A$2:$BA$80,1+BV$2,FALSE) -> 0 | BW22: =VLOOKUP($AJ22,DATA!$A$2:$BA$80,1+BW$2,FALSE) -> 0 | BX22: =VLOOKUP($AJ22,DATA!$A$2:$BA$80,1+BX$2,FALSE) -> 0 | BY22: =VLOOKUP($AJ22,DATA!$A$2:$BA$80,1+BY$2,FALSE) -> 251 | BZ22: =VLOOKUP($AJ22,DATA!$A$2:$BA$80,1+BZ$2,FALSE) -> 271 | ... DR22: =VLOOKUP($AJ22,DATA!$A$2:$BA$80,1+DR$2,FALSE) -> 0 | DS22: =AVERAGE(BS22:BV22) -> 0
AJ23: 3524942750876EF | AK23: 50 | AL23: 176 | AM23: 138 | AN23: 203 | AO23: 232 | AP23: 337 | AQ23: 409 | AR23: 463 | AS23: 443 | AT23: 574 | AU23: 519 | AV23: 295 | AW23: 301 | AX23: 228 | AY23: 207 | AZ23: 314 | BA23: 342 | BB23: 276 | BC23: 333 | BD23: 297 | BE23: 276 | BF23: 328 | BG23: 374 | BH23: 312 | BI23: 424 | BJ23: 367 | BK23: 291 | BL23: 251 | BM23: 363 | BN23: 399 | BO23: 419 | BP23: 460 | BQ23: 501 | BR23: 225 | BS23: =VLOOKUP($AJ23,DATA!$A$2:$BA$80,1+BS$2,FALSE) -> 0 | BT23: =VLOOKUP($AJ23,DATA!$A$2:$BA$80,1+BT$2,FALSE) -> 0 | BU23: =VLOOKUP($AJ23,DATA!$A$2:$BA$80,1+BU$2,FALSE) -> 0 | BV23: =VLOOKUP($AJ23,DATA!$A$2:$BA$80,1+BV$2,FALSE) -> 0 | BW23: =VLOOKUP($AJ23,DATA!$A$2:$BA$80,1+BW$2,FALSE) -> 0 | BX23: =VLOOKUP($AJ23,DATA!$A$2:$BA$80,1+BX$2,FALSE) -> 0 | BY23: =VLOOKUP($AJ23,DATA!$A$2:$BA$80,1+BY$2,FALSE) -> 87 | BZ23: =VLOOKUP($AJ23,DATA!$A$2:$BA$80,1+BZ$2,FALSE) -> 173 | ... DR23: =VLOOKUP($AJ23,DATA!$A$2:$BA$80,1+DR$2,FALSE) -> 0 | DS23: =AVERAGE(BS23:BV23) -> 0
B24: 3555100750675EF | C24: 63 | D24: 65 | E24: 66 | F24: 55 | G24: 96 | H24: 98 | I24: 59 | J24: 79 | K24: 94 | L24: 55 | M24: 74 | N24: 73 | O24: 58 | P24: 35 | Q24: 34 | R24: 70 | S24: 90 | T24: 68 | U24: 66 | V24: 66 | W24: 66 | X24: 86 | Y24: 59 | Z24: 60 | AA24: 62 | AB24: 66 | AC24: 43 | AD24: 67 | AE24: 69 | AF24: 44 | AG24: 76 | AH24: 84 | AI24: 59 | AJ24: 3524942750640EF | AK24: 42 | AL24: 195 | AM24: 160 | AN24: 151 | AO24: 1548 | AP24: 406 | AQ24: 420 | AR24: 405 | AS24: 492 | AT24: 523 | AU24: 512 | AV24: 408 | AW24: 298 | AX24: 240 | AY24: 194 | AZ24: 236 | BA24: 322 | BB24: 313 | BC24: 247 | BD24: 240 | BE24: 269 | BF24: 263 | BG24: 329 | BH24: 286 | BI24: 329 | BJ24: 318 | BK24: 272 | BL24: 248 | BM24: 259 | BN24: 295 | BO24: 327 | BP24: 317 | BQ24: 377 | BR24: 227 | BS24: =VLOOKUP($AJ24,DATA!$A$2:$BA$80,1+BS$2,FALSE) -> 0 | BT24: =VLOOKUP($AJ24,DATA!$A$2:$BA$80,1+BT$2,FALSE) -> 0 | BU24: =VLOOKUP($AJ24,DATA!$A$2:$BA$80,1+BU$2,FALSE) -> 0 | BV24: =VLOOKUP($AJ24,DATA!$A$2:$BA$80,1+BV$2,FALSE) -> 0 | BW24: =VLOOKUP($AJ24,DATA!$A$2:$BA$80,1+BW$2,FALSE) -> 0 | BX24: =VLOOKUP($AJ24,DATA!$A$2:$BA$80,1+BX$2,FALSE) -> 0 | BY24: =VLOOKUP($AJ24,DATA!$A$2:$BA$80,1+BY$2,FALSE) -> 0 | BZ24: =VLOOKUP($AJ24,DATA!$A$2:$BA$80,1+BZ$2,FALSE) -> 0 | ... DR24: =VLOOKUP($AJ24,DATA!$A$2:$BA$80,1+DR$2,FALSE) -> 0 | DS24: =AVERAGE(BS24:BV24) -> 0
A25: Total SV ORG. 1.6 - F | C25: 5266 | D25: 8856 | E25: 8249 | F25: 7793 | G25: 9482 | H25: 8634 | I25: 7799 | J25: 8684 | K25: 8698 | L25: 7044 | M25: 8216 | N25: 7598 | O25: 8670 | P25: 3962 | Q25: 6040 | R25: 8168 | S25: 9160 | T25: 8710 | U25: 8318 | V25: 7781 | W25: 8384 | X25: 8234 | Y25: 8472 | Z25: 8192 | AA25: 7997 | AB25: 7472 | AC25: 7969 | AD25: 8095 | AE25: 7836 | AF25: 8103 | AG25: 9172 | AH25: 10509 | AI25: 8181 | AJ25: 1.6 BCT OXA | AK25: =SUM(AK19:AK24) -> 188 | AL25: =SUM(AL19:AL24) -> 545 | AM25: =SUM(AM19:AM24) -> 479 | AN25: =SUM(AN19:AN24) -> 566 | AO25: =SUM(AO19:AO24) -> 2880 | AP25: =SUM(AP19:AP24) -> 1224 | AQ25: =SUM(AQ19:AQ24) -> 1322 | AR25: =SUM(AR19:AR24) -> 1456 | ... DP25: =SUM(DP19:DP24) -> 0 | DS25: =AVERAGE(BS25:BV25) -> 0
A26: SV ORG. 1.67 - F | B26: 3555100650237EF | C26: 28 | D26: 60 | E26: 42 | F26: 23 | G26: 37 | H26: 43 | I26: 44 | J26: 34 | K26: 43 | L26: 17 | M26: 46 | N26: 16 | O26: 25 | P26: 24 | Q26: 36 | R26: 44 | S26: 40 | T26: 29 | U26: 22 | V26: 36 | W26: 24 | X26: 36 | Y26: 40 | Z26: 67 | AA26: 8 | AB26: 15 | AC26: 11 | AD26: 25 | AE26: 24 | AF26: 12 | AG26: 29 | AH26: 29 | AI26: 24 | AJ26: 3561100650237EF | AK26: 0 | AL26: 0 | AM26: 0 | AN26: 0 | AO26: 2 | AP26: 2 | AQ26: 0 | AR26: 2 | AS26: 7 | AT26: 1 | AU26: 2 | AV26: 0 | AW26: 1 | AX26: 2 | AY26: 6 | AZ26: 1 | BA26: 9 | BB26: 2 | BC26: 4 | BD26: 0 | BE26: 1 | BF26: 0 | BG26: 0 | BH26: 0 | BI26: 0 | BJ26: 0 | BK26: 0 | BL26: 0 | BM26: 0 | BN26: 0 | BO26: 0 | BP26: 0 | BQ26: 0 | BR26: 0 | BS26: =VLOOKUP(AJ26,DATA!$A$2:$BA$51,1+BS$2,FALSE) -> 0 | DS26: =AVERAGE(BS26:BV26) -> 0
B27: 3555100650675EF | C27: 69 | D27: 103 | E27: 120 | F27: 105 | G27: 88 | H27: 113 | I27: 118 | J27: 133 | K27: 120 | L27: 84 | M27: 87 | N27: 105 | O27: 65 | P27: 47 | Q27: 56 | R27: 104 | S27: 135 | T27: 119 | U27: 134 | V27: 89 | W27: 104 | X27: 131 | Y27: 74 | Z27: 168 | AA27: 51 | AB27: 40 | AC27: 77 | AD27: 72 | AE27: 142 | AF27: 79 | AG27: 76 | AH27: 136 | AI27: 62 | AJ27: 3561100650640EF | AK27: 0 | AL27: 0 | AM27: 0 | AN27: 0 | AO27: 3 | AP27: 2 | AQ27: 0 | AR27: 0 | AS27: 0 | AT27: 1 | AU27: 0 | AV27: 0 | AW27: 0 | AX27: 0 | AY27: 0 | AZ27: 2 | BA27: 0 | BB27: 1 | BC27: 0 | BD27: 2 | BE27: 0 | BF27: 1 | BG27: 1 | BH27: 0 | BI27: 1 | BJ27: 0 | BK27: 0 | BL27: 0 | BM27: 0 | BN27: 0 | BO27: 0 | BP27: 0 | BQ27: 0 | BR27: 0 | BS27: =VLOOKUP(AJ27,DATA!$A$2:$BA$51,1+BS$2,FALSE) -> 0 | DS27: =AVERAGE(BS27:BV27) -> 0
B28: 3555100750237EF | C28: 26 | D28: 27 | E28: 24 | F28: 25 | G28: 23 | H28: 21 | I28: 27 | J28: 21 | K28: 41 | L28: 29 | M28: 27 | N28: 33 | O28: 30 | P28: 24 | Q28: 19 | R28: 32 | S28: 17 | T28: 19 | U28: 18 | V28: 25 | W28: 40 | X28: 18 | Y28: 25 | Z28: 25 | AA28: 24 | AB28: 19 | AC28: 6 | AD28: 11 | AE28: 22 | AF28: 16 | AG28: 28 | AH28: 35 | AI28: 15 | AJ28: 3561100650876EF | AK28: 0 | AL28: 0 | AM28: 0 | AN28: 1 | AO28: 2 | AP28: 2 | AQ28: 0 | AR28: 2 | AS28: 2 | AT28: 1 | AU28: 6 | AV28: 2 | AW28: 3 | AX28: 1 | AY28: 1 | AZ28: 4 | BA28: 0 | BB28: 1 | BC28: 2 | BD28: 3 | BE28: 3 | BF28: 3 | BG28: 1 | BH28: 0 | BI28: 0 | BJ28: 0 | BK28: 0 | BL28: 0 | BM28: 0 | BN28: 0 | BO28: 0 | BP28: 0 | BQ28: 0 | BR28: 0 | BS28: =VLOOKUP(AJ28,DATA!$A$2:$BA$51,1+BS$2,FALSE) -> 0 | DS28: =AVERAGE(BS28:BV28) -> 0
AJ29: 3561100700237EF | AK29: 0 | AL29: 0 | AM29: 0 | AN29: 0 | AO29: 0 | AP29: 2 | AQ29: 0 | AR29: 1 | AS29: 1 | AT29: 2 | AU29: 1 | AV29: 0 | AW29: 0 | AX29: 1 | AY29: 0 | AZ29: 0 | BA29: 0 | BB29: 4 | BC29: 1 | BD29: 1 | BE29: 2 | BF29: 0 | BG29: 2 | BH29: 0 | BI29: 0 | BJ29: 0 | BK29: 0 | BL29: 0 | BM29: 0 | BN29: 0 | BO29: 0 | BP29: 0 | BQ29: 0 | BR29: 0 | BS29: =VLOOKUP(AJ29,DATA!$A$2:$BA$51,1+BS$2,FALSE) -> 0 | DS29: =AVERAGE(BS29:BV29) -> 0
B30: 3555100800237EF | C30: 59 | D30: 116 | E30: 88 | F30: 97 | G30: 116 | H30: 93 | I30: 98 | J30: 129 | K30: 107 | L30: 115 | M30: 127 | N30: 115 | O30: 61 | P30: 78 | Q30: 57 | R30: 104 | S30: 93 | T30: 97 | U30: 102 | V30: 88 | W30: 87 | X30: 95 | Y30: 96 | Z30: 106 | AA30: 81 | AB30: 85 | AC30: 75 | AD30: 81 | AE30: 74 | AF30: 78 | AG30: 104 | AH30: 111 | AI30: 128 | AJ30: 3561100700640EF | AK30: 0 | AL30: 0 | AM30: 0 | AN30: 2 | AO30: 6 | AP30: 11 | AQ30: 16 | AR30: 4 | AS30: 8 | AT30: 5 | AU30: 8 | AV30: 13 | AW30: 13 | AX30: 10 | AY30: 10 | AZ30: 17 | BA30: 3 | BB30: 10 | BC30: 20 | BD30: 8 | BE30: 10 | BF30: 11 | BG30: 8 | BH30: 0 | BI30: 0 | BJ30: 0 | BK30: 0 | BL30: 0 | BM30: 0 | BN30: 0 | BO30: 0 | BP30: 0 | BQ30: 0 | BR30: 0 | BS30: =VLOOKUP(AJ30,DATA!$A$2:$BA$51,1+BS$2,FALSE) -> 0 | DS30: =AVERAGE(BS30:BV30) -> 0
B31: 3555100800675EF | C31: 285 | D31: 339 | E31: 365 | F31: 272 | G31: 420 | H31: 384 | I31: 354 | J31: 382 | K31: 393 | L31: 350 | M31: 399 | N31: 358 | O31: 341 | P31: 230 | Q31: 240 | R31: 319 | S31: 378 | T31: 339 | U31: 346 | V31: 317 | W31: 299 | X31: 320 | Y31: 309 | Z31: 343 | AA31: 304 | AB31: 284 | AC31: 313 | AD31: 294 | AE31: 380 | AF31: 258 | AG31: 381 | AH31: 535 | AI31: 389 | AJ31: 3561100750237EF | AK31: 0 | AL31: 0 | AM31: 0 | AN31: 7 | AO31: 16 | AP31: 17 | AQ31: 22 | AR31: 14 | AS31: 28 | AT31: 12 | AU31: 22 | AV31: 16 | AW31: 20 | AX31: 15 | AY31: 9 | AZ31: 19 | BA31: 19 | BB31: 24 | BC31: 27 | BD31: 17 | BE31: 16 | BF31: 16 | BG31: 10 | BH31: 0 | BI31: 5 | BJ31: 0 | BK31: 0 | BL31: 0 | BM31: 0 | BN31: 0 | BO31: 0 | BP31: 0 | BQ31: 0 | BR31: 0 | BS31: =VLOOKUP(AJ31,DATA!$A$2:$BA$51,1+BS$2,FALSE) -> 0 | DS31: =AVERAGE(BS31:BV31) -> 0
B32: 3561100650237EF | C32: 20 | D32: 59 | E32: 17 | F32: 39 | G32: 32 | H32: 51 | I32: 27 | J32: 44 | K32: 35 | L32: 32 | M32: 42 | N32: 57 | O32: 37 | P32: 20 | Q32: 40 | R32: 30 | S32: 39 | T32: 35 | U32: 35 | V32: 34 | W32: 55 | X32: 55 | Y32: 47 | Z32: 44 | AA32: 42 | AB32: 48 | AC32: 46 | AD32: 39 | AE32: 49 | AF32: 42 | AG32: 57 | AH32: 58 | AI32: 37 | AJ32: 3561100750640EF | AK32: 1 | AL32: 6 | AM32: 15 | AN32: 23 | AO32: 10 | AP32: 15 | AQ32: 27 | AR32: 14 | AS32: 21 | AT32: 17 | AU32: 32 | AV32: 26 | AW32: 19 | AX32: 10 | AY32: 15 | AZ32: 13 | BA32: 33 | BB32: 26 | BC32: 27 | BD32: 18 | BE32: 8 | BF32: 35 | BG32: 27 | BH32: 36 | BI32: 26 | BJ32: 22 | BK32: 11 | BL32: 17 | BM32: 30 | BN32: 17 | BO32: 19 | BP32: 27 | BQ32: 28 | BR32: 23 | BS32: =VLOOKUP(AJ32,DATA!$A$2:$BA$51,1+BS$2,FALSE) -> 0 | DS32: =AVERAGE(BS32:BV32) -> 0
B33: 3561100650675EF | C33: 51 | D33: 96 | E33: 73 | F33: 73 | G33: 117 | H33: 63 | I33: 83 | J33: 106 | K33: 97 | L33: 77 | M33: 70 | N33: 55 | O33: 82 | P33: 45 | Q33: 53 | R33: 52 | S33: 109 | T33: 83 | U33: 93 | V33: 95 | W33: 63 | X33: 65 | Y33: 99 | Z33: 86 | AA33: 76 | AB33: 74 | AC33: 79 | AD33: 75 | AE33: 98 | AF33: 60 | AG33: 145 | AH33: 92 | AI33: 86 | AJ33: 3561100750876EF | AK33: 3 | AL33: 8 | AM33: 12 | AN33: 30 | AO33: 16 | AP33: 47 | AQ33: 39 | AR33: 53 | AS33: 47 | AT33: 46 | AU33: 50 | AV33: 39 | AW33: 27 | AX33: 18 | AY33: 36 | AZ33: 43 | BA33: 67 | BB33: 53 | BC33: 29 | BD33: 33 | BE33: 48 | BF33: 47 | BG33: 41 | BH33: 46 | BI33: 34 | BJ33: 38 | BK33: 31 | BL33: 39 | BM33: 59 | BN33: 35 | BO33: 33 | BP33: 45 | BQ33: 39 | BR33: 21 | BS33: =VLOOKUP(AJ33,DATA!$A$2:$BA$51,1+BS$2,FALSE) -> 0 | DS33: =AVERAGE(BS33:BV33) -> 0
B34: 3561100700237EF | C34: 39 | D34: 31 | E34: 31 | F34: 17 | G34: 33 | H34: 24 | I34: 38 | J34: 33 | K34: 22 | L34: 40 | M34: 27 | N34: 52 | O34: 41 | P34: 23 | Q34: 33 | R34: 59 | S34: 64 | T34: 53 | U34: 46 | V34: 53 | W34: 49 | X34: 51 | Y34: 58 | Z34: 46 | AA34: 57 | AB34: 70 | AC34: 38 | AD34: 51 | AE34: 47 | AF34: 57 | AG34: 57 | AH34: 61 | AI34: 45 | AJ34: 1.67 | AK34: =SUM(AK26:AK33) -> 4 | AL34: =SUM(AL26:AL33) -> 14 | AM34: =SUM(AM26:AM33) -> 27 | AN34: =SUM(AN26:AN33) -> 63 | AO34: =SUM(AO26:AO33) -> 55 | AP34: =SUM(AP26:AP33) -> 98 | AQ34: =SUM(AQ26:AQ33) -> 104 | AR34: =SUM(AR26:AR33) -> 90 | ... DP34: =SUM(DP26:DP33) -> 0 | DS34: =AVERAGE(BS34:BV34) -> 0
B35: 3561100700675EF | C35: 115 | D35: 104 | E35: 95 | F35: 63 | G35: 122 | H35: 85 | I35: 82 | J35: 125 | K35: 99 | L35: 82 | M35: 103 | N35: 86 | O35: 71 | P35: 66 | Q35: 73 | R35: 106 | S35: 90 | T35: 69 | U35: 91 | V35: 94 | W35: 75 | X35: 73 | Y35: 114 | Z35: 80 | AA35: 76 | AB35: 94 | AC35: 108 | AD35: 72 | AE35: 83 | AF35: 76 | AG35: 88 | AH35: 113 | AI35: 112 | AJ35: 3547100550676EF | AK35: 48 | AL35: 38 | AM35: 44 | AN35: 61 | AO35: 60 | AP35: 107 | AQ35: 35 | AR35: 67 | AS35: 71 | AT35: 31 | AU35: 29 | AV35: 64 | AW35: 45 | AX35: 42 | AY35: 43 | AZ35: 53 | BA35: 58 | BB35: 61 | BC35: 50 | BD35: 61 | BE35: 53 | BF35: 47 | BG35: 30 | BH35: 57 | BI35: 57 | BJ35: 39 | BK35: 53 | BL35: 26 | BM35: 37 | BN35: 57 | BO35: 51 | BP35: 37 | BQ35: 48 | BR35: 28 | BS35: =VLOOKUP(AJ35,DATA!$A$2:$BA$51,1+BS$2,FALSE) -> 0 | DS35: =AVERAGE(BS35:BV35) -> 0
B36: 3561100750237EF | C36: 188 | D36: 235 | E36: 356 | F36: 208 | G36: 281 | H36: 322 | I36: 251 | J36: 305 | K36: 358 | L36: 339 | M36: 357 | N36: 371 | O36: 360 | P36: 209 | Q36: 296 | R36: 396 | S36: 503 | T36: 428 | U36: 354 | V36: 342 | W36: 419 | X36: 392 | Y36: 354 | Z36: 400 | AA36: 359 | AB36: 427 | AC36: 371 | AD36: 391 | AE36: 461 | AF36: 376 | AG36: 434 | AH36: 432 | AI36: 430 | AJ36: 3547100600676EF | AK36: 30 | AL36: 55 | AM36: 49 | AN36: 55 | AO36: 84 | AP36: 112 | AQ36: 76 | AR36: 62 | AS36: 72 | AT36: 62 | AU36: 50 | AV36: 85 | AW36: 29 | AX36: 29 | AY36: 38 | AZ36: 37 | BA36: 87 | BB36: 60 | BC36: 61 | BD36: 39 | BE36: 63 | BF36: 65 | BG36: 54 | BH36: 70 | BI36: 53 | BJ36: 63 | BK36: 39 | BL36: 38 | BM36: 51 | BN36: 44 | BO36: 42 | BP36: 44 | BQ36: 41 | BR36: 20 | BS36: =VLOOKUP(AJ36,DATA!$A$2:$BA$51,1+BS$2,FALSE) -> 0 | DS36: =AVERAGE(BS36:BV36) -> 0
B37: 3561100750675EF | C37: 758 | D37: 1119 | E37: 912 | F37: 859 | G37: 1023 | H37: 888 | I37: 972 | J37: 1121 | K37: 1106 | L37: 943 | M37: 1063 | N37: 959 | O37: 806 | P37: 693 | Q37: 840 | R37: 952 | S37: 1142 | T37: 1007 | U37: 955 | V37: 862 | W37: 805 | X37: 817 | Y37: 885 | Z37: 910 | AA37: 740 | AB37: 832 | AC37: 1100 | AD37: 796 | AE37: 935 | AF37: 813 | AG37: 966 | AH37: 989 | AI37: 900 | AJ37: 3547100650237EF | AK37: 90 | AL37: 94 | AM37: 76 | AN37: 91 | AO37: 93 | AP37: 154 | AQ37: 113 | AR37: 80 | AS37: 128 | AT37: 102 | AU37: 35 | AV37: 92 | AW37: 85 | AX37: 95 | AY37: 51 | AZ37: 56 | BA37: 71 | BB37: 98 | BC37: 89 | BD37: 58 | BE37: 202 | BF37: 44 | BG37: 77 | BH37: 60 | BI37: 43 | BJ37: 69 | BK37: 55 | BL37: 110 | BM37: 16 | BN37: 39 | BO37: 64 | BP37: 54 | BQ37: 52 | BR37: 82 | BS37: =VLOOKUP(AJ37,DATA!$A$2:$BA$51,1+BS$2,FALSE) -> 0 | DS37: =AVERAGE(BS37:BV37) -> 0
C38: 2035 | D38: 2675 | E38: 2497 | F38: 2153 | G38: 2800 | H38: 2496 | I38: 2388 | J38: 2717 | K38: 2581 | L38: 2241 | M38: 2508 | N38: 2361 | O38: 2044 | P38: 1541 | Q38: 1830 | R38: 2324 | S38: 2756 | T38: 2402 | U38: 2311 | V38: 2152 | W38: 2162 | X38: 2139 | Y38: 2160 | Z38: 2335 | AA38: 1880 | AB38: 2054 | AC38: 2267 | AD38: 1974 | AE38: 2384 | AF38: 1911 | AG38: 2441 | AH38: 2675 | AI38: 2287 | AJ38: 354710065060NEF | AK38: 70 | AL38: 115 | AM38: 99 | AN38: 164 | AO38: 173 | AP38: 238 | AQ38: 197 | AR38: 213 | AS38: 149 | AT38: 158 | AU38: 99 | AV38: 142 | AW38: 125 | AX38: 79 | AY38: 90 | AZ38: 119 | BA38: 132 | BB38: 132 | BC38: 181 | BD38: 107 | BE38: 150 | BF38: 132 | BG38: 142 | BH38: 117 | BI38: 149 | BJ38: 110 | BK38: 92 | BL38: 76 | BM38: 126 | BN38: 122 | BO38: 126 | BP38: 130 | BQ38: 122 | BR38: 74 | BS38: =VLOOKUP(AJ38,DATA!$A$2:$BA$51,1+BS$2,FALSE) -> 0 | DS38: =AVERAGE(BS38:BV38) -> 0
A39: Total SV ORG. 1.67 - F | AJ39: 3547100650676EF | AK39: 13 | AL39: 7 | AM39: 13 | AN39: 9 | AO39: 11 | AP39: 9 | AQ39: 10 | AR39: 13 | AS39: 11 | AT39: 8 | AU39: 13 | AV39: 17 | AW39: 13 | AX39: 6 | AY39: 4 | AZ39: 15 | BA39: 13 | BB39: 11 | BC39: 12 | BD39: 17 | BE39: 10 | BF39: 13 | BG39: 12 | BH39: 2 | BI39: 17 | BJ39: 5 | BK39: 7 | BL39: 5 | BM39: 9 | BN39: 13 | BO39: 7 | BP39: 11 | BQ39: 8 | BR39: 5 | BS39: =VLOOKUP(AJ39,DATA!$A$2:$BA$51,1+BS$2,FALSE) -> 0 | DS39: =AVERAGE(BS39:BV39) -> 0
AJ40: 3547100650770EF | AK40: 42 | AL40: 43 | AM40: 33 | AN40: 44 | AO40: 34 | AP40: 50 | AQ40: 23 | AR40: 51 | AS40: 39 | AT40: 27 | AU40: 49 | AV40: 61 | AW40: 37 | AX40: 27 | AY40: 16 | AZ40: 26 | BA40: 45 | BB40: 42 | BC40: 24 | BD40: 36 | BE40: 16 | BF40: 41 | BG40: 41 | BH40: 30 | BI40: 50 | BJ40: 30 | BK40: 16 | BL40: 21 | BM40: 26 | BN40: 25 | BO40: 17 | BP40: 17 | BQ40: 31 | BR40: 24 | BS40: =VLOOKUP(AJ40,DATA!$A$2:$BA$51,1+BS$2,FALSE) -> 0 | DS40: =AVERAGE(BS40:BV40) -> 0
...

Sheet DATA
A1: RPL | B1: 2022W01 | C1: 2022W02 | D1: 2022W03 | E1: 2022W04 | F1: 2022W05 | G1: 2022W06 | H1: 2022W07 | I1: 2022W08 | J1: 2022W09 | K1: 2022W10 | L1: 2022W11 | M1: 2022W12 | N1: 2022W13 | O1: 2022W14 | P1: 2022W15 | Q1: 2022W16 | R1: 2022W17 | S1: 2022W18 | T1: 2022W19 | U1: 2022W20 | V1: 2022W21 | W1: 2022W22 | X1: 2022W23 | Y1: 2022W24 | Z1: 2022W25 | AA1: 2022W26 | AB1: 2022W27 | AC1: 2022W28 | AD1: 2022W29 | AE1: 2022W30 | AF1: 2022W31 | AG1: 2022W32 | AH1: 2022W33 | AI1: 2022W34 | AJ1: 2022W35 | AK1: 2022W36 | AL1: 2022W37 | AM1: 2022W38 | AN1: 2022W39 | AO1: 2022W40 | AP1: 2022W41 | AQ1: 2022W42 | AR1: 2022W43 | AS1: 2022W44 | AT1: 2022W45 | AU1: 2022W46 | AV1: 2022W47 | AW1: 2022W48 | AX1: 2022W49 | AY1: 2022W50 | AZ1: 2022W51 | BA1: 2022W52
A2: 3518100650719EF
A3: 3518100750719EF
A4: 3524100650237EF | H4: 243 | I4: 64 | J4: 125 | K4: 168 | L4: 190
A5: 3524100650640EF | H5: 343 | I5: 369 | J5: 365 | K5: 523 | L5: 357
A6: 3524100650676EF | H6: 693 | I6: 639 | J6: 641 | K6: 659 | L6: 623
A7: 3524100650719EF | I7: 0 | J7: 2897 | K7: 0 | L7: 0
A8: 3524100650876EF | H8: 235 | I8: 329 | J8: 208 | K8: 234 | L8: 716
A9: 3524100750237EF | H9: 221 | I9: 42 | J9: 129 | K9: 186 | L9: 185
A10: 3524100750640EF | H10: 374 | I10: 444 | J10: 488 | K10: 551 | L10: 458
A11: 3524100750676EF | H11: 971 | I11: 944 | J11: 1026 | K11: 1102 | L11: 962
A12: 3524100750719EF
A13: 3524100750876EF | H13: 332 | I13: 376 | J13: 301 | K13: 337 | L13: 752
A14: 3524942650640EF | J14: 1235
A15: 3524942650667EF | H15: 147 | I15: 159 | J15: 192 | K15: 202 | L15: 175
A16: 3524942650876EF | H16: 89 | I16: 237 | J16: 164 | K16: 200 | L16: 226
A17: 3524942750640EF | J17: 1231
A18: 3524942750667EF | H18: 251 | I18: 271 | J18: 310 | K18: 270 | L18: 303
A19: 3524942750876EF | H19: 87 | I19: 173 | J19: 140 | K19: 179 | L19: 201
A20: 3547100550676EF | H20: 160 | I20: 155 | J20: 173 | K20: 154 | L20: 143
A21: 3547100600676EF | H21: 1619 | I21: 1277 | J21: 1218 | K21: 1540
A22: 3547100650237EF | H22: 20 | I22: 27 | J22: 17 | K22: 25 | L22: 21
A23: 354710065060NEF | H23: 26 | I23: 87 | J23: 16 | K23: 32 | L23: 22
A24: 3547100650676EF | H24: 414 | I24: 412 | J24: 403 | K24: 454
A25: 3547100650770EF
A26: 354710065087NEF
A27: 3547100700237EF | H27: 29 | I27: 19
A28: 354710070060NEF | H28: 563 | I28: 210 | J28: 47 | K28: 96 | L28: 40
A29: 3547100700770EF
A30: 354710070087NEF
A31: 3555100650719EF
A32: 3555100750719EF | J32: 195
A33: 3555100800719EF | J33: 1105
A34: 3561100650237EF
A35: 3561100650640EF | H35: 20 | I35: 144 | J35: 50 | K35: 50 | L35: 25
A36: 3561100650719EF | J36: 777
A37: 3561100650876EF
A38: 3561100700237EF | H38: 3 | I38: 6 | J38: 8 | K38: 10 | L38: 5
A39: 3561100700640EF
A40: 3561100700719EF
...
