Workbook

Sheet base
A1: REF | B1: EAN | C1: CODE BARRE
A2: 1234 | B2: 1234567895123 | C2: =code128(B2) -> #NAME?
A3: 1234 | B3: 1234567895123 | C3: =code128(B3) -> #NAME?
A4: 1234 | B4: 1234567895123 | C4: =code128(B4) -> #NAME?
A5: 1234 | B5: 1234567895123 | C5: =code128(B5) -> #NAME?
A6: 1234 | B6: 1234567895123 | C6: =code128(B6) -> #NAME?
A7: 1234 | B7: 1234567895123 | C7: =code128(B7) -> #NAME?
A8: 1234 | B8: 1234567895123 | C8: =code128(B8) -> #NAME?
A9: 1234 | B9: 1234567895123 | C9: =code128(B9) -> #NAME?
A10: 1234 | B10: 1234567895123 | C10: =code128(B10) -> #NAME?
A11: 1234 | B11: 1234567895123 | C11: =code128(B11) -> #NAME?
A12: 1234 | B12: 1234567895123 | C12: =code128(B12) -> #NAME?
A13: 1234 | B13: 1234567895123 | C13: =code128(B13) -> #NAME?
... A206: 1234 | B206: 1234567895123 | C206: =code128(B206) -> #NAME?

Sheet resultat
B1: =base!C2 -> #NAME?
B2: =base!A2&" "&base!B2 -> 1234 1234567895123
B3: =base!C4 -> #NAME?
B4: =base!A4&" "&base!B4 -> 1234 1234567895123
B5: =base!C6 -> #NAME?
B6: =base!A6&" "&base!B6 -> 1234 1234567895123
B7: =base!C8 -> #NAME?
B8: =base!A8&" "&base!B8 -> 1234 1234567895123
B9: =base!C10 -> #NAME?
B10: =base!A10&" "&base!B10 -> 1234 1234567895123
B11: =base!C12 -> #NAME?
B12: =base!A12&" "&base!B12 -> 1234 1234567895123
B13: =base!C14 -> #NAME?
B14: =base!A14&" "&base!B14 -> 1234 1234567895123
B15: =base!C16 -> #NAME?
B16: =base!A16&" "&base!B16 -> 1234 1234567895123
B17: =base!C18 -> #NAME?
B18: =base!A18&" "&base!B18 -> 1234 1234567895123
B19: =base!C20 -> #NAME?
B20: =base!A20&" "&base!B20 -> 1234 1234567895123
B21: =base!C22 -> #NAME?
B22: =base!A22&" "&base!B22 -> 1234 1234567895123
B23: =base!C24 -> #NAME?
B24: =base!A24&" "&base!B24 -> 1234 1234567895123
B25: =base!C26 -> #NAME?
B26: =base!A26&" "&base!B26 -> 1234 1234567895123
B27: =base!C28 -> #NAME?
B28: =base!A28&" "&base!B28 -> 1234 1234567895123
B29: =base!C30 -> #NAME?
B30: =base!A30&" "&base!B30 -> 1234 1234567895123
B31: =base!C32 -> #NAME?
B32: =base!A32&" "&base!B32 -> 1234 1234567895123
B33: =base!C34 -> #NAME?
B34: =base!A34&" "&base!B34 -> 1234 1234567895123
B35: =base!C36 -> #NAME?
B36: =base!A36&" "&base!B36 -> 1234 1234567895123
B37: =base!C38 -> #NAME?
B38: =base!A38&" "&base!B38 -> 1234 1234567895123
B39: =base!C40 -> #NAME?
B40: =base!A40&" "&base!B40 -> 1234 1234567895123
B41: =base!C42 -> #NAME?
B42: =base!A42&" "&base!B42 -> 1234 1234567895123
B43: =base!C44 -> #NAME?
B44: =base!A44&" "&base!B44 -> 1234 1234567895123
B45: =base!C46 -> #NAME?
B46: =base!A46&" "&base!B46 -> 1234 1234567895123
B47: =base!C48 -> #NAME?
B48: =base!A48&" "&base!B48 -> 1234 1234567895123
B49: =base!C50 -> #NAME?
B50: =base!A50&" "&base!B50 -> 1234 1234567895123
B51: =base!C52 -> #NAME?
B52: =base!A52&" "&base!B52 -> 1234 1234567895123
B53: =base!C54 -> #NAME?
B54: =base!A54&" "&base!B54 -> 1234 1234567895123
B55: =base!C56 -> #NAME?
B56: =base!A56&" "&base!B56 -> 1234 1234567895123
B57: =base!C58 -> #NAME?
B58: =base!A58&" "&base!B58 -> 1234 1234567895123
B59: =base!C60 -> #NAME?
B60: =base!A60&" "&base!B60 -> 1234 1234567895123
B61: =base!C62 -> #NAME?
B62: =base!A62&" "&base!B62 -> 1234 1234567895123
B63: =base!C64 -> #NAME?
B64: =base!A64&" "&base!B64 -> 1234 1234567895123
B65: =base!C66 -> #NAME?
B66: =base!A66&" "&base!B66 -> 1234 1234567895123
B67: =base!C68 -> #NAME?
B68: =base!A68&" "&base!B68 -> 1234 1234567895123
B69: =base!C70 -> #NAME?
B70: =base!A70&" "&base!B70 -> 1234 1234567895123
B71: =base!C72 -> #NAME?
B72: =base!A72&" "&base!B72 -> 1234 1234567895123
B73: =base!C74 -> #NAME?
B74: =base!A74&" "&base!B74 -> 1234 1234567895123
B75: =base!C76 -> #NAME?
B76: =base!A76&" "&base!B76 -> 1234 1234567895123
B77: =base!C78 -> #NAME?
B78: =base!A78&" "&base!B78 -> 1234 1234567895123
B79: =base!C80 -> #NAME?
B80: =base!A80&" "&base!B80 -> 1234 1234567895123
B81: =base!C82 -> #NAME?
B82: =base!A82&" "&base!B82 -> 1234 1234567895123
B83: =base!C84 -> #NAME?
B84: =base!A84&" "&base!B84 -> 1234 1234567895123
B85: =base!C86 -> #NAME?
B86: =base!A86&" "&base!B86 -> 1234 1234567895123
B87: =base!C88 -> #NAME?
B88: =base!A88&" "&base!B88 -> 1234 1234567895123
B89: =base!C90 -> #NAME?
B90: =base!A90&" "&base!B90 -> 1234 1234567895123
B91: =base!C92 -> #NAME?
B92: =base!A92&" "&base!B92 -> 1234 1234567895123
B93: =base!C94 -> #NAME?
B94: =base!A94&" "&base!B94 -> 1234 1234567895123
B95: =base!C96 -> #NAME?
B96: =base!A96&" "&base!B96 -> 1234 1234567895123
B97: =base!C98 -> #NAME?
B98: =base!A98&" "&base!B98 -> 1234 1234567895123
B99: =base!C100 -> #NAME?
B100: =base!A100&" "&base!B100 -> 1234 1234567895123
...
