Workbook
Name BASECOURREURS: #REF!
Name INFOSCOURREURS: #REF!

Sheet RECAPITULATIF
A1: 0 | B1: Team Ineos | F1: etape 1 | G1: etape 2 | H1: etape 3 | I1: etape 4 | J1: etape 5 | K1: etape 6 | L1: etape 7 | M1: etape 8 | N1: etape 9 | O1: etape 10 | P1: etape 11 | Q1: etape 12 | R1: etape 13 | S1: etape 14 | T1: etape 15 | U1: etape 16 | V1: etape 17 | W1: etape 18 | X1: etape 19 | Y1: etape 20 | Z1: etape 21
A2: 1 | B2: THOMAS Geraint | E2: GBR | F2: =VLOOKUP(A2,Etape1!$A$2:$D$177,3,FALSE) -> 111
A3: 2 | B3: BERNAL Egan | E3: COL | F3: =VLOOKUP(A3,Etape1!$A$2:$D$177,3,FALSE) -> 81
A4: 3 | B4: CASTROVIEJO NICOLAS Jonathan | E4: ESP | F4: =VLOOKUP(A4,Etape1!$A$2:$D$177,3,FALSE) -> 171
A5: 4 | B5: KWIATKOWSKI Michal | E5: POL | F5: =VLOOKUP(A5,Etape1!$A$2:$D$177,3,FALSE) -> 160
A6: 5 | B6: MOSCON Gianni | E6: ITA | F6: =VLOOKUP(A6,Etape1!$A$2:$D$177,3,FALSE) -> 80
A7: 6 | B7: POELS Wout | E7: HOL | F7: =VLOOKUP(A7,Etape1!$A$2:$D$177,3,FALSE) -> 123
A8: 7 | B8: ROWE Luke | E8: GBR | F8: =VLOOKUP(A8,Etape1!$A$2:$D$177,3,FALSE) -> 162
A9: 8 | B9: VAN BAARLE Dylan | E9: HOL | F9: =VLOOKUP(A9,Etape1!$A$2:$D$177,3,FALSE) -> 154
A11: 20 | B11: Deceuninck - Quick - Step | J11: 0
A12: 21 | B12: ALAPHILIPPE Julian | E12: FRA | F12: =VLOOKUP(A12,Etape1!$A$2:$D$177,3,FALSE) -> 21
A13: 22 | B13: ASGREEN Kasper | E13: DAN | F13: =VLOOKUP(A13,Etape1!$A$2:$D$177,3,FALSE) -> 33
A14: 23 | B14: DEVENYNS Dries | E14: BEL | F14: =VLOOKUP(A14,Etape1!$A$2:$D$177,3,FALSE) -> 169
A15: 24 | B15: LAMPAERT Yves | E15: BEL | F15: =VLOOKUP(A15,Etape1!$A$2:$D$177,3,FALSE) -> 50
A16: 25 | B16: MAS NICOLAU Enric | E16: ESP | F16: =VLOOKUP(A16,Etape1!$A$2:$D$177,3,FALSE) -> 51
A17: 26 | B17: MØRKØV Michael | E17: DAN | F17: =VLOOKUP(A17,Etape1!$A$2:$D$177,3,FALSE) -> 38
A18: 27 | B18: RICHEZE Maximiliano | E18: ARG | F18: =VLOOKUP(A18,Etape1!$A$2:$D$177,3,FALSE) -> 30
A19: 28 | B19: VIVIANI Elia | E19: ITA | F19: =VLOOKUP(A19,Etape1!$A$2:$D$177,3,FALSE) -> 9
A21: 40 | B21: Bahrain-Merida | J21: 0
A22: 41 | B22: NIBALI Vincenzo | E22: ITA | F22: =VLOOKUP(A22,Etape1!$A$2:$D$177,3,FALSE) -> 24
A23: 42 | B23: CARUSO Damiano | E23: ITA | F23: =VLOOKUP(A23,Etape1!$A$2:$D$177,3,FALSE) -> 113
A24: 43 | B24: COLBRELLI Sonny | E24: ITA | F24: =VLOOKUP(A24,Etape1!$A$2:$D$177,3,FALSE) -> 5
A25: 44 | B25: DENNIS Rohan | E25: AUS | F25: =VLOOKUP(A25,Etape1!$A$2:$D$177,3,FALSE) -> 158
A26: 45 | B26: GARCIA CORTINA Ivan | E26: ESP | F26: =VLOOKUP(A26,Etape1!$A$2:$D$177,3,FALSE) -> 35
A27: 46 | B27: MOHORIC Matej | E27: RUS | F27: =VLOOKUP(A27,Etape1!$A$2:$D$177,3,FALSE) -> 159
A28: 47 | B28: TEUNS Dylan | E28: BEL | F28: =VLOOKUP(A28,Etape1!$A$2:$D$177,3,FALSE) -> 48
A29: 48 | B29: TRATNIK Jan | E29: SLO | F29: =VLOOKUP(A29,Etape1!$A$2:$D$177,3,FALSE) -> 39
A31: 60 | B31: Movistar | J31: 0
A32: 61 | B32: QUINTANA ROJAS Nairo | E32: COL | F32: =VLOOKUP(A32,Etape1!$A$2:$D$177,3,FALSE) -> 53
A33: 62 | B33: VALVERDE Alejandro | E33: ESP | F33: =VLOOKUP(A33,Etape1!$A$2:$D$177,3,FALSE) -> 67
A34: 63 | B34: AMADOR Andrey | E34: CRI | F34: =VLOOKUP(A34,Etape1!$A$2:$D$177,3,FALSE) -> 57
A35: 64 | B35: ERVITI Imanol | E35: ESP | F35: =VLOOKUP(A35,Etape1!$A$2:$D$177,3,FALSE) -> 150
A36: 65 | B36: LANDA MEANA Mikel | E36: ESP | F36: =VLOOKUP(A36,Etape1!$A$2:$D$177,3,FALSE) -> 88
A37: 66 | B37: OLIVEIRA Nelson | E37: POR | F37: =VLOOKUP(A37,Etape1!$A$2:$D$177,3,FALSE) -> 94
A38: 67 | B38: SOLER GIMENEZ Marc | E38: ESP | F38: =VLOOKUP(A38,Etape1!$A$2:$D$177,3,FALSE) -> 83
A39: 68 | B39: VERONA QUINTANILLA Carlos | E39: ESP | F39: =VLOOKUP(A39,Etape1!$A$2:$D$177,3,FALSE) -> 166
A41: 80 | B41: Team Jumbo - Visma | J41: 0
A42: 81 | B42: KRUIJSWIJK Steven | E42: HOL | F42: =VLOOKUP(A42,Etape1!$A$2:$D$177,3,FALSE) -> 56
A43: 82 | B43: BENNETT George | E43: NZL | F43: =VLOOKUP(A43,Etape1!$A$2:$D$177,3,FALSE) -> 172
A44: 83 | B44: DE PLUS Laurens | E44: BEL | F44: =VLOOKUP(A44,Etape1!$A$2:$D$177,3,FALSE) -> 90
...

Sheet Etape1
A1: Dossard | B1: PRENOM / NOM | C1: Classement | D1: Team
A2: 87 | B2: MIKE TEUNISSEN | C2: 1 | D2: TEAM JUMBO - VISMA
A3: 11 | B3: PETER SAGAN | C3: 2 | D3: BORA - HANSGROHE
A4: 161 | B4: CALEB EWAN | C4: 3 | D4: LOTTO SOUDAL
A5: 207 | B5: GIACOMO NIZZOLO | C5: 4 | D5: TEAM DIMENSION DATA
A6: 43 | B6: SONNY COLBRELLI | C6: 5 | D6: BAHRAIN - MERIDA
A7: 141 | B7: MICHAEL MATTHEWS | C7: 6 | D7: TEAM SUNWEB
A8: 107 | B8: MATTEO TRENTIN | C8: 7 | D8: MITCHELTON - SCOTT
A9: 37 | B9: OLIVER NAESEN | C9: 8 | D9: AG2R LA MONDIALE
A10: 28 | B10: ELIA VIVIANI | C10: 9 | D10: DECEUNINCK - QUICK - STEP
A11: 138 | B11: JASPER STUYVEN | C11: 10 | D11: TREK - SEGAFREDO
A12: 111 | B12: GREG VAN AVERMAET | C12: 11 | D12: CCC TEAM
A13: 92 | B13: ALBERTO BETTIOL | C13: 12 | D13: EF EDUCATION FIRST
... A177: 33 | B177: BENOIT COSNEFROY | C177: 176 | D177: AG2R LA MONDIALE
