Workbook
Name BASECOURREURS: #REF!
Name INFOSCOURREURS: #REF!

Sheet RECAPITULATIF
A1: 0 | B1: Team Ineos | F1: etape 1 | G1: etape 2 | H1: etape 3 | I1: etape 4 | J1: etape 5 | K1: etape 6 | L1: etape 7 | M1: etape 8 | N1: etape 9 | O1: etape 10 | P1: etape 11 | Q1: etape 12 | R1: etape 13 | S1: etape 14 | T1: etape 15 | U1: etape 16 | V1: etape 17 | W1: etape 18 | X1: etape 19 | Y1: etape 20 | Z1: etape 21
A2: 1 | B2: THOMAS Geraint | E2: GBR | F2: =VLOOKUP(A2,Etape1!$A$2:$D$177,3,FALSE) -> 111
A3: 2 | B3: BERNAL Egan | E3: COL | F3: =VLOOKUP(A3,Etape1!$A$2:$D$177,3,FALSE) -> 81
A4: 3 | B4: CASTROVIEJO NICOLAS Jonathan | E4: ESP | F4: =VLOOKUP(A4,Etape1!$A$2:$D$177,3,FALSE) -> 171
A5: 4 | B5: KWIATKOWSKI Michal | E5: POL | F5: =VLOOKUP(A5,Etape1!$A$2:$D$177,3,FALSE) -> 160
A6: 5 | B6: MOSCON Gianni | E6: ITA | F6: =VLOOKUP(A6,Etape1!$A$2:$D$177,3,FALSE) -> 80
A7: 6 | B7: POELS Wout | E7: HOL | F7: =VLOOKUP(A7,Etape1!$A$2:$D$177,3,FALSE) -> 123
A8: 7 | B8: ROWE Luke | E8: GBR | F8: =VLOOKUP(A8,Etape1!$A$2:$D$177,3,FALSE) -> 162
A9: 8 | B9: VAN BAARLE Dylan | E9: HOL | F9: =VLOOKUP(A9,Etape1!$A$2:$D$177,3,FALSE) -> 154
A11: 20 | B11: Deceuninck - Quick - Step | J11: 0
A12: 21 | B12: ALAPHILIPPE Julian | E12: FRA | F12: =VLOOKUP(A12,Etape1!$A$2:$D$177,3,FALSE) -> 21
A13: 22 | B13: ASGREEN Kasper | E13: DAN | F13: =VLOOKUP(A13,Etape1!$A$2:$D$177,3,FALSE) -> 33
A14: 23 | B14: DEVENYNS Dries | E14: BEL | F14: =VLOOKUP(A14,Etape1!$A$2:$D$177,3,FALSE) -> 169
A15: 24 | B15: LAMPAERT Yves | E15: BEL | F15: =VLOOKUP(A15,Etape1!$A$2:$D$177,3,FALSE) -> 50
A16: 25 | B16: MAS NICOLAU Enric | E16: ESP | F16: =VLOOKUP(A16,Etape1!$A$2:$D$177,3,FALSE) -> 51
A17: 26 | B17: MØRKØV Michael | E17: DAN | F17: =VLOOKUP(A17,Etape1!$A$2:$D$177,3,FALSE) -> 38
A18: 27 | B18: RICHEZE Maximiliano | E18: ARG | F18: =VLOOKUP(A18,Etape1!$A$2:$D$177,3,FALSE) -> 30
A19: 28 | B19: VIVIANI Elia | E19: ITA | F19: =VLOOKUP(A19,Etape1!$A$2:$D$177,3,FALSE) -> 9
A21: 40 | B21: Bahrain-Merida | J21: 0
A22: 41 | B22: NIBALI Vincenzo | E22: ITA | F22: =VLOOKUP(A22,Etape1!$A$2:$D$177,3,FALSE) -> 24
A23: 42 | B23: CARUSO Damiano | E23: ITA | F23: =VLOOKUP(A23,Etape1!$A$2:$D$177,3,FALSE) -> 113
A24: 43 | B24: COLBRELLI Sonny | E24: ITA | F24: =VLOOKUP(A24,Etape1!$A$2:$D$177,3,FALSE) -> 5
A25: 44 | B25: DENNIS Rohan | E25: AUS | F25: =VLOOKUP(A25,Etape1!$A$2:$D$177,3,FALSE) -> 158
A26: 45 | B26: GARCIA CORTINA Ivan | E26: ESP | F26: =VLOOKUP(A26,Etape1!$A$2:$D$177,3,FALSE) -> 35
A27: 46 | B27: MOHORIC Matej | E27: RUS | F27: =VLOOKUP(A27,Etape1!$A$2:$D$177,3,FALSE) -> 159
A28: 47 | B28: TEUNS Dylan | E28: BEL | F28: =VLOOKUP(A28,Etape1!$A$2:$D$177,3,FALSE) -> 48
A29: 48 | B29: TRATNIK Jan | E29: SLO | F29: =VLOOKUP(A29,Etape1!$A$2:$D$177,3,FALSE) -> 39
A31: 60 | B31: Movistar | J31: 0
A32: 61 | B32: QUINTANA ROJAS Nairo | E32: COL | F32: =VLOOKUP(A32,Etape1!$A$2:$D$177,3,FALSE) -> 53
A33: 62 | B33: VALVERDE Alejandro | E33: ESP | F33: =VLOOKUP(A33,Etape1!$A$2:$D$177,3,FALSE) -> 67
A34: 63 | B34: AMADOR Andrey | E34: CRI | F34: =VLOOKUP(A34,Etape1!$A$2:$D$177,3,FALSE) -> 57
A35: 64 | B35: ERVITI Imanol | E35: ESP | F35: =VLOOKUP(A35,Etape1!$A$2:$D$177,3,FALSE) -> 150
A36: 65 | B36: LANDA MEANA Mikel | E36: ESP | F36: =VLOOKUP(A36,Etape1!$A$2:$D$177,3,FALSE) -> 88
A37: 66 | B37: OLIVEIRA Nelson | E37: POR | F37: =VLOOKUP(A37,Etape1!$A$2:$D$177,3,FALSE) -> 94
A38: 67 | B38: SOLER GIMENEZ Marc | E38: ESP | F38: =VLOOKUP(A38,Etape1!$A$2:$D$177,3,FALSE) -> 83
A39: 68 | B39: VERONA QUINTANILLA Carlos | E39: ESP | F39: =VLOOKUP(A39,Etape1!$A$2:$D$177,3,FALSE) -> 166
A41: 80 | B41: Team Jumbo - Visma | J41: 0
A42: 81 | B42: KRUIJSWIJK Steven | E42: HOL | F42: =VLOOKUP(A42,Etape1!$A$2:$D$177,3,FALSE) -> 56
A43: 82 | B43: BENNETT George | E43: NZL | F43: =VLOOKUP(A43,Etape1!$A$2:$D$177,3,FALSE) -> 172
A44: 83 | B44: DE PLUS Laurens | E44: BEL | F44: =VLOOKUP(A44,Etape1!$A$2:$D$177,3,FALSE) -> 90
A45: 84 | B45: GROENEWAGEN Dylan | E45: HOL | F45: =VLOOKUP(A45,Etape1!$A$2:$D$177,3,FALSE) -> 175
A46: 85 | B46: JANSEN Amund Grøndahl | E46: DAN | F46: =VLOOKUP(A46,Etape1!$A$2:$D$177,3,FALSE) -> 15
A47: 86 | B47: MARTIN Tony | E47: ALL | F47: =VLOOKUP(A47,Etape1!$A$2:$D$177,3,FALSE) -> 78
A48: 87 | B48: TEUNISSEN Mike | E48: HOL | F48: =VLOOKUP(A48,Etape1!$A$2:$D$177,3,FALSE) -> 1
A49: 88 | B49: VAN AERT Wout | E49: BEL | F49: =VLOOKUP(A49,Etape1!$A$2:$D$177,3,FALSE) -> 16
A51: 100 | B51: Michelton - Scott | J51: 0
A52: 101 | B52: YATES Adam | E52: GBR | F52: =VLOOKUP(A52,Etape1!$A$2:$D$177,3,FALSE) -> 46
A53: 102 | B53: DURBRIDGE Luke | E53: AUS | F53: =VLOOKUP(A53,Etape1!$A$2:$D$177,3,FALSE) -> 104
A54: 103 | B54: HAIG Jack | E54: AUS | F54: =VLOOKUP(A54,Etape1!$A$2:$D$177,3,FALSE) -> 147
A55: 104 | B55: HEPBURN Michael | E55: AUS | F55: =VLOOKUP(A55,Etape1!$A$2:$D$177,3,FALSE) -> 45
A56: 105 | B56: IMPEY Daryl | E56: AFS | F56: =VLOOKUP(A56,Etape1!$A$2:$D$177,3,FALSE) -> 19
A57: 106 | B57: JUUL JENSEN Christopher | E57: DAN | F57: =VLOOKUP(A57,Etape1!$A$2:$D$177,3,FALSE) -> 161
A58: 107 | B58: TRENTIN Matteo | E58: ITA | F58: =VLOOKUP(A58,Etape1!$A$2:$D$177,3,FALSE) -> 7
A59: 108 | B59: YATES Simon | E59: GBR | F59: =VLOOKUP(A59,Etape1!$A$2:$D$177,3,FALSE) -> 146
A61: 120 | B61: UAE Team Emirates | J61: 0
A62: 121 | B62: MARTIN Daniel | E62: IRL | F62: =VLOOKUP(A62,Etape1!$A$2:$D$177,3,FALSE) -> 121
A63: 122 | B63: ARU Fabio | E63: ITA | F63: =VLOOKUP(A63,Etape1!$A$2:$D$177,3,FALSE) -> 105
A64: 123 | B64: BYSTRØM Sven Erik | E64: NOR | F64: =VLOOKUP(A64,Etape1!$A$2:$D$177,3,FALSE) -> 153
A65: 124 | B65: COSTA Rui | E65: POR | F65: =VLOOKUP(A65,Etape1!$A$2:$D$177,3,FALSE) -> 120
A66: 125 | B66: HENAO MONTOYA Sergio Luis | E66: COL | F66: =VLOOKUP(A66,Etape1!$A$2:$D$177,3,FALSE) -> 84
A67: 126 | B67: KRISTOFF Alexander | E67: NOR | F67: =VLOOKUP(A67,Etape1!$A$2:$D$177,3,FALSE) -> 14
A68: 127 | B68: LAENGEN Vegard Stake | E68: NOR | F68: =VLOOKUP(A68,Etape1!$A$2:$D$177,3,FALSE) -> 106
A69: 128 | B69: PHILIPSEN Jasper | E69: BEL | F69: =VLOOKUP(A69,Etape1!$A$2:$D$177,3,FALSE) -> 43
A71: 140 | B71: Team Sunweb | J71: 0
A72: 141 | B72: MATTHEWS Michael | E72: AUS | F72: =VLOOKUP(A72,Etape1!$A$2:$D$177,3,FALSE) -> 6
A73: 142 | B73: ARNDT Nikias | E73: ALL | F73: =VLOOKUP(A73,Etape1!$A$2:$D$177,3,FALSE) -> 119
A74: 143 | B74: BOL Cees | E74: HOL | F74: =VLOOKUP(A74,Etape1!$A$2:$D$177,3,FALSE) -> 34
A75: 144 | B75: HAGA Chad | E75: USA | F75: =VLOOKUP(A75,Etape1!$A$2:$D$177,3,FALSE) -> 145
A76: 145 | B76: KÄMNA Lennard | E76: ALL | F76: =VLOOKUP(A76,Etape1!$A$2:$D$177,3,FALSE) -> 86
A77: 146 | B77: KELDERMAN Wilco | E77: HOL | F77: =VLOOKUP(A77,Etape1!$A$2:$D$177,3,FALSE) -> 73
A78: 147 | B78: KRAGH ANDERSEN Søren | E78: DAN | F78: =VLOOKUP(A78,Etape1!$A$2:$D$177,3,FALSE) -> 107
A79: 148 | B79: ROCHE Nicolas | E79: IRL | F79: =VLOOKUP(A79,Etape1!$A$2:$D$177,3,FALSE) -> 40
A81: 160 | B81: Lotto Soudal | J81: 0
A82: 161 | B82: EWAN Caleb | E82: AUS | F82: =VLOOKUP(A82,Etape1!$A$2:$D$177,3,FALSE) -> 3
A83: 162 | B83: BENOOT Tiesj | E83: BEL | F83: =VLOOKUP(A83,Etape1!$A$2:$D$177,3,FALSE) -> 52
A84: 163 | B84: DE BUYST Jasper | E84: BEL | F84: =VLOOKUP(A84,Etape1!$A$2:$D$177,3,FALSE) -> 28
A85: 164 | B85: DE GENDT Thomas | E85: BEL | F85: =VLOOKUP(A85,Etape1!$A$2:$D$177,3,FALSE) -> 130
A86: 165 | B86: KEUKELEIRE Jens | E86: BEL | F86: =VLOOKUP(A86,Etape1!$A$2:$D$177,3,FALSE) -> 44
A87: 166 | B87: KLUGE Roger | E87: ALL | F87: =VLOOKUP(A87,Etape1!$A$2:$D$177,3,FALSE) -> 49
A88: 167 | B88: MONFORT Maxime | E88: BEL | F88: =VLOOKUP(A88,Etape1!$A$2:$D$177,3,FALSE) -> 131
A89: 168 | B89: WELLENS Tim | E89: BEL | F89: =VLOOKUP(A89,Etape1!$A$2:$D$177,3,FALSE) -> 124
A91: 180 | B91: Team Katusha - Alpecin | J91: 0
A92: 181 | B92: ZAKARIN Ilnur | E92: RUS | F92: =VLOOKUP(A92,Etape1!$A$2:$D$177,3,FALSE) -> 103
A93: 182 | B93: DEBUSSCHERE Jens | E93: BEL | F93: =VLOOKUP(A93,Etape1!$A$2:$D$177,3,FALSE) -> 31
A94: 183 | B94: DOWSETT Alex | E94: GBR | F94: =VLOOKUP(A94,Etape1!$A$2:$D$177,3,FALSE) -> 110
A95: 184 | B95: GONÇALVES José | E95: POR | F95: =VLOOKUP(A95,Etape1!$A$2:$D$177,3,FALSE) -> 102
A96: 185 | B96: HALLER Marco | E96: AUT | F96: =VLOOKUP(A96,Etape1!$A$2:$D$177,3,FALSE) -> 167
A97: 186 | B97: POLITT Nils | E97: ALL | F97: =VLOOKUP(A97,Etape1!$A$2:$D$177,3,FALSE) -> 59
A98: 187 | B98: SCHMIDT WÜRTZ Mads | E98: DAN | F98: =VLOOKUP(A98,Etape1!$A$2:$D$177,3,FALSE) -> 98
A99: 188 | B99: ZABEL Rick | E99: ALL | F99: =VLOOKUP(A99,Etape1!$A$2:$D$177,3,FALSE) -> 41
A101: 200 | B101: Team Dimension Data | J101: 0
A102: 201 | B102: BOASSON HAGEN Edvald | E102: NOR | F102: =VLOOKUP(A102,Etape1!$A$2:$D$177,3,FALSE) -> 32
A103: 202 | B103: BAK YTTING Lars | E103: DAN | F103: =VLOOKUP(A103,Etape1!$A$2:$D$177,3,FALSE) -> 138
A104: 203 | B104: CUMMINGS Steven | E104: GBR | F104: =VLOOKUP(A104,Etape1!$A$2:$D$177,3,FALSE) -> 142
A105: 204 | B105: JANSE VAN RENSBURG Reinardt | E105: AFS | F105: =VLOOKUP(A105,Etape1!$A$2:$D$177,3,FALSE) -> 85
A106: 205 | B106: KING Benjamin | E106: USA | F106: =VLOOKUP(A106,Etape1!$A$2:$D$177,3,FALSE) -> 132
A107: 206 | B107: KREUZIGER Roman | E107: RTC | F107: =VLOOKUP(A107,Etape1!$A$2:$D$177,3,FALSE) -> 47
A108: 207 | B108: NIZZOLO Giacomo | E108: ITA | F108: =VLOOKUP(A108,Etape1!$A$2:$D$177,3,FALSE) -> 4
A109: 208 | B109: VALGREN ANDERSEN Michael | E109: DAN | F109: =VLOOKUP(A109,Etape1!$A$2:$D$177,3,FALSE) -> 68
A111: 30 | B111: AG2R La Mondiale
...

Sheet Etape1
A1: Dossard | B1: PRENOM / NOM | C1: Classement | D1: Team
A2: 87 | B2: MIKE TEUNISSEN | C2: 1 | D2: TEAM JUMBO - VISMA
A3: 11 | B3: PETER SAGAN | C3: 2 | D3: BORA - HANSGROHE
A4: 161 | B4: CALEB EWAN | C4: 3 | D4: LOTTO SOUDAL
A5: 207 | B5: GIACOMO NIZZOLO | C5: 4 | D5: TEAM DIMENSION DATA
A6: 43 | B6: SONNY COLBRELLI | C6: 5 | D6: BAHRAIN - MERIDA
A7: 141 | B7: MICHAEL MATTHEWS | C7: 6 | D7: TEAM SUNWEB
A8: 107 | B8: MATTEO TRENTIN | C8: 7 | D8: MITCHELTON - SCOTT
A9: 37 | B9: OLIVER NAESEN | C9: 8 | D9: AG2R LA MONDIALE
A10: 28 | B10: ELIA VIVIANI | C10: 9 | D10: DECEUNINCK - QUICK - STEP
A11: 138 | B11: JASPER STUYVEN | C11: 10 | D11: TREK - SEGAFREDO
A12: 111 | B12: GREG VAN AVERMAET | C12: 11 | D12: CCC TEAM
A13: 92 | B13: ALBERTO BETTIOL | C13: 12 | D13: EF EDUCATION FIRST
... A177: 33 | B177: BENOIT COSNEFROY | C177: 176 | D177: AG2R LA MONDIALE
