Workbook
Name TABLEAU: #REF!

Sheet Previsions SPA 2018
A1: Code Article Gestcom | B1: Code client sage | C1: 15012019 | D1: 15022019 | E1: 15032019 | F1: 15042019 | G1: 15052019 | H1: 15062019 | I1: 15072019 | J1: 15082019 | K1: 15092019 | L1: 15102019 | M1: 15112019 | N1: 15122019
A2: 10420 C12x750 | B2: 210008 | C2: 1 | D2: 2 | E2: 2 | F2: 1 | G2: 1 | H2: 3 | I2: 3 | J2: 2 | K2: 1 | L2: 1 | M2: 1 | N2: 2
A3: 10431 C20x750 | B3: 210008 | C3: 1 | D3: 1 | E3: 1 | F3: 1 | G3: 1 | H3: 2 | I3: 2 | J3: 2 | K3: 2 | L3: 2 | M3: 1 | N3: 1
A4: 10441 B20 | B4: 210008 | C4: 1 | E4: 1 | F4: 1 | G4: 2 | H4: 2 | I4: 2 | J4: 2 | K4: 2 | M4: 2 | N4: 2
A5: 10545 C5 | B5: 210008 | C5: 1 | D5: 2 | E5: 1 | F5: 1 | G5: 1 | H5: 2 | I5: 2 | K5: 2 | L5: 1 | M5: 1 | N5: 1
A6: 10458 C12x750 | B6: 210008 | G6: 1 | K6: 1
A7: 10115 C5 | B7: 210008 | C7: 2 | D7: 10 | E7: 10 | F7: 5 | G7: 13 | H7: 10 | I7: 12 | J7: 9 | K7: 9 | L7: 6 | M7: 6 | N7: 6
A8: 10150 C6 | B8: 210008 | C8: 1 | D8: 2 | E8: 3 | F8: 3 | G8: 3 | H8: 3 | I8: 3 | J8: 3 | K8: 3 | L8: 2 | M8: 3 | N8: 3
A9: 10250 C5 | B9: 210008 | C9: 1 | D9: 5 | E9: 5 | F9: 4 | G9: 9 | H9: 2 | I9: 9 | J9: 1 | K9: 3 | L9: 3 | M9: 3 | N9: 3
A10: 10070 CP5 | B10: 210008 | C10: 2 | D10: 9 | E10: 8 | F10: 5 | G10: 10 | H10: 8 | I10: 9 | J10: 12 | K10: 4 | L10: 8 | M10: 6 | N10: 6
A11: 10080 C7 | B11: 210008 | C11: 1 | D11: 3 | E11: 2 | F11: 2 | G11: 2 | H11: 3 | I11: 3 | J11: 2 | K11: 1 | L11: 1 | M11: 1 | N11: 1
A12: 10118 C5 | B12: 210008 | C12: 2 | D12: 4 | E12: 9 | F12: 3 | G12: 4 | H12: 4 | I12: 6 | J12: 6 | K12: 5 | L12: 2 | M12: 7 | N12: 4
A13: 10123 C4X5 | B13: 210008 | C13: 1 | D13: 5 | E13: 7 | F13: 2 | G13: 4 | H13: 4 | I13: 9 | J13: 10 | K13: 5 | L13: 5 | M13: 7 | N13: 7
A14: 10045 C5 | B14: 210008 | D14: 3 | F14: 3 | H14: 3 | J14: 3 | L14: 3
A15: 10030 B25 | B15: 210008 | D15: 4 | E15: 3 | F15: 4 | G15: 5 | H15: 7 | I15: 8 | J15: 8 | K15: 6 | L15: 4 | M15: 3 | N15: 3
A16: 10232 C5 | B16: 210035 | F16: 1 | G16: 1 | H16: 1 | I16: 1 | J16: 1 | K16: 1
A17: 10545 C5 | B17: 210035 | F17: 1 | H17: 1 | I17: 1
A18: 10045 C5 | B18: 210035 | F18: 1 | G18: 1 | H18: 1 | I18: 1 | J18: 1 | K18: 1
A19: 10150 C6 | B19: 210035 | F19: 1 | H19: 1 | J19: 1
A20: 10100 SE10 | B20: 210035 | I20: 1
A21: 10030 B25 | B21: 210035 | F21: 2 | G21: 1 | H21: 2 | I21: 2 | J21: 2 | K21: 2 | L21: 2
A22: 10070 CP5 | B22: 210035 | F22: 1 | G22: 1 | H22: 1 | I22: 1 | J22: 1 | K22: 1 | L22: 1 | M22: 1 | N22: 1
A23: 10080 C7 | B23: 210035 | F23: 1 | G23: 1 | H23: 1 | I23: 1 | J23: 1 | K23: 1 | L23: 1 | M23: 1 | N23: 1
A24: 10118 C5 | B24: 210035 | F24: 1 | G24: 2 | H24: 2 | I24: 2 | J24: 2 | K24: 1 | L24: 2 | M24: 2 | N24: 1
A25: 316657000 | B25: 210035 | C25: 3 | D25: 3 | E25: 5 | F25: 7 | G25: 11 | H25: 12 | I25: 15 | J25: 20 | K25: 10 | L25: 4 | M25: 4 | N25: 4
A26: 316668010 | B26: 210035 | C26: 3 | D26: 3 | E26: 5 | F26: 3 | G26: 6 | H26: 10 | I26: 5 | J26: 8 | K26: 4 | L26: 4 | M26: 4 | N26: 4
A27: 10455 C12x750 | B27: 210035 | E27: 1 | F27: 1 | H27: 1 | I27: 1 | J27: 1 | K27: 1
A28: 10401 B25 | B28: 210035 | F28: 1 | H28: 1 | J28: 1
A29: 10431 C20x750 | B29: 210035 | E29: 1 | F29: 1 | G29: 1 | H29: 1 | I29: 1 | J29: 1 | K29: 1
A30: 10441 B20 | B30: 210035 | E30: 2 | F30: 2 | G30: 2 | H30: 2 | I30: 2 | J30: 2 | K30: 1
A31: 10420 C12x750 | B31: 210035 | E31: 1 | F31: 1 | G31: 1 | H31: 3 | I31: 3 | J31: 2 | K31: 1
A32: 10459 C12x750 | B32: 210035 | F32: 1 | H32: 1 | J32: 1 | K32: 1
A33: 10341 B20 | B33: 210114 | E33: 4 | F33: 3 | G33: 2 | I33: 5
A34: 10321 SA30 | B34: 210114 | E34: 5 | F34: 5 | I34: 5 | J34: 4 | K34: 4
A35: 10150 C6 | B35: 210114 | I35: 1 | J35: 1
A36: 10311 B20 | B36: 210114 | E36: 5 | F36: 3 | G36: 2 | I36: 5 | J36: 4 | K36: 4
A37: 10070 CP5 | B37: 210114 | E37: 4 | G37: 6 | I37: 4 | J37: 2 | K37: 1
A38: 10350 SA30 | B38: 210114 | E38: 3 | F38: 2 | G38: 3 | I38: 2 | J38: 2 | K38: 2
A39: 10455 C12x750 | B39: 210125 | F39: 5 | G39: 5 | H39: 5 | I39: 5 | J39: 5
A40: 10330 B20 | B40: 210125 | F40: 3 | G40: 5 | H40: 13 | I40: 11 | J40: 6 | K40: 6 | L40: 10
...

Sheet Calcul
A1: Code Article Gestcom | B1: Code client sage | C1: Mois | D1: Valeurs
A2: =IF(ROWS($2:2)>(COUNTA('Previsions SPA 2018'!A:A)-1)*12,"",OFFSET('Previsions SPA 2018'!A$1,INT((ROWS($2:2)-1)/12)+1,)) -> 10420 C12x750 | B2: =OFFSET('Previsions SPA 2018'!B$1,INT((ROWS($2:2)-1)/12)+1,)&"" -> 210008 | C2: =IF(A2="","",OFFSET('Previsions SPA 2018'!A$1,,MOD(ROWS($2:2)-1,12)+2)) -> 15012019 | D2: =IF(A2<>"",OFFSET('Previsions SPA 2018'!A$1,INT((ROWS($2:2)-1)/12)+1,(MID(C2,3,2)+1)),"") -> 1
A3: =IF(ROWS($2:3)>(COUNTA('Previsions SPA 2018'!A:A)-1)*12,"",OFFSET('Previsions SPA 2018'!A$1,INT((ROWS($2:3)-1)/12)+1,)) -> 10420 C12x750 | B3: =OFFSET('Previsions SPA 2018'!B$1,INT((ROWS($2:3)-1)/12)+1,)&"" -> 210008 | C3: =IF(A3="","",OFFSET('Previsions SPA 2018'!A$1,,MOD(ROWS($2:3)-1,12)+2)) -> 15022019 | D3: =IF(A3<>"",OFFSET('Previsions SPA 2018'!A$1,INT((ROWS($2:3)-1)/12)+1,(MID(C3,3,2)+1)),"") -> 2
A4: =IF(ROWS($2:4)>(COUNTA('Previsions SPA 2018'!A:A)-1)*12,"",OFFSET('Previsions SPA 2018'!A$1,INT((ROWS($2:4)-1)/12)+1,)) -> 10420 C12x750 | B4: =OFFSET('Previsions SPA 2018'!B$1,INT((ROWS($2:4)-1)/12)+1,)&"" -> 210008 | C4: =IF(A4="","",OFFSET('Previsions SPA 2018'!A$1,,MOD(ROWS($2:4)-1,12)+2)) -> 15032019 | D4: =IF(A4<>"",OFFSET('Previsions SPA 2018'!A$1,INT((ROWS($2:4)-1)/12)+1,(MID(C4,3,2)+1)),"") -> 2
A5: =IF(ROWS($2:5)>(COUNTA('Previsions SPA 2018'!A:A)-1)*12,"",OFFSET('Previsions SPA 2018'!A$1,INT((ROWS($2:5)-1)/12)+1,)) -> 10420 C12x750 | B5: =OFFSET('Previsions SPA 2018'!B$1,INT((ROWS($2:5)-1)/12)+1,)&"" -> 210008 | C5: =IF(A5="","",OFFSET('Previsions SPA 2018'!A$1,,MOD(ROWS($2:5)-1,12)+2)) -> 15042019 | D5: =IF(A5<>"",OFFSET('Previsions SPA 2018'!A$1,INT((ROWS($2:5)-1)/12)+1,(MID(C5,3,2)+1)),"") -> 1
A6: =IF(ROWS($2:6)>(COUNTA('Previsions SPA 2018'!A:A)-1)*12,"",OFFSET('Previsions SPA 2018'!A$1,INT((ROWS($2:6)-1)/12)+1,)) -> 10420 C12x750 | B6: =OFFSET('Previsions SPA 2018'!B$1,INT((ROWS($2:6)-1)/12)+1,)&"" -> 210008 | C6: =IF(A6="","",OFFSET('Previsions SPA 2018'!A$1,,MOD(ROWS($2:6)-1,12)+2)) -> 15052019 | D6: =IF(A6<>"",OFFSET('Previsions SPA 2018'!A$1,INT((ROWS($2:6)-1)/12)+1,(MID(C6,3,2)+1)),"") -> 1
A7: =IF(ROWS($2:7)>(COUNTA('Previsions SPA 2018'!A:A)-1)*12,"",OFFSET('Previsions SPA 2018'!A$1,INT((ROWS($2:7)-1)/12)+1,)) -> 10420 C12x750 | B7: =OFFSET('Previsions SPA 2018'!B$1,INT((ROWS($2:7)-1)/12)+1,)&"" -> 210008 | C7: =IF(A7="","",OFFSET('Previsions SPA 2018'!A$1,,MOD(ROWS($2:7)-1,12)+2)) -> 15062019 | D7: =IF(A7<>"",OFFSET('Previsions SPA 2018'!A$1,INT((ROWS($2:7)-1)/12)+1,(MID(C7,3,2)+1)),"") -> 3
A8: =IF(ROWS($2:8)>(COUNTA('Previsions SPA 2018'!A:A)-1)*12,"",OFFSET('Previsions SPA 2018'!A$1,INT((ROWS($2:8)-1)/12)+1,)) -> 10420 C12x750 | B8: =OFFSET('Previsions SPA 2018'!B$1,INT((ROWS($2:8)-1)/12)+1,)&"" -> 210008 | C8: =IF(A8="","",OFFSET('Previsions SPA 2018'!A$1,,MOD(ROWS($2:8)-1,12)+2)) -> 15072019 | D8: =IF(A8<>"",OFFSET('Previsions SPA 2018'!A$1,INT((ROWS($2:8)-1)/12)+1,(MID(C8,3,2)+1)),"") -> 3
A9: =IF(ROWS($2:9)>(COUNTA('Previsions SPA 2018'!A:A)-1)*12,"",OFFSET('Previsions SPA 2018'!A$1,INT((ROWS($2:9)-1)/12)+1,)) -> 10420 C12x750 | B9: =OFFSET('Previsions SPA 2018'!B$1,INT((ROWS($2:9)-1)/12)+1,)&"" -> 210008 | C9: =IF(A9="","",OFFSET('Previsions SPA 2018'!A$1,,MOD(ROWS($2:9)-1,12)+2)) -> 15082019 | D9: =IF(A9<>"",OFFSET('Previsions SPA 2018'!A$1,INT((ROWS($2:9)-1)/12)+1,(MID(C9,3,2)+1)),"") -> 2
A10: =IF(ROWS($2:10)>(COUNTA('Previsions SPA 2018'!A:A)-1)*12,"",OFFSET('Previsions SPA 2018'!A$1,INT((ROWS($2:10)-1)/12)+1,)) -> 10420 C12x750 | B10: =OFFSET('Previsions SPA 2018'!B$1,INT((ROWS($2:10)-1)/12)+1,)&"" -> 210008 | C10: =IF(A10="","",OFFSET('Previsions SPA 2018'!A$1,,MOD(ROWS($2:10)-1,12)+2)) -> 15092019 | D10: =IF(A10<>"",OFFSET('Previsions SPA 2018'!A$1,INT((ROWS($2:10)-1)/12)+1,(MID(C10,3,2)+1)),"") -> 1
A11: =IF(ROWS($2:11)>(COUNTA('Previsions SPA 2018'!A:A)-1)*12,"",OFFSET('Previsions SPA 2018'!A$1,INT((ROWS($2:11)-1)/12)+1,)) -> 10420 C12x750 | B11: =OFFSET('Previsions SPA 2018'!B$1,INT((ROWS($2:11)-1)/12)+1,)&"" -> 210008 | C11: =IF(A11="","",OFFSET('Previsions SPA 2018'!A$1,,MOD(ROWS($2:11)-1,12)+2)) -> 15102019 | D11: =IF(A11<>"",OFFSET('Previsions SPA 2018'!A$1,INT((ROWS($2:11)-1)/12)+1,(MID(C11,3,2)+1)),"") -> 1
A12: =IF(ROWS($2:12)>(COUNTA('Previsions SPA 2018'!A:A)-1)*12,"",OFFSET('Previsions SPA 2018'!A$1,INT((ROWS($2:12)-1)/12)+1,)) -> 10420 C12x750 | B12: =OFFSET('Previsions SPA 2018'!B$1,INT((ROWS($2:12)-1)/12)+1,)&"" -> 210008 | C12: =IF(A12="","",OFFSET('Previsions SPA 2018'!A$1,,MOD(ROWS($2:12)-1,12)+2)) -> 15112019 | D12: =IF(A12<>"",OFFSET('Previsions SPA 2018'!A$1,INT((ROWS($2:12)-1)/12)+1,(MID(C12,3,2)+1)),"") -> 1
A13: =IF(ROWS($2:13)>(COUNTA('Previsions SPA 2018'!A:A)-1)*12,"",OFFSET('Previsions SPA 2018'!A$1,INT((ROWS($2:13)-1)/12)+1,)) -> 10420 C12x750 | B13: =OFFSET('Previsions SPA 2018'!B$1,INT((ROWS($2:13)-1)/12)+1,)&"" -> 210008 | C13: =IF(A13="","",OFFSET('Previsions SPA 2018'!A$1,,MOD(ROWS($2:13)-1,12)+2)) -> 15122019 | D13: =IF(A13<>"",OFFSET('Previsions SPA 2018'!A$1,INT((ROWS($2:13)-1)/12)+1,(MID(C13,3,2)+1)),"") -> 2
A14: =IF(ROWS($2:14)>(COUNTA('Previsions SPA 2018'!A:A)-1)*12,"",OFFSET('Previsions SPA 2018'!A$1,INT((ROWS($2:14)-1)/12)+1,)) -> 10431 C20x750 | B14: =OFFSET('Previsions SPA 2018'!B$1,INT((ROWS($2:14)-1)/12)+1,)&"" -> 210008 | C14: =IF(A14="","",OFFSET('Previsions SPA 2018'!A$1,,MOD(ROWS($2:14)-1,12)+2)) -> 15012019 | D14: =IF(A14<>"",OFFSET('Previsions SPA 2018'!A$1,INT((ROWS($2:14)-1)/12)+1,(MID(C14,3,2)+1)),"") -> 1
A15: =IF(ROWS($2:15)>(COUNTA('Previsions SPA 2018'!A:A)-1)*12,"",OFFSET('Previsions SPA 2018'!A$1,INT((ROWS($2:15)-1)/12)+1,)) -> 10431 C20x750 | B15: =OFFSET('Previsions SPA 2018'!B$1,INT((ROWS($2:15)-1)/12)+1,)&"" -> 210008 | C15: =IF(A15="","",OFFSET('Previsions SPA 2018'!A$1,,MOD(ROWS($2:15)-1,12)+2)) -> 15022019 | D15: =IF(A15<>"",OFFSET('Previsions SPA 2018'!A$1,INT((ROWS($2:15)-1)/12)+1,(MID(C15,3,2)+1)),"") -> 1
A16: =IF(ROWS($2:16)>(COUNTA('Previsions SPA 2018'!A:A)-1)*12,"",OFFSET('Previsions SPA 2018'!A$1,INT((ROWS($2:16)-1)/12)+1,)) -> 10431 C20x750 | B16: =OFFSET('Previsions SPA 2018'!B$1,INT((ROWS($2:16)-1)/12)+1,)&"" -> 210008 | C16: =IF(A16="","",OFFSET('Previsions SPA 2018'!A$1,,MOD(ROWS($2:16)-1,12)+2)) -> 15032019 | D16: =IF(A16<>"",OFFSET('Previsions SPA 2018'!A$1,INT((ROWS($2:16)-1)/12)+1,(MID(C16,3,2)+1)),"") -> 1
A17: =IF(ROWS($2:17)>(COUNTA('Previsions SPA 2018'!A:A)-1)*12,"",OFFSET('Previsions SPA 2018'!A$1,INT((ROWS($2:17)-1)/12)+1,)) -> 10431 C20x750 | B17: =OFFSET('Previsions SPA 2018'!B$1,INT((ROWS($2:17)-1)/12)+1,)&"" -> 210008 | C17: =IF(A17="","",OFFSET('Previsions SPA 2018'!A$1,,MOD(ROWS($2:17)-1,12)+2)) -> 15042019 | D17: =IF(A17<>"",OFFSET('Previsions SPA 2018'!A$1,INT((ROWS($2:17)-1)/12)+1,(MID(C17,3,2)+1)),"") -> 1
A18: =IF(ROWS($2:18)>(COUNTA('Previsions SPA 2018'!A:A)-1)*12,"",OFFSET('Previsions SPA 2018'!A$1,INT((ROWS($2:18)-1)/12)+1,)) -> 10431 C20x750 | B18: =OFFSET('Previsions SPA 2018'!B$1,INT((ROWS($2:18)-1)/12)+1,)&"" -> 210008 | C18: =IF(A18="","",OFFSET('Previsions SPA 2018'!A$1,,MOD(ROWS($2:18)-1,12)+2)) -> 15052019 | D18: =IF(A18<>"",OFFSET('Previsions SPA 2018'!A$1,INT((ROWS($2:18)-1)/12)+1,(MID(C18,3,2)+1)),"") -> 1
A19: =IF(ROWS($2:19)>(COUNTA('Previsions SPA 2018'!A:A)-1)*12,"",OFFSET('Previsions SPA 2018'!A$1,INT((ROWS($2:19)-1)/12)+1,)) -> 10431 C20x750 | B19: =OFFSET('Previsions SPA 2018'!B$1,INT((ROWS($2:19)-1)/12)+1,)&"" -> 210008 | C19: =IF(A19="","",OFFSET('Previsions SPA 2018'!A$1,,MOD(ROWS($2:19)-1,12)+2)) -> 15062019 | D19: =IF(A19<>"",OFFSET('Previsions SPA 2018'!A$1,INT((ROWS($2:19)-1)/12)+1,(MID(C19,3,2)+1)),"") -> 2
A20: =IF(ROWS($2:20)>(COUNTA('Previsions SPA 2018'!A:A)-1)*12,"",OFFSET('Previsions SPA 2018'!A$1,INT((ROWS($2:20)-1)/12)+1,)) -> 10431 C20x750 | B20: =OFFSET('Previsions SPA 2018'!B$1,INT((ROWS($2:20)-1)/12)+1,)&"" -> 210008 | C20: =IF(A20="","",OFFSET('Previsions SPA 2018'!A$1,,MOD(ROWS($2:20)-1,12)+2)) -> 15072019 | D20: =IF(A20<>"",OFFSET('Previsions SPA 2018'!A$1,INT((ROWS($2:20)-1)/12)+1,(MID(C20,3,2)+1)),"") -> 2
A21: =IF(ROWS($2:21)>(COUNTA('Previsions SPA 2018'!A:A)-1)*12,"",OFFSET('Previsions SPA 2018'!A$1,INT((ROWS($2:21)-1)/12)+1,)) -> 10431 C20x750 | B21: =OFFSET('Previsions SPA 2018'!B$1,INT((ROWS($2:21)-1)/12)+1,)&"" -> 210008 | C21: =IF(A21="","",OFFSET('Previsions SPA 2018'!A$1,,MOD(ROWS($2:21)-1,12)+2)) -> 15082019 | D21: =IF(A21<>"",OFFSET('Previsions SPA 2018'!A$1,INT((ROWS($2:21)-1)/12)+1,(MID(C21,3,2)+1)),"") -> 2
A22: =IF(ROWS($2:22)>(COUNTA('Previsions SPA 2018'!A:A)-1)*12,"",OFFSET('Previsions SPA 2018'!A$1,INT((ROWS($2:22)-1)/12)+1,)) -> 10431 C20x750 | B22: =OFFSET('Previsions SPA 2018'!B$1,INT((ROWS($2:22)-1)/12)+1,)&"" -> 210008 | C22: =IF(A22="","",OFFSET('Previsions SPA 2018'!A$1,,MOD(ROWS($2:22)-1,12)+2)) -> 15092019 | D22: =IF(A22<>"",OFFSET('Previsions SPA 2018'!A$1,INT((ROWS($2:22)-1)/12)+1,(MID(C22,3,2)+1)),"") -> 2
A23: =IF(ROWS($2:23)>(COUNTA('Previsions SPA 2018'!A:A)-1)*12,"",OFFSET('Previsions SPA 2018'!A$1,INT((ROWS($2:23)-1)/12)+1,)) -> 10431 C20x750 | B23: =OFFSET('Previsions SPA 2018'!B$1,INT((ROWS($2:23)-1)/12)+1,)&"" -> 210008 | C23: =IF(A23="","",OFFSET('Previsions SPA 2018'!A$1,,MOD(ROWS($2:23)-1,12)+2)) -> 15102019 | D23: =IF(A23<>"",OFFSET('Previsions SPA 2018'!A$1,INT((ROWS($2:23)-1)/12)+1,(MID(C23,3,2)+1)),"") -> 2
A24: =IF(ROWS($2:24)>(COUNTA('Previsions SPA 2018'!A:A)-1)*12,"",OFFSET('Previsions SPA 2018'!A$1,INT((ROWS($2:24)-1)/12)+1,)) -> 10431 C20x750 | B24: =OFFSET('Previsions SPA 2018'!B$1,INT((ROWS($2:24)-1)/12)+1,)&"" -> 210008 | C24: =IF(A24="","",OFFSET('Previsions SPA 2018'!A$1,,MOD(ROWS($2:24)-1,12)+2)) -> 15112019 | D24: =IF(A24<>"",OFFSET('Previsions SPA 2018'!A$1,INT((ROWS($2:24)-1)/12)+1,(MID(C24,3,2)+1)),"") -> 1
A25: =IF(ROWS($2:25)>(COUNTA('Previsions SPA 2018'!A:A)-1)*12,"",OFFSET('Previsions SPA 2018'!A$1,INT((ROWS($2:25)-1)/12)+1,)) -> 10431 C20x750 | B25: =OFFSET('Previsions SPA 2018'!B$1,INT((ROWS($2:25)-1)/12)+1,)&"" -> 210008 | C25: =IF(A25="","",OFFSET('Previsions SPA 2018'!A$1,,MOD(ROWS($2:25)-1,12)+2)) -> 15122019 | D25: =IF(A25<>"",OFFSET('Previsions SPA 2018'!A$1,INT((ROWS($2:25)-1)/12)+1,(MID(C25,3,2)+1)),"") -> 1
A26: =IF(ROWS($2:26)>(COUNTA('Previsions SPA 2018'!A:A)-1)*12,"",OFFSET('Previsions SPA 2018'!A$1,INT((ROWS($2:26)-1)/12)+1,)) -> 10441 B20 | B26: =OFFSET('Previsions SPA 2018'!B$1,INT((ROWS($2:26)-1)/12)+1,)&"" -> 210008 | C26: =IF(A26="","",OFFSET('Previsions SPA 2018'!A$1,,MOD(ROWS($2:26)-1,12)+2)) -> 15012019 | D26: =IF(A26<>"",OFFSET('Previsions SPA 2018'!A$1,INT((ROWS($2:26)-1)/12)+1,(MID(C26,3,2)+1)),"") -> 1
A27: =IF(ROWS($2:27)>(COUNTA('Previsions SPA 2018'!A:A)-1)*12,"",OFFSET('Previsions SPA 2018'!A$1,INT((ROWS($2:27)-1)/12)+1,)) -> 10441 B20 | B27: =OFFSET('Previsions SPA 2018'!B$1,INT((ROWS($2:27)-1)/12)+1,)&"" -> 210008 | C27: =IF(A27="","",OFFSET('Previsions SPA 2018'!A$1,,MOD(ROWS($2:27)-1,12)+2)) -> 15022019 | D27: =IF(A27<>"",OFFSET('Previsions SPA 2018'!A$1,INT((ROWS($2:27)-1)/12)+1,(MID(C27,3,2)+1)),"") -> 0
A28: =IF(ROWS($2:28)>(COUNTA('Previsions SPA 2018'!A:A)-1)*12,"",OFFSET('Previsions SPA 2018'!A$1,INT((ROWS($2:28)-1)/12)+1,)) -> 10441 B20 | B28: =OFFSET('Previsions SPA 2018'!B$1,INT((ROWS($2:28)-1)/12)+1,)&"" -> 210008 | C28: =IF(A28="","",OFFSET('Previsions SPA 2018'!A$1,,MOD(ROWS($2:28)-1,12)+2)) -> 15032019 | D28: =IF(A28<>"",OFFSET('Previsions SPA 2018'!A$1,INT((ROWS($2:28)-1)/12)+1,(MID(C28,3,2)+1)),"") -> 1
A29: =IF(ROWS($2:29)>(COUNTA('Previsions SPA 2018'!A:A)-1)*12,"",OFFSET('Previsions SPA 2018'!A$1,INT((ROWS($2:29)-1)/12)+1,)) -> 10441 B20 | B29: =OFFSET('Previsions SPA 2018'!B$1,INT((ROWS($2:29)-1)/12)+1,)&"" -> 210008 | C29: =IF(A29="","",OFFSET('Previsions SPA 2018'!A$1,,MOD(ROWS($2:29)-1,12)+2)) -> 15042019 | D29: =IF(A29<>"",OFFSET('Previsions SPA 2018'!A$1,INT((ROWS($2:29)-1)/12)+1,(MID(C29,3,2)+1)),"") -> 1
A30: =IF(ROWS($2:30)>(COUNTA('Previsions SPA 2018'!A:A)-1)*12,"",OFFSET('Previsions SPA 2018'!A$1,INT((ROWS($2:30)-1)/12)+1,)) -> 10441 B20 | B30: =OFFSET('Previsions SPA 2018'!B$1,INT((ROWS($2:30)-1)/12)+1,)&"" -> 210008 | C30: =IF(A30="","",OFFSET('Previsions SPA 2018'!A$1,,MOD(ROWS($2:30)-1,12)+2)) -> 15052019 | D30: =IF(A30<>"",OFFSET('Previsions SPA 2018'!A$1,INT((ROWS($2:30)-1)/12)+1,(MID(C30,3,2)+1)),"") -> 2
A31: =IF(ROWS($2:31)>(COUNTA('Previsions SPA 2018'!A:A)-1)*12,"",OFFSET('Previsions SPA 2018'!A$1,INT((ROWS($2:31)-1)/12)+1,)) -> 10441 B20 | B31: =OFFSET('Previsions SPA 2018'!B$1,INT((ROWS($2:31)-1)/12)+1,)&"" -> 210008 | C31: =IF(A31="","",OFFSET('Previsions SPA 2018'!A$1,,MOD(ROWS($2:31)-1,12)+2)) -> 15062019 | D31: =IF(A31<>"",OFFSET('Previsions SPA 2018'!A$1,INT((ROWS($2:31)-1)/12)+1,(MID(C31,3,2)+1)),"") -> 2
A32: =IF(ROWS($2:32)>(COUNTA('Previsions SPA 2018'!A:A)-1)*12,"",OFFSET('Previsions SPA 2018'!A$1,INT((ROWS($2:32)-1)/12)+1,)) -> 10441 B20 | B32: =OFFSET('Previsions SPA 2018'!B$1,INT((ROWS($2:32)-1)/12)+1,)&"" -> 210008 | C32: =IF(A32="","",OFFSET('Previsions SPA 2018'!A$1,,MOD(ROWS($2:32)-1,12)+2)) -> 15072019 | D32: =IF(A32<>"",OFFSET('Previsions SPA 2018'!A$1,INT((ROWS($2:32)-1)/12)+1,(MID(C32,3,2)+1)),"") -> 2
A33: =IF(ROWS($2:33)>(COUNTA('Previsions SPA 2018'!A:A)-1)*12,"",OFFSET('Previsions SPA 2018'!A$1,INT((ROWS($2:33)-1)/12)+1,)) -> 10441 B20 | B33: =OFFSET('Previsions SPA 2018'!B$1,INT((ROWS($2:33)-1)/12)+1,)&"" -> 210008 | C33: =IF(A33="","",OFFSET('Previsions SPA 2018'!A$1,,MOD(ROWS($2:33)-1,12)+2)) -> 15082019 | D33: =IF(A33<>"",OFFSET('Previsions SPA 2018'!A$1,INT((ROWS($2:33)-1)/12)+1,(MID(C33,3,2)+1)),"") -> 2
A34: =IF(ROWS($2:34)>(COUNTA('Previsions SPA 2018'!A:A)-1)*12,"",OFFSET('Previsions SPA 2018'!A$1,INT((ROWS($2:34)-1)/12)+1,)) -> 10441 B20 | B34: =OFFSET('Previsions SPA 2018'!B$1,INT((ROWS($2:34)-1)/12)+1,)&"" -> 210008 | C34: =IF(A34="","",OFFSET('Previsions SPA 2018'!A$1,,MOD(ROWS($2:34)-1,12)+2)) -> 15092019 | D34: =IF(A34<>"",OFFSET('Previsions SPA 2018'!A$1,INT((ROWS($2:34)-1)/12)+1,(MID(C34,3,2)+1)),"") -> 2
A35: =IF(ROWS($2:35)>(COUNTA('Previsions SPA 2018'!A:A)-1)*12,"",OFFSET('Previsions SPA 2018'!A$1,INT((ROWS($2:35)-1)/12)+1,)) -> 10441 B20 | B35: =OFFSET('Previsions SPA 2018'!B$1,INT((ROWS($2:35)-1)/12)+1,)&"" -> 210008 | C35: =IF(A35="","",OFFSET('Previsions SPA 2018'!A$1,,MOD(ROWS($2:35)-1,12)+2)) -> 15102019 | D35: =IF(A35<>"",OFFSET('Previsions SPA 2018'!A$1,INT((ROWS($2:35)-1)/12)+1,(MID(C35,3,2)+1)),"") -> 0
A36: =IF(ROWS($2:36)>(COUNTA('Previsions SPA 2018'!A:A)-1)*12,"",OFFSET('Previsions SPA 2018'!A$1,INT((ROWS($2:36)-1)/12)+1,)) -> 10441 B20 | B36: =OFFSET('Previsions SPA 2018'!B$1,INT((ROWS($2:36)-1)/12)+1,)&"" -> 210008 | C36: =IF(A36="","",OFFSET('Previsions SPA 2018'!A$1,,MOD(ROWS($2:36)-1,12)+2)) -> 15112019 | D36: =IF(A36<>"",OFFSET('Previsions SPA 2018'!A$1,INT((ROWS($2:36)-1)/12)+1,(MID(C36,3,2)+1)),"") -> 2
A37: =IF(ROWS($2:37)>(COUNTA('Previsions SPA 2018'!A:A)-1)*12,"",OFFSET('Previsions SPA 2018'!A$1,INT((ROWS($2:37)-1)/12)+1,)) -> 10441 B20 | B37: =OFFSET('Previsions SPA 2018'!B$1,INT((ROWS($2:37)-1)/12)+1,)&"" -> 210008 | C37: =IF(A37="","",OFFSET('Previsions SPA 2018'!A$1,,MOD(ROWS($2:37)-1,12)+2)) -> 15122019 | D37: =IF(A37<>"",OFFSET('Previsions SPA 2018'!A$1,INT((ROWS($2:37)-1)/12)+1,(MID(C37,3,2)+1)),"") -> 2
A38: =IF(ROWS($2:38)>(COUNTA('Previsions SPA 2018'!A:A)-1)*12,"",OFFSET('Previsions SPA 2018'!A$1,INT((ROWS($2:38)-1)/12)+1,)) -> 10545 C5 | B38: =OFFSET('Previsions SPA 2018'!B$1,INT((ROWS($2:38)-1)/12)+1,)&"" -> 210008 | C38: =IF(A38="","",OFFSET('Previsions SPA 2018'!A$1,,MOD(ROWS($2:38)-1,12)+2)) -> 15012019 | D38: =IF(A38<>"",OFFSET('Previsions SPA 2018'!A$1,INT((ROWS($2:38)-1)/12)+1,(MID(C38,3,2)+1)),"") -> 1
A39: =IF(ROWS($2:39)>(COUNTA('Previsions SPA 2018'!A:A)-1)*12,"",OFFSET('Previsions SPA 2018'!A$1,INT((ROWS($2:39)-1)/12)+1,)) -> 10545 C5 | B39: =OFFSET('Previsions SPA 2018'!B$1,INT((ROWS($2:39)-1)/12)+1,)&"" -> 210008 | C39: =IF(A39="","",OFFSET('Previsions SPA 2018'!A$1,,MOD(ROWS($2:39)-1,12)+2)) -> 15022019 | D39: =IF(A39<>"",OFFSET('Previsions SPA 2018'!A$1,INT((ROWS($2:39)-1)/12)+1,(MID(C39,3,2)+1)),"") -> 2
A40: =IF(ROWS($2:40)>(COUNTA('Previsions SPA 2018'!A:A)-1)*12,"",OFFSET('Previsions SPA 2018'!A$1,INT((ROWS($2:40)-1)/12)+1,)) -> 10545 C5 | B40: =OFFSET('Previsions SPA 2018'!B$1,INT((ROWS($2:40)-1)/12)+1,)&"" -> 210008 | C40: =IF(A40="","",OFFSET('Previsions SPA 2018'!A$1,,MOD(ROWS($2:40)-1,12)+2)) -> 15032019 | D40: =IF(A40<>"",OFFSET('Previsions SPA 2018'!A$1,INT((ROWS($2:40)-1)/12)+1,(MID(C40,3,2)+1)),"") -> 1
...
