Workbook
Name TABLEAU: #REF!

Sheet Previsions SPA 2018
A1: Code Article Gestcom | B1: Code client sage | C1: 15012019 | D1: 15022019 | E1: 15032019 | F1: 15042019 | G1: 15052019 | H1: 15062019 | I1: 15072019 | J1: 15082019 | K1: 15092019 | L1: 15102019 | M1: 15112019 | N1: 15122019
A2: 10420 C12x750 | B2: 210008 | C2: 1 | D2: 2 | E2: 2 | F2: 1 | G2: 1 | H2: 3 | I2: 3 | J2: 2 | K2: 1 | L2: 1 | M2: 1 | N2: 2
A3: 10431 C20x750 | B3: 210008 | C3: 1 | D3: 1 | E3: 1 | F3: 1 | G3: 1 | H3: 2 | I3: 2 | J3: 2 | K3: 2 | L3: 2 | M3: 1 | N3: 1
A4: 10441 B20 | B4: 210008 | C4: 1 | E4: 1 | F4: 1 | G4: 2 | H4: 2 | I4: 2 | J4: 2 | K4: 2 | M4: 2 | N4: 2
A5: 10545 C5 | B5: 210008 | C5: 1 | D5: 2 | E5: 1 | F5: 1 | G5: 1 | H5: 2 | I5: 2 | K5: 2 | L5: 1 | M5: 1 | N5: 1
A6: 10458 C12x750 | B6: 210008 | G6: 1 | K6: 1
A7: 10115 C5 | B7: 210008 | C7: 2 | D7: 10 | E7: 10 | F7: 5 | G7: 13 | H7: 10 | I7: 12 | J7: 9 | K7: 9 | L7: 6 | M7: 6 | N7: 6
A8: 10150 C6 | B8: 210008 | C8: 1 | D8: 2 | E8: 3 | F8: 3 | G8: 3 | H8: 3 | I8: 3 | J8: 3 | K8: 3 | L8: 2 | M8: 3 | N8: 3
A9: 10250 C5 | B9: 210008 | C9: 1 | D9: 5 | E9: 5 | F9: 4 | G9: 9 | H9: 2 | I9: 9 | J9: 1 | K9: 3 | L9: 3 | M9: 3 | N9: 3
A10: 10070 CP5 | B10: 210008 | C10: 2 | D10: 9 | E10: 8 | F10: 5 | G10: 10 | H10: 8 | I10: 9 | J10: 12 | K10: 4 | L10: 8 | M10: 6 | N10: 6
A11: 10080 C7 | B11: 210008 | C11: 1 | D11: 3 | E11: 2 | F11: 2 | G11: 2 | H11: 3 | I11: 3 | J11: 2 | K11: 1 | L11: 1 | M11: 1 | N11: 1
A12: 10118 C5 | B12: 210008 | C12: 2 | D12: 4 | E12: 9 | F12: 3 | G12: 4 | H12: 4 | I12: 6 | J12: 6 | K12: 5 | L12: 2 | M12: 7 | N12: 4
A13: 10123 C4X5 | B13: 210008 | C13: 1 | D13: 5 | E13: 7 | F13: 2 | G13: 4 | H13: 4 | I13: 9 | J13: 10 | K13: 5 | L13: 5 | M13: 7 | N13: 7
A14: 10045 C5 | B14: 210008 | D14: 3 | F14: 3 | H14: 3 | J14: 3 | L14: 3
A15: 10030 B25 | B15: 210008 | D15: 4 | E15: 3 | F15: 4 | G15: 5 | H15: 7 | I15: 8 | J15: 8 | K15: 6 | L15: 4 | M15: 3 | N15: 3
A16: 10232 C5 | B16: 210035 | F16: 1 | G16: 1 | H16: 1 | I16: 1 | J16: 1 | K16: 1
A17: 10545 C5 | B17: 210035 | F17: 1 | H17: 1 | I17: 1
A18: 10045 C5 | B18: 210035 | F18: 1 | G18: 1 | H18: 1 | I18: 1 | J18: 1 | K18: 1
A19: 10150 C6 | B19: 210035 | F19: 1 | H19: 1 | J19: 1
A20: 10100 SE10 | B20: 210035 | I20: 1
A21: 10030 B25 | B21: 210035 | F21: 2 | G21: 1 | H21: 2 | I21: 2 | J21: 2 | K21: 2 | L21: 2
A22: 10070 CP5 | B22: 210035 | F22: 1 | G22: 1 | H22: 1 | I22: 1 | J22: 1 | K22: 1 | L22: 1 | M22: 1 | N22: 1
A23: 10080 C7 | B23: 210035 | F23: 1 | G23: 1 | H23: 1 | I23: 1 | J23: 1 | K23: 1 | L23: 1 | M23: 1 | N23: 1
A24: 10118 C5 | B24: 210035 | F24: 1 | G24: 2 | H24: 2 | I24: 2 | J24: 2 | K24: 1 | L24: 2 | M24: 2 | N24: 1
A25: 316657000 | B25: 210035 | C25: 3 | D25: 3 | E25: 5 | F25: 7 | G25: 11 | H25: 12 | I25: 15 | J25: 20 | K25: 10 | L25: 4 | M25: 4 | N25: 4
A26: 316668010 | B26: 210035 | C26: 3 | D26: 3 | E26: 5 | F26: 3 | G26: 6 | H26: 10 | I26: 5 | J26: 8 | K26: 4 | L26: 4 | M26: 4 | N26: 4
A27: 10455 C12x750 | B27: 210035 | E27: 1 | F27: 1 | H27: 1 | I27: 1 | J27: 1 | K27: 1
A28: 10401 B25 | B28: 210035 | F28: 1 | H28: 1 | J28: 1
A29: 10431 C20x750 | B29: 210035 | E29: 1 | F29: 1 | G29: 1 | H29: 1 | I29: 1 | J29: 1 | K29: 1
A30: 10441 B20 | B30: 210035 | E30: 2 | F30: 2 | G30: 2 | H30: 2 | I30: 2 | J30: 2 | K30: 1
A31: 10420 C12x750 | B31: 210035 | E31: 1 | F31: 1 | G31: 1 | H31: 3 | I31: 3 | J31: 2 | K31: 1
A32: 10459 C12x750 | B32: 210035 | F32: 1 | H32: 1 | J32: 1 | K32: 1
A33: 10341 B20 | B33: 210114 | E33: 4 | F33: 3 | G33: 2 | I33: 5
A34: 10321 SA30 | B34: 210114 | E34: 5 | F34: 5 | I34: 5 | J34: 4 | K34: 4
A35: 10150 C6 | B35: 210114 | I35: 1 | J35: 1
A36: 10311 B20 | B36: 210114 | E36: 5 | F36: 3 | G36: 2 | I36: 5 | J36: 4 | K36: 4
A37: 10070 CP5 | B37: 210114 | E37: 4 | G37: 6 | I37: 4 | J37: 2 | K37: 1
A38: 10350 SA30 | B38: 210114 | E38: 3 | F38: 2 | G38: 3 | I38: 2 | J38: 2 | K38: 2
A39: 10455 C12x750 | B39: 210125 | F39: 5 | G39: 5 | H39: 5 | I39: 5 | J39: 5
A40: 10330 B20 | B40: 210125 | F40: 3 | G40: 5 | H40: 13 | I40: 11 | J40: 6 | K40: 6 | L40: 10
A41: 10545 C5 | B41: 210125 | F41: 2 | G41: 3 | H41: 3 | I41: 3 | J41: 3
A42: 10458 C12x750 | B42: 210125 | F42: 2
A43: 10341 B20 | B43: 210125 | F43: 5 | G43: 8 | H43: 8 | I43: 8 | J43: 12 | K43: 5 | L43: 8
A44: 10045 C5 | B44: 210125 | F44: 2 | G44: 5 | H44: 2 | I44: 2 | J44: 3 | K44: 2
A45: 10401 B25 | B45: 210125 | F45: 4 | G45: 2 | H45: 2 | I45: 1 | J45: 1
A46: 10150 C6 | B46: 210125 | F46: 1 | G46: 1 | H46: 2 | I46: 2 | J46: 2 | K46: 2
A47: 10431 C20x750 | B47: 210125 | F47: 4 | I47: 3
A48: 10311 B20 | B48: 210125 | F48: 2 | G48: 4 | H48: 12 | I48: 11 | J48: 10 | K48: 5 | L48: 5
A49: 10250 C5 | B49: 210125 | F49: 1 | G49: 1 | H49: 2 | I49: 2 | J49: 2 | K49: 2
A50: 10030 B25 | B50: 210125 | F50: 5 | G50: 5 | H50: 5 | I50: 5 | J50: 5 | K50: 2
A51: 10070 CP5 | B51: 210125 | F51: 2 | G51: 2 | H51: 2 | I51: 5 | J51: 2 | K51: 2
A52: 10080 C7 | B52: 210125 | F52: 2 | G52: 2 | H52: 2 | I52: 2 | J52: 2 | K52: 2
A53: 10441 B20 | B53: 210125 | F53: 5 | G53: 5 | H53: 5 | I53: 5 | J53: 5
A54: 10118 C5 | B54: 210125 | F54: 2 | G54: 3 | H54: 3 | I54: 2 | J54: 2 | K54: 2
A55: 10233 C5 | B55: 210125 | F55: 2 | G55: 2 | H55: 2 | I55: 2 | J55: 2 | K55: 2
A56: VP 11080 DIS.QIB | B56: 210125 | F56: 10
A57: 316657000 | B57: 210125 | G57: 4 | H57: 4 | I57: 5 | J57: 5 | K57: 5 | L57: 2
A58: 316668010 | B58: 210125 | G58: 3 | H58: 3 | I58: 3 | J58: 3 | K58: 3 | L58: 2
A59: 316953000 | B59: 210125 | G59: 10
A60: 316959010 | B60: 210125 | G60: 10
A61: 10232 C5 | B61: 220020 | F61: 1 | G61: 1 | H61: 1 | I61: 1 | J61: 1 | K61: 1 | L61: 1
A62: 10420 C12x750 | B62: 220020 | D62: 1 | E62: 1 | F62: 1 | G62: 1 | H62: 1 | I62: 1 | J62: 1 | K62: 1 | L62: 1 | M62: 1 | N62: 1
A63: 10455 C12x750 | B63: 220020 | D63: 2 | E63: 2 | F63: 2 | G63: 2 | H63: 2 | I63: 2 | J63: 2 | K63: 2 | L63: 2 | M63: 2 | N63: 2
A64: 10459 C12x750 | B64: 220020 | F64: 1 | H64: 1 | I64: 1 | J64: 1 | K64: 1 | L64: 1 | M64: 1 | N64: 1
A65: 10330 B20 | B65: 220020 | C65: 6 | D65: 8 | E65: 8 | F65: 10 | G65: 10 | H65: 15 | I65: 25 | J65: 19 | K65: 15 | L65: 15 | M65: 10 | N65: 10
A66: 10386 B5L | B66: 220020 | F66: 1 | J66: 1
A67: 10545 C5 | B67: 220020 | C67: 1 | D67: 1 | E67: 1 | F67: 4 | G67: 1 | H67: 5 | I67: 3 | J67: 3 | K67: 1
A68: 10458 C12x750 | B68: 220020 | E68: 1 | H68: 1
A69: 10341 B20 | B69: 220020 | C69: 2 | D69: 2 | E69: 2 | F69: 2 | G69: 2 | H69: 2 | I69: 14 | J69: 2 | K69: 4 | L69: 2 | M69: 2 | N69: 2
A70: 10045 C5 | B70: 220020 | C70: 1 | D70: 1 | E70: 1 | F70: 2 | G70: 2 | H70: 2 | I70: 2 | J70: 2 | K70: 1 | L70: 1 | N70: 1
A71: 10161 B20 | B71: 220020 | D71: 2 | E71: 2 | F71: 2 | G71: 1 | H71: 4 | I71: 4 | J71: 2 | K71: 2 | L71: 2
A72: 10329 B25 | B72: 220020 | D72: 1 | E72: 1 | F72: 1 | G72: 1 | H72: 5 | I72: 4 | J72: 3 | K72: 2 | L72: 1 | M72: 1
A73: 10401 B25 | B73: 220020 | E73: 1 | F73: 1 | H73: 1 | I73: 1 | J73: 2 | K73: 1
A74: 10150 C6 | B74: 220020 | D74: 1 | E74: 1 | F74: 1 | G74: 1 | H74: 1 | I74: 1 | J74: 1 | K74: 2 | L74: 1 | M74: 1 | N74: 1
A75: 10370 C7 | B75: 220020 | F75: 1 | G75: 1 | H75: 1
A76: 10431 C20x750 | B76: 220020 | D76: 1 | E76: 1 | F76: 3 | G76: 3 | H76: 4 | I76: 14 | J76: 4 | K76: 2
A77: 10250 C5 | B77: 220020 | E77: 1 | F77: 1 | G77: 1 | H77: 2 | I77: 1 | J77: 1 | K77: 1
A78: 10030 B25 | B78: 220020 | C78: 3 | D78: 3 | E78: 3 | F78: 3 | G78: 3 | H78: 3 | I78: 3 | J78: 3 | K78: 3 | L78: 3 | M78: 3 | N78: 3
A79: 10300 B25 | B79: 220020 | C79: 5 | D79: 8 | E79: 8 | F79: 12 | G79: 10 | H79: 10 | I79: 10 | J79: 10 | K79: 10 | L79: 10 | M79: 4 | N79: 4
A80: 10070 CP5 | B80: 220020 | C80: 1 | D80: 1 | E80: 1 | F80: 4 | G80: 1 | H80: 2 | I80: 2 | J80: 2 | K80: 2 | L80: 2 | M80: 2 | N80: 2
A81: 10080 C7 | B81: 220020 | C81: 1 | D81: 1 | E81: 1 | F81: 2 | G81: 1 | H81: 2 | I81: 2 | J81: 1 | K81: 2 | L81: 1 | M81: 1 | N81: 1
A82: 10441 B20 | B82: 220020 | C82: 2 | D82: 2 | E82: 2 | F82: 4 | G82: 4 | H82: 7 | I82: 2 | J82: 2 | K82: 2 | L82: 2 | M82: 2 | N82: 1
A83: 10302 B20 | B83: 220020 | C83: 12 | D83: 12 | E83: 12 | F83: 12 | G83: 12 | H83: 15 | I83: 40 | J83: 19 | K83: 18 | L83: 10 | M83: 10 | N83: 10
A84: 10118 C5 | B84: 220020 | C84: 1 | D84: 1 | E84: 1 | F84: 4 | G84: 1 | H84: 2 | I84: 2 | J84: 2 | K84: 2 | L84: 2 | M84: 2 | N84: 2
A85: VP 11080 DIS.QIB | B85: 220020 | F85: 10
A86: 316657000 | B86: 220020 | E86: 8 | F86: 8 | G86: 8 | H86: 8 | I86: 8 | J86: 12 | K86: 12 | L86: 8 | M86: 8 | N86: 4
A87: 316668010 | B87: 220020 | E87: 6 | F87: 6 | G87: 8 | H87: 10 | I87: 12 | J87: 16 | K87: 8 | L87: 2 | M87: 2 | N87: 2
A88: 316959010 | B88: 220020 | G88: 12
A89: 10232 C5 | B89: 220024 | H89: 1
A90: 10420 C12x750 | B90: 220024 | H90: 5 | J90: 3
A91: 10452 C12x750 | B91: 220024 | H91: 1 | I91: 3 | K91: 2
A92: 316657000 | B92: 220024 | F92: 3 | G92: 3 | H92: 3 | I92: 4 | J92: 3 | K92: 3 | L92: 3
A93: 316668010 | B93: 220024 | F93: 2 | G93: 4 | H93: 6 | I93: 6 | J93: 6 | K93: 6 | L93: 6
A94: 10453 C12x750 | B94: 220024 | H94: 2 | I94: 1 | J94: 1
A95: 10455 C12x750 | B95: 220024 | H95: 2 | J95: 2 | K95: 4
A96: 10330 B20 | B96: 220024 | H96: 4 | I96: 4 | K96: 4
A97: 10377 B20 | B97: 220024 | H97: 3 | I97: 4 | J97: 4 | K97: 3
A98: 10545 C5 | B98: 220024 | H98: 4 | J98: 4 | K98: 3
A99: 10045 C5 | B99: 220024 | H99: 4 | I99: 1 | J99: 3
A100: 10115 C5 | B100: 220024 | I100: 4
...

Sheet Calcul
A1: Code Article Gestcom | B1: Code client sage | C1: Mois | D1: Valeurs
A2: =IF(ROWS($2:2)>(COUNTA('Previsions SPA 2018'!A:A)-1)*12,"",OFFSET('Previsions SPA 2018'!A$1,INT((ROWS($2:2)-1)/12)+1,)) -> 10420 C12x750 | B2: =OFFSET('Previsions SPA 2018'!B$1,INT((ROWS($2:2)-1)/12)+1,)&"" -> 210008 | C2: =IF(A2="","",OFFSET('Previsions SPA 2018'!A$1,,MOD(ROWS($2:2)-1,12)+2)) -> 15012019 | D2: =IF(A2<>"",OFFSET('Previsions SPA 2018'!A$1,INT((ROWS($2:2)-1)/12)+1,(MID(C2,3,2)+1)),"") -> 1
A3: =IF(ROWS($2:3)>(COUNTA('Previsions SPA 2018'!A:A)-1)*12,"",OFFSET('Previsions SPA 2018'!A$1,INT((ROWS($2:3)-1)/12)+1,)) -> 10420 C12x750 | B3: =OFFSET('Previsions SPA 2018'!B$1,INT((ROWS($2:3)-1)/12)+1,)&"" -> 210008 | C3: =IF(A3="","",OFFSET('Previsions SPA 2018'!A$1,,MOD(ROWS($2:3)-1,12)+2)) -> 15022019 | D3: =IF(A3<>"",OFFSET('Previsions SPA 2018'!A$1,INT((ROWS($2:3)-1)/12)+1,(MID(C3,3,2)+1)),"") -> 2
A4: =IF(ROWS($2:4)>(COUNTA('Previsions SPA 2018'!A:A)-1)*12,"",OFFSET('Previsions SPA 2018'!A$1,INT((ROWS($2:4)-1)/12)+1,)) -> 10420 C12x750 | B4: =OFFSET('Previsions SPA 2018'!B$1,INT((ROWS($2:4)-1)/12)+1,)&"" -> 210008 | C4: =IF(A4="","",OFFSET('Previsions SPA 2018'!A$1,,MOD(ROWS($2:4)-1,12)+2)) -> 15032019 | D4: =IF(A4<>"",OFFSET('Previsions SPA 2018'!A$1,INT((ROWS($2:4)-1)/12)+1,(MID(C4,3,2)+1)),"") -> 2
A5: =IF(ROWS($2:5)>(COUNTA('Previsions SPA 2018'!A:A)-1)*12,"",OFFSET('Previsions SPA 2018'!A$1,INT((ROWS($2:5)-1)/12)+1,)) -> 10420 C12x750 | B5: =OFFSET('Previsions SPA 2018'!B$1,INT((ROWS($2:5)-1)/12)+1,)&"" -> 210008 | C5: =IF(A5="","",OFFSET('Previsions SPA 2018'!A$1,,MOD(ROWS($2:5)-1,12)+2)) -> 15042019 | D5: =IF(A5<>"",OFFSET('Previsions SPA 2018'!A$1,INT((ROWS($2:5)-1)/12)+1,(MID(C5,3,2)+1)),"") -> 1
A6: =IF(ROWS($2:6)>(COUNTA('Previsions SPA 2018'!A:A)-1)*12,"",OFFSET('Previsions SPA 2018'!A$1,INT((ROWS($2:6)-1)/12)+1,)) -> 10420 C12x750 | B6: =OFFSET('Previsions SPA 2018'!B$1,INT((ROWS($2:6)-1)/12)+1,)&"" -> 210008 | C6: =IF(A6="","",OFFSET('Previsions SPA 2018'!A$1,,MOD(ROWS($2:6)-1,12)+2)) -> 15052019 | D6: =IF(A6<>"",OFFSET('Previsions SPA 2018'!A$1,INT((ROWS($2:6)-1)/12)+1,(MID(C6,3,2)+1)),"") -> 1
A7: =IF(ROWS($2:7)>(COUNTA('Previsions SPA 2018'!A:A)-1)*12,"",OFFSET('Previsions SPA 2018'!A$1,INT((ROWS($2:7)-1)/12)+1,)) -> 10420 C12x750 | B7: =OFFSET('Previsions SPA 2018'!B$1,INT((ROWS($2:7)-1)/12)+1,)&"" -> 210008 | C7: =IF(A7="","",OFFSET('Previsions SPA 2018'!A$1,,MOD(ROWS($2:7)-1,12)+2)) -> 15062019 | D7: =IF(A7<>"",OFFSET('Previsions SPA 2018'!A$1,INT((ROWS($2:7)-1)/12)+1,(MID(C7,3,2)+1)),"") -> 3
A8: =IF(ROWS($2:8)>(COUNTA('Previsions SPA 2018'!A:A)-1)*12,"",OFFSET('Previsions SPA 2018'!A$1,INT((ROWS($2:8)-1)/12)+1,)) -> 10420 C12x750 | B8: =OFFSET('Previsions SPA 2018'!B$1,INT((ROWS($2:8)-1)/12)+1,)&"" -> 210008 | C8: =IF(A8="","",OFFSET('Previsions SPA 2018'!A$1,,MOD(ROWS($2:8)-1,12)+2)) -> 15072019 | D8: =IF(A8<>"",OFFSET('Previsions SPA 2018'!A$1,INT((ROWS($2:8)-1)/12)+1,(MID(C8,3,2)+1)),"") -> 3
A9: =IF(ROWS($2:9)>(COUNTA('Previsions SPA 2018'!A:A)-1)*12,"",OFFSET('Previsions SPA 2018'!A$1,INT((ROWS($2:9)-1)/12)+1,)) -> 10420 C12x750 | B9: =OFFSET('Previsions SPA 2018'!B$1,INT((ROWS($2:9)-1)/12)+1,)&"" -> 210008 | C9: =IF(A9="","",OFFSET('Previsions SPA 2018'!A$1,,MOD(ROWS($2:9)-1,12)+2)) -> 15082019 | D9: =IF(A9<>"",OFFSET('Previsions SPA 2018'!A$1,INT((ROWS($2:9)-1)/12)+1,(MID(C9,3,2)+1)),"") -> 2
A10: =IF(ROWS($2:10)>(COUNTA('Previsions SPA 2018'!A:A)-1)*12,"",OFFSET('Previsions SPA 2018'!A$1,INT((ROWS($2:10)-1)/12)+1,)) -> 10420 C12x750 | B10: =OFFSET('Previsions SPA 2018'!B$1,INT((ROWS($2:10)-1)/12)+1,)&"" -> 210008 | C10: =IF(A10="","",OFFSET('Previsions SPA 2018'!A$1,,MOD(ROWS($2:10)-1,12)+2)) -> 15092019 | D10: =IF(A10<>"",OFFSET('Previsions SPA 2018'!A$1,INT((ROWS($2:10)-1)/12)+1,(MID(C10,3,2)+1)),"") -> 1
A11: =IF(ROWS($2:11)>(COUNTA('Previsions SPA 2018'!A:A)-1)*12,"",OFFSET('Previsions SPA 2018'!A$1,INT((ROWS($2:11)-1)/12)+1,)) -> 10420 C12x750 | B11: =OFFSET('Previsions SPA 2018'!B$1,INT((ROWS($2:11)-1)/12)+1,)&"" -> 210008 | C11: =IF(A11="","",OFFSET('Previsions SPA 2018'!A$1,,MOD(ROWS($2:11)-1,12)+2)) -> 15102019 | D11: =IF(A11<>"",OFFSET('Previsions SPA 2018'!A$1,INT((ROWS($2:11)-1)/12)+1,(MID(C11,3,2)+1)),"") -> 1
A12: =IF(ROWS($2:12)>(COUNTA('Previsions SPA 2018'!A:A)-1)*12,"",OFFSET('Previsions SPA 2018'!A$1,INT((ROWS($2:12)-1)/12)+1,)) -> 10420 C12x750 | B12: =OFFSET('Previsions SPA 2018'!B$1,INT((ROWS($2:12)-1)/12)+1,)&"" -> 210008 | C12: =IF(A12="","",OFFSET('Previsions SPA 2018'!A$1,,MOD(ROWS($2:12)-1,12)+2)) -> 15112019 | D12: =IF(A12<>"",OFFSET('Previsions SPA 2018'!A$1,INT((ROWS($2:12)-1)/12)+1,(MID(C12,3,2)+1)),"") -> 1
A13: =IF(ROWS($2:13)>(COUNTA('Previsions SPA 2018'!A:A)-1)*12,"",OFFSET('Previsions SPA 2018'!A$1,INT((ROWS($2:13)-1)/12)+1,)) -> 10420 C12x750 | B13: =OFFSET('Previsions SPA 2018'!B$1,INT((ROWS($2:13)-1)/12)+1,)&"" -> 210008 | C13: =IF(A13="","",OFFSET('Previsions SPA 2018'!A$1,,MOD(ROWS($2:13)-1,12)+2)) -> 15122019 | D13: =IF(A13<>"",OFFSET('Previsions SPA 2018'!A$1,INT((ROWS($2:13)-1)/12)+1,(MID(C13,3,2)+1)),"") -> 2
A14: =IF(ROWS($2:14)>(COUNTA('Previsions SPA 2018'!A:A)-1)*12,"",OFFSET('Previsions SPA 2018'!A$1,INT((ROWS($2:14)-1)/12)+1,)) -> 10431 C20x750 | B14: =OFFSET('Previsions SPA 2018'!B$1,INT((ROWS($2:14)-1)/12)+1,)&"" -> 210008 | C14: =IF(A14="","",OFFSET('Previsions SPA 2018'!A$1,,MOD(ROWS($2:14)-1,12)+2)) -> 15012019 | D14: =IF(A14<>"",OFFSET('Previsions SPA 2018'!A$1,INT((ROWS($2:14)-1)/12)+1,(MID(C14,3,2)+1)),"") -> 1
A15: =IF(ROWS($2:15)>(COUNTA('Previsions SPA 2018'!A:A)-1)*12,"",OFFSET('Previsions SPA 2018'!A$1,INT((ROWS($2:15)-1)/12)+1,)) -> 10431 C20x750 | B15: =OFFSET('Previsions SPA 2018'!B$1,INT((ROWS($2:15)-1)/12)+1,)&"" -> 210008 | C15: =IF(A15="","",OFFSET('Previsions SPA 2018'!A$1,,MOD(ROWS($2:15)-1,12)+2)) -> 15022019 | D15: =IF(A15<>"",OFFSET('Previsions SPA 2018'!A$1,INT((ROWS($2:15)-1)/12)+1,(MID(C15,3,2)+1)),"") -> 1
A16: =IF(ROWS($2:16)>(COUNTA('Previsions SPA 2018'!A:A)-1)*12,"",OFFSET('Previsions SPA 2018'!A$1,INT((ROWS($2:16)-1)/12)+1,)) -> 10431 C20x750 | B16: =OFFSET('Previsions SPA 2018'!B$1,INT((ROWS($2:16)-1)/12)+1,)&"" -> 210008 | C16: =IF(A16="","",OFFSET('Previsions SPA 2018'!A$1,,MOD(ROWS($2:16)-1,12)+2)) -> 15032019 | D16: =IF(A16<>"",OFFSET('Previsions SPA 2018'!A$1,INT((ROWS($2:16)-1)/12)+1,(MID(C16,3,2)+1)),"") -> 1
A17: =IF(ROWS($2:17)>(COUNTA('Previsions SPA 2018'!A:A)-1)*12,"",OFFSET('Previsions SPA 2018'!A$1,INT((ROWS($2:17)-1)/12)+1,)) -> 10431 C20x750 | B17: =OFFSET('Previsions SPA 2018'!B$1,INT((ROWS($2:17)-1)/12)+1,)&"" -> 210008 | C17: =IF(A17="","",OFFSET('Previsions SPA 2018'!A$1,,MOD(ROWS($2:17)-1,12)+2)) -> 15042019 | D17: =IF(A17<>"",OFFSET('Previsions SPA 2018'!A$1,INT((ROWS($2:17)-1)/12)+1,(MID(C17,3,2)+1)),"") -> 1
A18: =IF(ROWS($2:18)>(COUNTA('Previsions SPA 2018'!A:A)-1)*12,"",OFFSET('Previsions SPA 2018'!A$1,INT((ROWS($2:18)-1)/12)+1,)) -> 10431 C20x750 | B18: =OFFSET('Previsions SPA 2018'!B$1,INT((ROWS($2:18)-1)/12)+1,)&"" -> 210008 | C18: =IF(A18="","",OFFSET('Previsions SPA 2018'!A$1,,MOD(ROWS($2:18)-1,12)+2)) -> 15052019 | D18: =IF(A18<>"",OFFSET('Previsions SPA 2018'!A$1,INT((ROWS($2:18)-1)/12)+1,(MID(C18,3,2)+1)),"") -> 1
A19: =IF(ROWS($2:19)>(COUNTA('Previsions SPA 2018'!A:A)-1)*12,"",OFFSET('Previsions SPA 2018'!A$1,INT((ROWS($2:19)-1)/12)+1,)) -> 10431 C20x750 | B19: =OFFSET('Previsions SPA 2018'!B$1,INT((ROWS($2:19)-1)/12)+1,)&"" -> 210008 | C19: =IF(A19="","",OFFSET('Previsions SPA 2018'!A$1,,MOD(ROWS($2:19)-1,12)+2)) -> 15062019 | D19: =IF(A19<>"",OFFSET('Previsions SPA 2018'!A$1,INT((ROWS($2:19)-1)/12)+1,(MID(C19,3,2)+1)),"") -> 2
A20: =IF(ROWS($2:20)>(COUNTA('Previsions SPA 2018'!A:A)-1)*12,"",OFFSET('Previsions SPA 2018'!A$1,INT((ROWS($2:20)-1)/12)+1,)) -> 10431 C20x750 | B20: =OFFSET('Previsions SPA 2018'!B$1,INT((ROWS($2:20)-1)/12)+1,)&"" -> 210008 | C20: =IF(A20="","",OFFSET('Previsions SPA 2018'!A$1,,MOD(ROWS($2:20)-1,12)+2)) -> 15072019 | D20: =IF(A20<>"",OFFSET('Previsions SPA 2018'!A$1,INT((ROWS($2:20)-1)/12)+1,(MID(C20,3,2)+1)),"") -> 2
A21: =IF(ROWS($2:21)>(COUNTA('Previsions SPA 2018'!A:A)-1)*12,"",OFFSET('Previsions SPA 2018'!A$1,INT((ROWS($2:21)-1)/12)+1,)) -> 10431 C20x750 | B21: =OFFSET('Previsions SPA 2018'!B$1,INT((ROWS($2:21)-1)/12)+1,)&"" -> 210008 | C21: =IF(A21="","",OFFSET('Previsions SPA 2018'!A$1,,MOD(ROWS($2:21)-1,12)+2)) -> 15082019 | D21: =IF(A21<>"",OFFSET('Previsions SPA 2018'!A$1,INT((ROWS($2:21)-1)/12)+1,(MID(C21,3,2)+1)),"") -> 2
A22: =IF(ROWS($2:22)>(COUNTA('Previsions SPA 2018'!A:A)-1)*12,"",OFFSET('Previsions SPA 2018'!A$1,INT((ROWS($2:22)-1)/12)+1,)) -> 10431 C20x750 | B22: =OFFSET('Previsions SPA 2018'!B$1,INT((ROWS($2:22)-1)/12)+1,)&"" -> 210008 | C22: =IF(A22="","",OFFSET('Previsions SPA 2018'!A$1,,MOD(ROWS($2:22)-1,12)+2)) -> 15092019 | D22: =IF(A22<>"",OFFSET('Previsions SPA 2018'!A$1,INT((ROWS($2:22)-1)/12)+1,(MID(C22,3,2)+1)),"") -> 2
A23: =IF(ROWS($2:23)>(COUNTA('Previsions SPA 2018'!A:A)-1)*12,"",OFFSET('Previsions SPA 2018'!A$1,INT((ROWS($2:23)-1)/12)+1,)) -> 10431 C20x750 | B23: =OFFSET('Previsions SPA 2018'!B$1,INT((ROWS($2:23)-1)/12)+1,)&"" -> 210008 | C23: =IF(A23="","",OFFSET('Previsions SPA 2018'!A$1,,MOD(ROWS($2:23)-1,12)+2)) -> 15102019 | D23: =IF(A23<>"",OFFSET('Previsions SPA 2018'!A$1,INT((ROWS($2:23)-1)/12)+1,(MID(C23,3,2)+1)),"") -> 2
A24: =IF(ROWS($2:24)>(COUNTA('Previsions SPA 2018'!A:A)-1)*12,"",OFFSET('Previsions SPA 2018'!A$1,INT((ROWS($2:24)-1)/12)+1,)) -> 10431 C20x750 | B24: =OFFSET('Previsions SPA 2018'!B$1,INT((ROWS($2:24)-1)/12)+1,)&"" -> 210008 | C24: =IF(A24="","",OFFSET('Previsions SPA 2018'!A$1,,MOD(ROWS($2:24)-1,12)+2)) -> 15112019 | D24: =IF(A24<>"",OFFSET('Previsions SPA 2018'!A$1,INT((ROWS($2:24)-1)/12)+1,(MID(C24,3,2)+1)),"") -> 1
A25: =IF(ROWS($2:25)>(COUNTA('Previsions SPA 2018'!A:A)-1)*12,"",OFFSET('Previsions SPA 2018'!A$1,INT((ROWS($2:25)-1)/12)+1,)) -> 10431 C20x750 | B25: =OFFSET('Previsions SPA 2018'!B$1,INT((ROWS($2:25)-1)/12)+1,)&"" -> 210008 | C25: =IF(A25="","",OFFSET('Previsions SPA 2018'!A$1,,MOD(ROWS($2:25)-1,12)+2)) -> 15122019 | D25: =IF(A25<>"",OFFSET('Previsions SPA 2018'!A$1,INT((ROWS($2:25)-1)/12)+1,(MID(C25,3,2)+1)),"") -> 1
A26: =IF(ROWS($2:26)>(COUNTA('Previsions SPA 2018'!A:A)-1)*12,"",OFFSET('Previsions SPA 2018'!A$1,INT((ROWS($2:26)-1)/12)+1,)) -> 10441 B20 | B26: =OFFSET('Previsions SPA 2018'!B$1,INT((ROWS($2:26)-1)/12)+1,)&"" -> 210008 | C26: =IF(A26="","",OFFSET('Previsions SPA 2018'!A$1,,MOD(ROWS($2:26)-1,12)+2)) -> 15012019 | D26: =IF(A26<>"",OFFSET('Previsions SPA 2018'!A$1,INT((ROWS($2:26)-1)/12)+1,(MID(C26,3,2)+1)),"") -> 1
A27: =IF(ROWS($2:27)>(COUNTA('Previsions SPA 2018'!A:A)-1)*12,"",OFFSET('Previsions SPA 2018'!A$1,INT((ROWS($2:27)-1)/12)+1,)) -> 10441 B20 | B27: =OFFSET('Previsions SPA 2018'!B$1,INT((ROWS($2:27)-1)/12)+1,)&"" -> 210008 | C27: =IF(A27="","",OFFSET('Previsions SPA 2018'!A$1,,MOD(ROWS($2:27)-1,12)+2)) -> 15022019 | D27: =IF(A27<>"",OFFSET('Previsions SPA 2018'!A$1,INT((ROWS($2:27)-1)/12)+1,(MID(C27,3,2)+1)),"") -> 0
A28: =IF(ROWS($2:28)>(COUNTA('Previsions SPA 2018'!A:A)-1)*12,"",OFFSET('Previsions SPA 2018'!A$1,INT((ROWS($2:28)-1)/12)+1,)) -> 10441 B20 | B28: =OFFSET('Previsions SPA 2018'!B$1,INT((ROWS($2:28)-1)/12)+1,)&"" -> 210008 | C28: =IF(A28="","",OFFSET('Previsions SPA 2018'!A$1,,MOD(ROWS($2:28)-1,12)+2)) -> 15032019 | D28: =IF(A28<>"",OFFSET('Previsions SPA 2018'!A$1,INT((ROWS($2:28)-1)/12)+1,(MID(C28,3,2)+1)),"") -> 1
A29: =IF(ROWS($2:29)>(COUNTA('Previsions SPA 2018'!A:A)-1)*12,"",OFFSET('Previsions SPA 2018'!A$1,INT((ROWS($2:29)-1)/12)+1,)) -> 10441 B20 | B29: =OFFSET('Previsions SPA 2018'!B$1,INT((ROWS($2:29)-1)/12)+1,)&"" -> 210008 | C29: =IF(A29="","",OFFSET('Previsions SPA 2018'!A$1,,MOD(ROWS($2:29)-1,12)+2)) -> 15042019 | D29: =IF(A29<>"",OFFSET('Previsions SPA 2018'!A$1,INT((ROWS($2:29)-1)/12)+1,(MID(C29,3,2)+1)),"") -> 1
A30: =IF(ROWS($2:30)>(COUNTA('Previsions SPA 2018'!A:A)-1)*12,"",OFFSET('Previsions SPA 2018'!A$1,INT((ROWS($2:30)-1)/12)+1,)) -> 10441 B20 | B30: =OFFSET('Previsions SPA 2018'!B$1,INT((ROWS($2:30)-1)/12)+1,)&"" -> 210008 | C30: =IF(A30="","",OFFSET('Previsions SPA 2018'!A$1,,MOD(ROWS($2:30)-1,12)+2)) -> 15052019 | D30: =IF(A30<>"",OFFSET('Previsions SPA 2018'!A$1,INT((ROWS($2:30)-1)/12)+1,(MID(C30,3,2)+1)),"") -> 2
A31: =IF(ROWS($2:31)>(COUNTA('Previsions SPA 2018'!A:A)-1)*12,"",OFFSET('Previsions SPA 2018'!A$1,INT((ROWS($2:31)-1)/12)+1,)) -> 10441 B20 | B31: =OFFSET('Previsions SPA 2018'!B$1,INT((ROWS($2:31)-1)/12)+1,)&"" -> 210008 | C31: =IF(A31="","",OFFSET('Previsions SPA 2018'!A$1,,MOD(ROWS($2:31)-1,12)+2)) -> 15062019 | D31: =IF(A31<>"",OFFSET('Previsions SPA 2018'!A$1,INT((ROWS($2:31)-1)/12)+1,(MID(C31,3,2)+1)),"") -> 2
A32: =IF(ROWS($2:32)>(COUNTA('Previsions SPA 2018'!A:A)-1)*12,"",OFFSET('Previsions SPA 2018'!A$1,INT((ROWS($2:32)-1)/12)+1,)) -> 10441 B20 | B32: =OFFSET('Previsions SPA 2018'!B$1,INT((ROWS($2:32)-1)/12)+1,)&"" -> 210008 | C32: =IF(A32="","",OFFSET('Previsions SPA 2018'!A$1,,MOD(ROWS($2:32)-1,12)+2)) -> 15072019 | D32: =IF(A32<>"",OFFSET('Previsions SPA 2018'!A$1,INT((ROWS($2:32)-1)/12)+1,(MID(C32,3,2)+1)),"") -> 2
A33: =IF(ROWS($2:33)>(COUNTA('Previsions SPA 2018'!A:A)-1)*12,"",OFFSET('Previsions SPA 2018'!A$1,INT((ROWS($2:33)-1)/12)+1,)) -> 10441 B20 | B33: =OFFSET('Previsions SPA 2018'!B$1,INT((ROWS($2:33)-1)/12)+1,)&"" -> 210008 | C33: =IF(A33="","",OFFSET('Previsions SPA 2018'!A$1,,MOD(ROWS($2:33)-1,12)+2)) -> 15082019 | D33: =IF(A33<>"",OFFSET('Previsions SPA 2018'!A$1,INT((ROWS($2:33)-1)/12)+1,(MID(C33,3,2)+1)),"") -> 2
A34: =IF(ROWS($2:34)>(COUNTA('Previsions SPA 2018'!A:A)-1)*12,"",OFFSET('Previsions SPA 2018'!A$1,INT((ROWS($2:34)-1)/12)+1,)) -> 10441 B20 | B34: =OFFSET('Previsions SPA 2018'!B$1,INT((ROWS($2:34)-1)/12)+1,)&"" -> 210008 | C34: =IF(A34="","",OFFSET('Previsions SPA 2018'!A$1,,MOD(ROWS($2:34)-1,12)+2)) -> 15092019 | D34: =IF(A34<>"",OFFSET('Previsions SPA 2018'!A$1,INT((ROWS($2:34)-1)/12)+1,(MID(C34,3,2)+1)),"") -> 2
A35: =IF(ROWS($2:35)>(COUNTA('Previsions SPA 2018'!A:A)-1)*12,"",OFFSET('Previsions SPA 2018'!A$1,INT((ROWS($2:35)-1)/12)+1,)) -> 10441 B20 | B35: =OFFSET('Previsions SPA 2018'!B$1,INT((ROWS($2:35)-1)/12)+1,)&"" -> 210008 | C35: =IF(A35="","",OFFSET('Previsions SPA 2018'!A$1,,MOD(ROWS($2:35)-1,12)+2)) -> 15102019 | D35: =IF(A35<>"",OFFSET('Previsions SPA 2018'!A$1,INT((ROWS($2:35)-1)/12)+1,(MID(C35,3,2)+1)),"") -> 0
A36: =IF(ROWS($2:36)>(COUNTA('Previsions SPA 2018'!A:A)-1)*12,"",OFFSET('Previsions SPA 2018'!A$1,INT((ROWS($2:36)-1)/12)+1,)) -> 10441 B20 | B36: =OFFSET('Previsions SPA 2018'!B$1,INT((ROWS($2:36)-1)/12)+1,)&"" -> 210008 | C36: =IF(A36="","",OFFSET('Previsions SPA 2018'!A$1,,MOD(ROWS($2:36)-1,12)+2)) -> 15112019 | D36: =IF(A36<>"",OFFSET('Previsions SPA 2018'!A$1,INT((ROWS($2:36)-1)/12)+1,(MID(C36,3,2)+1)),"") -> 2
A37: =IF(ROWS($2:37)>(COUNTA('Previsions SPA 2018'!A:A)-1)*12,"",OFFSET('Previsions SPA 2018'!A$1,INT((ROWS($2:37)-1)/12)+1,)) -> 10441 B20 | B37: =OFFSET('Previsions SPA 2018'!B$1,INT((ROWS($2:37)-1)/12)+1,)&"" -> 210008 | C37: =IF(A37="","",OFFSET('Previsions SPA 2018'!A$1,,MOD(ROWS($2:37)-1,12)+2)) -> 15122019 | D37: =IF(A37<>"",OFFSET('Previsions SPA 2018'!A$1,INT((ROWS($2:37)-1)/12)+1,(MID(C37,3,2)+1)),"") -> 2
A38: =IF(ROWS($2:38)>(COUNTA('Previsions SPA 2018'!A:A)-1)*12,"",OFFSET('Previsions SPA 2018'!A$1,INT((ROWS($2:38)-1)/12)+1,)) -> 10545 C5 | B38: =OFFSET('Previsions SPA 2018'!B$1,INT((ROWS($2:38)-1)/12)+1,)&"" -> 210008 | C38: =IF(A38="","",OFFSET('Previsions SPA 2018'!A$1,,MOD(ROWS($2:38)-1,12)+2)) -> 15012019 | D38: =IF(A38<>"",OFFSET('Previsions SPA 2018'!A$1,INT((ROWS($2:38)-1)/12)+1,(MID(C38,3,2)+1)),"") -> 1
A39: =IF(ROWS($2:39)>(COUNTA('Previsions SPA 2018'!A:A)-1)*12,"",OFFSET('Previsions SPA 2018'!A$1,INT((ROWS($2:39)-1)/12)+1,)) -> 10545 C5 | B39: =OFFSET('Previsions SPA 2018'!B$1,INT((ROWS($2:39)-1)/12)+1,)&"" -> 210008 | C39: =IF(A39="","",OFFSET('Previsions SPA 2018'!A$1,,MOD(ROWS($2:39)-1,12)+2)) -> 15022019 | D39: =IF(A39<>"",OFFSET('Previsions SPA 2018'!A$1,INT((ROWS($2:39)-1)/12)+1,(MID(C39,3,2)+1)),"") -> 2
A40: =IF(ROWS($2:40)>(COUNTA('Previsions SPA 2018'!A:A)-1)*12,"",OFFSET('Previsions SPA 2018'!A$1,INT((ROWS($2:40)-1)/12)+1,)) -> 10545 C5 | B40: =OFFSET('Previsions SPA 2018'!B$1,INT((ROWS($2:40)-1)/12)+1,)&"" -> 210008 | C40: =IF(A40="","",OFFSET('Previsions SPA 2018'!A$1,,MOD(ROWS($2:40)-1,12)+2)) -> 15032019 | D40: =IF(A40<>"",OFFSET('Previsions SPA 2018'!A$1,INT((ROWS($2:40)-1)/12)+1,(MID(C40,3,2)+1)),"") -> 1
A41: =IF(ROWS($2:41)>(COUNTA('Previsions SPA 2018'!A:A)-1)*12,"",OFFSET('Previsions SPA 2018'!A$1,INT((ROWS($2:41)-1)/12)+1,)) -> 10545 C5 | B41: =OFFSET('Previsions SPA 2018'!B$1,INT((ROWS($2:41)-1)/12)+1,)&"" -> 210008 | C41: =IF(A41="","",OFFSET('Previsions SPA 2018'!A$1,,MOD(ROWS($2:41)-1,12)+2)) -> 15042019 | D41: =IF(A41<>"",OFFSET('Previsions SPA 2018'!A$1,INT((ROWS($2:41)-1)/12)+1,(MID(C41,3,2)+1)),"") -> 1
A42: =IF(ROWS($2:42)>(COUNTA('Previsions SPA 2018'!A:A)-1)*12,"",OFFSET('Previsions SPA 2018'!A$1,INT((ROWS($2:42)-1)/12)+1,)) -> 10545 C5 | B42: =OFFSET('Previsions SPA 2018'!B$1,INT((ROWS($2:42)-1)/12)+1,)&"" -> 210008 | C42: =IF(A42="","",OFFSET('Previsions SPA 2018'!A$1,,MOD(ROWS($2:42)-1,12)+2)) -> 15052019 | D42: =IF(A42<>"",OFFSET('Previsions SPA 2018'!A$1,INT((ROWS($2:42)-1)/12)+1,(MID(C42,3,2)+1)),"") -> 1
A43: =IF(ROWS($2:43)>(COUNTA('Previsions SPA 2018'!A:A)-1)*12,"",OFFSET('Previsions SPA 2018'!A$1,INT((ROWS($2:43)-1)/12)+1,)) -> 10545 C5 | B43: =OFFSET('Previsions SPA 2018'!B$1,INT((ROWS($2:43)-1)/12)+1,)&"" -> 210008 | C43: =IF(A43="","",OFFSET('Previsions SPA 2018'!A$1,,MOD(ROWS($2:43)-1,12)+2)) -> 15062019 | D43: =IF(A43<>"",OFFSET('Previsions SPA 2018'!A$1,INT((ROWS($2:43)-1)/12)+1,(MID(C43,3,2)+1)),"") -> 2
A44: =IF(ROWS($2:44)>(COUNTA('Previsions SPA 2018'!A:A)-1)*12,"",OFFSET('Previsions SPA 2018'!A$1,INT((ROWS($2:44)-1)/12)+1,)) -> 10545 C5 | B44: =OFFSET('Previsions SPA 2018'!B$1,INT((ROWS($2:44)-1)/12)+1,)&"" -> 210008 | C44: =IF(A44="","",OFFSET('Previsions SPA 2018'!A$1,,MOD(ROWS($2:44)-1,12)+2)) -> 15072019 | D44: =IF(A44<>"",OFFSET('Previsions SPA 2018'!A$1,INT((ROWS($2:44)-1)/12)+1,(MID(C44,3,2)+1)),"") -> 2
A45: =IF(ROWS($2:45)>(COUNTA('Previsions SPA 2018'!A:A)-1)*12,"",OFFSET('Previsions SPA 2018'!A$1,INT((ROWS($2:45)-1)/12)+1,)) -> 10545 C5 | B45: =OFFSET('Previsions SPA 2018'!B$1,INT((ROWS($2:45)-1)/12)+1,)&"" -> 210008 | C45: =IF(A45="","",OFFSET('Previsions SPA 2018'!A$1,,MOD(ROWS($2:45)-1,12)+2)) -> 15082019 | D45: =IF(A45<>"",OFFSET('Previsions SPA 2018'!A$1,INT((ROWS($2:45)-1)/12)+1,(MID(C45,3,2)+1)),"") -> 0
A46: =IF(ROWS($2:46)>(COUNTA('Previsions SPA 2018'!A:A)-1)*12,"",OFFSET('Previsions SPA 2018'!A$1,INT((ROWS($2:46)-1)/12)+1,)) -> 10545 C5 | B46: =OFFSET('Previsions SPA 2018'!B$1,INT((ROWS($2:46)-1)/12)+1,)&"" -> 210008 | C46: =IF(A46="","",OFFSET('Previsions SPA 2018'!A$1,,MOD(ROWS($2:46)-1,12)+2)) -> 15092019 | D46: =IF(A46<>"",OFFSET('Previsions SPA 2018'!A$1,INT((ROWS($2:46)-1)/12)+1,(MID(C46,3,2)+1)),"") -> 2
A47: =IF(ROWS($2:47)>(COUNTA('Previsions SPA 2018'!A:A)-1)*12,"",OFFSET('Previsions SPA 2018'!A$1,INT((ROWS($2:47)-1)/12)+1,)) -> 10545 C5 | B47: =OFFSET('Previsions SPA 2018'!B$1,INT((ROWS($2:47)-1)/12)+1,)&"" -> 210008 | C47: =IF(A47="","",OFFSET('Previsions SPA 2018'!A$1,,MOD(ROWS($2:47)-1,12)+2)) -> 15102019 | D47: =IF(A47<>"",OFFSET('Previsions SPA 2018'!A$1,INT((ROWS($2:47)-1)/12)+1,(MID(C47,3,2)+1)),"") -> 1
A48: =IF(ROWS($2:48)>(COUNTA('Previsions SPA 2018'!A:A)-1)*12,"",OFFSET('Previsions SPA 2018'!A$1,INT((ROWS($2:48)-1)/12)+1,)) -> 10545 C5 | B48: =OFFSET('Previsions SPA 2018'!B$1,INT((ROWS($2:48)-1)/12)+1,)&"" -> 210008 | C48: =IF(A48="","",OFFSET('Previsions SPA 2018'!A$1,,MOD(ROWS($2:48)-1,12)+2)) -> 15112019 | D48: =IF(A48<>"",OFFSET('Previsions SPA 2018'!A$1,INT((ROWS($2:48)-1)/12)+1,(MID(C48,3,2)+1)),"") -> 1
A49: =IF(ROWS($2:49)>(COUNTA('Previsions SPA 2018'!A:A)-1)*12,"",OFFSET('Previsions SPA 2018'!A$1,INT((ROWS($2:49)-1)/12)+1,)) -> 10545 C5 | B49: =OFFSET('Previsions SPA 2018'!B$1,INT((ROWS($2:49)-1)/12)+1,)&"" -> 210008 | C49: =IF(A49="","",OFFSET('Previsions SPA 2018'!A$1,,MOD(ROWS($2:49)-1,12)+2)) -> 15122019 | D49: =IF(A49<>"",OFFSET('Previsions SPA 2018'!A$1,INT((ROWS($2:49)-1)/12)+1,(MID(C49,3,2)+1)),"") -> 1
A50: =IF(ROWS($2:50)>(COUNTA('Previsions SPA 2018'!A:A)-1)*12,"",OFFSET('Previsions SPA 2018'!A$1,INT((ROWS($2:50)-1)/12)+1,)) -> 10458 C12x750 | B50: =OFFSET('Previsions SPA 2018'!B$1,INT((ROWS($2:50)-1)/12)+1,)&"" -> 210008 | C50: =IF(A50="","",OFFSET('Previsions SPA 2018'!A$1,,MOD(ROWS($2:50)-1,12)+2)) -> 15012019 | D50: =IF(A50<>"",OFFSET('Previsions SPA 2018'!A$1,INT((ROWS($2:50)-1)/12)+1,(MID(C50,3,2)+1)),"") -> 0
A51: =IF(ROWS($2:51)>(COUNTA('Previsions SPA 2018'!A:A)-1)*12,"",OFFSET('Previsions SPA 2018'!A$1,INT((ROWS($2:51)-1)/12)+1,)) -> 10458 C12x750 | B51: =OFFSET('Previsions SPA 2018'!B$1,INT((ROWS($2:51)-1)/12)+1,)&"" -> 210008 | C51: =IF(A51="","",OFFSET('Previsions SPA 2018'!A$1,,MOD(ROWS($2:51)-1,12)+2)) -> 15022019 | D51: =IF(A51<>"",OFFSET('Previsions SPA 2018'!A$1,INT((ROWS($2:51)-1)/12)+1,(MID(C51,3,2)+1)),"") -> 0
A52: =IF(ROWS($2:52)>(COUNTA('Previsions SPA 2018'!A:A)-1)*12,"",OFFSET('Previsions SPA 2018'!A$1,INT((ROWS($2:52)-1)/12)+1,)) -> 10458 C12x750 | B52: =OFFSET('Previsions SPA 2018'!B$1,INT((ROWS($2:52)-1)/12)+1,)&"" -> 210008 | C52: =IF(A52="","",OFFSET('Previsions SPA 2018'!A$1,,MOD(ROWS($2:52)-1,12)+2)) -> 15032019 | D52: =IF(A52<>"",OFFSET('Previsions SPA 2018'!A$1,INT((ROWS($2:52)-1)/12)+1,(MID(C52,3,2)+1)),"") -> 0
A53: =IF(ROWS($2:53)>(COUNTA('Previsions SPA 2018'!A:A)-1)*12,"",OFFSET('Previsions SPA 2018'!A$1,INT((ROWS($2:53)-1)/12)+1,)) -> 10458 C12x750 | B53: =OFFSET('Previsions SPA 2018'!B$1,INT((ROWS($2:53)-1)/12)+1,)&"" -> 210008 | C53: =IF(A53="","",OFFSET('Previsions SPA 2018'!A$1,,MOD(ROWS($2:53)-1,12)+2)) -> 15042019 | D53: =IF(A53<>"",OFFSET('Previsions SPA 2018'!A$1,INT((ROWS($2:53)-1)/12)+1,(MID(C53,3,2)+1)),"") -> 0
A54: =IF(ROWS($2:54)>(COUNTA('Previsions SPA 2018'!A:A)-1)*12,"",OFFSET('Previsions SPA 2018'!A$1,INT((ROWS($2:54)-1)/12)+1,)) -> 10458 C12x750 | B54: =OFFSET('Previsions SPA 2018'!B$1,INT((ROWS($2:54)-1)/12)+1,)&"" -> 210008 | C54: =IF(A54="","",OFFSET('Previsions SPA 2018'!A$1,,MOD(ROWS($2:54)-1,12)+2)) -> 15052019 | D54: =IF(A54<>"",OFFSET('Previsions SPA 2018'!A$1,INT((ROWS($2:54)-1)/12)+1,(MID(C54,3,2)+1)),"") -> 1
A55: =IF(ROWS($2:55)>(COUNTA('Previsions SPA 2018'!A:A)-1)*12,"",OFFSET('Previsions SPA 2018'!A$1,INT((ROWS($2:55)-1)/12)+1,)) -> 10458 C12x750 | B55: =OFFSET('Previsions SPA 2018'!B$1,INT((ROWS($2:55)-1)/12)+1,)&"" -> 210008 | C55: =IF(A55="","",OFFSET('Previsions SPA 2018'!A$1,,MOD(ROWS($2:55)-1,12)+2)) -> 15062019 | D55: =IF(A55<>"",OFFSET('Previsions SPA 2018'!A$1,INT((ROWS($2:55)-1)/12)+1,(MID(C55,3,2)+1)),"") -> 0
A56: =IF(ROWS($2:56)>(COUNTA('Previsions SPA 2018'!A:A)-1)*12,"",OFFSET('Previsions SPA 2018'!A$1,INT((ROWS($2:56)-1)/12)+1,)) -> 10458 C12x750 | B56: =OFFSET('Previsions SPA 2018'!B$1,INT((ROWS($2:56)-1)/12)+1,)&"" -> 210008 | C56: =IF(A56="","",OFFSET('Previsions SPA 2018'!A$1,,MOD(ROWS($2:56)-1,12)+2)) -> 15072019 | D56: =IF(A56<>"",OFFSET('Previsions SPA 2018'!A$1,INT((ROWS($2:56)-1)/12)+1,(MID(C56,3,2)+1)),"") -> 0
A57: =IF(ROWS($2:57)>(COUNTA('Previsions SPA 2018'!A:A)-1)*12,"",OFFSET('Previsions SPA 2018'!A$1,INT((ROWS($2:57)-1)/12)+1,)) -> 10458 C12x750 | B57: =OFFSET('Previsions SPA 2018'!B$1,INT((ROWS($2:57)-1)/12)+1,)&"" -> 210008 | C57: =IF(A57="","",OFFSET('Previsions SPA 2018'!A$1,,MOD(ROWS($2:57)-1,12)+2)) -> 15082019 | D57: =IF(A57<>"",OFFSET('Previsions SPA 2018'!A$1,INT((ROWS($2:57)-1)/12)+1,(MID(C57,3,2)+1)),"") -> 0
A58: =IF(ROWS($2:58)>(COUNTA('Previsions SPA 2018'!A:A)-1)*12,"",OFFSET('Previsions SPA 2018'!A$1,INT((ROWS($2:58)-1)/12)+1,)) -> 10458 C12x750 | B58: =OFFSET('Previsions SPA 2018'!B$1,INT((ROWS($2:58)-1)/12)+1,)&"" -> 210008 | C58: =IF(A58="","",OFFSET('Previsions SPA 2018'!A$1,,MOD(ROWS($2:58)-1,12)+2)) -> 15092019 | D58: =IF(A58<>"",OFFSET('Previsions SPA 2018'!A$1,INT((ROWS($2:58)-1)/12)+1,(MID(C58,3,2)+1)),"") -> 1
A59: =IF(ROWS($2:59)>(COUNTA('Previsions SPA 2018'!A:A)-1)*12,"",OFFSET('Previsions SPA 2018'!A$1,INT((ROWS($2:59)-1)/12)+1,)) -> 10458 C12x750 | B59: =OFFSET('Previsions SPA 2018'!B$1,INT((ROWS($2:59)-1)/12)+1,)&"" -> 210008 | C59: =IF(A59="","",OFFSET('Previsions SPA 2018'!A$1,,MOD(ROWS($2:59)-1,12)+2)) -> 15102019 | D59: =IF(A59<>"",OFFSET('Previsions SPA 2018'!A$1,INT((ROWS($2:59)-1)/12)+1,(MID(C59,3,2)+1)),"") -> 0
A60: =IF(ROWS($2:60)>(COUNTA('Previsions SPA 2018'!A:A)-1)*12,"",OFFSET('Previsions SPA 2018'!A$1,INT((ROWS($2:60)-1)/12)+1,)) -> 10458 C12x750 | B60: =OFFSET('Previsions SPA 2018'!B$1,INT((ROWS($2:60)-1)/12)+1,)&"" -> 210008 | C60: =IF(A60="","",OFFSET('Previsions SPA 2018'!A$1,,MOD(ROWS($2:60)-1,12)+2)) -> 15112019 | D60: =IF(A60<>"",OFFSET('Previsions SPA 2018'!A$1,INT((ROWS($2:60)-1)/12)+1,(MID(C60,3,2)+1)),"") -> 0
A61: =IF(ROWS($2:61)>(COUNTA('Previsions SPA 2018'!A:A)-1)*12,"",OFFSET('Previsions SPA 2018'!A$1,INT((ROWS($2:61)-1)/12)+1,)) -> 10458 C12x750 | B61: =OFFSET('Previsions SPA 2018'!B$1,INT((ROWS($2:61)-1)/12)+1,)&"" -> 210008 | C61: =IF(A61="","",OFFSET('Previsions SPA 2018'!A$1,,MOD(ROWS($2:61)-1,12)+2)) -> 15122019 | D61: =IF(A61<>"",OFFSET('Previsions SPA 2018'!A$1,INT((ROWS($2:61)-1)/12)+1,(MID(C61,3,2)+1)),"") -> 0
A62: =IF(ROWS($2:62)>(COUNTA('Previsions SPA 2018'!A:A)-1)*12,"",OFFSET('Previsions SPA 2018'!A$1,INT((ROWS($2:62)-1)/12)+1,)) -> 10115 C5 | B62: =OFFSET('Previsions SPA 2018'!B$1,INT((ROWS($2:62)-1)/12)+1,)&"" -> 210008 | C62: =IF(A62="","",OFFSET('Previsions SPA 2018'!A$1,,MOD(ROWS($2:62)-1,12)+2)) -> 15012019 | D62: =IF(A62<>"",OFFSET('Previsions SPA 2018'!A$1,INT((ROWS($2:62)-1)/12)+1,(MID(C62,3,2)+1)),"") -> 2
A63: =IF(ROWS($2:63)>(COUNTA('Previsions SPA 2018'!A:A)-1)*12,"",OFFSET('Previsions SPA 2018'!A$1,INT((ROWS($2:63)-1)/12)+1,)) -> 10115 C5 | B63: =OFFSET('Previsions SPA 2018'!B$1,INT((ROWS($2:63)-1)/12)+1,)&"" -> 210008 | C63: =IF(A63="","",OFFSET('Previsions SPA 2018'!A$1,,MOD(ROWS($2:63)-1,12)+2)) -> 15022019 | D63: =IF(A63<>"",OFFSET('Previsions SPA 2018'!A$1,INT((ROWS($2:63)-1)/12)+1,(MID(C63,3,2)+1)),"") -> 10
A64: =IF(ROWS($2:64)>(COUNTA('Previsions SPA 2018'!A:A)-1)*12,"",OFFSET('Previsions SPA 2018'!A$1,INT((ROWS($2:64)-1)/12)+1,)) -> 10115 C5 | B64: =OFFSET('Previsions SPA 2018'!B$1,INT((ROWS($2:64)-1)/12)+1,)&"" -> 210008 | C64: =IF(A64="","",OFFSET('Previsions SPA 2018'!A$1,,MOD(ROWS($2:64)-1,12)+2)) -> 15032019 | D64: =IF(A64<>"",OFFSET('Previsions SPA 2018'!A$1,INT((ROWS($2:64)-1)/12)+1,(MID(C64,3,2)+1)),"") -> 10
A65: =IF(ROWS($2:65)>(COUNTA('Previsions SPA 2018'!A:A)-1)*12,"",OFFSET('Previsions SPA 2018'!A$1,INT((ROWS($2:65)-1)/12)+1,)) -> 10115 C5 | B65: =OFFSET('Previsions SPA 2018'!B$1,INT((ROWS($2:65)-1)/12)+1,)&"" -> 210008 | C65: =IF(A65="","",OFFSET('Previsions SPA 2018'!A$1,,MOD(ROWS($2:65)-1,12)+2)) -> 15042019 | D65: =IF(A65<>"",OFFSET('Previsions SPA 2018'!A$1,INT((ROWS($2:65)-1)/12)+1,(MID(C65,3,2)+1)),"") -> 5
A66: =IF(ROWS($2:66)>(COUNTA('Previsions SPA 2018'!A:A)-1)*12,"",OFFSET('Previsions SPA 2018'!A$1,INT((ROWS($2:66)-1)/12)+1,)) -> 10115 C5 | B66: =OFFSET('Previsions SPA 2018'!B$1,INT((ROWS($2:66)-1)/12)+1,)&"" -> 210008 | C66: =IF(A66="","",OFFSET('Previsions SPA 2018'!A$1,,MOD(ROWS($2:66)-1,12)+2)) -> 15052019 | D66: =IF(A66<>"",OFFSET('Previsions SPA 2018'!A$1,INT((ROWS($2:66)-1)/12)+1,(MID(C66,3,2)+1)),"") -> 13
A67: =IF(ROWS($2:67)>(COUNTA('Previsions SPA 2018'!A:A)-1)*12,"",OFFSET('Previsions SPA 2018'!A$1,INT((ROWS($2:67)-1)/12)+1,)) -> 10115 C5 | B67: =OFFSET('Previsions SPA 2018'!B$1,INT((ROWS($2:67)-1)/12)+1,)&"" -> 210008 | C67: =IF(A67="","",OFFSET('Previsions SPA 2018'!A$1,,MOD(ROWS($2:67)-1,12)+2)) -> 15062019 | D67: =IF(A67<>"",OFFSET('Previsions SPA 2018'!A$1,INT((ROWS($2:67)-1)/12)+1,(MID(C67,3,2)+1)),"") -> 10
A68: =IF(ROWS($2:68)>(COUNTA('Previsions SPA 2018'!A:A)-1)*12,"",OFFSET('Previsions SPA 2018'!A$1,INT((ROWS($2:68)-1)/12)+1,)) -> 10115 C5 | B68: =OFFSET('Previsions SPA 2018'!B$1,INT((ROWS($2:68)-1)/12)+1,)&"" -> 210008 | C68: =IF(A68="","",OFFSET('Previsions SPA 2018'!A$1,,MOD(ROWS($2:68)-1,12)+2)) -> 15072019 | D68: =IF(A68<>"",OFFSET('Previsions SPA 2018'!A$1,INT((ROWS($2:68)-1)/12)+1,(MID(C68,3,2)+1)),"") -> 12
A69: =IF(ROWS($2:69)>(COUNTA('Previsions SPA 2018'!A:A)-1)*12,"",OFFSET('Previsions SPA 2018'!A$1,INT((ROWS($2:69)-1)/12)+1,)) -> 10115 C5 | B69: =OFFSET('Previsions SPA 2018'!B$1,INT((ROWS($2:69)-1)/12)+1,)&"" -> 210008 | C69: =IF(A69="","",OFFSET('Previsions SPA 2018'!A$1,,MOD(ROWS($2:69)-1,12)+2)) -> 15082019 | D69: =IF(A69<>"",OFFSET('Previsions SPA 2018'!A$1,INT((ROWS($2:69)-1)/12)+1,(MID(C69,3,2)+1)),"") -> 9
A70: =IF(ROWS($2:70)>(COUNTA('Previsions SPA 2018'!A:A)-1)*12,"",OFFSET('Previsions SPA 2018'!A$1,INT((ROWS($2:70)-1)/12)+1,)) -> 10115 C5 | B70: =OFFSET('Previsions SPA 2018'!B$1,INT((ROWS($2:70)-1)/12)+1,)&"" -> 210008 | C70: =IF(A70="","",OFFSET('Previsions SPA 2018'!A$1,,MOD(ROWS($2:70)-1,12)+2)) -> 15092019 | D70: =IF(A70<>"",OFFSET('Previsions SPA 2018'!A$1,INT((ROWS($2:70)-1)/12)+1,(MID(C70,3,2)+1)),"") -> 9
A71: =IF(ROWS($2:71)>(COUNTA('Previsions SPA 2018'!A:A)-1)*12,"",OFFSET('Previsions SPA 2018'!A$1,INT((ROWS($2:71)-1)/12)+1,)) -> 10115 C5 | B71: =OFFSET('Previsions SPA 2018'!B$1,INT((ROWS($2:71)-1)/12)+1,)&"" -> 210008 | C71: =IF(A71="","",OFFSET('Previsions SPA 2018'!A$1,,MOD(ROWS($2:71)-1,12)+2)) -> 15102019 | D71: =IF(A71<>"",OFFSET('Previsions SPA 2018'!A$1,INT((ROWS($2:71)-1)/12)+1,(MID(C71,3,2)+1)),"") -> 6
A72: =IF(ROWS($2:72)>(COUNTA('Previsions SPA 2018'!A:A)-1)*12,"",OFFSET('Previsions SPA 2018'!A$1,INT((ROWS($2:72)-1)/12)+1,)) -> 10115 C5 | B72: =OFFSET('Previsions SPA 2018'!B$1,INT((ROWS($2:72)-1)/12)+1,)&"" -> 210008 | C72: =IF(A72="","",OFFSET('Previsions SPA 2018'!A$1,,MOD(ROWS($2:72)-1,12)+2)) -> 15112019 | D72: =IF(A72<>"",OFFSET('Previsions SPA 2018'!A$1,INT((ROWS($2:72)-1)/12)+1,(MID(C72,3,2)+1)),"") -> 6
A73: =IF(ROWS($2:73)>(COUNTA('Previsions SPA 2018'!A:A)-1)*12,"",OFFSET('Previsions SPA 2018'!A$1,INT((ROWS($2:73)-1)/12)+1,)) -> 10115 C5 | B73: =OFFSET('Previsions SPA 2018'!B$1,INT((ROWS($2:73)-1)/12)+1,)&"" -> 210008 | C73: =IF(A73="","",OFFSET('Previsions SPA 2018'!A$1,,MOD(ROWS($2:73)-1,12)+2)) -> 15122019 | D73: =IF(A73<>"",OFFSET('Previsions SPA 2018'!A$1,INT((ROWS($2:73)-1)/12)+1,(MID(C73,3,2)+1)),"") -> 6
A74: =IF(ROWS($2:74)>(COUNTA('Previsions SPA 2018'!A:A)-1)*12,"",OFFSET('Previsions SPA 2018'!A$1,INT((ROWS($2:74)-1)/12)+1,)) -> 10150 C6 | B74: =OFFSET('Previsions SPA 2018'!B$1,INT((ROWS($2:74)-1)/12)+1,)&"" -> 210008 | C74: =IF(A74="","",OFFSET('Previsions SPA 2018'!A$1,,MOD(ROWS($2:74)-1,12)+2)) -> 15012019 | D74: =IF(A74<>"",OFFSET('Previsions SPA 2018'!A$1,INT((ROWS($2:74)-1)/12)+1,(MID(C74,3,2)+1)),"") -> 1
A75: =IF(ROWS($2:75)>(COUNTA('Previsions SPA 2018'!A:A)-1)*12,"",OFFSET('Previsions SPA 2018'!A$1,INT((ROWS($2:75)-1)/12)+1,)) -> 10150 C6 | B75: =OFFSET('Previsions SPA 2018'!B$1,INT((ROWS($2:75)-1)/12)+1,)&"" -> 210008 | C75: =IF(A75="","",OFFSET('Previsions SPA 2018'!A$1,,MOD(ROWS($2:75)-1,12)+2)) -> 15022019 | D75: =IF(A75<>"",OFFSET('Previsions SPA 2018'!A$1,INT((ROWS($2:75)-1)/12)+1,(MID(C75,3,2)+1)),"") -> 2
A76: =IF(ROWS($2:76)>(COUNTA('Previsions SPA 2018'!A:A)-1)*12,"",OFFSET('Previsions SPA 2018'!A$1,INT((ROWS($2:76)-1)/12)+1,)) -> 10150 C6 | B76: =OFFSET('Previsions SPA 2018'!B$1,INT((ROWS($2:76)-1)/12)+1,)&"" -> 210008 | C76: =IF(A76="","",OFFSET('Previsions SPA 2018'!A$1,,MOD(ROWS($2:76)-1,12)+2)) -> 15032019 | D76: =IF(A76<>"",OFFSET('Previsions SPA 2018'!A$1,INT((ROWS($2:76)-1)/12)+1,(MID(C76,3,2)+1)),"") -> 3
A77: =IF(ROWS($2:77)>(COUNTA('Previsions SPA 2018'!A:A)-1)*12,"",OFFSET('Previsions SPA 2018'!A$1,INT((ROWS($2:77)-1)/12)+1,)) -> 10150 C6 | B77: =OFFSET('Previsions SPA 2018'!B$1,INT((ROWS($2:77)-1)/12)+1,)&"" -> 210008 | C77: =IF(A77="","",OFFSET('Previsions SPA 2018'!A$1,,MOD(ROWS($2:77)-1,12)+2)) -> 15042019 | D77: =IF(A77<>"",OFFSET('Previsions SPA 2018'!A$1,INT((ROWS($2:77)-1)/12)+1,(MID(C77,3,2)+1)),"") -> 3
A78: =IF(ROWS($2:78)>(COUNTA('Previsions SPA 2018'!A:A)-1)*12,"",OFFSET('Previsions SPA 2018'!A$1,INT((ROWS($2:78)-1)/12)+1,)) -> 10150 C6 | B78: =OFFSET('Previsions SPA 2018'!B$1,INT((ROWS($2:78)-1)/12)+1,)&"" -> 210008 | C78: =IF(A78="","",OFFSET('Previsions SPA 2018'!A$1,,MOD(ROWS($2:78)-1,12)+2)) -> 15052019 | D78: =IF(A78<>"",OFFSET('Previsions SPA 2018'!A$1,INT((ROWS($2:78)-1)/12)+1,(MID(C78,3,2)+1)),"") -> 3
A79: =IF(ROWS($2:79)>(COUNTA('Previsions SPA 2018'!A:A)-1)*12,"",OFFSET('Previsions SPA 2018'!A$1,INT((ROWS($2:79)-1)/12)+1,)) -> 10150 C6 | B79: =OFFSET('Previsions SPA 2018'!B$1,INT((ROWS($2:79)-1)/12)+1,)&"" -> 210008 | C79: =IF(A79="","",OFFSET('Previsions SPA 2018'!A$1,,MOD(ROWS($2:79)-1,12)+2)) -> 15062019 | D79: =IF(A79<>"",OFFSET('Previsions SPA 2018'!A$1,INT((ROWS($2:79)-1)/12)+1,(MID(C79,3,2)+1)),"") -> 3
A80: =IF(ROWS($2:80)>(COUNTA('Previsions SPA 2018'!A:A)-1)*12,"",OFFSET('Previsions SPA 2018'!A$1,INT((ROWS($2:80)-1)/12)+1,)) -> 10150 C6 | B80: =OFFSET('Previsions SPA 2018'!B$1,INT((ROWS($2:80)-1)/12)+1,)&"" -> 210008 | C80: =IF(A80="","",OFFSET('Previsions SPA 2018'!A$1,,MOD(ROWS($2:80)-1,12)+2)) -> 15072019 | D80: =IF(A80<>"",OFFSET('Previsions SPA 2018'!A$1,INT((ROWS($2:80)-1)/12)+1,(MID(C80,3,2)+1)),"") -> 3
A81: =IF(ROWS($2:81)>(COUNTA('Previsions SPA 2018'!A:A)-1)*12,"",OFFSET('Previsions SPA 2018'!A$1,INT((ROWS($2:81)-1)/12)+1,)) -> 10150 C6 | B81: =OFFSET('Previsions SPA 2018'!B$1,INT((ROWS($2:81)-1)/12)+1,)&"" -> 210008 | C81: =IF(A81="","",OFFSET('Previsions SPA 2018'!A$1,,MOD(ROWS($2:81)-1,12)+2)) -> 15082019 | D81: =IF(A81<>"",OFFSET('Previsions SPA 2018'!A$1,INT((ROWS($2:81)-1)/12)+1,(MID(C81,3,2)+1)),"") -> 3
A82: =IF(ROWS($2:82)>(COUNTA('Previsions SPA 2018'!A:A)-1)*12,"",OFFSET('Previsions SPA 2018'!A$1,INT((ROWS($2:82)-1)/12)+1,)) -> 10150 C6 | B82: =OFFSET('Previsions SPA 2018'!B$1,INT((ROWS($2:82)-1)/12)+1,)&"" -> 210008 | C82: =IF(A82="","",OFFSET('Previsions SPA 2018'!A$1,,MOD(ROWS($2:82)-1,12)+2)) -> 15092019 | D82: =IF(A82<>"",OFFSET('Previsions SPA 2018'!A$1,INT((ROWS($2:82)-1)/12)+1,(MID(C82,3,2)+1)),"") -> 3
A83: =IF(ROWS($2:83)>(COUNTA('Previsions SPA 2018'!A:A)-1)*12,"",OFFSET('Previsions SPA 2018'!A$1,INT((ROWS($2:83)-1)/12)+1,)) -> 10150 C6 | B83: =OFFSET('Previsions SPA 2018'!B$1,INT((ROWS($2:83)-1)/12)+1,)&"" -> 210008 | C83: =IF(A83="","",OFFSET('Previsions SPA 2018'!A$1,,MOD(ROWS($2:83)-1,12)+2)) -> 15102019 | D83: =IF(A83<>"",OFFSET('Previsions SPA 2018'!A$1,INT((ROWS($2:83)-1)/12)+1,(MID(C83,3,2)+1)),"") -> 2
A84: =IF(ROWS($2:84)>(COUNTA('Previsions SPA 2018'!A:A)-1)*12,"",OFFSET('Previsions SPA 2018'!A$1,INT((ROWS($2:84)-1)/12)+1,)) -> 10150 C6 | B84: =OFFSET('Previsions SPA 2018'!B$1,INT((ROWS($2:84)-1)/12)+1,)&"" -> 210008 | C84: =IF(A84="","",OFFSET('Previsions SPA 2018'!A$1,,MOD(ROWS($2:84)-1,12)+2)) -> 15112019 | D84: =IF(A84<>"",OFFSET('Previsions SPA 2018'!A$1,INT((ROWS($2:84)-1)/12)+1,(MID(C84,3,2)+1)),"") -> 3
A85: =IF(ROWS($2:85)>(COUNTA('Previsions SPA 2018'!A:A)-1)*12,"",OFFSET('Previsions SPA 2018'!A$1,INT((ROWS($2:85)-1)/12)+1,)) -> 10150 C6 | B85: =OFFSET('Previsions SPA 2018'!B$1,INT((ROWS($2:85)-1)/12)+1,)&"" -> 210008 | C85: =IF(A85="","",OFFSET('Previsions SPA 2018'!A$1,,MOD(ROWS($2:85)-1,12)+2)) -> 15122019 | D85: =IF(A85<>"",OFFSET('Previsions SPA 2018'!A$1,INT((ROWS($2:85)-1)/12)+1,(MID(C85,3,2)+1)),"") -> 3
A86: =IF(ROWS($2:86)>(COUNTA('Previsions SPA 2018'!A:A)-1)*12,"",OFFSET('Previsions SPA 2018'!A$1,INT((ROWS($2:86)-1)/12)+1,)) -> 10250 C5 | B86: =OFFSET('Previsions SPA 2018'!B$1,INT((ROWS($2:86)-1)/12)+1,)&"" -> 210008 | C86: =IF(A86="","",OFFSET('Previsions SPA 2018'!A$1,,MOD(ROWS($2:86)-1,12)+2)) -> 15012019 | D86: =IF(A86<>"",OFFSET('Previsions SPA 2018'!A$1,INT((ROWS($2:86)-1)/12)+1,(MID(C86,3,2)+1)),"") -> 1
A87: =IF(ROWS($2:87)>(COUNTA('Previsions SPA 2018'!A:A)-1)*12,"",OFFSET('Previsions SPA 2018'!A$1,INT((ROWS($2:87)-1)/12)+1,)) -> 10250 C5 | B87: =OFFSET('Previsions SPA 2018'!B$1,INT((ROWS($2:87)-1)/12)+1,)&"" -> 210008 | C87: =IF(A87="","",OFFSET('Previsions SPA 2018'!A$1,,MOD(ROWS($2:87)-1,12)+2)) -> 15022019 | D87: =IF(A87<>"",OFFSET('Previsions SPA 2018'!A$1,INT((ROWS($2:87)-1)/12)+1,(MID(C87,3,2)+1)),"") -> 5
A88: =IF(ROWS($2:88)>(COUNTA('Previsions SPA 2018'!A:A)-1)*12,"",OFFSET('Previsions SPA 2018'!A$1,INT((ROWS($2:88)-1)/12)+1,)) -> 10250 C5 | B88: =OFFSET('Previsions SPA 2018'!B$1,INT((ROWS($2:88)-1)/12)+1,)&"" -> 210008 | C88: =IF(A88="","",OFFSET('Previsions SPA 2018'!A$1,,MOD(ROWS($2:88)-1,12)+2)) -> 15032019 | D88: =IF(A88<>"",OFFSET('Previsions SPA 2018'!A$1,INT((ROWS($2:88)-1)/12)+1,(MID(C88,3,2)+1)),"") -> 5
A89: =IF(ROWS($2:89)>(COUNTA('Previsions SPA 2018'!A:A)-1)*12,"",OFFSET('Previsions SPA 2018'!A$1,INT((ROWS($2:89)-1)/12)+1,)) -> 10250 C5 | B89: =OFFSET('Previsions SPA 2018'!B$1,INT((ROWS($2:89)-1)/12)+1,)&"" -> 210008 | C89: =IF(A89="","",OFFSET('Previsions SPA 2018'!A$1,,MOD(ROWS($2:89)-1,12)+2)) -> 15042019 | D89: =IF(A89<>"",OFFSET('Previsions SPA 2018'!A$1,INT((ROWS($2:89)-1)/12)+1,(MID(C89,3,2)+1)),"") -> 4
A90: =IF(ROWS($2:90)>(COUNTA('Previsions SPA 2018'!A:A)-1)*12,"",OFFSET('Previsions SPA 2018'!A$1,INT((ROWS($2:90)-1)/12)+1,)) -> 10250 C5 | B90: =OFFSET('Previsions SPA 2018'!B$1,INT((ROWS($2:90)-1)/12)+1,)&"" -> 210008 | C90: =IF(A90="","",OFFSET('Previsions SPA 2018'!A$1,,MOD(ROWS($2:90)-1,12)+2)) -> 15052019 | D90: =IF(A90<>"",OFFSET('Previsions SPA 2018'!A$1,INT((ROWS($2:90)-1)/12)+1,(MID(C90,3,2)+1)),"") -> 9
A91: =IF(ROWS($2:91)>(COUNTA('Previsions SPA 2018'!A:A)-1)*12,"",OFFSET('Previsions SPA 2018'!A$1,INT((ROWS($2:91)-1)/12)+1,)) -> 10250 C5 | B91: =OFFSET('Previsions SPA 2018'!B$1,INT((ROWS($2:91)-1)/12)+1,)&"" -> 210008 | C91: =IF(A91="","",OFFSET('Previsions SPA 2018'!A$1,,MOD(ROWS($2:91)-1,12)+2)) -> 15062019 | D91: =IF(A91<>"",OFFSET('Previsions SPA 2018'!A$1,INT((ROWS($2:91)-1)/12)+1,(MID(C91,3,2)+1)),"") -> 2
A92: =IF(ROWS($2:92)>(COUNTA('Previsions SPA 2018'!A:A)-1)*12,"",OFFSET('Previsions SPA 2018'!A$1,INT((ROWS($2:92)-1)/12)+1,)) -> 10250 C5 | B92: =OFFSET('Previsions SPA 2018'!B$1,INT((ROWS($2:92)-1)/12)+1,)&"" -> 210008 | C92: =IF(A92="","",OFFSET('Previsions SPA 2018'!A$1,,MOD(ROWS($2:92)-1,12)+2)) -> 15072019 | D92: =IF(A92<>"",OFFSET('Previsions SPA 2018'!A$1,INT((ROWS($2:92)-1)/12)+1,(MID(C92,3,2)+1)),"") -> 9
A93: =IF(ROWS($2:93)>(COUNTA('Previsions SPA 2018'!A:A)-1)*12,"",OFFSET('Previsions SPA 2018'!A$1,INT((ROWS($2:93)-1)/12)+1,)) -> 10250 C5 | B93: =OFFSET('Previsions SPA 2018'!B$1,INT((ROWS($2:93)-1)/12)+1,)&"" -> 210008 | C93: =IF(A93="","",OFFSET('Previsions SPA 2018'!A$1,,MOD(ROWS($2:93)-1,12)+2)) -> 15082019 | D93: =IF(A93<>"",OFFSET('Previsions SPA 2018'!A$1,INT((ROWS($2:93)-1)/12)+1,(MID(C93,3,2)+1)),"") -> 1
A94: =IF(ROWS($2:94)>(COUNTA('Previsions SPA 2018'!A:A)-1)*12,"",OFFSET('Previsions SPA 2018'!A$1,INT((ROWS($2:94)-1)/12)+1,)) -> 10250 C5 | B94: =OFFSET('Previsions SPA 2018'!B$1,INT((ROWS($2:94)-1)/12)+1,)&"" -> 210008 | C94: =IF(A94="","",OFFSET('Previsions SPA 2018'!A$1,,MOD(ROWS($2:94)-1,12)+2)) -> 15092019 | D94: =IF(A94<>"",OFFSET('Previsions SPA 2018'!A$1,INT((ROWS($2:94)-1)/12)+1,(MID(C94,3,2)+1)),"") -> 3
A95: =IF(ROWS($2:95)>(COUNTA('Previsions SPA 2018'!A:A)-1)*12,"",OFFSET('Previsions SPA 2018'!A$1,INT((ROWS($2:95)-1)/12)+1,)) -> 10250 C5 | B95: =OFFSET('Previsions SPA 2018'!B$1,INT((ROWS($2:95)-1)/12)+1,)&"" -> 210008 | C95: =IF(A95="","",OFFSET('Previsions SPA 2018'!A$1,,MOD(ROWS($2:95)-1,12)+2)) -> 15102019 | D95: =IF(A95<>"",OFFSET('Previsions SPA 2018'!A$1,INT((ROWS($2:95)-1)/12)+1,(MID(C95,3,2)+1)),"") -> 3
A96: =IF(ROWS($2:96)>(COUNTA('Previsions SPA 2018'!A:A)-1)*12,"",OFFSET('Previsions SPA 2018'!A$1,INT((ROWS($2:96)-1)/12)+1,)) -> 10250 C5 | B96: =OFFSET('Previsions SPA 2018'!B$1,INT((ROWS($2:96)-1)/12)+1,)&"" -> 210008 | C96: =IF(A96="","",OFFSET('Previsions SPA 2018'!A$1,,MOD(ROWS($2:96)-1,12)+2)) -> 15112019 | D96: =IF(A96<>"",OFFSET('Previsions SPA 2018'!A$1,INT((ROWS($2:96)-1)/12)+1,(MID(C96,3,2)+1)),"") -> 3
A97: =IF(ROWS($2:97)>(COUNTA('Previsions SPA 2018'!A:A)-1)*12,"",OFFSET('Previsions SPA 2018'!A$1,INT((ROWS($2:97)-1)/12)+1,)) -> 10250 C5 | B97: =OFFSET('Previsions SPA 2018'!B$1,INT((ROWS($2:97)-1)/12)+1,)&"" -> 210008 | C97: =IF(A97="","",OFFSET('Previsions SPA 2018'!A$1,,MOD(ROWS($2:97)-1,12)+2)) -> 15122019 | D97: =IF(A97<>"",OFFSET('Previsions SPA 2018'!A$1,INT((ROWS($2:97)-1)/12)+1,(MID(C97,3,2)+1)),"") -> 3
A98: =IF(ROWS($2:98)>(COUNTA('Previsions SPA 2018'!A:A)-1)*12,"",OFFSET('Previsions SPA 2018'!A$1,INT((ROWS($2:98)-1)/12)+1,)) -> 10070 CP5 | B98: =OFFSET('Previsions SPA 2018'!B$1,INT((ROWS($2:98)-1)/12)+1,)&"" -> 210008 | C98: =IF(A98="","",OFFSET('Previsions SPA 2018'!A$1,,MOD(ROWS($2:98)-1,12)+2)) -> 15012019 | D98: =IF(A98<>"",OFFSET('Previsions SPA 2018'!A$1,INT((ROWS($2:98)-1)/12)+1,(MID(C98,3,2)+1)),"") -> 2
A99: =IF(ROWS($2:99)>(COUNTA('Previsions SPA 2018'!A:A)-1)*12,"",OFFSET('Previsions SPA 2018'!A$1,INT((ROWS($2:99)-1)/12)+1,)) -> 10070 CP5 | B99: =OFFSET('Previsions SPA 2018'!B$1,INT((ROWS($2:99)-1)/12)+1,)&"" -> 210008 | C99: =IF(A99="","",OFFSET('Previsions SPA 2018'!A$1,,MOD(ROWS($2:99)-1,12)+2)) -> 15022019 | D99: =IF(A99<>"",OFFSET('Previsions SPA 2018'!A$1,INT((ROWS($2:99)-1)/12)+1,(MID(C99,3,2)+1)),"") -> 9
A100: =IF(ROWS($2:100)>(COUNTA('Previsions SPA 2018'!A:A)-1)*12,"",OFFSET('Previsions SPA 2018'!A$1,INT((ROWS($2:100)-1)/12)+1,)) -> 10070 CP5 | B100: =OFFSET('Previsions SPA 2018'!B$1,INT((ROWS($2:100)-1)/12)+1,)&"" -> 210008 | C100: =IF(A100="","",OFFSET('Previsions SPA 2018'!A$1,,MOD(ROWS($2:100)-1,12)+2)) -> 15032019 | D100: =IF(A100<>"",OFFSET('Previsions SPA 2018'!A$1,INT((ROWS($2:100)-1)/12)+1,(MID(C100,3,2)+1)),"") -> 8
...
