Workbook

Sheet données gpa
A1: Date | B1: Référence | C1: Désignation | D1: Quantité
A2: 43129 | B2: P125CIT500 | C2: Sorbet Citron 125ml | D2: 3120
A3: 43129 | B3: P125CIT500 | C3: Sorbet Citron 125ml | D3: 1584
A4: 43129 | B4: P2125CIT | C4: Sorbet Citron 2x125ml | D4: 1158
A5: 43130 | B5: P125VAN100 | C5: Crème Vanille 125ml | D5: 3120
A6: 43130 | B6: P125VAN100 | C6: Crème Vanille 125ml | D6: 3120
A7: 43130 | B7: P125VAN100 | C7: Crème Vanille 125ml | D7: 936
A8: 43131 | B8: P125CAR100 | C8: Crème Caramel 125ml | D8: 2964
A9: 43131 | B9: P125CAR100 | C9: Crème Caramel 125ml | D9: 3120
A10: 43132 | B10: P60VAN100 | C10: Crème Vanille 60ml | D10: 4992
A11: 43133 | B11: P60CAR100 | C11: Crème Caramel 60ml | D11: 1728
A12: 43133 | B12: P60CHO100 | C12: Crème Chocolat 60ml | D12: 4080
A13: 43136 | B13: P125CAF100 | C13: Crème Café 125ml | D13: 1032
... A502: 43280 | B502: P550RHU100 | C502: Crème Rhum/raisins 550ml | D502: 900

Sheet besoins données
A1: ='données gpa'!A1 -> Date | B1: semaine | C1: mois | D1: année | E1: ='données gpa'!B1 -> Référence | F1: ='données gpa'!C1 -> Désignation | G1: ='données gpa'!D1 -> Quantité
B2: 1
B3: 2
B4: 3
B5: 4
B6: 5
B7: 6
B8: 7
B9: 8
B10: 9
B11: 10
B12: 11
B13: 12
... B53: 52
A54: ='données gpa'!A2 -> 43129 | B54: =WEEKNUM(A54) -> 5 | C54: =TEXT(30*MONTH(A54),"mmmm") -> janvier | D54: =YEAR(A54) -> 2018 | E54: ='données gpa'!B2 -> P125CIT500 | F54: ='données gpa'!C2 -> Sorbet Citron 125ml | G54: ='données gpa'!D2 -> 3120
A55: ='données gpa'!A3 -> 43129 | B55: =WEEKNUM(A55) -> 5 | C55: =TEXT(30*MONTH(A55),"mmmm") -> janvier | D55: =YEAR(A55) -> 2018 | E55: ='données gpa'!B3 -> P125CIT500 | F55: ='données gpa'!C3 -> Sorbet Citron 125ml | G55: ='données gpa'!D3 -> 1584
A56: ='données gpa'!A4 -> 43129 | B56: =WEEKNUM(A56) -> 5 | C56: =TEXT(30*MONTH(A56),"mmmm") -> janvier | D56: =YEAR(A56) -> 2018 | E56: ='données gpa'!B4 -> P2125CIT | F56: ='données gpa'!C4 -> Sorbet Citron 2x125ml | G56: ='données gpa'!D4 -> 1158
A57: ='données gpa'!A5 -> 43130 | B57: =WEEKNUM(A57) -> 5 | C57: =TEXT(30*MONTH(A57),"mmmm") -> janvier | D57: =YEAR(A57) -> 2018 | E57: ='données gpa'!B5 -> P125VAN100 | F57: ='données gpa'!C5 -> Crème Vanille 125ml | G57: ='données gpa'!D5 -> 3120
A58: ='données gpa'!A6 -> 43130 | B58: =WEEKNUM(A58) -> 5 | C58: =TEXT(30*MONTH(A58),"mmmm") -> janvier | D58: =YEAR(A58) -> 2018 | E58: ='données gpa'!B6 -> P125VAN100 | F58: ='données gpa'!C6 -> Crème Vanille 125ml | G58: ='données gpa'!D6 -> 3120
A59: ='données gpa'!A7 -> 43130 | B59: =WEEKNUM(A59) -> 5 | C59: =TEXT(30*MONTH(A59),"mmmm") -> janvier | D59: =YEAR(A59) -> 2018 | E59: ='données gpa'!B7 -> P125VAN100 | F59: ='données gpa'!C7 -> Crème Vanille 125ml | G59: ='données gpa'!D7 -> 936
A60: ='données gpa'!A8 -> 43131 | B60: =WEEKNUM(A60) -> 5 | C60: =TEXT(30*MONTH(A60),"mmmm") -> janvier | D60: =YEAR(A60) -> 2018 | E60: ='données gpa'!B8 -> P125CAR100 | F60: ='données gpa'!C8 -> Crème Caramel 125ml | G60: ='données gpa'!D8 -> 2964
A61: ='données gpa'!A9 -> 43131 | B61: =WEEKNUM(A61) -> 5 | C61: =TEXT(30*MONTH(A61),"mmmm") -> janvier | D61: =YEAR(A61) -> 2018 | E61: ='données gpa'!B9 -> P125CAR100 | F61: ='données gpa'!C9 -> Crème Caramel 125ml | G61: ='données gpa'!D9 -> 3120
A62: ='données gpa'!A10 -> 43132 | B62: =WEEKNUM(A62) -> 5 | C62: =TEXT(30*MONTH(A62),"mmmm") -> février | D62: =YEAR(A62) -> 2018 | E62: ='données gpa'!B10 -> P60VAN100 | F62: ='données gpa'!C10 -> Crème Vanille 60ml | G62: ='données gpa'!D10 -> 4992
A63: ='données gpa'!A11 -> 43133 | B63: =WEEKNUM(A63) -> 5 | C63: =TEXT(30*MONTH(A63),"mmmm") -> février | D63: =YEAR(A63) -> 2018 | E63: ='données gpa'!B11 -> P60CAR100 | F63: ='données gpa'!C11 -> Crème Caramel 60ml | G63: ='données gpa'!D11 -> 1728
A64: ='données gpa'!A12 -> 43133 | B64: =WEEKNUM(A64) -> 5 | C64: =TEXT(30*MONTH(A64),"mmmm") -> février | D64: =YEAR(A64) -> 2018 | E64: ='données gpa'!B12 -> P60CHO100 | F64: ='données gpa'!C12 -> Crème Chocolat 60ml | G64: ='données gpa'!D12 -> 4080
A65: ='données gpa'!A13 -> 43136 | B65: =WEEKNUM(A65) -> 6 | C65: =TEXT(30*MONTH(A65),"mmmm") -> février | D65: =YEAR(A65) -> 2018 | E65: ='données gpa'!B13 -> P125CAF100 | F65: ='données gpa'!C13 -> Crème Café 125ml | G65: ='données gpa'!D13 -> 1032
... A554: ='données gpa'!A502 -> 43280 | B554: =WEEKNUM(A554) -> 26 | C554: =TEXT(30*MONTH(A554),"mmmm") -> juin | D554: =YEAR(A554) -> 2018 | E554: ='données gpa'!B502 -> P550RHU100 | F554: ='données gpa'!C502 -> Crème Rhum/raisins 550ml | G554: ='données gpa'!D502 -> 900

Sheet fabrication 2018 semaine
A5: Somme de Quantité | B5: Étiquettes de colonnes
A6: Étiquettes de lignes | B6: 1 | C6: 2 | D6: 3 | E6: 4 | F6: 5 | G6: 6 | H6: 7 | I6: 8 | J6: 9 | K6: 10 | L6: 11 | M6: 12 | N6: 13 | O6: 14 | P6: 15 | Q6: 16 | R6: 17 | S6: 18 | T6: 19 | U6: 20 | V6: 21 | W6: 22 | X6: 23 | Y6: 24 | Z6: 25 | AA6: 26 | AB6: 27 | AC6: 28 | AD6: 29 | AE6: 30 | AF6: 31 | AG6: 32 | AH6: 33 | AI6: 34 | AJ6: 35 | AK6: 36 | AL6: 37 | AM6: 38 | AN6: 39 | AO6: 40 | AP6: 41 | AQ6: 42 | AR6: 43 | AS6: 44 | AT6: 45 | AU6: 46 | AV6: 47 | AW6: 48 | AX6: 49 | AY6: 50 | AZ6: 51 | BA6: 52 | BB6: Total général
A7: B2500ABR500
A8: Sorbet Abricot 2.5L | N8: 20 | BB8: 20
A9: B2500CAF100
A10: Crème Café 2.5L | O10: 40 | BB10: 40
A11: B2500CAR100
A12: Crème Caramel 2.5L | R12: 40 | BB12: 40
A13: B2500CHO100
A14: Crème Chocolat 2.5L | R14: 60 | AA14: 40 | BB14: 100
A15: B2500CIT500
A16: Sorbet Citron 2.5L | P16: 60 | BB16: 60
A17: B2500COC500
A18: Sorbet Noix de Coco 2.5L | T18: 40 | BB18: 40
A19: B2500FRA500
A20: Sorbet Fraise 2.5L | S20: 60 | BB20: 60
A21: B2500FRB500
A22: Sorbet Framboise 2.5L | M22: 80 | BB22: 80
A23: B2500MAR100
A24: Crème Marron 2.5L | W24: 12 | BB24: 12
A25: B2500MNG500
A26: Sorbet Mangue/passion 2.5L | J26: 20 | Y26: 20 | BB26: 40
A27: B2500NOI100
A28: Crème Noix/Figues 2.5L | Y28: 24 | BB28: 24
A29: B2500ORS500
A30: Sorbet Orange Sanguine 2.5L | X30: 20 | BB30: 20
A31: B2500PEC500
A32: Sorbet Pêche 2.5L | U32: 20 | AA32: 20 | BB32: 40
A33: B2500PIS100
A34: Crème Pistache 2.5L | V34: 20 | BB34: 20
A35: B2500PLO100
A36: Crème Plombière 2.5L | N36: 28 | BB36: 28
A37: B2500PRA100
A38: Crème noisette 2.5L | X38: 20 | BB38: 20
A39: B2500RHU100
A40: Crème Rhum/raisins 2.5L | Z40: 20 | BB40: 20
A41: B2500VAN100
A42: Crème Vanille 2.5L | L42: 100 | AA42: 60 | BB42: 160
A43: BIO25BAN
A44: Sorbet Banane BIO 2.5L | Z44: 12 | BB44: 12
...
