Workbook

Sheet Data
M1: Année : | N1: =$C$6 -> 2020 | O1: =$N$1+1 -> 2021
B2: CALENDRIER
M3: 1er Janvier | N3: =DATE($N$1,1,1) -> 43831
M4: Pâques | N4: =ROUND(DATE($N$1,4,MOD(234-11*MOD($N$1,19),30))/7,)*7-6 -> 43933
M5: Lundi de Pâques | N5: =N4+1 -> 43934
B6: Année : | C6: 2020 | D6: 2021 | M6: 1er Mai | N6: =DATE($N$1,5,1) -> 43952
B7: Date de pré-rentrée : | D7: 44063 | M7: 8 Mai | N7: =DATE($N$1,5,8) -> 43959
B8: Date de rentrée scolaire: | D8: 44067 | M8: Ascenscion | N8: =N4+39 -> 43972
M9: Pentecôte | N9: =N4+49 -> 43982
B10: N° jour semaine du | D10: =DATE(C6,8,1) -> 44044 | M10: Lundi de la Pentecôte | N10: =N4+50 -> 43983
D11: =WEEKDAY(D10) -> 7 | M11: 14 Juillet | N11: =DATE($N$1,7,14) -> 44026
B12: voir formule utilisée calendar aout | M12: 15 Août | N12: =DATE($N$1,8,15) -> 44058
M13: 1er Novembre | N13: =DATE($N$1,11,1) -> 44136
B14: pour info | C14: 1 | D14: dimanche | M14: 11 Novembre | N14: =DATE($N$1,11,11) -> 44146
C15: 2 | D15: Lundi | M15: 25 Décembre | N15: =DATE($N$1,12,25) -> 44190
C16: 3 | D16: mardi | M16: 1er Janvier | N16: =DATE(O1,1,1) -> 44197
C17: 4 | D17: mercredi | M17: Pâques | N17: =ROUND(DATE($O$1,4,MOD(234-11*MOD($O$1,19),30))/7,)*7-6 -> 44290
C18: 5 | D18: jeudi | M18: Lundi de Pâques | N18: =N17+1 -> 44291
C19: 6 | D19: vendredi | M19: 1er Mai | N19: =DATE($O$1,5,1) -> 44317
C20: 7 | D20: samedi | M20: 8 Mai | N20: =DATE($O$1,5,8) -> 44324
M21: Ascenscion | N21: =N17+39 -> 44329
M22: Pentecôte | N22: =N17+49 -> 44339
M23: Lundi de la Pentecôte | N23: =N17+50 -> 44340
M24: 14 Juillet | N24: =DATE($O$1,7,14) -> 44391
M25: 15 Août | N25: =DATE($O$1,8,15) -> 44423
M26: 1er Novembre | N26: =DATE($O$1,11,1) -> 44501
M27: 11 Novembre | N27: =DATE($O$1,11,11) -> 44511
M32: 25 Décembre | N32: =DATE($O$1,12,25) -> 44555
M34: Date d'entrée | N34: =DATE($C$6,8,1) -> 44044
N35: Début | O35: Fin
M36: Août | N36: =N34 -> 44044 | O36: =EOMONTH(N36,0) -> 44074
M37: Septembre | N37: =EDATE(N36,1) -> 44075 | O37: =EOMONTH(N37,0) -> 44104
M38: Octobre | N38: =EDATE(N37,1) -> 44105 | O38: =EOMONTH(N38,0) -> 44135
M39: Novembre | N39: =EDATE(N38,1) -> 44136 | O39: =EOMONTH(N39,0) -> 44165
M40: Décembre | N40: =EDATE(N39,1) -> 44166 | O40: =EOMONTH(N40,0) -> 44196
M41: Janvier | N41: =EDATE(N40,1) -> 44197 | O41: =EOMONTH(N41,0) -> 44227
M42: Février | N42: =EDATE(N41,1) -> 44228 | O42: =EOMONTH(N42,0) -> 44255
M43: Mars | N43: =EDATE(N42,1) -> 44256 | O43: =EOMONTH(N43,0) -> 44286
M44: Avril | N44: =EDATE(N43,1) -> 44287 | O44: =EOMONTH(N44,0) -> 44316
M45: Mai | N45: =EDATE(N44,1) -> 44317 | O45: =EOMONTH(N45,0) -> 44347
...

Sheet Calendrier 
B2: =CONCATENATE("Calendrier des rotations ",Data!C6," / ",Data!D6) -> Calendrier des rotations 2020 / 2021
C5: =TEXT(Data!$N$36,"mmmmmmmmmmmm")& TEXT(Data!$N$36," aaaa") -> août 2020 | L5: =TEXT(Data!$N$37,"mmmmmmmmmmmm")& TEXT(Data!$N$37," aaaa") -> septembre 2020 | U5: =TEXT(Data!$N$38,"mmmmmmmmmmmm")& TEXT(Data!$N$38," aaaa") -> octobre 2020 | AD5: =TEXT(Data!$N$39,"mmmmmmmmmmmm")& TEXT(Data!$N$39," aaaa") -> novembre 2020
C6: L | D6: M | E6: M | F6: J | G6: V | H6: S | I6: D | L6: L | M6: M | N6: M | O6: J | P6: V | Q6: S | R6: D | U6: L | V6: M | W6: M | X6: J | Y6: V | Z6: S | AA6: D | AD6: L | AE6: M | AF6: M | AG6: J | AH6: V | AI6: S | AJ6: D
C7: =IF(Data!D11=2,1,"") | D7: =IF(Data!$D$11=3,1,IF(Data!$D$11>3,"",2)) | E7: =IF(Data!$D$11=4,1,IF(Data!$D$11>4,"",3)) | F7: =IF(Data!$D$11=5,1,IF(Data!$D$11>5,"",4)) | G7: =IF(Data!$D$11=6,1,IF(Data!$D$11>6,"",5)) | H7: =IF(Data!$D$11=7,1,IF(Data!$D$11>7,"",6)) -> 1 | I7: =H7+1 -> 2 | R7: 1 | V7: 1 | W7: 2 | X7: 3 | Y7: 4 | Z7: 5 | AA7: 6 | AH7: 1 | AI7: 2 | AJ7: 3
C8: =IF(I7<31,I7+1,"") -> 3 | D8: =IF(C8<31,C8+1,"") -> 4 | E8: =IF(D8<31,D8+1,"") -> 5 | F8: =IF(E8<31,E8+1,"") -> 6 | G8: =IF(F8<31,F8+1,"") -> 7 | H8: =IF(G8<31,G8+1,"") -> 8 | I8: =IF(H8<31,H8+1,"") -> 9 | L8: 2 | M8: 3 | N8: 4 | O8: 5 | P8: 6 | Q8: 7 | R8: 8 | U8: 7 | V8: 8 | W8: 9 | X8: 10 | Y8: 11 | Z8: 12 | AA8: 13 | AD8: 4 | AE8: 5 | AF8: 6 | AG8: 7 | AH8: 8 | AI8: 9 | AJ8: 10
C9: =IF(I8<31,I8+1,"") -> 10 | D9: =IF(C9<31,C9+1,"") -> 11 | E9: =IF(D9<31,D9+1,"") -> 12 | F9: =IF(E9<31,E9+1,"") -> 13 | G9: =IF(F9<31,F9+1,"") -> 14 | H9: =IF(G9<31,G9+1,"") -> 15 | I9: =IF(H9<31,H9+1,"") -> 16 | L9: 9 | M9: 10 | N9: 11 | O9: 12 | P9: 13 | Q9: 14 | R9: 15 | U9: 14 | V9: 15 | W9: 16 | X9: 17 | Y9: 18 | Z9: 19 | AA9: 20 | AD9: 11 | AE9: 12 | AF9: 13 | AG9: 14 | AH9: 15 | AI9: 16 | AJ9: 17
C10: =IF(I9<31,I9+1,"") -> 17 | D10: =IF(C10<31,C10+1,"") -> 18 | E10: =IF(D10<31,D10+1,"") -> 19 | F10: =IF(E10<31,E10+1,"") -> 20 | G10: =IF(F10<31,F10+1,"") -> 21 | H10: =IF(G10<31,G10+1,"") -> 22 | I10: =IF(H10<31,H10+1,"") -> 23 | L10: 16 | M10: 17 | N10: 18 | O10: 19 | P10: 20 | Q10: 21 | R10: 22 | U10: 21 | V10: 22 | W10: 23 | X10: 24 | Y10: 25 | Z10: 26 | AA10: 27 | AD10: 18 | AE10: 19 | AF10: 20 | AG10: 21 | AH10: 22 | AI10: 23 | AJ10: 24
C11: =IF(I10<31,I10+1,"") -> 24 | D11: =IF(C11<31,C11+1,"") -> 25 | E11: =IF(D11<31,D11+1,"") -> 26 | F11: =IF(E11<31,E11+1,"") -> 27 | G11: =IF(F11<31,F11+1,"") -> 28 | H11: =IF(G11<31,G11+1,"") -> 29 | I11: =IF(H11<31,H11+1,"") -> 30 | L11: 23 | M11: 24 | N11: 25 | O11: 26 | P11: 27 | Q11: 28 | R11: 29 | U11: 28 | V11: 29 | W11: 30 | X11: 31 | AD11: 25 | AE11: 26 | AF11: 27 | AG11: 28 | AH11: 29 | AI11: 30
C12: =IF(I11<31,I11+1,"") -> 31 | D12: =IF(C12<31,C12+1,"") | E12: =IF(D12<31,D12+1,"") | F12: =IF(E12<31,E12+1,"") | G12: =IF(F12<31,F12+1,"") | H12: =IF(G12<31,G12+1,"") | I12: =IF(H12<31,H12+1,"") | L12: 30
C15: =TEXT(Data!$N$40,"mmmmmmmmmmmm")& TEXT(Data!$N$40," aaaa") -> décembre 2020 | L15: =TEXT(Data!$N$41,"mmmmmmmmmmmm")& TEXT(Data!$N$41," aaaa") -> janvier 2021 | U15: =TEXT(Data!$N$42,"mmmmmmmmmmmm")& TEXT(Data!$N$42," aaaa") -> février 2021 | AD15: =TEXT(Data!$N$43,"mmmmmmmmmmmm")& TEXT(Data!$N$43," aaaa") -> mars 2021
C16: L | D16: M | E16: M | F16: J | G16: V | H16: S | I16: D | L16: L | M16: M | N16: M | O16: J | P16: V | Q16: S | R16: D | U16: L | V16: M | W16: M | X16: J | Y16: V | Z16: S | AA16: D | AD16: L | AE16: M | AF16: M | AG16: J | AH16: V | AI16: S | AJ16: D
I17: 1 | N17: 1 | O17: 2 | P17: 3 | Q17: 4 | R17: 5 | Z17: 1 | AA17: 2 | AJ17: 1
C18: 2 | D18: 3 | E18: 4 | F18: 5 | G18: 6 | H18: 7 | I18: 8 | L18: 6 | M18: 7 | N18: 8 | O18: 9 | P18: 10 | Q18: 11 | R18: 12 | U18: 3 | V18: 4 | W18: 5 | X18: 6 | Y18: 7 | Z18: 8 | AA18: 9 | AD18: 2 | AE18: 3 | AF18: 4 | AG18: 5 | AH18: 6 | AI18: 7 | AJ18: 8
C19: 9 | D19: 10 | E19: 11 | F19: 12 | G19: 13 | H19: 14 | I19: 15 | L19: 13 | M19: 14 | N19: 15 | O19: 16 | P19: 17 | Q19: 18 | R19: 19 | U19: 10 | V19: 11 | W19: 12 | X19: 13 | Y19: 14 | Z19: 15 | AA19: 16 | AD19: 9 | AE19: 10 | AF19: 11 | AG19: 12 | AH19: 13 | AI19: 14 | AJ19: 15
C20: 16 | D20: 17 | E20: 18 | F20: 19 | G20: 20 | H20: 21 | I20: 22 | L20: 20 | M20: 21 | N20: 22 | O20: 23 | P20: 24 | Q20: 25 | R20: 26 | U20: 17 | V20: 18 | W20: 19 | X20: 20 | Y20: 21 | Z20: 22 | AA20: 23 | AD20: 16 | AE20: 17 | AF20: 18 | AG20: 19 | AH20: 20 | AI20: 21 | AJ20: 22
C21: 23 | D21: 24 | E21: 25 | F21: 26 | G21: 27 | H21: 28 | I21: 29 | L21: 27 | M21: 28 | N21: 29 | O21: 30 | P21: 31 | U21: 24 | V21: 25 | W21: 26 | X21: 27 | Y21: 28 | Z21: 29 | AD21: 23 | AE21: 24 | AF21: 25 | AG21: 26 | AH21: 27 | AI21: 28 | AJ21: 29
C22: 30 | D22: 31 | AD22: 30 | AE22: 31
C25: =TEXT(Data!$N$4,"mmmmmmmmmmmm")& TEXT(Data!$N$44," aaaa") -> avril 2021 | L25: =TEXT(Data!$N$45,"mmmmmmmmmmmm")& TEXT(Data!$N$45," aaaa") -> mai 2021 | U25: =TEXT(Data!$N$46,"mmmmmmmmmmmm")& TEXT(Data!$N$46," aaaa") -> juin 2021 | AD25: =TEXT(Data!$N$47,"mmmmmmmmmmmm")& TEXT(Data!$N$47," aaaa") -> juillet 2021
C26: L | D26: M | E26: M | F26: J | G26: V | H26: S | I26: D | L26: L | M26: M | N26: M | O26: J | P26: V | Q26: S | R26: D | U26: L | V26: M | W26: M | X26: J | Y26: V | Z26: S | AA26: D | AD26: L | AE26: M | AF26: M | AG26: J | AH26: V | AI26: S | AJ26: D
E27: 1 | F27: 2 | G27: 3 | H27: 4 | I27: 5 | P27: 1 | Q27: 2 | R27: 3 | U27: 1 | V27: 2 | W27: 3 | X27: 4 | Y27: 5 | Z27: 6 | AA27: 7 | AF27: 1 | AG27: 2 | AH27: 3 | AI27: 4 | AJ27: 5
C28: 6 | D28: 7 | E28: 8 | F28: 9 | G28: 10 | H28: 11 | I28: 12 | L28: 4 | M28: 5 | N28: 6 | O28: 7 | P28: 8 | Q28: 9 | R28: 10 | U28: 8 | V28: 9 | W28: 10 | X28: 11 | Y28: 12 | Z28: 13 | AA28: 14 | AD28: 6 | AE28: 7 | AF28: 8 | AG28: 9 | AH28: 10 | AI28: 11 | AJ28: 12
C29: 13 | D29: 14 | E29: 15 | F29: 16 | G29: 17 | H29: 18 | I29: 19 | L29: 11 | M29: 12 | N29: 13 | O29: 14 | P29: 15 | Q29: 16 | R29: 17 | U29: 15 | V29: 16 | W29: 17 | X29: 18 | Y29: 19 | Z29: 20 | AA29: 21 | AD29: 13 | AE29: 14 | AF29: 15 | AG29: 16 | AH29: 17 | AI29: 18 | AJ29: 19
C30: 20 | D30: 21 | E30: 22 | F30: 23 | G30: 24 | H30: 25 | I30: 26 | L30: 18 | M30: 19 | N30: 20 | O30: 21 | P30: 22 | Q30: 23 | R30: 24 | U30: 22 | V30: 23 | W30: 24 | X30: 25 | Y30: 26 | Z30: 27 | AA30: 28 | AD30: 20 | AE30: 21 | AF30: 22 | AG30: 23 | AH30: 24 | AI30: 25 | AJ30: 26
C31: 27 | D31: 28 | E31: 29 | F31: 30 | L31: 25 | M31: 26 | N31: 27 | O31: 28 | P31: 29 | Q31: 30 | R31: 31 | U31: 29 | V31: 30 | AD31: 27 | AE31: 28 | AF31: 29 | AG31: 30 | AH31: 31
C35: =TEXT(Data!$N$48,"mmmmmmmmmmmm")& TEXT(Data!$N$48," aaaa") -> août 2021 | K35: 15 août 2018: Assomption | T35: 27 avril : Abol.de l'escavage
C36: L | D36: M | E36: M | F36: J | G36: V | H36: S | I36: D | K36: 1 novembre 2018: Toussaint | T36: 1 mai: Fête du travail | AG36: Fêtes légales
H37: 1 | I37: 2 | K37: 11 novembre 2018: Armistice de 1918 | T37: 8 mai: Victoire 1945 | AG37: Vacances scolaires
C38: 3 | D38: 4 | E38: 5 | F38: 6 | G38: 7 | H38: 8 | I38: 9 | K38: 25 décembre 2018: Noël | T38: 21 mai: Ascension | AG38: Pré-rentrée
C39: 10 | D39: 11 | E39: 12 | F39: 13 | G39: 14 | H39: 15 | I39: 16 | K39: Pré rentrée des Enseignants | T39: 31 mai: Dimanche de Pentecôte | AG39: Rotation B matin
C40: 17 | D40: 18 | E40: 19 | F40: 20 | G40: 21 | H40: 22 | I40: 23 | K40: 1 janvier: Premier de l'An | T40: 1 juin: Lundi de Pentecôte
C41: 24 | D41: 25 | E41: 26 | F41: 27 | G41: 28 | H41: 29 | I41: 30 | K41: 12 avril: Dimanche de Pâques | T41: 14 juillet: Fête Nationale
C42: 31 | K42: 13 avril: Lundi de Pâques | T42: 15 août: Assomption
