Workbook

Sheet Prestations int
A1: R+1 | B1: Bat A | C1: A13 | D1: CH2 | E1: Privative intérieure sèche | F1: =IF(I1="","",VLOOKUP(TEXT(I1,"0"),'Finition de sol'!$A$5:$C$15,2,0)) -> Parquet massif ep,14mm / L,110mm | I1: ='Finition de sol'!$A$5 -> 1 | J1: ='Finition de mur'!$A$7 -> 3 | K1: ='Finition de plafond'!$A$7 -> 3
A2: R+1 | B2: Bat A | C2: A13 | D2: CH1 | E2: Privative intérieure sèche | F2: =IF(I2="","",VLOOKUP(TEXT(I2,"0"),'Finition de sol'!$A$5:$C$15,2,0)) -> Parquet massif ep,14mm / L,110mm | G2: =IF(J2="","",VLOOKUP(TEXT(J2,"0"),'Finition de mur'!$A$5:$C$15,2,0)) -> #N/A | H2: =IF(K2="","",VLOOKUP(TEXT(K2,"0"),'Finition de plafond'!$A$5:$C$15,2,0)) -> #N/A | I2: ='Finition de sol'!$A$5 -> 1 | J2: 3 | K2: ='Finition de plafond'!$A$7 -> 3
A3: R+1 | B3: Bat A | C3: A13 | D3: SDB1 | E3: Privative intérieure humide | F3: =IF(I3="","",VLOOKUP(TEXT(I3,"0"),'Finition de sol'!$A$5:$C$15,2,0)) -> carrelage grés émaillé U3P3 45x45 | G3: =IF(J3="","",VLOOKUP(TEXT(J3,"0"),'Finition de mur'!$A$5:$B$15,2,0)) | I3: 2
A4: R+1 | B4: Bat A | C4: A13 | D4: CUI | E4: Privative intérieure humide | F4: =IF(I4="","",VLOOKUP(TEXT(I4,"0"),'Finition de sol'!$A$5:$C$15,2,0)) -> carrelage grés émaillé U3P3 45x45 | G4: =IF(J4="","",VLOOKUP(TEXT(J4,"0"),'Finition de mur'!$A$5:$B$15,2,0)) | I4: 2
A5: R+1 | B5: Bat A | C5: A13 | D5: SEA1 | E5: Privative intérieure humide | F5: =IF(I5="","",VLOOKUP(TEXT(I5,"0"),'Finition de sol'!$A$5:$C$15,2,0)) -> carrelage grés émaillé U3P3 45x45 | G5: =IF(J5="","",VLOOKUP(TEXT(J5,"0"),'Finition de mur'!$A$5:$B$15,2,0)) | I5: 2
A6: R+1 | B6: Bat A | C6: A13 | D6: WC1 | E6: Privative intérieure humide | F6: =IF(I6="","",VLOOKUP(TEXT(I6,"0"),'Finition de sol'!$A$5:$C$15,2,0)) -> carrelage grés émaillé U3P3 45x45 | G6: =IF(J6="","",VLOOKUP(TEXT(J6,"0"),'Finition de mur'!$A$5:$B$15,2,0)) | I6: 2
A7: R+1 | B7: Bat A | C7: A13 | D7: ENT | E7: Privative intérieure sèche | F7: =IF(I7="","",VLOOKUP(TEXT(I7,"0"),'Finition de sol'!$A$5:$C$15,2,0)) -> Parquet massif ep,14mm / L,110mm | G7: =IF(J7="","",VLOOKUP(TEXT(J7,"0"),'Finition de mur'!$A$5:$B$15,2,0)) -> #N/A | I7: ='Finition de sol'!$A$5 -> 1 | J7: ='Finition de mur'!$A$7 -> 3 | K7: ='Finition de plafond'!$A$7 -> 3
A8: R+1 | B8: Bat A | C8: A13 | D8: DRE | E8: Privative intérieure sèche | F8: =IF(I8="","",VLOOKUP(TEXT(I8,"0"),'Finition de sol'!$A$5:$C$15,2,0)) -> Parquet massif ep,14mm / L,110mm | G8: =IF(J8="","",VLOOKUP(TEXT(J8,"0"),'Finition de mur'!$A$5:$B$15,2,0)) -> #N/A | I8: ='Finition de sol'!$A$5 -> 1 | J8: ='Finition de mur'!$A$7 -> 3 | K8: ='Finition de plafond'!$A$7 -> 3
A9: R+1 | B9: Bat A | C9: A14 | D9: SEJ | E9: Privative intérieure sèche | F9: =IF(I9="","",VLOOKUP(TEXT(I9,"0"),'Finition de sol'!$A$5:$C$15,2,0)) -> Parquet massif ep,14mm / L,110mm | G9: =IF(J9="","",VLOOKUP(TEXT(J9,"0"),'Finition de mur'!$A$5:$B$15,2,0)) -> #N/A | I9: ='Finition de sol'!$A$5 -> 1 | J9: ='Finition de mur'!$A$7 -> 3 | K9: ='Finition de plafond'!$A$7 -> 3
A10: R+1 | B10: Bat A | C10: A14 | D10: CH2 | E10: Privative intérieure sèche | F10: =IF(I10="","",VLOOKUP(TEXT(I10,"0"),'Finition de sol'!$A$5:$C$15,2,0)) -> Parquet massif ep,14mm / L,110mm | G10: =IF(J10="","",VLOOKUP(TEXT(J10,"0"),'Finition de mur'!$A$5:$B$15,2,0)) -> #N/A | I10: ='Finition de sol'!$A$5 -> 1 | J10: ='Finition de mur'!$A$7 -> 3 | K10: ='Finition de plafond'!$A$7 -> 3
A11: R+1 | B11: Bat A | C11: A14 | D11: CH1 | E11: Privative intérieure sèche | F11: =IF(I11="","",VLOOKUP(TEXT(I11,"0"),'Finition de sol'!$A$5:$C$15,2,0)) -> Parquet massif ep,14mm / L,110mm | G11: =IF(J11="","",VLOOKUP(TEXT(J11,"0"),'Finition de mur'!$A$5:$B$15,2,0)) -> #N/A | I11: ='Finition de sol'!$A$5 -> 1 | J11: ='Finition de mur'!$A$7 -> 3 | K11: ='Finition de plafond'!$A$7 -> 3
A12: R+1 | B12: Bat A | C12: A14 | D12: SDB1 | E12: Privative intérieure humide | F12: =IF(I12="","",VLOOKUP(TEXT(I12,"0"),'Finition de sol'!$A$5:$C$15,2,0)) -> carrelage grés émaillé U3P3 45x45 | G12: =IF(J12="","",VLOOKUP(TEXT(J12,"0"),'Finition de mur'!$A$5:$B$15,2,0)) | I12: 2
A13: R+1 | B13: Bat A | C13: A14 | D13: ENT | E13: Privative intérieure sèche | F13: =IF(I13="","",VLOOKUP(TEXT(I13,"0"),'Finition de sol'!$A$5:$C$15,2,0)) -> Parquet massif ep,14mm / L,110mm | G13: =IF(J13="","",VLOOKUP(TEXT(J13,"0"),'Finition de mur'!$A$5:$B$15,2,0)) -> #N/A | I13: ='Finition de sol'!$A$5 -> 1 | J13: ='Finition de mur'!$A$7 -> 3 | K13: ='Finition de plafond'!$A$7 -> 3
A14: R+1 | B14: Bat A | C14: A14 | D14: WC1 | E14: Privative intérieure humide | F14: =IF(I14="","",VLOOKUP(TEXT(I14,"0"),'Finition de sol'!$A$5:$C$15,2,0)) -> carrelage grés émaillé U3P3 45x45 | G14: =IF(J14="","",VLOOKUP(TEXT(J14,"0"),'Finition de mur'!$A$5:$B$15,2,0)) | I14: 2
A15: R+1 | B15: Bat A | C15: A14 | D15: CUI | E15: Privative intérieure humide | F15: =IF(I15="","",VLOOKUP(TEXT(I15,"0"),'Finition de sol'!$A$5:$C$15,2,0)) -> carrelage grés émaillé U3P3 45x45 | G15: =IF(J15="","",VLOOKUP(TEXT(J15,"0"),'Finition de mur'!$A$5:$B$15,2,0)) | I15: 2
A16: R+1 | B16: Bat A | C16: A12 | D16: SEJ | E16: Privative intérieure sèche | F16: =IF(I16="","",VLOOKUP(TEXT(I16,"0"),'Finition de sol'!$A$5:$C$15,2,0)) -> Parquet massif ep,14mm / L,110mm | G16: =IF(J16="","",VLOOKUP(TEXT(J16,"0"),'Finition de mur'!$A$5:$B$15,2,0)) -> #N/A | I16: ='Finition de sol'!$A$5 -> 1 | J16: ='Finition de mur'!$A$7 -> 3 | K16: ='Finition de plafond'!$A$7 -> 3
A17: R+1 | B17: Bat A | C17: A12 | D17: CUI | E17: Privative intérieure humide | F17: =IF(I17="","",VLOOKUP(TEXT(I17,"0"),'Finition de sol'!$A$5:$C$15,2,0)) -> carrelage grés émaillé U3P3 45x45 | I17: 2
A18: R+1 | B18: Bat A | C18: A12 | D18: ENT | E18: Privative intérieure sèche | F18: =IF(I18="","",VLOOKUP(TEXT(I18,"0"),'Finition de sol'!$A$5:$C$15,2,0)) -> Parquet massif ep,14mm / L,110mm | I18: ='Finition de sol'!$A$5 -> 1 | J18: ='Finition de mur'!$A$7 -> 3 | K18: ='Finition de plafond'!$A$7 -> 3
A19: R+1 | B19: Bat A | C19: A12 | D19: SDB1 | E19: Privative intérieure humide | F19: =IF(I19="","",VLOOKUP(TEXT(I19,"0"),'Finition de sol'!$A$5:$C$15,2,0)) -> carrelage grés émaillé U3P3 45x45 | I19: 2
A20: R+1 | B20: Bat A | C20: A12 | D20: CH2 | E20: Privative intérieure sèche | F20: =IF(I20="","",VLOOKUP(TEXT(I20,"0"),'Finition de sol'!$A$5:$C$15,2,0)) -> Parquet massif ep,14mm / L,110mm | I20: ='Finition de sol'!$A$5 -> 1 | J20: ='Finition de mur'!$A$7 -> 3 | K20: ='Finition de plafond'!$A$7 -> 3
A21: R+1 | B21: Bat A | C21: A12 | D21: CH1 | E21: Privative intérieure sèche | F21: =IF(I21="","",VLOOKUP(TEXT(I21,"0"),'Finition de sol'!$A$5:$C$15,2,0)) -> Parquet massif ep,14mm / L,110mm | I21: ='Finition de sol'!$A$5 -> 1 | J21: ='Finition de mur'!$A$7 -> 3 | K21: ='Finition de plafond'!$A$7 -> 3
A22: R+1 | B22: Bat A | C22: A12 | D22: WC1 | E22: Privative intérieure humide | F22: =IF(I22="","",VLOOKUP(TEXT(I22,"0"),'Finition de sol'!$A$5:$C$15,2,0)) -> carrelage grés émaillé U3P3 45x45 | I22: 2
A23: R+1 | B23: Bat A | C23: A11 | D23: SEJ | E23: Privative intérieure sèche | F23: =IF(I23="","",VLOOKUP(TEXT(I23,"0"),'Finition de sol'!$A$5:$C$15,2,0)) -> Parquet massif ep,14mm / L,110mm | I23: ='Finition de sol'!$A$5 -> 1 | J23: ='Finition de mur'!$A$7 -> 3 | K23: ='Finition de plafond'!$A$7 -> 3
A24: R+1 | B24: Bat A | C24: A11 | D24: CH1 | E24: Privative intérieure sèche | F24: =IF(I24="","",VLOOKUP(TEXT(I24,"0"),'Finition de sol'!$A$5:$C$15,2,0)) -> Parquet massif ep,14mm / L,110mm | I24: ='Finition de sol'!$A$5 -> 1 | J24: ='Finition de mur'!$A$7 -> 3 | K24: ='Finition de plafond'!$A$7 -> 3
A25: R+1 | B25: Bat A | C25: A11 | D25: CH2 | E25: Privative intérieure sèche | F25: =IF(I25="","",VLOOKUP(TEXT(I25,"0"),'Finition de sol'!$A$5:$C$15,2,0)) -> Parquet massif ep,14mm / L,110mm | I25: ='Finition de sol'!$A$5 -> 1 | J25: ='Finition de mur'!$A$7 -> 3 | K25: ='Finition de plafond'!$A$7 -> 3
A26: R+1 | B26: Bat A | C26: A11 | D26: SDB1 | E26: Privative intérieure humide | F26: =IF(I26="","",VLOOKUP(TEXT(I26,"0"),'Finition de sol'!$A$5:$C$15,2,0)) -> carrelage grés émaillé U3P3 45x45 | I26: 2
A27: R+1 | B27: Bat A | C27: A11 | D27: ENT | E27: Privative intérieure sèche | F27: =IF(I27="","",VLOOKUP(TEXT(I27,"0"),'Finition de sol'!$A$5:$C$15,2,0)) -> Parquet massif ep,14mm / L,110mm | I27: ='Finition de sol'!$A$5 -> 1 | J27: ='Finition de mur'!$A$7 -> 3 | K27: ='Finition de plafond'!$A$7 -> 3
A28: R+1 | B28: Bat A | C28: A11 | D28: CUI | E28: Privative intérieure humide | F28: =IF(I28="","",VLOOKUP(TEXT(I28,"0"),'Finition de sol'!$A$5:$C$15,2,0)) -> carrelage grés émaillé U3P3 45x45 | I28: 2
A29: R+1 | B29: Bat A | C29: A11 | D29: WC1 | E29: Privative intérieure humide | F29: =IF(I29="","",VLOOKUP(TEXT(I29,"0"),'Finition de sol'!$A$5:$C$15,2,0)) -> carrelage grés émaillé U3P3 45x45 | I29: 2
A30: R+1 | B30: Bat A | D30: ASC | E30: Commune intérieure | F30: =IF(I30="","",VLOOKUP(TEXT(I30,"0"),'Finition de sol'!$A$5:$C$15,2,0))
A31: R+1 | B31: Bat A | D31: ESC | E31: Commune intérieure | F31: =IF(I31="","",VLOOKUP(TEXT(I31,"0"),'Finition de sol'!$A$5:$C$15,2,0))
A32: R+1 | B32: Bat A | D32: C1 | E32: Commune intérieure | F32: =IF(I32="","",VLOOKUP(TEXT(I32,"0"),'Finition de sol'!$A$5:$C$15,2,0))
A33: R+1 | B33: Bat A | C33: A15 | D33: CH2 | E33: Privative intérieure sèche | F33: =IF(I33="","",VLOOKUP(TEXT(I33,"0"),'Finition de sol'!$A$5:$C$15,2,0)) -> Parquet massif ep,14mm / L,110mm | I33: ='Finition de sol'!$A$5 -> 1 | J33: ='Finition de mur'!$A$7 -> 3 | K33: ='Finition de plafond'!$A$7 -> 3
A34: R+1 | B34: Bat A | C34: A15 | D34: CH1 | E34: Privative intérieure sèche | F34: =IF(I34="","",VLOOKUP(TEXT(I34,"0"),'Finition de sol'!$A$5:$C$15,2,0)) -> Parquet massif ep,14mm / L,110mm | I34: ='Finition de sol'!$A$5 -> 1 | J34: ='Finition de mur'!$A$7 -> 3 | K34: ='Finition de plafond'!$A$7 -> 3
A35: R+1 | B35: Bat A | C35: A15 | D35: SDB1 | E35: Privative intérieure humide | F35: =IF(I35="","",VLOOKUP(TEXT(I35,"0"),'Finition de sol'!$A$5:$C$15,2,0)) -> carrelage grés émaillé U3P3 45x45 | I35: 2
A36: R+1 | B36: Bat A | C36: A15 | D36: DEG | E36: Privative intérieure sèche | F36: =IF(I36="","",VLOOKUP(TEXT(I36,"0"),'Finition de sol'!$A$5:$C$15,2,0)) -> Parquet massif ep,14mm / L,110mm | I36: ='Finition de sol'!$A$5 -> 1 | J36: ='Finition de mur'!$A$7 -> 3 | K36: ='Finition de plafond'!$A$7 -> 3
A37: R+1 | B37: Bat A | C37: A15 | D37: CH3 | E37: Privative intérieure sèche | F37: =IF(I37="","",VLOOKUP(TEXT(I37,"0"),'Finition de sol'!$A$5:$C$15,2,0)) -> Parquet massif ep,14mm / L,110mm | I37: ='Finition de sol'!$A$5 -> 1 | J37: ='Finition de mur'!$A$7 -> 3 | K37: ='Finition de plafond'!$A$7 -> 3
A38: R+1 | B38: Bat A | C38: A15 | D38: SEJ | E38: Privative intérieure sèche | F38: =IF(I38="","",VLOOKUP(TEXT(I38,"0"),'Finition de sol'!$A$5:$C$15,2,0)) -> Parquet massif ep,14mm / L,110mm | I38: ='Finition de sol'!$A$5 -> 1 | J38: ='Finition de mur'!$A$7 -> 3 | K38: ='Finition de plafond'!$A$7 -> 3
A39: R+1 | B39: Bat A | C39: A15 | D39: CUI | E39: Privative intérieure humide | F39: =IF(I39="","",VLOOKUP(TEXT(I39,"0"),'Finition de sol'!$A$5:$C$15,2,0)) -> carrelage grés émaillé U3P3 45x45 | I39: 2
A40: R+1 | B40: Bat A | C40: A15 | D40: ENT | E40: Privative intérieure sèche | F40: =IF(I40="","",VLOOKUP(TEXT(I40,"0"),'Finition de sol'!$A$5:$C$15,2,0)) -> Parquet massif ep,14mm / L,110mm | I40: ='Finition de sol'!$A$5 -> 1 | J40: ='Finition de mur'!$A$7 -> 3 | K40: ='Finition de plafond'!$A$7 -> 3
...

Sheet Finition de sol
A1: données
G2: extraction de données
A3: Batiment A
A4: Code | B4: désignation | H4: case a renseigner par le code | I4: valeur du tableau a indiquer selon la formule
A5: 1 | B5: Parquet massif ep,14mm / L,110mm | C5: pieces seche | F5: =IF(ISNA(MATCH(A1,$B$1:$B$10,0)),"",1) | G5: exemple | H5: 5 | I5: =VLOOKUP(TEXT(H5,"0"),$A$5:$C$18,2,0) -> sol souple PVC U4P3
A6: 2 | B6: carrelage grés émaillé U3P3 45x45 | C6: sdb/wc
A7: 3 | B7: carrelage grès cérame U4P3 60x60 | C7: hall d'entrée
A8: 4 | B8: carrelage grès cérame U4P4 30x30 | C8: loc menage
A9: 5 | B9: sol souple PVC U4P3 | C9: circulation commune etage
A10: 6 | B10: peinture de sol | C10: loc annexes
A11: 7 | B11: béton brut | C11: commerce
A12: 8 | B12: résine epoxy effet béton ciré | C12: hall d'entrée
A13: 9 | B13: dalle béton sur plot 40x40 | C13: terrasse/loggia
A14: 10 | B14: béton préfabriqué | C14: blacon
A15: 11 | B15: Terrasse bois méléze | C15: terrasse rdc

Sheet Finition de mur
A3: Batiment A
A4: Code | B4: désignation
A5: 1 | B5: Béton brut
A6: 2 | B6: Peinture sur béton
A7: 3 | B7: Peinture goutelette
A8: 4 | B8: Faience 25x40 hauteur 2,10m
A16: Batiment B
A26: Batiment C

Sheet Finition de plafond
A3: Batiment A
A4: Code | B4: désignation
A5: 1 | B5: Béton brut
A6: 2 | B6: Enduit GS + peinture
A7: 3 | B7: Faux-plafond acoustique type GYPTONE
A8: 4 | B8: Faux plafond metallique
A9: 5 | B9: Fibrastyrène
A16: Batiment B
A26: Batiment C
