Workbook

Sheet Prestations int
A1: R+1 | B1: Bat A | C1: A13 | D1: CH2 | E1: Privative intérieure sèche | F1: =IF(I1="","",VLOOKUP(TEXT(I1,"0"),'Finition de sol'!$A$5:$C$15,2,0)) -> Parquet massif ep,14mm / L,110mm | I1: ='Finition de sol'!$A$5 -> 1 | J1: ='Finition de mur'!$A$7 -> 3 | K1: ='Finition de plafond'!$A$7 -> 3
A2: R+1 | B2: Bat A | C2: A13 | D2: CH1 | E2: Privative intérieure sèche | F2: =IF(I2="","",VLOOKUP(TEXT(I2,"0"),'Finition de sol'!$A$5:$C$15,2,0)) -> Parquet massif ep,14mm / L,110mm | G2: =IF(J2="","",VLOOKUP(TEXT(J2,"0"),'Finition de mur'!$A$5:$C$15,2,0)) -> #N/A | H2: =IF(K2="","",VLOOKUP(TEXT(K2,"0"),'Finition de plafond'!$A$5:$C$15,2,0)) -> #N/A | I2: ='Finition de sol'!$A$5 -> 1 | J2: 3 | K2: ='Finition de plafond'!$A$7 -> 3
A3: R+1 | B3: Bat A | C3: A13 | D3: SDB1 | E3: Privative intérieure humide | F3: =IF(I3="","",VLOOKUP(TEXT(I3,"0"),'Finition de sol'!$A$5:$C$15,2,0)) -> carrelage grés émaillé U3P3 45x45 | G3: =IF(J3="","",VLOOKUP(TEXT(J3,"0"),'Finition de mur'!$A$5:$B$15,2,0)) | I3: 2
A4: R+1 | B4: Bat A | C4: A13 | D4: CUI | E4: Privative intérieure humide | F4: =IF(I4="","",VLOOKUP(TEXT(I4,"0"),'Finition de sol'!$A$5:$C$15,2,0)) -> carrelage grés émaillé U3P3 45x45 | G4: =IF(J4="","",VLOOKUP(TEXT(J4,"0"),'Finition de mur'!$A$5:$B$15,2,0)) | I4: 2
A5: R+1 | B5: Bat A | C5: A13 | D5: SEA1 | E5: Privative intérieure humide | F5: =IF(I5="","",VLOOKUP(TEXT(I5,"0"),'Finition de sol'!$A$5:$C$15,2,0)) -> carrelage grés émaillé U3P3 45x45 | G5: =IF(J5="","",VLOOKUP(TEXT(J5,"0"),'Finition de mur'!$A$5:$B$15,2,0)) | I5: 2
A6: R+1 | B6: Bat A | C6: A13 | D6: WC1 | E6: Privative intérieure humide | F6: =IF(I6="","",VLOOKUP(TEXT(I6,"0"),'Finition de sol'!$A$5:$C$15,2,0)) -> carrelage grés émaillé U3P3 45x45 | G6: =IF(J6="","",VLOOKUP(TEXT(J6,"0"),'Finition de mur'!$A$5:$B$15,2,0)) | I6: 2
A7: R+1 | B7: Bat A | C7: A13 | D7: ENT | E7: Privative intérieure sèche | F7: =IF(I7="","",VLOOKUP(TEXT(I7,"0"),'Finition de sol'!$A$5:$C$15,2,0)) -> Parquet massif ep,14mm / L,110mm | G7: =IF(J7="","",VLOOKUP(TEXT(J7,"0"),'Finition de mur'!$A$5:$B$15,2,0)) -> #N/A | I7: ='Finition de sol'!$A$5 -> 1 | J7: ='Finition de mur'!$A$7 -> 3 | K7: ='Finition de plafond'!$A$7 -> 3
A8: R+1 | B8: Bat A | C8: A13 | D8: DRE | E8: Privative intérieure sèche | F8: =IF(I8="","",VLOOKUP(TEXT(I8,"0"),'Finition de sol'!$A$5:$C$15,2,0)) -> Parquet massif ep,14mm / L,110mm | G8: =IF(J8="","",VLOOKUP(TEXT(J8,"0"),'Finition de mur'!$A$5:$B$15,2,0)) -> #N/A | I8: ='Finition de sol'!$A$5 -> 1 | J8: ='Finition de mur'!$A$7 -> 3 | K8: ='Finition de plafond'!$A$7 -> 3
A9: R+1 | B9: Bat A | C9: A14 | D9: SEJ | E9: Privative intérieure sèche | F9: =IF(I9="","",VLOOKUP(TEXT(I9,"0"),'Finition de sol'!$A$5:$C$15,2,0)) -> Parquet massif ep,14mm / L,110mm | G9: =IF(J9="","",VLOOKUP(TEXT(J9,"0"),'Finition de mur'!$A$5:$B$15,2,0)) -> #N/A | I9: ='Finition de sol'!$A$5 -> 1 | J9: ='Finition de mur'!$A$7 -> 3 | K9: ='Finition de plafond'!$A$7 -> 3
A10: R+1 | B10: Bat A | C10: A14 | D10: CH2 | E10: Privative intérieure sèche | F10: =IF(I10="","",VLOOKUP(TEXT(I10,"0"),'Finition de sol'!$A$5:$C$15,2,0)) -> Parquet massif ep,14mm / L,110mm | G10: =IF(J10="","",VLOOKUP(TEXT(J10,"0"),'Finition de mur'!$A$5:$B$15,2,0)) -> #N/A | I10: ='Finition de sol'!$A$5 -> 1 | J10: ='Finition de mur'!$A$7 -> 3 | K10: ='Finition de plafond'!$A$7 -> 3
A11: R+1 | B11: Bat A | C11: A14 | D11: CH1 | E11: Privative intérieure sèche | F11: =IF(I11="","",VLOOKUP(TEXT(I11,"0"),'Finition de sol'!$A$5:$C$15,2,0)) -> Parquet massif ep,14mm / L,110mm | G11: =IF(J11="","",VLOOKUP(TEXT(J11,"0"),'Finition de mur'!$A$5:$B$15,2,0)) -> #N/A | I11: ='Finition de sol'!$A$5 -> 1 | J11: ='Finition de mur'!$A$7 -> 3 | K11: ='Finition de plafond'!$A$7 -> 3
A12: R+1 | B12: Bat A | C12: A14 | D12: SDB1 | E12: Privative intérieure humide | F12: =IF(I12="","",VLOOKUP(TEXT(I12,"0"),'Finition de sol'!$A$5:$C$15,2,0)) -> carrelage grés émaillé U3P3 45x45 | G12: =IF(J12="","",VLOOKUP(TEXT(J12,"0"),'Finition de mur'!$A$5:$B$15,2,0)) | I12: 2
A13: R+1 | B13: Bat A | C13: A14 | D13: ENT | E13: Privative intérieure sèche | F13: =IF(I13="","",VLOOKUP(TEXT(I13,"0"),'Finition de sol'!$A$5:$C$15,2,0)) -> Parquet massif ep,14mm / L,110mm | G13: =IF(J13="","",VLOOKUP(TEXT(J13,"0"),'Finition de mur'!$A$5:$B$15,2,0)) -> #N/A | I13: ='Finition de sol'!$A$5 -> 1 | J13: ='Finition de mur'!$A$7 -> 3 | K13: ='Finition de plafond'!$A$7 -> 3
A14: R+1 | B14: Bat A | C14: A14 | D14: WC1 | E14: Privative intérieure humide | F14: =IF(I14="","",VLOOKUP(TEXT(I14,"0"),'Finition de sol'!$A$5:$C$15,2,0)) -> carrelage grés émaillé U3P3 45x45 | G14: =IF(J14="","",VLOOKUP(TEXT(J14,"0"),'Finition de mur'!$A$5:$B$15,2,0)) | I14: 2
A15: R+1 | B15: Bat A | C15: A14 | D15: CUI | E15: Privative intérieure humide | F15: =IF(I15="","",VLOOKUP(TEXT(I15,"0"),'Finition de sol'!$A$5:$C$15,2,0)) -> carrelage grés émaillé U3P3 45x45 | G15: =IF(J15="","",VLOOKUP(TEXT(J15,"0"),'Finition de mur'!$A$5:$B$15,2,0)) | I15: 2
A16: R+1 | B16: Bat A | C16: A12 | D16: SEJ | E16: Privative intérieure sèche | F16: =IF(I16="","",VLOOKUP(TEXT(I16,"0"),'Finition de sol'!$A$5:$C$15,2,0)) -> Parquet massif ep,14mm / L,110mm | G16: =IF(J16="","",VLOOKUP(TEXT(J16,"0"),'Finition de mur'!$A$5:$B$15,2,0)) -> #N/A | I16: ='Finition de sol'!$A$5 -> 1 | J16: ='Finition de mur'!$A$7 -> 3 | K16: ='Finition de plafond'!$A$7 -> 3
A17: R+1 | B17: Bat A | C17: A12 | D17: CUI | E17: Privative intérieure humide | F17: =IF(I17="","",VLOOKUP(TEXT(I17,"0"),'Finition de sol'!$A$5:$C$15,2,0)) -> carrelage grés émaillé U3P3 45x45 | I17: 2
A18: R+1 | B18: Bat A | C18: A12 | D18: ENT | E18: Privative intérieure sèche | F18: =IF(I18="","",VLOOKUP(TEXT(I18,"0"),'Finition de sol'!$A$5:$C$15,2,0)) -> Parquet massif ep,14mm / L,110mm | I18: ='Finition de sol'!$A$5 -> 1 | J18: ='Finition de mur'!$A$7 -> 3 | K18: ='Finition de plafond'!$A$7 -> 3
A19: R+1 | B19: Bat A | C19: A12 | D19: SDB1 | E19: Privative intérieure humide | F19: =IF(I19="","",VLOOKUP(TEXT(I19,"0"),'Finition de sol'!$A$5:$C$15,2,0)) -> carrelage grés émaillé U3P3 45x45 | I19: 2
A20: R+1 | B20: Bat A | C20: A12 | D20: CH2 | E20: Privative intérieure sèche | F20: =IF(I20="","",VLOOKUP(TEXT(I20,"0"),'Finition de sol'!$A$5:$C$15,2,0)) -> Parquet massif ep,14mm / L,110mm | I20: ='Finition de sol'!$A$5 -> 1 | J20: ='Finition de mur'!$A$7 -> 3 | K20: ='Finition de plafond'!$A$7 -> 3
A21: R+1 | B21: Bat A | C21: A12 | D21: CH1 | E21: Privative intérieure sèche | F21: =IF(I21="","",VLOOKUP(TEXT(I21,"0"),'Finition de sol'!$A$5:$C$15,2,0)) -> Parquet massif ep,14mm / L,110mm | I21: ='Finition de sol'!$A$5 -> 1 | J21: ='Finition de mur'!$A$7 -> 3 | K21: ='Finition de plafond'!$A$7 -> 3
A22: R+1 | B22: Bat A | C22: A12 | D22: WC1 | E22: Privative intérieure humide | F22: =IF(I22="","",VLOOKUP(TEXT(I22,"0"),'Finition de sol'!$A$5:$C$15,2,0)) -> carrelage grés émaillé U3P3 45x45 | I22: 2
A23: R+1 | B23: Bat A | C23: A11 | D23: SEJ | E23: Privative intérieure sèche | F23: =IF(I23="","",VLOOKUP(TEXT(I23,"0"),'Finition de sol'!$A$5:$C$15,2,0)) -> Parquet massif ep,14mm / L,110mm | I23: ='Finition de sol'!$A$5 -> 1 | J23: ='Finition de mur'!$A$7 -> 3 | K23: ='Finition de plafond'!$A$7 -> 3
A24: R+1 | B24: Bat A | C24: A11 | D24: CH1 | E24: Privative intérieure sèche | F24: =IF(I24="","",VLOOKUP(TEXT(I24,"0"),'Finition de sol'!$A$5:$C$15,2,0)) -> Parquet massif ep,14mm / L,110mm | I24: ='Finition de sol'!$A$5 -> 1 | J24: ='Finition de mur'!$A$7 -> 3 | K24: ='Finition de plafond'!$A$7 -> 3
A25: R+1 | B25: Bat A | C25: A11 | D25: CH2 | E25: Privative intérieure sèche | F25: =IF(I25="","",VLOOKUP(TEXT(I25,"0"),'Finition de sol'!$A$5:$C$15,2,0)) -> Parquet massif ep,14mm / L,110mm | I25: ='Finition de sol'!$A$5 -> 1 | J25: ='Finition de mur'!$A$7 -> 3 | K25: ='Finition de plafond'!$A$7 -> 3
A26: R+1 | B26: Bat A | C26: A11 | D26: SDB1 | E26: Privative intérieure humide | F26: =IF(I26="","",VLOOKUP(TEXT(I26,"0"),'Finition de sol'!$A$5:$C$15,2,0)) -> carrelage grés émaillé U3P3 45x45 | I26: 2
A27: R+1 | B27: Bat A | C27: A11 | D27: ENT | E27: Privative intérieure sèche | F27: =IF(I27="","",VLOOKUP(TEXT(I27,"0"),'Finition de sol'!$A$5:$C$15,2,0)) -> Parquet massif ep,14mm / L,110mm | I27: ='Finition de sol'!$A$5 -> 1 | J27: ='Finition de mur'!$A$7 -> 3 | K27: ='Finition de plafond'!$A$7 -> 3
A28: R+1 | B28: Bat A | C28: A11 | D28: CUI | E28: Privative intérieure humide | F28: =IF(I28="","",VLOOKUP(TEXT(I28,"0"),'Finition de sol'!$A$5:$C$15,2,0)) -> carrelage grés émaillé U3P3 45x45 | I28: 2
A29: R+1 | B29: Bat A | C29: A11 | D29: WC1 | E29: Privative intérieure humide | F29: =IF(I29="","",VLOOKUP(TEXT(I29,"0"),'Finition de sol'!$A$5:$C$15,2,0)) -> carrelage grés émaillé U3P3 45x45 | I29: 2
A30: R+1 | B30: Bat A | D30: ASC | E30: Commune intérieure | F30: =IF(I30="","",VLOOKUP(TEXT(I30,"0"),'Finition de sol'!$A$5:$C$15,2,0))
A31: R+1 | B31: Bat A | D31: ESC | E31: Commune intérieure | F31: =IF(I31="","",VLOOKUP(TEXT(I31,"0"),'Finition de sol'!$A$5:$C$15,2,0))
A32: R+1 | B32: Bat A | D32: C1 | E32: Commune intérieure | F32: =IF(I32="","",VLOOKUP(TEXT(I32,"0"),'Finition de sol'!$A$5:$C$15,2,0))
A33: R+1 | B33: Bat A | C33: A15 | D33: CH2 | E33: Privative intérieure sèche | F33: =IF(I33="","",VLOOKUP(TEXT(I33,"0"),'Finition de sol'!$A$5:$C$15,2,0)) -> Parquet massif ep,14mm / L,110mm | I33: ='Finition de sol'!$A$5 -> 1 | J33: ='Finition de mur'!$A$7 -> 3 | K33: ='Finition de plafond'!$A$7 -> 3
A34: R+1 | B34: Bat A | C34: A15 | D34: CH1 | E34: Privative intérieure sèche | F34: =IF(I34="","",VLOOKUP(TEXT(I34,"0"),'Finition de sol'!$A$5:$C$15,2,0)) -> Parquet massif ep,14mm / L,110mm | I34: ='Finition de sol'!$A$5 -> 1 | J34: ='Finition de mur'!$A$7 -> 3 | K34: ='Finition de plafond'!$A$7 -> 3
A35: R+1 | B35: Bat A | C35: A15 | D35: SDB1 | E35: Privative intérieure humide | F35: =IF(I35="","",VLOOKUP(TEXT(I35,"0"),'Finition de sol'!$A$5:$C$15,2,0)) -> carrelage grés émaillé U3P3 45x45 | I35: 2
A36: R+1 | B36: Bat A | C36: A15 | D36: DEG | E36: Privative intérieure sèche | F36: =IF(I36="","",VLOOKUP(TEXT(I36,"0"),'Finition de sol'!$A$5:$C$15,2,0)) -> Parquet massif ep,14mm / L,110mm | I36: ='Finition de sol'!$A$5 -> 1 | J36: ='Finition de mur'!$A$7 -> 3 | K36: ='Finition de plafond'!$A$7 -> 3
A37: R+1 | B37: Bat A | C37: A15 | D37: CH3 | E37: Privative intérieure sèche | F37: =IF(I37="","",VLOOKUP(TEXT(I37,"0"),'Finition de sol'!$A$5:$C$15,2,0)) -> Parquet massif ep,14mm / L,110mm | I37: ='Finition de sol'!$A$5 -> 1 | J37: ='Finition de mur'!$A$7 -> 3 | K37: ='Finition de plafond'!$A$7 -> 3
A38: R+1 | B38: Bat A | C38: A15 | D38: SEJ | E38: Privative intérieure sèche | F38: =IF(I38="","",VLOOKUP(TEXT(I38,"0"),'Finition de sol'!$A$5:$C$15,2,0)) -> Parquet massif ep,14mm / L,110mm | I38: ='Finition de sol'!$A$5 -> 1 | J38: ='Finition de mur'!$A$7 -> 3 | K38: ='Finition de plafond'!$A$7 -> 3
A39: R+1 | B39: Bat A | C39: A15 | D39: CUI | E39: Privative intérieure humide | F39: =IF(I39="","",VLOOKUP(TEXT(I39,"0"),'Finition de sol'!$A$5:$C$15,2,0)) -> carrelage grés émaillé U3P3 45x45 | I39: 2
A40: R+1 | B40: Bat A | C40: A15 | D40: ENT | E40: Privative intérieure sèche | F40: =IF(I40="","",VLOOKUP(TEXT(I40,"0"),'Finition de sol'!$A$5:$C$15,2,0)) -> Parquet massif ep,14mm / L,110mm | I40: ='Finition de sol'!$A$5 -> 1 | J40: ='Finition de mur'!$A$7 -> 3 | K40: ='Finition de plafond'!$A$7 -> 3
A41: R+1 | B41: Bat A | C41: A15 | D41: WC1 | E41: Privative intérieure humide | F41: =IF(I41="","",VLOOKUP(TEXT(I41,"0"),'Finition de sol'!$A$5:$C$15,2,0)) -> carrelage grés émaillé U3P3 45x45 | I41: 2
A42: R+2 | B42: Bat A | C42: A23 | D42: SEJ | E42: Privative intérieure sèche | F42: =IF(I42="","",VLOOKUP(TEXT(I42,"0"),'Finition de sol'!$A$5:$C$15,2,0)) -> Parquet massif ep,14mm / L,110mm | I42: ='Finition de sol'!$A$5 -> 1 | J42: ='Finition de mur'!$A$7 -> 3 | K42: ='Finition de plafond'!$A$7 -> 3
A43: R+2 | B43: Bat A | C43: A23 | D43: CH3 | E43: Privative intérieure sèche | F43: =IF(I43="","",VLOOKUP(TEXT(I43,"0"),'Finition de sol'!$A$5:$C$15,2,0)) -> Parquet massif ep,14mm / L,110mm | I43: ='Finition de sol'!$A$5 -> 1 | J43: ='Finition de mur'!$A$7 -> 3 | K43: ='Finition de plafond'!$A$7 -> 3
A44: R+2 | B44: Bat A | C44: A23 | D44: ENT | E44: Privative intérieure sèche | F44: =IF(I44="","",VLOOKUP(TEXT(I44,"0"),'Finition de sol'!$A$5:$C$15,2,0)) -> Parquet massif ep,14mm / L,110mm | I44: ='Finition de sol'!$A$5 -> 1 | J44: ='Finition de mur'!$A$7 -> 3 | K44: ='Finition de plafond'!$A$7 -> 3
A45: R+2 | B45: Bat A | C45: A23 | D45: DRE | E45: Privative intérieure sèche | F45: =IF(I45="","",VLOOKUP(TEXT(I45,"0"),'Finition de sol'!$A$5:$C$15,2,0)) -> Parquet massif ep,14mm / L,110mm | I45: ='Finition de sol'!$A$5 -> 1 | J45: ='Finition de mur'!$A$7 -> 3 | K45: ='Finition de plafond'!$A$7 -> 3
A46: R+2 | B46: Bat A | C46: A23 | D46: CH2 | E46: Privative intérieure sèche | F46: =IF(I46="","",VLOOKUP(TEXT(I46,"0"),'Finition de sol'!$A$5:$C$15,2,0)) -> Parquet massif ep,14mm / L,110mm | I46: ='Finition de sol'!$A$5 -> 1 | J46: ='Finition de mur'!$A$7 -> 3 | K46: ='Finition de plafond'!$A$7 -> 3
A47: R+2 | B47: Bat A | C47: A23 | D47: CH1 | E47: Privative intérieure sèche | F47: =IF(I47="","",VLOOKUP(TEXT(I47,"0"),'Finition de sol'!$A$5:$C$15,2,0)) -> Parquet massif ep,14mm / L,110mm | I47: ='Finition de sol'!$A$5 -> 1 | J47: ='Finition de mur'!$A$7 -> 3 | K47: ='Finition de plafond'!$A$7 -> 3
A48: R+2 | B48: Bat A | C48: A23 | D48: SDB1 | E48: Privative intérieure humide | F48: =IF(I48="","",VLOOKUP(TEXT(I48,"0"),'Finition de sol'!$A$5:$C$15,2,0)) -> carrelage grés émaillé U3P3 45x45 | I48: 2
A49: R+2 | B49: Bat A | C49: A23 | D49: SEA1 | E49: Privative intérieure humide | F49: =IF(I49="","",VLOOKUP(TEXT(I49,"0"),'Finition de sol'!$A$5:$C$15,2,0)) -> carrelage grés émaillé U3P3 45x45 | I49: 2
A50: R+2 | B50: Bat A | C50: A23 | D50: WC1 | E50: Privative intérieure humide | F50: =IF(I50="","",VLOOKUP(TEXT(I50,"0"),'Finition de sol'!$A$5:$C$15,2,0)) -> carrelage grés émaillé U3P3 45x45 | I50: 2
A51: R+2 | B51: Bat A | C51: A23 | D51: CUI | E51: Privative intérieure humide | F51: =IF(I51="","",VLOOKUP(TEXT(I51,"0"),'Finition de sol'!$A$5:$C$15,2,0)) -> carrelage grés émaillé U3P3 45x45 | I51: 2
A52: R+2 | B52: Bat A | C52: A24 | D52: SEJ | E52: Privative intérieure sèche | F52: =IF(I52="","",VLOOKUP(TEXT(I52,"0"),'Finition de sol'!$A$5:$C$15,2,0)) -> Parquet massif ep,14mm / L,110mm | I52: ='Finition de sol'!$A$5 -> 1 | J52: ='Finition de mur'!$A$7 -> 3 | K52: ='Finition de plafond'!$A$7 -> 3
A53: R+2 | B53: Bat A | C53: A24 | D53: CH2 | E53: Privative intérieure sèche | F53: =IF(I53="","",VLOOKUP(TEXT(I53,"0"),'Finition de sol'!$A$5:$C$15,2,0)) -> Parquet massif ep,14mm / L,110mm | I53: ='Finition de sol'!$A$5 -> 1 | J53: ='Finition de mur'!$A$7 -> 3 | K53: ='Finition de plafond'!$A$7 -> 3
A54: R+2 | B54: Bat A | C54: A24 | D54: CH1 | E54: Privative intérieure sèche | F54: =IF(I54="","",VLOOKUP(TEXT(I54,"0"),'Finition de sol'!$A$5:$C$15,2,0)) -> Parquet massif ep,14mm / L,110mm | I54: ='Finition de sol'!$A$5 -> 1 | J54: ='Finition de mur'!$A$7 -> 3 | K54: ='Finition de plafond'!$A$7 -> 3
A55: R+2 | B55: Bat A | C55: A24 | D55: SDB1 | E55: Privative intérieure humide | F55: =IF(I55="","",VLOOKUP(TEXT(I55,"0"),'Finition de sol'!$A$5:$C$15,2,0)) -> carrelage grés émaillé U3P3 45x45 | I55: 2
A56: R+2 | B56: Bat A | C56: A24 | D56: ENT | E56: Privative intérieure sèche | F56: =IF(I56="","",VLOOKUP(TEXT(I56,"0"),'Finition de sol'!$A$5:$C$15,2,0)) -> Parquet massif ep,14mm / L,110mm | I56: ='Finition de sol'!$A$5 -> 1 | J56: ='Finition de mur'!$A$7 -> 3 | K56: ='Finition de plafond'!$A$7 -> 3
A57: R+2 | B57: Bat A | C57: A24 | D57: WC1 | E57: Privative intérieure humide | F57: =IF(I57="","",VLOOKUP(TEXT(I57,"0"),'Finition de sol'!$A$5:$C$15,2,0)) -> carrelage grés émaillé U3P3 45x45 | I57: 2
A58: R+2 | B58: Bat A | C58: A24 | D58: CUI | E58: Privative intérieure humide | F58: =IF(I58="","",VLOOKUP(TEXT(I58,"0"),'Finition de sol'!$A$5:$C$15,2,0)) -> carrelage grés émaillé U3P3 45x45 | I58: 2
A59: R+2 | B59: Bat A | D59: C2 | E59: Commune intérieure | F59: =IF(I59="","",VLOOKUP(TEXT(I59,"0"),'Finition de sol'!$A$5:$C$15,2,0))
A60: R+2 | B60: Bat A | D60: ASC | E60: Commune intérieure | F60: =IF(I60="","",VLOOKUP(TEXT(I60,"0"),'Finition de sol'!$A$5:$C$15,2,0))
A61: R+2 | B61: Bat A | C61: A22 | D61: SEJ | E61: Privative intérieure sèche | F61: =IF(I61="","",VLOOKUP(TEXT(I61,"0"),'Finition de sol'!$A$5:$C$15,2,0)) -> Parquet massif ep,14mm / L,110mm | I61: ='Finition de sol'!$A$5 -> 1 | J61: ='Finition de mur'!$A$7 -> 3 | K61: ='Finition de plafond'!$A$7 -> 3
A62: R+2 | B62: Bat A | C62: A22 | D62: CUI | E62: Privative intérieure humide | F62: =IF(I62="","",VLOOKUP(TEXT(I62,"0"),'Finition de sol'!$A$5:$C$15,2,0)) -> carrelage grés émaillé U3P3 45x45 | I62: 2
A63: R+2 | B63: Bat A | C63: A22 | D63: ENT | E63: Privative intérieure sèche | F63: =IF(I63="","",VLOOKUP(TEXT(I63,"0"),'Finition de sol'!$A$5:$C$15,2,0)) -> Parquet massif ep,14mm / L,110mm | I63: ='Finition de sol'!$A$5 -> 1 | J63: ='Finition de mur'!$A$7 -> 3 | K63: ='Finition de plafond'!$A$7 -> 3
A64: R+2 | B64: Bat A | C64: A22 | D64: CH2 | E64: Privative intérieure sèche | F64: =IF(I64="","",VLOOKUP(TEXT(I64,"0"),'Finition de sol'!$A$5:$C$15,2,0)) -> Parquet massif ep,14mm / L,110mm | I64: ='Finition de sol'!$A$5 -> 1 | J64: ='Finition de mur'!$A$7 -> 3 | K64: ='Finition de plafond'!$A$7 -> 3
A65: R+2 | B65: Bat A | C65: A22 | D65: SDB1 | E65: Privative intérieure humide | F65: =IF(I65="","",VLOOKUP(TEXT(I65,"0"),'Finition de sol'!$A$5:$C$15,2,0)) -> carrelage grés émaillé U3P3 45x45 | I65: 2
A66: R+2 | B66: Bat A | C66: A22 | D66: CH1 | E66: Privative intérieure sèche | F66: =IF(I66="","",VLOOKUP(TEXT(I66,"0"),'Finition de sol'!$A$5:$C$15,2,0)) -> Parquet massif ep,14mm / L,110mm | I66: ='Finition de sol'!$A$5 -> 1 | J66: ='Finition de mur'!$A$7 -> 3 | K66: ='Finition de plafond'!$A$7 -> 3
A67: R+2 | B67: Bat A | C67: A22 | D67: WC1 | E67: Privative intérieure humide | F67: =IF(I67="","",VLOOKUP(TEXT(I67,"0"),'Finition de sol'!$A$5:$C$15,2,0)) -> carrelage grés émaillé U3P3 45x45 | I67: 2
A68: R+2 | B68: Bat A | C68: A21 | D68: SEJ | E68: Privative intérieure sèche | F68: =IF(I68="","",VLOOKUP(TEXT(I68,"0"),'Finition de sol'!$A$5:$C$15,2,0)) -> Parquet massif ep,14mm / L,110mm | I68: ='Finition de sol'!$A$5 -> 1 | J68: ='Finition de mur'!$A$7 -> 3 | K68: ='Finition de plafond'!$A$7 -> 3
A69: R+2 | B69: Bat A | C69: A21 | D69: CUI | E69: Privative intérieure humide | F69: =IF(I69="","",VLOOKUP(TEXT(I69,"0"),'Finition de sol'!$A$5:$C$15,2,0)) -> carrelage grés émaillé U3P3 45x45 | I69: 2
A70: R+2 | B70: Bat A | C70: A21 | D70: CH2 | E70: Privative intérieure sèche | F70: =IF(I70="","",VLOOKUP(TEXT(I70,"0"),'Finition de sol'!$A$5:$C$15,2,0)) -> Parquet massif ep,14mm / L,110mm | I70: ='Finition de sol'!$A$5 -> 1 | J70: ='Finition de mur'!$A$7 -> 3 | K70: ='Finition de plafond'!$A$7 -> 3
A71: R+2 | B71: Bat A | C71: A21 | D71: CH1 | E71: Privative intérieure sèche | F71: =IF(I71="","",VLOOKUP(TEXT(I71,"0"),'Finition de sol'!$A$5:$C$15,2,0)) -> Parquet massif ep,14mm / L,110mm | I71: ='Finition de sol'!$A$5 -> 1 | J71: ='Finition de mur'!$A$7 -> 3 | K71: ='Finition de plafond'!$A$7 -> 3
A72: R+2 | B72: Bat A | C72: A21 | D72: SDB1 | E72: Privative intérieure humide | F72: =IF(I72="","",VLOOKUP(TEXT(I72,"0"),'Finition de sol'!$A$5:$C$15,2,0)) -> carrelage grés émaillé U3P3 45x45 | I72: 2
A73: R+2 | B73: Bat A | C73: A21 | D73: ENT | E73: Privative intérieure sèche | F73: =IF(I73="","",VLOOKUP(TEXT(I73,"0"),'Finition de sol'!$A$5:$C$15,2,0)) -> Parquet massif ep,14mm / L,110mm | I73: ='Finition de sol'!$A$5 -> 1 | J73: ='Finition de mur'!$A$7 -> 3 | K73: ='Finition de plafond'!$A$7 -> 3
A74: R+2 | B74: Bat A | C74: A21 | D74: WC1 | E74: Privative intérieure humide | F74: =IF(I74="","",VLOOKUP(TEXT(I74,"0"),'Finition de sol'!$A$5:$C$15,2,0)) -> carrelage grés émaillé U3P3 45x45 | I74: 2
A75: R+2 | B75: Bat A | C75: A21 | D75: TER.SEJ | E75: Privative extérieure | F75: =IF(I75="","",VLOOKUP(TEXT(I75,"0"),'Finition de sol'!$A$5:$C$15,2,0)) -> béton préfabriqué | I75: 10
A76: R+2 | B76: Bat A | C76: A22 | D76: TER.SEJ | E76: Privative extérieure | F76: =IF(I76="","",VLOOKUP(TEXT(I76,"0"),'Finition de sol'!$A$5:$C$15,2,0)) -> béton préfabriqué | I76: 10
A77: R+2 | B77: Bat A | C77: A25 | D77: SEJ | E77: Privative intérieure sèche | F77: =IF(I77="","",VLOOKUP(TEXT(I77,"0"),'Finition de sol'!$A$5:$C$15,2,0)) -> Parquet massif ep,14mm / L,110mm | I77: ='Finition de sol'!$A$5 -> 1 | J77: ='Finition de mur'!$A$7 -> 3 | K77: ='Finition de plafond'!$A$7 -> 3
A78: R+2 | B78: Bat A | C78: A25 | D78: CUI | E78: Privative intérieure humide | F78: =IF(I78="","",VLOOKUP(TEXT(I78,"0"),'Finition de sol'!$A$5:$C$15,2,0)) -> carrelage grés émaillé U3P3 45x45 | I78: 2
A79: R+2 | B79: Bat A | C79: A25 | D79: SDB1 | E79: Privative intérieure humide | F79: =IF(I79="","",VLOOKUP(TEXT(I79,"0"),'Finition de sol'!$A$5:$C$15,2,0)) -> carrelage grés émaillé U3P3 45x45 | I79: 2
A80: R+2 | B80: Bat A | C80: A25 | D80: CH2 | E80: Privative intérieure sèche | F80: =IF(I80="","",VLOOKUP(TEXT(I80,"0"),'Finition de sol'!$A$5:$C$15,2,0)) -> Parquet massif ep,14mm / L,110mm | I80: ='Finition de sol'!$A$5 -> 1 | J80: ='Finition de mur'!$A$7 -> 3 | K80: ='Finition de plafond'!$A$7 -> 3
A81: R+2 | B81: Bat A | C81: A25 | D81: DEG | E81: Privative intérieure sèche | F81: =IF(I81="","",VLOOKUP(TEXT(I81,"0"),'Finition de sol'!$A$5:$C$15,2,0)) -> Parquet massif ep,14mm / L,110mm | I81: ='Finition de sol'!$A$5 -> 1 | J81: ='Finition de mur'!$A$7 -> 3 | K81: ='Finition de plafond'!$A$7 -> 3
A82: R+2 | B82: Bat A | C82: A25 | D82: CH1 | E82: Privative intérieure sèche | F82: =IF(I82="","",VLOOKUP(TEXT(I82,"0"),'Finition de sol'!$A$5:$C$15,2,0)) -> Parquet massif ep,14mm / L,110mm | I82: ='Finition de sol'!$A$5 -> 1 | J82: ='Finition de mur'!$A$7 -> 3 | K82: ='Finition de plafond'!$A$7 -> 3
A83: R+2 | B83: Bat A | C83: A25 | D83: CH3 | E83: Privative intérieure sèche | F83: =IF(I83="","",VLOOKUP(TEXT(I83,"0"),'Finition de sol'!$A$5:$C$15,2,0)) -> Parquet massif ep,14mm / L,110mm | I83: ='Finition de sol'!$A$5 -> 1 | J83: ='Finition de mur'!$A$7 -> 3 | K83: ='Finition de plafond'!$A$7 -> 3
A84: R+2 | B84: Bat A | C84: A25 | D84: ENT | E84: Privative intérieure sèche | F84: =IF(I84="","",VLOOKUP(TEXT(I84,"0"),'Finition de sol'!$A$5:$C$15,2,0)) -> Parquet massif ep,14mm / L,110mm | I84: ='Finition de sol'!$A$5 -> 1 | J84: ='Finition de mur'!$A$7 -> 3 | K84: ='Finition de plafond'!$A$7 -> 3
A85: R+2 | B85: Bat A | C85: A25 | D85: WC1 | E85: Privative intérieure humide | F85: =IF(I85="","",VLOOKUP(TEXT(I85,"0"),'Finition de sol'!$A$5:$C$15,2,0)) -> carrelage grés émaillé U3P3 45x45 | I85: 2
A86: R+2 | B86: Bat A | C86: A23 | D86: TER.SEJ | E86: Privative extérieure | F86: =IF(I86="","",VLOOKUP(TEXT(I86,"0"),'Finition de sol'!$A$5:$C$15,2,0)) -> dalle béton sur plot 40x40 | I86: 9
A87: R+3 | B87: Bat A | C87: A33 | D87: SEJ | E87: Privative intérieure sèche | F87: =IF(I87="","",VLOOKUP(TEXT(I87,"0"),'Finition de sol'!$A$5:$C$15,2,0)) -> Parquet massif ep,14mm / L,110mm | I87: ='Finition de sol'!$A$5 -> 1 | J87: ='Finition de mur'!$A$7 -> 3 | K87: ='Finition de plafond'!$A$7 -> 3
A88: R+3 | B88: Bat A | C88: A33 | D88: CUI | E88: Privative intérieure humide | F88: =IF(I88="","",VLOOKUP(TEXT(I88,"0"),'Finition de sol'!$A$5:$C$15,2,0)) -> carrelage grés émaillé U3P3 45x45 | I88: 2
A89: R+3 | B89: Bat A | C89: A33 | D89: CH3 | E89: Privative intérieure sèche | F89: =IF(I89="","",VLOOKUP(TEXT(I89,"0"),'Finition de sol'!$A$5:$C$15,2,0)) -> Parquet massif ep,14mm / L,110mm | I89: ='Finition de sol'!$A$5 -> 1 | J89: ='Finition de mur'!$A$7 -> 3 | K89: ='Finition de plafond'!$A$7 -> 3
A90: R+3 | B90: Bat A | C90: A33 | D90: SEA1 | E90: Privative intérieure humide | F90: =IF(I90="","",VLOOKUP(TEXT(I90,"0"),'Finition de sol'!$A$5:$C$15,2,0)) -> carrelage grés émaillé U3P3 45x45 | I90: 2
A91: R+3 | B91: Bat A | C91: A33 | D91: ENT | E91: Privative intérieure sèche | F91: =IF(I91="","",VLOOKUP(TEXT(I91,"0"),'Finition de sol'!$A$5:$C$15,2,0)) -> Parquet massif ep,14mm / L,110mm | I91: ='Finition de sol'!$A$5 -> 1 | J91: ='Finition de mur'!$A$7 -> 3 | K91: ='Finition de plafond'!$A$7 -> 3
A92: R+3 | B92: Bat A | C92: A33 | D92: DRE | E92: Privative intérieure sèche | F92: =IF(I92="","",VLOOKUP(TEXT(I92,"0"),'Finition de sol'!$A$5:$C$15,2,0)) -> Parquet massif ep,14mm / L,110mm | I92: ='Finition de sol'!$A$5 -> 1 | J92: ='Finition de mur'!$A$7 -> 3 | K92: ='Finition de plafond'!$A$7 -> 3
A93: R+3 | B93: Bat A | C93: A33 | D93: CH2 | E93: Privative intérieure sèche | F93: =IF(I93="","",VLOOKUP(TEXT(I93,"0"),'Finition de sol'!$A$5:$C$15,2,0)) -> Parquet massif ep,14mm / L,110mm | I93: ='Finition de sol'!$A$5 -> 1 | J93: ='Finition de mur'!$A$7 -> 3 | K93: ='Finition de plafond'!$A$7 -> 3
A94: R+3 | B94: Bat A | C94: A33 | D94: CH1 | E94: Privative intérieure sèche | F94: =IF(I94="","",VLOOKUP(TEXT(I94,"0"),'Finition de sol'!$A$5:$C$15,2,0)) -> Parquet massif ep,14mm / L,110mm | I94: ='Finition de sol'!$A$5 -> 1 | J94: ='Finition de mur'!$A$7 -> 3 | K94: ='Finition de plafond'!$A$7 -> 3
A95: R+3 | B95: Bat A | C95: A33 | D95: SDB1 | E95: Privative intérieure humide | F95: =IF(I95="","",VLOOKUP(TEXT(I95,"0"),'Finition de sol'!$A$5:$C$15,2,0)) -> carrelage grés émaillé U3P3 45x45 | I95: 2
A96: R+3 | B96: Bat A | C96: A33 | D96: WC1 | E96: Privative intérieure humide | F96: =IF(I96="","",VLOOKUP(TEXT(I96,"0"),'Finition de sol'!$A$5:$C$15,2,0)) -> carrelage grés émaillé U3P3 45x45 | I96: 2
A97: R+3 | B97: Bat A | C97: A34 | D97: SEJ | E97: Privative intérieure sèche | F97: =IF(I97="","",VLOOKUP(TEXT(I97,"0"),'Finition de sol'!$A$5:$C$15,2,0)) -> Parquet massif ep,14mm / L,110mm | I97: ='Finition de sol'!$A$5 -> 1 | J97: ='Finition de mur'!$A$7 -> 3 | K97: ='Finition de plafond'!$A$7 -> 3
A98: R+3 | B98: Bat A | C98: A34 | D98: CUI | E98: Privative intérieure humide | F98: =IF(I98="","",VLOOKUP(TEXT(I98,"0"),'Finition de sol'!$A$5:$C$15,2,0)) -> carrelage grés émaillé U3P3 45x45 | I98: 2
A99: R+3 | B99: Bat A | C99: A34 | D99: CH2 | E99: Privative intérieure sèche | F99: =IF(I99="","",VLOOKUP(TEXT(I99,"0"),'Finition de sol'!$A$5:$C$15,2,0)) -> Parquet massif ep,14mm / L,110mm | I99: ='Finition de sol'!$A$5 -> 1 | J99: ='Finition de mur'!$A$7 -> 3 | K99: ='Finition de plafond'!$A$7 -> 3
A100: R+3 | B100: Bat A | C100: A34 | D100: CH1 | E100: Privative intérieure sèche | F100: =IF(I100="","",VLOOKUP(TEXT(I100,"0"),'Finition de sol'!$A$5:$C$15,2,0)) -> Parquet massif ep,14mm / L,110mm | I100: ='Finition de sol'!$A$5 -> 1 | J100: ='Finition de mur'!$A$7 -> 3 | K100: ='Finition de plafond'!$A$7 -> 3
...

Sheet Finition de sol
A1: données
G2: extraction de données
A3: Batiment A
A4: Code | B4: désignation | H4: case a renseigner par le code | I4: valeur du tableau a indiquer selon la formule
A5: 1 | B5: Parquet massif ep,14mm / L,110mm | C5: pieces seche | F5: =IF(ISNA(MATCH(A1,$B$1:$B$10,0)),"",1) | G5: exemple | H5: 5 | I5: =VLOOKUP(TEXT(H5,"0"),$A$5:$C$18,2,0) -> sol souple PVC U4P3
A6: 2 | B6: carrelage grés émaillé U3P3 45x45 | C6: sdb/wc
A7: 3 | B7: carrelage grès cérame U4P3 60x60 | C7: hall d'entrée
A8: 4 | B8: carrelage grès cérame U4P4 30x30 | C8: loc menage
A9: 5 | B9: sol souple PVC U4P3 | C9: circulation commune etage
A10: 6 | B10: peinture de sol | C10: loc annexes
A11: 7 | B11: béton brut | C11: commerce
A12: 8 | B12: résine epoxy effet béton ciré | C12: hall d'entrée
A13: 9 | B13: dalle béton sur plot 40x40 | C13: terrasse/loggia
A14: 10 | B14: béton préfabriqué | C14: blacon
A15: 11 | B15: Terrasse bois méléze | C15: terrasse rdc

Sheet Finition de mur
A3: Batiment A
A4: Code | B4: désignation
A5: 1 | B5: Béton brut
A6: 2 | B6: Peinture sur béton
A7: 3 | B7: Peinture goutelette
A8: 4 | B8: Faience 25x40 hauteur 2,10m
A16: Batiment B
A26: Batiment C

Sheet Finition de plafond
A3: Batiment A
A4: Code | B4: désignation
A5: 1 | B5: Béton brut
A6: 2 | B6: Enduit GS + peinture
A7: 3 | B7: Faux-plafond acoustique type GYPTONE
A8: 4 | B8: Faux plafond metallique
A9: 5 | B9: Fibrastyrène
A16: Batiment B
A26: Batiment C
