Workbook
Name OUI: 'donées ne pas modifier'!$B$3:$B$4
Name tarifs: 'donées ne pas modifier'!$D$3:$D$4

Sheet Listing réservation
B3: Nom de Famille | C3: Prénom | D3: Date réservation | E3: Reglement OK | F3: Tarif réduit | G3: CA | I3: CA CONCERT
B4: Alfonse | C4: Alfonse | D4: 43228 | E4: OUI | F4: NON | G4: =IF(F4="oui",8,IF(F4="non",12,0)) -> 12 | I4: =SUM(G4:G1048576) -> 20
B5: Durant | C5: Durant | D5: 43228 | F5: OUI | G5: =IF(F5="oui",8,IF(F5="non",12,0)) -> 8
G6: =IF(F6="oui",8,IF(F6="non",12,0)) -> 0

Sheet Liste pointage jour J
A3: ='Listing réservation'!B3 -> Nom de Famille | B3: ='Listing réservation'!C3 -> Prénom | C3: Pointage
A4: ='Listing réservation'!B4 -> Alfonse | B4: ='Listing réservation'!C4 -> Alfonse
A5: ='Listing réservation'!B5 -> Durant | B5: ='Listing réservation'!C5 -> Durant
A6: ='Listing réservation'!B6 -> 0 | B6: ='Listing réservation'!C6 -> 0
A7: ='Listing réservation'!B7 -> 0 | B7: ='Listing réservation'!C7 -> 0
A8: ='Listing réservation'!B8 -> 0 | B8: ='Listing réservation'!C8 -> 0
A9: ='Listing réservation'!B9 -> 0 | B9: ='Listing réservation'!C9 -> 0
A10: ='Listing réservation'!B10 -> 0 | B10: ='Listing réservation'!C10 -> 0
A11: ='Listing réservation'!B11 -> 0 | B11: ='Listing réservation'!C11 -> 0
A12: ='Listing réservation'!B12 -> 0 | B12: ='Listing réservation'!C12 -> 0
A13: ='Listing réservation'!B13 -> 0 | B13: ='Listing réservation'!C13 -> 0
A14: ='Listing réservation'!B14 -> 0 | B14: ='Listing réservation'!C14 -> 0
A15: ='Listing réservation'!B15 -> 0 | B15: ='Listing réservation'!C15 -> 0
... A999: ='Listing réservation'!B999 -> 0 | B999: ='Listing réservation'!C999 -> 0

Sheet donées ne pas modifier
B3: OUI | D3: 8
B4: NON | D4: 12
