Workbook

Sheet Résumé
A1: Nom et prénom agent : | F1: Nbre d'heures prises | G1: Journées entières | H1: Matinées | I1: Après-midis | J1: Heures
E2: Janvier | F2: =IF(MONTH(Tableau5[[#This Row],[Date :]]=1),Tableau5[[#This Row],[Total]],0) -> 7.5
E3: Février | F3: =IF(MONTH(Tableau5[[#This Row],[Date :]]=1),Tableau5[[#This Row],[Total]],0) -> 15
E4: Mars | F4: =IF(MONTH(Tableau5[[#This Row],[Date :]]=1),Tableau5[[#This Row],[Total]],0) -> 18
A5: Heures congés légaux : | B5: 10 | E5: Avril | F5: =IF(MONTH(Tableau5[[#This Row],[Date :]]=1),Tableau5[[#This Row],[Total]],0) -> 12
A6: Heures congés extra-légaux : | B6: 25 | E6: Mai | F6: =IF(MONTH(Tableau5[[#This Row],[Date :]]=1),Tableau5[[#This Row],[Total]],0) -> #VALUE!
A7: Total heures de congés | B7: =B5+B6 -> 35 | E7: Juin | F7: =IF(MONTH(Tableau5[[#This Row],[Date :]]=1),Tableau5[[#This Row],[Total]],0) -> #VALUE!
A8: Reste 2019 : | B8: 25 | E8: Juillet | F8: =IF(MONTH(Tableau5[[#This Row],[Date :]]=1),Tableau5[[#This Row],[Total]],0) -> #VALUE!
A9: Heures totales : | B9: =B7+B8 -> 60 | E9: Août | F9: =IF(MONTH(Tableau5[[#This Row],[Date :]]=1),Tableau5[[#This Row],[Total]],0) -> #VALUE!
A10: Nombre de jours complets : | B10: =(B8+B9)/7.5 -> 11.333333 | E10: Septembre | F10: =IF(MONTH(Tableau5[[#This Row],[Date :]]=1),Tableau5[[#This Row],[Total]],0) -> #VALUE!
A11: Nombre de jours restants : | B11: =('Congé Annuels'!G5/7.5) -> 1 | E11: Octobre | F11: =IF(MONTH(Tableau5[[#This Row],[Date :]]=1),Tableau5[[#This Row],[Total]],0) -> #VALUE!
A12: Heures restantes : | B12: ='Congé Annuels'!G3 -> 37.5 | E12: Novembre | F12: =IF(MONTH(Tableau5[[#This Row],[Date :]]=1),Tableau5[[#This Row],[Total]],0) -> #VALUE!
E13: Décembre | F13: =IF(MONTH(Tableau5[[#This Row],[Date :]]=1),Tableau5[[#This Row],[Total]],0) -> #VALUE!

Sheet Congé Annuels
A1: Date : | B1: Journée | C1: AM | D1: PM | E1: Heures | F1: Total | G1: Solde : | H1: Solde N-1
A2: 43567 | B2: 1 | F2: =IF(( B2*7.5)+(C2*4)+(D2*3.5)+E2=0,"0",( B2*7.5)+(C2*4)+(D2*3.5)+E2) -> 7.5 | G2: =Résumé!B8+Résumé!B7-'Congé Annuels'!F2 -> 52.5 | H2: =IF((G2-Résumé!B$8)>0,G2-Résumé!B$8,0) -> 27.5
E3: 15 | F3: =IF(( B3*7.5)+(C3*4)+(D3*3.5)+E3=0,"0",( B3*7.5)+(C3*4)+(D3*3.5)+E3) -> 15 | G3: =G2-F3 -> 37.5 | H3: =IF((G3-Résumé!B$8)>0,G3-Résumé!B$8,0) -> 12.5
E4: 18 | F4: =IF(( B4*7.5)+(C4*4)+(D4*3.5)+E4=0,"0",( B4*7.5)+(C4*4)+(D4*3.5)+E4) -> 18 | G4: =G3-F4 -> 19.5 | H4: =IF((G4-Résumé!B$8)>0,G4-Résumé!B$8,0) -> 0
E5: 12 | F5: =IF(( B5*7.5)+(C5*4)+(D5*3.5)+E5=0,"0",( B5*7.5)+(C5*4)+(D5*3.5)+E5) -> 12 | G5: =G4-F5 -> 7.5 | H5: =IF((G5-Résumé!B$8)>0,G5-Résumé!B$8,0) -> 0
E6: 10 | F6: =IF(( B6*7.5)+(C6*4)+(D6*3.5)+E6=0,"0",( B6*7.5)+(C6*4)+(D6*3.5)+E6) -> 10 | G6: =G5-F6 -> -2.5 | H6: =IF((G6-Résumé!B$8)>0,G6-Résumé!B$8,0) -> 0

Sheet Récupérations
A1: Date | B1: Récup + | C1: Récup - | D1: Solde | E1: Justificatif | H1: Mois | I1: Heures prises
A2: Solde 2019 | D2: 0 | H2: Janvier | I2: =SUMIFS($C$3:$C$179, $A$3:$A$179,">=1/01/2020", $A$3:$A$179, "<=31/01/2020") -> 0
D3: =D2+B3-C3 -> 0 | H3: Février | I3: =SUMIFS($C$3:$C$179, $A$3:$A$179,">=1/02/2020", $A$3:$A$179, "<=29/02/2020") -> 0
H4: Mars | I4: =SUMIFS($C$3:$C$179, $A$3:$A$179,">=1/03/2020", $A$3:$A$179, "<=31/03/2020") -> 0
H5: Avril | I5: =SUMIFS($C$3:$C$179, $A$3:$A$179,">=1/04/2020", $A$3:$A$179, "<=30/04/2020") -> 0
H6: Mai | I6: =SUMIFS($C$3:$C$179, $A$3:$A$179,">=1/05/2020", $A$3:$A$179, "<=31/05/2020") -> 0
H7: Juin | I7: =SUMIFS($C$3:$C$179, $A$3:$A$179,">=1/06/2020", $A$3:$A$179, "<=30/06/2020") -> 0
H8: Juillet | I8: =SUMIFS($C$3:$C$179, $A$3:$A$179,">=1/07/2020", $A$3:$A$179, "<=31/07/2020") -> 0
H9: Août | I9: =SUMIFS($C$3:$C$179, $A$3:$A$179,">=1/08/2020", $A$3:$A$179, "<=31/08/2020") -> 0
H10: Septembre | I10: =SUMIFS($C$3:$C$179, $A$3:$A$179,">=1/09/2020", $A$3:$A$179, "<=30/09/2020") -> 0
H11: Octobre | I11: =SUMIFS($C$3:$C$179, $A$3:$A$179,">=1/10/2020", $A$3:$A$179, "<=31/10/2020") -> 0
H12: Novembre | I12: =SUMIFS($C$3:$C$179, $A$3:$A$179,">=1/11/2020", $A$3:$A$179, "<=30/11/2020") -> 0
H13: Décembre | I13: =SUMIFS($C$3:$C$179, $A$3:$A$179,">=1/12/2020", $A$3:$A$179, "<=31/12/2020") -> 0

Sheet congé de circonstances
A1: Mariage | B1: 30 | H1: Mariage enfant | I1: 15 | O1: Mariage autre | P1: 7.5
A2: Date | B2: Journée | C2: AM | D2: PM | E2: Total | F2: Solde | H2: Date | I2: Journée | J2: AM | K2: PM | L2: Total | M2: Solde | O2: Date | P2: Journée | Q2: Total | R2: Solde
E3: =IF(( B3*7.5)+(C3*4)+(D3*3.5)=0,"0",( B3*7.5)+(C3*4)+(D3*3.5)) -> 0 | F3: =B1-E3 -> 30 | L3: =IF(( I3*7.5)+(J3*4)+(K3*3.5)=0,"0",( I3*7.5)+(J3*4)+(K3*3.5)) -> 0 | M3: =I1-L3 -> 15 | Q3: =IF(( P3*7.5)=0,"0",( P3*7.5)) -> 0 | R3: =P1-Q3 -> 7.5
E4: =IF(( B4*7.5)+(C4*4)+(D4*3.5)=0,"0",( B4*7.5)+(C4*4)+(D4*3.5)) -> 0 | F4: =F3-E4 -> 30 | L4: =IF(( I4*7.5)+(J4*4)+(K4*3.5)=0,"0",( I4*7.5)+(J4*4)+(K4*3.5)) -> 0 | M4: =M3-L4 -> 15
E5: =IF(( B5*7.5)+(C5*4)+(D5*3.5)=0,"0",( B5*7.5)+(C5*4)+(D5*3.5)) -> 0 | F5: =F4-E5 -> 30 | L5: =IF(( I5*7.5)+(J5*4)+(K5*3.5)=0,"0",( I5*7.5)+(J5*4)+(K5*3.5)) -> 0 | M5: =M4-L5 -> 15
E6: =IF(( B6*7.5)+(C6*4)+(D6*3.5)=0,"0",( B6*7.5)+(C6*4)+(D6*3.5)) -> 0 | F6: =F5-E6 -> 30 | L6: =IF(( I6*7.5)+(J6*4)+(K6*3.5)=0,"0",( I6*7.5)+(J6*4)+(K6*3.5)) -> 0 | M6: =M5-L6 -> 15 | O6: Décès 2 - 3ème degré | P6: 7.5
E7: =IF(( B7*7.5)+(C7*4)+(D7*3.5)=0,"0",( B7*7.5)+(C7*4)+(D7*3.5)) -> 0 | F7: =F6-E7 -> 30 | O7: Date | P7: Journée | Q7: Total | R7: Solde
E8: =IF(( B8*7.5)+(C8*4)+(D8*3.5)=0,"0",( B8*7.5)+(C8*4)+(D8*3.5)) -> 0 | F8: =F7-E8 -> 30 | Q8: =IF(( P8*7.5)=0,"0",( P8*7.5)) -> 0 | R8: =P6-Q8 -> 7.5
E9: =IF(( B9*7.5)+(C9*4)+(D9*3.5)=0,"0",( B9*7.5)+(C9*4)+(D9*3.5)) -> 0 | F9: =F8-E9 -> 30 | H9: Décès même toit | I9: 15
E10: =IF(( B10*7.5)+(C10*4)+(D10*3.5)=0,"0",( B10*7.5)+(C10*4)+(D10*3.5)) -> 0 | F10: =F9-E10 -> 30 | H10: Date | I10: Journée | J10: AM | K10: PM | L10: Total | M10: Solde
L11: =IF(( I11*7.5)+(J11*4)+(K11*3.5)=0,"0",( I11*7.5)+(J11*4)+(K11*3.5)) -> 0 | M11: =I9-L11 -> 15 | O11: Communion ou similaire | P11: 7.5
A12: Décès 1er degré | B12: 30 | L12: =IF(( I12*7.5)+(J12*4)+(K12*3.5)=0,"0",( I12*7.5)+(J12*4)+(K12*3.5)) -> 0 | M12: =M11-L12 -> 15 | O12: Date | P12: Journée | Q12: Total | R12: Solde
A13: Date | B13: Journée | C13: AM | D13: PM | E13: Total | F13: Solde | L13: =IF(( I13*7.5)+(J13*4)+(K13*3.5)=0,"0",( I13*7.5)+(J13*4)+(K13*3.5)) -> 0 | M13: =M12-L13 -> 15 | Q13: =IF(( P13*7.5)=0,"0",( P13*7.5)) -> 0 | R13: =P11-Q13 -> 7.5
E14: =IF(( B14*7.5)+(C14*4)+(D14*3.5)=0,"0",( B14*7.5)+(C14*4)+(D14*3.5)) -> 0 | F14: =B12-E14 -> 30 | L14: =IF(( I14*7.5)+(J14*4)+(K14*3.5)=0,"0",( I14*7.5)+(J14*4)+(K14*3.5)) -> 0 | M14: =M13-L14 -> 15
E15: =IF(( B15*7.5)+(C15*4)+(D15*3.5)=0,"0",( B15*7.5)+(C15*4)+(D15*3.5)) -> 0 | F15: =F14-E15 -> 30 | O15: Déménag. Schaerbeek | P15: 7.5
E16: =IF(( B16*7.5)+(C16*4)+(D16*3.5)=0,"0",( B16*7.5)+(C16*4)+(D16*3.5)) -> 0 | F16: =F15-E16 -> 30 | O16: Date | P16: Journée | Q16: Total | R16: Solde
E17: =IF(( B17*7.5)+(C17*4)+(D17*3.5)=0,"0",( B17*7.5)+(C17*4)+(D17*3.5)) -> 0 | F17: =F16-E17 -> 30 | Q17: =IF(( P17*7.5)=0,"0",( P17*7.5)) -> 0 | R17: =P15-Q17 -> 7.5
E18: =IF(( B18*7.5)+(C18*4)+(D18*3.5)=0,"0",( B18*7.5)+(C18*4)+(D18*3.5)) -> 0 | F18: =F17-E18 -> 30
E19: =IF(( B19*7.5)+(C19*4)+(D19*3.5)=0,"0",( B19*7.5)+(C19*4)+(D19*3.5)) -> 0 | F19: =F18-E19 -> 30 | O19: Témoin juridiction | P19: 7.5
E20: =IF(( B20*7.5)+(C20*4)+(D20*3.5)=0,"0",( B20*7.5)+(C20*4)+(D20*3.5)) -> 0 | F20: =F19-E20 -> 30 | O20: Date | P20: Journée | Q20: Total | R20: Solde
E21: =IF(( B21*7.5)+(C21*4)+(D21*3.5)=0,"0",( B21*7.5)+(C21*4)+(D21*3.5)) -> 0 | F21: =F20-E21 -> 30 | Q21: =IF(( P21*7.5)=0,"0",( P21*7.5)) -> 0 | R21: =P19-Q21 -> 7.5
A23: Force majeure | B23: 30
A24: Date | B24: Journée | C24: AM | D24: PM | E24: Total | F24: Solde | H24: Don sang/plasma | I24: 30
E25: =IF(( B25*7.5)+(C25*4)+(D25*3.5)=0,"0",( B25*7.5)+(C25*4)+(D25*3.5)) -> 0 | F25: =B23-E25 -> 30 | H25: Date | I25: Journée | J25: Total | K25: Solde
E26: =IF(( B26*7.5)+(C26*4)+(D26*3.5)=0,"0",( B26*7.5)+(C26*4)+(D26*3.5)) -> 0 | F26: =F25-E26 -> 30 | J26: =IF(( I26*7.5)=0,"0",( I26*7.5)) -> 0 | K26: =I24-J26 -> 30
E27: =IF(( B27*7.5)+(C27*4)+(D27*3.5)=0,"0",( B27*7.5)+(C27*4)+(D27*3.5)) -> 0 | F27: =F26-E27 -> 30 | J27: =IF(( I27*7.5)=0,"0",( I27*7.5)) -> 0 | K27: =K26-J27 -> 30
E28: =IF(( B28*7.5)+(C28*4)+(D28*3.5)=0,"0",( B28*7.5)+(C28*4)+(D28*3.5)) -> 0 | F28: =F27-E28 -> 30 | J28: =IF(( I28*7.5)=0,"0",( I28*7.5)) -> 0 | K28: =K27-J28 -> 30
E29: =IF(( B29*7.5)+(C29*4)+(D29*3.5)=0,"0",( B29*7.5)+(C29*4)+(D29*3.5)) -> 0 | F29: =F28-E29 -> 30 | J29: =IF(( I29*7.5)=0,"0",( I29*7.5)) -> 0 | K29: =K28-J29 -> 30
E30: =IF(( B30*7.5)+(C30*4)+(D30*3.5)=0,"0",( B30*7.5)+(C30*4)+(D30*3.5)) -> 0 | F30: =F29-E30 -> 30
E31: =IF(( B31*7.5)+(C31*4)+(D31*3.5)=0,"0",( B31*7.5)+(C31*4)+(D31*3.5)) -> 0 | F31: =F30-E31 -> 30
E32: =IF(( B32*7.5)+(C32*4)+(D32*3.5)=0,"0",( B32*7.5)+(C32*4)+(D32*3.5)) -> 0 | F32: =F31-E32 -> 30

Sheet Congé de circonstance Mi-temps
A1: Mariage | B1: 15 | H1: Mariage enfant | I1: 7.5 | O1: Mariage autre | P1: 7.5
A2: Date | B2: Journée | C2: AM | D2: PM | E2: Total | F2: Solde | H2: Date | I2: Journée | J2: AM | K2: PM | L2: Total | M2: Solde | O2: Date | P2: Journée | Q2: Total | R2: Solde
E3: =IF(( B3*7.5)+(C3*4)+(D3*3.5)=0,"0",( B3*7.5)+(C3*4)+(D3*3.5)) -> 0 | F3: =B1-E3 -> 15 | L3: =IF(( I3*7.5)+(J3*4)+(K3*3.5)=0,"0",( I3*7.5)+(J3*4)+(K3*3.5)) -> 0 | M3: =I1-L3 -> 7.5 | Q3: =IF(( P3*7.5)=0,"0",( P3*7.5)) -> 0 | R3: =P1-Q3 -> 7.5
E4: =IF(( B4*7.5)+(C4*4)+(D4*3.5)=0,"0",( B4*7.5)+(C4*4)+(D4*3.5)) -> 0 | F4: =F3-E4 -> 15 | L4: =IF(( I4*7.5)+(J4*4)+(K4*3.5)=0,"0",( I4*7.5)+(J4*4)+(K4*3.5)) -> 0 | M4: =M3-L4 -> 7.5
E5: =IF(( B5*7.5)+(C5*4)+(D5*3.5)=0,"0",( B5*7.5)+(C5*4)+(D5*3.5)) -> 0 | F5: =F4-E5 -> 15 | O5: Décès 2 - 3ème degré | P5: 7.5
E6: =IF(( B6*7.5)+(C6*4)+(D6*3.5)=0,"0",( B6*7.5)+(C6*4)+(D6*3.5)) -> 0 | F6: =F5-E6 -> 15 | O6: Date | P6: Journée | Q6: Total | R6: Solde
Q7: =IF(( P7*7.5)=0,"0",( P7*7.5)) -> 0 | R7: =P5-Q7 -> 7.5
A8: Décès 1er degré | B8: 15
A9: Date | B9: Journée | C9: AM | D9: PM | E9: Total | F9: Solde | H9: Décès même toit | I9: 7.5 | O9: Communion ou similaire | P9: 7.5
E10: =IF(( B10*7.5)+(C10*4)+(D10*3.5)=0,"0",( B10*7.5)+(C10*4)+(D10*3.5)) -> 0 | F10: =B8-E10 -> 15 | H10: Date | I10: Journée | J10: AM | K10: PM | L10: Total | M10: Solde | O10: Date | P10: Journée | Q10: Total | R10: Solde
E11: =IF(( B11*7.5)+(C11*4)+(D11*3.5)=0,"0",( B11*7.5)+(C11*4)+(D11*3.5)) -> 0 | F11: =F10-E11 -> 15 | L11: =IF(( I11*7.5)+(J11*4)+(K11*3.5)=0,"0",( I11*7.5)+(J11*4)+(K11*3.5)) -> 0 | M11: =I9-L11 -> 7.5 | Q11: =IF(( P11*7.5)=0,"0",( P11*7.5)) -> 0 | R11: =P9-Q11 -> 7.5
E12: =IF(( B12*7.5)+(C12*4)+(D12*3.5)=0,"0",( B12*7.5)+(C12*4)+(D12*3.5)) -> 0 | F12: =F11-E12 -> 15 | L12: =IF(( I12*7.5)+(J12*4)+(K12*3.5)=0,"0",( I12*7.5)+(J12*4)+(K12*3.5)) -> 0 | M12: =M11-L12 -> 7.5
E13: =IF(( B13*7.5)+(C13*4)+(D13*3.5)=0,"0",( B13*7.5)+(C13*4)+(D13*3.5)) -> 0 | F13: =F12-E13 -> 15 | O13: Déménag. Schaerbeek | P13: 7.5
O14: Date | P14: Journée | Q14: Total | R14: Solde
A15: Force majeure | B15: 15 | H15: Don sang/plasma | I15: 30 | Q15: =IF(( P15*7.5)=0,"0",( P15*7.5)) -> 0 | R15: =P13-Q15 -> 7.5
A16: Date | B16: Journée | C16: AM | D16: PM | E16: Total | F16: Solde | H16: Date | I16: Journée | J16: Total | K16: Solde
E17: =IF(( B17*7.5)+(C17*4)+(D17*3.5)=0,"0",( B17*7.5)+(C17*4)+(D17*3.5)) -> 0 | F17: =B15-E17 -> 15 | J17: =IF(( I17*7.5)=0,"0",( I17*7.5)) -> 0 | K17: =I15-J17 -> 30 | O17: Témoin juridiction | P17: 7.5
E18: =IF(( B18*7.5)+(C18*4)+(D18*3.5)=0,"0",( B18*7.5)+(C18*4)+(D18*3.5)) -> 0 | F18: =F17-E18 -> 15 | J18: =IF(( I18*7.5)=0,"0",( I18*7.5)) -> 0 | K18: =K17-J18 -> 30 | O18: Date | P18: Journée | Q18: Total | R18: Solde
E19: =IF(( B19*7.5)+(C19*4)+(D19*3.5)=0,"0",( B19*7.5)+(C19*4)+(D19*3.5)) -> 0 | F19: =F18-E19 -> 15 | J19: =IF(( I19*7.5)=0,"0",( I19*7.5)) -> 0 | K19: =K18-J19 -> 30 | Q19: =IF(( P19*7.5)=0,"0",( P19*7.5)) -> 0 | R19: =P17-Q19 -> 7.5
E20: =IF(( B20*7.5)+(C20*4)+(D20*3.5)=0,"0",( B20*7.5)+(C20*4)+(D20*3.5)) -> 0 | F20: =F19-E20 -> 15 | J20: =IF(( I20*7.5)=0,"0",( I20*7.5)) -> 0 | K20: =K19-J20 -> 30

Sheet Maladie
A1: Date début | B1: Date fin | C1: Nombre de jours ouvrables (en théorie) | F1: Rendez-vous médicaux
C4: =NETWORKDAYS(A4,B4) -> 0
C5: =NETWORKDAYS(A5,B5) -> 0
C6: =NETWORKDAYS(A6,B6) -> 0
C7: =NETWORKDAYS(A7,B7) -> 0
