Workbook
Name AnnéeCalendrier: fevrier!$B$1
Name AnnéeCalendrier: janvier!$B$1
Name noms: NOM!#REF!
Name noms: NOM!#REF!
Name NumMois: fevrier!$B$2
Name NumMois: janvier!$B$2

Sheet NOM
A5: A
A6: B
A7: C
A8: D
A9: E
A10: F
A11: G
A12: H
A13: A
A14: B
A15: C
A16: D
... A33: E

Sheet jours férié
A1: Jour de l’An | B1: =DATE(janvier!B1,1,1) -> 44562
A2: Pâques | B2: =ROUND(DATE(janvier!B1,4,MOD(234-11*MOD(janvier!B1,19),30))/7,0)*7-6 -> 44668
A3: Lundi de Pâques | B3: =B2+1 -> 44669
A4: Fête du travail | B4: =DATE(janvier!B1,5,1) -> 44682
A5: Victoire 1945 | B5: =DATE(janvier!B1,5,8) -> 44689
A6: Ascension | B6: =B2+39 -> 44707
A7: Pentecôte | B7: =B2+49 -> 44717
A8: Lundi de Pentecôte | B8: =B2+50 -> 44718
A9: Fête Nationale | B9: =DATE(janvier!B1,7,14) -> 44756
A10: Assomption | B10: =DATE(janvier!B1,8,15) -> 44788
A11: Toussaint | B11: =DATE(janvier!B1,11,1) -> 44866
A12: Armistice 1918 | B12: =DATE(janvier!B1,11,11) -> 44876
A13: Noël | B13: =DATE(janvier!B1,12,25) -> 44920

Sheet janvier
A1: Année | B1: 2022
A2: Mois | B2: 1
B4: DATE | C4: PERMANENCE PHYSIQUE
B5: =DATE(AnnéeCalendrier,NumMois,1) -> 44562 | C5: =NOM!A5 -> A
B6: =B5+1 -> 44563 | C6: =NOM!A6 -> B
B7: =B6+1 -> 44564 | C7: =NOM!A7 -> C
B8: =B7+1 -> 44565 | C8: =NOM!A8 -> D
B9: =B8+1 -> 44566 | C9: =NOM!A9 -> E
B10: =B9+1 -> 44567 | C10: =NOM!A10 -> F
B11: =B10+1 -> 44568 | C11: =NOM!A11 -> G
B12: =B11+1 -> 44569 | C12: =NOM!A12 -> H
B13: =B12+1 -> 44570 | C13: =NOM!A13 -> A
B14: =B13+1 -> 44571 | C14: =NOM!A14 -> B
B15: =B14+1 -> 44572 | C15: =NOM!A15 -> C
B16: =B15+1 -> 44573 | C16: =NOM!A16 -> D
B17: =B16+1 -> 44574 | C17: =NOM!A17 -> E
... B36: =B35+1 -> 44593 | C36: =NOM!A36 -> 0

Sheet fevrier
A1: Année | B1: 2022
A2: Mois | B2: 2
B4: DATE | C4: PERMANENCE PHYSIQUE
B5: =DATE(AnnéeCalendrier,NumMois,1) -> 44593 | C5: =NOM!A5 -> A
B6: =B5+1 -> 44594 | C6: =NOM!A6 -> B
B7: =B6+1 -> 44595 | C7: =NOM!A7 -> C
B8: =B7+1 -> 44596 | C8: =NOM!A8 -> D
B9: =B8+1 -> 44597 | C9: =NOM!A9 -> E
B10: =B9+1 -> 44598 | C10: =NOM!A10 -> F
B11: =B10+1 -> 44599 | C11: =NOM!A11 -> G
B12: =B11+1 -> 44600 | C12: =NOM!A12 -> H
B13: =B12+1 -> 44601 | C13: =NOM!A13 -> A
B14: =B13+1 -> 44602 | C14: =NOM!A14 -> B
B15: =B14+1 -> 44603 | C15: =NOM!A15 -> C
B16: =B15+1 -> 44604 | C16: =NOM!A16 -> D
B17: =B16+1 -> 44605 | C17: =NOM!A17 -> E
... B36: =B35+1 -> 44624 | C36: =NOM!A36 -> 0
