Workbook

Sheet Janvier
A1: Calendrier des taches à accomplir Janvier 2019 | D1: Obligatoires | H1: Facultative | L1: Ocasionelles | P1: Bonus | T1: Retour Index
A2: Taches du 01-02 au 03-02 | B2: Points | C2: Sarah | J2: Hector | R2: Negatif | U2: Positif
C3: Lu | D3: Ma | J3: Lu | K3: Ma | R3: Sarah | S3: Hector | U3: Sarah | V3: Hector
A4: Comportement et Attitude | B4: 3 | C4: 3 | J4: 3 | Q4: Lu | T4: Ma | U4: =SUM($C4:$C18)-SUM($R4) -> 3 | V4: =SUM($J4:$J18)-SUM($S4) -> 3
A5: Mettre la Table | B5: 1 | Q5: Ma | T5: Me | U5: =SUM($D4:$D18)-SUM($R5) -> 0 | V5: =SUM($K4:$K18)-SUM($S5) -> 0
A6: Débarrasser la Table | B6: 1 | T6: Je | U6: =SUM($E4:$E18)-SUM($R6) -> 0 | V6: =SUM($L4:$L18)-SUM($S6) -> 0
A7: Remplir le LV | B7: 2 | T7: Ve | U7: =SUM($F4:$F18)-SUM($R7) -> 0 | V7: =SUM($M4:$M18)-SUM($S7) -> 0
A8: Vider le LV | B8: 3 | T8: Sa | U8: =SUM($G4:$G18)-SUM($R8) -> 0 | V8: =SUM($N4:$N18)-SUM($S8) -> 0
A9: Ranger les Chambres et Causures | B9: 1+1 | T9: Di | U9: =SUM($H4:$H18)-SUM($R9) -> 0 | V9: =SUM($O4:$O18)-SUM($S9) -> 0
A10: Aspirateur Maison | B10: 4 | U10: =SUM($I4:$I18)-SUM($R10) -> 0
A11: WC et Bain | B11: 5 | V11: =SUM($P4:$P18)-SUM($S10) -> 0
A12: Nettoyage du sol | B12: 5
A13: Commissions | B13: 2
A14: Nettoyer Oiseau | B14: 3
A15: Lessive | B15: 3
A16: Ranger le Linge | B16: 2
A17: Poubelle | B17: 2
A18: Taches Diverses
A19: Taches du 04-02 au 10-02 | B19: Points | C19: Lu | D19: Ma | E19: Me | F19: Je | G19: Ve | H19: Sa | I19: Di | J19: Lu | K19: Ma | L19: Me | M19: Je | N19: Ve | O19: Sa | P19: Di | R19: Sarah | S19: Hector | U19: Sarah | V19: Hector
A20: Comportement et Attitude | B20: 3 | Q20: Lu | T20: Lu | U20: =SUM($C20:$C34)-SUM($R20) -> 0 | V20: =SUM($J20:$J34)-SUM($S20) -> 0
A21: Mettre la Table | B21: 1 | Q21: Ma | T21: Ma | U21: =SUM($D20:$D34)-SUM($R21) -> 0 | V21: =SUM($K20:$K34)-SUM($S21) -> 0
A22: Débarrasser la Table | B22: 1 | Q22: Me | T22: Me | U22: =SUM($E20:$E34)-SUM($R22) -> 0 | V22: =SUM($L20:$L34)-SUM($S22) -> 0
A23: Remplir le LV | B23: 2 | Q23: Je | T23: Je | U23: =SUM($F20:$F34)-SUM($R23) -> 0 | V23: =SUM($M20:$M34)-SUM($S23) -> 0
A24: Vider le LV | B24: 3 | Q24: Ve | T24: Ve | U24: =SUM($G20:$G34)-SUM($R24) -> 0 | V24: =SUM($N20:$N34)-SUM($S24) -> 0
A25: Ranger les Chambres et Causures | B25: 1+1 | Q25: Sa | T25: Sa | U25: =SUM($H20:$H34)-SUM($R25) -> 0 | V25: =SUM($O20:$O34)-SUM($S25) -> 0
A26: Aspirateur Maison | B26: 4 | Q26: Di | T26: Di | U26: =SUM($I20:$I34)-SUM($R26) -> 0 | V26: =SUM($P20:$P34)-SUM($S26) -> 0
A27: WC et Bain | B27: 5
A28: Nettoyage du sol | B28: 5
A29: Commissions | B29: 2
A30: Nettoyer Oiseau | B30: 3
A31: Lessive | B31: 3
A32: Ranger le Linge | B32: 2
A33: Poubelle | B33: 2
A34: Taches Diverses
A35: Taches du 11-02 au 17-02 | B35: Points | C35: Lu | D35: Ma | E35: Me | F35: Je | G35: Ve | H35: Sa | I35: Di | J35: Lu | K35: Ma | L35: Me | M35: Je | N35: Ve | O35: Sa | P35: Di | R35: Sarah | S35: Hector | U35: Sarah | V35: Hector
A36: Comportement et Attitude | B36: 3 | Q36: Lu | T36: Lu | U36: =SUM($C36:$C50)-SUM($R36) -> 0 | V36: =SUM($J36:$J50)-SUM($S36) -> 0
A37: Mettre la Table | B37: 1 | Q37: Ma | T37: Ma | U37: =SUM($D36:$D50)-SUM($R37) -> 0 | V37: =SUM($K36:$K50)-SUM($S37) -> 0
A38: Débarrasser la Table | B38: 1 | Q38: Me | T38: Me | U38: =SUM($E36:$E50)-SUM($R38) -> 0 | V38: =SUM($L36:$L50)-SUM($S38) -> 0
A39: Remplir le LV | B39: 2 | Q39: Je | T39: Je | U39: =SUM($F36:$F50)-SUM($R39) -> 0 | V39: =SUM($M36:$M50)-SUM($S39) -> 0
A40: Vider le LV | B40: 3 | Q40: Ve | T40: Ve | U40: =SUM($G36:$G50)-SUM($R40) -> 0 | V40: =SUM($N36:$N50)-SUM($S40) -> 0
A41: Ranger les Chambres et Causures | B41: 1+1 | Q41: Sa | T41: Sa | U41: =SUM($H36:$H50)-SUM($R41) -> 0 | V41: =SUM($O36:$O50)-SUM($S41) -> 0
A42: Aspirateur Maison | B42: 4 | Q42: Di | T42: Di | U42: =SUM($I36:$I50)-SUM($R42) -> 0 | V42: =SUM($P36:$P50)-SUM($S42) -> 0
A43: WC et Bain | B43: 5
A44: Nettoyage du sol | B44: 5
A45: Commissions | B45: 2
A46: Nettoyer Oiseau | B46: 3
A47: Lessive | B47: 3
A48: Ranger le Linge | B48: 2
A49: Poubelle | B49: 2
A50: Taches Diverses
A51: Taches du 18-02 au 24-02 | B51: Points | C51: Lu | D51: Ma | E51: Me | F51: Je | G51: Ve | H51: Sa | I51: Di | J51: Lu | K51: Ma | L51: Me | M51: Je | N51: Ve | O51: Sa | P51: Di | R51: Sarah | S51: Hector | U51: Sarah | V51: Hector
A52: Comportement et Attitude | B52: 3 | Q52: Lu | T52: Lu | U52: =SUM($C52:$C66)-SUM($R52) -> 0 | V52: =SUM($J52:$J66)-SUM($S52) -> 0
A53: Mettre la Table | B53: 1 | Q53: Ma | T53: Ma | U53: =SUM($D52:$D66)-SUM($R53) -> 0 | V53: =SUM($K52:$K66)-SUM($S53) -> 0
A54: Débarrasser la Table | B54: 1 | Q54: Me | T54: Me | U54: =SUM($E52:$E66)-SUM($R54) -> 0 | V54: =SUM($L52:$L66)-SUM($S54) -> 0
A55: Remplir le LV | B55: 2 | Q55: Je | T55: Je | U55: =SUM($F52:$F66)-SUM($R55) -> 0 | V55: =SUM($M52:$M66)-SUM($S55) -> 0
A56: Vider le LV | B56: 3 | Q56: Ve | T56: Ve | U56: =SUM($G52:$G66)-SUM($R56) -> 0 | V56: =SUM($N52:$N66)-SUM($S56) -> 0
A57: Ranger les Chambres et Causures | B57: 1+1 | Q57: Sa | T57: Sa | U57: =SUM($H52:$H66)-SUM($R57) -> 0 | V57: =SUM($O52:$O66)-SUM($S57) -> 0
A58: Aspirateur Maison | B58: 4 | Q58: Di | T58: Di | U58: =SUM($I52:$I66)-SUM($R58) -> 0 | V58: =SUM($P52:$P66)-SUM($S58) -> 0
A59: WC et Bain | B59: 5
A60: Nettoyage du sol | B60: 5
A61: Commissions | B61: 2
A62: Nettoyer Oiseau | B62: 3
A63: Lessive | B63: 3
A64: Ranger le Linge | B64: 2
A65: Poubelle | B65: 2
A66: Taches Diverses
A67: Taches du 25-02 au 28-02 | B67: Points | C67: Lu | D67: Ma | E67: Me | F67: Je | J67: Lu | K67: Ma | L67: Me | M67: Je | R67: Sarah | S67: Hector | U67: Sarah | V67: Hector
A68: Comportement et Attitude | B68: 3 | Q68: Lu | T68: Lu | U68: =SUM($C68:$C82)-SUM($R68) -> 0 | V68: =SUM($J68:$J82)-SUM($S68) -> 0
A69: Mettre la Table | B69: 1 | Q69: Ma | T69: Ma | U69: =SUM($D68:$D82)-SUM($R69) -> 0 | V69: =SUM($K68:$K82)-SUM($S69) -> 0
A70: Débarrasser la Table | B70: 1 | Q70: Me | T70: Me | U70: =SUM($E68:$E82)-SUM($R70) -> 0 | V70: =SUM($L68:$L82)-SUM($S70) -> 0
A71: Remplir le LV | B71: 2 | Q71: Je | T71: Je | U71: =SUM($F68:$F82)-SUM($R71) -> 0 | V71: =SUM($M68:$M82)-SUM($S71) -> 0
A72: Vider le LV | B72: 3 | U72: =SUM($G68:$G82)-SUM($R72) -> 0 | V72: =SUM($N68:$N82)-SUM($S72) -> 0
A73: Ranger les Chambres et Causures | B73: 1+1 | U73: =SUM($H68:$H82)-SUM($R73) -> 0 | V73: =SUM($O68:$O82)-SUM($S73) -> 0
A74: Aspirateur Maison | B74: 4 | U74: =SUM($I68:$I82)-SUM($R74) -> 0 | V74: =SUM($P68:$P82)-SUM($S74) -> 0
A75: WC et Bain | B75: 5
A76: Nettoyage du sol | B76: 5
A77: Commissions | B77: 2
A78: Nettoyer Oiseau | B78: 3
A79: Lessive | B79: 3
A80: Ranger le Linge | B80: 2
A81: Poubelle | B81: 2
A82: Taches Diverses
B83: POINTS CUMULEES | R83: POINTS NEGATIFS
B84: TOTAL | E84: Sarah | H84: =[1]Janvier!H84+SUM(U4:U82) -> 15 | J84: TOTAL | L84: Hector | O84: =[1]Janvier!O84+SUM(V4:V82) -> 17 | R84: Sarah | S84: =SUM(R4:R82) -> 0 | T84: Hector | V84: =SUM(S4:S82) -> 0
A87: Cinema 13 fr | B87: 25p
A88: Sortie | B88: 1h 15p
A89: Macdo 13 fr | B89: 25 P
A106: Cinema | B106: 25p
A107: Sortie | B107: 1h 15p
A108: Macdo | B108: 20 P

Sheet Fevrier
A1: Calendrier des taches à accomplir Janvier 2019 | D1: Obligatoires | H1: Facultative | L1: Ocasionelles | P1: Bonus | T1: Retour Index
A2: Taches du 01-02 au 03-02 | B2: Points | C2: Sarah | J2: Hector | R2: Negatif | U2: Positif
C3: Lu | D3: Ma | J3: Lu | K3: Ma | R3: Sarah | S3: Hector | U3: Sarah | V3: Hector
A4: Comportement et Attitude | B4: 3 | C4: 3 | J4: 3 | Q4: Lu | T4: Ma | U4: =SUM($C4:$C18)-SUM($R4) -> 3 | V4: =SUM($J4:$J18)-SUM($S4) -> 3
A5: Mettre la Table | B5: 1 | Q5: Ma | T5: Me | U5: =SUM($D4:$D18)-SUM($R5) -> 0 | V5: =SUM($K4:$K18)-SUM($S5) -> 0
A6: Débarrasser la Table | B6: 1 | T6: Je | U6: =SUM($E4:$E18)-SUM($R6) -> 0 | V6: =SUM($L4:$L18)-SUM($S6) -> 0
A7: Remplir le LV | B7: 2 | T7: Ve | U7: =SUM($F4:$F18)-SUM($R7) -> 0 | V7: =SUM($M4:$M18)-SUM($S7) -> 0
A8: Vider le LV | B8: 3 | T8: Sa | U8: =SUM($G4:$G18)-SUM($R8) -> 0 | V8: =SUM($N4:$N18)-SUM($S8) -> 0
A9: Ranger les Chambres et Causures | B9: 1+1 | T9: Di | U9: =SUM($H4:$H18)-SUM($R9) -> 0 | V9: =SUM($O4:$O18)-SUM($S9) -> 0
A10: Aspirateur Maison | B10: 4 | U10: =SUM($I4:$I18)-SUM($R10) -> 0
A11: WC et Bain | B11: 5 | V11: =SUM($P4:$P18)-SUM($S10) -> 0
A12: Nettoyage du sol | B12: 5
A13: Commissions | B13: 2
A14: Nettoyer Oiseau | B14: 3
A15: Lessive | B15: 3
A16: Ranger le Linge | B16: 2
A17: Poubelle | B17: 2
A18: Taches Diverses
A19: Taches du 04-02 au 10-02 | B19: Points | C19: Lu | D19: Ma | E19: Me | F19: Je | G19: Ve | H19: Sa | I19: Di | J19: Lu | K19: Ma | L19: Me | M19: Je | N19: Ve | O19: Sa | P19: Di | R19: Sarah | S19: Hector | U19: Sarah | V19: Hector
A20: Comportement et Attitude | B20: 3 | Q20: Lu | T20: Lu | U20: =SUM($C20:$C34)-SUM($R20) -> 0 | V20: =SUM($J20:$J34)-SUM($S20) -> 0
A21: Mettre la Table | B21: 1 | Q21: Ma | T21: Ma | U21: =SUM($D20:$D34)-SUM($R21) -> 0 | V21: =SUM($K20:$K34)-SUM($S21) -> 0
A22: Débarrasser la Table | B22: 1 | Q22: Me | T22: Me | U22: =SUM($E20:$E34)-SUM($R22) -> 0 | V22: =SUM($L20:$L34)-SUM($S22) -> 0
A23: Remplir le LV | B23: 2 | Q23: Je | T23: Je | U23: =SUM($F20:$F34)-SUM($R23) -> 0 | V23: =SUM($M20:$M34)-SUM($S23) -> 0
A24: Vider le LV | B24: 3 | Q24: Ve | T24: Ve | U24: =SUM($G20:$G34)-SUM($R24) -> 0 | V24: =SUM($N20:$N34)-SUM($S24) -> 0
A25: Ranger les Chambres et Causures | B25: 1+1 | Q25: Sa | T25: Sa | U25: =SUM($H20:$H34)-SUM($R25) -> 0 | V25: =SUM($O20:$O34)-SUM($S25) -> 0
A26: Aspirateur Maison | B26: 4 | Q26: Di | T26: Di | U26: =SUM($I20:$I34)-SUM($R26) -> 0 | V26: =SUM($P20:$P34)-SUM($S26) -> 0
A27: WC et Bain | B27: 5
A28: Nettoyage du sol | B28: 5
A29: Commissions | B29: 2
A30: Nettoyer Oiseau | B30: 3
A31: Lessive | B31: 3
A32: Ranger le Linge | B32: 2
A33: Poubelle | B33: 2
A34: Taches Diverses
A35: Taches du 11-02 au 17-02 | B35: Points | C35: Lu | D35: Ma | E35: Me | F35: Je | G35: Ve | H35: Sa | I35: Di | J35: Lu | K35: Ma | L35: Me | M35: Je | N35: Ve | O35: Sa | P35: Di | R35: Sarah | S35: Hector | U35: Sarah | V35: Hector
A36: Comportement et Attitude | B36: 3 | Q36: Lu | T36: Lu | U36: =SUM($C36:$C50)-SUM($R36) -> 0 | V36: =SUM($J36:$J50)-SUM($S36) -> 0
A37: Mettre la Table | B37: 1 | Q37: Ma | T37: Ma | U37: =SUM($D36:$D50)-SUM($R37) -> 0 | V37: =SUM($K36:$K50)-SUM($S37) -> 0
A38: Débarrasser la Table | B38: 1 | Q38: Me | T38: Me | U38: =SUM($E36:$E50)-SUM($R38) -> 0 | V38: =SUM($L36:$L50)-SUM($S38) -> 0
A39: Remplir le LV | B39: 2 | Q39: Je | T39: Je | U39: =SUM($F36:$F50)-SUM($R39) -> 0 | V39: =SUM($M36:$M50)-SUM($S39) -> 0
A40: Vider le LV | B40: 3 | Q40: Ve | T40: Ve | U40: =SUM($G36:$G50)-SUM($R40) -> 0 | V40: =SUM($N36:$N50)-SUM($S40) -> 0
A41: Ranger les Chambres et Causures | B41: 1+1 | Q41: Sa | T41: Sa | U41: =SUM($H36:$H50)-SUM($R41) -> 0 | V41: =SUM($O36:$O50)-SUM($S41) -> 0
A42: Aspirateur Maison | B42: 4 | Q42: Di | T42: Di | U42: =SUM($I36:$I50)-SUM($R42) -> 0 | V42: =SUM($P36:$P50)-SUM($S42) -> 0
A43: WC et Bain | B43: 5
A44: Nettoyage du sol | B44: 5
A45: Commissions | B45: 2
A46: Nettoyer Oiseau | B46: 3
A47: Lessive | B47: 3
A48: Ranger le Linge | B48: 2
A49: Poubelle | B49: 2
A50: Taches Diverses
A51: Taches du 18-02 au 24-02 | B51: Points | C51: Lu | D51: Ma | E51: Me | F51: Je | G51: Ve | H51: Sa | I51: Di | J51: Lu | K51: Ma | L51: Me | M51: Je | N51: Ve | O51: Sa | P51: Di | R51: Sarah | S51: Hector | U51: Sarah | V51: Hector
A52: Comportement et Attitude | B52: 3 | Q52: Lu | T52: Lu | U52: =SUM($C52:$C66)-SUM($R52) -> 0 | V52: =SUM($J52:$J66)-SUM($S52) -> 0
A53: Mettre la Table | B53: 1 | Q53: Ma | T53: Ma | U53: =SUM($D52:$D66)-SUM($R53) -> 0 | V53: =SUM($K52:$K66)-SUM($S53) -> 0
A54: Débarrasser la Table | B54: 1 | Q54: Me | T54: Me | U54: =SUM($E52:$E66)-SUM($R54) -> 0 | V54: =SUM($L52:$L66)-SUM($S54) -> 0
A55: Remplir le LV | B55: 2 | Q55: Je | T55: Je | U55: =SUM($F52:$F66)-SUM($R55) -> 0 | V55: =SUM($M52:$M66)-SUM($S55) -> 0
A56: Vider le LV | B56: 3 | Q56: Ve | T56: Ve | U56: =SUM($G52:$G66)-SUM($R56) -> 0 | V56: =SUM($N52:$N66)-SUM($S56) -> 0
A57: Ranger les Chambres et Causures | B57: 1+1 | Q57: Sa | T57: Sa | U57: =SUM($H52:$H66)-SUM($R57) -> 0 | V57: =SUM($O52:$O66)-SUM($S57) -> 0
A58: Aspirateur Maison | B58: 4 | Q58: Di | T58: Di | U58: =SUM($I52:$I66)-SUM($R58) -> 0 | V58: =SUM($P52:$P66)-SUM($S58) -> 0
A59: WC et Bain | B59: 5
A60: Nettoyage du sol | B60: 5
A61: Commissions | B61: 2
A62: Nettoyer Oiseau | B62: 3
A63: Lessive | B63: 3
A64: Ranger le Linge | B64: 2
A65: Poubelle | B65: 2
A66: Taches Diverses
A67: Taches du 25-02 au 28-02 | B67: Points | C67: Lu | D67: Ma | E67: Me | F67: Je | J67: Lu | K67: Ma | L67: Me | M67: Je | R67: Sarah | S67: Hector | U67: Sarah | V67: Hector
A68: Comportement et Attitude | B68: 3 | Q68: Lu | T68: Lu | U68: =SUM($C68:$C82)-SUM($R68) -> 0 | V68: =SUM($J68:$J82)-SUM($S68) -> 0
A69: Mettre la Table | B69: 1 | Q69: Ma | T69: Ma | U69: =SUM($D68:$D82)-SUM($R69) -> 0 | V69: =SUM($K68:$K82)-SUM($S69) -> 0
A70: Débarrasser la Table | B70: 1 | Q70: Me | T70: Me | U70: =SUM($E68:$E82)-SUM($R70) -> 0 | V70: =SUM($L68:$L82)-SUM($S70) -> 0
A71: Remplir le LV | B71: 2 | Q71: Je | T71: Je | U71: =SUM($F68:$F82)-SUM($R71) -> 0 | V71: =SUM($M68:$M82)-SUM($S71) -> 0
A72: Vider le LV | B72: 3 | U72: =SUM($G68:$G82)-SUM($R72) -> 0 | V72: =SUM($N68:$N82)-SUM($S72) -> 0
A73: Ranger les Chambres et Causures | B73: 1+1 | U73: =SUM($H68:$H82)-SUM($R73) -> 0 | V73: =SUM($O68:$O82)-SUM($S73) -> 0
A74: Aspirateur Maison | B74: 4 | U74: =SUM($I68:$I82)-SUM($R74) -> 0 | V74: =SUM($P68:$P82)-SUM($S74) -> 0
A75: WC et Bain | B75: 5
A76: Nettoyage du sol | B76: 5
A77: Commissions | B77: 2
A78: Nettoyer Oiseau | B78: 3
A79: Lessive | B79: 3
A80: Ranger le Linge | B80: 2
A81: Poubelle | B81: 2
A82: Taches Diverses
B83: POINTS CUMULEES | R83: POINTS NEGATIFS
B84: TOTAL | E84: Sarah | H84: =[1]Janvier!H84+SUM(U4:U82) -> 15 | J84: TOTAL | L84: Hector | O84: =[1]Janvier!O84+SUM(V4:V82) -> 17 | R84: Sarah | S84: =SUM(R4:R82) -> 0 | T84: Hector | V84: =SUM(S4:S82) -> 0
A87: Cinema 13 fr | B87: 25p
A88: Sortie | B88: 1h 15p
A89: Macdo 13 fr | B89: 25 P
A106: Cinema | B106: 25p
A107: Sortie | B107: 1h 15p
A108: Macdo | B108: 20 P

Sheet Mars
A1: Calendrier des taches à accomplir Janvier 2019 | D1: Obligatoires | H1: Facultative | L1: Ocasionelles | P1: Bonus | T1: Retour Index
A2: Taches du 01-02 au 03-02 | B2: Points | C2: Sarah | J2: Hector | R2: Negatif | U2: Positif
C3: Lu | D3: Ma | J3: Lu | K3: Ma | R3: Sarah | S3: Hector | U3: Sarah | V3: Hector
A4: Comportement et Attitude | B4: 3 | C4: 3 | J4: 3 | Q4: Lu | T4: Ma | U4: =SUM($C4:$C18)-SUM($R4) -> 3 | V4: =SUM($J4:$J18)-SUM($S4) -> 3
A5: Mettre la Table | B5: 1 | Q5: Ma | T5: Me | U5: =SUM($D4:$D18)-SUM($R5) -> 0 | V5: =SUM($K4:$K18)-SUM($S5) -> 0
A6: Débarrasser la Table | B6: 1 | T6: Je | U6: =SUM($E4:$E18)-SUM($R6) -> 0 | V6: =SUM($L4:$L18)-SUM($S6) -> 0
A7: Remplir le LV | B7: 2 | T7: Ve | U7: =SUM($F4:$F18)-SUM($R7) -> 0 | V7: =SUM($M4:$M18)-SUM($S7) -> 0
A8: Vider le LV | B8: 3 | T8: Sa | U8: =SUM($G4:$G18)-SUM($R8) -> 0 | V8: =SUM($N4:$N18)-SUM($S8) -> 0
A9: Ranger les Chambres et Causures | B9: 1+1 | T9: Di | U9: =SUM($H4:$H18)-SUM($R9) -> 0 | V9: =SUM($O4:$O18)-SUM($S9) -> 0
A10: Aspirateur Maison | B10: 4 | U10: =SUM($I4:$I18)-SUM($R10) -> 0
A11: WC et Bain | B11: 5 | V11: =SUM($P4:$P18)-SUM($S10) -> 0
A12: Nettoyage du sol | B12: 5
A13: Commissions | B13: 2
A14: Nettoyer Oiseau | B14: 3
A15: Lessive | B15: 3
A16: Ranger le Linge | B16: 2
A17: Poubelle | B17: 2
A18: Taches Diverses
A19: Taches du 04-02 au 10-02 | B19: Points | C19: Lu | D19: Ma | E19: Me | F19: Je | G19: Ve | H19: Sa | I19: Di | J19: Lu | K19: Ma | L19: Me | M19: Je | N19: Ve | O19: Sa | P19: Di | R19: Sarah | S19: Hector | U19: Sarah | V19: Hector
A20: Comportement et Attitude | B20: 3 | Q20: Lu | T20: Lu | U20: =SUM($C20:$C34)-SUM($R20) -> 0 | V20: =SUM($J20:$J34)-SUM($S20) -> 0
A21: Mettre la Table | B21: 1 | Q21: Ma | T21: Ma | U21: =SUM($D20:$D34)-SUM($R21) -> 0 | V21: =SUM($K20:$K34)-SUM($S21) -> 0
A22: Débarrasser la Table | B22: 1 | Q22: Me | T22: Me | U22: =SUM($E20:$E34)-SUM($R22) -> 0 | V22: =SUM($L20:$L34)-SUM($S22) -> 0
A23: Remplir le LV | B23: 2 | Q23: Je | T23: Je | U23: =SUM($F20:$F34)-SUM($R23) -> 0 | V23: =SUM($M20:$M34)-SUM($S23) -> 0
A24: Vider le LV | B24: 3 | Q24: Ve | T24: Ve | U24: =SUM($G20:$G34)-SUM($R24) -> 0 | V24: =SUM($N20:$N34)-SUM($S24) -> 0
A25: Ranger les Chambres et Causures | B25: 1+1 | Q25: Sa | T25: Sa | U25: =SUM($H20:$H34)-SUM($R25) -> 0 | V25: =SUM($O20:$O34)-SUM($S25) -> 0
A26: Aspirateur Maison | B26: 4 | Q26: Di | T26: Di | U26: =SUM($I20:$I34)-SUM($R26) -> 0 | V26: =SUM($P20:$P34)-SUM($S26) -> 0
A27: WC et Bain | B27: 5
A28: Nettoyage du sol | B28: 5
A29: Commissions | B29: 2
A30: Nettoyer Oiseau | B30: 3
A31: Lessive | B31: 3
A32: Ranger le Linge | B32: 2
A33: Poubelle | B33: 2
A34: Taches Diverses
A35: Taches du 11-02 au 17-02 | B35: Points | C35: Lu | D35: Ma | E35: Me | F35: Je | G35: Ve | H35: Sa | I35: Di | J35: Lu | K35: Ma | L35: Me | M35: Je | N35: Ve | O35: Sa | P35: Di | R35: Sarah | S35: Hector | U35: Sarah | V35: Hector
A36: Comportement et Attitude | B36: 3 | Q36: Lu | T36: Lu | U36: =SUM($C36:$C50)-SUM($R36) -> 0 | V36: =SUM($J36:$J50)-SUM($S36) -> 0
A37: Mettre la Table | B37: 1 | Q37: Ma | T37: Ma | U37: =SUM($D36:$D50)-SUM($R37) -> 0 | V37: =SUM($K36:$K50)-SUM($S37) -> 0
A38: Débarrasser la Table | B38: 1 | Q38: Me | T38: Me | U38: =SUM($E36:$E50)-SUM($R38) -> 0 | V38: =SUM($L36:$L50)-SUM($S38) -> 0
A39: Remplir le LV | B39: 2 | Q39: Je | T39: Je | U39: =SUM($F36:$F50)-SUM($R39) -> 0 | V39: =SUM($M36:$M50)-SUM($S39) -> 0
A40: Vider le LV | B40: 3 | Q40: Ve | T40: Ve | U40: =SUM($G36:$G50)-SUM($R40) -> 0 | V40: =SUM($N36:$N50)-SUM($S40) -> 0
A41: Ranger les Chambres et Causures | B41: 1+1 | Q41: Sa | T41: Sa | U41: =SUM($H36:$H50)-SUM($R41) -> 0 | V41: =SUM($O36:$O50)-SUM($S41) -> 0
A42: Aspirateur Maison | B42: 4 | Q42: Di | T42: Di | U42: =SUM($I36:$I50)-SUM($R42) -> 0 | V42: =SUM($P36:$P50)-SUM($S42) -> 0
A43: WC et Bain | B43: 5
A44: Nettoyage du sol | B44: 5
A45: Commissions | B45: 2
A46: Nettoyer Oiseau | B46: 3
A47: Lessive | B47: 3
A48: Ranger le Linge | B48: 2
A49: Poubelle | B49: 2
A50: Taches Diverses
A51: Taches du 18-02 au 24-02 | B51: Points | C51: Lu | D51: Ma | E51: Me | F51: Je | G51: Ve | H51: Sa | I51: Di | J51: Lu | K51: Ma | L51: Me | M51: Je | N51: Ve | O51: Sa | P51: Di | R51: Sarah | S51: Hector | U51: Sarah | V51: Hector
A52: Comportement et Attitude | B52: 3 | Q52: Lu | T52: Lu | U52: =SUM($C52:$C66)-SUM($R52) -> 0 | V52: =SUM($J52:$J66)-SUM($S52) -> 0
A53: Mettre la Table | B53: 1 | Q53: Ma | T53: Ma | U53: =SUM($D52:$D66)-SUM($R53) -> 0 | V53: =SUM($K52:$K66)-SUM($S53) -> 0
A54: Débarrasser la Table | B54: 1 | Q54: Me | T54: Me | U54: =SUM($E52:$E66)-SUM($R54) -> 0 | V54: =SUM($L52:$L66)-SUM($S54) -> 0
A55: Remplir le LV | B55: 2 | Q55: Je | T55: Je | U55: =SUM($F52:$F66)-SUM($R55) -> 0 | V55: =SUM($M52:$M66)-SUM($S55) -> 0
A56: Vider le LV | B56: 3 | Q56: Ve | T56: Ve | U56: =SUM($G52:$G66)-SUM($R56) -> 0 | V56: =SUM($N52:$N66)-SUM($S56) -> 0
A57: Ranger les Chambres et Causures | B57: 1+1 | Q57: Sa | T57: Sa | U57: =SUM($H52:$H66)-SUM($R57) -> 0 | V57: =SUM($O52:$O66)-SUM($S57) -> 0
A58: Aspirateur Maison | B58: 4 | Q58: Di | T58: Di | U58: =SUM($I52:$I66)-SUM($R58) -> 0 | V58: =SUM($P52:$P66)-SUM($S58) -> 0
A59: WC et Bain | B59: 5
A60: Nettoyage du sol | B60: 5
A61: Commissions | B61: 2
A62: Nettoyer Oiseau | B62: 3
A63: Lessive | B63: 3
A64: Ranger le Linge | B64: 2
A65: Poubelle | B65: 2
A66: Taches Diverses
A67: Taches du 25-02 au 28-02 | B67: Points | C67: Lu | D67: Ma | E67: Me | F67: Je | J67: Lu | K67: Ma | L67: Me | M67: Je | R67: Sarah | S67: Hector | U67: Sarah | V67: Hector
A68: Comportement et Attitude | B68: 3 | Q68: Lu | T68: Lu | U68: =SUM($C68:$C82)-SUM($R68) -> 0 | V68: =SUM($J68:$J82)-SUM($S68) -> 0
A69: Mettre la Table | B69: 1 | Q69: Ma | T69: Ma | U69: =SUM($D68:$D82)-SUM($R69) -> 0 | V69: =SUM($K68:$K82)-SUM($S69) -> 0
A70: Débarrasser la Table | B70: 1 | Q70: Me | T70: Me | U70: =SUM($E68:$E82)-SUM($R70) -> 0 | V70: =SUM($L68:$L82)-SUM($S70) -> 0
A71: Remplir le LV | B71: 2 | Q71: Je | T71: Je | U71: =SUM($F68:$F82)-SUM($R71) -> 0 | V71: =SUM($M68:$M82)-SUM($S71) -> 0
A72: Vider le LV | B72: 3 | U72: =SUM($G68:$G82)-SUM($R72) -> 0 | V72: =SUM($N68:$N82)-SUM($S72) -> 0
A73: Ranger les Chambres et Causures | B73: 1+1 | U73: =SUM($H68:$H82)-SUM($R73) -> 0 | V73: =SUM($O68:$O82)-SUM($S73) -> 0
A74: Aspirateur Maison | B74: 4 | U74: =SUM($I68:$I82)-SUM($R74) -> 0 | V74: =SUM($P68:$P82)-SUM($S74) -> 0
A75: WC et Bain | B75: 5
A76: Nettoyage du sol | B76: 5
A77: Commissions | B77: 2
A78: Nettoyer Oiseau | B78: 3
A79: Lessive | B79: 3
A80: Ranger le Linge | B80: 2
A81: Poubelle | B81: 2
A82: Taches Diverses
B83: POINTS CUMULEES | R83: POINTS NEGATIFS
B84: TOTAL | E84: Sarah | H84: =[1]Janvier!H84+SUM(U4:U82) -> 15 | J84: TOTAL | L84: Hector | O84: =[1]Janvier!O84+SUM(V4:V82) -> 17 | R84: Sarah | S84: =SUM(R4:R82) -> 0 | T84: Hector | V84: =SUM(S4:S82) -> 0
A87: Cinema 13 fr | B87: 25p
A88: Sortie | B88: 1h 15p
A89: Macdo 13 fr | B89: 25 P
A106: Cinema | B106: 25p
A107: Sortie | B107: 1h 15p
A108: Macdo | B108: 20 P

Sheet Avril
A1: Calendrier des taches à accomplir Janvier 2019 | D1: Obligatoires | H1: Facultative | L1: Ocasionelles | P1: Bonus | T1: Retour Index
A2: Taches du 01-02 au 03-02 | B2: Points | C2: Sarah | J2: Hector | R2: Negatif | U2: Positif
C3: Lu | D3: Ma | J3: Lu | K3: Ma | R3: Sarah | S3: Hector | U3: Sarah | V3: Hector
A4: Comportement et Attitude | B4: 3 | C4: 3 | J4: 3 | Q4: Lu | T4: Ma | U4: =SUM($C4:$C18)-SUM($R4) -> 3 | V4: =SUM($J4:$J18)-SUM($S4) -> 3
A5: Mettre la Table | B5: 1 | Q5: Ma | T5: Me | U5: =SUM($D4:$D18)-SUM($R5) -> 0 | V5: =SUM($K4:$K18)-SUM($S5) -> 0
A6: Débarrasser la Table | B6: 1 | T6: Je | U6: =SUM($E4:$E18)-SUM($R6) -> 0 | V6: =SUM($L4:$L18)-SUM($S6) -> 0
A7: Remplir le LV | B7: 2 | T7: Ve | U7: =SUM($F4:$F18)-SUM($R7) -> 0 | V7: =SUM($M4:$M18)-SUM($S7) -> 0
A8: Vider le LV | B8: 3 | T8: Sa | U8: =SUM($G4:$G18)-SUM($R8) -> 0 | V8: =SUM($N4:$N18)-SUM($S8) -> 0
A9: Ranger les Chambres et Causures | B9: 1+1 | T9: Di | U9: =SUM($H4:$H18)-SUM($R9) -> 0 | V9: =SUM($O4:$O18)-SUM($S9) -> 0
A10: Aspirateur Maison | B10: 4 | U10: =SUM($I4:$I18)-SUM($R10) -> 0
A11: WC et Bain | B11: 5 | V11: =SUM($P4:$P18)-SUM($S10) -> 0
A12: Nettoyage du sol | B12: 5
A13: Commissions | B13: 2
A14: Nettoyer Oiseau | B14: 3
A15: Lessive | B15: 3
A16: Ranger le Linge | B16: 2
A17: Poubelle | B17: 2
A18: Taches Diverses
A19: Taches du 04-02 au 10-02 | B19: Points | C19: Lu | D19: Ma | E19: Me | F19: Je | G19: Ve | H19: Sa | I19: Di | J19: Lu | K19: Ma | L19: Me | M19: Je | N19: Ve | O19: Sa | P19: Di | R19: Sarah | S19: Hector | U19: Sarah | V19: Hector
A20: Comportement et Attitude | B20: 3 | Q20: Lu | T20: Lu | U20: =SUM($C20:$C34)-SUM($R20) -> 0 | V20: =SUM($J20:$J34)-SUM($S20) -> 0
A21: Mettre la Table | B21: 1 | Q21: Ma | T21: Ma | U21: =SUM($D20:$D34)-SUM($R21) -> 0 | V21: =SUM($K20:$K34)-SUM($S21) -> 0
A22: Débarrasser la Table | B22: 1 | Q22: Me | T22: Me | U22: =SUM($E20:$E34)-SUM($R22) -> 0 | V22: =SUM($L20:$L34)-SUM($S22) -> 0
A23: Remplir le LV | B23: 2 | Q23: Je | T23: Je | U23: =SUM($F20:$F34)-SUM($R23) -> 0 | V23: =SUM($M20:$M34)-SUM($S23) -> 0
A24: Vider le LV | B24: 3 | Q24: Ve | T24: Ve | U24: =SUM($G20:$G34)-SUM($R24) -> 0 | V24: =SUM($N20:$N34)-SUM($S24) -> 0
A25: Ranger les Chambres et Causures | B25: 1+1 | Q25: Sa | T25: Sa | U25: =SUM($H20:$H34)-SUM($R25) -> 0 | V25: =SUM($O20:$O34)-SUM($S25) -> 0
A26: Aspirateur Maison | B26: 4 | Q26: Di | T26: Di | U26: =SUM($I20:$I34)-SUM($R26) -> 0 | V26: =SUM($P20:$P34)-SUM($S26) -> 0
A27: WC et Bain | B27: 5
A28: Nettoyage du sol | B28: 5
A29: Commissions | B29: 2
A30: Nettoyer Oiseau | B30: 3
A31: Lessive | B31: 3
A32: Ranger le Linge | B32: 2
A33: Poubelle | B33: 2
A34: Taches Diverses
A35: Taches du 11-02 au 17-02 | B35: Points | C35: Lu | D35: Ma | E35: Me | F35: Je | G35: Ve | H35: Sa | I35: Di | J35: Lu | K35: Ma | L35: Me | M35: Je | N35: Ve | O35: Sa | P35: Di | R35: Sarah | S35: Hector | U35: Sarah | V35: Hector
A36: Comportement et Attitude | B36: 3 | Q36: Lu | T36: Lu | U36: =SUM($C36:$C50)-SUM($R36) -> 0 | V36: =SUM($J36:$J50)-SUM($S36) -> 0
A37: Mettre la Table | B37: 1 | Q37: Ma | T37: Ma | U37: =SUM($D36:$D50)-SUM($R37) -> 0 | V37: =SUM($K36:$K50)-SUM($S37) -> 0
A38: Débarrasser la Table | B38: 1 | Q38: Me | T38: Me | U38: =SUM($E36:$E50)-SUM($R38) -> 0 | V38: =SUM($L36:$L50)-SUM($S38) -> 0
A39: Remplir le LV | B39: 2 | Q39: Je | T39: Je | U39: =SUM($F36:$F50)-SUM($R39) -> 0 | V39: =SUM($M36:$M50)-SUM($S39) -> 0
A40: Vider le LV | B40: 3 | Q40: Ve | T40: Ve | U40: =SUM($G36:$G50)-SUM($R40) -> 0 | V40: =SUM($N36:$N50)-SUM($S40) -> 0
A41: Ranger les Chambres et Causures | B41: 1+1 | Q41: Sa | T41: Sa | U41: =SUM($H36:$H50)-SUM($R41) -> 0 | V41: =SUM($O36:$O50)-SUM($S41) -> 0
A42: Aspirateur Maison | B42: 4 | Q42: Di | T42: Di | U42: =SUM($I36:$I50)-SUM($R42) -> 0 | V42: =SUM($P36:$P50)-SUM($S42) -> 0
A43: WC et Bain | B43: 5
A44: Nettoyage du sol | B44: 5
A45: Commissions | B45: 2
A46: Nettoyer Oiseau | B46: 3
A47: Lessive | B47: 3
A48: Ranger le Linge | B48: 2
A49: Poubelle | B49: 2
A50: Taches Diverses
A51: Taches du 18-02 au 24-02 | B51: Points | C51: Lu | D51: Ma | E51: Me | F51: Je | G51: Ve | H51: Sa | I51: Di | J51: Lu | K51: Ma | L51: Me | M51: Je | N51: Ve | O51: Sa | P51: Di | R51: Sarah | S51: Hector | U51: Sarah | V51: Hector
A52: Comportement et Attitude | B52: 3 | Q52: Lu | T52: Lu | U52: =SUM($C52:$C66)-SUM($R52) -> 0 | V52: =SUM($J52:$J66)-SUM($S52) -> 0
A53: Mettre la Table | B53: 1 | Q53: Ma | T53: Ma | U53: =SUM($D52:$D66)-SUM($R53) -> 0 | V53: =SUM($K52:$K66)-SUM($S53) -> 0
A54: Débarrasser la Table | B54: 1 | Q54: Me | T54: Me | U54: =SUM($E52:$E66)-SUM($R54) -> 0 | V54: =SUM($L52:$L66)-SUM($S54) -> 0
A55: Remplir le LV | B55: 2 | Q55: Je | T55: Je | U55: =SUM($F52:$F66)-SUM($R55) -> 0 | V55: =SUM($M52:$M66)-SUM($S55) -> 0
A56: Vider le LV | B56: 3 | Q56: Ve | T56: Ve | U56: =SUM($G52:$G66)-SUM($R56) -> 0 | V56: =SUM($N52:$N66)-SUM($S56) -> 0
A57: Ranger les Chambres et Causures | B57: 1+1 | Q57: Sa | T57: Sa | U57: =SUM($H52:$H66)-SUM($R57) -> 0 | V57: =SUM($O52:$O66)-SUM($S57) -> 0
A58: Aspirateur Maison | B58: 4 | Q58: Di | T58: Di | U58: =SUM($I52:$I66)-SUM($R58) -> 0 | V58: =SUM($P52:$P66)-SUM($S58) -> 0
A59: WC et Bain | B59: 5
A60: Nettoyage du sol | B60: 5
A61: Commissions | B61: 2
A62: Nettoyer Oiseau | B62: 3
A63: Lessive | B63: 3
A64: Ranger le Linge | B64: 2
A65: Poubelle | B65: 2
A66: Taches Diverses
A67: Taches du 25-02 au 28-02 | B67: Points | C67: Lu | D67: Ma | E67: Me | F67: Je | J67: Lu | K67: Ma | L67: Me | M67: Je | R67: Sarah | S67: Hector | U67: Sarah | V67: Hector
A68: Comportement et Attitude | B68: 3 | Q68: Lu | T68: Lu | U68: =SUM($C68:$C82)-SUM($R68) -> 0 | V68: =SUM($J68:$J82)-SUM($S68) -> 0
A69: Mettre la Table | B69: 1 | Q69: Ma | T69: Ma | U69: =SUM($D68:$D82)-SUM($R69) -> 0 | V69: =SUM($K68:$K82)-SUM($S69) -> 0
A70: Débarrasser la Table | B70: 1 | Q70: Me | T70: Me | U70: =SUM($E68:$E82)-SUM($R70) -> 0 | V70: =SUM($L68:$L82)-SUM($S70) -> 0
A71: Remplir le LV | B71: 2 | Q71: Je | T71: Je | U71: =SUM($F68:$F82)-SUM($R71) -> 0 | V71: =SUM($M68:$M82)-SUM($S71) -> 0
A72: Vider le LV | B72: 3 | U72: =SUM($G68:$G82)-SUM($R72) -> 0 | V72: =SUM($N68:$N82)-SUM($S72) -> 0
A73: Ranger les Chambres et Causures | B73: 1+1 | U73: =SUM($H68:$H82)-SUM($R73) -> 0 | V73: =SUM($O68:$O82)-SUM($S73) -> 0
A74: Aspirateur Maison | B74: 4 | U74: =SUM($I68:$I82)-SUM($R74) -> 0 | V74: =SUM($P68:$P82)-SUM($S74) -> 0
A75: WC et Bain | B75: 5
A76: Nettoyage du sol | B76: 5
A77: Commissions | B77: 2
A78: Nettoyer Oiseau | B78: 3
A79: Lessive | B79: 3
A80: Ranger le Linge | B80: 2
A81: Poubelle | B81: 2
A82: Taches Diverses
B83: POINTS CUMULEES | R83: POINTS NEGATIFS
B84: TOTAL | E84: Sarah | H84: =[1]Janvier!H84+SUM(U4:U82) -> 15 | J84: TOTAL | L84: Hector | O84: =[1]Janvier!O84+SUM(V4:V82) -> 17 | R84: Sarah | S84: =SUM(R4:R82) -> 0 | T84: Hector | V84: =SUM(S4:S82) -> 0
A87: Cinema 13 fr | B87: 25p
A88: Sortie | B88: 1h 15p
A89: Macdo 13 fr | B89: 25 P
A106: Cinema | B106: 25p
A107: Sortie | B107: 1h 15p
A108: Macdo | B108: 20 P

Sheet Feuil1
A1: CLASEMENT POINTS NEGATIFS | V1: CLASEMENT POINTS NEGATIFS
A2: PONCTUATION | D2: CLASEMENT | V2: PONCTUATION | Y2: CLASEMENT
A3: Sarah | B3: Hector | C3: Mois | D3: Sarah | E3: Hector | V3: Sarah | W3: Hector | X3: Mois | Y3: Sarah | Z3: Hector
A4: 9 | B4: 10 | C4: Janvie | D4: =IF(AND(A4<>"",B4<>""),IF(A4<B4,"Bravo","Nul"),"") -> Bravo | E4: =IF(AND(A4<>"",B4<>""),IF(B4<A4,"Bravo","Nul"),"") -> Nul | V4: =Janvier!S84 -> 0 | W4: =Janvier!V84 -> 0 | X4: Janvie | Y4: =IF(AND(V4<>"",W4<>""),IF(V4<W4,"Bravo","Nul"),"") -> Nul | Z4: =IF(AND(V4<>"",W4<>""),IF(W4<V4,"Bravo","Nul"),"") -> Nul
A5: 5 | B5: 6 | C5: Fevrier | D5: =IF(AND(A5<>"",B5<>""),IF(A5<B5,"Bravo","Nul"),"") -> Bravo | E5: =IF(AND(A5<>"",B5<>""),IF(B5<A5,"Bravo","Nul"),"") -> Nul | V5: =Fevrier!S84 -> 0 | W5: =Fevrier!V84 -> 0 | X5: Fevrier | Y5: =IF(AND(V5<>"",W5<>""),IF(V5<W5,"Bravo","Nul"),"") -> Nul | Z5: =IF(AND(V5<>"",W5<>""),IF(W5<V5,"Bravo","Nul"),"") -> Nul
A6: 2 | B6: 4 | C6: Mars | D6: =IF(AND(A6<>"",B6<>""),IF(A6<B6,"Bravo","Nul"),"") -> Bravo | E6: =IF(AND(A6<>"",B6<>""),IF(B6<A6,"Bravo","Nul"),"") -> Nul | V6: =Mars!S84 -> 0 | W6: =Mars!V84 -> 0 | X6: Mars | Y6: =IF(AND(V6<>"",W6<>""),IF(V6<W6,"Bravo","Nul"),"") -> Nul | Z6: =IF(AND(V6<>"",W6<>""),IF(W6<V6,"Bravo","Nul"),"") -> Nul
A7: 5 | B7: 3 | C7: Avril | D7: =IF(AND(A7<>"",B7<>""),IF(A7<B7,"Bravo","Nul"),"") -> Nul | E7: =IF(AND(A7<>"",B7<>""),IF(B7<A7,"Bravo","Nul"),"") -> Bravo | V7: =Avril!S84 -> 0 | W7: =Avril!V84 -> 0 | X7: Avril | Y7: =IF(AND(V7<>"",W7<>""),IF(V7<W7,"Bravo","Nul"),"") -> Nul | Z7: =IF(AND(V7<>"",W7<>""),IF(W7<V7,"Bravo","Nul"),"") -> Nul
C8: Mai | D8: =IF(AND(A8<>"",B8<>""),IF(A8<B8,"Bravo","Nul"),"") | E8: =IF(AND(A8<>"",B8<>""),IF(B8<A8,"Bravo","Nul"),"") | X8: Mai | Y8: =IF(AND(V8<>"",W8<>""),IF(V8<W8,"Bravo","Nul"),"") | Z8: =IF(AND(V8<>"",W8<>""),IF(W8<V8,"Bravo","Nul"),"")
C9: Juin | D9: =IF(AND(A9<>"",B9<>""),IF(A9<B9,"Bravo","Nul"),"") | E9: =IF(AND(A9<>"",B9<>""),IF(B9<A9,"Bravo","Nul"),"") | X9: Juin | Y9: =IF(AND(V9<>"",W9<>""),IF(V9<W9,"Bravo","Nul"),"") | Z9: =IF(AND(V9<>"",W9<>""),IF(W9<V9,"Bravo","Nul"),"")
C10: Juillet | D10: =IF(AND(A10<>"",B10<>""),IF(A10<B10,"Bravo","Nul"),"") | E10: =IF(AND(A10<>"",B10<>""),IF(B10<A10,"Bravo","Nul"),"") | X10: Juillet | Y10: =IF(AND(V10<>"",W10<>""),IF(V10<W10,"Bravo","Nul"),"") | Z10: =IF(AND(V10<>"",W10<>""),IF(W10<V10,"Bravo","Nul"),"")
C11: Aout | D11: =IF(AND(A11<>"",B11<>""),IF(A11<B11,"Bravo","Nul"),"") | E11: =IF(AND(A11<>"",B11<>""),IF(B11<A11,"Bravo","Nul"),"") | X11: Aout | Y11: =IF(AND(V11<>"",W11<>""),IF(V11<W11,"Bravo","Nul"),"") | Z11: =IF(AND(V11<>"",W11<>""),IF(W11<V11,"Bravo","Nul"),"")
C12: Septembre | D12: =IF(AND(A12<>"",B12<>""),IF(A12<B12,"Bravo","Nul"),"") | E12: =IF(AND(A12<>"",B12<>""),IF(B12<A12,"Bravo","Nul"),"") | X12: Septembre | Y12: =IF(AND(V12<>"",W12<>""),IF(V12<W12,"Bravo","Nul"),"") | Z12: =IF(AND(V12<>"",W12<>""),IF(W12<V12,"Bravo","Nul"),"")
C13: Octobre | D13: =IF(AND(A13<>"",B13<>""),IF(A13<B13,"Bravo","Nul"),"") | E13: =IF(AND(A13<>"",B13<>""),IF(B13<A13,"Bravo","Nul"),"") | X13: Octobre | Y13: =IF(AND(V13<>"",W13<>""),IF(V13<W13,"Bravo","Nul"),"") | Z13: =IF(AND(V13<>"",W13<>""),IF(W13<V13,"Bravo","Nul"),"")
C14: Novembre | D14: =IF(AND(A14<>"",B14<>""),IF(A14<B14,"Bravo","Nul"),"") | E14: =IF(AND(A14<>"",B14<>""),IF(B14<A14,"Bravo","Nul"),"") | X14: Novembre | Y14: =IF(AND(V14<>"",W14<>""),IF(V14<W14,"Bravo","Nul"),"") | Z14: =IF(AND(V14<>"",W14<>""),IF(W14<V14,"Bravo","Nul"),"")
C15: Decembre | D15: =IF(AND(A15<>"",B15<>""),IF(A15<B15,"Bravo","Nul"),"") | E15: =IF(AND(A15<>"",B15<>""),IF(B15<A15,"Bravo","Nul"),"") | X15: Decembre | Y15: =IF(AND(V15<>"",W15<>""),IF(V15<W15,"Bravo","Nul"),"") | Z15: =IF(AND(V15<>"",W15<>""),IF(W15<V15,"Bravo","Nul"),"")
