Workbook
Name AS1A: 'base salaire'!$A$8:$A$33
Name CONT: 'base salaire'!$A$2:$B$5
Name MATRICULE: 'données salariés'!$A$2:$M$626
Name QALIF: 'base salaire'!$A$8:$A$33
Name QUALIF: 'base salaire'!$A$8:$A$33
Name TX: 'base salaire'!$A$8:$B$33

Sheet théorique
A3: THEORIQUE | S3: 43191 | AJ3: 43221 | BA3: 43252 | BR3: 43282 | CI3: 43313 | CZ3: 43344 | DQ3: 43374 | EH3: 43405 | EY3: 43435
A4: n° | B4: nom | C4: CA | D4: NH | E4: MSC | F4: SOUS TRAITANCE | H4: Consom. | I4: EquipT Achats | J4: Materiel | K4: Véhic. | L4: Frs Gnx Comm. Formation | M4: Autres Cts S/ activité | N4: MGFV HORS NIOPPE | O4: OBJECTIF | P4: DELTA | Q4: VALEUR | R4: nh à gagner | S4: CA | T4: AVOIR | U4: NH | V4: MS | W4: SOUS TRAITANCE | Y4: Consom. | Z4: EquipT Achats | AA4: Materiel | AC4: Véhic. | AD4: Frs Gnx Comm. Formation | AE4: Autres Cts S/ activité | AF4: MGFV HORS NIOPPE | AG4: delta objectf | AH4: valeur | AI4: nb heures à gagner | AJ4: CA | AK4: AVOIR | AL4: NH | AM4: MS | AN4: SOUS TRAITANCE | AP4: Consom. | AQ4: EquipT Achats | AR4: Materiel | AT4: Véhic. | AU4: Frs Gnx Comm. Formation | AV4: Autres Cts S/ activité | AW4: MGFV HORS NIOPPE | AX4: delta objectf | AY4: valeur | AZ4: nb heures à gagner | BA4: CA | BB4: AVOIR | BC4: NH | BD4: MS | BE4: SOUS TRAITANCE | BG4: Consom. | BH4: EquipT Achats | BI4: Materiel | BK4: Véhic. | BL4: Frs Gnx Comm. Formation | BM4: Autres Cts S/ activité | BN4: MGFV HORS NIOPPE | BO4: delta objectf | BP4: valeur | BQ4: nb heures à gagner | BR4: CA | BS4: AVOIR | BT4: NH | BU4: MS | BV4: SOUS TRAITANCE | BX4: Consom. | BY4: EquipT Achats | BZ4: Materiel | CB4: Véhic. | CC4: Frs Gnx Comm. Formation | CD4: Autres Cts S/ activité | CE4: MGFV HORS NIOPPE | CF4: delta objectf | CG4: valeur | CH4: nb heures à gagner | CI4: CA | CJ4: AVOIR | CK4: NH | CL4: MS | CM4: SOUS TRAITANCE | CO4: Consom. | CP4: EquipT Achats | CQ4: Materiel | CS4: Véhic. | CT4: Frs Gnx Comm. Formation | CU4: Autres Cts S/ activité | CV4: MGFV HORS NIOPPE | CW4: delta objectf | CX4: valeur | CY4: nb heures à gagner | CZ4: CA | DA4: AVOIR | DB4: NH | DC4: MS | DD4: SOUS TRAITANCE | DF4: Consom. | DG4: EquipT Achats | DH4: Materiel | DJ4: Véhic. | DK4: Frs Gnx Comm. Formation | DL4: Autres Cts S/ activité | DM4: MGFV HORS NIOPPE | DN4: delta objectf | DO4: valeur | DP4: nb heures à gagner | DQ4: CA | DR4: AVOIR | DS4: NH | DT4: MS | DU4: SOUS TRAITANCE | DW4: Consom. | DX4: EquipT Achats | DY4: Materiel | EA4: Véhic. | EB4: Frs Gnx Comm. Formation | EC4: Autres Cts S/ activité | ED4: MGFV HORS NIOPPE | EE4: delta objectf | EF4: valeur | EG4: nb heures à gagner | EH4: CA | EI4: AVOIR | EJ4: NH | EK4: MS | EL4: SOUS TRAITANCE | EN4: Consom. | EO4: EquipT Achats | EP4: Materiel | ER4: Véhic. | ES4: Frs Gnx Comm. Formation | ET4: Autres Cts S/ activité | EU4: MGFV HORS NIOPPE | EV4: delta objectf | EW4: valeur | EX4: nb heures à gagner | EY4: CA | EZ4: AVOIR | FA4: NH | FB4: MS | FC4: SOUS TRAITANCE | FE4: Consom. | FF4: EquipT Achats | FG4: Materiel | FI4: Véhic. | FJ4: Frs Gnx Comm. Formation | FK4: Autres Cts S/ activité | FL4: MGFV HORS NIOPPE | FM4: delta objectf | FN4: valeur | FO4: nb heures à gagner
F5: ACHAT POUR COMPTE | G5: SOUS-TRAIRANCE | J5: IMMO | W5: ACHAT POUR COMPTE | X5: SOUS-TRAIRANCE | AA5: IMMO | AB5: REPA | AN5: ACHAT POUR COMPTE | AO5: SOUS-TRAIRANCE | AR5: IMMO | AS5: REPA | BE5: ACHAT POUR COMPTE | BF5: SOUS-TRAIRANCE | BI5: IMMO | BJ5: REPA | BV5: ACHAT POUR COMPTE | BW5: SOUS-TRAIRANCE | BZ5: IMMO | CA5: REPA | CM5: ACHAT POUR COMPTE | CN5: SOUS-TRAIRANCE | CQ5: IMMO | CR5: REPA | DD5: ACHAT POUR COMPTE | DE5: SOUS-TRAIRANCE | DH5: IMMO | DI5: REPA | DU5: ACHAT POUR COMPTE | DV5: SOUS-TRAIRANCE | DY5: IMMO | DZ5: REPA | EL5: ACHAT POUR COMPTE | EM5: SOUS-TRAIRANCE | EP5: IMMO | EQ5: REPA | FC5: ACHAT POUR COMPTE | FD5: SOUS-TRAIRANCE | FG5: IMMO | FH5: REPA

Sheet mars 18
B1: 43160 | E1: CA | F1: AVOIRS | G1: Heures objectif chantier | H1: Heures mens chantier | I1: Delta | J1: =LOOKUP(B1,Feuil4!A3:B14) -> jeudi | K1: NOM | L1: Prénom | M1: DATE DE NAISSANCE | N1: AGE | O1: S.S. | P1: SEXE | Q1: nationalité | R1: DOMICILE | T1: TEL | U1: Ancienneté | W1: CONTRAT | X1: travailleur handicapé | Y1: mutuelle obligatoire | Z1: QUALIF | AA1: t. horaire conventionnel | AB1: majoration | AC1: t. horaire majoré | AD1: EXPERIENCE | AE1: HURES DE NUIT REGULIRES | AF1: DIMANCHES REGULIERS | AG1: JOURS FERIES REGULIERS | AH1: Mens | AI1: lundi | AQ1: mardi | AY1: mercredi | BG1: jeudi | BO1: vendredi | BW1: samedi | CE1: dimanche | CN1: Absences prévues | CW1: =IF(CW2="mercredi",$B$1,IF(BX1="","",BX1+1)) | DL1: =IF(DL2="mercredi",$B$1,IF(CW1="","",CW1+1)) | EA1: =IF(EA2=$J$1,$B$1,IF(DL1="","",DL1+1)) | EP1: =IF(EP2=$J$1,$B$1,IF(EA1="","",EA1+1)) -> 43160 | FE1: =IF(FE2=$J$1,$B$1,IF(EP1="","",EP1+1)) -> 43161 | FT1: =IF(FT2=$J$1,$B$1,IF(FE1="","",FE1+1)) -> 43162 | GI1: =IF(GI2=$J$1,$B$1,IF(FT1="","",FT1+1)) -> 43163 | HA1: =IF(OR(GI1="",GI1=$B$2),"",GI1+1) -> 43164 | HP1: =IF(OR(HA1="",HA1=$B$2),"",HA1+1) -> 43165 | IE1: =IF(OR(HP1="",HP1=$B$2),"",HP1+1) -> 43166 | IT1: =IF(OR(IE1="",IE1=$B$2),"",IE1+1) -> 43167 | JI1: =IF(OR(IT1="",IT1=$B$2),"",IT1+1) -> 43168 | JX1: =IF(OR(JI1="",JI1=$B$2),"",JI1+1) -> 43169 | KM1: =IF(OR(JX1="",JX1=$B$2),"",JX1+1) -> 43170 | LE1: =IF(OR(KM1="",KM1=$B$2),"",KM1+1) -> 43171 | LT1: =IF(OR(LE1="",LE1=$B$2),"",LE1+1) -> 43172 | MI1: =IF(OR(LT1="",LT1=$B$2),"",LT1+1) -> 43173 | MX1: =IF(OR(MI1="",MI1=$B$2),"",MI1+1) -> 43174 | NM1: =IF(OR(MX1="",MX1=$B$2),"",MX1+1) -> 43175 | OB1: =IF(OR(NM1="",NM1=$B$2),"",NM1+1) -> 43176 | OQ1: =IF(OR(OB1="",OB1=$B$2),"",OB1+1) -> 43177 | PI1: =IF(OR(OQ1="",OQ1=$B$2),"",OQ1+1) -> 43178 | PX1: =IF(OR(PI1="",PI1=$B$2),"",PI1+1) -> 43179 | QM1: =IF(OR(PX1="",PX1=$B$2),"",PX1+1) -> 43180 | RB1: =IF(OR(QM1="",QM1=$B$2),"",QM1+1) -> 43181 | RQ1: =IF(OR(RB1="",RB1=$B$2),"",RB1+1) -> 43182 | SF1: =IF(OR(RQ1="",RQ1=$B$2),"",RQ1+1) -> 43183 | SU1: =IF(OR(SF1="",SF1=$B$2),"",SF1+1) -> 43184 | TM1: =IF(OR(SU1="",SU1=$B$2),"",SU1+1) -> 43185 | UB1: =IF(OR(TM1="",TM1=$B$2),"",TM1+1) -> 43186 | UQ1: =IF(OR(UB1="",UB1=$B$2),"",UB1+1) -> 43187 | VF1: =IF(OR(UQ1="",UQ1=$B$2),"",UQ1+1) -> 43188 | VU1: =IF(OR(VF1="",VF1=$B$2),"",VF1+1) -> 43189 | WJ1: =IF(OR(VU1="",VU1=$B$2),"",VU1+1) -> 43190 | WY1: =IF(OR(WJ1="",WJ1=$B$2),"",WJ1+1) | XQ1: =IF(OR(WY1="",WY1=$B$2),"",WY1+1) | YF1: =IF(OR(XQ1="",XQ1=$B$2),"",XQ1+1) | YU1: H+ | ZS1: H- | ZX1: HEURES DE NUITS | AAA1: HEURES DIMANCHES | AAD1: HEURES FERIEES | AAG1: repos compensateur | AAH1: equivalent heures | AAI1: PANIERS CONVENTIONNELS | AAJ1: MASSE BRUT hors prime | AAK1: indemnité transport | AAL1: indemnité de tenue | AAM1: prime fin d'année négociée | AAN1: primes regulière | AAO1: prime exceptionnelle | AAP1: PFA conventionnelle | AAQ1: MASSE BRUT | AAT1: % CHARGES | ABS1: Allegement charges fillon | ABW1: montant charges après allègement | ABY1: CICE | ABZ1: taux charges ristourne | ACA1: total charges globale | ACB1: MASSE BRUT totale chargée | ACC1: transport | ACD1: autre frais perso | ACE1: MSALARIALE/salarié
B2: =(EDATE(B1,1))-1 -> 43190 | C2: code chantier | D2: sites | J2: mat | CW2: lundi | DL2: mardi | EA2: mercredi | EP2: jeudi | FE2: vendredi | FT2: samedi | GI2: dimanche | HA2: lundi | HP2: mardi | IE2: mercredi | IT2: jeudi | JI2: vendredi | JX2: samedi | KM2: dimanche | LE2: lundi | LT2: mardi | MI2: mercredi | MX2: jeudi | NM2: vendredi | OB2: samedi | OQ2: dimanche | PI2: lundi | PX2: mardi | QM2: mercredi | RB2: jeudi | RQ2: vendredi | SF2: samedi | SU2: dimanche | TM2: lundi | UB2: mardi | UQ2: mercredi | VF2: jeudi | VU2: vendredi | WJ2: samedi | WY2: dimanche | XQ2: lundi | YF2: mardi
B3: secteurs | CN3: cp | CQ3: maladie | CT3: absence div | CW3: Férié | DF3: Normal | DK3: =IF(CW1="","",IF(CW1=LOOKUP(CW1,Feuil4!$A$17:$A$26),"x","")) | DL3: Férié | DU3: Normal | DZ3: =IF(DL1="","",IF(DL1=LOOKUP(DL1,Feuil4!$A$17:$A$26),"x","")) | EA3: Férié | EJ3: Normal | EO3: =IF(EA1="","",IF(EA1=LOOKUP(EA1,Feuil4!$A$17:$A$26),"x","")) | EP3: Férié | EY3: Normal | FD3: =IF(EP1="","",IF(EP1=LOOKUP(EP1,Feuil4!$A$17:$A$26),"x","")) | FE3: Férié | FN3: Normal | FS3: =IF(FE1="","",IF(FE1=LOOKUP(FE1,Feuil4!$A$17:$A$26),"x","")) | FT3: Férié | GC3: Normal | GH3: =IF(FT1="","",IF(FT1=LOOKUP(FT1,Feuil4!$A$17:$A$26),"x","")) | GI3: Férié | GR3: Normal | GZ3: =IF(GI1="","",IF(GI1=LOOKUP(GI1,Feuil4!$A$17:$A$26),"x","")) | HA3: Férié | HJ3: Normal | HO3: =IF(HA1="","",IF(HA1=LOOKUP(HA1,Feuil4!$A$17:$A$26),"x","")) | HP3: Férié | HY3: Normal | ID3: =IF(HP1="","",IF(HP1=LOOKUP(HP1,Feuil4!$A$17:$A$26),"x","")) | IE3: Férié | IN3: Normal | IS3: =IF(IE1="","",IF(IE1=LOOKUP(IE1,Feuil4!$A$17:$A$26),"x","")) | IT3: Férié | JC3: Normal | JH3: =IF(IT1="","",IF(IT1=LOOKUP(IT1,Feuil4!$A$17:$A$26),"x","")) | JI3: Férié | JR3: Normal | JW3: =IF(JI1="","",IF(JI1=LOOKUP(JI1,Feuil4!$A$17:$A$26),"x","")) | JX3: Férié | KG3: Normal | KL3: =IF(JX1="","",IF(JX1=LOOKUP(JX1,Feuil4!$A$17:$A$26),"x","")) | KM3: Férié | KV3: Normal | LD3: =IF(KM1="","",IF(KM1=LOOKUP(KM1,Feuil4!$A$17:$A$26),"x","")) | LE3: Férié | LN3: Normal | LS3: =IF(LE1="","",IF(LE1=LOOKUP(LE1,Feuil4!$A$17:$A$26),"x","")) | LT3: Férié | MC3: Normal | MH3: =IF(LT1="","",IF(LT1=LOOKUP(LT1,Feuil4!$A$17:$A$26),"x","")) | MI3: Férié | MR3: Normal | MW3: =IF(MI1="","",IF(MI1=LOOKUP(MI1,Feuil4!$A$17:$A$26),"x","")) | MX3: Férié | NG3: Normal | NL3: =IF(MX1="","",IF(MX1=LOOKUP(MX1,Feuil4!$A$17:$A$26),"x","")) | NM3: Férié | NV3: Normal | OA3: =IF(NM1="","",IF(NM1=LOOKUP(NM1,Feuil4!$A$17:$A$26),"x","")) | OB3: Férié | OK3: Normal | OP3: =IF(OB1="","",IF(OB1=LOOKUP(OB1,Feuil4!$A$17:$A$26),"x","")) | OQ3: Férié | OZ3: Normal | PH3: =IF(OQ1="","",IF(OQ1=LOOKUP(OQ1,Feuil4!$A$17:$A$26),"x","")) | PI3: Férié | PR3: Normal | PW3: =IF(PI1="","",IF(PI1=LOOKUP(PI1,Feuil4!$A$17:$A$26),"x","")) | PX3: Férié | QG3: Normal | QL3: =IF(PX1="","",IF(PX1=LOOKUP(PX1,Feuil4!$A$17:$A$26),"x","")) | QM3: Férié | QV3: Normal | RA3: =IF(QM1="","",IF(QM1=LOOKUP(QM1,Feuil4!$A$17:$A$26),"x","")) | RB3: Férié | RK3: Normal | RP3: =IF(RB1="","",IF(RB1=LOOKUP(RB1,Feuil4!$A$17:$A$26),"x","")) | RQ3: Férié | RZ3: Normal | SE3: =IF(RQ1="","",IF(RQ1=LOOKUP(RQ1,Feuil4!$A$17:$A$26),"x","")) | SF3: Férié | SO3: Normal | ST3: =IF(SF1="","",IF(SF1=LOOKUP(SF1,Feuil4!$A$17:$A$26),"x","")) | SU3: Férié | TD3: Normal | TL3: =IF(SU1="","",IF(SU1=LOOKUP(SU1,Feuil4!$A$17:$A$26),"x","")) | TM3: Férié | TV3: Normal | UA3: =IF(TM1="","",IF(TM1=LOOKUP(TM1,Feuil4!$A$17:$A$26),"x","")) | UB3: Férié | UK3: Normal | UP3: =IF(UB1="","",IF(UB1=LOOKUP(UB1,Feuil4!$A$17:$A$26),"x","")) | UQ3: Férié | UZ3: Normal | VE3: =IF(UQ1="","",IF(UQ1=LOOKUP(UQ1,Feuil4!$A$17:$A$26),"x","")) | VF3: Férié | VO3: Normal | VT3: =IF(VF1="","",IF(VF1=LOOKUP(VF1,Feuil4!$A$17:$A$26),"x","")) | VU3: Férié | WD3: Normal | WI3: =IF(VU1="","",IF(VU1=LOOKUP(VU1,Feuil4!$A$17:$A$26),"x","")) | WJ3: Férié | WS3: Normal | WX3: =IF(WJ1="","",IF(WJ1=LOOKUP(WJ1,Feuil4!$A$17:$A$26),"x","")) | WY3: Férié | XH3: Normal | XP3: =IF(WY1="","",IF(WY1=LOOKUP(WY1,Feuil4!$A$17:$A$26),"x","")) | XQ3: Férié | XZ3: Normal | YE3: =IF(XQ1="","",IF(XQ1=LOOKUP(XQ1,Feuil4!$A$17:$A$26),"x","")) | YF3: Férié | YO3: Normal | YT3: =IF(YF1="","",IF(YF1=LOOKUP(YF1,Feuil4!$A$17:$A$26),"x","")) | ZX3: total | ZY3: 0.2 | ZZ3: 1 | AAA3: total | AAB3: 0.2 | AAC3: 1 | AAD3: total | AAE3: 0.5 | AAF3: 1
DF4: 1er mai | DK4: =IF(CW1=43221,"x","") | DU4: 1er mai | DZ4: =IF(DL1=43221,"x","") | EJ4: 1er mai | EO4: =IF(EA1=43221,"x","") | EY4: 1er mai | FD4: =IF(EP1=43221,"x","") | FN4: 1er mai | FS4: =IF(FE1=43221,"x","") | GC4: 1er mai | GH4: =IF(FT1=43221,"x","") | GR4: 1er mai | GZ4: =IF(GI1=43221,"x","") | HJ4: 1er mai | HO4: =IF(HA1=43221,"x","") | HY4: 1er mai | ID4: =IF(HP1=43221,"x","") | IN4: 1er mai | IS4: =IF(IE1=43221,"x","") | JC4: 1er mai | JH4: =IF(IT1=43221,"x","") | JR4: 1er mai | JW4: =IF(JI1=43221,"x","") | KG4: 1er mai | KL4: =IF(JX1=43221,"x","") | KV4: 1er mai | LD4: =IF(KM1=43221,"x","") | LN4: 1er mai | LS4: =IF(LE1=43221,"x","") | MC4: 1er mai | MH4: =IF(LT1=43221,"x","") | MR4: 1er mai | MW4: =IF(MI1=43221,"x","") | NG4: 1er mai | NL4: =IF(MX1=43221,"x","") | NV4: 1er mai | OA4: =IF(NM1=43221,"x","") | OK4: 1er mai | OP4: =IF(OB1=43221,"x","") | OZ4: 1er mai | PH4: =IF(OQ1=43221,"x","") | PR4: 1er mai | PW4: =IF(PI1=43221,"x","") | QG4: 1er mai | QL4: =IF(PX1=43221,"x","") | QV4: 1er mai | RA4: =IF(QM1=43221,"x","") | RK4: 1er mai | RP4: =IF(RB1=43221,"x","") | RZ4: 1er mai | SE4: =IF(RQ1=43221,"x","") | SO4: 1er mai | ST4: =IF(SF1=43221,"x","") | TD4: 1er mai | TL4: =IF(SU1=43221,"x","") | TV4: 1er mai | UA4: =IF(TM1=43221,"x","") | UK4: 1er mai | UP4: =IF(UB1=43221,"x","") | UZ4: 1er mai | VE4: =IF(UQ1=43221,"x","") | VO4: 1er mai | VT4: =IF(VF1=43221,"x","") | WD4: 1er mai | WI4: =IF(VU1=43221,"x","") | WS4: 1er mai | WX4: =IF(WJ1=43221,"x","") | XH4: 1er mai | XP4: =IF(WY1=43221,"x","") | XZ4: 1er mai | YE4: =IF(XQ1=43221,"x","") | YO4: 1er mai | YT4: =IF(YF1=43221,"x","") | YU4: Total | YV4: semaine 1 | YW4: semaine 2 | YX4: semaine 3 | YY4: semaine 4 | YZ4: semaine 5 | ZA4: semaine 6 | ZB4: hcomp 10% | ZC4: hcomp 25% | ZD4: hsup 25% | ZE4: semaine 1 | ZF4: semaine 2 | ZG4: semaine 3 | ZH4: semaine 4 | ZI4: semaine 5 | ZJ4: semaine 6 | ZK4: hsup 50% | ZL4: semaine 1 | ZM4: semaine 2 | ZN4: semaine 3 | ZO4: semaine 4 | ZP4: semaine 5 | ZQ4: semaine 6 | ZR4: equivalent en h | ZS4: Total | ZT4: H- cp | ZU4: H- mal, div | ZV4: H- absence div | ZW4: H- planning | AAT4: 0.04 | AAU4: 0.003 | AAV4: 0.133 | AAW4: 0.083 | AAX4: 0.00016 | AAY4: 0.08 | AAZ4: 0.0345 | ABA4: 0.005 | ABB4: 0.0025 | ABC4: 0.0295 | ABD4: 0.081 | ABE4: 0.0015 | ABF4: 0.019 | ABG4: 0.0391 | ABH4: 0.012 | ABI4: 0.1215 | ABJ4: 0.0069 | ABK4: 0.001 | ABL4: 0.03 | ABM4: 0.01 | ABN4: 0.0068 | ABO4: 0.0256 | ABP4: mutuelle | ABQ4: 0.004 | ABR4: TOTAL | ABS4: SMIC HORAIRE | ABV4: 9.88
R5: Ville | S5: CP | U5: date | V5: années | AI5: HD | AJ5: HF | AK5: pause | AL5: NBRE H | AM5: hn 0h-6h | AN5: hn 21h-24h | AO5: HNUIT | AP5: panier | AQ5: HD | AR5: HF | AS5: pause | AT5: NBRE H | AU5: hn 0h-6h | AV5: hn 21h-24h | AW5: HNUIT | AX5: panier | AY5: HD | AZ5: HF | BA5: pause | BB5: NBRE H | BC5: hn 0h-6h | BD5: hn 21h-24h | BE5: HNUIT | BF5: panier | BG5: HD | BH5: HF | BI5: pause | BJ5: NBRE H | BK5: hn 0h-6h | BL5: hn 21h-24h | BM5: HNUIT | BN5: panier | BO5: HD | BP5: HF | BQ5: pause | BR5: NBRE H | BS5: hn 0h-6h | BT5: hn 21h-24h | BU5: HNUIT | BV5: panier | BW5: HD | BX5: HF | BY5: pause | BZ5: NBRE H | CA5: hn 0h-6h | CB5: hn 21h-24h | CC5: HNUIT | CD5: panier | CE5: HD | CF5: HF | CG5: pause | CH5: NBRE H | CI5: hn 0h-6h | CJ5: hn 21h-24h | CK5: HNUIT | CL5: HDIMANCHE | CM5: panier | CN5: dd | CO5: df | CP5: remplacement | CQ5: dd | CR5: df | CS5: remplacement | CT5: dd | CU5: df | CV5: remplacement | CW5: cp | CX5: maladie | CY5: absence div | CZ5: H+ | DA5: H- cp | DB5: H- mal, div | DC5: H- absence div | DD5: H- planning | DE5: HNR | DF5: HN+ | DG5: HN- | DH5: HFR | DI5: HF+ | DJ5: HF- | DK5: PANIER | DL5: cp | DM5: maladie | DN5: absence div | DO5: H+ | DP5: H- cp | DQ5: H- mal, div | DR5: H- absence div | DS5: H- planning | DT5: HNR | DU5: HN+ | DV5: HN- | DW5: HFR | DX5: HF+ | DY5: HF- | DZ5: PANIER | EA5: cp | EB5: maladie | EC5: absence div | ED5: H+ | EE5: H- cp | EF5: H- mal, div | EG5: H- absence div | EH5: H- planning | EI5: HNR | EJ5: HN+ | EK5: HN- | EL5: HFR | EM5: HF+ | EN5: HF- | EO5: PANIER | EP5: cp | EQ5: maladie | ER5: absence div | ES5: H+ | ET5: H- cp | EU5: H- mal, div | EV5: H- absence div | EW5: H- planning | EX5: HNR | EY5: HN+ | EZ5: HN- | FA5: HFR | FB5: HF+ | FC5: HF- | FD5: PANIER | FE5: cp | FF5: maladie | FG5: absence div | FH5: H+ | FI5: H- cp | FJ5: H- mal, div | FK5: H- absence div | FL5: H- planning | FM5: HNR | FN5: HN+ | FO5: HN- | FP5: HFR | FQ5: HF+ | FR5: HF- | FS5: PANIER | FT5: cp | FU5: maladie | FV5: absence div | FW5: H+ | FX5: H- cp | FY5: H- mal, div | FZ5: H- absence div | GA5: H- planning | GB5: HNR | GC5: HN+ | GD5: HN- | GE5: HFR | GF5: HF+ | GG5: HF- | GH5: PANIER | GI5: cp | GJ5: maladie | GK5: absence div | GL5: H+ | GM5: H- cp | GN5: H- mal, div | GO5: H- absence div | GP5: H- planning | GQ5: HNR | GR5: HN+ | GS5: HN- | GT5: HFR | GU5: HF+ | GV5: HF- | GW5: HDIMANCHE R | GX5: HD+ | GY5: HD- | GZ5: PANIER | HA5: cp | HB5: maladie | HC5: absence div | HD5: H+ | HE5: H- cp | HF5: H- mal, div | HG5: H- absence div | HH5: H- planning | HI5: HNR | HJ5: HN+ | HK5: HN- | HL5: HFR | HM5: HF+ | HN5: HF- | HO5: PANIER | HP5: cp | HQ5: maladie | HR5: absence div | HS5: H+ | HT5: H- cp | HU5: H- mal, div | HV5: H- absence div | HW5: H- planning | HX5: HNR | HY5: HN+ | HZ5: HN- | IA5: HFR | IB5: HF+ | IC5: HF- | ID5: PANIER | IE5: cp | IF5: maladie | IG5: absence div | IH5: H+ | II5: H- cp | IJ5: H- mal, div | IK5: H- absence div | IL5: H- planning | IM5: HNR | IN5: HN+ | IO5: HN- | IP5: HFR | IQ5: HF+ | IR5: HF- | IS5: PANIER | IT5: cp | IU5: maladie | IV5: absence div | IW5: H+ | IX5: H- cp | IY5: H- mal, div | IZ5: H- absence div | JA5: H- planning | JB5: HNR | JC5: HN+ | JD5: HN- | JE5: HFR | JF5: HF+ | JG5: HF- | JH5: PANIER | JI5: cp | JJ5: maladie | JK5: absence div | JL5: H+ | JM5: H- cp | JN5: H- mal, div | JO5: H- absence div | JP5: H- planning | JQ5: HNR | JR5: HN+ | JS5: HN- | JT5: HFR | JU5: HF+ | JV5: HF- | JW5: PANIER | JX5: cp | JY5: maladie | JZ5: absence div | KA5: H+ | KB5: H- cp | KC5: H- mal, div | KD5: H- absence div | KE5: H- planning | KF5: HNR | KG5: HN+ | KH5: HN- | KI5: HFR | KJ5: HF+ | KK5: HF- | KL5: PANIER | KM5: cp | KN5: maladie | KO5: absence div | KP5: H+ | KQ5: H- cp | KR5: H- mal, div | KS5: H- absence div | KT5: H- planning | KU5: HNR | KV5: HN+ | KW5: HN- | KX5: HFR | KY5: HF+ | KZ5: HF- | LA5: HDIMANCHE R | LB5: HD+ | LC5: HD- | LD5: PANIER | LE5: cp | LF5: maladie | LG5: absence div | LH5: H+ | LI5: H- cp | LJ5: H- mal, div | LK5: H- absence div | LL5: H- planning | LM5: HNR | LN5: HN+ | LO5: HN- | LP5: HFR | LQ5: HF+ | LR5: HF- | LS5: PANIER | LT5: cp | LU5: maladie | LV5: absence div | LW5: H+ | LX5: H- cp | LY5: H- mal, div | LZ5: H- absence div | MA5: H- planning | MB5: HNR | MC5: HN+ | MD5: HN- | ME5: HFR | MF5: HF+ | MG5: HF- | MH5: PANIER | MI5: cp | MJ5: maladie | MK5: absence div | ML5: H+ | MM5: H- cp | MN5: H- mal, div | MO5: H- absence div | MP5: H- planning | MQ5: HNR | MR5: HN+ | MS5: HN- | MT5: HFR | MU5: HF+ | MV5: HF- | MW5: PANIER | MX5: cp | MY5: maladie | MZ5: absence div | NA5: H+ | NB5: H- cp | NC5: H- mal, div | ND5: H- absence div | NE5: H- planning | NF5: HNR | NG5: HN+ | NH5: HN- | NI5: HFR | NJ5: HF+ | NK5: HF- | NL5: PANIER | NM5: cp | NN5: maladie | NO5: absence div | NP5: H+ | NQ5: H- cp | NR5: H- mal, div | NS5: H- absence div | NT5: H- planning | NU5: HNR | NV5: HN+ | NW5: HN- | NX5: HFR | NY5: HF+ | NZ5: HF- | OA5: PANIER | OB5: cp | OC5: maladie | OD5: absence div | OE5: H+ | OF5: H- cp | OG5: H- mal, div | OH5: H- absence div | OI5: H- planning | OJ5: HNR | OK5: HN+ | OL5: HN- | OM5: HFR | ON5: HF+ | OO5: HF- | OP5: PANIER | OQ5: cp | OR5: maladie | OS5: absence div | OT5: H+ | OU5: H- cp | OV5: H- mal, div | OW5: H- absence div | OX5: H- planning | OY5: HNR | OZ5: HN+ | PA5: HN- | PB5: HFR | PC5: HF+ | PD5: HF- | PE5: HDIMANCHE R | PF5: HD+ | PG5: HD- | PH5: PANIER | PI5: cp | PJ5: maladie | PK5: absence div | PL5: H+ | PM5: H- cp | PN5: H- mal, div | PO5: H- absence div | PP5: H- planning | PQ5: HNR | PR5: HN+ | PS5: HN- | PT5: HFR | PU5: HF+ | PV5: HF- | PW5: PANIER | PX5: cp | PY5: maladie | PZ5: absence div | QA5: H+ | QB5: H- cp | QC5: H- mal, div | QD5: H- absence div | QE5: H- planning | QF5: HNR | QG5: HN+ | QH5: HN- | QI5: HFR | QJ5: HF+ | QK5: HF- | QL5: PANIER | QM5: cp | QN5: maladie | QO5: absence div | QP5: H+ | QQ5: H- cp | QR5: H- mal, div | QS5: H- absence div | QT5: H- planning | QU5: HNR | QV5: HN+ | QW5: HN- | QX5: HFR | QY5: HF+ | QZ5: HF- | RA5: PANIER | RB5: cp | RC5: maladie | RD5: absence div | RE5: H+ | RF5: H- cp | RG5: H- mal, div | RH5: H- absence div | RI5: H- planning | RJ5: HNR | RK5: HN+ | RL5: HN- | RM5: HFR | RN5: HF+ | RO5: HF- | RP5: PANIER | RQ5: cp | RR5: maladie | RS5: absence div | RT5: H+ | RU5: H- cp | RV5: H- mal, div | RW5: H- absence div | RX5: H- planning | RY5: HNR | RZ5: HN+ | SA5: HN- | SB5: HFR | SC5: HF+ | SD5: HF- | SE5: PANIER | SF5: cp | SG5: maladie | SH5: absence div | SI5: H+ | SJ5: H- cp | SK5: H- mal, div | SL5: H- absence div | SM5: H- planning | SN5: HNR | SO5: HN+ | SP5: HN- | SQ5: HFR | SR5: HF+ | SS5: HF- | ST5: PANIER | SU5: cp | SV5: maladie | SW5: absence div | SX5: H+ | SY5: H- cp | SZ5: H- mal, div | TA5: H- absence div | TB5: H- planning | TC5: HNR | TD5: HN+ | TE5: HN- | TF5: HFR | TG5: HF+ | TH5: HF- | TI5: HDIMANCHE R | TJ5: HD+ | TK5: HD- | TL5: PANIER | TM5: cp | TN5: maladie | TO5: absence div | TP5: H+ | TQ5: H- cp | TR5: H- mal, div | TS5: H- absence div | TT5: H- planning | TU5: HNR | TV5: HN+ | TW5: HN- | TX5: HFR | TY5: HF+ | TZ5: HF- | UA5: PANIER | UB5: cp | UC5: maladie | UD5: absence div | UE5: H+ | UF5: H- cp | UG5: H- mal, div | UH5: H- absence div | UI5: H- planning | UJ5: HNR | UK5: HN+ | UL5: HN- | UM5: HFR | UN5: HF+ | UO5: HF- | UP5: PANIER | UQ5: cp | UR5: maladie | US5: absence div | UT5: H+ | UU5: H- cp | UV5: H- mal, div | UW5: H- absence div | UX5: H- planning | UY5: HNR | UZ5: HN+ | VA5: HN- | VB5: HFR | VC5: HF+ | VD5: HF- | VE5: PANIER | VF5: cp | VG5: maladie | VH5: absence div | VI5: H+ | VJ5: H- cp | VK5: H- mal, div | VL5: H- absence div | VM5: H- planning | VN5: HNR | VO5: HN+ | VP5: HN- | VQ5: HFR | VR5: HF+ | VS5: HF- | VT5: PANIER | VU5: cp | VV5: maladie | VW5: absence div | VX5: H+ | VY5: H- cp | VZ5: H- mal, div | WA5: H- absence div | WB5: H- planning | WC5: HNR | WD5: HN+ | WE5: HN- | WF5: HFR | WG5: HF+ | WH5: HF- | WI5: PANIER | WJ5: cp | WK5: maladie | WL5: absence div | WM5: H+ | WN5: H- cp | WO5: H- mal, div | WP5: H- absence div | WQ5: H- planning | WR5: HNR | WS5: HN+ | WT5: HN- | WU5: HFR | WV5: HF+ | WW5: HF- | WX5: PANIER | WY5: cp | WZ5: maladie | XA5: absence div | XB5: H+ | XC5: H- cp | XD5: H- mal, div | XE5: H- absence div | XF5: H- planning | XG5: HNR | XH5: HN+ | XI5: HN- | XJ5: HFR | XK5: HF+ | XL5: HF- | XM5: HDIMANCHE R | XN5: HD+ | XO5: HD- | XP5: PANIER | XQ5: cp | XR5: maladie | XS5: absence div | XT5: H+ | XU5: H- cp | XV5: H- mal, div | XW5: H- absence div | XX5: H- planning | XY5: HNR | XZ5: HN+ | YA5: HN- | YB5: HFR | YC5: HF+ | YD5: HF- | YE5: PANIER | YF5: cp | YG5: maladie | YH5: absence div | YI5: H+ | YJ5: H- cp | YK5: H- mal, div | YL5: H- absence div | YM5: H- planning | YN5: HNR | YO5: HN+ | YP5: HN- | YQ5: HFR | YR5: HF+ | YS5: HF- | YT5: PANIER | AAI5: 7.14 | AAQ5: masse hors prov cp | AAR5: prov cp | AAS5: totale | AAT5: cotisation caisse cp | AAU5: Ristourne cp | AAV5: Assurance maladie | AAW5: Assurance vieillesse déplafonnée | AAX5: complement dialogue social | AAY5: forfait social | AAZ5: Allocations familiales | ABA5: ss fnal | ABB5: comp veil. | ABC5: ss transport | ABD5: Cotisation chômage tra + rg | ABE5: Cotisation chômage fngs/ag-rg | ABF5: ss veil | ABG5: ARCCO TRANCHE 1 | ABH5: ARCCO AGFF TR1 | ABI5: Retraite complémentaire non cadre (tranche B) | ABJ5: prev | ABK5: prev fiscale | ABL5: ss fnal maj cp+urc trsp maj cp | ABM5: Formation professionnelle | ABN5: Taxe apprentissage | ABO5: AT | ABQ5: COTISATION CE | ABS5: SMIC Fillon | ABT5: Coefficient | ABU5: Arrondi | ABV5: Réduction | ABY5: 0.06 | ACC5: NAVIGO
A6: 1 | B6: FABRICE | D6: A+ FINANCE | G6: 59.58 | H6: =AH6 -> 59.583333 | I6: =H6-G6 -> 0.0033333333 | J6: 000000540446 | K6: =VLOOKUP(J6,MATRICULE,2,0) -> FOFANA | L6: =VLOOKUP(J6,MATRICULE,3,0) -> MACENA | M6: =VLOOKUP(J6,MATRICULE,6,0) -> 27457.042 | N6: =IF(M6="","",(TODAY()-M6)/365) -> 43.186187 | O6: =VLOOKUP(J6,MATRICULE,4,0) -> 2750399326172 | P6: =VLOOKUP(J6,MATRICULE,5,0) -> Féminin | Q6: =VLOOKUP(J6,MATRICULE,7,0) -> Côte d'Ivoire | R6: =VLOOKUP(J6,MATRICULE,13,0) -> PARIS | S6: =VLOOKUP(J6,MATRICULE,12,0) -> 75020 | U6: =LOOKUP(J6,'données salariés'!$N$2:$O$626) -> 38840.083 | V6: =IF(U6="","",(TODAY()-U6)/365) -> 11.999772 | W6: cdi | Y6: x | Z6: =LOOKUP(J6,'données salariés'!$T$2:$U$630) -> AS1A | AA6: =IF(ISTEXT(Z6),VLOOKUP(Z6,TX,2,0),0) -> 10.11 | AB6: =IF(ISTEXT(W6),VLOOKUP(W6,CONT,2,0),0) -> 0 | AC6: =AA6*(1+AB6) -> 10.11 | AD6: =IF(V6="","",LOOKUP(V6,'base salaire'!$A$36:$B$42)) -> 0.05 | AH6: =(AL6+AT6+BB6+BJ6+BR6+BZ6+CH6)*52/12 -> 59.583333 | AI6: 0.25 | AJ6: 0.36458333 | AL6: =((AJ6-AI6)*24)-AK6 -> 2.75 | AM6: =IF(ISNUMBER(AI6),IF(AI6>(4.99/24),0,IF(AJ6>(6/24),((6/24)-AI6)*24,(AJ6-AI6)*24)),) -> 0 | AN6: =IF(ISNUMBER(AI6),IF(AJ6>(21/24),IF(AI6>=(21/24),(AJ6-AI6)*24,(AJ6-(21/24))*24),),) -> 0 | AO6: =AM6+AN6 -> 0 | AQ6: 0.25 | AR6: 0.36458333 | AT6: =((AR6-AQ6)*24)-AS6 -> 2.75 | AU6: =IF(ISNUMBER(AQ6),IF(AQ6>(4.99/24),0,IF(AR6>(6/24),((6/24)-AQ6)*24,(AR6-AQ6)*24)),) -> 0 | AV6: =IF(ISNUMBER(AQ6),IF(AR6>(21/24),IF(AQ6>=(21/24),(AR6-AQ6)*24,(AR6-(21/24))*24),),) -> 0 | AW6: =AU6+AV6 -> 0 | AY6: 0.25 | AZ6: 0.36458333 | BB6: =((AZ6-AY6)*24)-BA6 -> 2.75 | BC6: =IF(ISNUMBER(AY6),IF(AY6>(4.99/24),0,IF(AZ6>(6/24),((6/24)-AY6)*24,(AZ6-AY6)*24)),) -> 0 | BD6: =IF(ISNUMBER(AY6),IF(AZ6>(21/24),IF(AY6>=(21/24),(AZ6-AY6)*24,(AZ6-(21/24))*24),),) -> 0 | BE6: =BC6+BD6 -> 0 | BG6: 0.25 | BH6: 0.36458333 | BJ6: =((BH6-BG6)*24)-BI6 -> 2.75 | BK6: =IF(ISNUMBER(BG6),IF(BG6>(4.99/24),0,IF(BH6>(6/24),((6/24)-BG6)*24,(BH6-BG6)*24)),) -> 0 | BL6: =IF(ISNUMBER(BG6),IF(BH6>(21/24),IF(BG6>=(21/24),(BH6-BG6)*24,(BH6-(21/24))*24),),) -> 0 | BM6: =BK6+BL6 -> 0 | BO6: 0.25 | BP6: 0.36458333 | BR6: =((BP6-BO6)*24)-BQ6 -> 2.75 | BS6: =IF(ISNUMBER(BO6),IF(BO6>(4.99/24),0,IF(BP6>(6/24),((6/24)-BO6)*24,(BP6-BO6)*24)),) -> 0 | BT6: =IF(ISNUMBER(BO6),IF(BP6>(21/24),IF(BO6>=(21/24),(BP6-BO6)*24,(BP6-(21/24))*24),),) -> 0 | BU6: =BS6+BT6 -> 0 | BZ6: =((BX6-BW6)*24)-BY6 -> 0 | CA6: =IF(ISNUMBER(BW6),IF(BW6>(4.99/24),0,IF(BX6>(6/24),((6/24)-BW6)*24,(BX6-BW6)*24)),) -> 0 | CB6: =IF(ISNUMBER(BW6),IF(BX6>(21/24),IF(BW6>=(21/24),(BX6-BW6)*24,(BX6-(21/24))*24),),) -> 0 | CC6: =CA6+CB6 -> 0 | CH6: =((CF6-CE6)*24)-CG6 -> 0 | CI6: =IF(ISNUMBER(CE6),IF(CE6>(4.99/24),0,IF(CF6>(6/24),((6/24)-CE6)*24,(CF6-CE6)*24)),) -> 0 | CJ6: =IF(ISNUMBER(CE6),IF(CF6>(21/24),IF(CE6>=(21/24),(CF6-CE6)*24,(CF6-(21/24))*24),),) -> 0 | CK6: =CI6+CJ6 -> 0 | CL6: =IF(ISTEXT(AF6),CH6,) -> 0 | CW6: =IF($CN6="","",IF(AND(CW$1>=$CN6,CW$1<=$CO6,$AG6="",OR(DK$3="",DK$4="")),1,"")) | CX6: =IF($CQ6="","",IF(AND(CW$1>=$CQ6,CW$1<=$CR6),1,"")) | CY6: =IF($CT6="","",IF(AND(CW$1>=$CT6,CW$1<=$CU6),1,"")) | DA6: =IF(ISNUMBER(CW$1),IF(AND(DK$3="",DK$4=""),IF(CW6="",,-($AL6)),),) -> 0 | DB6: =IF(ISNUMBER(CW$1),IF(CX6="",,-($AL6)),) -> 0 | DC6: =IF(ISNUMBER(CW$1),IF(CY6="",,-($AL6)),) -> 0 | DE6: =IF(ISNUMBER(CW$1),IF(AND(CW6="",CX6="",CY6=""),IF(ISNUMBER($AO6),$AO6,),),) -> 0 | DH6: =IF(ISNUMBER(CW$1),IF($AG6="",,IF(AND(CW6="",CX6="",CY6=""),IF(AND(DK$3="",DK$4=""),,IF(DK$4="",$BZ6,$BZ6*2)),)),) -> 0 | DI6: =IF(AND(CZ6="",OR(DK$3="",DK$4="")),0,CZ6) -> 0 | DJ6: =IF(AND(DD6="",OR(DL$3="",DL$4="")),0,DD6) -> 0 | DK6: =IF(ISNUMBER(CW$1),IF(AND(CW6="",CX6="",CY6=""),IF(ISNUMBER($AP6),$AP6,),),) -> 0 | DL6: =IF($CN6="","",IF(AND(DL$1>=$CN6,DL$1<=$CO6,$AG6="",OR(DZ$3="",DZ$4="")),1,"")) | DM6: =IF($CQ6="","",IF(AND(DL$1>=$CQ6,DL$1<=$CR6),1,"")) | DN6: =IF($CT6="","",IF(AND(DL$1>=$CT6,DL$1<=$CU6),1,"")) | DP6: =IF(ISNUMBER(DL$1),IF(AND(DZ$3="",DZ$4=""),IF(DL6="",,-($AT6)),),) -> 0 | DQ6: =IF(ISNUMBER(DL$1),IF(DM6="",,-($AT6)),) -> 0 | DR6: =IF(ISNUMBER(DL$1),IF(DN6="",,-($AT6)),) -> 0 | DT6: =IF(ISNUMBER(DL$1),IF(AND(DL6="",DM6="",DN6=""),IF(ISNUMBER($AW6),$AW6,),),) -> 0 | DW6: =IF(ISNUMBER(DL$1),IF($AG6="",,IF(AND(DL6="",DM6="",DN6=""),IF(AND(DZ$3="",DZ$4=""),,IF(DZ$4="",$BZ6,$BZ6*2)),)),) -> 0 | DX6: =IF(AND(DO6="",OR(DZ$3="",DZ$4="")),0,DO6) -> 0 | DY6: =IF(AND(DS6="",OR(EA$3="",EA$4="")),0,DS6) -> 0 | DZ6: =IF(ISNUMBER(DL$1),IF(AND(DL6="",DM6="",DN6=""),IF(ISNUMBER($AX6),$AX6,),),) -> 0 | EA6: =IF($CN6="","",IF(AND(EA$1>=$CN6,EA$1<=$CO6,$AG6="",OR(EO$3="",EO$4="")),1,"")) | EB6: =IF($CQ6="","",IF(AND(EA$1>=$CQ6,EA$1<=$CR6),1,"")) | EC6: =IF($CT6="","",IF(AND(EA$1>=$CT6,EA$1<=$CU6),1,"")) | EE6: =IF(ISNUMBER(EA$1),IF(AND(EO$3="",EO$4=""),IF(EA6="",,-($BB6)),),) -> 0 | EF6: =IF(ISNUMBER(EA$1),IF(EB6="",,-($BB6)),) -> 0 | EG6: =IF(ISNUMBER(EA$1),IF(EC6="",,-($BB6)),) -> 0 | EI6: =IF(ISNUMBER(EA$1),IF(AND(EA6="",EB6="",EC6=""),IF(ISNUMBER($BE6),$BE6,),),) -> 0 | EL6: =IF(ISNUMBER(EA$1),IF($AG6="",,IF(AND(EA6="",EB6="",EC6=""),IF(AND(EO$3="",EO$4=""),,IF(EO$4="",$BZ6,$BZ6*2)),)),) -> 0 | EM6: =IF(AND(ED6="",OR(EO$3="",EO$4="")),0,ED6) -> 0 | EN6: =IF(AND(EH6="",OR(EP$3="",EP$4="")),0,EH6) -> 0 | EO6: =IF(ISNUMBER(EA$1),IF(AND(EA6="",EB6="",EC6=""),IF(ISNUMBER($BF6),$BF6,),),) -> 0 | EP6: =IF($CN6="","",IF(AND(EP$1>=$CN6,EP$1<=$CO6,$AG6="",OR(FD$3="",FD$4="")),1,"")) | EQ6: =IF($CQ6="","",IF(AND(EP$1>=$CQ6,EP$1<=$CR6),1,"")) | ER6: =IF($CT6="","",IF(AND(EP$1>=$CT6,EP$1<=$CU6),1,"")) | ET6: =IF(ISNUMBER(EP$1),IF(AND(FD$3="",FD$4=""),IF(EP6="",,-($BJ6)),),) -> 0 | EU6: =IF(ISNUMBER(EP$1),IF(EQ6="",,-($BJ6)),) -> 0 | EV6: =IF(ISNUMBER(EP$1),IF(ER6="",,-($BJ6)),) -> 0 | EX6: =IF(ISNUMBER(EP$1),IF(AND(EP6="",EQ6="",ER6=""),IF(ISNUMBER($BM6),$BM6,),),) -> 0 | FA6: =IF(ISNUMBER(EP$1),IF($AG6="",,IF(AND(EP6="",EQ6="",ER6=""),IF(AND(FD$3="",FD$4=""),,IF(FD$4="",$BZ6,$BZ6*2)),)),) -> 0 | FB6: =IF(AND(ES6="",OR(FD$3="",FD$4="")),0,ES6) -> 0 | FC6: =IF(AND(EW6="",OR(FE$3="",FE$4="")),0,EW6) -> 0 | FD6: =IF(ISNUMBER(EP$1),IF(AND(EP6="",EQ6="",ER6=""),IF(ISNUMBER($BN6),$BN6,),),) -> 0 | FE6: =IF($CN6="","",IF(AND(FE$1>=$CN6,FE$1<=$CO6,$AG6="",OR(FS$3="",FS$4="")),1,"")) | FF6: =IF($CQ6="","",IF(AND(FE$1>=$CQ6,FE$1<=$CR6),1,"")) | FG6: =IF($CT6="","",IF(AND(FE$1>=$CT6,FE$1<=$CU6),1,"")) | FI6: =IF(ISNUMBER(FE$1),IF(AND(FS$3="",FS$4=""),IF(FE6="",,-($BR6)),),) -> 0 | FJ6: =IF(ISNUMBER(FE$1),IF(FF6="",,-($BR6)),) -> 0 | FK6: =IF(ISNUMBER(FE$1),IF(FG6="",,-($BR6)),) -> 0 | FM6: =IF(ISNUMBER(FE$1),IF(AND(FE6="",FF6="",FG6=""),IF(ISNUMBER($BU6),$BU6,),),) -> 0 | FP6: =IF(ISNUMBER(FE$1),IF($AG6="",,IF(AND(FE6="",FF6="",FG6=""),IF(AND(FS$3="",FS$4=""),,IF(FS$4="",$BZ6,$BZ6*2)),)),) -> 0 | FQ6: =IF(AND(FH6="",OR(FS$3="",FS$4="")),0,FH6) -> 0 | FR6: =IF(AND(FL6="",OR(FT$3="",FT$4="")),0,FL6) -> 0 | FS6: =IF(ISNUMBER(FE$1),IF(AND(FE6="",FF6="",FG6=""),IF(ISNUMBER($BV6),$BV6,),),) -> 0 | FT6: =IF($CN6="","",IF(AND(FT$1>=$CN6,FT$1<=$CO6,$AG6="",OR(GH$3="",GH$4="")),1,"")) | FU6: =IF($CQ6="","",IF(AND(FT$1>=$CQ6,FT$1<=$CR6),1,"")) | FV6: =IF($CT6="","",IF(AND(FT$1>=$CT6,FT$1<=$CU6),1,"")) | FX6: =IF(ISNUMBER(FT$1),IF(AND(GH$3="",GH$4=""),IF(FT6="",,-($BZ6)),),) -> 0 | FY6: =IF(ISNUMBER(FT$1),IF(FU6="",,-($BZ6)),) -> 0 | FZ6: =IF(ISNUMBER(FT$1),IF(FV6="",,-($BZ6)),) -> 0 | GB6: =IF(ISNUMBER(FT$1),IF(AND(FT6="",FU6="",FV6=""),IF(ISNUMBER($CC6),$CC6,),),) -> 0 | GE6: =IF(ISNUMBER(FT$1),IF($AG6="",,IF(AND(FT6="",FU6="",FV6=""),IF(AND(GH$3="",GH$4=""),,IF(GH$4="",$BZ6,$BZ6*2)),)),) -> 0 | GF6: =IF(AND(FW6="",OR(GH$3="",GH$4="")),0,FW6) -> 0 | GG6: =IF(AND(GA6="",OR(GI$3="",GI$4="")),0,GA6) -> 0 | GH6: =IF(ISNUMBER(FT$1),IF(AND(FT6="",FU6="",FV6=""),IF(ISNUMBER($CD6),$CD6,),),) -> 0 | GI6: =IF($CN6="","",IF(AND(GI$1>=$CN6,GI$1<=$CO6,$AG6="",OR(GW$3="",GW$4="")),1,"")) | GJ6: =IF($CQ6="","",IF(AND(GI$1>=$CQ6,GI$1<=$CR6),1,"")) | GK6: =IF($CT6="","",IF(AND(GI$1>=$CT6,GI$1<=$CU6),1,"")) | GM6: =IF(ISNUMBER(GI$1),IF(AND(GW$3="",GW$4=""),IF(GI6="",,-($CG6)),),) -> 0 | GN6: =IF(ISNUMBER(GI$1),IF(GJ6="",,-($CG6)),) -> 0 | GO6: =IF(ISNUMBER(GI$1),IF(GK6="",,-($CG6)),) -> 0 | GQ6: =IF(ISNUMBER(GI$1),IF(AND(GI6="",GJ6="",GK6=""),IF(ISNUMBER($CK6),$CK6,),),) -> 0 | GT6: =IF(ISNUMBER(GI$1),IF($AG6="",,IF(AND($GI6="",$GJ6="",$GK6=""),IF(AND(GZ$3="",GZ$4=""),,IF(GZ$4="",$CH6,$CH6*2)),)),) -> 0 | GU6: =IF(AND(GL6="",OR(GZ$3="",GHE4="")),0,GL6) -> 0 | GV6: =IF(AND(GP6="",OR(GZ$3="",GZ$4="")),0,GP6) -> 0 | GW6: =IF(ISNUMBER(GI$1),IF(AND(GI6="",GJ6="",GK6=""),IF(ISNUMBER($CL6),$CL6,),),) -> 0 | GX6: =IF(GL6="",0,GL6) -> 0 | GY6: =IF(GP6="",0,GP6) -> 0 | GZ6: =IF(ISNUMBER(GI$1),IF(AND(GI6="",GJ6="",GJ6=""),IF(ISNUMBER($CM6),$CM6,),),) -> 0 | HA6: =IF($CN6="","",IF(AND(HA$1>=$CN6,HA$1<=$CO6,$AG6="",OR(HO$3="",HO$4="")),1,"")) | HB6: =IF($CQ6="","",IF(AND(HA$1>=$CQ6,HA$1<=$CR6),1,"")) | HC6: =IF($CT6="","",IF(AND(HA$1>=$CT6,HA$1<=$CU6),1,"")) | HE6: =IF(ISNUMBER(HA$1),IF(AND(HO$3="",HO$4=""),IF(HA6="",,-($AL6)),),) -> 0 | HF6: =IF(ISNUMBER(HA$1),IF(HB6="",,-($AL6)),) -> 0 | HG6: =IF(ISNUMBER(HA$1),IF(HC6="",,-($AL6)),) -> 0 | HI6: =IF(ISNUMBER(HA$1),IF(AND(HA6="",HB6="",HC6=""),IF(ISNUMBER($AO6),$AO6,),),) -> 0 | HL6: =IF(ISNUMBER(HA$1),IF($AG6="",,IF(AND(HA6="",HB6="",HC6=""),IF(AND(HO$3="",HO$4=""),,IF(HO$4="",$BZ6,$BZ6*2)),)),) -> 0 | HM6: =IF(AND(HD6="",OR(HO$3="",HO$4="")),0,HD6) -> 0 | HN6: =IF(AND(HH6="",OR(HP$3="",HP$4="")),0,HH6) -> 0 | HO6: =IF(ISNUMBER(HA$1),IF(AND(HA6="",HB6="",HC6=""),IF(ISNUMBER($AP6),$AP6,),),) -> 0 | HP6: =IF($CN6="","",IF(AND(HP$1>=$CN6,HP$1<=$CO6,$AG6="",OR(ID$3="",ID$4="")),1,"")) | HQ6: =IF($CQ6="","",IF(AND(HP$1>=$CQ6,HP$1<=$CR6),1,"")) | HR6: =IF($CT6="","",IF(AND(HP$1>=$CT6,HP$1<=$CU6),1,"")) | HT6: =IF(ISNUMBER(HP$1),IF(AND(ID$3="",ID$4=""),IF(HP6="",,-($AT6)),),) -> 0 | HU6: =IF(ISNUMBER(HP$1),IF(HQ6="",,-($AT6)),) -> 0 | HV6: =IF(ISNUMBER(HP$1),IF(HR6="",,-($AT6)),) -> 0 | HX6: =IF(ISNUMBER(HP$1),IF(AND(HP6="",HQ6="",HR6=""),IF(ISNUMBER($AW6),$AW6,),),) -> 0 | IA6: =IF(ISNUMBER(HP$1),IF($AG6="",,IF(AND(HP6="",HQ6="",HR6=""),IF(AND(ID$3="",ID$4=""),,IF(ID$4="",$BZ6,$BZ6*2)),)),) -> 0 | IB6: =IF(AND(HS6="",OR(ID$3="",ID$4="")),0,HS6) -> 0 | IC6: =IF(AND(HW6="",OR(IE$3="",IE$4="")),0,HW6) -> 0 | ID6: =IF(ISNUMBER(HP$1),IF(AND(HP6="",HQ6="",HR6=""),IF(ISNUMBER($AX6),$AX6,),),) -> 0 | IE6: =IF($CN6="","",IF(AND(IE$1>=$CN6,IE$1<=$CO6,$AG6="",OR(IS$3="",IS$4="")),1,"")) | IF6: =IF($CQ6="","",IF(AND(IE$1>=$CQ6,IE$1<=$CR6),1,"")) | IG6: =IF($CT6="","",IF(AND(IE$1>=$CT6,IE$1<=$CU6),1,"")) | II6: =IF(ISNUMBER(IE$1),IF(AND(IS$3="",IS$4=""),IF(IE6="",,-($BB6)),),) -> 0 | IJ6: =IF(ISNUMBER(IE$1),IF(IF6="",,-($BB6)),) -> 0 | IK6: =IF(ISNUMBER(IE$1),IF(IG6="",,-($BB6)),) -> 0 | IM6: =IF(ISNUMBER(IE$1),IF(AND(IE6="",IF6="",IG6=""),IF(ISNUMBER($BE6),$BE6,),),) -> 0 | IP6: =IF(ISNUMBER(IE$1),IF($AG6="",,IF(AND(IE6="",IF6="",IG6=""),IF(AND(IS$3="",IS$4=""),,IF(IS$4="",$BZ6,$BZ6*2)),)),) -> 0 | IQ6: =IF(AND(IH6="",OR(IS$3="",IS$4="")),0,IH6) -> 0 | IR6: =IF(AND(IL6="",OR(IT$3="",IT$4="")),0,IL6) -> 0 | IS6: =IF(ISNUMBER(IE$1),IF(AND(IE6="",IF6="",IG6=""),IF(ISNUMBER($BF6),$BF6,),),) -> 0 | IT6: =IF($CN6="","",IF(AND(IT$1>=$CN6,IT$1<=$CO6,$AG6="",OR(JH$3="",JH$4="")),1,"")) | IU6: =IF($CQ6="","",IF(AND(IT$1>=$CQ6,IT$1<=$CR6),1,"")) | IV6: =IF($CT6="","",IF(AND(IT$1>=$CT6,IT$1<=$CU6),1,"")) | IX6: =IF(ISNUMBER(IT$1),IF(AND(JH$3="",JH$4=""),IF(IT6="",,-($BJ6)),),) -> 0 | IY6: =IF(ISNUMBER(IT$1),IF(IU6="",,-($BJ6)),) -> 0 | IZ6: =IF(ISNUMBER(IT$1),IF(IV6="",,-($BJ6)),) -> 0 | JB6: =IF(ISNUMBER(IT$1),IF(AND(IT6="",IU6="",IV6=""),IF(ISNUMBER($BM6),$BM6,),),) -> 0 | JE6: =IF(ISNUMBER(IT$1),IF($AG6="",,IF(AND(IT6="",IU6="",IV6=""),IF(AND(JH$3="",JH$4=""),,IF(JH$4="",$BZ6,$BZ6*2)),)),) -> 0 | JF6: =IF(AND(IW6="",OR(JH$3="",JH$4="")),0,IW6) -> 0 | JG6: =IF(AND(JA6="",OR(JI$3="",JI$4="")),0,JA6) -> 0 | JH6: =IF(ISNUMBER(IT$1),IF(AND(IT6="",IU6="",IV6=""),IF(ISNUMBER($BN6),$BN6,),),) -> 0 | JI6: =IF($CN6="","",IF(AND(JI$1>=$CN6,JI$1<=$CO6,$AG6="",OR(JW$3="",JW$4="")),1,"")) | JJ6: =IF($CQ6="","",IF(AND(JI$1>=$CQ6,JI$1<=$CR6),1,"")) | JK6: =IF($CT6="","",IF(AND(JI$1>=$CT6,JI$1<=$CU6),1,"")) | JM6: =IF(ISNUMBER(JI$1),IF(AND(JW$3="",JW$4=""),IF(JI6="",,-($BR6)),),) -> 0 | JN6: =IF(ISNUMBER(JI$1),IF(JJ6="",,-($BR6)),) -> 0 | JO6: =IF(ISNUMBER(JI$1),IF(JK6="",,-($BR6)),) -> 0 | JQ6: =IF(ISNUMBER(JI$1),IF(AND(JI6="",JJ6="",JK6=""),IF(ISNUMBER($BU6),$BU6,),),) -> 0 | JT6: =IF(ISNUMBER(JI$1),IF($AG6="",,IF(AND(JI6="",JJ6="",JK6=""),IF(AND(JW$3="",JW$4=""),,IF(JW$4="",$BZ6,$BZ6*2)),)),) -> 0 | JU6: =IF(AND(JL6="",OR(JW$3="",JW$4="")),0,JL6) -> 0 | JV6: =IF(AND(JP6="",OR(JX$3="",JX$4="")),0,JP6) -> 0 | JW6: =IF(ISNUMBER(JI$1),IF(AND(JI6="",JJ6="",JK6=""),IF(ISNUMBER($BV6),$BV6,),),) -> 0 | JX6: =IF($CN6="","",IF(AND(JX$1>=$CN6,JX$1<=$CO6,$AG6="",OR(KL$3="",KL$4="")),1,"")) | JY6: =IF($CQ6="","",IF(AND(JX$1>=$CQ6,JX$1<=$CR6),1,"")) | JZ6: =IF($CT6="","",IF(AND(JX$1>=$CT6,JX$1<=$CU6),1,"")) | KB6: =IF(ISNUMBER(JX$1),IF(AND(KL$3="",KL$4=""),IF(JX6="",,-($BZ6)),),) -> 0 | KC6: =IF(ISNUMBER(JX$1),IF(JY6="",,-($BZ6)),) -> 0 | KD6: =IF(ISNUMBER(JX$1),IF(JZ6="",,-($BZ6)),) -> 0 | KF6: =IF(ISNUMBER(JX$1),IF(AND(JX6="",JY6="",JZ6=""),IF(ISNUMBER($CC6),$CC6,),),) -> 0 | KI6: =IF(ISNUMBER(JX$1),IF($AG6="",,IF(AND(JX6="",JY6="",JZ6=""),IF(AND(KL$3="",KL$4=""),,IF(KL$4="",$BZ6,$BZ6*2)),)),) -> 0 | KJ6: =IF(AND(KA6="",OR(KL$3="",KL$4="")),0,KA6) -> 0 | KK6: =IF(AND(KE6="",OR(KM$3="",KM$4="")),0,KE6) -> 0 | KL6: =IF(ISNUMBER(JX$1),IF(AND(JX6="",JY6="",JZ6=""),IF(ISNUMBER($CD6),$CD6,),),) -> 0 | KM6: =IF($CN6="","",IF(AND(KM$1>=$CN6,KM$1<=$CO6,$AG6="",OR(LA$3="",LA$4="")),1,"")) | KN6: =IF($CQ6="","",IF(AND(KM$1>=$CQ6,KM$1<=$CR6),1,"")) | KO6: =IF($CT6="","",IF(AND(KM$1>=$CT6,KM$1<=$CU6),1,"")) | KQ6: =IF(ISNUMBER(KM$1),IF(AND(LA$3="",LA$4=""),IF(KM6="",,-($CG6)),),) -> 0 | KR6: =IF(ISNUMBER(KM$1),IF(KN6="",,-($CG6)),) -> 0 | KS6: =IF(ISNUMBER(KM$1),IF(KO6="",,-($CG6)),) -> 0 | KU6: =IF(ISNUMBER(KM$1),IF(AND(KM6="",KN6="",KO6=""),IF(ISNUMBER($CK6),$CK6,),),) -> 0 | KX6: =IF(ISNUMBER(KM$1),IF($AG6="",,IF(AND($GI6="",$GJ6="",$GK6=""),IF(AND(LD$3="",LD$4=""),,IF(LD$4="",$CH6,$CH6*2)),)),) -> 0 | KY6: =IF(AND(KP6="",OR(LD$3="",GLI4="")),0,KP6) -> 0 | KZ6: =IF(AND(KT6="",OR(LD$3="",LD$4="")),0,KT6) -> 0 | LA6: =IF(ISNUMBER(KM$1),IF(AND(KM6="",KN6="",KO6=""),IF(ISNUMBER($CL6),$CL6,),),) -> 0 | LB6: =IF(KP6="",0,KP6) -> 0 | LC6: =IF(KT6="",0,KT6) -> 0 | LD6: =IF(ISNUMBER(KM$1),IF(AND(KM6="",KN6="",KN6=""),IF(ISNUMBER($CM6),$CM6,),),) -> 0 | LE6: =IF($CN6="","",IF(AND(LE$1>=$CN6,LE$1<=$CO6,$AG6="",OR(LS$3="",LS$4="")),1,"")) | LF6: =IF($CQ6="","",IF(AND(LE$1>=$CQ6,LE$1<=$CR6),1,"")) | LG6: =IF($CT6="","",IF(AND(LE$1>=$CT6,LE$1<=$CU6),1,"")) | LI6: =IF(ISNUMBER(LE$1),IF(AND(LS$3="",LS$4=""),IF(LE6="",,-($AL6)),),) -> 0 | LJ6: =IF(ISNUMBER(LE$1),IF(LF6="",,-($AL6)),) -> 0 | LK6: =IF(ISNUMBER(LE$1),IF(LG6="",,-($AL6)),) -> 0 | LM6: =IF(ISNUMBER(LE$1),IF(AND(LE6="",LF6="",LG6=""),IF(ISNUMBER($AO6),$AO6,),),) -> 0 | LP6: =IF(ISNUMBER(LE$1),IF($AG6="",,IF(AND(LE6="",LF6="",LG6=""),IF(AND(LS$3="",LS$4=""),,IF(LS$4="",$AL6,$AL6*2)),)),) -> 0 | LQ6: =IF(AND(LH6="",OR(LS$3="",LS$4="")),0,IF(LS$4="x",LH6*2,LH6)) -> 0 | LR6: =IF(AND(LL6="",OR(LT$3="",LT$4="")),0,LL6) -> 0 | LS6: =IF(ISNUMBER(LE$1),IF(AND(LE6="",LF6="",LG6=""),IF(ISNUMBER($AP6),$AP6,),),) -> 0 | LT6: =IF($CN6="","",IF(AND(LT$1>=$CN6,LT$1<=$CO6,$AG6="",OR(MH$3="",MH$4="")),1,"")) | LU6: =IF($CQ6="","",IF(AND(LT$1>=$CQ6,LT$1<=$CR6),1,"")) | LV6: =IF($CT6="","",IF(AND(LT$1>=$CT6,LT$1<=$CU6),1,"")) | LX6: =IF(ISNUMBER(LT$1),IF(AND(MH$3="",MH$4=""),IF(LT6="",,-($AL6)),),) -> 0 | LY6: =IF(ISNUMBER(LT$1),IF(LU6="",,-($AL6)),) -> 0 | LZ6: =IF(ISNUMBER(LT$1),IF(LV6="",,-($AL6)),) -> 0 | MB6: =IF(ISNUMBER(LT$1),IF(AND(LT6="",LU6="",LV6=""),IF(ISNUMBER($AW6),$AW6,),),) -> 0 | ME6: =IF(ISNUMBER(LT$1),IF($AG6="",,IF(AND(LT6="",LU6="",LV6=""),IF(AND(MH$3="",MH$4=""),,IF(MH$4="",$AT6,$AT6*2)),)),) -> 0 | MF6: =IF(AND(LW6="",OR(MH$3="",MH$4="")),0,IF(MH$4="x",LW6*2,LW6)) -> 0 | MG6: =IF(AND(MA6="",OR(MI$3="",MI$4="")),0,MA6) -> 0 | MH6: =IF(ISNUMBER(LT$1),IF(AND(LT6="",LU6="",LV6=""),IF(ISNUMBER($AX6),$AX6,),),) -> 0 | MI6: =IF($CN6="","",IF(AND(MI$1>=$CN6,MI$1<=$CO6,$AG6="",OR(MW$3="",MW$4="")),1,"")) | MJ6: =IF($CQ6="","",IF(AND(MI$1>=$CQ6,MI$1<=$CR6),1,"")) | MK6: =IF($CT6="","",IF(AND(MI$1>=$CT6,MI$1<=$CU6),1,"")) | MM6: =IF(ISNUMBER(MI$1),IF(AND(MW$3="",MW$4=""),IF(MI6="",,-($AL6)),),) -> 0 | MN6: =IF(ISNUMBER(MI$1),IF(MJ6="",,-($AL6)),) -> 0 | MO6: =IF(ISNUMBER(MI$1),IF(MK6="",,-($AL6)),) -> 0 | MQ6: =IF(ISNUMBER(MI$1),IF(AND(MI6="",MJ6="",MK6=""),IF(ISNUMBER($BE6),$BE6,),),) -> 0 | MT6: =IF(ISNUMBER(MI$1),IF($AG6="",,IF(AND(MI6="",MJ6="",MK6=""),IF(AND(MW$3="",MW$4=""),,IF(MW$4="",$BB6,$BB6*2)),)),) -> 0 | MU6: =IF(AND(ML6="",OR(MW$3="",MW$4="")),0,IF(MW$4="x",ML6*2,ML6)) -> 0 | MV6: =IF(AND(MP6="",OR(MX$3="",MX$4="")),0,MP6) -> 0 | MW6: =IF(ISNUMBER(MI$1),IF(AND(MI6="",MJ6="",MK6=""),IF(ISNUMBER($BF6),$BF6,),),) -> 0 | MX6: =IF($CN6="","",IF(AND(MX$1>=$CN6,MX$1<=$CO6,$AG6="",OR(NL$3="",NL$4="")),1,"")) | MY6: =IF($CQ6="","",IF(AND(MX$1>=$CQ6,MX$1<=$CR6),1,"")) | MZ6: =IF($CT6="","",IF(AND(MX$1>=$CT6,MX$1<=$CU6),1,"")) | NB6: =IF(ISNUMBER(MX$1),IF(AND(NL$3="",NL$4=""),IF(MX6="",,-($AL6)),),) -> 0 | NC6: =IF(ISNUMBER(MX$1),IF(MY6="",,-($AL6)),) -> 0 | ND6: =IF(ISNUMBER(MX$1),IF(MZ6="",,-($AL6)),) -> 0 | NF6: =IF(ISNUMBER(MX$1),IF(AND(MX6="",MY6="",MZ6=""),IF(ISNUMBER($BM6),$BM6,),),) -> 0 | NI6: =IF(ISNUMBER(MX$1),IF($AG6="",,IF(AND(MX6="",MY6="",MZ6=""),IF(AND(NL$3="",NL$4=""),,IF(NL$4="",$BJ6,$BJ6*2)),)),) -> 0 | NJ6: =IF(AND(NA6="",OR(NL$3="",NL$4="")),0,IF(NL$4="x",NA6*2,NA6)) -> 0 | NK6: =IF(AND(NE6="",OR(NM$3="",NM$4="")),0,NE6) -> 0 | NL6: =IF(ISNUMBER(MX$1),IF(AND(MX6="",MY6="",MZ6=""),IF(ISNUMBER($BN6),$BN6,),),) -> 0 | NM6: =IF($CN6="","",IF(AND(NM$1>=$CN6,NM$1<=$CO6,$AG6="",OR(OA$3="",OA$4="")),1,"")) | NN6: =IF($CQ6="","",IF(AND(NM$1>=$CQ6,NM$1<=$CR6),1,"")) | NO6: =IF($CT6="","",IF(AND(NM$1>=$CT6,NM$1<=$CU6),1,"")) | NQ6: =IF(ISNUMBER(NM$1),IF(AND(OA$3="",OA$4=""),IF(NM6="",,-($AL6)),),) -> 0 | NR6: =IF(ISNUMBER(NM$1),IF(NN6="",,-($AL6)),) -> 0 | NS6: =IF(ISNUMBER(NM$1),IF(NO6="",,-($AL6)),) -> 0 | NU6: =IF(ISNUMBER(NM$1),IF(AND($FE6="",$FF6="",$FG6=""),IF(ISNUMBER($BU6),$BU6,),),) -> 0 | NX6: =IF(ISNUMBER(NM$1),IF($AG6="",,IF(AND($FE6="",$FF6="",$FG6=""),IF(AND(OA$3="",OA$4=""),,IF(OA$4="",$BR6,$BR6*2)),)),) -> 0 | NY6: =IF(AND(NP6="",OR(OA$3="",OA$4="")),0,IF(OA$4="x",NP6*2,NP6)) -> 0 | NZ6: =IF(AND(NT6="",OR(OB$3="",OB$4="")),0,NT6) -> 0 | OA6: =IF(ISNUMBER(NM$1),IF(AND(NM6="",NN6="",NO6=""),IF(ISNUMBER($BV6),$BV6,),),) -> 0 | OB6: =IF($CN6="","",IF(AND(OB$1>=$CN6,OB$1<=$CO6,$AG6="",OR(OP$3="",OP$4="")),1,"")) | OC6: =IF($CQ6="","",IF(AND(OB$1>=$CQ6,OB$1<=$CR6),1,"")) | OD6: =IF($CT6="","",IF(AND(OB$1>=$CT6,OB$1<=$CU6),1,"")) | OF6: =IF(ISNUMBER(OB$1),IF(AND(OP$3="",OP$4=""),IF(OB6="",,-($AL6)),),) -> 0 | OG6: =IF(ISNUMBER(OB$1),IF(OC6="",,-($AL6)),) -> 0 | OH6: =IF(ISNUMBER(OB$1),IF(OD6="",,-($AL6)),) -> 0 | OJ6: =IF(ISNUMBER(OB$1),IF(AND(OB6="",OC6="",OD6=""),IF(ISNUMBER($CC6),$CC6,),),) -> 0 | OM6: =IF(ISNUMBER(OB$1),IF($AG6="",,IF(AND(OB6="",OC6="",OD6=""),IF(AND(OP$3="",OP$4=""),,IF(OP$4="",$BZ6,$BZ6*2)),)),) -> 0 | ON6: =IF(AND(OE6="",OR(OP$3="",OP$4="")),0,IF(OP$4="x",OE6*2,OE6)) -> 0 | OO6: =IF(AND(OI6="",OR(OQ$3="",OQ$4="")),0,OI6) -> 0 | OP6: =IF(ISNUMBER(OB$1),IF(AND(OB6="",OC6="",OD6=""),IF(ISNUMBER($CD6),$CD6,),),) -> 0 | OQ6: =IF($CN6="","",IF(AND(OQ$1>=$CN6,OQ$1<=$CO6,$AG6="",OR(PE$3="",PE$4="")),1,"")) | OR6: =IF($CQ6="","",IF(AND(OQ$1>=$CQ6,OQ$1<=$CR6),1,"")) | OS6: =IF($CT6="","",IF(AND(OQ$1>=$CT6,OQ$1<=$CU6),1,"")) | OU6: =IF(ISNUMBER(OQ$1),IF(AND(PE$3="",PE$4=""),IF(OQ6="",,-($AL6)),),) -> 0 | OV6: =IF(ISNUMBER(OQ$1),IF(OR6="",,-($AL6)),) -> 0 | OW6: =IF(ISNUMBER(OQ$1),IF(OS6="",,-($AL6)),) -> 0 | OY6: =IF(ISNUMBER(OQ$1),IF(AND(OQ6="",OR6="",OS6=""),IF(ISNUMBER($CK6),$CK6,),),) -> 0 | PB6: =IF(ISNUMBER(OQ$1),IF($AG6="",,IF(AND($GI6="",$GJ6="",$GK6=""),IF(AND(PH$3="",PH$4=""),,IF(PH$4="",$CH6,$CH6*2)),)),) -> 0 | PC6: =IF(AND(OT6="",OR(PH$3="",GOY4="")),0,IF(PH$4="x",OT6*2,OT6)) -> 0 | PD6: =IF(AND(OX6="",OR(PH$3="",PH$4="")),0,OX6) -> 0 | PE6: =IF(ISNUMBER(OQ$1),IF(AND(OQ6="",OR6="",OS6=""),IF(ISNUMBER($CL6),$CL6,),),) -> 0 | PF6: =IF(OT6="",0,OT6) -> 0 | PG6: =IF(OX6="",0,OX6) -> 0 | PH6: =IF(ISNUMBER(OQ$1),IF(AND(OQ6="",OR6="",OR6=""),IF(ISNUMBER($CM6),$CM6,),),) -> 0 | PI6: =IF($CN6="","",IF(AND(PI$1>=$CN6,PI$1<=$CO6,$AG6="",OR(PW$3="",PW$4="")),1,"")) | PJ6: =IF($CQ6="","",IF(AND(PI$1>=$CQ6,PI$1<=$CR6),1,"")) | PK6: =IF($CT6="","",IF(AND(PI$1>=$CT6,PI$1<=$CU6),1,"")) | PM6: =IF(ISNUMBER(PI$1),IF(AND(PW$3="",PW$4=""),IF(PI6="",,-($AL6)),),) -> 0 | PN6: =IF(ISNUMBER(PI$1),IF(PJ6="",,-($AL6)),) -> 0 | PO6: =IF(ISNUMBER(PI$1),IF(PK6="",,-($AL6)),) -> 0 | PQ6: =IF(ISNUMBER(PI$1),IF(AND(PI6="",PJ6="",PK6=""),IF(ISNUMBER($AO6),$AO6,),),) -> 0 | PT6: =IF(ISNUMBER(PI$1),IF($AG6="",,IF(AND(PI6="",PJ6="",PK6=""),IF(AND(PW$3="",PW$4=""),,IF(PW$4="",$AL6,$AL6*2)),)),) -> 0 | PU6: =IF(AND(PL6="",OR(PW$3="",PW$4="")),0,IF(PW$4="x",PL6*2,PL6)) -> 0 | PV6: =IF(AND(PP6="",OR(PX$3="",PX$4="")),0,PP6) -> 0 | PW6: =IF(ISNUMBER(PI$1),IF(AND(PI6="",PJ6="",PK6=""),IF(ISNUMBER($AP6),$AP6,),),) -> 0 | PX6: =IF($CN6="","",IF(AND(PX$1>=$CN6,PX$1<=$CO6,$AG6="",OR(QL$3="",QL$4="")),1,"")) | PY6: =IF($CQ6="","",IF(AND(PX$1>=$CQ6,PX$1<=$CR6),1,"")) | PZ6: =IF($CT6="","",IF(AND(PX$1>=$CT6,PX$1<=$CU6),1,"")) | QB6: =IF(ISNUMBER(PX$1),IF(AND(QL$3="",QL$4=""),IF(PX6="",,-($AL6)),),) -> 0 | QC6: =IF(ISNUMBER(PX$1),IF(PY6="",,-($AL6)),) -> 0 | QD6: =IF(ISNUMBER(PX$1),IF(PZ6="",,-($AL6)),) -> 0 | QF6: =IF(ISNUMBER(PX$1),IF(AND(PX6="",PY6="",PZ6=""),IF(ISNUMBER($AW6),$AW6,),),) -> 0 | QI6: =IF(ISNUMBER(PX$1),IF($AG6="",,IF(AND(PX6="",PY6="",PZ6=""),IF(AND(QL$3="",QL$4=""),,IF(QL$4="",$AT6,$AT6*2)),)),) -> 0 | QJ6: =IF(AND(QA6="",OR(QL$3="",QL$4="")),0,IF(QL$4="x",QA6*2,QA6)) -> 0 | QK6: =IF(AND(QE6="",OR(QM$3="",QM$4="")),0,QE6) -> 0 | QL6: =IF(ISNUMBER(PX$1),IF(AND(PX6="",PY6="",PZ6=""),IF(ISNUMBER($AX6),$AX6,),),) -> 0 | QM6: =IF($CN6="","",IF(AND(QM$1>=$CN6,QM$1<=$CO6,$AG6="",OR(RA$3="",RA$4="")),1,"")) | QN6: =IF($CQ6="","",IF(AND(QM$1>=$CQ6,QM$1<=$CR6),1,"")) | QO6: =IF($CT6="","",IF(AND(QM$1>=$CT6,QM$1<=$CU6),1,"")) | QQ6: =IF(ISNUMBER(QM$1),IF(AND(RA$3="",RA$4=""),IF(QM6="",,-($AL6)),),) -> 0 | QR6: =IF(ISNUMBER(QM$1),IF(QN6="",,-($AL6)),) -> 0 | QS6: =IF(ISNUMBER(QM$1),IF(QO6="",,-($AL6)),) -> 0 | QU6: =IF(ISNUMBER(QM$1),IF(AND(QM6="",QN6="",QO6=""),IF(ISNUMBER($BE6),$BE6,),),) -> 0 | QX6: =IF(ISNUMBER(QM$1),IF($AG6="",,IF(AND(QM6="",QN6="",QO6=""),IF(AND(RA$3="",RA$4=""),,IF(RA$4="",$BB6,$BB6*2)),)),) -> 0 | QY6: =IF(AND(QP6="",OR(RA$3="",RA$4="")),0,IF(RA$4="x",QP6*2,QP6)) -> 0 | QZ6: =IF(AND(QT6="",OR(RB$3="",RB$4="")),0,QT6) -> 0 | RA6: =IF(ISNUMBER(QM$1),IF(AND(QM6="",QN6="",QO6=""),IF(ISNUMBER($BF6),$BF6,),),) -> 0 | RB6: =IF($CN6="","",IF(AND(RB$1>=$CN6,RB$1<=$CO6,$AG6="",OR(RP$3="",RP$4="")),1,"")) | RC6: =IF($CQ6="","",IF(AND(RB$1>=$CQ6,RB$1<=$CR6),1,"")) | RD6: =IF($CT6="","",IF(AND(RB$1>=$CT6,RB$1<=$CU6),1,"")) | RF6: =IF(ISNUMBER(RB$1),IF(AND(RP$3="",RP$4=""),IF(RB6="",,-($AL6)),),) -> 0 | RG6: =IF(ISNUMBER(RB$1),IF(RC6="",,-($AL6)),) -> 0 | RH6: =IF(ISNUMBER(RB$1),IF(RD6="",,-($AL6)),) -> 0 | RJ6: =IF(ISNUMBER(RB$1),IF(AND(RB6="",RC6="",RD6=""),IF(ISNUMBER($BM6),$BM6,),),) -> 0 | RM6: =IF(ISNUMBER(RB$1),IF($AG6="",,IF(AND(RB6="",RC6="",RD6=""),IF(AND(RP$3="",RP$4=""),,IF(RP$4="",$BJ6,$BJ6*2)),)),) -> 0 | RN6: =IF(AND(RE6="",OR(RP$3="",RP$4="")),0,IF(RP$4="x",RE6*2,RE6)) -> 0 | RO6: =IF(AND(RI6="",OR(RQ$3="",RQ$4="")),0,RI6) -> 0 | RP6: =IF(ISNUMBER(RB$1),IF(AND(RB6="",RC6="",RD6=""),IF(ISNUMBER($BN6),$BN6,),),) -> 0 | RQ6: =IF($CN6="","",IF(AND(RQ$1>=$CN6,RQ$1<=$CO6,$AG6="",OR(SE$3="",SE$4="")),1,"")) | RR6: =IF($CQ6="","",IF(AND(RQ$1>=$CQ6,RQ$1<=$CR6),1,"")) | RS6: =IF($CT6="","",IF(AND(RQ$1>=$CT6,RQ$1<=$CU6),1,"")) | RU6: =IF(ISNUMBER(RQ$1),IF(AND(SE$3="",SE$4=""),IF(RQ6="",,-($AL6)),),) -> 0 | RV6: =IF(ISNUMBER(RQ$1),IF(RR6="",,-($AL6)),) -> 0 | RW6: =IF(ISNUMBER(RQ$1),IF(RS6="",,-($AL6)),) -> 0 | RY6: =IF(ISNUMBER(RQ$1),IF(AND($FE6="",$FF6="",$FG6=""),IF(ISNUMBER($BU6),$BU6,),),) -> 0 | SB6: =IF(ISNUMBER(RQ$1),IF($AG6="",,IF(AND($FE6="",$FF6="",$FG6=""),IF(AND(SE$3="",SE$4=""),,IF(SE$4="",$BR6,$BR6*2)),)),) -> 0 | SC6: =IF(AND(RT6="",OR(SE$3="",SE$4="")),0,IF(SE$4="x",RT6*2,RT6)) -> 0 | SD6: =IF(AND(RX6="",OR(SF$3="",SF$4="")),0,RX6) -> 0 | SE6: =IF(ISNUMBER(RQ$1),IF(AND(RQ6="",RR6="",RS6=""),IF(ISNUMBER($BV6),$BV6,),),) -> 0 | SF6: =IF($CN6="","",IF(AND(SF$1>=$CN6,SF$1<=$CO6,$AG6="",OR(ST$3="",ST$4="")),1,"")) | SG6: =IF($CQ6="","",IF(AND(SF$1>=$CQ6,SF$1<=$CR6),1,"")) | SH6: =IF($CT6="","",IF(AND(SF$1>=$CT6,SF$1<=$CU6),1,"")) | SJ6: =IF(ISNUMBER(SF$1),IF(AND(ST$3="",ST$4=""),IF(SF6="",,-($AL6)),),) -> 0 | SK6: =IF(ISNUMBER(SF$1),IF(SG6="",,-($AL6)),) -> 0 | SL6: =IF(ISNUMBER(SF$1),IF(SH6="",,-($AL6)),) -> 0 | SN6: =IF(ISNUMBER(SF$1),IF(AND(SF6="",SG6="",SH6=""),IF(ISNUMBER($CC6),$CC6,),),) -> 0 | SQ6: =IF(ISNUMBER(SF$1),IF($AG6="",,IF(AND(SF6="",SG6="",SH6=""),IF(AND(ST$3="",ST$4=""),,IF(ST$4="",$BZ6,$BZ6*2)),)),) -> 0 | SR6: =IF(AND(SI6="",OR(ST$3="",ST$4="")),0,IF(ST$4="x",SI6*2,SI6)) -> 0 | SS6: =IF(AND(SM6="",OR(SU$3="",SU$4="")),0,SM6) -> 0 | ST6: =IF(ISNUMBER(SF$1),IF(AND(SF6="",SG6="",SH6=""),IF(ISNUMBER($CD6),$CD6,),),) -> 0 | SU6: =IF($CN6="","",IF(AND(SU$1>=$CN6,SU$1<=$CO6,$AG6="",OR(TI$3="",TI$4="")),1,"")) | SV6: =IF($CQ6="","",IF(AND(SU$1>=$CQ6,SU$1<=$CR6),1,"")) | SW6: =IF($CT6="","",IF(AND(SU$1>=$CT6,SU$1<=$CU6),1,"")) | SY6: =IF(ISNUMBER(SU$1),IF(AND(TI$3="",TI$4=""),IF(SU6="",,-($AL6)),),) -> 0 | SZ6: =IF(ISNUMBER(SU$1),IF(SV6="",,-($AL6)),) -> 0 | TA6: =IF(ISNUMBER(SU$1),IF(SW6="",,-($AL6)),) -> 0 | TC6: =IF(ISNUMBER(SU$1),IF(AND(SU6="",SV6="",SW6=""),IF(ISNUMBER($CK6),$CK6,),),) -> 0 | TF6: =IF(ISNUMBER(SU$1),IF($AG6="",,IF(AND($GI6="",$GJ6="",$GK6=""),IF(AND(TL$3="",TL$4=""),,IF(TL$4="",$CH6,$CH6*2)),)),) -> 0 | TG6: =IF(AND(SX6="",OR(TL$3="",GSV4="")),0,IF(TL$4="x",SX6*2,SX6)) -> 0 | TH6: =IF(AND(TB6="",OR(TL$3="",TL$4="")),0,TB6) -> 0 | TI6: =IF(ISNUMBER(SU$1),IF(AND(SU6="",SV6="",SW6=""),IF(ISNUMBER($CL6),$CL6,),),) -> 0 | TJ6: =IF(SX6="",0,SX6) -> 0 | TK6: =IF(TB6="",0,TB6) -> 0 | TL6: =IF(ISNUMBER(SU$1),IF(AND(SU6="",SV6="",SV6=""),IF(ISNUMBER($CM6),$CM6,),),) -> 0 | TM6: =IF($CN6="","",IF(AND(TM$1>=$CN6,TM$1<=$CO6,$AG6="",OR(UA$3="",UA$4="")),1,"")) | TN6: =IF($CQ6="","",IF(AND(TM$1>=$CQ6,TM$1<=$CR6),1,"")) | TO6: =IF($CT6="","",IF(AND(TM$1>=$CT6,TM$1<=$CU6),1,"")) | TQ6: =IF(ISNUMBER(TM$1),IF(AND(UA$3="",UA$4=""),IF(TM6="",,-($AL6)),),) -> 0 | TR6: =IF(ISNUMBER(TM$1),IF(TN6="",,-($AL6)),) -> 0 | TS6: =IF(ISNUMBER(TM$1),IF(TO6="",,-($AL6)),) -> 0 | TU6: =IF(ISNUMBER(TM$1),IF(AND(TM6="",TN6="",TO6=""),IF(ISNUMBER($AO6),$AO6,),),) -> 0 | TX6: =IF(ISNUMBER(TM$1),IF($AG6="",,IF(AND(TM6="",TN6="",TO6=""),IF(AND(UA$3="",UA$4=""),,IF(UA$4="",$AL6,$AL6*2)),)),) -> 0 | TY6: =IF(AND(TP6="",OR(UA$3="",UA$4="")),0,IF(UA$4="x",TP6*2,TP6)) -> 0 | TZ6: =IF(AND(TT6="",OR(UB$3="",UB$4="")),0,TT6) -> 0 | UA6: =IF(ISNUMBER(TM$1),IF(AND(TM6="",TN6="",TO6=""),IF(ISNUMBER($AP6),$AP6,),),) -> 0 | UB6: =IF($CN6="","",IF(AND(UB$1>=$CN6,UB$1<=$CO6,$AG6="",OR(UP$3="",UP$4="")),1,"")) | UC6: =IF($CQ6="","",IF(AND(UB$1>=$CQ6,UB$1<=$CR6),1,"")) | UD6: =IF($CT6="","",IF(AND(UB$1>=$CT6,UB$1<=$CU6),1,"")) | UF6: =IF(ISNUMBER(UB$1),IF(AND(UP$3="",UP$4=""),IF(UB6="",,-($AL6)),),) -> 0 | UG6: =IF(ISNUMBER(UB$1),IF(UC6="",,-($AL6)),) -> 0 | UH6: =IF(ISNUMBER(UB$1),IF(UD6="",,-($AL6)),) -> 0 | UJ6: =IF(ISNUMBER(UB$1),IF(AND(UB6="",UC6="",UD6=""),IF(ISNUMBER($AW6),$AW6,),),) -> 0 | UM6: =IF(ISNUMBER(UB$1),IF($AG6="",,IF(AND(UB6="",UC6="",UD6=""),IF(AND(UP$3="",UP$4=""),,IF(UP$4="",$AT6,$AT6*2)),)),) -> 0 | UN6: =IF(AND(UE6="",OR(UP$3="",UP$4="")),0,IF(UP$4="x",UE6*2,UE6)) -> 0 | UO6: =IF(AND(UI6="",OR(UQ$3="",UQ$4="")),0,UI6) -> 0 | UP6: =IF(ISNUMBER(UB$1),IF(AND(UB6="",UC6="",UD6=""),IF(ISNUMBER($AX6),$AX6,),),) -> 0 | UQ6: =IF($CN6="","",IF(AND(UQ$1>=$CN6,UQ$1<=$CO6,$AG6="",OR(VE$3="",VE$4="")),1,"")) | UR6: =IF($CQ6="","",IF(AND(UQ$1>=$CQ6,UQ$1<=$CR6),1,"")) | US6: =IF($CT6="","",IF(AND(UQ$1>=$CT6,UQ$1<=$CU6),1,"")) | UU6: =IF(ISNUMBER(UQ$1),IF(AND(VE$3="",VE$4=""),IF(UQ6="",,-($AL6)),),) -> 0 | UV6: =IF(ISNUMBER(UQ$1),IF(UR6="",,-($AL6)),) -> 0 | UW6: =IF(ISNUMBER(UQ$1),IF(US6="",,-($AL6)),) -> 0 | UY6: =IF(ISNUMBER(UQ$1),IF(AND(UQ6="",UR6="",US6=""),IF(ISNUMBER($BE6),$BE6,),),) -> 0 | VB6: =IF(ISNUMBER(UQ$1),IF($AG6="",,IF(AND(UQ6="",UR6="",US6=""),IF(AND(VE$3="",VE$4=""),,IF(VE$4="",$BB6,$BB6*2)),)),) -> 0 | VC6: =IF(AND(UT6="",OR(VE$3="",VE$4="")),0,IF(VE$4="x",UT6*2,UT6)) -> 0 | VD6: =IF(AND(UX6="",OR(VF$3="",VF$4="")),0,UX6) -> 0 | VE6: =IF(ISNUMBER(UQ$1),IF(AND(UQ6="",UR6="",US6=""),IF(ISNUMBER($BF6),$BF6,),),) -> 0 | VF6: =IF($CN6="","",IF(AND(VF$1>=$CN6,VF$1<=$CO6,$AG6="",OR(VT$3="",VT$4="")),1,"")) | VG6: =IF($CQ6="","",IF(AND(VF$1>=$CQ6,VF$1<=$CR6),1,"")) | VH6: =IF($CT6="","",IF(AND(VF$1>=$CT6,VF$1<=$CU6),1,"")) | VJ6: =IF(ISNUMBER(VF$1),IF(AND(VT$3="",VT$4=""),IF(VF6="",,-($AL6)),),) -> 0 | VK6: =IF(ISNUMBER(VF$1),IF(VG6="",,-($AL6)),) -> 0 | VL6: =IF(ISNUMBER(VF$1),IF(VH6="",,-($AL6)),) -> 0 | VN6: =IF(ISNUMBER(VF$1),IF(AND(VF6="",VG6="",VH6=""),IF(ISNUMBER($BM6),$BM6,),),) -> 0 | VQ6: =IF(ISNUMBER(VF$1),IF($AG6="",,IF(AND(VF6="",VG6="",VH6=""),IF(AND(VT$3="",VT$4=""),,IF(VT$4="",$BJ6,$BJ6*2)),)),) -> 0 | VR6: =IF(AND(VI6="",OR(VT$3="",VT$4="")),0,IF(VT$4="x",VI6*2,VI6)) -> 0 | VS6: =IF(AND(VM6="",OR(VU$3="",VU$4="")),0,VM6) -> 0 | VT6: =IF(ISNUMBER(VF$1),IF(AND(VF6="",VG6="",VH6=""),IF(ISNUMBER($BN6),$BN6,),),) -> 0 | VU6: =IF($CN6="","",IF(AND(VU$1>=$CN6,VU$1<=$CO6,$AG6="",OR(WI$3="",WI$4="")),1,"")) | VV6: =IF($CQ6="","",IF(AND(VU$1>=$CQ6,VU$1<=$CR6),1,"")) | VW6: =IF($CT6="","",IF(AND(VU$1>=$CT6,VU$1<=$CU6),1,"")) | VY6: =IF(ISNUMBER(VU$1),IF(AND(WI$3="",WI$4=""),IF(VU6="",,-($AL6)),),) -> 0 | VZ6: =IF(ISNUMBER(VU$1),IF(VV6="",,-($AL6)),) -> 0 | WA6: =IF(ISNUMBER(VU$1),IF(VW6="",,-($AL6)),) -> 0 | WC6: =IF(ISNUMBER(VU$1),IF(AND($FE6="",$FF6="",$FG6=""),IF(ISNUMBER($BU6),$BU6,),),) -> 0 | WF6: =IF(ISNUMBER(VU$1),IF($AG6="",,IF(AND($FE6="",$FF6="",$FG6=""),IF(AND(WI$3="",WI$4=""),,IF(WI$4="",$BR6,$BR6*2)),)),) -> 0 | WG6: =IF(AND(VX6="",OR(WI$3="",WI$4="")),0,IF(WI$4="x",VX6*2,VX6)) -> 0 | WH6: =IF(AND(WB6="",OR(WJ$3="",WJ$4="")),0,WB6) -> 0 | WI6: =IF(ISNUMBER(VU$1),IF(AND(VU6="",VV6="",VW6=""),IF(ISNUMBER($BV6),$BV6,),),) -> 0 | WJ6: =IF($CN6="","",IF(AND(WJ$1>=$CN6,WJ$1<=$CO6,$AG6="",OR(WX$3="",WX$4="")),1,"")) | WK6: =IF($CQ6="","",IF(AND(WJ$1>=$CQ6,WJ$1<=$CR6),1,"")) | WL6: =IF($CT6="","",IF(AND(WJ$1>=$CT6,WJ$1<=$CU6),1,"")) | WN6: =IF(ISNUMBER(WJ$1),IF(AND(WX$3="",WX$4=""),IF(WJ6="",,-($AL6)),),) -> 0 | WO6: =IF(ISNUMBER(WJ$1),IF(WK6="",,-($AL6)),) -> 0 | WP6: =IF(ISNUMBER(WJ$1),IF(WL6="",,-($AL6)),) -> 0 | WR6: =IF(ISNUMBER(WJ$1),IF(AND(WJ6="",WK6="",WL6=""),IF(ISNUMBER($CC6),$CC6,),),) -> 0 | WU6: =IF(ISNUMBER(WJ$1),IF($AG6="",,IF(AND(WJ6="",WK6="",WL6=""),IF(AND(WX$3="",WX$4=""),,IF(WX$4="",$BZ6,$BZ6*2)),)),) -> 0 | WV6: =IF(AND(WM6="",OR(WX$3="",WX$4="")),0,IF(WX$4="x",WM6*2,WM6)) -> 0 | WW6: =IF(AND(WQ6="",OR(WY$3="",WY$4="")),0,WQ6) -> 0 | WX6: =IF(ISNUMBER(WJ$1),IF(AND(WJ6="",WK6="",WL6=""),IF(ISNUMBER($CD6),$CD6,),),) -> 0 | WY6: =IF($CN6="","",IF(AND(WY$1>=$CN6,WY$1<=$CO6,$AG6="",OR(XM$3="",XM$4="")),1,"")) | WZ6: =IF($CQ6="","",IF(AND(WY$1>=$CQ6,WY$1<=$CR6),1,"")) | XA6: =IF($CT6="","",IF(AND(WY$1>=$CT6,WY$1<=$CU6),1,"")) | XC6: =IF(ISNUMBER(WY$1),IF(AND(XM$3="",XM$4=""),IF(WY6="",,-($AL6)),),) -> 0 | XD6: =IF(ISNUMBER(WY$1),IF(WZ6="",,-($AL6)),) -> 0 | XE6: =IF(ISNUMBER(WY$1),IF(XA6="",,-($AL6)),) -> 0 | XG6: =IF(ISNUMBER(WY$1),IF(AND(WY6="",WZ6="",XA6=""),IF(ISNUMBER($CK6),$CK6,),),) -> 0 | XJ6: =IF(ISNUMBER(WY$1),IF($AG6="",,IF(AND($GI6="",$GJ6="",$GK6=""),IF(AND(XP$3="",XP$4=""),,IF(XP$4="",$CH6,$CH6*2)),)),) -> 0 | XK6: =IF(AND(XB6="",OR(XP$3="",GWS4="")),0,IF(XP$4="x",XB6*2,XB6)) -> 0 | XL6: =IF(AND(XF6="",OR(XP$3="",XP$4="")),0,XF6) -> 0 | XM6: =IF(ISNUMBER(WY$1),IF(AND(WY6="",WZ6="",XA6=""),IF(ISNUMBER($CL6),$CL6,),),) -> 0 | XN6: =IF(XB6="",0,XB6) -> 0 | XO6: =IF(XF6="",0,XF6) -> 0 | XP6: =IF(ISNUMBER(WY$1),IF(AND(WY6="",WZ6="",WZ6=""),IF(ISNUMBER($CM6),$CM6,),),) -> 0 | XQ6: =IF($CN6="","",IF(AND(XQ$1>=$CN6,XQ$1<=$CO6,$AG6="",OR(YE$3="",YE$4="")),1,"")) | XR6: =IF($CQ6="","",IF(AND(XQ$1>=$CQ6,XQ$1<=$CR6),1,"")) | XS6: =IF($CT6="","",IF(AND(XQ$1>=$CT6,XQ$1<=$CU6),1,"")) | XU6: =IF(ISNUMBER(XQ$1),IF(AND(YE$3="",YE$4=""),IF(XQ6="",,-($AL6)),),) -> 0 | XV6: =IF(ISNUMBER(XQ$1),IF(XR6="",,-($AL6)),) -> 0 | XW6: =IF(ISNUMBER(XQ$1),IF(XS6="",,-($AL6)),) -> 0 | XY6: =IF(ISNUMBER(XQ$1),IF(AND(XQ6="",XR6="",XS6=""),IF(ISNUMBER($AO6),$AO6,),),) -> 0 | YB6: =IF(ISNUMBER(XQ$1),IF($AG6="",,IF(AND(XQ6="",XR6="",XS6=""),IF(AND(YE$3="",YE$4=""),,IF(YE$4="",$AL6,$AL6*2)),)),) -> 0 | YC6: =IF(AND(XT6="",OR(YE$3="",YE$4="")),0,IF(YE$4="x",XT6*2,XT6)) -> 0 | YD6: =IF(AND(XX6="",OR(YF$3="",YF$4="")),0,XX6) -> 0 | YE6: =IF(ISNUMBER(XQ$1),IF(AND(XQ6="",XR6="",XS6=""),IF(ISNUMBER($AP6),$AP6,),),) -> 0 | YF6: =IF($CN6="","",IF(AND(YF$1>=$CN6,YF$1<=$CO6,$AG6="",OR(YT$3="",YT$4="")),1,"")) | YG6: =IF($CQ6="","",IF(AND(YF$1>=$CQ6,YF$1<=$CR6),1,"")) | YH6: =IF($CT6="","",IF(AND(YF$1>=$CT6,YF$1<=$CU6),1,"")) | YJ6: =IF(ISNUMBER(YF$1),IF(AND(YT$3="",YT$4=""),IF(YF6="",,-($AL6)),),) -> 0 | YK6: =IF(ISNUMBER(YF$1),IF(YG6="",,-($AL6)),) -> 0 | YL6: =IF(ISNUMBER(YF$1),IF(YH6="",,-($AL6)),) -> 0 | YN6: =IF(ISNUMBER(YF$1),IF(AND(YF6="",YG6="",YH6=""),IF(ISNUMBER($AW6),$AW6,),),) -> 0 | YQ6: =IF(ISNUMBER(YF$1),IF($AG6="",,IF(AND(YF6="",YG6="",YH6=""),IF(AND(YT$3="",YT$4=""),,IF(YT$4="",$AT6,$AT6*2)),)),) -> 0 | YR6: =IF(AND(YI6="",OR(YT$3="",YT$4="")),0,IF(YT$4="x",YI6*2,YI6)) -> 0 | YS6: =IF(AND(YM6="",OR(YU$3="",YU$4="")),0,YM6) -> 0 | YT6: =IF(ISNUMBER(YF$1),IF(AND(YF6="",YG6="",YH6=""),IF(ISNUMBER($AX6),$AX6,),),) -> 0 | YU6: =SUM(YV6:ZA6) -> 0 | YV6: =CZ6+DO6+ED6+ES6+FH6+FW6+GL6 -> 0 | YW6: =HD6+HS6+IH6+IW6+JL6+KA6+KP6 -> 0 | YX6: =LH6+LW6+ML6+NA6+NP6+OE6+OT6 -> 0 | YY6: =PL6+QA6+QP6+RE6+RT6+SI6+SX6 -> 0 | YZ6: =TP6+UE6+UT6+VX6+WM6+XB6 -> 0 | ZA6: =XT6+YI6 -> 0 | ZB6: =IF(AH6<151.66, IF(YU6>0,(MAX(AH6*0.1))*1.1,0),) -> 0 | ZC6: =IF(AH6<151.66,IF(YU6>(AH6*0.1),(YU6-(AH6*0.1))*1.25,),) -> 0 | ZD6: =SUM(ZE6:ZJ6) -> 0 | ZE6: =IF($AH$6>151.66,IF((YV6)>8,8*1.25,((YV6)-0)*1.25),) -> 0 | ZF6: =IF($AH$6>151.66,IF((YW6)>8,8*1.25,((YW6)-0)*1.25),) -> 0 | ZG6: =IF($AH$6>151.66,IF((YX6)>8,8*1.25,((YX6)-0)*1.25),) -> 0 | ZH6: =IF($AH$6>151.66,IF((YY6)>8,8*1.25,((YY6)-0)*1.25),) -> 0 | ZI6: =IF($AH$6>151.66,IF((YZ6)>8,8*1.25,((YZ6)-0)*1.25),) -> 0 | ZJ6: =IF($AH$6>151.66,IF((ZA6)>8,8*1.25,((ZA6)-0)*1.25),) -> 0 | ZK6: =SUM(ZL6:ZQ6) -> 0 | ZL6: =IF($AH$6>151.66,IF((YV6)>8,((YV6)-8)*1.5,),) -> 0 | ZM6: =IF($AH$6>151.66,IF((YW6)>8,((YW6)-8)*1.5,),) -> 0 | ZN6: =IF($AH$6>151.66,IF((YX6)>8,((YX6)-8)*1.5,),) -> 0 | ZO6: =IF($AH$6>151.66,IF((YY6)>8,((YY6)-8)*1.5,),) -> 0 | ZP6: =IF($AH$6>151.66,IF((YZ6)>8,((YZ6)-8)*1.5,),) -> 0 | ZQ6: =IF($AH$6>151.66,IF((ZA6)>8,((ZA6)-8)*1.5,),) -> 0 | ZR6: =ZB6+ZC6+ZD6+ZK6 -> 0 | ZS6: =SUM(ZT6:ZW6) -> 0 | ZT6: =DA6+DP6+EE6+ET6+FI6+FX6+GM6+HE6+II6+IX6+JM6+KB6+KQ6+LI6+LX6+MM6+NB6+NQ6+OF6+OU6+PM6+QB6+QQ6+RF6+SJ6+SY6+TQ6+UF6+UU6+VJ6+VY6+WN6+XC6+XU6+YJ6 -> 0 | ZU6: =DB6+DQ6+EF6+EU6+FJ6+FY6+GN6+HF6+IJ6+IY6+JN6+KC6+KR6+LJ6+LY6+MN6+NC6+NR6+OG6+OV6+PN6+QC6+QR6+RG6+SK6+SZ6+TR6+UG6+UV6+VK6+VZ6+WO6+XD6+XV6+YK6 -> 0 | ZV6: =DC6+DR6+EG6+EV6+FK6+FZ6+GO6+HG6+IK6+IZ6+JO6+KD6+KS6+LK6+LZ6+MO6+ND6+NS6+OH6+OW6+PO6+QD6+QS6+RH6+SL6+TA6+TS6+UH6+UW6+VL6+WA6+WP6+XE6+XW6+YL6 -> 0 | ZW6: =DD6+DS6+EH6+EW6+FL6+GA6+GP6+HH6+IL6+JA6+JP6+KE6+KT6+LL6+MA6+MP6+NE6+NT6+OI6+OX6+PP6+QE6+QT6+RI6+SM6+TB6+TT6+UI6+UX6+VM6+WB6+WQ6+XF6+XX6+YM6 -> 0 | ZX6: =DE6+DF6+DG6+DT6+DU6+DV6+EI6+EJ6+EK6+EX6+EY6+EZ6+FM6+FN6+FO6+GB6+GC6+GD6+GQ6+GR6+GS6+HI6+HJ6+HK6+HX6+HY6+HZ6+IM6+IN6+JB6+JC6+JD6+JQ6+JR6+JS6+KF6+KG6+KH6+KU6+KV6+KW6+LM6+LN6+LO6+MB6+MC6+MD6+MQ6+MR6+MS6+NF6+NG6+NH6+NU6+NV6+NW6+OJ6+OK6+OL6+OY6+OZ6+PA6+PQ6+PR6+PS6+QF6+QG6+QH6+QU6+QV6+RJ6+RK6+RL6+RY6+RZ6+SA6+SN6+SO6+SP6+TC6+TD6+TE6+TU6+TV6+UJ6+UK6+UL6+UY6+UZ6+VA6+VN6+VO6+WC6+WD6+WE6+WR6+WS6+XG6+XH6+XI6+XY6+XZ6+YN6+YO6+YP6 -> 0 | ZY6: =IF(ISTEXT(AE6),ZX6*0.2,) -> 0 | ZZ6: =IF(AE6="",ZX6,) -> 0 | AAA6: =GW6+GX6+GY6+LA6+LB6+LC6+PE6+PF6+PG6+TI6+TJ6+TK6+XM6+XN6+XO6 -> 0 | AAB6: =IF(ISTEXT(AF6),AAA6*0.2,) -> 0 | AAC6: =IF($AF6="",AAA6*2,) -> 0 | AAD6: =DH6+DI6+DJ6+DW6+DX6+EL6+EM6+FA6+FB6+FC6+FP6+FQ6+FR6+GE6+GF6+GG6+GT6+GU6+GV6+HL6+HM6+IA6+IB6+IC6+IP6+IQ6+IR6+JE6+JF6+JG6+JT6+JU6+JV6+KI6+KJ6+KK6+KX6+KY6+KZ6+LP6+LQ6+LR6+ME6+MF6+MG6+MT6+MU6+MV6+NI6+NJ6+NK6+NX6+NY6+NZ6+OM6+ON6+OO6+PB6+PC6+PD6+PT6+PU6+PV6+QI6+QJ6+QK6+QX6+QY6+QZ6+RM6+RN6+RO6+SB6+SC6+SD6+SQ6+SR6+SS6+TF6+TG6+TH6+TX6+TY6+TZ6+UM6+UN6+UO6+VB6+VC6+VQ6+VR6+WF6+WG6+WH6+WU6+WV6+WW6+XJ6+XK6+YB6+YC6+YD6+YQ6+YR6+YS6 -> 0 | AAE6: =IF(ISTEXT(AG6),AAD6*0.5,) -> 0 | AAF6: =IF($AG6="",AAD6,) -> 0 | AAG6: =ZX6*0.002 -> 0 | AAH6: =IF(ZS6<(-$AH6),0,$AH6+ZS6+ZY6+ZZ6+AAB6+AAC6+AAE6+AAF6+AAG6) -> 59.583333 | AAI6: =(DK6+DZ6+EO6+FD6+FS6+GH6+GZ6+HO6+ID6+IS6+JH6+JW6+KL6+LD6+LS6+MH6+MW6+NL6+OA6+OP6+PH6+PW6+QL6+RA6+RP6+SE6+ST6+TL6+UA6+UP6+VE6+VT6+WI6+WX6+XP6+YE6+YT6)*$AAI$5 -> 0 | AAJ6: =IF(AAH6<0,0,(AAH6*AA6)+AAI6) -> 602.3875 | AAL6: =IF(AAJ6=0,0,IF(AH6>75.83,3,(AH6/75.83)*3)) -> 2.3572465 | AAM6: =VLOOKUP(J6,'données salariés'!P:Q,2,0) -> 0 | AAN6: =VLOOKUP(J6,'données salariés'!R:S,2,0) -> 0 | AAP6: =IF(AAM6>0,,IF(V6<20, AH6*10.11*0.067/12,AH6*10.11*0.1/12)) -> 3.3633302 | AAQ6: =SUM(AAJ6:AAP6) -> 608.10808 | AAR6: =(($AAJ6-AAI6)+$AAK6+$AAM6+$AAN6+$AAO6)*0.1 -> 60.23875 | AAS6: =AAQ6+AAR6 -> 668.34683 | AAT6: =($AAQ6-$AAP6-$AAL6-$AAI6)*$AAT$4 -> 24.0955 | AAU6: =($AAQ6-$AAP6-$AAL6-$AAI6)*$AAT$4 -> 24.0955 | AAV6: =IF(AAJ6=0,0,IF(((AAQ6-AAP6)*0.92)<((AH6-ZS6)*$ABV$4),((AH6+ZS6)*$ABV$4)*$AAV$4,((AAQ6-AAP6)*0.92)*$AAV$4)) -> 78.294883 | AAW6: =IF(((AAQ6-AAP6)*0.92)<((AH6+ZS6)*$ABV$4),((AH6+ZS6)*$ABV$4)*$AAW$4,((AAQ6-AAP6)*0.92)*$AAW$4) -> 48.860717 | AAX6: =((AAQ6-AAP6)*0.92)*$AAX$4 -> 0.089018427 | AAY6: =(ABJ6+ABK6+ABP6)*$AAY$4 -> 1.0135336 | AAZ6: =IF(((AAQ6-AAP6)*0.92)<((AH6+ZS6)*$ABV$4),((AH6+ZS6)*$ABV$4)*$AAZ$4,(AAQ6-AAP6)*0.92*$AAZ$4) -> 20.309575 | ABA6: =IF(((AAQ6-AAP6)*0.92)<((AH6+ZS6)*$ABV$4),((AH6+ZS6)*$ABV$4)*$ABA$4,((AAQ6-AAP6)*0.92)*$ABA$4) -> 2.9434167 | ABB6: =IF(((AAQ6-AAP6)*0.92)<((AH6+ZS6)*$ABV$4),((AH6+ZS6)*$ABV$4)*$ABB$4,((AAQ6-AAP6)*0.92)*$ABB$4) -> 1.4717083 | ABC6: =IF(((AAQ6-AAP6)*0.92)<((AH6+ZS6)*$ABV$4),((AH6+ZS6)*$ABV$4)*$ABC$4,((AAQ6-AAP6)*0.92)*$ABC$4) -> 17.366158 | ABD6: =IF(((AAQ6-AAP6)*0.92)<((AH6+ZS6)*$ABV$4),((AH6+ZS6)*$ABV$4)*$ABD$4,((AAQ6-AAP6)*0.92)*$ABD$4) -> 47.68335 | ABE6: =IF(((AAQ6-AAP6)*0.92)<((AH6+ZS6)*$ABV$4),((AH6+ZS6)*$ABV$4)*$ABE$4,((AAQ6-AAP6)*0.92)*$ABE$4) -> 0.883025 | ABF6: =IF(((AAQ6-AAP6)*0.92)<((AH6+ZS6)*$ABV$4),((AH6+ZS6)*$ABV$4)*$ABF$4,(AAQ6-AAP6)*0.92*$ABF$4) -> 11.184983 | ABG6: =IF(AAQ6<3311,IF(((AAQ6-AAP6)*0.92)<((AH6+ZS6)*$ABV$4),((AH6+ZS6)*$ABV$4)*$ABG$4,((AAQ6-AAP6)*0.92)*$ABG$4),3311*$ABG$4) -> 23.017518 | ABH6: =IF(((AAQ6-AAP6)*0.92)<((AH6+ZS6)*$ABV$4),((AH6+ZS6)*$ABV$4)*$ABH$4,((AAQ6-AAP6)*0.92)*$ABH$4) -> 7.0642 | ABI6: =IF(AAQ6>3311,(AAQ6-3311)*$ABI$4,) -> 0 | ABJ6: =IF(AAQ6>3311,3311*$ABJ$4,IF(AA6>12.49,((AAQ6-AAP6)*0.92)*0.00906,((AAQ6-AAP6)*0.92)*$ABJ$4)) -> 3.8389197 | ABK6: =IF(AA6<12.49,,IF(AAQ6>3311,3311*$ABK$4,((AAS6-AAP6)*0.92)*$ABK$4)) -> 0 | ABL6: =AAR6*$ABL$4 -> 1.8071625 | ABM6: =(AAQ6-AAP6)*0.92*$ABM$4 -> 5.5636517 | ABN6: =(AAQ6-AAP6)*0.92*$ABM$4 -> 5.5636517 | ABO6: =(AAQ6-AAP6)*0.92*$ABO$4 -> 14.242948 | ABP6: =IF(Y6="",,IF((AH6*$ABV$4*0.015)>24.83,24.83,AH6*$ABV$4*0.015)) -> 8.83025 | ABQ6: =AAS6*$ABQ$4 -> 2.6733873 | ABR6: =SUM(AAT6:ABQ6) -> 350.89306 | ABS6: =IF(ZS6<(-AH6),,(AH6+ZS6)*$ABV$4) -> 588.68333 | ABT6: =IF((AAQ6-AAP6)=0,0,(0.2854/0.6)*((1.6*1*((ABS6*12)/((((AAS6-AAP6)*0.92)*11)))-1)*(100/90))) -> 0.359152 | ABU6: =IF(ABT6<0.2854,ROUND(ABT6,4),0.2854) -> 0.2854 | ABV6: =IF(ABT6>0.2854,0.2854*(AAS6-AAP6),IF(ABT6>0,ABU6*(AAS6-AAP6),0)) -> 189.78629 | ABW6: =ABR6-ABV6 -> 161.10677 | ABX6: =IF(AAJ6=0,0.58,ABW6/AAS6) -> 0.24105264 | ABY6: =IF(ZS6<(-AH6),,IF(AAS6<((AH6-ZS6)*($ABV$4*2.5)),(AAS6-AAP6)*($ABY$5),)) -> 39.89901 | ABZ6: =IF(AAJ6=0,0,(ABW6-ABY6)/(AAS6-AAP6)) -> 0.18227183 | ACA6: =ACB6/AAS6-1 -> 0.18427332 | ACB6: =((AAS6-AAP6)*(1+ABZ6))+(AAP6*1.58) -> 791.50532 | ACC6: =IF(AAJ6=0,0,IF(AAQ6=0,,IF(AAK6="",IF(AH6>75.83, 75.2*0.5,AH6/75.83*75.2*0.5),))) -> 29.544156 | ACD6: =IF(AAJ6=0,0,ACB6*0.00455) -> 3.6013492 | ACE6: =ACB6+ACC6+ACD6 -> 824.65082
A7: 1 | B7: FABRICE | D7: AFT | G7: 325.01 | H7: =SUM(AH7:AH10) -> 216.66667 | I7: =H7-G7 -> -108.34333 | J7: 000000503850 | K7: =VLOOKUP(J7,MATRICULE,2,0) -> MARIMUTHU | L7: =VLOOKUP(J7,MATRICULE,3,0) -> RAJANIE | M7: =VLOOKUP(J7,MATRICULE,6,0) -> 22686.042 | N7: =IF(M7="","",(TODAY()-M7)/365) -> 56.25742 | O7: =VLOOKUP(J7,MATRICULE,4,0) -> 2620299235041 | P7: =VLOOKUP(J7,MATRICULE,5,0) -> Féminin | Q7: =VLOOKUP(J7,MATRICULE,7,0) -> France | R7: =VLOOKUP(J7,MATRICULE,13,0) -> PANTIN | S7: =VLOOKUP(J7,MATRICULE,12,0) -> 93500 | T7: 173551732 | U7: =LOOKUP(J7,'données salariés'!$N$2:$O$626) -> 36374.083 | V7: =IF(U7="","",(TODAY()-U7)/365) -> 18.755936 | W7: cdi | Y7: x | Z7: =LOOKUP(J7,'données salariés'!$T$2:$U$630) -> AS2A | AA7: =IF(ISTEXT(Z7),VLOOKUP(Z7,TX,2,0),0) -> 10.14 | AB7: =IF(ISTEXT(W7),VLOOKUP(W7,CONT,2,0),0) -> 0 | AC7: =AA7*(1+AB7) -> 10.14 | AD7: =IF(V7="","",LOOKUP(V7,'base salaire'!$A$36:$B$42)) -> 0.055 | AH7: =(AL7+AT7+BB7+BJ7+BR7+BZ7+CH7)*52/12 -> 48.75 | AI7: 0.76041667 | AJ7: 0.85416667 | AL7: =((AJ7-AI7)*24)-AK7 -> 2.25 | AM7: =IF(ISNUMBER(AI7),IF(AI7>(4.99/24),0,IF(AJ7>(6/24),((6/24)-AI7)*24,(AJ7-AI7)*24)),) -> 0 | AN7: =IF(ISNUMBER(AI7),IF(AJ7>(21/24),IF(AI7>=(21/24),(AJ7-AI7)*24,(AJ7-(21/24))*24),),) -> 0 | AO7: =AM7+AN7 -> 0 | AQ7: 0.76041667 | AR7: 0.85416667 | AT7: =((AR7-AQ7)*24)-AS7 -> 2.25 | AU7: =IF(ISNUMBER(AQ7),IF(AQ7>(4.99/24),0,IF(AR7>(6/24),((6/24)-AQ7)*24,(AR7-AQ7)*24)),) -> 0 | AV7: =IF(ISNUMBER(AQ7),IF(AR7>(21/24),IF(AQ7>=(21/24),(AR7-AQ7)*24,(AR7-(21/24))*24),),) -> 0 | AW7: =AU7+AV7 -> 0 | AY7: 0.76041667 | AZ7: 0.85416667 | BB7: =((AZ7-AY7)*24)-BA7 -> 2.25 | BC7: =IF(ISNUMBER(AY7),IF(AY7>(4.99/24),0,IF(AZ7>(6/24),((6/24)-AY7)*24,(AZ7-AY7)*24)),) -> 0 | BD7: =IF(ISNUMBER(AY7),IF(AZ7>(21/24),IF(AY7>=(21/24),(AZ7-AY7)*24,(AZ7-(21/24))*24),),) -> 0 | BE7: =BC7+BD7 -> 0 | BG7: 0.76041667 | BH7: 0.85416667 | BJ7: =((BH7-BG7)*24)-BI7 -> 2.25 | BK7: =IF(ISNUMBER(BG7),IF(BG7>(4.99/24),0,IF(BH7>(6/24),((6/24)-BG7)*24,(BH7-BG7)*24)),) -> 0 | BL7: =IF(ISNUMBER(BG7),IF(BH7>(21/24),IF(BG7>=(21/24),(BH7-BG7)*24,(BH7-(21/24))*24),),) -> 0 | BM7: =BK7+BL7 -> 0 | BO7: 0.76041667 | BP7: 0.85416667 | BR7: =((BP7-BO7)*24)-BQ7 -> 2.25 | BS7: =IF(ISNUMBER(BO7),IF(BO7>(4.99/24),0,IF(BP7>(6/24),((6/24)-BO7)*24,(BP7-BO7)*24)),) -> 0 | BT7: =IF(ISNUMBER(BO7),IF(BP7>(21/24),IF(BO7>=(21/24),(BP7-BO7)*24,(BP7-(21/24))*24),),) -> 0 | BU7: =BS7+BT7 -> 0 | BZ7: =((BX7-BW7)*24)-BY7 -> 0 | CA7: =IF(ISNUMBER(BW7),IF(BW7>(4.99/24),0,IF(BX7>(6/24),((6/24)-BW7)*24,(BX7-BW7)*24)),) -> 0 | CB7: =IF(ISNUMBER(BW7),IF(BX7>(21/24),IF(BW7>=(21/24),(BX7-BW7)*24,(BX7-(21/24))*24),),) -> 0 | CC7: =CA7+CB7 -> 0 | CH7: =((CF7-CE7)*24)-CG7 -> 0 | CI7: =IF(ISNUMBER(CE7),IF(CE7>(4.99/24),0,IF(CF7>(6/24),((6/24)-CE7)*24,(CF7-CE7)*24)),) -> 0 | CJ7: =IF(ISNUMBER(CE7),IF(CF7>(21/24),IF(CE7>=(21/24),(CF7-CE7)*24,(CF7-(21/24))*24),),) -> 0 | CK7: =CI7+CJ7 -> 0 | CL7: =IF(ISTEXT(AF7),CH7,) -> 0 | CW7: =IF($CN7="","",IF(AND(CW$1>=$CN7,CW$1<=$CO7,$AG7="",OR(DK$3="",DK$4="")),1,"")) | CX7: =IF($CQ7="","",IF(AND(CW$1>=$CQ7,CW$1<=$CR7),1,"")) | CY7: =IF($CT7="","",IF(AND(CW$1>=$CT7,CW$1<=$CU7),1,"")) | DA7: =IF(ISNUMBER(CW$1),IF(AND(DK$3="",DK$4=""),IF(CW7="",,-($AL7)),),) -> 0 | DB7: =IF(ISNUMBER(CW$1),IF(CX7="",,-($AL7)),) -> 0 | DC7: =IF(ISNUMBER(CW$1),IF(CY7="",,-($AL7)),) -> 0 | DE7: =IF(ISNUMBER(CW$1),IF(AND(CW7="",CX7="",CY7=""),IF(ISNUMBER($AO7),$AO7,),),) -> 0 | DH7: =IF(ISNUMBER(CW$1),IF($AG7="",,IF(AND(CW7="",CX7="",CY7=""),IF(AND(DK$3="",DK$4=""),,IF(DK$4="",$BZ7,$BZ7*2)),)),) -> 0 | DI7: =IF(AND(CZ7="",OR(DK$3="",DK$4="")),0,CZ7) -> 0 | DJ7: =IF(AND(DD7="",OR(DL$3="",DL$4="")),0,DD7) -> 0 | DK7: =IF(ISNUMBER(CW$1),IF(AND(CW7="",CX7="",CY7=""),IF(ISNUMBER($AP7),$AP7,),),) -> 0 | DL7: =IF($CN7="","",IF(AND(DL$1>=$CN7,DL$1<=$CO7,$AG7="",OR(DZ$3="",DZ$4="")),1,"")) | DM7: =IF($CQ7="","",IF(AND(DL$1>=$CQ7,DL$1<=$CR7),1,"")) | DN7: =IF($CT7="","",IF(AND(DL$1>=$CT7,DL$1<=$CU7),1,"")) | DP7: =IF(ISNUMBER(DL$1),IF(AND(DZ$3="",DZ$4=""),IF(DL7="",,-($AT7)),),) -> 0 | DQ7: =IF(ISNUMBER(DL$1),IF(DM7="",,-($AT7)),) -> 0 | DR7: =IF(ISNUMBER(DL$1),IF(DN7="",,-($AT7)),) -> 0 | DT7: =IF(ISNUMBER(DL$1),IF(AND(DL7="",DM7="",DN7=""),IF(ISNUMBER($AW7),$AW7,),),) -> 0 | DW7: =IF(ISNUMBER(DL$1),IF($AG7="",,IF(AND(DL7="",DM7="",DN7=""),IF(AND(DZ$3="",DZ$4=""),,IF(DZ$4="",$BZ7,$BZ7*2)),)),) -> 0 | DX7: =IF(AND(DO7="",OR(DZ$3="",DZ$4="")),0,DO7) -> 0 | DY7: =IF(AND(DS7="",OR(EA$3="",EA$4="")),0,DS7) -> 0 | DZ7: =IF(ISNUMBER(DL$1),IF(AND(DL7="",DM7="",DN7=""),IF(ISNUMBER($AX7),$AX7,),),) -> 0 | EA7: =IF($CN7="","",IF(AND(EA$1>=$CN7,EA$1<=$CO7,$AG7="",OR(EO$3="",EO$4="")),1,"")) | EB7: =IF($CQ7="","",IF(AND(EA$1>=$CQ7,EA$1<=$CR7),1,"")) | EC7: =IF($CT7="","",IF(AND(EA$1>=$CT7,EA$1<=$CU7),1,"")) | EE7: =IF(ISNUMBER(EA$1),IF(AND(EO$3="",EO$4=""),IF(EA7="",,-($BB7)),),) -> 0 | EF7: =IF(ISNUMBER(EA$1),IF(EB7="",,-($BB7)),) -> 0 | EG7: =IF(ISNUMBER(EA$1),IF(EC7="",,-($BB7)),) -> 0 | EI7: =IF(ISNUMBER(EA$1),IF(AND(EA7="",EB7="",EC7=""),IF(ISNUMBER($BE7),$BE7,),),) -> 0 | EL7: =IF(ISNUMBER(EA$1),IF($AG7="",,IF(AND(EA7="",EB7="",EC7=""),IF(AND(EO$3="",EO$4=""),,IF(EO$4="",$BZ7,$BZ7*2)),)),) -> 0 | EM7: =IF(AND(ED7="",OR(EO$3="",EO$4="")),0,ED7) -> 0 | EN7: =IF(AND(EH7="",OR(EP$3="",EP$4="")),0,EH7) -> 0 | EO7: =IF(ISNUMBER(EA$1),IF(AND(EA7="",EB7="",EC7=""),IF(ISNUMBER($BF7),$BF7,),),) -> 0 | EP7: =IF($CN7="","",IF(AND(EP$1>=$CN7,EP$1<=$CO7,$AG7="",OR(FD$3="",FD$4="")),1,"")) | EQ7: =IF($CQ7="","",IF(AND(EP$1>=$CQ7,EP$1<=$CR7),1,"")) | ER7: =IF($CT7="","",IF(AND(EP$1>=$CT7,EP$1<=$CU7),1,"")) | ET7: =IF(ISNUMBER(EP$1),IF(AND(FD$3="",FD$4=""),IF(EP7="",,-($BJ7)),),) -> 0 | EU7: =IF(ISNUMBER(EP$1),IF(EQ7="",,-($BJ7)),) -> 0 | EV7: =IF(ISNUMBER(EP$1),IF(ER7="",,-($BJ7)),) -> 0 | EX7: =IF(ISNUMBER(EP$1),IF(AND(EP7="",EQ7="",ER7=""),IF(ISNUMBER($BM7),$BM7,),),) -> 0 | FA7: =IF(ISNUMBER(EP$1),IF($AG7="",,IF(AND(EP7="",EQ7="",ER7=""),IF(AND(FD$3="",FD$4=""),,IF(FD$4="",$BZ7,$BZ7*2)),)),) -> 0 | FB7: =IF(AND(ES7="",OR(FD$3="",FD$4="")),0,ES7) -> 0 | FC7: =IF(AND(EW7="",OR(FE$3="",FE$4="")),0,EW7) -> 0 | FD7: =IF(ISNUMBER(EP$1),IF(AND(EP7="",EQ7="",ER7=""),IF(ISNUMBER($BN7),$BN7,),),) -> 0 | FE7: =IF($CN7="","",IF(AND(FE$1>=$CN7,FE$1<=$CO7,$AG7="",OR(FS$3="",FS$4="")),1,"")) | FF7: =IF($CQ7="","",IF(AND(FE$1>=$CQ7,FE$1<=$CR7),1,"")) | FG7: =IF($CT7="","",IF(AND(FE$1>=$CT7,FE$1<=$CU7),1,"")) | FI7: =IF(ISNUMBER(FE$1),IF(AND(FS$3="",FS$4=""),IF(FE7="",,-($BR7)),),) -> 0 | FJ7: =IF(ISNUMBER(FE$1),IF(FF7="",,-($BR7)),) -> 0 | FK7: =IF(ISNUMBER(FE$1),IF(FG7="",,-($BR7)),) -> 0 | FM7: =IF(ISNUMBER(FE$1),IF(AND(FE7="",FF7="",FG7=""),IF(ISNUMBER($BU7),$BU7,),),) -> 0 | FP7: =IF(ISNUMBER(FE$1),IF($AG7="",,IF(AND(FE7="",FF7="",FG7=""),IF(AND(FS$3="",FS$4=""),,IF(FS$4="",$BZ7,$BZ7*2)),)),) -> 0 | FQ7: =IF(AND(FH7="",OR(FS$3="",FS$4="")),0,FH7) -> 0 | FR7: =IF(AND(FL7="",OR(FT$3="",FT$4="")),0,FL7) -> 0 | FS7: =IF(ISNUMBER(FE$1),IF(AND(FE7="",FF7="",FG7=""),IF(ISNUMBER($BV7),$BV7,),),) -> 0 | FT7: =IF($CN7="","",IF(AND(FT$1>=$CN7,FT$1<=$CO7,$AG7="",OR(GH$3="",GH$4="")),1,"")) | FU7: =IF($CQ7="","",IF(AND(FT$1>=$CQ7,FT$1<=$CR7),1,"")) | FV7: =IF($CT7="","",IF(AND(FT$1>=$CT7,FT$1<=$CU7),1,"")) | FX7: =IF(ISNUMBER(FT$1),IF(AND(GH$3="",GH$4=""),IF(FT7="",,-($BZ7)),),) -> 0 | FY7: =IF(ISNUMBER(FT$1),IF(FU7="",,-($BZ7)),) -> 0 | FZ7: =IF(ISNUMBER(FT$1),IF(FV7="",,-($BZ7)),) -> 0 | GB7: =IF(ISNUMBER(FT$1),IF(AND(FT7="",FU7="",FV7=""),IF(ISNUMBER($CC7),$CC7,),),) -> 0 | GE7: =IF(ISNUMBER(FT$1),IF($AG7="",,IF(AND(FT7="",FU7="",FV7=""),IF(AND(GH$3="",GH$4=""),,IF(GH$4="",$BZ7,$BZ7*2)),)),) -> 0 | GF7: =IF(AND(FW7="",OR(GH$3="",GH$4="")),0,FW7) -> 0 | GG7: =IF(AND(GA7="",OR(GI$3="",GI$4="")),0,GA7) -> 0 | GH7: =IF(ISNUMBER(FT$1),IF(AND(FT7="",FU7="",FV7=""),IF(ISNUMBER($CD7),$CD7,),),) -> 0 | GI7: =IF($CN7="","",IF(AND(GI$1>=$CN7,GI$1<=$CO7,$AG7="",OR(GW$3="",GW$4="")),1,"")) | GJ7: =IF($CQ7="","",IF(AND(GI$1>=$CQ7,GI$1<=$CR7),1,"")) | GK7: =IF($CT7="","",IF(AND(GI$1>=$CT7,GI$1<=$CU7),1,"")) | GM7: =IF(ISNUMBER(GI$1),IF(AND(GW$3="",GW$4=""),IF(GI7="",,-($CG7)),),) -> 0 | GN7: =IF(ISNUMBER(GI$1),IF(GJ7="",,-($CG7)),) -> 0 | GO7: =IF(ISNUMBER(GI$1),IF(GK7="",,-($CG7)),) -> 0 | GQ7: =IF(ISNUMBER(GI$1),IF(AND(GI7="",GJ7="",GK7=""),IF(ISNUMBER($CK7),$CK7,),),) -> 0 | GT7: =IF(ISNUMBER(GI$1),IF($AG7="",,IF(AND($GI7="",$GJ7="",$GK7=""),IF(AND(GZ$3="",GZ$4=""),,IF(GZ$4="",$CH7,$CH7*2)),)),) -> 0 | GU7: =IF(AND(GL7="",OR(GZ$3="",GHE5="")),0,GL7) -> 0 | GV7: =IF(AND(GP7="",OR(GZ$3="",GZ$4="")),0,GP7) -> 0 | GW7: =IF(ISNUMBER(GI$1),IF(AND(GI7="",GJ7="",GK7=""),IF(ISNUMBER($CL7),$CL7,),),) -> 0 | GX7: =IF(GL7="",0,GL7) -> 0 | GY7: =IF(GP7="",0,GP7) -> 0 | GZ7: =IF(ISNUMBER(GI$1),IF(AND(GI7="",GJ7="",GJ7=""),IF(ISNUMBER($CM7),$CM7,),),) -> 0 | HA7: =IF($CN7="","",IF(AND(HA$1>=$CN7,HA$1<=$CO7,$AG7="",OR(HO$3="",HO$4="")),1,"")) | HB7: =IF($CQ7="","",IF(AND(HA$1>=$CQ7,HA$1<=$CR7),1,"")) | HC7: =IF($CT7="","",IF(AND(HA$1>=$CT7,HA$1<=$CU7),1,"")) | HE7: =IF(ISNUMBER(HA$1),IF(AND(HO$3="",HO$4=""),IF(HA7="",,-($AL7)),),) -> 0 | HF7: =IF(ISNUMBER(HA$1),IF(HB7="",,-($AL7)),) -> 0 | HG7: =IF(ISNUMBER(HA$1),IF(HC7="",,-($AL7)),) -> 0 | HI7: =IF(ISNUMBER(HA$1),IF(AND(HA7="",HB7="",HC7=""),IF(ISNUMBER($AO7),$AO7,),),) -> 0 | HL7: =IF(ISNUMBER(HA$1),IF($AG7="",,IF(AND(HA7="",HB7="",HC7=""),IF(AND(HO$3="",HO$4=""),,IF(HO$4="",$BZ7,$BZ7*2)),)),) -> 0 | HM7: =IF(AND(HD7="",OR(HO$3="",HO$4="")),0,HD7) -> 0 | HN7: =IF(AND(HH7="",OR(HP$3="",HP$4="")),0,HH7) -> 0 | HO7: =IF(ISNUMBER(HA$1),IF(AND(HA7="",HB7="",HC7=""),IF(ISNUMBER($AP7),$AP7,),),) -> 0 | HP7: =IF($CN7="","",IF(AND(HP$1>=$CN7,HP$1<=$CO7,$AG7="",OR(ID$3="",ID$4="")),1,"")) | HQ7: =IF($CQ7="","",IF(AND(HP$1>=$CQ7,HP$1<=$CR7),1,"")) | HR7: =IF($CT7="","",IF(AND(HP$1>=$CT7,HP$1<=$CU7),1,"")) | HT7: =IF(ISNUMBER(HP$1),IF(AND(ID$3="",ID$4=""),IF(HP7="",,-($AT7)),),) -> 0 | HU7: =IF(ISNUMBER(HP$1),IF(HQ7="",,-($AT7)),) -> 0 | HV7: =IF(ISNUMBER(HP$1),IF(HR7="",,-($AT7)),) -> 0 | HX7: =IF(ISNUMBER(HP$1),IF(AND(HP7="",HQ7="",HR7=""),IF(ISNUMBER($AW7),$AW7,),),) -> 0 | IA7: =IF(ISNUMBER(HP$1),IF($AG7="",,IF(AND(HP7="",HQ7="",HR7=""),IF(AND(ID$3="",ID$4=""),,IF(ID$4="",$BZ7,$BZ7*2)),)),) -> 0 | IB7: =IF(AND(HS7="",OR(ID$3="",ID$4="")),0,HS7) -> 0 | IC7: =IF(AND(HW7="",OR(IE$3="",IE$4="")),0,HW7) -> 0 | ID7: =IF(ISNUMBER(HP$1),IF(AND(HP7="",HQ7="",HR7=""),IF(ISNUMBER($AX7),$AX7,),),) -> 0 | IE7: =IF($CN7="","",IF(AND(IE$1>=$CN7,IE$1<=$CO7,$AG7="",OR(IS$3="",IS$4="")),1,"")) | IF7: =IF($CQ7="","",IF(AND(IE$1>=$CQ7,IE$1<=$CR7),1,"")) | IG7: =IF($CT7="","",IF(AND(IE$1>=$CT7,IE$1<=$CU7),1,"")) | II7: =IF(ISNUMBER(IE$1),IF(AND(IS$3="",IS$4=""),IF(IE7="",,-($BB7)),),) -> 0 | IJ7: =IF(ISNUMBER(IE$1),IF(IF7="",,-($BB7)),) -> 0 | IK7: =IF(ISNUMBER(IE$1),IF(IG7="",,-($BB7)),) -> 0 | IM7: =IF(ISNUMBER(IE$1),IF(AND(IE7="",IF7="",IG7=""),IF(ISNUMBER($BE7),$BE7,),),) -> 0 | IP7: =IF(ISNUMBER(IE$1),IF($AG7="",,IF(AND(IE7="",IF7="",IG7=""),IF(AND(IS$3="",IS$4=""),,IF(IS$4="",$BZ7,$BZ7*2)),)),) -> 0 | IQ7: =IF(AND(IH7="",OR(IS$3="",IS$4="")),0,IH7) -> 0 | IR7: =IF(AND(IL7="",OR(IT$3="",IT$4="")),0,IL7) -> 0 | IS7: =IF(ISNUMBER(IE$1),IF(AND(IE7="",IF7="",IG7=""),IF(ISNUMBER($BF7),$BF7,),),) -> 0 | IT7: =IF($CN7="","",IF(AND(IT$1>=$CN7,IT$1<=$CO7,$AG7="",OR(JH$3="",JH$4="")),1,"")) | IU7: =IF($CQ7="","",IF(AND(IT$1>=$CQ7,IT$1<=$CR7),1,"")) | IV7: =IF($CT7="","",IF(AND(IT$1>=$CT7,IT$1<=$CU7),1,"")) | IX7: =IF(ISNUMBER(IT$1),IF(AND(JH$3="",JH$4=""),IF(IT7="",,-($BJ7)),),) -> 0 | IY7: =IF(ISNUMBER(IT$1),IF(IU7="",,-($BJ7)),) -> 0 | IZ7: =IF(ISNUMBER(IT$1),IF(IV7="",,-($BJ7)),) -> 0 | JB7: =IF(ISNUMBER(IT$1),IF(AND(IT7="",IU7="",IV7=""),IF(ISNUMBER($BM7),$BM7,),),) -> 0 | JE7: =IF(ISNUMBER(IT$1),IF($AG7="",,IF(AND(IT7="",IU7="",IV7=""),IF(AND(JH$3="",JH$4=""),,IF(JH$4="",$BZ7,$BZ7*2)),)),) -> 0 | JF7: =IF(AND(IW7="",OR(JH$3="",JH$4="")),0,IW7) -> 0 | JG7: =IF(AND(JA7="",OR(JI$3="",JI$4="")),0,JA7) -> 0 | JH7: =IF(ISNUMBER(IT$1),IF(AND(IT7="",IU7="",IV7=""),IF(ISNUMBER($BN7),$BN7,),),) -> 0 | JI7: =IF($CN7="","",IF(AND(JI$1>=$CN7,JI$1<=$CO7,$AG7="",OR(JW$3="",JW$4="")),1,"")) | JJ7: =IF($CQ7="","",IF(AND(JI$1>=$CQ7,JI$1<=$CR7),1,"")) | JK7: =IF($CT7="","",IF(AND(JI$1>=$CT7,JI$1<=$CU7),1,"")) | JM7: =IF(ISNUMBER(JI$1),IF(AND(JW$3="",JW$4=""),IF(JI7="",,-($BR7)),),) -> 0 | JN7: =IF(ISNUMBER(JI$1),IF(JJ7="",,-($BR7)),) -> 0 | JO7: =IF(ISNUMBER(JI$1),IF(JK7="",,-($BR7)),) -> 0 | JQ7: =IF(ISNUMBER(JI$1),IF(AND(JI7="",JJ7="",JK7=""),IF(ISNUMBER($BU7),$BU7,),),) -> 0 | JT7: =IF(ISNUMBER(JI$1),IF($AG7="",,IF(AND(JI7="",JJ7="",JK7=""),IF(AND(JW$3="",JW$4=""),,IF(JW$4="",$BZ7,$BZ7*2)),)),) -> 0 | JU7: =IF(AND(JL7="",OR(JW$3="",JW$4="")),0,JL7) -> 0 | JV7: =IF(AND(JP7="",OR(JX$3="",JX$4="")),0,JP7) -> 0 | JW7: =IF(ISNUMBER(JI$1),IF(AND(JI7="",JJ7="",JK7=""),IF(ISNUMBER($BV7),$BV7,),),) -> 0 | JX7: =IF($CN7="","",IF(AND(JX$1>=$CN7,JX$1<=$CO7,$AG7="",OR(KL$3="",KL$4="")),1,"")) | JY7: =IF($CQ7="","",IF(AND(JX$1>=$CQ7,JX$1<=$CR7),1,"")) | JZ7: =IF($CT7="","",IF(AND(JX$1>=$CT7,JX$1<=$CU7),1,"")) | KB7: =IF(ISNUMBER(JX$1),IF(AND(KL$3="",KL$4=""),IF(JX7="",,-($BZ7)),),) -> 0 | KC7: =IF(ISNUMBER(JX$1),IF(JY7="",,-($BZ7)),) -> 0 | KD7: =IF(ISNUMBER(JX$1),IF(JZ7="",,-($BZ7)),) -> 0 | KF7: =IF(ISNUMBER(JX$1),IF(AND(JX7="",JY7="",JZ7=""),IF(ISNUMBER($CC7),$CC7,),),) -> 0 | KI7: =IF(ISNUMBER(JX$1),IF($AG7="",,IF(AND(JX7="",JY7="",JZ7=""),IF(AND(KL$3="",KL$4=""),,IF(KL$4="",$BZ7,$BZ7*2)),)),) -> 0 | KJ7: =IF(AND(KA7="",OR(KL$3="",KL$4="")),0,KA7) -> 0 | KK7: =IF(AND(KE7="",OR(KM$3="",KM$4="")),0,KE7) -> 0 | KL7: =IF(ISNUMBER(JX$1),IF(AND(JX7="",JY7="",JZ7=""),IF(ISNUMBER($CD7),$CD7,),),) -> 0 | KM7: =IF($CN7="","",IF(AND(KM$1>=$CN7,KM$1<=$CO7,$AG7="",OR(LA$3="",LA$4="")),1,"")) | KN7: =IF($CQ7="","",IF(AND(KM$1>=$CQ7,KM$1<=$CR7),1,"")) | KO7: =IF($CT7="","",IF(AND(KM$1>=$CT7,KM$1<=$CU7),1,"")) | KQ7: =IF(ISNUMBER(KM$1),IF(AND(LA$3="",LA$4=""),IF(KM7="",,-($CG7)),),) -> 0 | KR7: =IF(ISNUMBER(KM$1),IF(KN7="",,-($CG7)),) -> 0 | KS7: =IF(ISNUMBER(KM$1),IF(KO7="",,-($CG7)),) -> 0 | KU7: =IF(ISNUMBER(KM$1),IF(AND(KM7="",KN7="",KO7=""),IF(ISNUMBER($CK7),$CK7,),),) -> 0 | KX7: =IF(ISNUMBER(KM$1),IF($AG7="",,IF(AND($GI7="",$GJ7="",$GK7=""),IF(AND(LD$3="",LD$4=""),,IF(LD$4="",$CH7,$CH7*2)),)),) -> 0 | KY7: =IF(AND(KP7="",OR(LD$3="",GLI5="")),0,KP7) -> 0 | KZ7: =IF(AND(KT7="",OR(LD$3="",LD$4="")),0,KT7) -> 0 | LA7: =IF(ISNUMBER(KM$1),IF(AND(KM7="",KN7="",KO7=""),IF(ISNUMBER($CL7),$CL7,),),) -> 0 | LB7: =IF(KP7="",0,KP7) -> 0 | LC7: =IF(KT7="",0,KT7) -> 0 | LD7: =IF(ISNUMBER(KM$1),IF(AND(KM7="",KN7="",KN7=""),IF(ISNUMBER($CM7),$CM7,),),) -> 0 | LE7: =IF($CN7="","",IF(AND(LE$1>=$CN7,LE$1<=$CO7,$AG7="",OR(LS$3="",LS$4="")),1,"")) | LF7: =IF($CQ7="","",IF(AND(LE$1>=$CQ7,LE$1<=$CR7),1,"")) | LG7: =IF($CT7="","",IF(AND(LE$1>=$CT7,LE$1<=$CU7),1,"")) | LI7: =IF(ISNUMBER(LE$1),IF(AND(LS$3="",LS$4=""),IF(LE7="",,-($AL7)),),) -> 0 | LJ7: =IF(ISNUMBER(LE$1),IF(LF7="",,-($AL7)),) -> 0 | LK7: =IF(ISNUMBER(LE$1),IF(LG7="",,-($AL7)),) -> 0 | LM7: =IF(ISNUMBER(LE$1),IF(AND(LE7="",LF7="",LG7=""),IF(ISNUMBER($AO7),$AO7,),),) -> 0 | LP7: =IF(ISNUMBER(LE$1),IF($AG7="",,IF(AND(LE7="",LF7="",LG7=""),IF(AND(LS$3="",LS$4=""),,IF(LS$4="",$AL7,$AL7*2)),)),) -> 0 | LQ7: =IF(AND(LH7="",OR(LS$3="",LS$4="")),0,IF(LS$4="x",LH7*2,LH7)) -> 0 | LR7: =IF(AND(LL7="",OR(LT$3="",LT$4="")),0,LL7) -> 0 | LS7: =IF(ISNUMBER(LE$1),IF(AND(LE7="",LF7="",LG7=""),IF(ISNUMBER($AP7),$AP7,),),) -> 0 | LT7: =IF($CN7="","",IF(AND(LT$1>=$CN7,LT$1<=$CO7,$AG7="",OR(MH$3="",MH$4="")),1,"")) | LU7: =IF($CQ7="","",IF(AND(LT$1>=$CQ7,LT$1<=$CR7),1,"")) | LV7: =IF($CT7="","",IF(AND(LT$1>=$CT7,LT$1<=$CU7),1,"")) | LX7: =IF(ISNUMBER(LT$1),IF(AND(MH$3="",MH$4=""),IF(LT7="",,-($AL7)),),) -> 0 | LY7: =IF(ISNUMBER(LT$1),IF(LU7="",,-($AL7)),) -> 0 | LZ7: =IF(ISNUMBER(LT$1),IF(LV7="",,-($AL7)),) -> 0 | MB7: =IF(ISNUMBER(LT$1),IF(AND(LT7="",LU7="",LV7=""),IF(ISNUMBER($AW7),$AW7,),),) -> 0 | ME7: =IF(ISNUMBER(LT$1),IF($AG7="",,IF(AND(LT7="",LU7="",LV7=""),IF(AND(MH$3="",MH$4=""),,IF(MH$4="",$AT7,$AT7*2)),)),) -> 0 | MF7: =IF(AND(LW7="",OR(MH$3="",MH$4="")),0,IF(MH$4="x",LW7*2,LW7)) -> 0 | MG7: =IF(AND(MA7="",OR(MI$3="",MI$4="")),0,MA7) -> 0 | MH7: =IF(ISNUMBER(LT$1),IF(AND(LT7="",LU7="",LV7=""),IF(ISNUMBER($AX7),$AX7,),),) -> 0 | MI7: =IF($CN7="","",IF(AND(MI$1>=$CN7,MI$1<=$CO7,$AG7="",OR(MW$3="",MW$4="")),1,"")) | MJ7: =IF($CQ7="","",IF(AND(MI$1>=$CQ7,MI$1<=$CR7),1,"")) | MK7: =IF($CT7="","",IF(AND(MI$1>=$CT7,MI$1<=$CU7),1,"")) | MM7: =IF(ISNUMBER(MI$1),IF(AND(MW$3="",MW$4=""),IF(MI7="",,-($AL7)),),) -> 0 | MN7: =IF(ISNUMBER(MI$1),IF(MJ7="",,-($AL7)),) -> 0 | MO7: =IF(ISNUMBER(MI$1),IF(MK7="",,-($AL7)),) -> 0 | MQ7: =IF(ISNUMBER(MI$1),IF(AND(MI7="",MJ7="",MK7=""),IF(ISNUMBER($BE7),$BE7,),),) -> 0 | MT7: =IF(ISNUMBER(MI$1),IF($AG7="",,IF(AND(MI7="",MJ7="",MK7=""),IF(AND(MW$3="",MW$4=""),,IF(MW$4="",$BB7,$BB7*2)),)),) -> 0 | MU7: =IF(AND(ML7="",OR(MW$3="",MW$4="")),0,IF(MW$4="x",ML7*2,ML7)) -> 0 | MV7: =IF(AND(MP7="",OR(MX$3="",MX$4="")),0,MP7) -> 0 | MW7: =IF(ISNUMBER(MI$1),IF(AND(MI7="",MJ7="",MK7=""),IF(ISNUMBER($BF7),$BF7,),),) -> 0 | MX7: =IF($CN7="","",IF(AND(MX$1>=$CN7,MX$1<=$CO7,$AG7="",OR(NL$3="",NL$4="")),1,"")) | MY7: =IF($CQ7="","",IF(AND(MX$1>=$CQ7,MX$1<=$CR7),1,"")) | MZ7: =IF($CT7="","",IF(AND(MX$1>=$CT7,MX$1<=$CU7),1,"")) | NB7: =IF(ISNUMBER(MX$1),IF(AND(NL$3="",NL$4=""),IF(MX7="",,-($AL7)),),) -> 0 | NC7: =IF(ISNUMBER(MX$1),IF(MY7="",,-($AL7)),) -> 0 | ND7: =IF(ISNUMBER(MX$1),IF(MZ7="",,-($AL7)),) -> 0 | NF7: =IF(ISNUMBER(MX$1),IF(AND(MX7="",MY7="",MZ7=""),IF(ISNUMBER($BM7),$BM7,),),) -> 0 | NI7: =IF(ISNUMBER(MX$1),IF($AG7="",,IF(AND(MX7="",MY7="",MZ7=""),IF(AND(NL$3="",NL$4=""),,IF(NL$4="",$BJ7,$BJ7*2)),)),) -> 0 | NJ7: =IF(AND(NA7="",OR(NL$3="",NL$4="")),0,IF(NL$4="x",NA7*2,NA7)) -> 0 | NK7: =IF(AND(NE7="",OR(NM$3="",NM$4="")),0,NE7) -> 0 | NL7: =IF(ISNUMBER(MX$1),IF(AND(MX7="",MY7="",MZ7=""),IF(ISNUMBER($BN7),$BN7,),),) -> 0 | NM7: =IF($CN7="","",IF(AND(NM$1>=$CN7,NM$1<=$CO7,$AG7="",OR(OA$3="",OA$4="")),1,"")) | NN7: =IF($CQ7="","",IF(AND(NM$1>=$CQ7,NM$1<=$CR7),1,"")) | NO7: =IF($CT7="","",IF(AND(NM$1>=$CT7,NM$1<=$CU7),1,"")) | NQ7: =IF(ISNUMBER(NM$1),IF(AND(OA$3="",OA$4=""),IF(NM7="",,-($AL7)),),) -> 0 | NR7: =IF(ISNUMBER(NM$1),IF(NN7="",,-($AL7)),) -> 0 | NS7: =IF(ISNUMBER(NM$1),IF(NO7="",,-($AL7)),) -> 0 | NU7: =IF(ISNUMBER(NM$1),IF(AND($FE7="",$FF7="",$FG7=""),IF(ISNUMBER($BU7),$BU7,),),) -> 0 | NX7: =IF(ISNUMBER(NM$1),IF($AG7="",,IF(AND($FE7="",$FF7="",$FG7=""),IF(AND(OA$3="",OA$4=""),,IF(OA$4="",$BR7,$BR7*2)),)),) -> 0 | NY7: =IF(AND(NP7="",OR(OA$3="",OA$4="")),0,IF(OA$4="x",NP7*2,NP7)) -> 0 | NZ7: =IF(AND(NT7="",OR(OB$3="",OB$4="")),0,NT7) -> 0 | OA7: =IF(ISNUMBER(NM$1),IF(AND(NM7="",NN7="",NO7=""),IF(ISNUMBER($BV7),$BV7,),),) -> 0 | OB7: =IF($CN7="","",IF(AND(OB$1>=$CN7,OB$1<=$CO7,$AG7="",OR(OP$3="",OP$4="")),1,"")) | OC7: =IF($CQ7="","",IF(AND(OB$1>=$CQ7,OB$1<=$CR7),1,"")) | OD7: =IF($CT7="","",IF(AND(OB$1>=$CT7,OB$1<=$CU7),1,"")) | OF7: =IF(ISNUMBER(OB$1),IF(AND(OP$3="",OP$4=""),IF(OB7="",,-($AL7)),),) -> 0 | OG7: =IF(ISNUMBER(OB$1),IF(OC7="",,-($AL7)),) -> 0 | OH7: =IF(ISNUMBER(OB$1),IF(OD7="",,-($AL7)),) -> 0 | OJ7: =IF(ISNUMBER(OB$1),IF(AND(OB7="",OC7="",OD7=""),IF(ISNUMBER($CC7),$CC7,),),) -> 0 | OM7: =IF(ISNUMBER(OB$1),IF($AG7="",,IF(AND(OB7="",OC7="",OD7=""),IF(AND(OP$3="",OP$4=""),,IF(OP$4="",$BZ7,$BZ7*2)),)),) -> 0 | ON7: =IF(AND(OE7="",OR(OP$3="",OP$4="")),0,IF(OP$4="x",OE7*2,OE7)) -> 0 | OO7: =IF(AND(OI7="",OR(OQ$3="",OQ$4="")),0,OI7) -> 0 | OP7: =IF(ISNUMBER(OB$1),IF(AND(OB7="",OC7="",OD7=""),IF(ISNUMBER($CD7),$CD7,),),) -> 0 | OQ7: =IF($CN7="","",IF(AND(OQ$1>=$CN7,OQ$1<=$CO7,$AG7="",OR(PE$3="",PE$4="")),1,"")) | OR7: =IF($CQ7="","",IF(AND(OQ$1>=$CQ7,OQ$1<=$CR7),1,"")) | OS7: =IF($CT7="","",IF(AND(OQ$1>=$CT7,OQ$1<=$CU7),1,"")) | OU7: =IF(ISNUMBER(OQ$1),IF(AND(PE$3="",PE$4=""),IF(OQ7="",,-($AL7)),),) -> 0 | OV7: =IF(ISNUMBER(OQ$1),IF(OR7="",,-($AL7)),) -> 0 | OW7: =IF(ISNUMBER(OQ$1),IF(OS7="",,-($AL7)),) -> 0 | OY7: =IF(ISNUMBER(OQ$1),IF(AND(OQ7="",OR7="",OS7=""),IF(ISNUMBER($CK7),$CK7,),),) -> 0 | PB7: =IF(ISNUMBER(OQ$1),IF($AG7="",,IF(AND($GI7="",$GJ7="",$GK7=""),IF(AND(PH$3="",PH$4=""),,IF(PH$4="",$CH7,$CH7*2)),)),) -> 0 | PC7: =IF(AND(OT7="",OR(PH$3="",GOY5="")),0,IF(PH$4="x",OT7*2,OT7)) -> 0 | PD7: =IF(AND(OX7="",OR(PH$3="",PH$4="")),0,OX7) -> 0 | PE7: =IF(ISNUMBER(OQ$1),IF(AND(OQ7="",OR7="",OS7=""),IF(ISNUMBER($CL7),$CL7,),),) -> 0 | PF7: =IF(OT7="",0,OT7) -> 0 | PG7: =IF(OX7="",0,OX7) -> 0 | PH7: =IF(ISNUMBER(OQ$1),IF(AND(OQ7="",OR7="",OR7=""),IF(ISNUMBER($CM7),$CM7,),),) -> 0 | PI7: =IF($CN7="","",IF(AND(PI$1>=$CN7,PI$1<=$CO7,$AG7="",OR(PW$3="",PW$4="")),1,"")) | PJ7: =IF($CQ7="","",IF(AND(PI$1>=$CQ7,PI$1<=$CR7),1,"")) | PK7: =IF($CT7="","",IF(AND(PI$1>=$CT7,PI$1<=$CU7),1,"")) | PM7: =IF(ISNUMBER(PI$1),IF(AND(PW$3="",PW$4=""),IF(PI7="",,-($AL7)),),) -> 0 | PN7: =IF(ISNUMBER(PI$1),IF(PJ7="",,-($AL7)),) -> 0 | PO7: =IF(ISNUMBER(PI$1),IF(PK7="",,-($AL7)),) -> 0 | PQ7: =IF(ISNUMBER(PI$1),IF(AND(PI7="",PJ7="",PK7=""),IF(ISNUMBER($AO7),$AO7,),),) -> 0 | PT7: =IF(ISNUMBER(PI$1),IF($AG7="",,IF(AND(PI7="",PJ7="",PK7=""),IF(AND(PW$3="",PW$4=""),,IF(PW$4="",$AL7,$AL7*2)),)),) -> 0 | PU7: =IF(AND(PL7="",OR(PW$3="",PW$4="")),0,IF(PW$4="x",PL7*2,PL7)) -> 0 | PV7: =IF(AND(PP7="",OR(PX$3="",PX$4="")),0,PP7) -> 0 | PW7: =IF(ISNUMBER(PI$1),IF(AND(PI7="",PJ7="",PK7=""),IF(ISNUMBER($AP7),$AP7,),),) -> 0 | PX7: =IF($CN7="","",IF(AND(PX$1>=$CN7,PX$1<=$CO7,$AG7="",OR(QL$3="",QL$4="")),1,"")) | PY7: =IF($CQ7="","",IF(AND(PX$1>=$CQ7,PX$1<=$CR7),1,"")) | PZ7: =IF($CT7="","",IF(AND(PX$1>=$CT7,PX$1<=$CU7),1,"")) | QB7: =IF(ISNUMBER(PX$1),IF(AND(QL$3="",QL$4=""),IF(PX7="",,-($AL7)),),) -> 0 | QC7: =IF(ISNUMBER(PX$1),IF(PY7="",,-($AL7)),) -> 0 | QD7: =IF(ISNUMBER(PX$1),IF(PZ7="",,-($AL7)),) -> 0 | QF7: =IF(ISNUMBER(PX$1),IF(AND(PX7="",PY7="",PZ7=""),IF(ISNUMBER($AW7),$AW7,),),) -> 0 | QI7: =IF(ISNUMBER(PX$1),IF($AG7="",,IF(AND(PX7="",PY7="",PZ7=""),IF(AND(QL$3="",QL$4=""),,IF(QL$4="",$AT7,$AT7*2)),)),) -> 0 | QJ7: =IF(AND(QA7="",OR(QL$3="",QL$4="")),0,IF(QL$4="x",QA7*2,QA7)) -> 0 | QK7: =IF(AND(QE7="",OR(QM$3="",QM$4="")),0,QE7) -> 0 | QL7: =IF(ISNUMBER(PX$1),IF(AND(PX7="",PY7="",PZ7=""),IF(ISNUMBER($AX7),$AX7,),),) -> 0 | QM7: =IF($CN7="","",IF(AND(QM$1>=$CN7,QM$1<=$CO7,$AG7="",OR(RA$3="",RA$4="")),1,"")) | QN7: =IF($CQ7="","",IF(AND(QM$1>=$CQ7,QM$1<=$CR7),1,"")) | QO7: =IF($CT7="","",IF(AND(QM$1>=$CT7,QM$1<=$CU7),1,"")) | QQ7: =IF(ISNUMBER(QM$1),IF(AND(RA$3="",RA$4=""),IF(QM7="",,-($AL7)),),) -> 0 | QR7: =IF(ISNUMBER(QM$1),IF(QN7="",,-($AL7)),) -> 0 | QS7: =IF(ISNUMBER(QM$1),IF(QO7="",,-($AL7)),) -> 0 | QU7: =IF(ISNUMBER(QM$1),IF(AND(QM7="",QN7="",QO7=""),IF(ISNUMBER($BE7),$BE7,),),) -> 0 | QX7: =IF(ISNUMBER(QM$1),IF($AG7="",,IF(AND(QM7="",QN7="",QO7=""),IF(AND(RA$3="",RA$4=""),,IF(RA$4="",$BB7,$BB7*2)),)),) -> 0 | QY7: =IF(AND(QP7="",OR(RA$3="",RA$4="")),0,IF(RA$4="x",QP7*2,QP7)) -> 0 | QZ7: =IF(AND(QT7="",OR(RB$3="",RB$4="")),0,QT7) -> 0 | RA7: =IF(ISNUMBER(QM$1),IF(AND(QM7="",QN7="",QO7=""),IF(ISNUMBER($BF7),$BF7,),),) -> 0 | RB7: =IF($CN7="","",IF(AND(RB$1>=$CN7,RB$1<=$CO7,$AG7="",OR(RP$3="",RP$4="")),1,"")) | RC7: =IF($CQ7="","",IF(AND(RB$1>=$CQ7,RB$1<=$CR7),1,"")) | RD7: =IF($CT7="","",IF(AND(RB$1>=$CT7,RB$1<=$CU7),1,"")) | RF7: =IF(ISNUMBER(RB$1),IF(AND(RP$3="",RP$4=""),IF(RB7="",,-($AL7)),),) -> 0 | RG7: =IF(ISNUMBER(RB$1),IF(RC7="",,-($AL7)),) -> 0 | RH7: =IF(ISNUMBER(RB$1),IF(RD7="",,-($AL7)),) -> 0 | RJ7: =IF(ISNUMBER(RB$1),IF(AND(RB7="",RC7="",RD7=""),IF(ISNUMBER($BM7),$BM7,),),) -> 0 | RM7: =IF(ISNUMBER(RB$1),IF($AG7="",,IF(AND(RB7="",RC7="",RD7=""),IF(AND(RP$3="",RP$4=""),,IF(RP$4="",$BJ7,$BJ7*2)),)),) -> 0 | RN7: =IF(AND(RE7="",OR(RP$3="",RP$4="")),0,IF(RP$4="x",RE7*2,RE7)) -> 0 | RO7: =IF(AND(RI7="",OR(RQ$3="",RQ$4="")),0,RI7) -> 0 | RP7: =IF(ISNUMBER(RB$1),IF(AND(RB7="",RC7="",RD7=""),IF(ISNUMBER($BN7),$BN7,),),) -> 0 | RQ7: =IF($CN7="","",IF(AND(RQ$1>=$CN7,RQ$1<=$CO7,$AG7="",OR(SE$3="",SE$4="")),1,"")) | RR7: =IF($CQ7="","",IF(AND(RQ$1>=$CQ7,RQ$1<=$CR7),1,"")) | RS7: =IF($CT7="","",IF(AND(RQ$1>=$CT7,RQ$1<=$CU7),1,"")) | RU7: =IF(ISNUMBER(RQ$1),IF(AND(SE$3="",SE$4=""),IF(RQ7="",,-($AL7)),),) -> 0 | RV7: =IF(ISNUMBER(RQ$1),IF(RR7="",,-($AL7)),) -> 0 | RW7: =IF(ISNUMBER(RQ$1),IF(RS7="",,-($AL7)),) -> 0 | RY7: =IF(ISNUMBER(RQ$1),IF(AND($FE7="",$FF7="",$FG7=""),IF(ISNUMBER($BU7),$BU7,),),) -> 0 | SB7: =IF(ISNUMBER(RQ$1),IF($AG7="",,IF(AND($FE7="",$FF7="",$FG7=""),IF(AND(SE$3="",SE$4=""),,IF(SE$4="",$BR7,$BR7*2)),)),) -> 0 | SC7: =IF(AND(RT7="",OR(SE$3="",SE$4="")),0,IF(SE$4="x",RT7*2,RT7)) -> 0 | SD7: =IF(AND(RX7="",OR(SF$3="",SF$4="")),0,RX7) -> 0 | SE7: =IF(ISNUMBER(RQ$1),IF(AND(RQ7="",RR7="",RS7=""),IF(ISNUMBER($BV7),$BV7,),),) -> 0 | SF7: =IF($CN7="","",IF(AND(SF$1>=$CN7,SF$1<=$CO7,$AG7="",OR(ST$3="",ST$4="")),1,"")) | SG7: =IF($CQ7="","",IF(AND(SF$1>=$CQ7,SF$1<=$CR7),1,"")) | SH7: =IF($CT7="","",IF(AND(SF$1>=$CT7,SF$1<=$CU7),1,"")) | SJ7: =IF(ISNUMBER(SF$1),IF(AND(ST$3="",ST$4=""),IF(SF7="",,-($AL7)),),) -> 0 | SK7: =IF(ISNUMBER(SF$1),IF(SG7="",,-($AL7)),) -> 0 | SL7: =IF(ISNUMBER(SF$1),IF(SH7="",,-($AL7)),) -> 0 | SN7: =IF(ISNUMBER(SF$1),IF(AND(SF7="",SG7="",SH7=""),IF(ISNUMBER($CC7),$CC7,),),) -> 0 | SQ7: =IF(ISNUMBER(SF$1),IF($AG7="",,IF(AND(SF7="",SG7="",SH7=""),IF(AND(ST$3="",ST$4=""),,IF(ST$4="",$BZ7,$BZ7*2)),)),) -> 0 | SR7: =IF(AND(SI7="",OR(ST$3="",ST$4="")),0,IF(ST$4="x",SI7*2,SI7)) -> 0 | SS7: =IF(AND(SM7="",OR(SU$3="",SU$4="")),0,SM7) -> 0 | ST7: =IF(ISNUMBER(SF$1),IF(AND(SF7="",SG7="",SH7=""),IF(ISNUMBER($CD7),$CD7,),),) -> 0 | SU7: =IF($CN7="","",IF(AND(SU$1>=$CN7,SU$1<=$CO7,$AG7="",OR(TI$3="",TI$4="")),1,"")) | SV7: =IF($CQ7="","",IF(AND(SU$1>=$CQ7,SU$1<=$CR7),1,"")) | SW7: =IF($CT7="","",IF(AND(SU$1>=$CT7,SU$1<=$CU7),1,"")) | SY7: =IF(ISNUMBER(SU$1),IF(AND(TI$3="",TI$4=""),IF(SU7="",,-($AL7)),),) -> 0 | SZ7: =IF(ISNUMBER(SU$1),IF(SV7="",,-($AL7)),) -> 0 | TA7: =IF(ISNUMBER(SU$1),IF(SW7="",,-($AL7)),) -> 0 | TC7: =IF(ISNUMBER(SU$1),IF(AND(SU7="",SV7="",SW7=""),IF(ISNUMBER($CK7),$CK7,),),) -> 0 | TF7: =IF(ISNUMBER(SU$1),IF($AG7="",,IF(AND($GI7="",$GJ7="",$GK7=""),IF(AND(TL$3="",TL$4=""),,IF(TL$4="",$CH7,$CH7*2)),)),) -> 0 | TG7: =IF(AND(SX7="",OR(TL$3="",GSV5="")),0,IF(TL$4="x",SX7*2,SX7)) -> 0 | TH7: =IF(AND(TB7="",OR(TL$3="",TL$4="")),0,TB7) -> 0 | TI7: =IF(ISNUMBER(SU$1),IF(AND(SU7="",SV7="",SW7=""),IF(ISNUMBER($CL7),$CL7,),),) -> 0 | TJ7: =IF(SX7="",0,SX7) -> 0 | TK7: =IF(TB7="",0,TB7) -> 0 | TL7: =IF(ISNUMBER(SU$1),IF(AND(SU7="",SV7="",SV7=""),IF(ISNUMBER($CM7),$CM7,),),) -> 0 | TM7: =IF($CN7="","",IF(AND(TM$1>=$CN7,TM$1<=$CO7,$AG7="",OR(UA$3="",UA$4="")),1,"")) | TN7: =IF($CQ7="","",IF(AND(TM$1>=$CQ7,TM$1<=$CR7),1,"")) | TO7: =IF($CT7="","",IF(AND(TM$1>=$CT7,TM$1<=$CU7),1,"")) | TQ7: =IF(ISNUMBER(TM$1),IF(AND(UA$3="",UA$4=""),IF(TM7="",,-($AL7)),),) -> 0 | TR7: =IF(ISNUMBER(TM$1),IF(TN7="",,-($AL7)),) -> 0 | TS7: =IF(ISNUMBER(TM$1),IF(TO7="",,-($AL7)),) -> 0 | TU7: =IF(ISNUMBER(TM$1),IF(AND(TM7="",TN7="",TO7=""),IF(ISNUMBER($AO7),$AO7,),),) -> 0 | TX7: =IF(ISNUMBER(TM$1),IF($AG7="",,IF(AND(TM7="",TN7="",TO7=""),IF(AND(UA$3="",UA$4=""),,IF(UA$4="",$AL7,$AL7*2)),)),) -> 0 | TY7: =IF(AND(TP7="",OR(UA$3="",UA$4="")),0,IF(UA$4="x",TP7*2,TP7)) -> 0 | TZ7: =IF(AND(TT7="",OR(UB$3="",UB$4="")),0,TT7) -> 0 | UA7: =IF(ISNUMBER(TM$1),IF(AND(TM7="",TN7="",TO7=""),IF(ISNUMBER($AP7),$AP7,),),) -> 0 | UB7: =IF($CN7="","",IF(AND(UB$1>=$CN7,UB$1<=$CO7,$AG7="",OR(UP$3="",UP$4="")),1,"")) | UC7: =IF($CQ7="","",IF(AND(UB$1>=$CQ7,UB$1<=$CR7),1,"")) | UD7: =IF($CT7="","",IF(AND(UB$1>=$CT7,UB$1<=$CU7),1,"")) | UF7: =IF(ISNUMBER(UB$1),IF(AND(UP$3="",UP$4=""),IF(UB7="",,-($AL7)),),) -> 0 | UG7: =IF(ISNUMBER(UB$1),IF(UC7="",,-($AL7)),) -> 0 | UH7: =IF(ISNUMBER(UB$1),IF(UD7="",,-($AL7)),) -> 0 | UJ7: =IF(ISNUMBER(UB$1),IF(AND(UB7="",UC7="",UD7=""),IF(ISNUMBER($AW7),$AW7,),),) -> 0 | UM7: =IF(ISNUMBER(UB$1),IF($AG7="",,IF(AND(UB7="",UC7="",UD7=""),IF(AND(UP$3="",UP$4=""),,IF(UP$4="",$AT7,$AT7*2)),)),) -> 0 | UN7: =IF(AND(UE7="",OR(UP$3="",UP$4="")),0,IF(UP$4="x",UE7*2,UE7)) -> 0 | UO7: =IF(AND(UI7="",OR(UQ$3="",UQ$4="")),0,UI7) -> 0 | UP7: =IF(ISNUMBER(UB$1),IF(AND(UB7="",UC7="",UD7=""),IF(ISNUMBER($AX7),$AX7,),),) -> 0 | UQ7: =IF($CN7="","",IF(AND(UQ$1>=$CN7,UQ$1<=$CO7,$AG7="",OR(VE$3="",VE$4="")),1,"")) | UR7: =IF($CQ7="","",IF(AND(UQ$1>=$CQ7,UQ$1<=$CR7),1,"")) | US7: =IF($CT7="","",IF(AND(UQ$1>=$CT7,UQ$1<=$CU7),1,"")) | UU7: =IF(ISNUMBER(UQ$1),IF(AND(VE$3="",VE$4=""),IF(UQ7="",,-($AL7)),),) -> 0 | UV7: =IF(ISNUMBER(UQ$1),IF(UR7="",,-($AL7)),) -> 0 | UW7: =IF(ISNUMBER(UQ$1),IF(US7="",,-($AL7)),) -> 0 | UY7: =IF(ISNUMBER(UQ$1),IF(AND(UQ7="",UR7="",US7=""),IF(ISNUMBER($BE7),$BE7,),),) -> 0 | VB7: =IF(ISNUMBER(UQ$1),IF($AG7="",,IF(AND(UQ7="",UR7="",US7=""),IF(AND(VE$3="",VE$4=""),,IF(VE$4="",$BB7,$BB7*2)),)),) -> 0 | VC7: =IF(AND(UT7="",OR(VE$3="",VE$4="")),0,IF(VE$4="x",UT7*2,UT7)) -> 0 | VD7: =IF(AND(UX7="",OR(VF$3="",VF$4="")),0,UX7) -> 0 | VE7: =IF(ISNUMBER(UQ$1),IF(AND(UQ7="",UR7="",US7=""),IF(ISNUMBER($BF7),$BF7,),),) -> 0 | VF7: =IF($CN7="","",IF(AND(VF$1>=$CN7,VF$1<=$CO7,$AG7="",OR(VT$3="",VT$4="")),1,"")) | VG7: =IF($CQ7="","",IF(AND(VF$1>=$CQ7,VF$1<=$CR7),1,"")) | VH7: =IF($CT7="","",IF(AND(VF$1>=$CT7,VF$1<=$CU7),1,"")) | VJ7: =IF(ISNUMBER(VF$1),IF(AND(VT$3="",VT$4=""),IF(VF7="",,-($AL7)),),) -> 0 | VK7: =IF(ISNUMBER(VF$1),IF(VG7="",,-($AL7)),) -> 0 | VL7: =IF(ISNUMBER(VF$1),IF(VH7="",,-($AL7)),) -> 0 | VN7: =IF(ISNUMBER(VF$1),IF(AND(VF7="",VG7="",VH7=""),IF(ISNUMBER($BM7),$BM7,),),) -> 0 | VQ7: =IF(ISNUMBER(VF$1),IF($AG7="",,IF(AND(VF7="",VG7="",VH7=""),IF(AND(VT$3="",VT$4=""),,IF(VT$4="",$BJ7,$BJ7*2)),)),) -> 0 | VR7: =IF(AND(VI7="",OR(VT$3="",VT$4="")),0,IF(VT$4="x",VI7*2,VI7)) -> 0 | VS7: =IF(AND(VM7="",OR(VU$3="",VU$4="")),0,VM7) -> 0 | VT7: =IF(ISNUMBER(VF$1),IF(AND(VF7="",VG7="",VH7=""),IF(ISNUMBER($BN7),$BN7,),),) -> 0 | VU7: =IF($CN7="","",IF(AND(VU$1>=$CN7,VU$1<=$CO7,$AG7="",OR(WI$3="",WI$4="")),1,"")) | VV7: =IF($CQ7="","",IF(AND(VU$1>=$CQ7,VU$1<=$CR7),1,"")) | VW7: =IF($CT7="","",IF(AND(VU$1>=$CT7,VU$1<=$CU7),1,"")) | VY7: =IF(ISNUMBER(VU$1),IF(AND(WI$3="",WI$4=""),IF(VU7="",,-($AL7)),),) -> 0 | VZ7: =IF(ISNUMBER(VU$1),IF(VV7="",,-($AL7)),) -> 0 | WA7: =IF(ISNUMBER(VU$1),IF(VW7="",,-($AL7)),) -> 0 | WC7: =IF(ISNUMBER(VU$1),IF(AND($FE7="",$FF7="",$FG7=""),IF(ISNUMBER($BU7),$BU7,),),) -> 0 | WF7: =IF(ISNUMBER(VU$1),IF($AG7="",,IF(AND($FE7="",$FF7="",$FG7=""),IF(AND(WI$3="",WI$4=""),,IF(WI$4="",$BR7,$BR7*2)),)),) -> 0 | WG7: =IF(AND(VX7="",OR(WI$3="",WI$4="")),0,IF(WI$4="x",VX7*2,VX7)) -> 0 | WH7: =IF(AND(WB7="",OR(WJ$3="",WJ$4="")),0,WB7) -> 0 | WI7: =IF(ISNUMBER(VU$1),IF(AND(VU7="",VV7="",VW7=""),IF(ISNUMBER($BV7),$BV7,),),) -> 0 | WJ7: =IF($CN7="","",IF(AND(WJ$1>=$CN7,WJ$1<=$CO7,$AG7="",OR(WX$3="",WX$4="")),1,"")) | WK7: =IF($CQ7="","",IF(AND(WJ$1>=$CQ7,WJ$1<=$CR7),1,"")) | WL7: =IF($CT7="","",IF(AND(WJ$1>=$CT7,WJ$1<=$CU7),1,"")) | WN7: =IF(ISNUMBER(WJ$1),IF(AND(WX$3="",WX$4=""),IF(WJ7="",,-($AL7)),),) -> 0 | WO7: =IF(ISNUMBER(WJ$1),IF(WK7="",,-($AL7)),) -> 0 | WP7: =IF(ISNUMBER(WJ$1),IF(WL7="",,-($AL7)),) -> 0 | WR7: =IF(ISNUMBER(WJ$1),IF(AND(WJ7="",WK7="",WL7=""),IF(ISNUMBER($CC7),$CC7,),),) -> 0 | WU7: =IF(ISNUMBER(WJ$1),IF($AG7="",,IF(AND(WJ7="",WK7="",WL7=""),IF(AND(WX$3="",WX$4=""),,IF(WX$4="",$BZ7,$BZ7*2)),)),) -> 0 | WV7: =IF(AND(WM7="",OR(WX$3="",WX$4="")),0,IF(WX$4="x",WM7*2,WM7)) -> 0 | WW7: =IF(AND(WQ7="",OR(WY$3="",WY$4="")),0,WQ7) -> 0 | WX7: =IF(ISNUMBER(WJ$1),IF(AND(WJ7="",WK7="",WL7=""),IF(ISNUMBER($CD7),$CD7,),),) -> 0 | WY7: =IF($CN7="","",IF(AND(WY$1>=$CN7,WY$1<=$CO7,$AG7="",OR(XM$3="",XM$4="")),1,"")) | WZ7: =IF($CQ7="","",IF(AND(WY$1>=$CQ7,WY$1<=$CR7),1,"")) | XA7: =IF($CT7="","",IF(AND(WY$1>=$CT7,WY$1<=$CU7),1,"")) | XC7: =IF(ISNUMBER(WY$1),IF(AND(XM$3="",XM$4=""),IF(WY7="",,-($AL7)),),) -> 0 | XD7: =IF(ISNUMBER(WY$1),IF(WZ7="",,-($AL7)),) -> 0 | XE7: =IF(ISNUMBER(WY$1),IF(XA7="",,-($AL7)),) -> 0 | XG7: =IF(ISNUMBER(WY$1),IF(AND(WY7="",WZ7="",XA7=""),IF(ISNUMBER($CK7),$CK7,),),) -> 0 | XJ7: =IF(ISNUMBER(WY$1),IF($AG7="",,IF(AND($GI7="",$GJ7="",$GK7=""),IF(AND(XP$3="",XP$4=""),,IF(XP$4="",$CH7,$CH7*2)),)),) -> 0 | XK7: =IF(AND(XB7="",OR(XP$3="",GWS5="")),0,IF(XP$4="x",XB7*2,XB7)) -> 0 | XL7: =IF(AND(XF7="",OR(XP$3="",XP$4="")),0,XF7) -> 0 | XM7: =IF(ISNUMBER(WY$1),IF(AND(WY7="",WZ7="",XA7=""),IF(ISNUMBER($CL7),$CL7,),),) -> 0 | XN7: =IF(XB7="",0,XB7) -> 0 | XO7: =IF(XF7="",0,XF7) -> 0 | XP7: =IF(ISNUMBER(WY$1),IF(AND(WY7="",WZ7="",WZ7=""),IF(ISNUMBER($CM7),$CM7,),),) -> 0 | XQ7: =IF($CN7="","",IF(AND(XQ$1>=$CN7,XQ$1<=$CO7,$AG7="",OR(YE$3="",YE$4="")),1,"")) | XR7: =IF($CQ7="","",IF(AND(XQ$1>=$CQ7,XQ$1<=$CR7),1,"")) | XS7: =IF($CT7="","",IF(AND(XQ$1>=$CT7,XQ$1<=$CU7),1,"")) | XU7: =IF(ISNUMBER(XQ$1),IF(AND(YE$3="",YE$4=""),IF(XQ7="",,-($AL7)),),) -> 0 | XV7: =IF(ISNUMBER(XQ$1),IF(XR7="",,-($AL7)),) -> 0 | XW7: =IF(ISNUMBER(XQ$1),IF(XS7="",,-($AL7)),) -> 0 | XY7: =IF(ISNUMBER(XQ$1),IF(AND(XQ7="",XR7="",XS7=""),IF(ISNUMBER($AO7),$AO7,),),) -> 0 | YB7: =IF(ISNUMBER(XQ$1),IF($AG7="",,IF(AND(XQ7="",XR7="",XS7=""),IF(AND(YE$3="",YE$4=""),,IF(YE$4="",$AL7,$AL7*2)),)),) -> 0 | YC7: =IF(AND(XT7="",OR(YE$3="",YE$4="")),0,IF(YE$4="x",XT7*2,XT7)) -> 0 | YD7: =IF(AND(XX7="",OR(YF$3="",YF$4="")),0,XX7) -> 0 | YE7: =IF(ISNUMBER(XQ$1),IF(AND(XQ7="",XR7="",XS7=""),IF(ISNUMBER($AP7),$AP7,),),) -> 0 | YF7: =IF($CN7="","",IF(AND(YF$1>=$CN7,YF$1<=$CO7,$AG7="",OR(YT$3="",YT$4="")),1,"")) | YG7: =IF($CQ7="","",IF(AND(YF$1>=$CQ7,YF$1<=$CR7),1,"")) | YH7: =IF($CT7="","",IF(AND(YF$1>=$CT7,YF$1<=$CU7),1,"")) | YJ7: =IF(ISNUMBER(YF$1),IF(AND(YT$3="",YT$4=""),IF(YF7="",,-($AL7)),),) -> 0 | YK7: =IF(ISNUMBER(YF$1),IF(YG7="",,-($AL7)),) -> 0 | YL7: =IF(ISNUMBER(YF$1),IF(YH7="",,-($AL7)),) -> 0 | YN7: =IF(ISNUMBER(YF$1),IF(AND(YF7="",YG7="",YH7=""),IF(ISNUMBER($AW7),$AW7,),),) -> 0 | YQ7: =IF(ISNUMBER(YF$1),IF($AG7="",,IF(AND(YF7="",YG7="",YH7=""),IF(AND(YT$3="",YT$4=""),,IF(YT$4="",$AT7,$AT7*2)),)),) -> 0 | YR7: =IF(AND(YI7="",OR(YT$3="",YT$4="")),0,IF(YT$4="x",YI7*2,YI7)) -> 0 | YS7: =IF(AND(YM7="",OR(YU$3="",YU$4="")),0,YM7) -> 0 | YT7: =IF(ISNUMBER(YF$1),IF(AND(YF7="",YG7="",YH7=""),IF(ISNUMBER($AX7),$AX7,),),) -> 0 | YU7: =SUM(YV7:ZA7) -> 0 | YV7: =CZ7+DO7+ED7+ES7+FH7+FW7+GL7 -> 0 | YW7: =HD7+HS7+IH7+IW7+JL7+KA7+KP7 -> 0 | YX7: =LH7+LW7+ML7+NA7+NP7+OE7+OT7 -> 0 | YY7: =PL7+QA7+QP7+RE7+RT7+SI7+SX7 -> 0 | YZ7: =TP7+UE7+UT7+VX7+WM7+XB7 -> 0 | ZA7: =XT7+YI7 -> 0 | ZB7: =IF(AH7<151.66, IF(YU7>0,(MAX(AH7*0.1))*1.1,0),) -> 0 | ZC7: =IF(AH7<151.66,IF(YU7>(AH7*0.1),(YU7-(AH7*0.1))*1.25,),) -> 0 | ZD7: =SUM(ZE7:ZJ7) -> 0 | ZE7: =IF($AH$6>151.66,IF((YV7)>8,8*1.25,((YV7)-0)*1.25),) -> 0 | ZF7: =IF($AH$6>151.66,IF((YW7)>8,8*1.25,((YW7)-0)*1.25),) -> 0 | ZG7: =IF($AH$6>151.66,IF((YX7)>8,8*1.25,((YX7)-0)*1.25),) -> 0 | ZH7: =IF($AH$6>151.66,IF((YY7)>8,8*1.25,((YY7)-0)*1.25),) -> 0 | ZI7: =IF($AH$6>151.66,IF((YZ7)>8,8*1.25,((YZ7)-0)*1.25),) -> 0 | ZJ7: =IF($AH$6>151.66,IF((ZA7)>8,8*1.25,((ZA7)-0)*1.25),) -> 0 | ZK7: =SUM(ZL7:ZQ7) -> 0 | ZL7: =IF($AH$6>151.66,IF((YV7)>8,((YV7)-8)*1.5,),) -> 0 | ZM7: =IF($AH$6>151.66,IF((YW7)>8,((YW7)-8)*1.5,),) -> 0 | ZN7: =IF($AH$6>151.66,IF((YX7)>8,((YX7)-8)*1.5,),) -> 0 | ZO7: =IF($AH$6>151.66,IF((YY7)>8,((YY7)-8)*1.5,),) -> 0 | ZP7: =IF($AH$6>151.66,IF((YZ7)>8,((YZ7)-8)*1.5,),) -> 0 | ZQ7: =IF($AH$6>151.66,IF((ZA7)>8,((ZA7)-8)*1.5,),) -> 0 | ZR7: =ZB7+ZC7+ZD7+ZK7 -> 0 | ZS7: =SUM(ZT7:ZW7) -> 0 | ZT7: =DA7+DP7+EE7+ET7+FI7+FX7+GM7+HE7+II7+IX7+JM7+KB7+KQ7+LI7+LX7+MM7+NB7+NQ7+OF7+OU7+PM7+QB7+QQ7+RF7+SJ7+SY7+TQ7+UF7+UU7+VJ7+VY7+WN7+XC7+XU7+YJ7 -> 0 | ZU7: =DB7+DQ7+EF7+EU7+FJ7+FY7+GN7+HF7+IJ7+IY7+JN7+KC7+KR7+LJ7+LY7+MN7+NC7+NR7+OG7+OV7+PN7+QC7+QR7+RG7+SK7+SZ7+TR7+UG7+UV7+VK7+VZ7+WO7+XD7+XV7+YK7 -> 0 | ZV7: =DC7+DR7+EG7+EV7+FK7+FZ7+GO7+HG7+IK7+IZ7+JO7+KD7+KS7+LK7+LZ7+MO7+ND7+NS7+OH7+OW7+PO7+QD7+QS7+RH7+SL7+TA7+TS7+UH7+UW7+VL7+WA7+WP7+XE7+XW7+YL7 -> 0 | ZW7: =DD7+DS7+EH7+EW7+FL7+GA7+GP7+HH7+IL7+JA7+JP7+KE7+KT7+LL7+MA7+MP7+NE7+NT7+OI7+OX7+PP7+QE7+QT7+RI7+SM7+TB7+TT7+UI7+UX7+VM7+WB7+WQ7+XF7+XX7+YM7 -> 0 | ZX7: =DE7+DF7+DG7+DT7+DU7+DV7+EI7+EJ7+EK7+EX7+EY7+EZ7+FM7+FN7+FO7+GB7+GC7+GD7+GQ7+GR7+GS7+HI7+HJ7+HK7+HX7+HY7+HZ7+IM7+IN7+JB7+JC7+JD7+JQ7+JR7+JS7+KF7+KG7+KH7+KU7+KV7+KW7+LM7+LN7+LO7+MB7+MC7+MD7+MQ7+MR7+MS7+NF7+NG7+NH7+NU7+NV7+NW7+OJ7+OK7+OL7+OY7+OZ7+PA7+PQ7+PR7+PS7+QF7+QG7+QH7+QU7+QV7+RJ7+RK7+RL7+RY7+RZ7+SA7+SN7+SO7+SP7+TC7+TD7+TE7+TU7+TV7+UJ7+UK7+UL7+UY7+UZ7+VA7+VN7+VO7+WC7+WD7+WE7+WR7+WS7+XG7+XH7+XI7+XY7+XZ7+YN7+YO7+YP7 -> 0 | ZY7: =IF(ISTEXT(AE7),ZX7*0.2,) -> 0 | ZZ7: =IF(AE7="",ZX7,) -> 0 | AAA7: =GW7+GX7+GY7+LA7+LB7+PE7+PF7+PG7+TI7+TJ7+TK7+XM7+XN7+XO7 -> 0 | AAB7: =IF(ISTEXT(AF7),AAA7*0.2,) -> 0 | AAC7: =IF(AF7="",AAA7*2,) -> 0 | AAD7: =DH7+DI7+DJ7+DW7+DX7+EL7+EM7+FA7+FB7+FC7+FP7+FQ7+FR7+GE7+GF7+GG7+GT7+GU7+GV7+HL7+HM7+IA7+IB7+IC7+IP7+IQ7+IR7+JE7+JF7+JG7+JT7+JU7+JV7+KI7+KJ7+KK7+KX7+KY7+KZ7+LP7+LQ7+LR7+ME7+MF7+MG7+MT7+MU7+MV7+NI7+NJ7+NK7+NX7+NY7+NZ7+OM7+ON7+OO7+PB7+PC7+PD7+PT7+PU7+PV7+QI7+QJ7+QK7+QX7+QY7+QZ7+RM7+RN7+RO7+SB7+SC7+SD7+SQ7+SR7+SS7+TF7+TG7+TH7+TX7+TY7+TZ7+UM7+UN7+UO7+VB7+VC7+VQ7+VR7+WF7+WG7+WH7+WU7+WV7+WW7+XJ7+XK7+YB7+YC7+YD7+YQ7+YR7+YS7 -> 0 | AAE7: =IF(ISTEXT(AG7),AAD7*0.5,) -> 0 | AAF7: =IF(AG7="",AAD7,) -> 0 | AAG7: =ZX7*0.002 -> 0 | AAH7: =IF(ZS7<(-$AH7),0,$AH7+ZS7+ZY7+ZZ7+AAB7+AAC7+AAE7+AAF7+AAG7) -> 48.75 | AAI7: =(DK7+DZ7+EO7+FD7+FS7+GH7+GZ7+HO7+ID7+IS7+JH7+JW7+KL7+LD7+LS7+MH7+MW7+NL7+OA7+OP7+PH7+PW7+QL7+RA7+RP7+SE7+ST7+TL7+UA7+UP7+VE7+VT7+WI7+WX7+XP7+YE7+YT7)*$AAI$5 -> 0 | AAJ7: =IF(AAH7<0,0,(AAH7*AA7)+AAI7) -> 494.325 | AAL7: =IF(AAJ7=0,0,IF(AH7>75.83,3,(AH7/75.83)*3)) -> 1.9286562 | AAM7: =VLOOKUP(J7,'données salariés'!P:Q,2,0) -> 0 | AAN7: =VLOOKUP(J7,'données salariés'!R:S,2,0) -> 0 | AAP7: =IF(AAM7>0,,IF(V7<20, AH7*10.11*0.067/12,AH7*10.11*0.1/12)) -> 2.7518156 | AAQ7: =SUM(AAJ7:AAP7) -> 499.00547 | AAR7: =(($AAJ7-AAI7)+$AAK7+$AAM7+$AAN7+$AAO7)*0.1 -> 49.4325 | AAS7: =AAQ7+AAR7 -> 548.43797 | AAT7: =($AAQ7-$AAP7-$AAL7-$AAI7)*$AAT$4 -> 19.773 | AAU7: =($AAQ7-$AAP7-$AAL7-$AAI7)*$AAT$4 -> 19.773 | AAV7: =IF(AAJ7=0,0,IF(((AAQ7-AAP7)*0.92)<((AH7-ZS7)*$ABV$4),((AH7+ZS7)*$ABV$4)*$AAV$4,((AAQ7-AAP7)*0.92)*$AAV$4)) -> 64.05945 | AAW7: =IF(((AAQ7-AAP7)*0.92)<((AH7+ZS7)*$ABV$4),((AH7+ZS7)*$ABV$4)*$AAW$4,((AAQ7-AAP7)*0.92)*$AAW$4) -> 39.97695 | AAX7: =((AAQ7-AAP7)*0.92)*$AAX$4 -> 0.073048538 | AAY7: =(ABJ7+ABK7+ABP7)*$AAY$4 -> 0.82999746 | AAZ7: =IF(((AAQ7-AAP7)*0.92)<((AH7+ZS7)*$ABV$4),((AH7+ZS7)*$ABV$4)*$AAZ$4,(AAQ7-AAP7)*0.92*$AAZ$4) -> 16.616925 | ABA7: =IF(((AAQ7-AAP7)*0.92)<((AH7+ZS7)*$ABV$4),((AH7+ZS7)*$ABV$4)*$ABA$4,((AAQ7-AAP7)*0.92)*$ABA$4) -> 2.40825 | ABB7: =IF(((AAQ7-AAP7)*0.92)<((AH7+ZS7)*$ABV$4),((AH7+ZS7)*$ABV$4)*$ABB$4,((AAQ7-AAP7)*0.92)*$ABB$4) -> 1.204125 | ABC7: =IF(((AAQ7-AAP7)*0.92)<((AH7+ZS7)*$ABV$4),((AH7+ZS7)*$ABV$4)*$ABC$4,((AAQ7-AAP7)*0.92)*$ABC$4) -> 14.208675 | ABD7: =IF(((AAQ7-AAP7)*0.92)<((AH7+ZS7)*$ABV$4),((AH7+ZS7)*$ABV$4)*$ABD$4,((AAQ7-AAP7)*0.92)*$ABD$4) -> 39.01365 | ABE7: =IF(((AAQ7-AAP7)*0.92)<((AH7+ZS7)*$ABV$4),((AH7+ZS7)*$ABV$4)*$ABE$4,((AAQ7-AAP7)*0.92)*$ABE$4) -> 0.722475 | ABF7: =IF(((AAQ7-AAP7)*0.92)<((AH7+ZS7)*$ABV$4),((AH7+ZS7)*$ABV$4)*$ABF$4,(AAQ7-AAP7)*0.92*$ABF$4) -> 9.15135 | ABG7: =IF(AAQ7<3311,IF(((AAQ7-AAP7)*0.92)<((AH7+ZS7)*$ABV$4),((AH7+ZS7)*$ABV$4)*$ABG$4,((AAQ7-AAP7)*0.92)*$ABG$4),3311*$ABG$4) -> 18.832515 | ABH7: =IF(((AAQ7-AAP7)*0.92)<((AH7+ZS7)*$ABV$4),((AH7+ZS7)*$ABV$4)*$ABH$4,((AAQ7-AAP7)*0.92)*$ABH$4) -> 5.7798 | ABI7: =IF(AAQ7>3311,(AAQ7-3311)*$ABI$4,) -> 0 | ABJ7: =IF(AAQ7>3311,3311*$ABJ$4,IF(AA7>12.49,((AAQ7-AAP7)*0.92)*0.00906,((AAQ7-AAP7)*0.92)*$ABJ$4)) -> 3.1502182 | ABK7: =IF(AA7<12.49,,IF(AAQ7>3311,3311*$ABK$4,((AAS7-AAP7)*0.92)*$ABK$4)) -> 0 | ABL7: =AAR7*$ABL$4 -> 1.482975 | ABM7: =(AAQ7-AAP7)*0.92*$ABM$4 -> 4.5655336 | ABN7: =(AAQ7-AAP7)*0.92*$ABM$4 -> 4.5655336 | ABO7: =(AAQ7-AAP7)*0.92*$ABO$4 -> 11.687766 | ABP7: =IF(Y7="",,IF((AH7*$ABV$4*0.015)>24.83,24.83,AH7*$ABV$4*0.015)) -> 7.22475 | ABQ7: =AAS7*$ABQ$4 -> 2.1937519 | ABR7: =SUM(AAT7:ABQ7) -> 287.29374 | ABS7: =IF(ZS7<(-AH7),,(AH7+ZS7)*$ABV$4) -> 481.65 | ABT7: =IF((AAQ7-AAP7)=0,0,(0.2854/0.6)*((1.6*1*((ABS7*12)/((((AAS7-AAP7)*0.92)*11)))-1)*(100/90))) -> 0.35653504 | ABU7: =IF(ABT7<0.2854,ROUND(ABT7,4),0.2854) -> 0.2854 | ABV7: =IF(ABT7>0.2854,0.2854*(AAS7-AAP7),IF(ABT7>0,ABU7*(AAS7-AAP7),0)) -> 155.73883 | ABW7: =ABR7-ABV7 -> 131.55491 | ABX7: =IF(AAJ7=0,0.58,ABW7/AAS7) -> 0.239872 | ABY7: =IF(ZS7<(-AH7),,IF(AAS7<((AH7-ZS7)*($ABV$4*2.5)),(AAS7-AAP7)*($ABY$5),)) -> 32.741169 | ABZ7: =IF(AAJ7=0,0,(ABW7-ABY7)/(AAS7-AAP7)) -> 0.18108163 | ACA7: =ACB7/AAS7-1 -> 0.18308323 | ACB7: =((AAS7-AAP7)*(1+ABZ7))+(AAP7*1.58) -> 648.84777 | ACC7: =IF(AAJ7=0,0,IF(AAQ7=0,,IF(AAK7="",IF(AH7>75.83, 75.2*0.5,AH7/75.83*75.2*0.5),))) -> 24.172491 | ACD7: =IF(AAJ7=0,0,ACB7*0.00455) -> 2.9522573 | ACE7: =ACB7+ACC7 -> 673.02026
A8: 1 | B8: FABRICE | D8: AFT | I8: =H8-G8 -> 0 | J8: 000000267407 | K8: =VLOOKUP(J8,MATRICULE,2,0) -> LEO ANTONY | L8: =VLOOKUP(J8,MATRICULE,3,0) -> CHRYSOSTOM | M8: =VLOOKUP(J8,MATRICULE,6,0) -> 24902.042 | N8: =IF(M8="","",(TODAY()-M8)/365) -> 50.186187 | O8: =VLOOKUP(J8,MATRICULE,4,0) -> 1680399235034 | P8: =VLOOKUP(J8,MATRICULE,5,0) -> Masculin | Q8: =VLOOKUP(J8,MATRICULE,7,0) -> France | R8: =VLOOKUP(J8,MATRICULE,13,0) -> CORMEILLES EN PARISIS | S8: =VLOOKUP(J8,MATRICULE,12,0) -> 95240 | T8: 619442003 | U8: =LOOKUP(J8,'données salariés'!$N$2:$O$626) -> 38215.083 | V8: =IF(U8="","",(TODAY()-U8)/365) -> 13.7121 | W8: cdi | Y8: x | Z8: =LOOKUP(J8,'données salariés'!$T$2:$U$630) -> AQS1A | AA8: =IF(ISTEXT(Z8),VLOOKUP(Z8,TX,2,0),0) -> 10.25 | AB8: =IF(ISTEXT(W8),VLOOKUP(W8,CONT,2,0),0) -> 0 | AC8: =AA8*(1+AB8) -> 10.25 | AD8: =IF(V8="","",LOOKUP(V8,'base salaire'!$A$36:$B$42)) -> 0.05 | AH8: =(AL8+AT8+BB8+BJ8+BR8+BZ8+CH8)*52/12 -> 59.583333 | AI8: 0.75 | AJ8: 0.86458333 | AL8: =((AJ8-AI8)*24)-AK8 -> 2.75 | AM8: =IF(ISNUMBER(AI8),IF(AI8>(4.99/24),0,IF(AJ8>(6/24),((6/24)-AI8)*24,(AJ8-AI8)*24)),) -> 0 | AN8: =IF(ISNUMBER(AI8),IF(AJ8>(21/24),IF(AI8>=(21/24),(AJ8-AI8)*24,(AJ8-(21/24))*24),),) -> 0 | AO8: =AM8+AN8 -> 0 | AQ8: 0.75069444 | AR8: 0.86527778 | AT8: =((AR8-AQ8)*24)-AS8 -> 2.75 | AU8: =IF(ISNUMBER(AQ8),IF(AQ8>(4.99/24),0,IF(AR8>(6/24),((6/24)-AQ8)*24,(AR8-AQ8)*24)),) -> 0 | AV8: =IF(ISNUMBER(AQ8),IF(AR8>(21/24),IF(AQ8>=(21/24),(AR8-AQ8)*24,(AR8-(21/24))*24),),) -> 0 | AW8: =AU8+AV8 -> 0 | AY8: 0.75138889 | AZ8: 0.86597222 | BB8: =((AZ8-AY8)*24)-BA8 -> 2.75 | BC8: =IF(ISNUMBER(AY8),IF(AY8>(4.99/24),0,IF(AZ8>(6/24),((6/24)-AY8)*24,(AZ8-AY8)*24)),) -> 0 | BD8: =IF(ISNUMBER(AY8),IF(AZ8>(21/24),IF(AY8>=(21/24),(AZ8-AY8)*24,(AZ8-(21/24))*24),),) -> 0 | BE8: =BC8+BD8 -> 0 | BG8: 0.75208333 | BH8: 0.86666667 | BJ8: =((BH8-BG8)*24)-BI8 -> 2.75 | BK8: =IF(ISNUMBER(BG8),IF(BG8>(4.99/24),0,IF(BH8>(6/24),((6/24)-BG8)*24,(BH8-BG8)*24)),) -> 0 | BL8: =IF(ISNUMBER(BG8),IF(BH8>(21/24),IF(BG8>=(21/24),(BH8-BG8)*24,(BH8-(21/24))*24),),) -> 0 | BM8: =BK8+BL8 -> 0 | BO8: 0.75277778 | BP8: 0.86736111 | BR8: =((BP8-BO8)*24)-BQ8 -> 2.75 | BS8: =IF(ISNUMBER(BO8),IF(BO8>(4.99/24),0,IF(BP8>(6/24),((6/24)-BO8)*24,(BP8-BO8)*24)),) -> 0 | BT8: =IF(ISNUMBER(BO8),IF(BP8>(21/24),IF(BO8>=(21/24),(BP8-BO8)*24,(BP8-(21/24))*24),),) -> 0 | BU8: =BS8+BT8 -> 0 | BZ8: =((BX8-BW8)*24)-BY8 -> 0 | CA8: =IF(ISNUMBER(BW8),IF(BW8>(4.99/24),0,IF(BX8>(6/24),((6/24)-BW8)*24,(BX8-BW8)*24)),) -> 0 | CB8: =IF(ISNUMBER(BW8),IF(BX8>(21/24),IF(BW8>=(21/24),(BX8-BW8)*24,(BX8-(21/24))*24),),) -> 0 | CC8: =CA8+CB8 -> 0 | CH8: =((CF8-CE8)*24)-CG8 -> 0 | CI8: =IF(ISNUMBER(CE8),IF(CE8>(4.99/24),0,IF(CF8>(6/24),((6/24)-CE8)*24,(CF8-CE8)*24)),) -> 0 | CJ8: =IF(ISNUMBER(CE8),IF(CF8>(21/24),IF(CE8>=(21/24),(CF8-CE8)*24,(CF8-(21/24))*24),),) -> 0 | CK8: =CI8+CJ8 -> 0 | CL8: =IF(ISTEXT(AF8),CH8,) -> 0 | CW8: =IF($CN8="","",IF(AND(CW$1>=$CN8,CW$1<=$CO8,$AG8="",OR(DK$3="",DK$4="")),1,"")) | CX8: =IF($CQ8="","",IF(AND(CW$1>=$CQ8,CW$1<=$CR8),1,"")) | CY8: =IF($CT8="","",IF(AND(CW$1>=$CT8,CW$1<=$CU8),1,"")) | DA8: =IF(ISNUMBER(CW$1),IF(AND(DK$3="",DK$4=""),IF(CW8="",,-($AL8)),),) -> 0 | DB8: =IF(ISNUMBER(CW$1),IF(CX8="",,-($AL8)),) -> 0 | DC8: =IF(ISNUMBER(CW$1),IF(CY8="",,-($AL8)),) -> 0 | DE8: =IF(ISNUMBER(CW$1),IF(AND(CW8="",CX8="",CY8=""),IF(ISNUMBER($AO8),$AO8,),),) -> 0 | DH8: =IF(ISNUMBER(CW$1),IF($AG8="",,IF(AND(CW8="",CX8="",CY8=""),IF(AND(DK$3="",DK$4=""),,IF(DK$4="",$BZ8,$BZ8*2)),)),) -> 0 | DI8: =IF(AND(CZ8="",OR(DK$3="",DK$4="")),0,CZ8) -> 0 | DJ8: =IF(AND(DD8="",OR(DL$3="",DL$4="")),0,DD8) -> 0 | DK8: =IF(ISNUMBER(CW$1),IF(AND(CW8="",CX8="",CY8=""),IF(ISNUMBER($AP8),$AP8,),),) -> 0 | DL8: =IF($CN8="","",IF(AND(DL$1>=$CN8,DL$1<=$CO8,$AG8="",OR(DZ$3="",DZ$4="")),1,"")) | DM8: =IF($CQ8="","",IF(AND(DL$1>=$CQ8,DL$1<=$CR8),1,"")) | DN8: =IF($CT8="","",IF(AND(DL$1>=$CT8,DL$1<=$CU8),1,"")) | DP8: =IF(ISNUMBER(DL$1),IF(AND(DZ$3="",DZ$4=""),IF(DL8="",,-($AT8)),),) -> 0 | DQ8: =IF(ISNUMBER(DL$1),IF(DM8="",,-($AT8)),) -> 0 | DR8: =IF(ISNUMBER(DL$1),IF(DN8="",,-($AT8)),) -> 0 | DT8: =IF(ISNUMBER(DL$1),IF(AND(DL8="",DM8="",DN8=""),IF(ISNUMBER($AW8),$AW8,),),) -> 0 | DW8: =IF(ISNUMBER(DL$1),IF($AG8="",,IF(AND(DL8="",DM8="",DN8=""),IF(AND(DZ$3="",DZ$4=""),,IF(DZ$4="",$BZ8,$BZ8*2)),)),) -> 0 | DX8: =IF(AND(DO8="",OR(DZ$3="",DZ$4="")),0,DO8) -> 0 | DY8: =IF(AND(DS8="",OR(EA$3="",EA$4="")),0,DS8) -> 0 | DZ8: =IF(ISNUMBER(DL$1),IF(AND(DL8="",DM8="",DN8=""),IF(ISNUMBER($AX8),$AX8,),),) -> 0 | EA8: =IF($CN8="","",IF(AND(EA$1>=$CN8,EA$1<=$CO8,$AG8="",OR(EO$3="",EO$4="")),1,"")) | EB8: =IF($CQ8="","",IF(AND(EA$1>=$CQ8,EA$1<=$CR8),1,"")) | EC8: =IF($CT8="","",IF(AND(EA$1>=$CT8,EA$1<=$CU8),1,"")) | EE8: =IF(ISNUMBER(EA$1),IF(AND(EO$3="",EO$4=""),IF(EA8="",,-($BB8)),),) -> 0 | EF8: =IF(ISNUMBER(EA$1),IF(EB8="",,-($BB8)),) -> 0 | EG8: =IF(ISNUMBER(EA$1),IF(EC8="",,-($BB8)),) -> 0 | EI8: =IF(ISNUMBER(EA$1),IF(AND(EA8="",EB8="",EC8=""),IF(ISNUMBER($BE8),$BE8,),),) -> 0 | EL8: =IF(ISNUMBER(EA$1),IF($AG8="",,IF(AND(EA8="",EB8="",EC8=""),IF(AND(EO$3="",EO$4=""),,IF(EO$4="",$BZ8,$BZ8*2)),)),) -> 0 | EM8: =IF(AND(ED8="",OR(EO$3="",EO$4="")),0,ED8) -> 0 | EN8: =IF(AND(EH8="",OR(EP$3="",EP$4="")),0,EH8) -> 0 | EO8: =IF(ISNUMBER(EA$1),IF(AND(EA8="",EB8="",EC8=""),IF(ISNUMBER($BF8),$BF8,),),) -> 0 | EP8: =IF($CN8="","",IF(AND(EP$1>=$CN8,EP$1<=$CO8,$AG8="",OR(FD$3="",FD$4="")),1,"")) | EQ8: =IF($CQ8="","",IF(AND(EP$1>=$CQ8,EP$1<=$CR8),1,"")) | ER8: =IF($CT8="","",IF(AND(EP$1>=$CT8,EP$1<=$CU8),1,"")) | ET8: =IF(ISNUMBER(EP$1),IF(AND(FD$3="",FD$4=""),IF(EP8="",,-($BJ8)),),) -> 0 | EU8: =IF(ISNUMBER(EP$1),IF(EQ8="",,-($BJ8)),) -> 0 | EV8: =IF(ISNUMBER(EP$1),IF(ER8="",,-($BJ8)),) -> 0 | EX8: =IF(ISNUMBER(EP$1),IF(AND(EP8="",EQ8="",ER8=""),IF(ISNUMBER($BM8),$BM8,),),) -> 0 | FA8: =IF(ISNUMBER(EP$1),IF($AG8="",,IF(AND(EP8="",EQ8="",ER8=""),IF(AND(FD$3="",FD$4=""),,IF(FD$4="",$BZ8,$BZ8*2)),)),) -> 0 | FB8: =IF(AND(ES8="",OR(FD$3="",FD$4="")),0,ES8) -> 0 | FC8: =IF(AND(EW8="",OR(FE$3="",FE$4="")),0,EW8) -> 0 | FD8: =IF(ISNUMBER(EP$1),IF(AND(EP8="",EQ8="",ER8=""),IF(ISNUMBER($BN8),$BN8,),),) -> 0 | FE8: =IF($CN8="","",IF(AND(FE$1>=$CN8,FE$1<=$CO8,$AG8="",OR(FS$3="",FS$4="")),1,"")) | FF8: =IF($CQ8="","",IF(AND(FE$1>=$CQ8,FE$1<=$CR8),1,"")) | FG8: =IF($CT8="","",IF(AND(FE$1>=$CT8,FE$1<=$CU8),1,"")) | FI8: =IF(ISNUMBER(FE$1),IF(AND(FS$3="",FS$4=""),IF(FE8="",,-($BR8)),),) -> 0 | FJ8: =IF(ISNUMBER(FE$1),IF(FF8="",,-($BR8)),) -> 0 | FK8: =IF(ISNUMBER(FE$1),IF(FG8="",,-($BR8)),) -> 0 | FM8: =IF(ISNUMBER(FE$1),IF(AND(FE8="",FF8="",FG8=""),IF(ISNUMBER($BU8),$BU8,),),) -> 0 | FP8: =IF(ISNUMBER(FE$1),IF($AG8="",,IF(AND(FE8="",FF8="",FG8=""),IF(AND(FS$3="",FS$4=""),,IF(FS$4="",$BZ8,$BZ8*2)),)),) -> 0 | FQ8: =IF(AND(FH8="",OR(FS$3="",FS$4="")),0,FH8) -> 0 | FR8: =IF(AND(FL8="",OR(FT$3="",FT$4="")),0,FL8) -> 0 | FS8: =IF(ISNUMBER(FE$1),IF(AND(FE8="",FF8="",FG8=""),IF(ISNUMBER($BV8),$BV8,),),) -> 0 | FT8: =IF($CN8="","",IF(AND(FT$1>=$CN8,FT$1<=$CO8,$AG8="",OR(GH$3="",GH$4="")),1,"")) | FU8: =IF($CQ8="","",IF(AND(FT$1>=$CQ8,FT$1<=$CR8),1,"")) | FV8: =IF($CT8="","",IF(AND(FT$1>=$CT8,FT$1<=$CU8),1,"")) | FX8: =IF(ISNUMBER(FT$1),IF(AND(GH$3="",GH$4=""),IF(FT8="",,-($BZ8)),),) -> 0 | FY8: =IF(ISNUMBER(FT$1),IF(FU8="",,-($BZ8)),) -> 0 | FZ8: =IF(ISNUMBER(FT$1),IF(FV8="",,-($BZ8)),) -> 0 | GB8: =IF(ISNUMBER(FT$1),IF(AND(FT8="",FU8="",FV8=""),IF(ISNUMBER($CC8),$CC8,),),) -> 0 | GE8: =IF(ISNUMBER(FT$1),IF($AG8="",,IF(AND(FT8="",FU8="",FV8=""),IF(AND(GH$3="",GH$4=""),,IF(GH$4="",$BZ8,$BZ8*2)),)),) -> 0 | GF8: =IF(AND(FW8="",OR(GH$3="",GH$4="")),0,FW8) -> 0 | GG8: =IF(AND(GA8="",OR(GI$3="",GI$4="")),0,GA8) -> 0 | GH8: =IF(ISNUMBER(FT$1),IF(AND(FT8="",FU8="",FV8=""),IF(ISNUMBER($CD8),$CD8,),),) -> 0 | GI8: =IF($CN8="","",IF(AND(GI$1>=$CN8,GI$1<=$CO8,$AG8="",OR(GW$3="",GW$4="")),1,"")) | GJ8: =IF($CQ8="","",IF(AND(GI$1>=$CQ8,GI$1<=$CR8),1,"")) | GK8: =IF($CT8="","",IF(AND(GI$1>=$CT8,GI$1<=$CU8),1,"")) | GM8: =IF(ISNUMBER(GI$1),IF(AND(GW$3="",GW$4=""),IF(GI8="",,-($CG8)),),) -> 0 | GN8: =IF(ISNUMBER(GI$1),IF(GJ8="",,-($CG8)),) -> 0 | GO8: =IF(ISNUMBER(GI$1),IF(GK8="",,-($CG8)),) -> 0 | GQ8: =IF(ISNUMBER(GI$1),IF(AND(GI8="",GJ8="",GK8=""),IF(ISNUMBER($CK8),$CK8,),),) -> 0 | GT8: =IF(ISNUMBER(GI$1),IF($AG8="",,IF(AND($GI8="",$GJ8="",$GK8=""),IF(AND(GZ$3="",GZ$4=""),,IF(GZ$4="",$CH8,$CH8*2)),)),) -> 0 | GU8: =IF(AND(GL8="",OR(GZ$3="",GHE6="")),0,GL8) -> 0 | GV8: =IF(AND(GP8="",OR(GZ$3="",GZ$4="")),0,GP8) -> 0 | GW8: =IF(ISNUMBER(GI$1),IF(AND(GI8="",GJ8="",GK8=""),IF(ISNUMBER($CL8),$CL8,),),) -> 0 | GX8: =IF(GL8="",0,GL8) -> 0 | GY8: =IF(GP8="",0,GP8) -> 0 | GZ8: =IF(ISNUMBER(GI$1),IF(AND(GI8="",GJ8="",GJ8=""),IF(ISNUMBER($CM8),$CM8,),),) -> 0 | HA8: =IF($CN8="","",IF(AND(HA$1>=$CN8,HA$1<=$CO8,$AG8="",OR(HO$3="",HO$4="")),1,"")) | HB8: =IF($CQ8="","",IF(AND(HA$1>=$CQ8,HA$1<=$CR8),1,"")) | HC8: =IF($CT8="","",IF(AND(HA$1>=$CT8,HA$1<=$CU8),1,"")) | HE8: =IF(ISNUMBER(HA$1),IF(AND(HO$3="",HO$4=""),IF(HA8="",,-($AL8)),),) -> 0 | HF8: =IF(ISNUMBER(HA$1),IF(HB8="",,-($AL8)),) -> 0 | HG8: =IF(ISNUMBER(HA$1),IF(HC8="",,-($AL8)),) -> 0 | HI8: =IF(ISNUMBER(HA$1),IF(AND(HA8="",HB8="",HC8=""),IF(ISNUMBER($AO8),$AO8,),),) -> 0 | HL8: =IF(ISNUMBER(HA$1),IF($AG8="",,IF(AND(HA8="",HB8="",HC8=""),IF(AND(HO$3="",HO$4=""),,IF(HO$4="",$BZ8,$BZ8*2)),)),) -> 0 | HM8: =IF(AND(HD8="",OR(HO$3="",HO$4="")),0,HD8) -> 0 | HN8: =IF(AND(HH8="",OR(HP$3="",HP$4="")),0,HH8) -> 0 | HO8: =IF(ISNUMBER(HA$1),IF(AND(HA8="",HB8="",HC8=""),IF(ISNUMBER($AP8),$AP8,),),) -> 0 | HP8: =IF($CN8="","",IF(AND(HP$1>=$CN8,HP$1<=$CO8,$AG8="",OR(ID$3="",ID$4="")),1,"")) | HQ8: =IF($CQ8="","",IF(AND(HP$1>=$CQ8,HP$1<=$CR8),1,"")) | HR8: =IF($CT8="","",IF(AND(HP$1>=$CT8,HP$1<=$CU8),1,"")) | HT8: =IF(ISNUMBER(HP$1),IF(AND(ID$3="",ID$4=""),IF(HP8="",,-($AT8)),),) -> 0 | HU8: =IF(ISNUMBER(HP$1),IF(HQ8="",,-($AT8)),) -> 0 | HV8: =IF(ISNUMBER(HP$1),IF(HR8="",,-($AT8)),) -> 0 | HX8: =IF(ISNUMBER(HP$1),IF(AND(HP8="",HQ8="",HR8=""),IF(ISNUMBER($AW8),$AW8,),),) -> 0 | IA8: =IF(ISNUMBER(HP$1),IF($AG8="",,IF(AND(HP8="",HQ8="",HR8=""),IF(AND(ID$3="",ID$4=""),,IF(ID$4="",$BZ8,$BZ8*2)),)),) -> 0 | IB8: =IF(AND(HS8="",OR(ID$3="",ID$4="")),0,HS8) -> 0 | IC8: =IF(AND(HW8="",OR(IE$3="",IE$4="")),0,HW8) -> 0 | ID8: =IF(ISNUMBER(HP$1),IF(AND(HP8="",HQ8="",HR8=""),IF(ISNUMBER($AX8),$AX8,),),) -> 0 | IE8: =IF($CN8="","",IF(AND(IE$1>=$CN8,IE$1<=$CO8,$AG8="",OR(IS$3="",IS$4="")),1,"")) | IF8: =IF($CQ8="","",IF(AND(IE$1>=$CQ8,IE$1<=$CR8),1,"")) | IG8: =IF($CT8="","",IF(AND(IE$1>=$CT8,IE$1<=$CU8),1,"")) | II8: =IF(ISNUMBER(IE$1),IF(AND(IS$3="",IS$4=""),IF(IE8="",,-($BB8)),),) -> 0 | IJ8: =IF(ISNUMBER(IE$1),IF(IF8="",,-($BB8)),) -> 0 | IK8: =IF(ISNUMBER(IE$1),IF(IG8="",,-($BB8)),) -> 0 | IM8: =IF(ISNUMBER(IE$1),IF(AND(IE8="",IF8="",IG8=""),IF(ISNUMBER($BE8),$BE8,),),) -> 0 | IP8: =IF(ISNUMBER(IE$1),IF($AG8="",,IF(AND(IE8="",IF8="",IG8=""),IF(AND(IS$3="",IS$4=""),,IF(IS$4="",$BZ8,$BZ8*2)),)),) -> 0 | IQ8: =IF(AND(IH8="",OR(IS$3="",IS$4="")),0,IH8) -> 0 | IR8: =IF(AND(IL8="",OR(IT$3="",IT$4="")),0,IL8) -> 0 | IS8: =IF(ISNUMBER(IE$1),IF(AND(IE8="",IF8="",IG8=""),IF(ISNUMBER($BF8),$BF8,),),) -> 0 | IT8: =IF($CN8="","",IF(AND(IT$1>=$CN8,IT$1<=$CO8,$AG8="",OR(JH$3="",JH$4="")),1,"")) | IU8: =IF($CQ8="","",IF(AND(IT$1>=$CQ8,IT$1<=$CR8),1,"")) | IV8: =IF($CT8="","",IF(AND(IT$1>=$CT8,IT$1<=$CU8),1,"")) | IX8: =IF(ISNUMBER(IT$1),IF(AND(JH$3="",JH$4=""),IF(IT8="",,-($BJ8)),),) -> 0 | IY8: =IF(ISNUMBER(IT$1),IF(IU8="",,-($BJ8)),) -> 0 | IZ8: =IF(ISNUMBER(IT$1),IF(IV8="",,-($BJ8)),) -> 0 | JB8: =IF(ISNUMBER(IT$1),IF(AND(IT8="",IU8="",IV8=""),IF(ISNUMBER($BM8),$BM8,),),) -> 0 | JE8: =IF(ISNUMBER(IT$1),IF($AG8="",,IF(AND(IT8="",IU8="",IV8=""),IF(AND(JH$3="",JH$4=""),,IF(JH$4="",$BZ8,$BZ8*2)),)),) -> 0 | JF8: =IF(AND(IW8="",OR(JH$3="",JH$4="")),0,IW8) -> 0 | JG8: =IF(AND(JA8="",OR(JI$3="",JI$4="")),0,JA8) -> 0 | JH8: =IF(ISNUMBER(IT$1),IF(AND(IT8="",IU8="",IV8=""),IF(ISNUMBER($BN8),$BN8,),),) -> 0 | JI8: =IF($CN8="","",IF(AND(JI$1>=$CN8,JI$1<=$CO8,$AG8="",OR(JW$3="",JW$4="")),1,"")) | JJ8: =IF($CQ8="","",IF(AND(JI$1>=$CQ8,JI$1<=$CR8),1,"")) | JK8: =IF($CT8="","",IF(AND(JI$1>=$CT8,JI$1<=$CU8),1,"")) | JM8: =IF(ISNUMBER(JI$1),IF(AND(JW$3="",JW$4=""),IF(JI8="",,-($BR8)),),) -> 0 | JN8: =IF(ISNUMBER(JI$1),IF(JJ8="",,-($BR8)),) -> 0 | JO8: =IF(ISNUMBER(JI$1),IF(JK8="",,-($BR8)),) -> 0 | JQ8: =IF(ISNUMBER(JI$1),IF(AND(JI8="",JJ8="",JK8=""),IF(ISNUMBER($BU8),$BU8,),),) -> 0 | JT8: =IF(ISNUMBER(JI$1),IF($AG8="",,IF(AND(JI8="",JJ8="",JK8=""),IF(AND(JW$3="",JW$4=""),,IF(JW$4="",$BZ8,$BZ8*2)),)),) -> 0 | JU8: =IF(AND(JL8="",OR(JW$3="",JW$4="")),0,JL8) -> 0 | JV8: =IF(AND(JP8="",OR(JX$3="",JX$4="")),0,JP8) -> 0 | JW8: =IF(ISNUMBER(JI$1),IF(AND(JI8="",JJ8="",JK8=""),IF(ISNUMBER($BV8),$BV8,),),) -> 0 | JX8: =IF($CN8="","",IF(AND(JX$1>=$CN8,JX$1<=$CO8,$AG8="",OR(KL$3="",KL$4="")),1,"")) | JY8: =IF($CQ8="","",IF(AND(JX$1>=$CQ8,JX$1<=$CR8),1,"")) | JZ8: =IF($CT8="","",IF(AND(JX$1>=$CT8,JX$1<=$CU8),1,"")) | KB8: =IF(ISNUMBER(JX$1),IF(AND(KL$3="",KL$4=""),IF(JX8="",,-($BZ8)),),) -> 0 | KC8: =IF(ISNUMBER(JX$1),IF(JY8="",,-($BZ8)),) -> 0 | KD8: =IF(ISNUMBER(JX$1),IF(JZ8="",,-($BZ8)),) -> 0 | KF8: =IF(ISNUMBER(JX$1),IF(AND(JX8="",JY8="",JZ8=""),IF(ISNUMBER($CC8),$CC8,),),) -> 0 | KI8: =IF(ISNUMBER(JX$1),IF($AG8="",,IF(AND(JX8="",JY8="",JZ8=""),IF(AND(KL$3="",KL$4=""),,IF(KL$4="",$BZ8,$BZ8*2)),)),) -> 0 | KJ8: =IF(AND(KA8="",OR(KL$3="",KL$4="")),0,KA8) -> 0 | KK8: =IF(AND(KE8="",OR(KM$3="",KM$4="")),0,KE8) -> 0 | KL8: =IF(ISNUMBER(JX$1),IF(AND(JX8="",JY8="",JZ8=""),IF(ISNUMBER($CD8),$CD8,),),) -> 0 | KM8: =IF($CN8="","",IF(AND(KM$1>=$CN8,KM$1<=$CO8,$AG8="",OR(LA$3="",LA$4="")),1,"")) | KN8: =IF($CQ8="","",IF(AND(KM$1>=$CQ8,KM$1<=$CR8),1,"")) | KO8: =IF($CT8="","",IF(AND(KM$1>=$CT8,KM$1<=$CU8),1,"")) | KQ8: =IF(ISNUMBER(KM$1),IF(AND(LA$3="",LA$4=""),IF(KM8="",,-($CG8)),),) -> 0 | KR8: =IF(ISNUMBER(KM$1),IF(KN8="",,-($CG8)),) -> 0 | KS8: =IF(ISNUMBER(KM$1),IF(KO8="",,-($CG8)),) -> 0 | KU8: =IF(ISNUMBER(KM$1),IF(AND(KM8="",KN8="",KO8=""),IF(ISNUMBER($CK8),$CK8,),),) -> 0 | KX8: =IF(ISNUMBER(KM$1),IF($AG8="",,IF(AND($GI8="",$GJ8="",$GK8=""),IF(AND(LD$3="",LD$4=""),,IF(LD$4="",$CH8,$CH8*2)),)),) -> 0 | KY8: =IF(AND(KP8="",OR(LD$3="",GLI6="")),0,KP8) -> 0 | KZ8: =IF(AND(KT8="",OR(LD$3="",LD$4="")),0,KT8) -> 0 | LA8: =IF(ISNUMBER(KM$1),IF(AND(KM8="",KN8="",KO8=""),IF(ISNUMBER($CL8),$CL8,),),) -> 0 | LB8: =IF(KP8="",0,KP8) -> 0 | LC8: =IF(KT8="",0,KT8) -> 0 | LD8: =IF(ISNUMBER(KM$1),IF(AND(KM8="",KN8="",KN8=""),IF(ISNUMBER($CM8),$CM8,),),) -> 0 | LE8: =IF($CN8="","",IF(AND(LE$1>=$CN8,LE$1<=$CO8,$AG8="",OR(LS$3="",LS$4="")),1,"")) | LF8: =IF($CQ8="","",IF(AND(LE$1>=$CQ8,LE$1<=$CR8),1,"")) | LG8: =IF($CT8="","",IF(AND(LE$1>=$CT8,LE$1<=$CU8),1,"")) | LI8: =IF(ISNUMBER(LE$1),IF(AND(LS$3="",LS$4=""),IF(LE8="",,-($AL8)),),) -> 0 | LJ8: =IF(ISNUMBER(LE$1),IF(LF8="",,-($AL8)),) -> 0 | LK8: =IF(ISNUMBER(LE$1),IF(LG8="",,-($AL8)),) -> 0 | LM8: =IF(ISNUMBER(LE$1),IF(AND(LE8="",LF8="",LG8=""),IF(ISNUMBER($AO8),$AO8,),),) -> 0 | LP8: =IF(ISNUMBER(LE$1),IF($AG8="",,IF(AND(LE8="",LF8="",LG8=""),IF(AND(LS$3="",LS$4=""),,IF(LS$4="",$AL8,$AL8*2)),)),) -> 0 | LQ8: =IF(AND(LH8="",OR(LS$3="",LS$4="")),0,IF(LS$4="x",LH8*2,LH8)) -> 0 | LR8: =IF(AND(LL8="",OR(LT$3="",LT$4="")),0,LL8) -> 0 | LS8: =IF(ISNUMBER(LE$1),IF(AND(LE8="",LF8="",LG8=""),IF(ISNUMBER($AP8),$AP8,),),) -> 0 | LT8: =IF($CN8="","",IF(AND(LT$1>=$CN8,LT$1<=$CO8,$AG8="",OR(MH$3="",MH$4="")),1,"")) | LU8: =IF($CQ8="","",IF(AND(LT$1>=$CQ8,LT$1<=$CR8),1,"")) | LV8: =IF($CT8="","",IF(AND(LT$1>=$CT8,LT$1<=$CU8),1,"")) | LX8: =IF(ISNUMBER(LT$1),IF(AND(MH$3="",MH$4=""),IF(LT8="",,-($AL8)),),) -> 0 | LY8: =IF(ISNUMBER(LT$1),IF(LU8="",,-($AL8)),) -> 0 | LZ8: =IF(ISNUMBER(LT$1),IF(LV8="",,-($AL8)),) -> 0 | MB8: =IF(ISNUMBER(LT$1),IF(AND(LT8="",LU8="",LV8=""),IF(ISNUMBER($AW8),$AW8,),),) -> 0 | ME8: =IF(ISNUMBER(LT$1),IF($AG8="",,IF(AND(LT8="",LU8="",LV8=""),IF(AND(MH$3="",MH$4=""),,IF(MH$4="",$AT8,$AT8*2)),)),) -> 0 | MF8: =IF(AND(LW8="",OR(MH$3="",MH$4="")),0,IF(MH$4="x",LW8*2,LW8)) -> 0 | MG8: =IF(AND(MA8="",OR(MI$3="",MI$4="")),0,MA8) -> 0 | MH8: =IF(ISNUMBER(LT$1),IF(AND(LT8="",LU8="",LV8=""),IF(ISNUMBER($AX8),$AX8,),),) -> 0 | MI8: =IF($CN8="","",IF(AND(MI$1>=$CN8,MI$1<=$CO8,$AG8="",OR(MW$3="",MW$4="")),1,"")) | MJ8: =IF($CQ8="","",IF(AND(MI$1>=$CQ8,MI$1<=$CR8),1,"")) | MK8: =IF($CT8="","",IF(AND(MI$1>=$CT8,MI$1<=$CU8),1,"")) | MM8: =IF(ISNUMBER(MI$1),IF(AND(MW$3="",MW$4=""),IF(MI8="",,-($AL8)),),) -> 0 | MN8: =IF(ISNUMBER(MI$1),IF(MJ8="",,-($AL8)),) -> 0 | MO8: =IF(ISNUMBER(MI$1),IF(MK8="",,-($AL8)),) -> 0 | MQ8: =IF(ISNUMBER(MI$1),IF(AND(MI8="",MJ8="",MK8=""),IF(ISNUMBER($BE8),$BE8,),),) -> 0 | MT8: =IF(ISNUMBER(MI$1),IF($AG8="",,IF(AND(MI8="",MJ8="",MK8=""),IF(AND(MW$3="",MW$4=""),,IF(MW$4="",$BB8,$BB8*2)),)),) -> 0 | MU8: =IF(AND(ML8="",OR(MW$3="",MW$4="")),0,IF(MW$4="x",ML8*2,ML8)) -> 0 | MV8: =IF(AND(MP8="",OR(MX$3="",MX$4="")),0,MP8) -> 0 | MW8: =IF(ISNUMBER(MI$1),IF(AND(MI8="",MJ8="",MK8=""),IF(ISNUMBER($BF8),$BF8,),),) -> 0 | MX8: =IF($CN8="","",IF(AND(MX$1>=$CN8,MX$1<=$CO8,$AG8="",OR(NL$3="",NL$4="")),1,"")) | MY8: =IF($CQ8="","",IF(AND(MX$1>=$CQ8,MX$1<=$CR8),1,"")) | MZ8: =IF($CT8="","",IF(AND(MX$1>=$CT8,MX$1<=$CU8),1,"")) | NB8: =IF(ISNUMBER(MX$1),IF(AND(NL$3="",NL$4=""),IF(MX8="",,-($AL8)),),) -> 0 | NC8: =IF(ISNUMBER(MX$1),IF(MY8="",,-($AL8)),) -> 0 | ND8: =IF(ISNUMBER(MX$1),IF(MZ8="",,-($AL8)),) -> 0 | NF8: =IF(ISNUMBER(MX$1),IF(AND(MX8="",MY8="",MZ8=""),IF(ISNUMBER($BM8),$BM8,),),) -> 0 | NI8: =IF(ISNUMBER(MX$1),IF($AG8="",,IF(AND(MX8="",MY8="",MZ8=""),IF(AND(NL$3="",NL$4=""),,IF(NL$4="",$BJ8,$BJ8*2)),)),) -> 0 | NJ8: =IF(AND(NA8="",OR(NL$3="",NL$4="")),0,IF(NL$4="x",NA8*2,NA8)) -> 0 | NK8: =IF(AND(NE8="",OR(NM$3="",NM$4="")),0,NE8) -> 0 | NL8: =IF(ISNUMBER(MX$1),IF(AND(MX8="",MY8="",MZ8=""),IF(ISNUMBER($BN8),$BN8,),),) -> 0 | NM8: =IF($CN8="","",IF(AND(NM$1>=$CN8,NM$1<=$CO8,$AG8="",OR(OA$3="",OA$4="")),1,"")) | NN8: =IF($CQ8="","",IF(AND(NM$1>=$CQ8,NM$1<=$CR8),1,"")) | NO8: =IF($CT8="","",IF(AND(NM$1>=$CT8,NM$1<=$CU8),1,"")) | NQ8: =IF(ISNUMBER(NM$1),IF(AND(OA$3="",OA$4=""),IF(NM8="",,-($AL8)),),) -> 0 | NR8: =IF(ISNUMBER(NM$1),IF(NN8="",,-($AL8)),) -> 0 | NS8: =IF(ISNUMBER(NM$1),IF(NO8="",,-($AL8)),) -> 0 | NU8: =IF(ISNUMBER(NM$1),IF(AND($FE8="",$FF8="",$FG8=""),IF(ISNUMBER($BU8),$BU8,),),) -> 0 | NX8: =IF(ISNUMBER(NM$1),IF($AG8="",,IF(AND($FE8="",$FF8="",$FG8=""),IF(AND(OA$3="",OA$4=""),,IF(OA$4="",$BR8,$BR8*2)),)),) -> 0 | NY8: =IF(AND(NP8="",OR(OA$3="",OA$4="")),0,IF(OA$4="x",NP8*2,NP8)) -> 0 | NZ8: =IF(AND(NT8="",OR(OB$3="",OB$4="")),0,NT8) -> 0 | OA8: =IF(ISNUMBER(NM$1),IF(AND(NM8="",NN8="",NO8=""),IF(ISNUMBER($BV8),$BV8,),),) -> 0 | OB8: =IF($CN8="","",IF(AND(OB$1>=$CN8,OB$1<=$CO8,$AG8="",OR(OP$3="",OP$4="")),1,"")) | OC8: =IF($CQ8="","",IF(AND(OB$1>=$CQ8,OB$1<=$CR8),1,"")) | OD8: =IF($CT8="","",IF(AND(OB$1>=$CT8,OB$1<=$CU8),1,"")) | OF8: =IF(ISNUMBER(OB$1),IF(AND(OP$3="",OP$4=""),IF(OB8="",,-($AL8)),),) -> 0 | OG8: =IF(ISNUMBER(OB$1),IF(OC8="",,-($AL8)),) -> 0 | OH8: =IF(ISNUMBER(OB$1),IF(OD8="",,-($AL8)),) -> 0 | OJ8: =IF(ISNUMBER(OB$1),IF(AND(OB8="",OC8="",OD8=""),IF(ISNUMBER($CC8),$CC8,),),) -> 0 | OM8: =IF(ISNUMBER(OB$1),IF($AG8="",,IF(AND(OB8="",OC8="",OD8=""),IF(AND(OP$3="",OP$4=""),,IF(OP$4="",$BZ8,$BZ8*2)),)),) -> 0 | ON8: =IF(AND(OE8="",OR(OP$3="",OP$4="")),0,IF(OP$4="x",OE8*2,OE8)) -> 0 | OO8: =IF(AND(OI8="",OR(OQ$3="",OQ$4="")),0,OI8) -> 0 | OP8: =IF(ISNUMBER(OB$1),IF(AND(OB8="",OC8="",OD8=""),IF(ISNUMBER($CD8),$CD8,),),) -> 0 | OQ8: =IF($CN8="","",IF(AND(OQ$1>=$CN8,OQ$1<=$CO8,$AG8="",OR(PE$3="",PE$4="")),1,"")) | OR8: =IF($CQ8="","",IF(AND(OQ$1>=$CQ8,OQ$1<=$CR8),1,"")) | OS8: =IF($CT8="","",IF(AND(OQ$1>=$CT8,OQ$1<=$CU8),1,"")) | OU8: =IF(ISNUMBER(OQ$1),IF(AND(PE$3="",PE$4=""),IF(OQ8="",,-($AL8)),),) -> 0 | OV8: =IF(ISNUMBER(OQ$1),IF(OR8="",,-($AL8)),) -> 0 | OW8: =IF(ISNUMBER(OQ$1),IF(OS8="",,-($AL8)),) -> 0 | OY8: =IF(ISNUMBER(OQ$1),IF(AND(OQ8="",OR8="",OS8=""),IF(ISNUMBER($CK8),$CK8,),),) -> 0 | PB8: =IF(ISNUMBER(OQ$1),IF($AG8="",,IF(AND($GI8="",$GJ8="",$GK8=""),IF(AND(PH$3="",PH$4=""),,IF(PH$4="",$CH8,$CH8*2)),)),) -> 0 | PC8: =IF(AND(OT8="",OR(PH$3="",GOY6="")),0,IF(PH$4="x",OT8*2,OT8)) -> 0 | PD8: =IF(AND(OX8="",OR(PH$3="",PH$4="")),0,OX8) -> 0 | PE8: =IF(ISNUMBER(OQ$1),IF(AND(OQ8="",OR8="",OS8=""),IF(ISNUMBER($CL8),$CL8,),),) -> 0 | PF8: =IF(OT8="",0,OT8) -> 0 | PG8: =IF(OX8="",0,OX8) -> 0 | PH8: =IF(ISNUMBER(OQ$1),IF(AND(OQ8="",OR8="",OR8=""),IF(ISNUMBER($CM8),$CM8,),),) -> 0 | PI8: =IF($CN8="","",IF(AND(PI$1>=$CN8,PI$1<=$CO8,$AG8="",OR(PW$3="",PW$4="")),1,"")) | PJ8: =IF($CQ8="","",IF(AND(PI$1>=$CQ8,PI$1<=$CR8),1,"")) | PK8: =IF($CT8="","",IF(AND(PI$1>=$CT8,PI$1<=$CU8),1,"")) | PM8: =IF(ISNUMBER(PI$1),IF(AND(PW$3="",PW$4=""),IF(PI8="",,-($AL8)),),) -> 0 | PN8: =IF(ISNUMBER(PI$1),IF(PJ8="",,-($AL8)),) -> 0 | PO8: =IF(ISNUMBER(PI$1),IF(PK8="",,-($AL8)),) -> 0 | PQ8: =IF(ISNUMBER(PI$1),IF(AND(PI8="",PJ8="",PK8=""),IF(ISNUMBER($AO8),$AO8,),),) -> 0 | PT8: =IF(ISNUMBER(PI$1),IF($AG8="",,IF(AND(PI8="",PJ8="",PK8=""),IF(AND(PW$3="",PW$4=""),,IF(PW$4="",$AL8,$AL8*2)),)),) -> 0 | PU8: =IF(AND(PL8="",OR(PW$3="",PW$4="")),0,IF(PW$4="x",PL8*2,PL8)) -> 0 | PV8: =IF(AND(PP8="",OR(PX$3="",PX$4="")),0,PP8) -> 0 | PW8: =IF(ISNUMBER(PI$1),IF(AND(PI8="",PJ8="",PK8=""),IF(ISNUMBER($AP8),$AP8,),),) -> 0 | PX8: =IF($CN8="","",IF(AND(PX$1>=$CN8,PX$1<=$CO8,$AG8="",OR(QL$3="",QL$4="")),1,"")) | PY8: =IF($CQ8="","",IF(AND(PX$1>=$CQ8,PX$1<=$CR8),1,"")) | PZ8: =IF($CT8="","",IF(AND(PX$1>=$CT8,PX$1<=$CU8),1,"")) | QB8: =IF(ISNUMBER(PX$1),IF(AND(QL$3="",QL$4=""),IF(PX8="",,-($AL8)),),) -> 0 | QC8: =IF(ISNUMBER(PX$1),IF(PY8="",,-($AL8)),) -> 0 | QD8: =IF(ISNUMBER(PX$1),IF(PZ8="",,-($AL8)),) -> 0 | QF8: =IF(ISNUMBER(PX$1),IF(AND(PX8="",PY8="",PZ8=""),IF(ISNUMBER($AW8),$AW8,),),) -> 0 | QI8: =IF(ISNUMBER(PX$1),IF($AG8="",,IF(AND(PX8="",PY8="",PZ8=""),IF(AND(QL$3="",QL$4=""),,IF(QL$4="",$AT8,$AT8*2)),)),) -> 0 | QJ8: =IF(AND(QA8="",OR(QL$3="",QL$4="")),0,IF(QL$4="x",QA8*2,QA8)) -> 0 | QK8: =IF(AND(QE8="",OR(QM$3="",QM$4="")),0,QE8) -> 0 | QL8: =IF(ISNUMBER(PX$1),IF(AND(PX8="",PY8="",PZ8=""),IF(ISNUMBER($AX8),$AX8,),),) -> 0 | QM8: =IF($CN8="","",IF(AND(QM$1>=$CN8,QM$1<=$CO8,$AG8="",OR(RA$3="",RA$4="")),1,"")) | QN8: =IF($CQ8="","",IF(AND(QM$1>=$CQ8,QM$1<=$CR8),1,"")) | QO8: =IF($CT8="","",IF(AND(QM$1>=$CT8,QM$1<=$CU8),1,"")) | QQ8: =IF(ISNUMBER(QM$1),IF(AND(RA$3="",RA$4=""),IF(QM8="",,-($AL8)),),) -> 0 | QR8: =IF(ISNUMBER(QM$1),IF(QN8="",,-($AL8)),) -> 0 | QS8: =IF(ISNUMBER(QM$1),IF(QO8="",,-($AL8)),) -> 0 | QU8: =IF(ISNUMBER(QM$1),IF(AND(QM8="",QN8="",QO8=""),IF(ISNUMBER($BE8),$BE8,),),) -> 0 | QX8: =IF(ISNUMBER(QM$1),IF($AG8="",,IF(AND(QM8="",QN8="",QO8=""),IF(AND(RA$3="",RA$4=""),,IF(RA$4="",$BB8,$BB8*2)),)),) -> 0 | QY8: =IF(AND(QP8="",OR(RA$3="",RA$4="")),0,IF(RA$4="x",QP8*2,QP8)) -> 0 | QZ8: =IF(AND(QT8="",OR(RB$3="",RB$4="")),0,QT8) -> 0 | RA8: =IF(ISNUMBER(QM$1),IF(AND(QM8="",QN8="",QO8=""),IF(ISNUMBER($BF8),$BF8,),),) -> 0 | RB8: =IF($CN8="","",IF(AND(RB$1>=$CN8,RB$1<=$CO8,$AG8="",OR(RP$3="",RP$4="")),1,"")) | RC8: =IF($CQ8="","",IF(AND(RB$1>=$CQ8,RB$1<=$CR8),1,"")) | RD8: =IF($CT8="","",IF(AND(RB$1>=$CT8,RB$1<=$CU8),1,"")) | RF8: =IF(ISNUMBER(RB$1),IF(AND(RP$3="",RP$4=""),IF(RB8="",,-($AL8)),),) -> 0 | RG8: =IF(ISNUMBER(RB$1),IF(RC8="",,-($AL8)),) -> 0 | RH8: =IF(ISNUMBER(RB$1),IF(RD8="",,-($AL8)),) -> 0 | RJ8: =IF(ISNUMBER(RB$1),IF(AND(RB8="",RC8="",RD8=""),IF(ISNUMBER($BM8),$BM8,),),) -> 0 | RM8: =IF(ISNUMBER(RB$1),IF($AG8="",,IF(AND(RB8="",RC8="",RD8=""),IF(AND(RP$3="",RP$4=""),,IF(RP$4="",$BJ8,$BJ8*2)),)),) -> 0 | RN8: =IF(AND(RE8="",OR(RP$3="",RP$4="")),0,IF(RP$4="x",RE8*2,RE8)) -> 0 | RO8: =IF(AND(RI8="",OR(RQ$3="",RQ$4="")),0,RI8) -> 0 | RP8: =IF(ISNUMBER(RB$1),IF(AND(RB8="",RC8="",RD8=""),IF(ISNUMBER($BN8),$BN8,),),) -> 0 | RQ8: =IF($CN8="","",IF(AND(RQ$1>=$CN8,RQ$1<=$CO8,$AG8="",OR(SE$3="",SE$4="")),1,"")) | RR8: =IF($CQ8="","",IF(AND(RQ$1>=$CQ8,RQ$1<=$CR8),1,"")) | RS8: =IF($CT8="","",IF(AND(RQ$1>=$CT8,RQ$1<=$CU8),1,"")) | RU8: =IF(ISNUMBER(RQ$1),IF(AND(SE$3="",SE$4=""),IF(RQ8="",,-($AL8)),),) -> 0 | RV8: =IF(ISNUMBER(RQ$1),IF(RR8="",,-($AL8)),) -> 0 | RW8: =IF(ISNUMBER(RQ$1),IF(RS8="",,-($AL8)),) -> 0 | RY8: =IF(ISNUMBER(RQ$1),IF(AND($FE8="",$FF8="",$FG8=""),IF(ISNUMBER($BU8),$BU8,),),) -> 0 | SB8: =IF(ISNUMBER(RQ$1),IF($AG8="",,IF(AND($FE8="",$FF8="",$FG8=""),IF(AND(SE$3="",SE$4=""),,IF(SE$4="",$BR8,$BR8*2)),)),) -> 0 | SC8: =IF(AND(RT8="",OR(SE$3="",SE$4="")),0,IF(SE$4="x",RT8*2,RT8)) -> 0 | SD8: =IF(AND(RX8="",OR(SF$3="",SF$4="")),0,RX8) -> 0 | SE8: =IF(ISNUMBER(RQ$1),IF(AND(RQ8="",RR8="",RS8=""),IF(ISNUMBER($BV8),$BV8,),),) -> 0 | SF8: =IF($CN8="","",IF(AND(SF$1>=$CN8,SF$1<=$CO8,$AG8="",OR(ST$3="",ST$4="")),1,"")) | SG8: =IF($CQ8="","",IF(AND(SF$1>=$CQ8,SF$1<=$CR8),1,"")) | SH8: =IF($CT8="","",IF(AND(SF$1>=$CT8,SF$1<=$CU8),1,"")) | SJ8: =IF(ISNUMBER(SF$1),IF(AND(ST$3="",ST$4=""),IF(SF8="",,-($AL8)),),) -> 0 | SK8: =IF(ISNUMBER(SF$1),IF(SG8="",,-($AL8)),) -> 0 | SL8: =IF(ISNUMBER(SF$1),IF(SH8="",,-($AL8)),) -> 0 | SN8: =IF(ISNUMBER(SF$1),IF(AND(SF8="",SG8="",SH8=""),IF(ISNUMBER($CC8),$CC8,),),) -> 0 | SQ8: =IF(ISNUMBER(SF$1),IF($AG8="",,IF(AND(SF8="",SG8="",SH8=""),IF(AND(ST$3="",ST$4=""),,IF(ST$4="",$BZ8,$BZ8*2)),)),) -> 0 | SR8: =IF(AND(SI8="",OR(ST$3="",ST$4="")),0,IF(ST$4="x",SI8*2,SI8)) -> 0 | SS8: =IF(AND(SM8="",OR(SU$3="",SU$4="")),0,SM8) -> 0 | ST8: =IF(ISNUMBER(SF$1),IF(AND(SF8="",SG8="",SH8=""),IF(ISNUMBER($CD8),$CD8,),),) -> 0 | SU8: =IF($CN8="","",IF(AND(SU$1>=$CN8,SU$1<=$CO8,$AG8="",OR(TI$3="",TI$4="")),1,"")) | SV8: =IF($CQ8="","",IF(AND(SU$1>=$CQ8,SU$1<=$CR8),1,"")) | SW8: =IF($CT8="","",IF(AND(SU$1>=$CT8,SU$1<=$CU8),1,"")) | SY8: =IF(ISNUMBER(SU$1),IF(AND(TI$3="",TI$4=""),IF(SU8="",,-($AL8)),),) -> 0 | SZ8: =IF(ISNUMBER(SU$1),IF(SV8="",,-($AL8)),) -> 0 | TA8: =IF(ISNUMBER(SU$1),IF(SW8="",,-($AL8)),) -> 0 | TC8: =IF(ISNUMBER(SU$1),IF(AND(SU8="",SV8="",SW8=""),IF(ISNUMBER($CK8),$CK8,),),) -> 0 | TF8: =IF(ISNUMBER(SU$1),IF($AG8="",,IF(AND($GI8="",$GJ8="",$GK8=""),IF(AND(TL$3="",TL$4=""),,IF(TL$4="",$CH8,$CH8*2)),)),) -> 0 | TG8: =IF(AND(SX8="",OR(TL$3="",GSV6="")),0,IF(TL$4="x",SX8*2,SX8)) -> 0 | TH8: =IF(AND(TB8="",OR(TL$3="",TL$4="")),0,TB8) -> 0 | TI8: =IF(ISNUMBER(SU$1),IF(AND(SU8="",SV8="",SW8=""),IF(ISNUMBER($CL8),$CL8,),),) -> 0 | TJ8: =IF(SX8="",0,SX8) -> 0 | TK8: =IF(TB8="",0,TB8) -> 0 | TL8: =IF(ISNUMBER(SU$1),IF(AND(SU8="",SV8="",SV8=""),IF(ISNUMBER($CM8),$CM8,),),) -> 0 | TM8: =IF($CN8="","",IF(AND(TM$1>=$CN8,TM$1<=$CO8,$AG8="",OR(UA$3="",UA$4="")),1,"")) | TN8: =IF($CQ8="","",IF(AND(TM$1>=$CQ8,TM$1<=$CR8),1,"")) | TO8: =IF($CT8="","",IF(AND(TM$1>=$CT8,TM$1<=$CU8),1,"")) | TQ8: =IF(ISNUMBER(TM$1),IF(AND(UA$3="",UA$4=""),IF(TM8="",,-($AL8)),),) -> 0 | TR8: =IF(ISNUMBER(TM$1),IF(TN8="",,-($AL8)),) -> 0 | TS8: =IF(ISNUMBER(TM$1),IF(TO8="",,-($AL8)),) -> 0 | TU8: =IF(ISNUMBER(TM$1),IF(AND(TM8="",TN8="",TO8=""),IF(ISNUMBER($AO8),$AO8,),),) -> 0 | TX8: =IF(ISNUMBER(TM$1),IF($AG8="",,IF(AND(TM8="",TN8="",TO8=""),IF(AND(UA$3="",UA$4=""),,IF(UA$4="",$AL8,$AL8*2)),)),) -> 0 | TY8: =IF(AND(TP8="",OR(UA$3="",UA$4="")),0,IF(UA$4="x",TP8*2,TP8)) -> 0 | TZ8: =IF(AND(TT8="",OR(UB$3="",UB$4="")),0,TT8) -> 0 | UA8: =IF(ISNUMBER(TM$1),IF(AND(TM8="",TN8="",TO8=""),IF(ISNUMBER($AP8),$AP8,),),) -> 0 | UB8: =IF($CN8="","",IF(AND(UB$1>=$CN8,UB$1<=$CO8,$AG8="",OR(UP$3="",UP$4="")),1,"")) | UC8: =IF($CQ8="","",IF(AND(UB$1>=$CQ8,UB$1<=$CR8),1,"")) | UD8: =IF($CT8="","",IF(AND(UB$1>=$CT8,UB$1<=$CU8),1,"")) | UF8: =IF(ISNUMBER(UB$1),IF(AND(UP$3="",UP$4=""),IF(UB8="",,-($AL8)),),) -> 0 | UG8: =IF(ISNUMBER(UB$1),IF(UC8="",,-($AL8)),) -> 0 | UH8: =IF(ISNUMBER(UB$1),IF(UD8="",,-($AL8)),) -> 0 | UJ8: =IF(ISNUMBER(UB$1),IF(AND(UB8="",UC8="",UD8=""),IF(ISNUMBER($AW8),$AW8,),),) -> 0 | UM8: =IF(ISNUMBER(UB$1),IF($AG8="",,IF(AND(UB8="",UC8="",UD8=""),IF(AND(UP$3="",UP$4=""),,IF(UP$4="",$AT8,$AT8*2)),)),) -> 0 | UN8: =IF(AND(UE8="",OR(UP$3="",UP$4="")),0,IF(UP$4="x",UE8*2,UE8)) -> 0 | UO8: =IF(AND(UI8="",OR(UQ$3="",UQ$4="")),0,UI8) -> 0 | UP8: =IF(ISNUMBER(UB$1),IF(AND(UB8="",UC8="",UD8=""),IF(ISNUMBER($AX8),$AX8,),),) -> 0 | UQ8: =IF($CN8="","",IF(AND(UQ$1>=$CN8,UQ$1<=$CO8,$AG8="",OR(VE$3="",VE$4="")),1,"")) | UR8: =IF($CQ8="","",IF(AND(UQ$1>=$CQ8,UQ$1<=$CR8),1,"")) | US8: =IF($CT8="","",IF(AND(UQ$1>=$CT8,UQ$1<=$CU8),1,"")) | UU8: =IF(ISNUMBER(UQ$1),IF(AND(VE$3="",VE$4=""),IF(UQ8="",,-($AL8)),),) -> 0 | UV8: =IF(ISNUMBER(UQ$1),IF(UR8="",,-($AL8)),) -> 0 | UW8: =IF(ISNUMBER(UQ$1),IF(US8="",,-($AL8)),) -> 0 | UY8: =IF(ISNUMBER(UQ$1),IF(AND(UQ8="",UR8="",US8=""),IF(ISNUMBER($BE8),$BE8,),),) -> 0 | VB8: =IF(ISNUMBER(UQ$1),IF($AG8="",,IF(AND(UQ8="",UR8="",US8=""),IF(AND(VE$3="",VE$4=""),,IF(VE$4="",$BB8,$BB8*2)),)),) -> 0 | VC8: =IF(AND(UT8="",OR(VE$3="",VE$4="")),0,IF(VE$4="x",UT8*2,UT8)) -> 0 | VD8: =IF(AND(UX8="",OR(VF$3="",VF$4="")),0,UX8) -> 0 | VE8: =IF(ISNUMBER(UQ$1),IF(AND(UQ8="",UR8="",US8=""),IF(ISNUMBER($BF8),$BF8,),),) -> 0 | VF8: =IF($CN8="","",IF(AND(VF$1>=$CN8,VF$1<=$CO8,$AG8="",OR(VT$3="",VT$4="")),1,"")) | VG8: =IF($CQ8="","",IF(AND(VF$1>=$CQ8,VF$1<=$CR8),1,"")) | VH8: =IF($CT8="","",IF(AND(VF$1>=$CT8,VF$1<=$CU8),1,"")) | VJ8: =IF(ISNUMBER(VF$1),IF(AND(VT$3="",VT$4=""),IF(VF8="",,-($AL8)),),) -> 0 | VK8: =IF(ISNUMBER(VF$1),IF(VG8="",,-($AL8)),) -> 0 | VL8: =IF(ISNUMBER(VF$1),IF(VH8="",,-($AL8)),) -> 0 | VN8: =IF(ISNUMBER(VF$1),IF(AND(VF8="",VG8="",VH8=""),IF(ISNUMBER($BM8),$BM8,),),) -> 0 | VQ8: =IF(ISNUMBER(VF$1),IF($AG8="",,IF(AND(VF8="",VG8="",VH8=""),IF(AND(VT$3="",VT$4=""),,IF(VT$4="",$BJ8,$BJ8*2)),)),) -> 0 | VR8: =IF(AND(VI8="",OR(VT$3="",VT$4="")),0,IF(VT$4="x",VI8*2,VI8)) -> 0 | VS8: =IF(AND(VM8="",OR(VU$3="",VU$4="")),0,VM8) -> 0 | VT8: =IF(ISNUMBER(VF$1),IF(AND(VF8="",VG8="",VH8=""),IF(ISNUMBER($BN8),$BN8,),),) -> 0 | VU8: =IF($CN8="","",IF(AND(VU$1>=$CN8,VU$1<=$CO8,$AG8="",OR(WI$3="",WI$4="")),1,"")) | VV8: =IF($CQ8="","",IF(AND(VU$1>=$CQ8,VU$1<=$CR8),1,"")) | VW8: =IF($CT8="","",IF(AND(VU$1>=$CT8,VU$1<=$CU8),1,"")) | VY8: =IF(ISNUMBER(VU$1),IF(AND(WI$3="",WI$4=""),IF(VU8="",,-($AL8)),),) -> 0 | VZ8: =IF(ISNUMBER(VU$1),IF(VV8="",,-($AL8)),) -> 0 | WA8: =IF(ISNUMBER(VU$1),IF(VW8="",,-($AL8)),) -> 0 | WC8: =IF(ISNUMBER(VU$1),IF(AND($FE8="",$FF8="",$FG8=""),IF(ISNUMBER($BU8),$BU8,),),) -> 0 | WF8: =IF(ISNUMBER(VU$1),IF($AG8="",,IF(AND($FE8="",$FF8="",$FG8=""),IF(AND(WI$3="",WI$4=""),,IF(WI$4="",$BR8,$BR8*2)),)),) -> 0 | WG8: =IF(AND(VX8="",OR(WI$3="",WI$4="")),0,IF(WI$4="x",VX8*2,VX8)) -> 0 | WH8: =IF(AND(WB8="",OR(WJ$3="",WJ$4="")),0,WB8) -> 0 | WI8: =IF(ISNUMBER(VU$1),IF(AND(VU8="",VV8="",VW8=""),IF(ISNUMBER($BV8),$BV8,),),) -> 0 | WJ8: =IF($CN8="","",IF(AND(WJ$1>=$CN8,WJ$1<=$CO8,$AG8="",OR(WX$3="",WX$4="")),1,"")) | WK8: =IF($CQ8="","",IF(AND(WJ$1>=$CQ8,WJ$1<=$CR8),1,"")) | WL8: =IF($CT8="","",IF(AND(WJ$1>=$CT8,WJ$1<=$CU8),1,"")) | WN8: =IF(ISNUMBER(WJ$1),IF(AND(WX$3="",WX$4=""),IF(WJ8="",,-($AL8)),),) -> 0 | WO8: =IF(ISNUMBER(WJ$1),IF(WK8="",,-($AL8)),) -> 0 | WP8: =IF(ISNUMBER(WJ$1),IF(WL8="",,-($AL8)),) -> 0 | WR8: =IF(ISNUMBER(WJ$1),IF(AND(WJ8="",WK8="",WL8=""),IF(ISNUMBER($CC8),$CC8,),),) -> 0 | WU8: =IF(ISNUMBER(WJ$1),IF($AG8="",,IF(AND(WJ8="",WK8="",WL8=""),IF(AND(WX$3="",WX$4=""),,IF(WX$4="",$BZ8,$BZ8*2)),)),) -> 0 | WV8: =IF(AND(WM8="",OR(WX$3="",WX$4="")),0,IF(WX$4="x",WM8*2,WM8)) -> 0 | WW8: =IF(AND(WQ8="",OR(WY$3="",WY$4="")),0,WQ8) -> 0 | WX8: =IF(ISNUMBER(WJ$1),IF(AND(WJ8="",WK8="",WL8=""),IF(ISNUMBER($CD8),$CD8,),),) -> 0 | WY8: =IF($CN8="","",IF(AND(WY$1>=$CN8,WY$1<=$CO8,$AG8="",OR(XM$3="",XM$4="")),1,"")) | WZ8: =IF($CQ8="","",IF(AND(WY$1>=$CQ8,WY$1<=$CR8),1,"")) | XA8: =IF($CT8="","",IF(AND(WY$1>=$CT8,WY$1<=$CU8),1,"")) | XC8: =IF(ISNUMBER(WY$1),IF(AND(XM$3="",XM$4=""),IF(WY8="",,-($AL8)),),) -> 0 | XD8: =IF(ISNUMBER(WY$1),IF(WZ8="",,-($AL8)),) -> 0 | XE8: =IF(ISNUMBER(WY$1),IF(XA8="",,-($AL8)),) -> 0 | XG8: =IF(ISNUMBER(WY$1),IF(AND(WY8="",WZ8="",XA8=""),IF(ISNUMBER($CK8),$CK8,),),) -> 0 | XJ8: =IF(ISNUMBER(WY$1),IF($AG8="",,IF(AND($GI8="",$GJ8="",$GK8=""),IF(AND(XP$3="",XP$4=""),,IF(XP$4="",$CH8,$CH8*2)),)),) -> 0 | XK8: =IF(AND(XB8="",OR(XP$3="",GWS6="")),0,IF(XP$4="x",XB8*2,XB8)) -> 0 | XL8: =IF(AND(XF8="",OR(XP$3="",XP$4="")),0,XF8) -> 0 | XM8: =IF(ISNUMBER(WY$1),IF(AND(WY8="",WZ8="",XA8=""),IF(ISNUMBER($CL8),$CL8,),),) -> 0 | XN8: =IF(XB8="",0,XB8) -> 0 | XO8: =IF(XF8="",0,XF8) -> 0 | XP8: =IF(ISNUMBER(WY$1),IF(AND(WY8="",WZ8="",WZ8=""),IF(ISNUMBER($CM8),$CM8,),),) -> 0 | XQ8: =IF($CN8="","",IF(AND(XQ$1>=$CN8,XQ$1<=$CO8,$AG8="",OR(YE$3="",YE$4="")),1,"")) | XR8: =IF($CQ8="","",IF(AND(XQ$1>=$CQ8,XQ$1<=$CR8),1,"")) | XS8: =IF($CT8="","",IF(AND(XQ$1>=$CT8,XQ$1<=$CU8),1,"")) | XU8: =IF(ISNUMBER(XQ$1),IF(AND(YE$3="",YE$4=""),IF(XQ8="",,-($AL8)),),) -> 0 | XV8: =IF(ISNUMBER(XQ$1),IF(XR8="",,-($AL8)),) -> 0 | XW8: =IF(ISNUMBER(XQ$1),IF(XS8="",,-($AL8)),) -> 0 | XY8: =IF(ISNUMBER(XQ$1),IF(AND(XQ8="",XR8="",XS8=""),IF(ISNUMBER($AO8),$AO8,),),) -> 0 | YB8: =IF(ISNUMBER(XQ$1),IF($AG8="",,IF(AND(XQ8="",XR8="",XS8=""),IF(AND(YE$3="",YE$4=""),,IF(YE$4="",$AL8,$AL8*2)),)),) -> 0 | YC8: =IF(AND(XT8="",OR(YE$3="",YE$4="")),0,IF(YE$4="x",XT8*2,XT8)) -> 0 | YD8: =IF(AND(XX8="",OR(YF$3="",YF$4="")),0,XX8) -> 0 | YE8: =IF(ISNUMBER(XQ$1),IF(AND(XQ8="",XR8="",XS8=""),IF(ISNUMBER($AP8),$AP8,),),) -> 0 | YF8: =IF($CN8="","",IF(AND(YF$1>=$CN8,YF$1<=$CO8,$AG8="",OR(YT$3="",YT$4="")),1,"")) | YG8: =IF($CQ8="","",IF(AND(YF$1>=$CQ8,YF$1<=$CR8),1,"")) | YH8: =IF($CT8="","",IF(AND(YF$1>=$CT8,YF$1<=$CU8),1,"")) | YJ8: =IF(ISNUMBER(YF$1),IF(AND(YT$3="",YT$4=""),IF(YF8="",,-($AL8)),),) -> 0 | YK8: =IF(ISNUMBER(YF$1),IF(YG8="",,-($AL8)),) -> 0 | YL8: =IF(ISNUMBER(YF$1),IF(YH8="",,-($AL8)),) -> 0 | YN8: =IF(ISNUMBER(YF$1),IF(AND(YF8="",YG8="",YH8=""),IF(ISNUMBER($AW8),$AW8,),),) -> 0 | YQ8: =IF(ISNUMBER(YF$1),IF($AG8="",,IF(AND(YF8="",YG8="",YH8=""),IF(AND(YT$3="",YT$4=""),,IF(YT$4="",$AT8,$AT8*2)),)),) -> 0 | YR8: =IF(AND(YI8="",OR(YT$3="",YT$4="")),0,IF(YT$4="x",YI8*2,YI8)) -> 0 | YS8: =IF(AND(YM8="",OR(YU$3="",YU$4="")),0,YM8) -> 0 | YT8: =IF(ISNUMBER(YF$1),IF(AND(YF8="",YG8="",YH8=""),IF(ISNUMBER($AX8),$AX8,),),) -> 0 | YU8: =SUM(YV8:ZA8) -> 0 | YV8: =CZ8+DO8+ED8+ES8+FH8+FW8+GL8 -> 0 | YW8: =HD8+HS8+IH8+IW8+JL8+KA8+KP8 -> 0 | YX8: =LH8+LW8+ML8+NA8+NP8+OE8+OT8 -> 0 | YY8: =PL8+QA8+QP8+RE8+RT8+SI8+SX8 -> 0 | YZ8: =TP8+UE8+UT8+VX8+WM8+XB8 -> 0 | ZA8: =XT8+YI8 -> 0 | ZB8: =IF(AH8<151.66, IF(YU8>0,(MAX(AH8*0.1))*1.1,0),) -> 0 | ZC8: =IF(AH8<151.66,IF(YU8>(AH8*0.1),(YU8-(AH8*0.1))*1.25,),) -> 0 | ZD8: =SUM(ZE8:ZJ8) -> 0 | ZE8: =IF($AH$6>151.66,IF((YV8)>8,8*1.25,((YV8)-0)*1.25),) -> 0 | ZF8: =IF($AH$6>151.66,IF((YW8)>8,8*1.25,((YW8)-0)*1.25),) -> 0 | ZG8: =IF($AH$6>151.66,IF((YX8)>8,8*1.25,((YX8)-0)*1.25),) -> 0 | ZH8: =IF($AH$6>151.66,IF((YY8)>8,8*1.25,((YY8)-0)*1.25),) -> 0 | ZI8: =IF($AH$6>151.66,IF((YZ8)>8,8*1.25,((YZ8)-0)*1.25),) -> 0 | ZJ8: =IF($AH$6>151.66,IF((ZA8)>8,8*1.25,((ZA8)-0)*1.25),) -> 0 | ZK8: =SUM(ZL8:ZQ8) -> 0 | ZL8: =IF($AH$6>151.66,IF((YV8)>8,((YV8)-8)*1.5,),) -> 0 | ZM8: =IF($AH$6>151.66,IF((YW8)>8,((YW8)-8)*1.5,),) -> 0 | ZN8: =IF($AH$6>151.66,IF((YX8)>8,((YX8)-8)*1.5,),) -> 0 | ZO8: =IF($AH$6>151.66,IF((YY8)>8,((YY8)-8)*1.5,),) -> 0 | ZP8: =IF($AH$6>151.66,IF((YZ8)>8,((YZ8)-8)*1.5,),) -> 0 | ZQ8: =IF($AH$6>151.66,IF((ZA8)>8,((ZA8)-8)*1.5,),) -> 0 | ZR8: =ZB8+ZC8+ZD8+ZK8 -> 0 | ZS8: =SUM(ZT8:ZW8) -> 0 | ZT8: =DA8+DP8+EE8+ET8+FI8+FX8+GM8+HE8+II8+IX8+JM8+KB8+KQ8+LI8+LX8+MM8+NB8+NQ8+OF8+OU8+PM8+QB8+QQ8+RF8+SJ8+SY8+TQ8+UF8+UU8+VJ8+VY8+WN8+XC8+XU8+YJ8 -> 0 | ZU8: =DB8+DQ8+EF8+EU8+FJ8+FY8+GN8+HF8+IJ8+IY8+JN8+KC8+KR8+LJ8+LY8+MN8+NC8+NR8+OG8+OV8+PN8+QC8+QR8+RG8+SK8+SZ8+TR8+UG8+UV8+VK8+VZ8+WO8+XD8+XV8+YK8 -> 0 | ZV8: =DC8+DR8+EG8+EV8+FK8+FZ8+GO8+HG8+IK8+IZ8+JO8+KD8+KS8+LK8+LZ8+MO8+ND8+NS8+OH8+OW8+PO8+QD8+QS8+RH8+SL8+TA8+TS8+UH8+UW8+VL8+WA8+WP8+XE8+XW8+YL8 -> 0 | ZW8: =DD8+DS8+EH8+EW8+FL8+GA8+GP8+HH8+IL8+JA8+JP8+KE8+KT8+LL8+MA8+MP8+NE8+NT8+OI8+OX8+PP8+QE8+QT8+RI8+SM8+TB8+TT8+UI8+UX8+VM8+WB8+WQ8+XF8+XX8+YM8 -> 0 | ZX8: =DE8+DF8+DG8+DT8+DU8+DV8+EI8+EJ8+EK8+EX8+EY8+EZ8+FM8+FN8+FO8+GB8+GC8+GD8+GQ8+GR8+GS8+HI8+HJ8+HK8+HX8+HY8+HZ8+IM8+IN8+JB8+JC8+JD8+JQ8+JR8+JS8+KF8+KG8+KH8+KU8+KV8+KW8+LM8+LN8+LO8+MB8+MC8+MD8+MQ8+MR8+MS8+NF8+NG8+NH8+NU8+NV8+NW8+OJ8+OK8+OL8+OY8+OZ8+PA8+PQ8+PR8+PS8+QF8+QG8+QH8+QU8+QV8+RJ8+RK8+RL8+RY8+RZ8+SA8+SN8+SO8+SP8+TC8+TD8+TE8+TU8+TV8+UJ8+UK8+UL8+UY8+UZ8+VA8+VN8+VO8+WC8+WD8+WE8+WR8+WS8+XG8+XH8+XI8+XY8+XZ8+YN8+YO8+YP8 -> 0 | ZY8: =IF(ISTEXT(AE8),ZX8*0.2,) -> 0 | ZZ8: =IF(AE8="",ZX8,) -> 0 | AAA8: =GW8+GX8+GY8+LA8+LB8+PE8+PF8+PG8+TI8+TJ8+TK8+XM8+XN8+XO8 -> 0 | AAB8: =IF(ISTEXT(AF8),AAA8*0.2,) -> 0 | AAC8: =IF(AF8="",AAA8*2,) -> 0 | AAD8: =DH8+DI8+DJ8+DW8+DX8+EL8+EM8+FA8+FB8+FC8+FP8+FQ8+FR8+GE8+GF8+GG8+GT8+GU8+GV8+HL8+HM8+IA8+IB8+IC8+IP8+IQ8+IR8+JE8+JF8+JG8+JT8+JU8+JV8+KI8+KJ8+KK8+KX8+KY8+KZ8+LP8+LQ8+LR8+ME8+MF8+MG8+MT8+MU8+MV8+NI8+NJ8+NK8+NX8+NY8+NZ8+OM8+ON8+OO8+PB8+PC8+PD8+PT8+PU8+PV8+QI8+QJ8+QK8+QX8+QY8+QZ8+RM8+RN8+RO8+SB8+SC8+SD8+SQ8+SR8+SS8+TF8+TG8+TH8+TX8+TY8+TZ8+UM8+UN8+UO8+VB8+VC8+VQ8+VR8+WF8+WG8+WH8+WU8+WV8+WW8+XJ8+XK8+YB8+YC8+YD8+YQ8+YR8+YS8 -> 0 | AAE8: =IF(ISTEXT(AG8),AAD8*0.5,) -> 0 | AAF8: =IF(AG8="",AAD8,) -> 0 | AAG8: =ZX8*0.002 -> 0 | AAH8: =IF(ZS8<(-$AH8),0,$AH8+ZS8+ZY8+ZZ8+AAB8+AAC8+AAE8+AAF8+AAG8) -> 59.583333 | AAI8: =(DK8+DZ8+EO8+FD8+FS8+GH8+GZ8+HO8+ID8+IS8+JH8+JW8+KL8+LD8+LS8+MH8+MW8+NL8+OA8+OP8+PH8+PW8+QL8+RA8+RP8+SE8+ST8+TL8+UA8+UP8+VE8+VT8+WI8+WX8+XP8+YE8+YT8)*$AAI$5 -> 0 | AAJ8: =IF(AAH8<0,0,(AAH8*AA8)+AAI8) -> 610.72917 | AAL8: =IF(AAJ8=0,0,IF(AH8>75.83,3,(AH8/75.83)*3)) -> 2.3572465 | AAM8: =VLOOKUP(J8,'données salariés'!P:Q,2,0) -> 0 | AAN8: =VLOOKUP(J8,'données salariés'!R:S,2,0) -> 0 | AAP8: =IF(AAM8>0,,IF(V8<20, AH8*10.11*0.067/12,AH8*10.11*0.1/12)) -> 3.3633302 | AAQ8: =SUM(AAJ8:AAP8) -> 616.44974 | AAR8: =(($AAJ8-AAI8)+$AAK8+$AAM8+$AAN8+$AAO8)*0.1 -> 61.072917 | AAS8: =AAQ8+AAR8 -> 677.52266 | AAT8: =($AAQ8-$AAP8-$AAL8-$AAI8)*$AAT$4 -> 24.429167 | AAU8: =($AAQ8-$AAP8-$AAL8-$AAI8)*$AAT$4 -> 24.429167 | AAV8: =IF(AAJ8=0,0,IF(((AAQ8-AAP8)*0.92)<((AH8-ZS8)*$ABV$4),((AH8+ZS8)*$ABV$4)*$AAV$4,((AAQ8-AAP8)*0.92)*$AAV$4)) -> 78.294883 | AAW8: =IF(((AAQ8-AAP8)*0.92)<((AH8+ZS8)*$ABV$4),((AH8+ZS8)*$ABV$4)*$AAW$4,((AAQ8-AAP8)*0.92)*$AAW$4) -> 48.860717 | AAX8: =((AAQ8-AAP8)*0.92)*$AAX$4 -> 0.09024632 | AAY8: =(ABJ8+ABK8+ABP8)*$AAY$4 -> 1.0177698 | AAZ8: =IF(((AAQ8-AAP8)*0.92)<((AH8+ZS8)*$ABV$4),((AH8+ZS8)*$ABV$4)*$AAZ$4,(AAQ8-AAP8)*0.92*$AAZ$4) -> 20.309575 | ABA8: =IF(((AAQ8-AAP8)*0.92)<((AH8+ZS8)*$ABV$4),((AH8+ZS8)*$ABV$4)*$ABA$4,((AAQ8-AAP8)*0.92)*$ABA$4) -> 2.9434167 | ABB8: =IF(((AAQ8-AAP8)*0.92)<((AH8+ZS8)*$ABV$4),((AH8+ZS8)*$ABV$4)*$ABB$4,((AAQ8-AAP8)*0.92)*$ABB$4) -> 1.4717083 | ABC8: =IF(((AAQ8-AAP8)*0.92)<((AH8+ZS8)*$ABV$4),((AH8+ZS8)*$ABV$4)*$ABC$4,((AAQ8-AAP8)*0.92)*$ABC$4) -> 17.366158 | ABD8: =IF(((AAQ8-AAP8)*0.92)<((AH8+ZS8)*$ABV$4),((AH8+ZS8)*$ABV$4)*$ABD$4,((AAQ8-AAP8)*0.92)*$ABD$4) -> 47.68335 | ABE8: =IF(((AAQ8-AAP8)*0.92)<((AH8+ZS8)*$ABV$4),((AH8+ZS8)*$ABV$4)*$ABE$4,((AAQ8-AAP8)*0.92)*$ABE$4) -> 0.883025 | ABF8: =IF(((AAQ8-AAP8)*0.92)<((AH8+ZS8)*$ABV$4),((AH8+ZS8)*$ABV$4)*$ABF$4,(AAQ8-AAP8)*0.92*$ABF$4) -> 11.184983 | ABG8: =IF(AAQ8<3311,IF(((AAQ8-AAP8)*0.92)<((AH8+ZS8)*$ABV$4),((AH8+ZS8)*$ABV$4)*$ABG$4,((AAQ8-AAP8)*0.92)*$ABG$4),3311*$ABG$4) -> 23.017518 | ABH8: =IF(((AAQ8-AAP8)*0.92)<((AH8+ZS8)*$ABV$4),((AH8+ZS8)*$ABV$4)*$ABH$4,((AAQ8-AAP8)*0.92)*$ABH$4) -> 7.0642 | ABI8: =IF(AAQ8>3311,(AAQ8-3311)*$ABI$4,) -> 0 | ABJ8: =IF(AAQ8>3311,3311*$ABJ$4,IF(AA8>12.49,((AAQ8-AAP8)*0.92)*0.00906,((AAQ8-AAP8)*0.92)*$ABJ$4)) -> 3.8918726 | ABK8: =IF(AA8<12.49,,IF(AAQ8>3311,3311*$ABK$4,((AAS8-AAP8)*0.92)*$ABK$4)) -> 0 | ABL8: =AAR8*$ABL$4 -> 1.8321875 | ABM8: =(AAQ8-AAP8)*0.92*$ABM$4 -> 5.640395 | ABN8: =(AAQ8-AAP8)*0.92*$ABM$4 -> 5.640395 | ABO8: =(AAQ8-AAP8)*0.92*$ABO$4 -> 14.439411 | ABP8: =IF(Y8="",,IF((AH8*$ABV$4*0.015)>24.83,24.83,AH8*$ABV$4*0.015)) -> 8.83025 | ABQ8: =AAS8*$ABQ$4 -> 2.7100906 | ABR8: =SUM(AAT8:ABQ8) -> 352.03049 | ABS8: =IF(ZS8<(-AH8),,(AH8+ZS8)*$ABV$4) -> 588.68333 | ABT8: =IF((AAQ8-AAP8)=0,0,(0.2854/0.6)*((1.6*1*((ABS8*12)/((((AAS8-AAP8)*0.92)*11)))-1)*(100/90))) -> 0.34707012 | ABU8: =IF(ABT8<0.2854,ROUND(ABT8,4),0.2854) -> 0.2854 | ABV8: =IF(ABT8>0.2854,0.2854*(AAS8-AAP8),IF(ABT8>0,ABU8*(AAS8-AAP8),0)) -> 192.40507 | ABW8: =ABR8-ABV8 -> 159.62541 | ABX8: =IF(AAJ8=0,0.58,ABW8/AAS8) -> 0.23560159 | ABY8: =IF(ZS8<(-AH8),,IF(AAS8<((AH8-ZS8)*($ABV$4*2.5)),(AAS8-AAP8)*($ABY$5),)) -> 40.44956 | ABZ8: =IF(AAJ8=0,0,(ABW8-ABY8)/(AAS8-AAP8)) -> 0.17677699 | ACA8: =ACB8/AAS8-1 -> 0.17877865 | ACB8: =((AAS8-AAP8)*(1+ABZ8))+(AAP8*1.58) -> 798.64925 | ACC8: =IF(AAJ8=0,0,IF(AAQ8=0,,IF(AAK8="",IF(AH8>75.83, 75.2*0.5,AH8/75.83*75.2*0.5),))) -> 29.544156 | ACD8: =IF(AAJ8=0,0,ACB8*0.00455) -> 3.6338541 | ACE8: =ACB8+ACC8 -> 828.1934
A9: 1 | B9: FABRICE | D9: AFT | I9: =H9-G9 -> 0 | J9: 000000211514 | K9: =VLOOKUP(J9,MATRICULE,2,0) -> JEYAKUMAR | L9: =VLOOKUP(J9,MATRICULE,3,0) -> JESINTHA JUDITH | M9: =VLOOKUP(J9,MATRICULE,6,0) -> 24043.042 | N9: =IF(M9="","",(TODAY()-M9)/365) -> 52.539612 | O9: =VLOOKUP(J9,MATRICULE,4,0) -> 2651099235092 | P9: =VLOOKUP(J9,MATRICULE,5,0) -> Féminin | Q9: =VLOOKUP(J9,MATRICULE,7,0) -> Sri Lanka | R9: =VLOOKUP(J9,MATRICULE,13,0) -> LE BLANC MESNIL | S9: =VLOOKUP(J9,MATRICULE,12,0) -> 93150 | T9: 650164004 | U9: =LOOKUP(J9,'données salariés'!$N$2:$O$626) -> 38083.083 | V9: =IF(U9="","",(TODAY()-U9)/365) -> 14.073744 | W9: cdi | Y9: x | Z9: =LOOKUP(J9,'données salariés'!$T$2:$U$630) -> AS1A | AA9: =IF(ISTEXT(Z9),VLOOKUP(Z9,TX,2,0),0) -> 10.11 | AB9: =IF(ISTEXT(W9),VLOOKUP(W9,CONT,2,0),0) -> 0 | AC9: =AA9*(1+AB9) -> 10.11 | AD9: =IF(V9="","",LOOKUP(V9,'base salaire'!$A$36:$B$42)) -> 0.05 | AH9: =(AL9+AT9+BB9+BJ9+BR9+BZ9+CH9)*52/12 -> 54.166667 | AI9: 0.76041667 | AJ9: 0.86458333 | AL9: =((AJ9-AI9)*24)-AK9 -> 2.5 | AM9: =IF(ISNUMBER(AI9),IF(AI9>(4.99/24),0,IF(AJ9>(6/24),((6/24)-AI9)*24,(AJ9-AI9)*24)),) -> 0 | AN9: =IF(ISNUMBER(AI9),IF(AJ9>(21/24),IF(AI9>=(21/24),(AJ9-AI9)*24,(AJ9-(21/24))*24),),) -> 0 | AO9: =AM9+AN9 -> 0 | AQ9: 0.76041667 | AR9: 0.86458333 | AT9: =((AR9-AQ9)*24)-AS9 -> 2.5 | AU9: =IF(ISNUMBER(AQ9),IF(AQ9>(4.99/24),0,IF(AR9>(6/24),((6/24)-AQ9)*24,(AR9-AQ9)*24)),) -> 0 | AV9: =IF(ISNUMBER(AQ9),IF(AR9>(21/24),IF(AQ9>=(21/24),(AR9-AQ9)*24,(AR9-(21/24))*24),),) -> 0 | AW9: =AU9+AV9 -> 0 | AY9: 0.76041667 | AZ9: 0.86458333 | BB9: =((AZ9-AY9)*24)-BA9 -> 2.5 | BC9: =IF(ISNUMBER(AY9),IF(AY9>(4.99/24),0,IF(AZ9>(6/24),((6/24)-AY9)*24,(AZ9-AY9)*24)),) -> 0 | BD9: =IF(ISNUMBER(AY9),IF(AZ9>(21/24),IF(AY9>=(21/24),(AZ9-AY9)*24,(AZ9-(21/24))*24),),) -> 0 | BE9: =BC9+BD9 -> 0 | BG9: 0.76041667 | BH9: 0.86458333 | BJ9: =((BH9-BG9)*24)-BI9 -> 2.5 | BK9: =IF(ISNUMBER(BG9),IF(BG9>(4.99/24),0,IF(BH9>(6/24),((6/24)-BG9)*24,(BH9-BG9)*24)),) -> 0 | BL9: =IF(ISNUMBER(BG9),IF(BH9>(21/24),IF(BG9>=(21/24),(BH9-BG9)*24,(BH9-(21/24))*24),),) -> 0 | BM9: =BK9+BL9 -> 0 | BO9: 0.76041667 | BP9: 0.86458333 | BR9: =((BP9-BO9)*24)-BQ9 -> 2.5 | BS9: =IF(ISNUMBER(BO9),IF(BO9>(4.99/24),0,IF(BP9>(6/24),((6/24)-BO9)*24,(BP9-BO9)*24)),) -> 0 | BT9: =IF(ISNUMBER(BO9),IF(BP9>(21/24),IF(BO9>=(21/24),(BP9-BO9)*24,(BP9-(21/24))*24),),) -> 0 | BU9: =BS9+BT9 -> 0 | BZ9: =((BX9-BW9)*24)-BY9 -> 0 | CA9: =IF(ISNUMBER(BW9),IF(BW9>(4.99/24),0,IF(BX9>(6/24),((6/24)-BW9)*24,(BX9-BW9)*24)),) -> 0 | CB9: =IF(ISNUMBER(BW9),IF(BX9>(21/24),IF(BW9>=(21/24),(BX9-BW9)*24,(BX9-(21/24))*24),),) -> 0 | CC9: =CA9+CB9 -> 0 | CH9: =((CF9-CE9)*24)-CG9 -> 0 | CI9: =IF(ISNUMBER(CE9),IF(CE9>(4.99/24),0,IF(CF9>(6/24),((6/24)-CE9)*24,(CF9-CE9)*24)),) -> 0 | CJ9: =IF(ISNUMBER(CE9),IF(CF9>(21/24),IF(CE9>=(21/24),(CF9-CE9)*24,(CF9-(21/24))*24),),) -> 0 | CK9: =CI9+CJ9 -> 0 | CL9: =IF(ISTEXT(AF9),CH9,) -> 0 | CW9: =IF($CN9="","",IF(AND(CW$1>=$CN9,CW$1<=$CO9,$AG9="",OR(DK$3="",DK$4="")),1,"")) | CX9: =IF($CQ9="","",IF(AND(CW$1>=$CQ9,CW$1<=$CR9),1,"")) | CY9: =IF($CT9="","",IF(AND(CW$1>=$CT9,CW$1<=$CU9),1,"")) | DA9: =IF(ISNUMBER(CW$1),IF(AND(DK$3="",DK$4=""),IF(CW9="",,-($AL9)),),) -> 0 | DB9: =IF(ISNUMBER(CW$1),IF(CX9="",,-($AL9)),) -> 0 | DC9: =IF(ISNUMBER(CW$1),IF(CY9="",,-($AL9)),) -> 0 | DE9: =IF(ISNUMBER(CW$1),IF(AND(CW9="",CX9="",CY9=""),IF(ISNUMBER($AO9),$AO9,),),) -> 0 | DH9: =IF(ISNUMBER(CW$1),IF($AG9="",,IF(AND(CW9="",CX9="",CY9=""),IF(AND(DK$3="",DK$4=""),,IF(DK$4="",$BZ9,$BZ9*2)),)),) -> 0 | DI9: =IF(AND(CZ9="",OR(DK$3="",DK$4="")),0,CZ9) -> 0 | DJ9: =IF(AND(DD9="",OR(DL$3="",DL$4="")),0,DD9) -> 0 | DK9: =IF(ISNUMBER(CW$1),IF(AND(CW9="",CX9="",CY9=""),IF(ISNUMBER($AP9),$AP9,),),) -> 0 | DL9: =IF($CN9="","",IF(AND(DL$1>=$CN9,DL$1<=$CO9,$AG9="",OR(DZ$3="",DZ$4="")),1,"")) | DM9: =IF($CQ9="","",IF(AND(DL$1>=$CQ9,DL$1<=$CR9),1,"")) | DN9: =IF($CT9="","",IF(AND(DL$1>=$CT9,DL$1<=$CU9),1,"")) | DP9: =IF(ISNUMBER(DL$1),IF(AND(DZ$3="",DZ$4=""),IF(DL9="",,-($AT9)),),) -> 0 | DQ9: =IF(ISNUMBER(DL$1),IF(DM9="",,-($AT9)),) -> 0 | DR9: =IF(ISNUMBER(DL$1),IF(DN9="",,-($AT9)),) -> 0 | DT9: =IF(ISNUMBER(DL$1),IF(AND(DL9="",DM9="",DN9=""),IF(ISNUMBER($AW9),$AW9,),),) -> 0 | DW9: =IF(ISNUMBER(DL$1),IF($AG9="",,IF(AND(DL9="",DM9="",DN9=""),IF(AND(DZ$3="",DZ$4=""),,IF(DZ$4="",$BZ9,$BZ9*2)),)),) -> 0 | DX9: =IF(AND(DO9="",OR(DZ$3="",DZ$4="")),0,DO9) -> 0 | DY9: =IF(AND(DS9="",OR(EA$3="",EA$4="")),0,DS9) -> 0 | DZ9: =IF(ISNUMBER(DL$1),IF(AND(DL9="",DM9="",DN9=""),IF(ISNUMBER($AX9),$AX9,),),) -> 0 | EA9: =IF($CN9="","",IF(AND(EA$1>=$CN9,EA$1<=$CO9,$AG9="",OR(EO$3="",EO$4="")),1,"")) | EB9: =IF($CQ9="","",IF(AND(EA$1>=$CQ9,EA$1<=$CR9),1,"")) | EC9: =IF($CT9="","",IF(AND(EA$1>=$CT9,EA$1<=$CU9),1,"")) | EE9: =IF(ISNUMBER(EA$1),IF(AND(EO$3="",EO$4=""),IF(EA9="",,-($BB9)),),) -> 0 | EF9: =IF(ISNUMBER(EA$1),IF(EB9="",,-($BB9)),) -> 0 | EG9: =IF(ISNUMBER(EA$1),IF(EC9="",,-($BB9)),) -> 0 | EI9: =IF(ISNUMBER(EA$1),IF(AND(EA9="",EB9="",EC9=""),IF(ISNUMBER($BE9),$BE9,),),) -> 0 | EL9: =IF(ISNUMBER(EA$1),IF($AG9="",,IF(AND(EA9="",EB9="",EC9=""),IF(AND(EO$3="",EO$4=""),,IF(EO$4="",$BZ9,$BZ9*2)),)),) -> 0 | EM9: =IF(AND(ED9="",OR(EO$3="",EO$4="")),0,ED9) -> 0 | EN9: =IF(AND(EH9="",OR(EP$3="",EP$4="")),0,EH9) -> 0 | EO9: =IF(ISNUMBER(EA$1),IF(AND(EA9="",EB9="",EC9=""),IF(ISNUMBER($BF9),$BF9,),),) -> 0 | EP9: =IF($CN9="","",IF(AND(EP$1>=$CN9,EP$1<=$CO9,$AG9="",OR(FD$3="",FD$4="")),1,"")) | EQ9: =IF($CQ9="","",IF(AND(EP$1>=$CQ9,EP$1<=$CR9),1,"")) | ER9: =IF($CT9="","",IF(AND(EP$1>=$CT9,EP$1<=$CU9),1,"")) | ET9: =IF(ISNUMBER(EP$1),IF(AND(FD$3="",FD$4=""),IF(EP9="",,-($BJ9)),),) -> 0 | EU9: =IF(ISNUMBER(EP$1),IF(EQ9="",,-($BJ9)),) -> 0 | EV9: =IF(ISNUMBER(EP$1),IF(ER9="",,-($BJ9)),) -> 0 | EX9: =IF(ISNUMBER(EP$1),IF(AND(EP9="",EQ9="",ER9=""),IF(ISNUMBER($BM9),$BM9,),),) -> 0 | FA9: =IF(ISNUMBER(EP$1),IF($AG9="",,IF(AND(EP9="",EQ9="",ER9=""),IF(AND(FD$3="",FD$4=""),,IF(FD$4="",$BZ9,$BZ9*2)),)),) -> 0 | FB9: =IF(AND(ES9="",OR(FD$3="",FD$4="")),0,ES9) -> 0 | FC9: =IF(AND(EW9="",OR(FE$3="",FE$4="")),0,EW9) -> 0 | FD9: =IF(ISNUMBER(EP$1),IF(AND(EP9="",EQ9="",ER9=""),IF(ISNUMBER($BN9),$BN9,),),) -> 0 | FE9: =IF($CN9="","",IF(AND(FE$1>=$CN9,FE$1<=$CO9,$AG9="",OR(FS$3="",FS$4="")),1,"")) | FF9: =IF($CQ9="","",IF(AND(FE$1>=$CQ9,FE$1<=$CR9),1,"")) | FG9: =IF($CT9="","",IF(AND(FE$1>=$CT9,FE$1<=$CU9),1,"")) | FI9: =IF(ISNUMBER(FE$1),IF(AND(FS$3="",FS$4=""),IF(FE9="",,-($BR9)),),) -> 0 | FJ9: =IF(ISNUMBER(FE$1),IF(FF9="",,-($BR9)),) -> 0 | FK9: =IF(ISNUMBER(FE$1),IF(FG9="",,-($BR9)),) -> 0 | FM9: =IF(ISNUMBER(FE$1),IF(AND(FE9="",FF9="",FG9=""),IF(ISNUMBER($BU9),$BU9,),),) -> 0 | FP9: =IF(ISNUMBER(FE$1),IF($AG9="",,IF(AND(FE9="",FF9="",FG9=""),IF(AND(FS$3="",FS$4=""),,IF(FS$4="",$BZ9,$BZ9*2)),)),) -> 0 | FQ9: =IF(AND(FH9="",OR(FS$3="",FS$4="")),0,FH9) -> 0 | FR9: =IF(AND(FL9="",OR(FT$3="",FT$4="")),0,FL9) -> 0 | FS9: =IF(ISNUMBER(FE$1),IF(AND(FE9="",FF9="",FG9=""),IF(ISNUMBER($BV9),$BV9,),),) -> 0 | FT9: =IF($CN9="","",IF(AND(FT$1>=$CN9,FT$1<=$CO9,$AG9="",OR(GH$3="",GH$4="")),1,"")) | FU9: =IF($CQ9="","",IF(AND(FT$1>=$CQ9,FT$1<=$CR9),1,"")) | FV9: =IF($CT9="","",IF(AND(FT$1>=$CT9,FT$1<=$CU9),1,"")) | FX9: =IF(ISNUMBER(FT$1),IF(AND(GH$3="",GH$4=""),IF(FT9="",,-($BZ9)),),) -> 0 | FY9: =IF(ISNUMBER(FT$1),IF(FU9="",,-($BZ9)),) -> 0 | FZ9: =IF(ISNUMBER(FT$1),IF(FV9="",,-($BZ9)),) -> 0 | GB9: =IF(ISNUMBER(FT$1),IF(AND(FT9="",FU9="",FV9=""),IF(ISNUMBER($CC9),$CC9,),),) -> 0 | GE9: =IF(ISNUMBER(FT$1),IF($AG9="",,IF(AND(FT9="",FU9="",FV9=""),IF(AND(GH$3="",GH$4=""),,IF(GH$4="",$BZ9,$BZ9*2)),)),) -> 0 | GF9: =IF(AND(FW9="",OR(GH$3="",GH$4="")),0,FW9) -> 0 | GG9: =IF(AND(GA9="",OR(GI$3="",GI$4="")),0,GA9) -> 0 | GH9: =IF(ISNUMBER(FT$1),IF(AND(FT9="",FU9="",FV9=""),IF(ISNUMBER($CD9),$CD9,),),) -> 0 | GI9: =IF($CN9="","",IF(AND(GI$1>=$CN9,GI$1<=$CO9,$AG9="",OR(GW$3="",GW$4="")),1,"")) | GJ9: =IF($CQ9="","",IF(AND(GI$1>=$CQ9,GI$1<=$CR9),1,"")) | GK9: =IF($CT9="","",IF(AND(GI$1>=$CT9,GI$1<=$CU9),1,"")) | GM9: =IF(ISNUMBER(GI$1),IF(AND(GW$3="",GW$4=""),IF(GI9="",,-($CG9)),),) -> 0 | GN9: =IF(ISNUMBER(GI$1),IF(GJ9="",,-($CG9)),) -> 0 | GO9: =IF(ISNUMBER(GI$1),IF(GK9="",,-($CG9)),) -> 0 | GQ9: =IF(ISNUMBER(GI$1),IF(AND(GI9="",GJ9="",GK9=""),IF(ISNUMBER($CK9),$CK9,),),) -> 0 | GT9: =IF(ISNUMBER(GI$1),IF($AG9="",,IF(AND($GI9="",$GJ9="",$GK9=""),IF(AND(GZ$3="",GZ$4=""),,IF(GZ$4="",$CH9,$CH9*2)),)),) -> 0 | GU9: =IF(AND(GL9="",OR(GZ$3="",GHE7="")),0,GL9) -> 0 | GV9: =IF(AND(GP9="",OR(GZ$3="",GZ$4="")),0,GP9) -> 0 | GW9: =IF(ISNUMBER(GI$1),IF(AND(GI9="",GJ9="",GK9=""),IF(ISNUMBER($CL9),$CL9,),),) -> 0 | GX9: =IF(GL9="",0,GL9) -> 0 | GY9: =IF(GP9="",0,GP9) -> 0 | GZ9: =IF(ISNUMBER(GI$1),IF(AND(GI9="",GJ9="",GJ9=""),IF(ISNUMBER($CM9),$CM9,),),) -> 0 | HA9: =IF($CN9="","",IF(AND(HA$1>=$CN9,HA$1<=$CO9,$AG9="",OR(HO$3="",HO$4="")),1,"")) | HB9: =IF($CQ9="","",IF(AND(HA$1>=$CQ9,HA$1<=$CR9),1,"")) | HC9: =IF($CT9="","",IF(AND(HA$1>=$CT9,HA$1<=$CU9),1,"")) | HE9: =IF(ISNUMBER(HA$1),IF(AND(HO$3="",HO$4=""),IF(HA9="",,-($AL9)),),) -> 0 | HF9: =IF(ISNUMBER(HA$1),IF(HB9="",,-($AL9)),) -> 0 | HG9: =IF(ISNUMBER(HA$1),IF(HC9="",,-($AL9)),) -> 0 | HI9: =IF(ISNUMBER(HA$1),IF(AND(HA9="",HB9="",HC9=""),IF(ISNUMBER($AO9),$AO9,),),) -> 0 | HL9: =IF(ISNUMBER(HA$1),IF($AG9="",,IF(AND(HA9="",HB9="",HC9=""),IF(AND(HO$3="",HO$4=""),,IF(HO$4="",$BZ9,$BZ9*2)),)),) -> 0 | HM9: =IF(AND(HD9="",OR(HO$3="",HO$4="")),0,HD9) -> 0 | HN9: =IF(AND(HH9="",OR(HP$3="",HP$4="")),0,HH9) -> 0 | HO9: =IF(ISNUMBER(HA$1),IF(AND(HA9="",HB9="",HC9=""),IF(ISNUMBER($AP9),$AP9,),),) -> 0 | HP9: =IF($CN9="","",IF(AND(HP$1>=$CN9,HP$1<=$CO9,$AG9="",OR(ID$3="",ID$4="")),1,"")) | HQ9: =IF($CQ9="","",IF(AND(HP$1>=$CQ9,HP$1<=$CR9),1,"")) | HR9: =IF($CT9="","",IF(AND(HP$1>=$CT9,HP$1<=$CU9),1,"")) | HT9: =IF(ISNUMBER(HP$1),IF(AND(ID$3="",ID$4=""),IF(HP9="",,-($AT9)),),) -> 0 | HU9: =IF(ISNUMBER(HP$1),IF(HQ9="",,-($AT9)),) -> 0 | HV9: =IF(ISNUMBER(HP$1),IF(HR9="",,-($AT9)),) -> 0 | HX9: =IF(ISNUMBER(HP$1),IF(AND(HP9="",HQ9="",HR9=""),IF(ISNUMBER($AW9),$AW9,),),) -> 0 | IA9: =IF(ISNUMBER(HP$1),IF($AG9="",,IF(AND(HP9="",HQ9="",HR9=""),IF(AND(ID$3="",ID$4=""),,IF(ID$4="",$BZ9,$BZ9*2)),)),) -> 0 | IB9: =IF(AND(HS9="",OR(ID$3="",ID$4="")),0,HS9) -> 0 | IC9: =IF(AND(HW9="",OR(IE$3="",IE$4="")),0,HW9) -> 0 | ID9: =IF(ISNUMBER(HP$1),IF(AND(HP9="",HQ9="",HR9=""),IF(ISNUMBER($AX9),$AX9,),),) -> 0 | IE9: =IF($CN9="","",IF(AND(IE$1>=$CN9,IE$1<=$CO9,$AG9="",OR(IS$3="",IS$4="")),1,"")) | IF9: =IF($CQ9="","",IF(AND(IE$1>=$CQ9,IE$1<=$CR9),1,"")) | IG9: =IF($CT9="","",IF(AND(IE$1>=$CT9,IE$1<=$CU9),1,"")) | II9: =IF(ISNUMBER(IE$1),IF(AND(IS$3="",IS$4=""),IF(IE9="",,-($BB9)),),) -> 0 | IJ9: =IF(ISNUMBER(IE$1),IF(IF9="",,-($BB9)),) -> 0 | IK9: =IF(ISNUMBER(IE$1),IF(IG9="",,-($BB9)),) -> 0 | IM9: =IF(ISNUMBER(IE$1),IF(AND(IE9="",IF9="",IG9=""),IF(ISNUMBER($BE9),$BE9,),),) -> 0 | IP9: =IF(ISNUMBER(IE$1),IF($AG9="",,IF(AND(IE9="",IF9="",IG9=""),IF(AND(IS$3="",IS$4=""),,IF(IS$4="",$BZ9,$BZ9*2)),)),) -> 0 | IQ9: =IF(AND(IH9="",OR(IS$3="",IS$4="")),0,IH9) -> 0 | IR9: =IF(AND(IL9="",OR(IT$3="",IT$4="")),0,IL9) -> 0 | IS9: =IF(ISNUMBER(IE$1),IF(AND(IE9="",IF9="",IG9=""),IF(ISNUMBER($BF9),$BF9,),),) -> 0 | IT9: =IF($CN9="","",IF(AND(IT$1>=$CN9,IT$1<=$CO9,$AG9="",OR(JH$3="",JH$4="")),1,"")) | IU9: =IF($CQ9="","",IF(AND(IT$1>=$CQ9,IT$1<=$CR9),1,"")) | IV9: =IF($CT9="","",IF(AND(IT$1>=$CT9,IT$1<=$CU9),1,"")) | IX9: =IF(ISNUMBER(IT$1),IF(AND(JH$3="",JH$4=""),IF(IT9="",,-($BJ9)),),) -> 0 | IY9: =IF(ISNUMBER(IT$1),IF(IU9="",,-($BJ9)),) -> 0 | IZ9: =IF(ISNUMBER(IT$1),IF(IV9="",,-($BJ9)),) -> 0 | JB9: =IF(ISNUMBER(IT$1),IF(AND(IT9="",IU9="",IV9=""),IF(ISNUMBER($BM9),$BM9,),),) -> 0 | JE9: =IF(ISNUMBER(IT$1),IF($AG9="",,IF(AND(IT9="",IU9="",IV9=""),IF(AND(JH$3="",JH$4=""),,IF(JH$4="",$BZ9,$BZ9*2)),)),) -> 0 | JF9: =IF(AND(IW9="",OR(JH$3="",JH$4="")),0,IW9) -> 0 | JG9: =IF(AND(JA9="",OR(JI$3="",JI$4="")),0,JA9) -> 0 | JH9: =IF(ISNUMBER(IT$1),IF(AND(IT9="",IU9="",IV9=""),IF(ISNUMBER($BN9),$BN9,),),) -> 0 | JI9: =IF($CN9="","",IF(AND(JI$1>=$CN9,JI$1<=$CO9,$AG9="",OR(JW$3="",JW$4="")),1,"")) | JJ9: =IF($CQ9="","",IF(AND(JI$1>=$CQ9,JI$1<=$CR9),1,"")) | JK9: =IF($CT9="","",IF(AND(JI$1>=$CT9,JI$1<=$CU9),1,"")) | JM9: =IF(ISNUMBER(JI$1),IF(AND(JW$3="",JW$4=""),IF(JI9="",,-($BR9)),),) -> 0 | JN9: =IF(ISNUMBER(JI$1),IF(JJ9="",,-($BR9)),) -> 0 | JO9: =IF(ISNUMBER(JI$1),IF(JK9="",,-($BR9)),) -> 0 | JQ9: =IF(ISNUMBER(JI$1),IF(AND(JI9="",JJ9="",JK9=""),IF(ISNUMBER($BU9),$BU9,),),) -> 0 | JT9: =IF(ISNUMBER(JI$1),IF($AG9="",,IF(AND(JI9="",JJ9="",JK9=""),IF(AND(JW$3="",JW$4=""),,IF(JW$4="",$BZ9,$BZ9*2)),)),) -> 0 | JU9: =IF(AND(JL9="",OR(JW$3="",JW$4="")),0,JL9) -> 0 | JV9: =IF(AND(JP9="",OR(JX$3="",JX$4="")),0,JP9) -> 0 | JW9: =IF(ISNUMBER(JI$1),IF(AND(JI9="",JJ9="",JK9=""),IF(ISNUMBER($BV9),$BV9,),),) -> 0 | JX9: =IF($CN9="","",IF(AND(JX$1>=$CN9,JX$1<=$CO9,$AG9="",OR(KL$3="",KL$4="")),1,"")) | JY9: =IF($CQ9="","",IF(AND(JX$1>=$CQ9,JX$1<=$CR9),1,"")) | JZ9: =IF($CT9="","",IF(AND(JX$1>=$CT9,JX$1<=$CU9),1,"")) | KB9: =IF(ISNUMBER(JX$1),IF(AND(KL$3="",KL$4=""),IF(JX9="",,-($BZ9)),),) -> 0 | KC9: =IF(ISNUMBER(JX$1),IF(JY9="",,-($BZ9)),) -> 0 | KD9: =IF(ISNUMBER(JX$1),IF(JZ9="",,-($BZ9)),) -> 0 | KF9: =IF(ISNUMBER(JX$1),IF(AND(JX9="",JY9="",JZ9=""),IF(ISNUMBER($CC9),$CC9,),),) -> 0 | KI9: =IF(ISNUMBER(JX$1),IF($AG9="",,IF(AND(JX9="",JY9="",JZ9=""),IF(AND(KL$3="",KL$4=""),,IF(KL$4="",$BZ9,$BZ9*2)),)),) -> 0 | KJ9: =IF(AND(KA9="",OR(KL$3="",KL$4="")),0,KA9) -> 0 | KK9: =IF(AND(KE9="",OR(KM$3="",KM$4="")),0,KE9) -> 0 | KL9: =IF(ISNUMBER(JX$1),IF(AND(JX9="",JY9="",JZ9=""),IF(ISNUMBER($CD9),$CD9,),),) -> 0 | KM9: =IF($CN9="","",IF(AND(KM$1>=$CN9,KM$1<=$CO9,$AG9="",OR(LA$3="",LA$4="")),1,"")) | KN9: =IF($CQ9="","",IF(AND(KM$1>=$CQ9,KM$1<=$CR9),1,"")) | KO9: =IF($CT9="","",IF(AND(KM$1>=$CT9,KM$1<=$CU9),1,"")) | KQ9: =IF(ISNUMBER(KM$1),IF(AND(LA$3="",LA$4=""),IF(KM9="",,-($CG9)),),) -> 0 | KR9: =IF(ISNUMBER(KM$1),IF(KN9="",,-($CG9)),) -> 0 | KS9: =IF(ISNUMBER(KM$1),IF(KO9="",,-($CG9)),) -> 0 | KU9: =IF(ISNUMBER(KM$1),IF(AND(KM9="",KN9="",KO9=""),IF(ISNUMBER($CK9),$CK9,),),) -> 0 | KX9: =IF(ISNUMBER(KM$1),IF($AG9="",,IF(AND($GI9="",$GJ9="",$GK9=""),IF(AND(LD$3="",LD$4=""),,IF(LD$4="",$CH9,$CH9*2)),)),) -> 0 | KY9: =IF(AND(KP9="",OR(LD$3="",GLI7="")),0,KP9) -> 0 | KZ9: =IF(AND(KT9="",OR(LD$3="",LD$4="")),0,KT9) -> 0 | LA9: =IF(ISNUMBER(KM$1),IF(AND(KM9="",KN9="",KO9=""),IF(ISNUMBER($CL9),$CL9,),),) -> 0 | LB9: =IF(KP9="",0,KP9) -> 0 | LC9: =IF(KT9="",0,KT9) -> 0 | LD9: =IF(ISNUMBER(KM$1),IF(AND(KM9="",KN9="",KN9=""),IF(ISNUMBER($CM9),$CM9,),),) -> 0 | LE9: =IF($CN9="","",IF(AND(LE$1>=$CN9,LE$1<=$CO9,$AG9="",OR(LS$3="",LS$4="")),1,"")) | LF9: =IF($CQ9="","",IF(AND(LE$1>=$CQ9,LE$1<=$CR9),1,"")) | LG9: =IF($CT9="","",IF(AND(LE$1>=$CT9,LE$1<=$CU9),1,"")) | LI9: =IF(ISNUMBER(LE$1),IF(AND(LS$3="",LS$4=""),IF(LE9="",,-($AL9)),),) -> 0 | LJ9: =IF(ISNUMBER(LE$1),IF(LF9="",,-($AL9)),) -> 0 | LK9: =IF(ISNUMBER(LE$1),IF(LG9="",,-($AL9)),) -> 0 | LM9: =IF(ISNUMBER(LE$1),IF(AND(LE9="",LF9="",LG9=""),IF(ISNUMBER($AO9),$AO9,),),) -> 0 | LP9: =IF(ISNUMBER(LE$1),IF($AG9="",,IF(AND(LE9="",LF9="",LG9=""),IF(AND(LS$3="",LS$4=""),,IF(LS$4="",$AL9,$AL9*2)),)),) -> 0 | LQ9: =IF(AND(LH9="",OR(LS$3="",LS$4="")),0,IF(LS$4="x",LH9*2,LH9)) -> 0 | LR9: =IF(AND(LL9="",OR(LT$3="",LT$4="")),0,LL9) -> 0 | LS9: =IF(ISNUMBER(LE$1),IF(AND(LE9="",LF9="",LG9=""),IF(ISNUMBER($AP9),$AP9,),),) -> 0 | LT9: =IF($CN9="","",IF(AND(LT$1>=$CN9,LT$1<=$CO9,$AG9="",OR(MH$3="",MH$4="")),1,"")) | LU9: =IF($CQ9="","",IF(AND(LT$1>=$CQ9,LT$1<=$CR9),1,"")) | LV9: =IF($CT9="","",IF(AND(LT$1>=$CT9,LT$1<=$CU9),1,"")) | LX9: =IF(ISNUMBER(LT$1),IF(AND(MH$3="",MH$4=""),IF(LT9="",,-($AL9)),),) -> 0 | LY9: =IF(ISNUMBER(LT$1),IF(LU9="",,-($AL9)),) -> 0 | LZ9: =IF(ISNUMBER(LT$1),IF(LV9="",,-($AL9)),) -> 0 | MB9: =IF(ISNUMBER(LT$1),IF(AND(LT9="",LU9="",LV9=""),IF(ISNUMBER($AW9),$AW9,),),) -> 0 | ME9: =IF(ISNUMBER(LT$1),IF($AG9="",,IF(AND(LT9="",LU9="",LV9=""),IF(AND(MH$3="",MH$4=""),,IF(MH$4="",$AT9,$AT9*2)),)),) -> 0 | MF9: =IF(AND(LW9="",OR(MH$3="",MH$4="")),0,IF(MH$4="x",LW9*2,LW9)) -> 0 | MG9: =IF(AND(MA9="",OR(MI$3="",MI$4="")),0,MA9) -> 0 | MH9: =IF(ISNUMBER(LT$1),IF(AND(LT9="",LU9="",LV9=""),IF(ISNUMBER($AX9),$AX9,),),) -> 0 | MI9: =IF($CN9="","",IF(AND(MI$1>=$CN9,MI$1<=$CO9,$AG9="",OR(MW$3="",MW$4="")),1,"")) | MJ9: =IF($CQ9="","",IF(AND(MI$1>=$CQ9,MI$1<=$CR9),1,"")) | MK9: =IF($CT9="","",IF(AND(MI$1>=$CT9,MI$1<=$CU9),1,"")) | MM9: =IF(ISNUMBER(MI$1),IF(AND(MW$3="",MW$4=""),IF(MI9="",,-($AL9)),),) -> 0 | MN9: =IF(ISNUMBER(MI$1),IF(MJ9="",,-($AL9)),) -> 0 | MO9: =IF(ISNUMBER(MI$1),IF(MK9="",,-($AL9)),) -> 0 | MQ9: =IF(ISNUMBER(MI$1),IF(AND(MI9="",MJ9="",MK9=""),IF(ISNUMBER($BE9),$BE9,),),) -> 0 | MT9: =IF(ISNUMBER(MI$1),IF($AG9="",,IF(AND(MI9="",MJ9="",MK9=""),IF(AND(MW$3="",MW$4=""),,IF(MW$4="",$BB9,$BB9*2)),)),) -> 0 | MU9: =IF(AND(ML9="",OR(MW$3="",MW$4="")),0,IF(MW$4="x",ML9*2,ML9)) -> 0 | MV9: =IF(AND(MP9="",OR(MX$3="",MX$4="")),0,MP9) -> 0 | MW9: =IF(ISNUMBER(MI$1),IF(AND(MI9="",MJ9="",MK9=""),IF(ISNUMBER($BF9),$BF9,),),) -> 0 | MX9: =IF($CN9="","",IF(AND(MX$1>=$CN9,MX$1<=$CO9,$AG9="",OR(NL$3="",NL$4="")),1,"")) | MY9: =IF($CQ9="","",IF(AND(MX$1>=$CQ9,MX$1<=$CR9),1,"")) | MZ9: =IF($CT9="","",IF(AND(MX$1>=$CT9,MX$1<=$CU9),1,"")) | NB9: =IF(ISNUMBER(MX$1),IF(AND(NL$3="",NL$4=""),IF(MX9="",,-($AL9)),),) -> 0 | NC9: =IF(ISNUMBER(MX$1),IF(MY9="",,-($AL9)),) -> 0 | ND9: =IF(ISNUMBER(MX$1),IF(MZ9="",,-($AL9)),) -> 0 | NF9: =IF(ISNUMBER(MX$1),IF(AND(MX9="",MY9="",MZ9=""),IF(ISNUMBER($BM9),$BM9,),),) -> 0 | NI9: =IF(ISNUMBER(MX$1),IF($AG9="",,IF(AND(MX9="",MY9="",MZ9=""),IF(AND(NL$3="",NL$4=""),,IF(NL$4="",$BJ9,$BJ9*2)),)),) -> 0 | NJ9: =IF(AND(NA9="",OR(NL$3="",NL$4="")),0,IF(NL$4="x",NA9*2,NA9)) -> 0 | NK9: =IF(AND(NE9="",OR(NM$3="",NM$4="")),0,NE9) -> 0 | NL9: =IF(ISNUMBER(MX$1),IF(AND(MX9="",MY9="",MZ9=""),IF(ISNUMBER($BN9),$BN9,),),) -> 0 | NM9: =IF($CN9="","",IF(AND(NM$1>=$CN9,NM$1<=$CO9,$AG9="",OR(OA$3="",OA$4="")),1,"")) | NN9: =IF($CQ9="","",IF(AND(NM$1>=$CQ9,NM$1<=$CR9),1,"")) | NO9: =IF($CT9="","",IF(AND(NM$1>=$CT9,NM$1<=$CU9),1,"")) | NQ9: =IF(ISNUMBER(NM$1),IF(AND(OA$3="",OA$4=""),IF(NM9="",,-($AL9)),),) -> 0 | NR9: =IF(ISNUMBER(NM$1),IF(NN9="",,-($AL9)),) -> 0 | NS9: =IF(ISNUMBER(NM$1),IF(NO9="",,-($AL9)),) -> 0 | NU9: =IF(ISNUMBER(NM$1),IF(AND($FE9="",$FF9="",$FG9=""),IF(ISNUMBER($BU9),$BU9,),),) -> 0 | NX9: =IF(ISNUMBER(NM$1),IF($AG9="",,IF(AND($FE9="",$FF9="",$FG9=""),IF(AND(OA$3="",OA$4=""),,IF(OA$4="",$BR9,$BR9*2)),)),) -> 0 | NY9: =IF(AND(NP9="",OR(OA$3="",OA$4="")),0,IF(OA$4="x",NP9*2,NP9)) -> 0 | NZ9: =IF(AND(NT9="",OR(OB$3="",OB$4="")),0,NT9) -> 0 | OA9: =IF(ISNUMBER(NM$1),IF(AND(NM9="",NN9="",NO9=""),IF(ISNUMBER($BV9),$BV9,),),) -> 0 | OB9: =IF($CN9="","",IF(AND(OB$1>=$CN9,OB$1<=$CO9,$AG9="",OR(OP$3="",OP$4="")),1,"")) | OC9: =IF($CQ9="","",IF(AND(OB$1>=$CQ9,OB$1<=$CR9),1,"")) | OD9: =IF($CT9="","",IF(AND(OB$1>=$CT9,OB$1<=$CU9),1,"")) | OF9: =IF(ISNUMBER(OB$1),IF(AND(OP$3="",OP$4=""),IF(OB9="",,-($AL9)),),) -> 0 | OG9: =IF(ISNUMBER(OB$1),IF(OC9="",,-($AL9)),) -> 0 | OH9: =IF(ISNUMBER(OB$1),IF(OD9="",,-($AL9)),) -> 0 | OJ9: =IF(ISNUMBER(OB$1),IF(AND(OB9="",OC9="",OD9=""),IF(ISNUMBER($CC9),$CC9,),),) -> 0 | OM9: =IF(ISNUMBER(OB$1),IF($AG9="",,IF(AND(OB9="",OC9="",OD9=""),IF(AND(OP$3="",OP$4=""),,IF(OP$4="",$BZ9,$BZ9*2)),)),) -> 0 | ON9: =IF(AND(OE9="",OR(OP$3="",OP$4="")),0,IF(OP$4="x",OE9*2,OE9)) -> 0 | OO9: =IF(AND(OI9="",OR(OQ$3="",OQ$4="")),0,OI9) -> 0 | OP9: =IF(ISNUMBER(OB$1),IF(AND(OB9="",OC9="",OD9=""),IF(ISNUMBER($CD9),$CD9,),),) -> 0 | OQ9: =IF($CN9="","",IF(AND(OQ$1>=$CN9,OQ$1<=$CO9,$AG9="",OR(PE$3="",PE$4="")),1,"")) | OR9: =IF($CQ9="","",IF(AND(OQ$1>=$CQ9,OQ$1<=$CR9),1,"")) | OS9: =IF($CT9="","",IF(AND(OQ$1>=$CT9,OQ$1<=$CU9),1,"")) | OU9: =IF(ISNUMBER(OQ$1),IF(AND(PE$3="",PE$4=""),IF(OQ9="",,-($AL9)),),) -> 0 | OV9: =IF(ISNUMBER(OQ$1),IF(OR9="",,-($AL9)),) -> 0 | OW9: =IF(ISNUMBER(OQ$1),IF(OS9="",,-($AL9)),) -> 0 | OY9: =IF(ISNUMBER(OQ$1),IF(AND(OQ9="",OR9="",OS9=""),IF(ISNUMBER($CK9),$CK9,),),) -> 0 | PB9: =IF(ISNUMBER(OQ$1),IF($AG9="",,IF(AND($GI9="",$GJ9="",$GK9=""),IF(AND(PH$3="",PH$4=""),,IF(PH$4="",$CH9,$CH9*2)),)),) -> 0 | PC9: =IF(AND(OT9="",OR(PH$3="",GOY7="")),0,IF(PH$4="x",OT9*2,OT9)) -> 0 | PD9: =IF(AND(OX9="",OR(PH$3="",PH$4="")),0,OX9) -> 0 | PE9: =IF(ISNUMBER(OQ$1),IF(AND(OQ9="",OR9="",OS9=""),IF(ISNUMBER($CL9),$CL9,),),) -> 0 | PF9: =IF(OT9="",0,OT9) -> 0 | PG9: =IF(OX9="",0,OX9) -> 0 | PH9: =IF(ISNUMBER(OQ$1),IF(AND(OQ9="",OR9="",OR9=""),IF(ISNUMBER($CM9),$CM9,),),) -> 0 | PI9: =IF($CN9="","",IF(AND(PI$1>=$CN9,PI$1<=$CO9,$AG9="",OR(PW$3="",PW$4="")),1,"")) | PJ9: =IF($CQ9="","",IF(AND(PI$1>=$CQ9,PI$1<=$CR9),1,"")) | PK9: =IF($CT9="","",IF(AND(PI$1>=$CT9,PI$1<=$CU9),1,"")) | PM9: =IF(ISNUMBER(PI$1),IF(AND(PW$3="",PW$4=""),IF(PI9="",,-($AL9)),),) -> 0 | PN9: =IF(ISNUMBER(PI$1),IF(PJ9="",,-($AL9)),) -> 0 | PO9: =IF(ISNUMBER(PI$1),IF(PK9="",,-($AL9)),) -> 0 | PQ9: =IF(ISNUMBER(PI$1),IF(AND(PI9="",PJ9="",PK9=""),IF(ISNUMBER($AO9),$AO9,),),) -> 0 | PT9: =IF(ISNUMBER(PI$1),IF($AG9="",,IF(AND(PI9="",PJ9="",PK9=""),IF(AND(PW$3="",PW$4=""),,IF(PW$4="",$AL9,$AL9*2)),)),) -> 0 | PU9: =IF(AND(PL9="",OR(PW$3="",PW$4="")),0,IF(PW$4="x",PL9*2,PL9)) -> 0 | PV9: =IF(AND(PP9="",OR(PX$3="",PX$4="")),0,PP9) -> 0 | PW9: =IF(ISNUMBER(PI$1),IF(AND(PI9="",PJ9="",PK9=""),IF(ISNUMBER($AP9),$AP9,),),) -> 0 | PX9: =IF($CN9="","",IF(AND(PX$1>=$CN9,PX$1<=$CO9,$AG9="",OR(QL$3="",QL$4="")),1,"")) | PY9: =IF($CQ9="","",IF(AND(PX$1>=$CQ9,PX$1<=$CR9),1,"")) | PZ9: =IF($CT9="","",IF(AND(PX$1>=$CT9,PX$1<=$CU9),1,"")) | QB9: =IF(ISNUMBER(PX$1),IF(AND(QL$3="",QL$4=""),IF(PX9="",,-($AL9)),),) -> 0 | QC9: =IF(ISNUMBER(PX$1),IF(PY9="",,-($AL9)),) -> 0 | QD9: =IF(ISNUMBER(PX$1),IF(PZ9="",,-($AL9)),) -> 0 | QF9: =IF(ISNUMBER(PX$1),IF(AND(PX9="",PY9="",PZ9=""),IF(ISNUMBER($AW9),$AW9,),),) -> 0 | QI9: =IF(ISNUMBER(PX$1),IF($AG9="",,IF(AND(PX9="",PY9="",PZ9=""),IF(AND(QL$3="",QL$4=""),,IF(QL$4="",$AT9,$AT9*2)),)),) -> 0 | QJ9: =IF(AND(QA9="",OR(QL$3="",QL$4="")),0,IF(QL$4="x",QA9*2,QA9)) -> 0 | QK9: =IF(AND(QE9="",OR(QM$3="",QM$4="")),0,QE9) -> 0 | QL9: =IF(ISNUMBER(PX$1),IF(AND(PX9="",PY9="",PZ9=""),IF(ISNUMBER($AX9),$AX9,),),) -> 0 | QM9: =IF($CN9="","",IF(AND(QM$1>=$CN9,QM$1<=$CO9,$AG9="",OR(RA$3="",RA$4="")),1,"")) | QN9: =IF($CQ9="","",IF(AND(QM$1>=$CQ9,QM$1<=$CR9),1,"")) | QO9: =IF($CT9="","",IF(AND(QM$1>=$CT9,QM$1<=$CU9),1,"")) | QQ9: =IF(ISNUMBER(QM$1),IF(AND(RA$3="",RA$4=""),IF(QM9="",,-($AL9)),),) -> 0 | QR9: =IF(ISNUMBER(QM$1),IF(QN9="",,-($AL9)),) -> 0 | QS9: =IF(ISNUMBER(QM$1),IF(QO9="",,-($AL9)),) -> 0 | QU9: =IF(ISNUMBER(QM$1),IF(AND(QM9="",QN9="",QO9=""),IF(ISNUMBER($BE9),$BE9,),),) -> 0 | QX9: =IF(ISNUMBER(QM$1),IF($AG9="",,IF(AND(QM9="",QN9="",QO9=""),IF(AND(RA$3="",RA$4=""),,IF(RA$4="",$BB9,$BB9*2)),)),) -> 0 | QY9: =IF(AND(QP9="",OR(RA$3="",RA$4="")),0,IF(RA$4="x",QP9*2,QP9)) -> 0 | QZ9: =IF(AND(QT9="",OR(RB$3="",RB$4="")),0,QT9) -> 0 | RA9: =IF(ISNUMBER(QM$1),IF(AND(QM9="",QN9="",QO9=""),IF(ISNUMBER($BF9),$BF9,),),) -> 0 | RB9: =IF($CN9="","",IF(AND(RB$1>=$CN9,RB$1<=$CO9,$AG9="",OR(RP$3="",RP$4="")),1,"")) | RC9: =IF($CQ9="","",IF(AND(RB$1>=$CQ9,RB$1<=$CR9),1,"")) | RD9: =IF($CT9="","",IF(AND(RB$1>=$CT9,RB$1<=$CU9),1,"")) | RF9: =IF(ISNUMBER(RB$1),IF(AND(RP$3="",RP$4=""),IF(RB9="",,-($AL9)),),) -> 0 | RG9: =IF(ISNUMBER(RB$1),IF(RC9="",,-($AL9)),) -> 0 | RH9: =IF(ISNUMBER(RB$1),IF(RD9="",,-($AL9)),) -> 0 | RJ9: =IF(ISNUMBER(RB$1),IF(AND(RB9="",RC9="",RD9=""),IF(ISNUMBER($BM9),$BM9,),),) -> 0 | RM9: =IF(ISNUMBER(RB$1),IF($AG9="",,IF(AND(RB9="",RC9="",RD9=""),IF(AND(RP$3="",RP$4=""),,IF(RP$4="",$BJ9,$BJ9*2)),)),) -> 0 | RN9: =IF(AND(RE9="",OR(RP$3="",RP$4="")),0,IF(RP$4="x",RE9*2,RE9)) -> 0 | RO9: =IF(AND(RI9="",OR(RQ$3="",RQ$4="")),0,RI9) -> 0 | RP9: =IF(ISNUMBER(RB$1),IF(AND(RB9="",RC9="",RD9=""),IF(ISNUMBER($BN9),$BN9,),),) -> 0 | RQ9: =IF($CN9="","",IF(AND(RQ$1>=$CN9,RQ$1<=$CO9,$AG9="",OR(SE$3="",SE$4="")),1,"")) | RR9: =IF($CQ9="","",IF(AND(RQ$1>=$CQ9,RQ$1<=$CR9),1,"")) | RS9: =IF($CT9="","",IF(AND(RQ$1>=$CT9,RQ$1<=$CU9),1,"")) | RU9: =IF(ISNUMBER(RQ$1),IF(AND(SE$3="",SE$4=""),IF(RQ9="",,-($AL9)),),) -> 0 | RV9: =IF(ISNUMBER(RQ$1),IF(RR9="",,-($AL9)),) -> 0 | RW9: =IF(ISNUMBER(RQ$1),IF(RS9="",,-($AL9)),) -> 0 | RY9: =IF(ISNUMBER(RQ$1),IF(AND($FE9="",$FF9="",$FG9=""),IF(ISNUMBER($BU9),$BU9,),),) -> 0 | SB9: =IF(ISNUMBER(RQ$1),IF($AG9="",,IF(AND($FE9="",$FF9="",$FG9=""),IF(AND(SE$3="",SE$4=""),,IF(SE$4="",$BR9,$BR9*2)),)),) -> 0 | SC9: =IF(AND(RT9="",OR(SE$3="",SE$4="")),0,IF(SE$4="x",RT9*2,RT9)) -> 0 | SD9: =IF(AND(RX9="",OR(SF$3="",SF$4="")),0,RX9) -> 0 | SE9: =IF(ISNUMBER(RQ$1),IF(AND(RQ9="",RR9="",RS9=""),IF(ISNUMBER($BV9),$BV9,),),) -> 0 | SF9: =IF($CN9="","",IF(AND(SF$1>=$CN9,SF$1<=$CO9,$AG9="",OR(ST$3="",ST$4="")),1,"")) | SG9: =IF($CQ9="","",IF(AND(SF$1>=$CQ9,SF$1<=$CR9),1,"")) | SH9: =IF($CT9="","",IF(AND(SF$1>=$CT9,SF$1<=$CU9),1,"")) | SJ9: =IF(ISNUMBER(SF$1),IF(AND(ST$3="",ST$4=""),IF(SF9="",,-($AL9)),),) -> 0 | SK9: =IF(ISNUMBER(SF$1),IF(SG9="",,-($AL9)),) -> 0 | SL9: =IF(ISNUMBER(SF$1),IF(SH9="",,-($AL9)),) -> 0 | SN9: =IF(ISNUMBER(SF$1),IF(AND(SF9="",SG9="",SH9=""),IF(ISNUMBER($CC9),$CC9,),),) -> 0 | SQ9: =IF(ISNUMBER(SF$1),IF($AG9="",,IF(AND(SF9="",SG9="",SH9=""),IF(AND(ST$3="",ST$4=""),,IF(ST$4="",$BZ9,$BZ9*2)),)),) -> 0 | SR9: =IF(AND(SI9="",OR(ST$3="",ST$4="")),0,IF(ST$4="x",SI9*2,SI9)) -> 0 | SS9: =IF(AND(SM9="",OR(SU$3="",SU$4="")),0,SM9) -> 0 | ST9: =IF(ISNUMBER(SF$1),IF(AND(SF9="",SG9="",SH9=""),IF(ISNUMBER($CD9),$CD9,),),) -> 0 | SU9: =IF($CN9="","",IF(AND(SU$1>=$CN9,SU$1<=$CO9,$AG9="",OR(TI$3="",TI$4="")),1,"")) | SV9: =IF($CQ9="","",IF(AND(SU$1>=$CQ9,SU$1<=$CR9),1,"")) | SW9: =IF($CT9="","",IF(AND(SU$1>=$CT9,SU$1<=$CU9),1,"")) | SY9: =IF(ISNUMBER(SU$1),IF(AND(TI$3="",TI$4=""),IF(SU9="",,-($AL9)),),) -> 0 | SZ9: =IF(ISNUMBER(SU$1),IF(SV9="",,-($AL9)),) -> 0 | TA9: =IF(ISNUMBER(SU$1),IF(SW9="",,-($AL9)),) -> 0 | TC9: =IF(ISNUMBER(SU$1),IF(AND(SU9="",SV9="",SW9=""),IF(ISNUMBER($CK9),$CK9,),),) -> 0 | TF9: =IF(ISNUMBER(SU$1),IF($AG9="",,IF(AND($GI9="",$GJ9="",$GK9=""),IF(AND(TL$3="",TL$4=""),,IF(TL$4="",$CH9,$CH9*2)),)),) -> 0 | TG9: =IF(AND(SX9="",OR(TL$3="",GSV7="")),0,IF(TL$4="x",SX9*2,SX9)) -> 0 | TH9: =IF(AND(TB9="",OR(TL$3="",TL$4="")),0,TB9) -> 0 | TI9: =IF(ISNUMBER(SU$1),IF(AND(SU9="",SV9="",SW9=""),IF(ISNUMBER($CL9),$CL9,),),) -> 0 | TJ9: =IF(SX9="",0,SX9) -> 0 | TK9: =IF(TB9="",0,TB9) -> 0 | TL9: =IF(ISNUMBER(SU$1),IF(AND(SU9="",SV9="",SV9=""),IF(ISNUMBER($CM9),$CM9,),),) -> 0 | TM9: =IF($CN9="","",IF(AND(TM$1>=$CN9,TM$1<=$CO9,$AG9="",OR(UA$3="",UA$4="")),1,"")) | TN9: =IF($CQ9="","",IF(AND(TM$1>=$CQ9,TM$1<=$CR9),1,"")) | TO9: =IF($CT9="","",IF(AND(TM$1>=$CT9,TM$1<=$CU9),1,"")) | TQ9: =IF(ISNUMBER(TM$1),IF(AND(UA$3="",UA$4=""),IF(TM9="",,-($AL9)),),) -> 0 | TR9: =IF(ISNUMBER(TM$1),IF(TN9="",,-($AL9)),) -> 0 | TS9: =IF(ISNUMBER(TM$1),IF(TO9="",,-($AL9)),) -> 0 | TU9: =IF(ISNUMBER(TM$1),IF(AND(TM9="",TN9="",TO9=""),IF(ISNUMBER($AO9),$AO9,),),) -> 0 | TX9: =IF(ISNUMBER(TM$1),IF($AG9="",,IF(AND(TM9="",TN9="",TO9=""),IF(AND(UA$3="",UA$4=""),,IF(UA$4="",$AL9,$AL9*2)),)),) -> 0 | TY9: =IF(AND(TP9="",OR(UA$3="",UA$4="")),0,IF(UA$4="x",TP9*2,TP9)) -> 0 | TZ9: =IF(AND(TT9="",OR(UB$3="",UB$4="")),0,TT9) -> 0 | UA9: =IF(ISNUMBER(TM$1),IF(AND(TM9="",TN9="",TO9=""),IF(ISNUMBER($AP9),$AP9,),),) -> 0 | UB9: =IF($CN9="","",IF(AND(UB$1>=$CN9,UB$1<=$CO9,$AG9="",OR(UP$3="",UP$4="")),1,"")) | UC9: =IF($CQ9="","",IF(AND(UB$1>=$CQ9,UB$1<=$CR9),1,"")) | UD9: =IF($CT9="","",IF(AND(UB$1>=$CT9,UB$1<=$CU9),1,"")) | UF9: =IF(ISNUMBER(UB$1),IF(AND(UP$3="",UP$4=""),IF(UB9="",,-($AL9)),),) -> 0 | UG9: =IF(ISNUMBER(UB$1),IF(UC9="",,-($AL9)),) -> 0 | UH9: =IF(ISNUMBER(UB$1),IF(UD9="",,-($AL9)),) -> 0 | UJ9: =IF(ISNUMBER(UB$1),IF(AND(UB9="",UC9="",UD9=""),IF(ISNUMBER($AW9),$AW9,),),) -> 0 | UM9: =IF(ISNUMBER(UB$1),IF($AG9="",,IF(AND(UB9="",UC9="",UD9=""),IF(AND(UP$3="",UP$4=""),,IF(UP$4="",$AT9,$AT9*2)),)),) -> 0 | UN9: =IF(AND(UE9="",OR(UP$3="",UP$4="")),0,IF(UP$4="x",UE9*2,UE9)) -> 0 | UO9: =IF(AND(UI9="",OR(UQ$3="",UQ$4="")),0,UI9) -> 0 | UP9: =IF(ISNUMBER(UB$1),IF(AND(UB9="",UC9="",UD9=""),IF(ISNUMBER($AX9),$AX9,),),) -> 0 | UQ9: =IF($CN9="","",IF(AND(UQ$1>=$CN9,UQ$1<=$CO9,$AG9="",OR(VE$3="",VE$4="")),1,"")) | UR9: =IF($CQ9="","",IF(AND(UQ$1>=$CQ9,UQ$1<=$CR9),1,"")) | US9: =IF($CT9="","",IF(AND(UQ$1>=$CT9,UQ$1<=$CU9),1,"")) | UU9: =IF(ISNUMBER(UQ$1),IF(AND(VE$3="",VE$4=""),IF(UQ9="",,-($AL9)),),) -> 0 | UV9: =IF(ISNUMBER(UQ$1),IF(UR9="",,-($AL9)),) -> 0 | UW9: =IF(ISNUMBER(UQ$1),IF(US9="",,-($AL9)),) -> 0 | UY9: =IF(ISNUMBER(UQ$1),IF(AND(UQ9="",UR9="",US9=""),IF(ISNUMBER($BE9),$BE9,),),) -> 0 | VB9: =IF(ISNUMBER(UQ$1),IF($AG9="",,IF(AND(UQ9="",UR9="",US9=""),IF(AND(VE$3="",VE$4=""),,IF(VE$4="",$BB9,$BB9*2)),)),) -> 0 | VC9: =IF(AND(UT9="",OR(VE$3="",VE$4="")),0,IF(VE$4="x",UT9*2,UT9)) -> 0 | VD9: =IF(AND(UX9="",OR(VF$3="",VF$4="")),0,UX9) -> 0 | VE9: =IF(ISNUMBER(UQ$1),IF(AND(UQ9="",UR9="",US9=""),IF(ISNUMBER($BF9),$BF9,),),) -> 0 | VF9: =IF($CN9="","",IF(AND(VF$1>=$CN9,VF$1<=$CO9,$AG9="",OR(VT$3="",VT$4="")),1,"")) | VG9: =IF($CQ9="","",IF(AND(VF$1>=$CQ9,VF$1<=$CR9),1,"")) | VH9: =IF($CT9="","",IF(AND(VF$1>=$CT9,VF$1<=$CU9),1,"")) | VJ9: =IF(ISNUMBER(VF$1),IF(AND(VT$3="",VT$4=""),IF(VF9="",,-($AL9)),),) -> 0 | VK9: =IF(ISNUMBER(VF$1),IF(VG9="",,-($AL9)),) -> 0 | VL9: =IF(ISNUMBER(VF$1),IF(VH9="",,-($AL9)),) -> 0 | VN9: =IF(ISNUMBER(VF$1),IF(AND(VF9="",VG9="",VH9=""),IF(ISNUMBER($BM9),$BM9,),),) -> 0 | VQ9: =IF(ISNUMBER(VF$1),IF($AG9="",,IF(AND(VF9="",VG9="",VH9=""),IF(AND(VT$3="",VT$4=""),,IF(VT$4="",$BJ9,$BJ9*2)),)),) -> 0 | VR9: =IF(AND(VI9="",OR(VT$3="",VT$4="")),0,IF(VT$4="x",VI9*2,VI9)) -> 0 | VS9: =IF(AND(VM9="",OR(VU$3="",VU$4="")),0,VM9) -> 0 | VT9: =IF(ISNUMBER(VF$1),IF(AND(VF9="",VG9="",VH9=""),IF(ISNUMBER($BN9),$BN9,),),) -> 0 | VU9: =IF($CN9="","",IF(AND(VU$1>=$CN9,VU$1<=$CO9,$AG9="",OR(WI$3="",WI$4="")),1,"")) | VV9: =IF($CQ9="","",IF(AND(VU$1>=$CQ9,VU$1<=$CR9),1,"")) | VW9: =IF($CT9="","",IF(AND(VU$1>=$CT9,VU$1<=$CU9),1,"")) | VY9: =IF(ISNUMBER(VU$1),IF(AND(WI$3="",WI$4=""),IF(VU9="",,-($AL9)),),) -> 0 | VZ9: =IF(ISNUMBER(VU$1),IF(VV9="",,-($AL9)),) -> 0 | WA9: =IF(ISNUMBER(VU$1),IF(VW9="",,-($AL9)),) -> 0 | WC9: =IF(ISNUMBER(VU$1),IF(AND($FE9="",$FF9="",$FG9=""),IF(ISNUMBER($BU9),$BU9,),),) -> 0 | WF9: =IF(ISNUMBER(VU$1),IF($AG9="",,IF(AND($FE9="",$FF9="",$FG9=""),IF(AND(WI$3="",WI$4=""),,IF(WI$4="",$BR9,$BR9*2)),)),) -> 0 | WG9: =IF(AND(VX9="",OR(WI$3="",WI$4="")),0,IF(WI$4="x",VX9*2,VX9)) -> 0 | WH9: =IF(AND(WB9="",OR(WJ$3="",WJ$4="")),0,WB9) -> 0 | WI9: =IF(ISNUMBER(VU$1),IF(AND(VU9="",VV9="",VW9=""),IF(ISNUMBER($BV9),$BV9,),),) -> 0 | WJ9: =IF($CN9="","",IF(AND(WJ$1>=$CN9,WJ$1<=$CO9,$AG9="",OR(WX$3="",WX$4="")),1,"")) | WK9: =IF($CQ9="","",IF(AND(WJ$1>=$CQ9,WJ$1<=$CR9),1,"")) | WL9: =IF($CT9="","",IF(AND(WJ$1>=$CT9,WJ$1<=$CU9),1,"")) | WN9: =IF(ISNUMBER(WJ$1),IF(AND(WX$3="",WX$4=""),IF(WJ9="",,-($AL9)),),) -> 0 | WO9: =IF(ISNUMBER(WJ$1),IF(WK9="",,-($AL9)),) -> 0 | WP9: =IF(ISNUMBER(WJ$1),IF(WL9="",,-($AL9)),) -> 0 | WR9: =IF(ISNUMBER(WJ$1),IF(AND(WJ9="",WK9="",WL9=""),IF(ISNUMBER($CC9),$CC9,),),) -> 0 | WU9: =IF(ISNUMBER(WJ$1),IF($AG9="",,IF(AND(WJ9="",WK9="",WL9=""),IF(AND(WX$3="",WX$4=""),,IF(WX$4="",$BZ9,$BZ9*2)),)),) -> 0 | WV9: =IF(AND(WM9="",OR(WX$3="",WX$4="")),0,IF(WX$4="x",WM9*2,WM9)) -> 0 | WW9: =IF(AND(WQ9="",OR(WY$3="",WY$4="")),0,WQ9) -> 0 | WX9: =IF(ISNUMBER(WJ$1),IF(AND(WJ9="",WK9="",WL9=""),IF(ISNUMBER($CD9),$CD9,),),) -> 0 | WY9: =IF($CN9="","",IF(AND(WY$1>=$CN9,WY$1<=$CO9,$AG9="",OR(XM$3="",XM$4="")),1,"")) | WZ9: =IF($CQ9="","",IF(AND(WY$1>=$CQ9,WY$1<=$CR9),1,"")) | XA9: =IF($CT9="","",IF(AND(WY$1>=$CT9,WY$1<=$CU9),1,"")) | XC9: =IF(ISNUMBER(WY$1),IF(AND(XM$3="",XM$4=""),IF(WY9="",,-($AL9)),),) -> 0 | XD9: =IF(ISNUMBER(WY$1),IF(WZ9="",,-($AL9)),) -> 0 | XE9: =IF(ISNUMBER(WY$1),IF(XA9="",,-($AL9)),) -> 0 | XG9: =IF(ISNUMBER(WY$1),IF(AND(WY9="",WZ9="",XA9=""),IF(ISNUMBER($CK9),$CK9,),),) -> 0 | XJ9: =IF(ISNUMBER(WY$1),IF($AG9="",,IF(AND($GI9="",$GJ9="",$GK9=""),IF(AND(XP$3="",XP$4=""),,IF(XP$4="",$CH9,$CH9*2)),)),) -> 0 | XK9: =IF(AND(XB9="",OR(XP$3="",GWS7="")),0,IF(XP$4="x",XB9*2,XB9)) -> 0 | XL9: =IF(AND(XF9="",OR(XP$3="",XP$4="")),0,XF9) -> 0 | XM9: =IF(ISNUMBER(WY$1),IF(AND(WY9="",WZ9="",XA9=""),IF(ISNUMBER($CL9),$CL9,),),) -> 0 | XN9: =IF(XB9="",0,XB9) -> 0 | XO9: =IF(XF9="",0,XF9) -> 0 | XP9: =IF(ISNUMBER(WY$1),IF(AND(WY9="",WZ9="",WZ9=""),IF(ISNUMBER($CM9),$CM9,),),) -> 0 | XQ9: =IF($CN9="","",IF(AND(XQ$1>=$CN9,XQ$1<=$CO9,$AG9="",OR(YE$3="",YE$4="")),1,"")) | XR9: =IF($CQ9="","",IF(AND(XQ$1>=$CQ9,XQ$1<=$CR9),1,"")) | XS9: =IF($CT9="","",IF(AND(XQ$1>=$CT9,XQ$1<=$CU9),1,"")) | XU9: =IF(ISNUMBER(XQ$1),IF(AND(YE$3="",YE$4=""),IF(XQ9="",,-($AL9)),),) -> 0 | XV9: =IF(ISNUMBER(XQ$1),IF(XR9="",,-($AL9)),) -> 0 | XW9: =IF(ISNUMBER(XQ$1),IF(XS9="",,-($AL9)),) -> 0 | XY9: =IF(ISNUMBER(XQ$1),IF(AND(XQ9="",XR9="",XS9=""),IF(ISNUMBER($AO9),$AO9,),),) -> 0 | YB9: =IF(ISNUMBER(XQ$1),IF($AG9="",,IF(AND(XQ9="",XR9="",XS9=""),IF(AND(YE$3="",YE$4=""),,IF(YE$4="",$AL9,$AL9*2)),)),) -> 0 | YC9: =IF(AND(XT9="",OR(YE$3="",YE$4="")),0,IF(YE$4="x",XT9*2,XT9)) -> 0 | YD9: =IF(AND(XX9="",OR(YF$3="",YF$4="")),0,XX9) -> 0 | YE9: =IF(ISNUMBER(XQ$1),IF(AND(XQ9="",XR9="",XS9=""),IF(ISNUMBER($AP9),$AP9,),),) -> 0 | YF9: =IF($CN9="","",IF(AND(YF$1>=$CN9,YF$1<=$CO9,$AG9="",OR(YT$3="",YT$4="")),1,"")) | YG9: =IF($CQ9="","",IF(AND(YF$1>=$CQ9,YF$1<=$CR9),1,"")) | YH9: =IF($CT9="","",IF(AND(YF$1>=$CT9,YF$1<=$CU9),1,"")) | YJ9: =IF(ISNUMBER(YF$1),IF(AND(YT$3="",YT$4=""),IF(YF9="",,-($AL9)),),) -> 0 | YK9: =IF(ISNUMBER(YF$1),IF(YG9="",,-($AL9)),) -> 0 | YL9: =IF(ISNUMBER(YF$1),IF(YH9="",,-($AL9)),) -> 0 | YN9: =IF(ISNUMBER(YF$1),IF(AND(YF9="",YG9="",YH9=""),IF(ISNUMBER($AW9),$AW9,),),) -> 0 | YQ9: =IF(ISNUMBER(YF$1),IF($AG9="",,IF(AND(YF9="",YG9="",YH9=""),IF(AND(YT$3="",YT$4=""),,IF(YT$4="",$AT9,$AT9*2)),)),) -> 0 | YR9: =IF(AND(YI9="",OR(YT$3="",YT$4="")),0,IF(YT$4="x",YI9*2,YI9)) -> 0 | YS9: =IF(AND(YM9="",OR(YU$3="",YU$4="")),0,YM9) -> 0 | YT9: =IF(ISNUMBER(YF$1),IF(AND(YF9="",YG9="",YH9=""),IF(ISNUMBER($AX9),$AX9,),),) -> 0 | YU9: =SUM(YV9:ZA9) -> 0 | YV9: =CZ9+DO9+ED9+ES9+FH9+FW9+GL9 -> 0 | YW9: =HD9+HS9+IH9+IW9+JL9+KA9+KP9 -> 0 | YX9: =LH9+LW9+ML9+NA9+NP9+OE9+OT9 -> 0 | YY9: =PL9+QA9+QP9+RE9+RT9+SI9+SX9 -> 0 | YZ9: =TP9+UE9+UT9+VX9+WM9+XB9 -> 0 | ZA9: =XT9+YI9 -> 0 | ZB9: =IF(AH9<151.66, IF(YU9>0,(MAX(AH9*0.1))*1.1,0),) -> 0 | ZC9: =IF(AH9<151.66,IF(YU9>(AH9*0.1),(YU9-(AH9*0.1))*1.25,),) -> 0 | ZD9: =SUM(ZE9:ZJ9) -> 0 | ZE9: =IF($AH$6>151.66,IF((YV9)>8,8*1.25,((YV9)-0)*1.25),) -> 0 | ZF9: =IF($AH$6>151.66,IF((YW9)>8,8*1.25,((YW9)-0)*1.25),) -> 0 | ZG9: =IF($AH$6>151.66,IF((YX9)>8,8*1.25,((YX9)-0)*1.25),) -> 0 | ZH9: =IF($AH$6>151.66,IF((YY9)>8,8*1.25,((YY9)-0)*1.25),) -> 0 | ZI9: =IF($AH$6>151.66,IF((YZ9)>8,8*1.25,((YZ9)-0)*1.25),) -> 0 | ZJ9: =IF($AH$6>151.66,IF((ZA9)>8,8*1.25,((ZA9)-0)*1.25),) -> 0 | ZK9: =SUM(ZL9:ZQ9) -> 0 | ZL9: =IF($AH$6>151.66,IF((YV9)>8,((YV9)-8)*1.5,),) -> 0 | ZM9: =IF($AH$6>151.66,IF((YW9)>8,((YW9)-8)*1.5,),) -> 0 | ZN9: =IF($AH$6>151.66,IF((YX9)>8,((YX9)-8)*1.5,),) -> 0 | ZO9: =IF($AH$6>151.66,IF((YY9)>8,((YY9)-8)*1.5,),) -> 0 | ZP9: =IF($AH$6>151.66,IF((YZ9)>8,((YZ9)-8)*1.5,),) -> 0 | ZQ9: =IF($AH$6>151.66,IF((ZA9)>8,((ZA9)-8)*1.5,),) -> 0 | ZR9: =ZB9+ZC9+ZD9+ZK9 -> 0 | ZS9: =SUM(ZT9:ZW9) -> 0 | ZT9: =DA9+DP9+EE9+ET9+FI9+FX9+GM9+HE9+II9+IX9+JM9+KB9+KQ9+LI9+LX9+MM9+NB9+NQ9+OF9+OU9+PM9+QB9+QQ9+RF9+SJ9+SY9+TQ9+UF9+UU9+VJ9+VY9+WN9+XC9+XU9+YJ9 -> 0 | ZU9: =DB9+DQ9+EF9+EU9+FJ9+FY9+GN9+HF9+IJ9+IY9+JN9+KC9+KR9+LJ9+LY9+MN9+NC9+NR9+OG9+OV9+PN9+QC9+QR9+RG9+SK9+SZ9+TR9+UG9+UV9+VK9+VZ9+WO9+XD9+XV9+YK9 -> 0 | ZV9: =DC9+DR9+EG9+EV9+FK9+FZ9+GO9+HG9+IK9+IZ9+JO9+KD9+KS9+LK9+LZ9+MO9+ND9+NS9+OH9+OW9+PO9+QD9+QS9+RH9+SL9+TA9+TS9+UH9+UW9+VL9+WA9+WP9+XE9+XW9+YL9 -> 0 | ZW9: =DD9+DS9+EH9+EW9+FL9+GA9+GP9+HH9+IL9+JA9+JP9+KE9+KT9+LL9+MA9+MP9+NE9+NT9+OI9+OX9+PP9+QE9+QT9+RI9+SM9+TB9+TT9+UI9+UX9+VM9+WB9+WQ9+XF9+XX9+YM9 -> 0 | ZX9: =DE9+DF9+DG9+DT9+DU9+DV9+EI9+EJ9+EK9+EX9+EY9+EZ9+FM9+FN9+FO9+GB9+GC9+GD9+GQ9+GR9+GS9+HI9+HJ9+HK9+HX9+HY9+HZ9+IM9+IN9+JB9+JC9+JD9+JQ9+JR9+JS9+KF9+KG9+KH9+KU9+KV9+KW9+LM9+LN9+LO9+MB9+MC9+MD9+MQ9+MR9+MS9+NF9+NG9+NH9+NU9+NV9+NW9+OJ9+OK9+OL9+OY9+OZ9+PA9+PQ9+PR9+PS9+QF9+QG9+QH9+QU9+QV9+RJ9+RK9+RL9+RY9+RZ9+SA9+SN9+SO9+SP9+TC9+TD9+TE9+TU9+TV9+UJ9+UK9+UL9+UY9+UZ9+VA9+VN9+VO9+WC9+WD9+WE9+WR9+WS9+XG9+XH9+XI9+XY9+XZ9+YN9+YO9+YP9 -> 0 | ZY9: =IF(ISTEXT(AE9),ZX9*0.2,) -> 0 | ZZ9: =IF(AE9="",ZX9,) -> 0 | AAA9: =GW9+GX9+GY9+LA9+LB9+PE9+PF9+PG9+TI9+TJ9+TK9+XM9+XN9+XO9 -> 0 | AAB9: =IF(ISTEXT(AF9),AAA9*0.2,) -> 0 | AAC9: =IF(AF9="",AAA9*2,) -> 0 | AAD9: =DH9+DI9+DJ9+DW9+DX9+EL9+EM9+FA9+FB9+FC9+FP9+FQ9+FR9+GE9+GF9+GG9+GT9+GU9+GV9+HL9+HM9+IA9+IB9+IC9+IP9+IQ9+IR9+JE9+JF9+JG9+JT9+JU9+JV9+KI9+KJ9+KK9+KX9+KY9+KZ9+LP9+LQ9+LR9+ME9+MF9+MG9+MT9+MU9+MV9+NI9+NJ9+NK9+NX9+NY9+NZ9+OM9+ON9+OO9+PB9+PC9+PD9+PT9+PU9+PV9+QI9+QJ9+QK9+QX9+QY9+QZ9+RM9+RN9+RO9+SB9+SC9+SD9+SQ9+SR9+SS9+TF9+TG9+TH9+TX9+TY9+TZ9+UM9+UN9+UO9+VB9+VC9+VQ9+VR9+WF9+WG9+WH9+WU9+WV9+WW9+XJ9+XK9+YB9+YC9+YD9+YQ9+YR9+YS9 -> 0 | AAE9: =IF(ISTEXT(AG9),AAD9*0.5,) -> 0 | AAF9: =IF(AG9="",AAD9,) -> 0 | AAG9: =ZX9*0.002 -> 0 | AAH9: =IF(ZS9<(-$AH9),0,$AH9+ZS9+ZY9+ZZ9+AAB9+AAC9+AAE9+AAF9+AAG9) -> 54.166667 | AAI9: =(DK9+DZ9+EO9+FD9+FS9+GH9+GZ9+HO9+ID9+IS9+JH9+JW9+KL9+LD9+LS9+MH9+MW9+NL9+OA9+OP9+PH9+PW9+QL9+RA9+RP9+SE9+ST9+TL9+UA9+UP9+VE9+VT9+WI9+WX9+XP9+YE9+YT9)*$AAI$5 -> 0 | AAJ9: =IF(AAH9<0,0,(AAH9*AA9)+AAI9) -> 547.625 | AAL9: =IF(AAJ9=0,0,IF(AH9>75.83,3,(AH9/75.83)*3)) -> 2.1429513 | AAM9: =VLOOKUP(J9,'données salariés'!P:Q,2,0) -> 0 | AAN9: =VLOOKUP(J9,'données salariés'!R:S,2,0) -> 0 | AAP9: =IF(AAM9>0,,IF(V9<20, AH9*10.11*0.067/12,AH9*10.11*0.1/12)) -> 3.0575729 | AAQ9: =SUM(AAJ9:AAP9) -> 552.82552 | AAR9: =(($AAJ9-AAI9)+$AAK9+$AAM9+$AAN9+$AAO9)*0.1 -> 54.7625 | AAS9: =AAQ9+AAR9 -> 607.58802 | AAT9: =($AAQ9-$AAP9-$AAL9-$AAI9)*$AAT$4 -> 21.905 | AAU9: =($AAQ9-$AAP9-$AAL9-$AAI9)*$AAT$4 -> 21.905 | AAV9: =IF(AAJ9=0,0,IF(((AAQ9-AAP9)*0.92)<((AH9-ZS9)*$ABV$4),((AH9+ZS9)*$ABV$4)*$AAV$4,((AAQ9-AAP9)*0.92)*$AAV$4)) -> 71.177167 | AAW9: =IF(((AAQ9-AAP9)*0.92)<((AH9+ZS9)*$ABV$4),((AH9+ZS9)*$ABV$4)*$AAW$4,((AAQ9-AAP9)*0.92)*$AAW$4) -> 44.418833 | AAX9: =((AAQ9-AAP9)*0.92)*$AAX$4 -> 0.080925842 | AAY9: =(ABJ9+ABK9+ABP9)*$AAY$4 -> 0.92139416 | AAZ9: =IF(((AAQ9-AAP9)*0.92)<((AH9+ZS9)*$ABV$4),((AH9+ZS9)*$ABV$4)*$AAZ$4,(AAQ9-AAP9)*0.92*$AAZ$4) -> 18.46325 | ABA9: =IF(((AAQ9-AAP9)*0.92)<((AH9+ZS9)*$ABV$4),((AH9+ZS9)*$ABV$4)*$ABA$4,((AAQ9-AAP9)*0.92)*$ABA$4) -> 2.6758333 | ABB9: =IF(((AAQ9-AAP9)*0.92)<((AH9+ZS9)*$ABV$4),((AH9+ZS9)*$ABV$4)*$ABB$4,((AAQ9-AAP9)*0.92)*$ABB$4) -> 1.3379167 | ABC9: =IF(((AAQ9-AAP9)*0.92)<((AH9+ZS9)*$ABV$4),((AH9+ZS9)*$ABV$4)*$ABC$4,((AAQ9-AAP9)*0.92)*$ABC$4) -> 15.787417 | ABD9: =IF(((AAQ9-AAP9)*0.92)<((AH9+ZS9)*$ABV$4),((AH9+ZS9)*$ABV$4)*$ABD$4,((AAQ9-AAP9)*0.92)*$ABD$4) -> 43.3485 | ABE9: =IF(((AAQ9-AAP9)*0.92)<((AH9+ZS9)*$ABV$4),((AH9+ZS9)*$ABV$4)*$ABE$4,((AAQ9-AAP9)*0.92)*$ABE$4) -> 0.80275 | ABF9: =IF(((AAQ9-AAP9)*0.92)<((AH9+ZS9)*$ABV$4),((AH9+ZS9)*$ABV$4)*$ABF$4,(AAQ9-AAP9)*0.92*$ABF$4) -> 10.168167 | ABG9: =IF(AAQ9<3311,IF(((AAQ9-AAP9)*0.92)<((AH9+ZS9)*$ABV$4),((AH9+ZS9)*$ABV$4)*$ABG$4,((AAQ9-AAP9)*0.92)*$ABG$4),3311*$ABG$4) -> 20.925017 | ABH9: =IF(((AAQ9-AAP9)*0.92)<((AH9+ZS9)*$ABV$4),((AH9+ZS9)*$ABV$4)*$ABH$4,((AAQ9-AAP9)*0.92)*$ABH$4) -> 6.422 | ABI9: =IF(AAQ9>3311,(AAQ9-3311)*$ABI$4,) -> 0 | ABJ9: =IF(AAQ9>3311,3311*$ABJ$4,IF(AA9>12.49,((AAQ9-AAP9)*0.92)*0.00906,((AAQ9-AAP9)*0.92)*$ABJ$4)) -> 3.489927 | ABK9: =IF(AA9<12.49,,IF(AAQ9>3311,3311*$ABK$4,((AAS9-AAP9)*0.92)*$ABK$4)) -> 0 | ABL9: =AAR9*$ABL$4 -> 1.642875 | ABM9: =(AAQ9-AAP9)*0.92*$ABM$4 -> 5.0578652 | ABN9: =(AAQ9-AAP9)*0.92*$ABM$4 -> 5.0578652 | ABO9: =(AAQ9-AAP9)*0.92*$ABO$4 -> 12.948135 | ABP9: =IF(Y9="",,IF((AH9*$ABV$4*0.015)>24.83,24.83,AH9*$ABV$4*0.015)) -> 8.0275 | ABQ9: =AAS9*$ABQ$4 -> 2.4303521 | ABR9: =SUM(AAT9:ABQ9) -> 318.99369 | ABS9: =IF(ZS9<(-AH9),,(AH9+ZS9)*$ABV$4) -> 535.16667 | ABT9: =IF((AAQ9-AAP9)=0,0,(0.2854/0.6)*((1.6*1*((ABS9*12)/((((AAS9-AAP9)*0.92)*11)))-1)*(100/90))) -> 0.359152 | ABU9: =IF(ABT9<0.2854,ROUND(ABT9,4),0.2854) -> 0.2854 | ABV9: =IF(ABT9>0.2854,0.2854*(AAS9-AAP9),IF(ABT9>0,ABU9*(AAS9-AAP9),0)) -> 172.53299 | ABW9: =ABR9-ABV9 -> 146.4607 | ABX9: =IF(AAJ9=0,0.58,ABW9/AAS9) -> 0.24105264 | ABY9: =IF(ZS9<(-AH9),,IF(AAS9<((AH9-ZS9)*($ABV$4*2.5)),(AAS9-AAP9)*($ABY$5),)) -> 36.271827 | ABZ9: =IF(AAJ9=0,0,(ABW9-ABY9)/(AAS9-AAP9)) -> 0.18227183 | ACA9: =ACB9/AAS9-1 -> 0.18427332 | ACB9: =((AAS9-AAP9)*(1+ABZ9))+(AAP9*1.58) -> 719.55029 | ACC9: =IF(AAJ9=0,0,IF(AAQ9=0,,IF(AAK9="",IF(AH9>75.83, 75.2*0.5,AH9/75.83*75.2*0.5),))) -> 26.858323 | ACD9: =IF(AAJ9=0,0,ACB9*0.00455) -> 3.2739538 | ACE9: =ACB9+ACC9 -> 746.40861
