Workbook
Name AS1A: 'base salaire'!$A$8:$A$33
Name CONT: 'base salaire'!$A$2:$B$5
Name MATRICULE: 'données salariés'!$A$2:$M$626
Name QALIF: 'base salaire'!$A$8:$A$33
Name QUALIF: 'base salaire'!$A$8:$A$33
Name TX: 'base salaire'!$A$8:$B$33

Sheet théorique
A3: THEORIQUE | S3: 43191 | AJ3: 43221 | BA3: 43252 | BR3: 43282 | CI3: 43313 | CZ3: 43344 | DQ3: 43374 | EH3: 43405 | EY3: 43435
A4: n° | B4: nom | C4: CA | D4: NH | E4: MSC | F4: SOUS TRAITANCE | H4: Consom. | I4: EquipT Achats | J4: Materiel | K4: Véhic. | L4: Frs Gnx Comm. Formation | M4: Autres Cts S/ activité | N4: MGFV HORS NIOPPE | O4: OBJECTIF | P4: DELTA | Q4: VALEUR | R4: nh à gagner | S4: CA | T4: AVOIR | U4: NH | V4: MS | W4: SOUS TRAITANCE | Y4: Consom. | Z4: EquipT Achats | AA4: Materiel | AC4: Véhic. | AD4: Frs Gnx Comm. Formation | AE4: Autres Cts S/ activité | AF4: MGFV HORS NIOPPE | AG4: delta objectf | AH4: valeur | AI4: nb heures à gagner | AJ4: CA | AK4: AVOIR | AL4: NH | AM4: MS | AN4: SOUS TRAITANCE | AP4: Consom. | AQ4: EquipT Achats | AR4: Materiel | AT4: Véhic. | AU4: Frs Gnx Comm. Formation | AV4: Autres Cts S/ activité | AW4: MGFV HORS NIOPPE | AX4: delta objectf | AY4: valeur | AZ4: nb heures à gagner | BA4: CA | BB4: AVOIR | BC4: NH | BD4: MS | BE4: SOUS TRAITANCE | BG4: Consom. | BH4: EquipT Achats | BI4: Materiel | BK4: Véhic. | BL4: Frs Gnx Comm. Formation | BM4: Autres Cts S/ activité | BN4: MGFV HORS NIOPPE | BO4: delta objectf | BP4: valeur | BQ4: nb heures à gagner | BR4: CA | BS4: AVOIR | BT4: NH | BU4: MS | BV4: SOUS TRAITANCE | BX4: Consom. | BY4: EquipT Achats | BZ4: Materiel | CB4: Véhic. | CC4: Frs Gnx Comm. Formation | CD4: Autres Cts S/ activité | CE4: MGFV HORS NIOPPE | CF4: delta objectf | CG4: valeur | CH4: nb heures à gagner | CI4: CA | CJ4: AVOIR | CK4: NH | CL4: MS | CM4: SOUS TRAITANCE | CO4: Consom. | CP4: EquipT Achats | CQ4: Materiel | CS4: Véhic. | CT4: Frs Gnx Comm. Formation | CU4: Autres Cts S/ activité | CV4: MGFV HORS NIOPPE | CW4: delta objectf | CX4: valeur | CY4: nb heures à gagner | CZ4: CA | DA4: AVOIR | DB4: NH | DC4: MS | DD4: SOUS TRAITANCE | DF4: Consom. | DG4: EquipT Achats | DH4: Materiel | DJ4: Véhic. | DK4: Frs Gnx Comm. Formation | DL4: Autres Cts S/ activité | DM4: MGFV HORS NIOPPE | DN4: delta objectf | DO4: valeur | DP4: nb heures à gagner | DQ4: CA | DR4: AVOIR | DS4: NH | DT4: MS | DU4: SOUS TRAITANCE | DW4: Consom. | DX4: EquipT Achats | DY4: Materiel | EA4: Véhic. | EB4: Frs Gnx Comm. Formation | EC4: Autres Cts S/ activité | ED4: MGFV HORS NIOPPE | EE4: delta objectf | EF4: valeur | EG4: nb heures à gagner | EH4: CA | EI4: AVOIR | EJ4: NH | EK4: MS | EL4: SOUS TRAITANCE | EN4: Consom. | EO4: EquipT Achats | EP4: Materiel | ER4: Véhic. | ES4: Frs Gnx Comm. Formation | ET4: Autres Cts S/ activité | EU4: MGFV HORS NIOPPE | EV4: delta objectf | EW4: valeur | EX4: nb heures à gagner | EY4: CA | EZ4: AVOIR | FA4: NH | FB4: MS | FC4: SOUS TRAITANCE | FE4: Consom. | FF4: EquipT Achats | FG4: Materiel | FI4: Véhic. | FJ4: Frs Gnx Comm. Formation | FK4: Autres Cts S/ activité | FL4: MGFV HORS NIOPPE | FM4: delta objectf | FN4: valeur | FO4: nb heures à gagner
F5: ACHAT POUR COMPTE | G5: SOUS-TRAIRANCE | J5: IMMO | W5: ACHAT POUR COMPTE | X5: SOUS-TRAIRANCE | AA5: IMMO | AB5: REPA | AN5: ACHAT POUR COMPTE | AO5: SOUS-TRAIRANCE | AR5: IMMO | AS5: REPA | BE5: ACHAT POUR COMPTE | BF5: SOUS-TRAIRANCE | BI5: IMMO | BJ5: REPA | BV5: ACHAT POUR COMPTE | BW5: SOUS-TRAIRANCE | BZ5: IMMO | CA5: REPA | CM5: ACHAT POUR COMPTE | CN5: SOUS-TRAIRANCE | CQ5: IMMO | CR5: REPA | DD5: ACHAT POUR COMPTE | DE5: SOUS-TRAIRANCE | DH5: IMMO | DI5: REPA | DU5: ACHAT POUR COMPTE | DV5: SOUS-TRAIRANCE | DY5: IMMO | DZ5: REPA | EL5: ACHAT POUR COMPTE | EM5: SOUS-TRAIRANCE | EP5: IMMO | EQ5: REPA | FC5: ACHAT POUR COMPTE | FD5: SOUS-TRAIRANCE | FG5: IMMO | FH5: REPA

Sheet mars 18
B1: 43160 | E1: CA | F1: AVOIRS | G1: Heures objectif chantier | H1: Heures mens chantier | I1: Delta | J1: =LOOKUP(B1,Feuil4!A3:B14) -> jeudi | K1: NOM | L1: Prénom | M1: DATE DE NAISSANCE | N1: AGE | O1: S.S. | P1: SEXE | Q1: nationalité | R1: DOMICILE | T1: TEL | U1: Ancienneté | W1: CONTRAT | X1: travailleur handicapé | Y1: mutuelle obligatoire | Z1: QUALIF | AA1: t. horaire conventionnel | AB1: majoration | AC1: t. horaire majoré | AD1: EXPERIENCE | AE1: HURES DE NUIT REGULIRES | AF1: DIMANCHES REGULIERS | AG1: JOURS FERIES REGULIERS | AH1: Mens | AI1: lundi | AQ1: mardi | AY1: mercredi | BG1: jeudi | BO1: vendredi | BW1: samedi | CE1: dimanche | CN1: Absences prévues | CW1: =IF(CW2="mercredi",$B$1,IF(BX1="","",BX1+1)) | DL1: =IF(DL2="mercredi",$B$1,IF(CW1="","",CW1+1)) | EA1: =IF(EA2=$J$1,$B$1,IF(DL1="","",DL1+1)) | EP1: =IF(EP2=$J$1,$B$1,IF(EA1="","",EA1+1)) -> 43160 | FE1: =IF(FE2=$J$1,$B$1,IF(EP1="","",EP1+1)) -> 43161 | FT1: =IF(FT2=$J$1,$B$1,IF(FE1="","",FE1+1)) -> 43162 | GI1: =IF(GI2=$J$1,$B$1,IF(FT1="","",FT1+1)) -> 43163 | HA1: =IF(OR(GI1="",GI1=$B$2),"",GI1+1) -> 43164 | HP1: =IF(OR(HA1="",HA1=$B$2),"",HA1+1) -> 43165 | IE1: =IF(OR(HP1="",HP1=$B$2),"",HP1+1) -> 43166 | IT1: =IF(OR(IE1="",IE1=$B$2),"",IE1+1) -> 43167 | JI1: =IF(OR(IT1="",IT1=$B$2),"",IT1+1) -> 43168 | JX1: =IF(OR(JI1="",JI1=$B$2),"",JI1+1) -> 43169 | KM1: =IF(OR(JX1="",JX1=$B$2),"",JX1+1) -> 43170 | LE1: =IF(OR(KM1="",KM1=$B$2),"",KM1+1) -> 43171 | LT1: =IF(OR(LE1="",LE1=$B$2),"",LE1+1) -> 43172 | MI1: =IF(OR(LT1="",LT1=$B$2),"",LT1+1) -> 43173 | MX1: =IF(OR(MI1="",MI1=$B$2),"",MI1+1) -> 43174 | NM1: =IF(OR(MX1="",MX1=$B$2),"",MX1+1) -> 43175 | OB1: =IF(OR(NM1="",NM1=$B$2),"",NM1+1) -> 43176 | OQ1: =IF(OR(OB1="",OB1=$B$2),"",OB1+1) -> 43177 | PI1: =IF(OR(OQ1="",OQ1=$B$2),"",OQ1+1) -> 43178 | PX1: =IF(OR(PI1="",PI1=$B$2),"",PI1+1) -> 43179 | QM1: =IF(OR(PX1="",PX1=$B$2),"",PX1+1) -> 43180 | RB1: =IF(OR(QM1="",QM1=$B$2),"",QM1+1) -> 43181 | RQ1: =IF(OR(RB1="",RB1=$B$2),"",RB1+1) -> 43182 | SF1: =IF(OR(RQ1="",RQ1=$B$2),"",RQ1+1) -> 43183 | SU1: =IF(OR(SF1="",SF1=$B$2),"",SF1+1) -> 43184 | TM1: =IF(OR(SU1="",SU1=$B$2),"",SU1+1) -> 43185 | UB1: =IF(OR(TM1="",TM1=$B$2),"",TM1+1) -> 43186 | UQ1: =IF(OR(UB1="",UB1=$B$2),"",UB1+1) -> 43187 | VF1: =IF(OR(UQ1="",UQ1=$B$2),"",UQ1+1) -> 43188 | VU1: =IF(OR(VF1="",VF1=$B$2),"",VF1+1) -> 43189 | WJ1: =IF(OR(VU1="",VU1=$B$2),"",VU1+1) -> 43190 | WY1: =IF(OR(WJ1="",WJ1=$B$2),"",WJ1+1) | XQ1: =IF(OR(WY1="",WY1=$B$2),"",WY1+1) | YF1: =IF(OR(XQ1="",XQ1=$B$2),"",XQ1+1) | YU1: H+ | ZS1: H- | ZX1: HEURES DE NUITS | AAA1: HEURES DIMANCHES | AAD1: HEURES FERIEES | AAG1: repos compensateur | AAH1: equivalent heures | AAI1: PANIERS CONVENTIONNELS | AAJ1: MASSE BRUT hors prime | AAK1: indemnité transport | AAL1: indemnité de tenue | AAM1: prime fin d'année négociée | AAN1: primes regulière | AAO1: prime exceptionnelle | AAP1: PFA conventionnelle | AAQ1: MASSE BRUT | AAT1: % CHARGES | ABS1: Allegement charges fillon | ABW1: montant charges après allègement | ABY1: CICE | ABZ1: taux charges ristourne | ACA1: total charges globale | ACB1: MASSE BRUT totale chargée | ACC1: transport | ACD1: autre frais perso | ACE1: MSALARIALE/salarié
B2: =(EDATE(B1,1))-1 -> 43190 | C2: code chantier | D2: sites | J2: mat | CW2: lundi | DL2: mardi | EA2: mercredi | EP2: jeudi | FE2: vendredi | FT2: samedi | GI2: dimanche | HA2: lundi | HP2: mardi | IE2: mercredi | IT2: jeudi | JI2: vendredi | JX2: samedi | KM2: dimanche | LE2: lundi | LT2: mardi | MI2: mercredi | MX2: jeudi | NM2: vendredi | OB2: samedi | OQ2: dimanche | PI2: lundi | PX2: mardi | QM2: mercredi | RB2: jeudi | RQ2: vendredi | SF2: samedi | SU2: dimanche | TM2: lundi | UB2: mardi | UQ2: mercredi | VF2: jeudi | VU2: vendredi | WJ2: samedi | WY2: dimanche | XQ2: lundi | YF2: mardi
B3: secteurs | CN3: cp | CQ3: maladie | CT3: absence div | CW3: Férié | DF3: Normal | DK3: =IF(CW1="","",IF(CW1=LOOKUP(CW1,Feuil4!$A$17:$A$26),"x","")) | DL3: Férié | DU3: Normal | DZ3: =IF(DL1="","",IF(DL1=LOOKUP(DL1,Feuil4!$A$17:$A$26),"x","")) | EA3: Férié | EJ3: Normal | EO3: =IF(EA1="","",IF(EA1=LOOKUP(EA1,Feuil4!$A$17:$A$26),"x","")) | EP3: Férié | EY3: Normal | FD3: =IF(EP1="","",IF(EP1=LOOKUP(EP1,Feuil4!$A$17:$A$26),"x","")) | FE3: Férié | FN3: Normal | FS3: =IF(FE1="","",IF(FE1=LOOKUP(FE1,Feuil4!$A$17:$A$26),"x","")) | FT3: Férié | GC3: Normal | GH3: =IF(FT1="","",IF(FT1=LOOKUP(FT1,Feuil4!$A$17:$A$26),"x","")) | GI3: Férié | GR3: Normal | GZ3: =IF(GI1="","",IF(GI1=LOOKUP(GI1,Feuil4!$A$17:$A$26),"x","")) | HA3: Férié | HJ3: Normal | HO3: =IF(HA1="","",IF(HA1=LOOKUP(HA1,Feuil4!$A$17:$A$26),"x","")) | HP3: Férié | HY3: Normal | ID3: =IF(HP1="","",IF(HP1=LOOKUP(HP1,Feuil4!$A$17:$A$26),"x","")) | IE3: Férié | IN3: Normal | IS3: =IF(IE1="","",IF(IE1=LOOKUP(IE1,Feuil4!$A$17:$A$26),"x","")) | IT3: Férié | JC3: Normal | JH3: =IF(IT1="","",IF(IT1=LOOKUP(IT1,Feuil4!$A$17:$A$26),"x","")) | JI3: Férié | JR3: Normal | JW3: =IF(JI1="","",IF(JI1=LOOKUP(JI1,Feuil4!$A$17:$A$26),"x","")) | JX3: Férié | KG3: Normal | KL3: =IF(JX1="","",IF(JX1=LOOKUP(JX1,Feuil4!$A$17:$A$26),"x","")) | KM3: Férié | KV3: Normal | LD3: =IF(KM1="","",IF(KM1=LOOKUP(KM1,Feuil4!$A$17:$A$26),"x","")) | LE3: Férié | LN3: Normal | LS3: =IF(LE1="","",IF(LE1=LOOKUP(LE1,Feuil4!$A$17:$A$26),"x","")) | LT3: Férié | MC3: Normal | MH3: =IF(LT1="","",IF(LT1=LOOKUP(LT1,Feuil4!$A$17:$A$26),"x","")) | MI3: Férié | MR3: Normal | MW3: =IF(MI1="","",IF(MI1=LOOKUP(MI1,Feuil4!$A$17:$A$26),"x","")) | MX3: Férié | NG3: Normal | NL3: =IF(MX1="","",IF(MX1=LOOKUP(MX1,Feuil4!$A$17:$A$26),"x","")) | NM3: Férié | NV3: Normal | OA3: =IF(NM1="","",IF(NM1=LOOKUP(NM1,Feuil4!$A$17:$A$26),"x","")) | OB3: Férié | OK3: Normal | OP3: =IF(OB1="","",IF(OB1=LOOKUP(OB1,Feuil4!$A$17:$A$26),"x","")) | OQ3: Férié | OZ3: Normal | PH3: =IF(OQ1="","",IF(OQ1=LOOKUP(OQ1,Feuil4!$A$17:$A$26),"x","")) | PI3: Férié | PR3: Normal | PW3: =IF(PI1="","",IF(PI1=LOOKUP(PI1,Feuil4!$A$17:$A$26),"x","")) | PX3: Férié | QG3: Normal | QL3: =IF(PX1="","",IF(PX1=LOOKUP(PX1,Feuil4!$A$17:$A$26),"x","")) | QM3: Férié | QV3: Normal | RA3: =IF(QM1="","",IF(QM1=LOOKUP(QM1,Feuil4!$A$17:$A$26),"x","")) | RB3: Férié | RK3: Normal | RP3: =IF(RB1="","",IF(RB1=LOOKUP(RB1,Feuil4!$A$17:$A$26),"x","")) | RQ3: Férié | RZ3: Normal | SE3: =IF(RQ1="","",IF(RQ1=LOOKUP(RQ1,Feuil4!$A$17:$A$26),"x","")) | SF3: Férié | SO3: Normal | ST3: =IF(SF1="","",IF(SF1=LOOKUP(SF1,Feuil4!$A$17:$A$26),"x","")) | SU3: Férié | TD3: Normal | TL3: =IF(SU1="","",IF(SU1=LOOKUP(SU1,Feuil4!$A$17:$A$26),"x","")) | TM3: Férié | TV3: Normal | UA3: =IF(TM1="","",IF(TM1=LOOKUP(TM1,Feuil4!$A$17:$A$26),"x","")) | UB3: Férié | UK3: Normal | UP3: =IF(UB1="","",IF(UB1=LOOKUP(UB1,Feuil4!$A$17:$A$26),"x","")) | UQ3: Férié | UZ3: Normal | VE3: =IF(UQ1="","",IF(UQ1=LOOKUP(UQ1,Feuil4!$A$17:$A$26),"x","")) | VF3: Férié | VO3: Normal | VT3: =IF(VF1="","",IF(VF1=LOOKUP(VF1,Feuil4!$A$17:$A$26),"x","")) | VU3: Férié | WD3: Normal | WI3: =IF(VU1="","",IF(VU1=LOOKUP(VU1,Feuil4!$A$17:$A$26),"x","")) | WJ3: Férié | WS3: Normal | WX3: =IF(WJ1="","",IF(WJ1=LOOKUP(WJ1,Feuil4!$A$17:$A$26),"x","")) | WY3: Férié | XH3: Normal | XP3: =IF(WY1="","",IF(WY1=LOOKUP(WY1,Feuil4!$A$17:$A$26),"x","")) | XQ3: Férié | XZ3: Normal | YE3: =IF(XQ1="","",IF(XQ1=LOOKUP(XQ1,Feuil4!$A$17:$A$26),"x","")) | YF3: Férié | YO3: Normal | YT3: =IF(YF1="","",IF(YF1=LOOKUP(YF1,Feuil4!$A$17:$A$26),"x","")) | ZX3: total | ZY3: 0.2 | ZZ3: 1 | AAA3: total | AAB3: 0.2 | AAC3: 1 | AAD3: total | AAE3: 0.5 | AAF3: 1
DF4: 1er mai | DK4: =IF(CW1=43221,"x","") | DU4: 1er mai | DZ4: =IF(DL1=43221,"x","") | EJ4: 1er mai | EO4: =IF(EA1=43221,"x","") | EY4: 1er mai | FD4: =IF(EP1=43221,"x","") | FN4: 1er mai | FS4: =IF(FE1=43221,"x","") | GC4: 1er mai | GH4: =IF(FT1=43221,"x","") | GR4: 1er mai | GZ4: =IF(GI1=43221,"x","") | HJ4: 1er mai | HO4: =IF(HA1=43221,"x","") | HY4: 1er mai | ID4: =IF(HP1=43221,"x","") | IN4: 1er mai | IS4: =IF(IE1=43221,"x","") | JC4: 1er mai | JH4: =IF(IT1=43221,"x","") | JR4: 1er mai | JW4: =IF(JI1=43221,"x","") | KG4: 1er mai | KL4: =IF(JX1=43221,"x","") | KV4: 1er mai | LD4: =IF(KM1=43221,"x","") | LN4: 1er mai | LS4: =IF(LE1=43221,"x","") | MC4: 1er mai | MH4: =IF(LT1=43221,"x","") | MR4: 1er mai | MW4: =IF(MI1=43221,"x","") | NG4: 1er mai | NL4: =IF(MX1=43221,"x","") | NV4: 1er mai | OA4: =IF(NM1=43221,"x","") | OK4: 1er mai | OP4: =IF(OB1=43221,"x","") | OZ4: 1er mai | PH4: =IF(OQ1=43221,"x","") | PR4: 1er mai | PW4: =IF(PI1=43221,"x","") | QG4: 1er mai | QL4: =IF(PX1=43221,"x","") | QV4: 1er mai | RA4: =IF(QM1=43221,"x","") | RK4: 1er mai | RP4: =IF(RB1=43221,"x","") | RZ4: 1er mai | SE4: =IF(RQ1=43221,"x","") | SO4: 1er mai | ST4: =IF(SF1=43221,"x","") | TD4: 1er mai | TL4: =IF(SU1=43221,"x","") | TV4: 1er mai | UA4: =IF(TM1=43221,"x","") | UK4: 1er mai | UP4: =IF(UB1=43221,"x","") | UZ4: 1er mai | VE4: =IF(UQ1=43221,"x","") | VO4: 1er mai | VT4: =IF(VF1=43221,"x","") | WD4: 1er mai | WI4: =IF(VU1=43221,"x","") | WS4: 1er mai | WX4: =IF(WJ1=43221,"x","") | XH4: 1er mai | XP4: =IF(WY1=43221,"x","") | XZ4: 1er mai | YE4: =IF(XQ1=43221,"x","") | YO4: 1er mai | YT4: =IF(YF1=43221,"x","") | YU4: Total | YV4: semaine 1 | YW4: semaine 2 | YX4: semaine 3 | YY4: semaine 4 | YZ4: semaine 5 | ZA4: semaine 6 | ZB4: hcomp 10% | ZC4: hcomp 25% | ZD4: hsup 25% | ZE4: semaine 1 | ZF4: semaine 2 | ZG4: semaine 3 | ZH4: semaine 4 | ZI4: semaine 5 | ZJ4: semaine 6 | ZK4: hsup 50% | ZL4: semaine 1 | ZM4: semaine 2 | ZN4: semaine 3 | ZO4: semaine 4 | ZP4: semaine 5 | ZQ4: semaine 6 | ZR4: equivalent en h | ZS4: Total | ZT4: H- cp | ZU4: H- mal, div | ZV4: H- absence div | ZW4: H- planning | AAT4: 0.04 | AAU4: 0.003 | AAV4: 0.133 | AAW4: 0.083 | AAX4: 0.00016 | AAY4: 0.08 | AAZ4: 0.0345 | ABA4: 0.005 | ABB4: 0.0025 | ABC4: 0.0295 | ABD4: 0.081 | ABE4: 0.0015 | ABF4: 0.019 | ABG4: 0.0391 | ABH4: 0.012 | ABI4: 0.1215 | ABJ4: 0.0069 | ABK4: 0.001 | ABL4: 0.03 | ABM4: 0.01 | ABN4: 0.0068 | ABO4: 0.0256 | ABP4: mutuelle | ABQ4: 0.004 | ABR4: TOTAL | ABS4: SMIC HORAIRE | ABV4: 9.88
R5: Ville | S5: CP | U5: date | V5: années | AI5: HD | AJ5: HF | AK5: pause | AL5: NBRE H | AM5: hn 0h-6h | AN5: hn 21h-24h | AO5: HNUIT | AP5: panier | AQ5: HD | AR5: HF | AS5: pause | AT5: NBRE H | AU5: hn 0h-6h | AV5: hn 21h-24h | AW5: HNUIT | AX5: panier | AY5: HD | AZ5: HF | BA5: pause | BB5: NBRE H | BC5: hn 0h-6h | BD5: hn 21h-24h | BE5: HNUIT | BF5: panier | BG5: HD | BH5: HF | BI5: pause | BJ5: NBRE H | BK5: hn 0h-6h | BL5: hn 21h-24h | BM5: HNUIT | BN5: panier | BO5: HD | BP5: HF | BQ5: pause | BR5: NBRE H | BS5: hn 0h-6h | BT5: hn 21h-24h | BU5: HNUIT | BV5: panier | BW5: HD | BX5: HF | BY5: pause | BZ5: NBRE H | CA5: hn 0h-6h | CB5: hn 21h-24h | CC5: HNUIT | CD5: panier | CE5: HD | CF5: HF | CG5: pause | CH5: NBRE H | CI5: hn 0h-6h | CJ5: hn 21h-24h | CK5: HNUIT | CL5: HDIMANCHE | CM5: panier | CN5: dd | CO5: df | CP5: remplacement | CQ5: dd | CR5: df | CS5: remplacement | CT5: dd | CU5: df | CV5: remplacement | CW5: cp | CX5: maladie | CY5: absence div | CZ5: H+ | DA5: H- cp | DB5: H- mal, div | DC5: H- absence div | DD5: H- planning | DE5: HNR | DF5: HN+ | DG5: HN- | DH5: HFR | DI5: HF+ | DJ5: HF- | DK5: PANIER | DL5: cp | DM5: maladie | DN5: absence div | DO5: H+ | DP5: H- cp | DQ5: H- mal, div | DR5: H- absence div | DS5: H- planning | DT5: HNR | DU5: HN+ | DV5: HN- | DW5: HFR | DX5: HF+ | DY5: HF- | DZ5: PANIER | EA5: cp | EB5: maladie | EC5: absence div | ED5: H+ | EE5: H- cp | EF5: H- mal, div | EG5: H- absence div | EH5: H- planning | EI5: HNR | EJ5: HN+ | EK5: HN- | EL5: HFR | EM5: HF+ | EN5: HF- | EO5: PANIER | EP5: cp | EQ5: maladie | ER5: absence div | ES5: H+ | ET5: H- cp | EU5: H- mal, div | EV5: H- absence div | EW5: H- planning | EX5: HNR | EY5: HN+ | EZ5: HN- | FA5: HFR | FB5: HF+ | FC5: HF- | FD5: PANIER | FE5: cp | FF5: maladie | FG5: absence div | FH5: H+ | FI5: H- cp | FJ5: H- mal, div | FK5: H- absence div | FL5: H- planning | FM5: HNR | FN5: HN+ | FO5: HN- | FP5: HFR | FQ5: HF+ | FR5: HF- | FS5: PANIER | FT5: cp | FU5: maladie | FV5: absence div | FW5: H+ | FX5: H- cp | FY5: H- mal, div | FZ5: H- absence div | GA5: H- planning | GB5: HNR | GC5: HN+ | GD5: HN- | GE5: HFR | GF5: HF+ | GG5: HF- | GH5: PANIER | GI5: cp | GJ5: maladie | GK5: absence div | GL5: H+ | GM5: H- cp | GN5: H- mal, div | GO5: H- absence div | GP5: H- planning | GQ5: HNR | GR5: HN+ | GS5: HN- | GT5: HFR | GU5: HF+ | GV5: HF- | GW5: HDIMANCHE R | GX5: HD+ | GY5: HD- | GZ5: PANIER | HA5: cp | HB5: maladie | HC5: absence div | HD5: H+ | HE5: H- cp | HF5: H- mal, div | HG5: H- absence div | HH5: H- planning | HI5: HNR | HJ5: HN+ | HK5: HN- | HL5: HFR | HM5: HF+ | HN5: HF- | HO5: PANIER | HP5: cp | HQ5: maladie | HR5: absence div | HS5: H+ | HT5: H- cp | HU5: H- mal, div | HV5: H- absence div | HW5: H- planning | HX5: HNR | HY5: HN+ | HZ5: HN- | IA5: HFR | IB5: HF+ | IC5: HF- | ID5: PANIER | IE5: cp | IF5: maladie | IG5: absence div | IH5: H+ | II5: H- cp | IJ5: H- mal, div | IK5: H- absence div | IL5: H- planning | IM5: HNR | IN5: HN+ | IO5: HN- | IP5: HFR | IQ5: HF+ | IR5: HF- | IS5: PANIER | IT5: cp | IU5: maladie | IV5: absence div | IW5: H+ | IX5: H- cp | IY5: H- mal, div | IZ5: H- absence div | JA5: H- planning | JB5: HNR | JC5: HN+ | JD5: HN- | JE5: HFR | JF5: HF+ | JG5: HF- | JH5: PANIER | JI5: cp | JJ5: maladie | JK5: absence div | JL5: H+ | JM5: H- cp | JN5: H- mal, div | JO5: H- absence div | JP5: H- planning | JQ5: HNR | JR5: HN+ | JS5: HN- | JT5: HFR | JU5: HF+ | JV5: HF- | JW5: PANIER | JX5: cp | JY5: maladie | JZ5: absence div | KA5: H+ | KB5: H- cp | KC5: H- mal, div | KD5: H- absence div | KE5: H- planning | KF5: HNR | KG5: HN+ | KH5: HN- | KI5: HFR | KJ5: HF+ | KK5: HF- | KL5: PANIER | KM5: cp | KN5: maladie | KO5: absence div | KP5: H+ | KQ5: H- cp | KR5: H- mal, div | KS5: H- absence div | KT5: H- planning | KU5: HNR | KV5: HN+ | KW5: HN- | KX5: HFR | KY5: HF+ | KZ5: HF- | LA5: HDIMANCHE R | LB5: HD+ | LC5: HD- | LD5: PANIER | LE5: cp | LF5: maladie | LG5: absence div | LH5: H+ | LI5: H- cp | LJ5: H- mal, div | LK5: H- absence div | LL5: H- planning | LM5: HNR | LN5: HN+ | LO5: HN- | LP5: HFR | LQ5: HF+ | LR5: HF- | LS5: PANIER | LT5: cp | LU5: maladie | LV5: absence div | LW5: H+ | LX5: H- cp | LY5: H- mal, div | LZ5: H- absence div | MA5: H- planning | MB5: HNR | MC5: HN+ | MD5: HN- | ME5: HFR | MF5: HF+ | MG5: HF- | MH5: PANIER | MI5: cp | MJ5: maladie | MK5: absence div | ML5: H+ | MM5: H- cp | MN5: H- mal, div | MO5: H- absence div | MP5: H- planning | MQ5: HNR | MR5: HN+ | MS5: HN- | MT5: HFR | MU5: HF+ | MV5: HF- | MW5: PANIER | MX5: cp | MY5: maladie | MZ5: absence div | NA5: H+ | NB5: H- cp | NC5: H- mal, div | ND5: H- absence div | NE5: H- planning | NF5: HNR | NG5: HN+ | NH5: HN- | NI5: HFR | NJ5: HF+ | NK5: HF- | NL5: PANIER | NM5: cp | NN5: maladie | NO5: absence div | NP5: H+ | NQ5: H- cp | NR5: H- mal, div | NS5: H- absence div | NT5: H- planning | NU5: HNR | NV5: HN+ | NW5: HN- | NX5: HFR | NY5: HF+ | NZ5: HF- | OA5: PANIER | OB5: cp | OC5: maladie | OD5: absence div | OE5: H+ | OF5: H- cp | OG5: H- mal, div | OH5: H- absence div | OI5: H- planning | OJ5: HNR | OK5: HN+ | OL5: HN- | OM5: HFR | ON5: HF+ | OO5: HF- | OP5: PANIER | OQ5: cp | OR5: maladie | OS5: absence div | OT5: H+ | OU5: H- cp | OV5: H- mal, div | OW5: H- absence div | OX5: H- planning | OY5: HNR | OZ5: HN+ | PA5: HN- | PB5: HFR | PC5: HF+ | PD5: HF- | PE5: HDIMANCHE R | PF5: HD+ | PG5: HD- | PH5: PANIER | PI5: cp | PJ5: maladie | PK5: absence div | PL5: H+ | PM5: H- cp | PN5: H- mal, div | PO5: H- absence div | PP5: H- planning | PQ5: HNR | PR5: HN+ | PS5: HN- | PT5: HFR | PU5: HF+ | PV5: HF- | PW5: PANIER | PX5: cp | PY5: maladie | PZ5: absence div | QA5: H+ | QB5: H- cp | QC5: H- mal, div | QD5: H- absence div | QE5: H- planning | QF5: HNR | QG5: HN+ | QH5: HN- | QI5: HFR | QJ5: HF+ | QK5: HF- | QL5: PANIER | QM5: cp | QN5: maladie | QO5: absence div | QP5: H+ | QQ5: H- cp | QR5: H- mal, div | QS5: H- absence div | QT5: H- planning | QU5: HNR | QV5: HN+ | QW5: HN- | QX5: HFR | QY5: HF+ | QZ5: HF- | RA5: PANIER | RB5: cp | RC5: maladie | RD5: absence div | RE5: H+ | RF5: H- cp | RG5: H- mal, div | RH5: H- absence div | RI5: H- planning | RJ5: HNR | RK5: HN+ | RL5: HN- | RM5: HFR | RN5: HF+ | RO5: HF- | RP5: PANIER | RQ5: cp | RR5: maladie | RS5: absence div | RT5: H+ | RU5: H- cp | RV5: H- mal, div | RW5: H- absence div | RX5: H- planning | RY5: HNR | RZ5: HN+ | SA5: HN- | SB5: HFR | SC5: HF+ | SD5: HF- | SE5: PANIER | SF5: cp | SG5: maladie | SH5: absence div | SI5: H+ | SJ5: H- cp | SK5: H- mal, div | SL5: H- absence div | SM5: H- planning | SN5: HNR | SO5: HN+ | SP5: HN- | SQ5: HFR | SR5: HF+ | SS5: HF- | ST5: PANIER | SU5: cp | SV5: maladie | SW5: absence div | SX5: H+ | SY5: H- cp | SZ5: H- mal, div | TA5: H- absence div | TB5: H- planning | TC5: HNR | TD5: HN+ | TE5: HN- | TF5: HFR | TG5: HF+ | TH5: HF- | TI5: HDIMANCHE R | TJ5: HD+ | TK5: HD- | TL5: PANIER | TM5: cp | TN5: maladie | TO5: absence div | TP5: H+ | TQ5: H- cp | TR5: H- mal, div | TS5: H- absence div | TT5: H- planning | TU5: HNR | TV5: HN+ | TW5: HN- | TX5: HFR | TY5: HF+ | TZ5: HF- | UA5: PANIER | UB5: cp | UC5: maladie | UD5: absence div | UE5: H+ | UF5: H- cp | UG5: H- mal, div | UH5: H- absence div | UI5: H- planning | UJ5: HNR | UK5: HN+ | UL5: HN- | UM5: HFR | UN5: HF+ | UO5: HF- | UP5: PANIER | UQ5: cp | UR5: maladie | US5: absence div | UT5: H+ | UU5: H- cp | UV5: H- mal, div | UW5: H- absence div | UX5: H- planning | UY5: HNR | UZ5: HN+ | VA5: HN- | VB5: HFR | VC5: HF+ | VD5: HF- | VE5: PANIER | VF5: cp | VG5: maladie | VH5: absence div | VI5: H+ | VJ5: H- cp | VK5: H- mal, div | VL5: H- absence div | VM5: H- planning | VN5: HNR | VO5: HN+ | VP5: HN- | VQ5: HFR | VR5: HF+ | VS5: HF- | VT5: PANIER | VU5: cp | VV5: maladie | VW5: absence div | VX5: H+ | VY5: H- cp | VZ5: H- mal, div | WA5: H- absence div | WB5: H- planning | WC5: HNR | WD5: HN+ | WE5: HN- | WF5: HFR | WG5: HF+ | WH5: HF- | WI5: PANIER | WJ5: cp | WK5: maladie | WL5: absence div | WM5: H+ | WN5: H- cp | WO5: H- mal, div | WP5: H- absence div | WQ5: H- planning | WR5: HNR | WS5: HN+ | WT5: HN- | WU5: HFR | WV5: HF+ | WW5: HF- | WX5: PANIER | WY5: cp | WZ5: maladie | XA5: absence div | XB5: H+ | XC5: H- cp | XD5: H- mal, div | XE5: H- absence div | XF5: H- planning | XG5: HNR | XH5: HN+ | XI5: HN- | XJ5: HFR | XK5: HF+ | XL5: HF- | XM5: HDIMANCHE R | XN5: HD+ | XO5: HD- | XP5: PANIER | XQ5: cp | XR5: maladie | XS5: absence div | XT5: H+ | XU5: H- cp | XV5: H- mal, div | XW5: H- absence div | XX5: H- planning | XY5: HNR | XZ5: HN+ | YA5: HN- | YB5: HFR | YC5: HF+ | YD5: HF- | YE5: PANIER | YF5: cp | YG5: maladie | YH5: absence div | YI5: H+ | YJ5: H- cp | YK5: H- mal, div | YL5: H- absence div | YM5: H- planning | YN5: HNR | YO5: HN+ | YP5: HN- | YQ5: HFR | YR5: HF+ | YS5: HF- | YT5: PANIER | AAI5: 7.14 | AAQ5: masse hors prov cp | AAR5: prov cp | AAS5: totale | AAT5: cotisation caisse cp | AAU5: Ristourne cp | AAV5: Assurance maladie | AAW5: Assurance vieillesse déplafonnée | AAX5: complement dialogue social | AAY5: forfait social | AAZ5: Allocations familiales | ABA5: ss fnal | ABB5: comp veil. | ABC5: ss transport | ABD5: Cotisation chômage tra + rg | ABE5: Cotisation chômage fngs/ag-rg | ABF5: ss veil | ABG5: ARCCO TRANCHE 1 | ABH5: ARCCO AGFF TR1 | ABI5: Retraite complémentaire non cadre (tranche B) | ABJ5: prev | ABK5: prev fiscale | ABL5: ss fnal maj cp+urc trsp maj cp | ABM5: Formation professionnelle | ABN5: Taxe apprentissage | ABO5: AT | ABQ5: COTISATION CE | ABS5: SMIC Fillon | ABT5: Coefficient | ABU5: Arrondi | ABV5: Réduction | ABY5: 0.06 | ACC5: NAVIGO
