Workbook
Name For: #REF!
Name For: #REF!
Name For: 'Liste déroulante'!#REF!
Name For: 'Liste déroulante 2'!#REF!
Name For: #REF!
Name From: [1]Sheet2!$C$3:$C$20
Name From: [1]Sheet2!$C$3:$C$20
Name From: #REF!
Name From: 'Liste déroulante'!$C$3:$C$20
Name From: 'Liste déroulante 2'!$C$3:$C$20
Name From: #REF!
Name FTC: [1]Sheet2!$B$3:$B$4
Name FTC: [1]Sheet2!$B$3:$B$4
Name Request_Type: [1]Sheet2!$D$3:$D$9
Name Request_Type: [1]Sheet2!$D$3:$D$9
Name Request_Type: #REF!
Name Request_Type: 'Liste déroulante'!#REF!
Name Request_Type: 'Liste déroulante 2'!#REF!
Name Request_Type: #REF!
Name State: [1]Sheet2!$F$3:$F$8
Name State: [1]Sheet2!$F$3:$F$8
Name State: #REF!
Name State: 'Liste déroulante'!#REF!
Name State: 'Liste déroulante 2'!#REF!
Name State: #REF!
Name Where?: [1]Sheet2!$B$3:$B$4
Name Where?: [1]Sheet2!$B$3:$B$4
Name Where?: #REF!
Name Where?: 'Liste déroulante'!#REF!
Name Where?: 'Liste déroulante 2'!#REF!
Name Where?: #REF!
Name who: #REF!
Name who: #REF!
Name who: 'Liste déroulante'!#REF!
Name who: 'Liste déroulante 2'!#REF!
Name who: #REF!
Name Who_?: #REF!
Name Who_?: #REF!
Name Who_?: 'Liste déroulante'!#REF!
Name Who_?: 'Liste déroulante 2'!#REF!
Name Who_?: #REF!

Sheet Global FTC Schedule '18
A1: FTC Schedule '18 | G1: April | AG1: May | CE1: June | ED1: July | GE1: August | IF1: September | KD1: October | MF1: November | OE1: December
G2: W16 | S2: W17 | AE2: W18 | AP2: W19 | AZ2: W20 | BL2: W21 | BW2: W22 | CI2: W23 | CU2: W24 | DG2: W25 | DS2: W26 | EE2: W27 | EQ2: W28 | FC2: W29 | FO2: W30 | GA2: W31 | GM2: W32 | GY2: W33 | HJ2: W34 | HV2: W35 | IH2: W36 | IT2: W37 | JF2: W38 | JR2: W39 | KD2: W40 | KP2: W41 | LB2: W42 | LN2: W43 | LZ2: W44 | MK2: W45 | MW2: W46 | NI2: W47 | NU2: W48 | OG2: W49 | OS2: W50 | PE2: W51 | PQ2: W52
G3: 16 | I3: 17 | K3: 18 | M3: 19 | O3: 20 | Q3: 21 | R3: 22 | S3: 23 | U3: 24 | W3: 25 | Y3: 26 | AA3: 27 | AC3: 28 | AD3: 29 | AE3: 30 | AG3: 1 | AH3: 2 | AJ3: 3 | AL3: 4 | AN3: 5 | AO3: 6 | AP3: 7 | AR3: 8 | AS3: 9 | AU3: 10 | AV3: 11 | AX3: 12 | AY3: 13 | AZ3: 14 | BB3: 15 | BD3: 16 | BF3: 17 | BH3: 18 | BJ3: 19 | BK3: 20 | BL3: 21 | BM3: 22 | BO3: 23 | BQ3: 24 | BS3: 25 | BU3: 26 | BV3: 27 | BW3: 28 | BY3: 29 | CA3: 30 | CC3: 31 | CE3: 1 | CG3: 2 | CH3: 3 | CI3: 4 | CK3: 5 | CM3: 6 | CO3: 7 | CQ3: 8 | CS3: 9 | CT3: 10 | CU3: 11 | CW3: 12 | CY3: 13 | DA3: 14 | DC3: 15 | DE3: 16 | DF3: 17 | DG3: 18 | DI3: 19 | DK3: 20 | DM3: 21 | DO3: 22 | DQ3: 23 | DR3: 24 | DS3: 25 | DU3: 26 | DW3: 27 | DY3: 28 | EA3: 29 | EC3: 30 | ED3: 1 | EE3: 2 | EG3: 3 | EI3: 4 | EK3: 5 | EM3: 6 | EO3: 7 | EP3: 8 | EQ3: 9 | ES3: 10 | EU3: 11 | EW3: 12 | EY3: 13 | FA3: 14 | FB3: 15 | FC3: 16 | FE3: 17 | FG3: 18 | FI3: 19 | FK3: 20 | FM3: 21 | FN3: 22 | FO3: 23 | FQ3: 24 | FS3: 25 | FU3: 26 | FW3: 27 | FY3: 28 | FZ3: 29 | GA3: 30 | GC3: 31 | GE3: 1 | GG3: 2 | GI3: 3 | GK3: 4 | GL3: 5 | GM3: 6 | GO3: 7 | GQ3: 8 | GS3: 9 | GU3: 10 | GW3: 11 | GX3: 12 | GY3: 13 | HA3: 14 | HC3: 15 | HD3: 16 | HF3: 17 | HH3: 18 | HI3: 19 | HJ3: 20 | HL3: 21 | HN3: 22 | HP3: 23 | HR3: 24 | HT3: 25 | HU3: 26 | HV3: 27 | HX3: 28 | HZ3: 29 | IB3: 30 | ID3: 31 | IF3: 1 | IG3: 2 | IH3: 3 | IJ3: 4 | IL3: 5 | IN3: 6 | IP3: 7 | IR3: 8 | IS3: 9 | IT3: 10 | IV3: 11 | IX3: 12 | IZ3: 13 | JB3: 14 | JD3: 15 | JE3: 16 | JF3: 17 | JH3: 18 | JJ3: 19 | JL3: 20 | JN3: 21 | JP3: 22 | JQ3: 23 | JR3: 24 | JT3: 25 | JV3: 26 | JX3: 27 | JZ3: 28 | KB3: 29 | KC3: 30 | KD3: 1 | KF3: 2 | KH3: 3 | KJ3: 4 | KL3: 5 | KN3: 6 | KO3: 7 | KP3: 8 | KR3: 9 | KT3: 10 | KV3: 11 | KX3: 12 | KZ3: 13 | LA3: 14 | LB3: 15 | LD3: 16 | LF3: 17 | LH3: 18 | LJ3: 19 | LL3: 20 | LM3: 21 | LN3: 22 | LP3: 23 | LR3: 24 | LT3: 25 | LV3: 26 | LX3: 27 | LY3: 28 | LZ3: 29 | MB3: 30 | MD3: 31 | MF3: 1 | MG3: 2 | MI3: 3 | MJ3: 4 | MK3: 5 | MM3: 6 | MO3: 7 | MQ3: 8 | MS3: 9 | MU3: 10 | MV3: 11 | MW3: 12 | MY3: 13 | NA3: 14 | NC3: 15 | NE3: 16 | NG3: 17 | NH3: 18 | NI3: 19 | NK3: 20 | NM3: 21 | NO3: 22 | NQ3: 23 | NS3: 24 | NT3: 25 | NU3: 26 | NW3: 27 | NY3: 28 | OA3: 29 | OC3: 30 | OE3: 1 | OF3: 2 | OG3: 3 | OI3: 4 | OK3: 5 | OM3: 6 | OO3: 7 | OQ3: 8 | OR3: 9 | OS3: 10 | OU3: 11 | OW3: 12 | OY3: 13 | PA3: 14 | PC3: 15 | PD3: 16 | PE3: 17 | PG3: 18 | PI3: 19 | PK3: 20 | PM3: 21 | PO3: 22 | PP3: 23 | PQ3: 24 | PS3: 25 | PT3: 26 | PV3: 27 | PX3: 28 | PZ3: 29 | QA3: 30 | QB3: 31
G4: M | I4: T | K4: W | M4: T | O4: F | Q4: S | R4: S | S4: M | U4: T | W4: W | Y4: T | AA4: F | AC4: S | AD4: S | AE4: M | AG4: T | AH4: W | AJ4: T | AL4: F | AN4: S | AO4: S | AP4: M | AR4: T | AS4: W | AU4: T | AV4: F | AX4: S | AY4: S | AZ4: M | BB4: T | BD4: W | BF4: T | BH4: F | BJ4: S | BK4: S | BL4: M | BM4: T | BO4: W | BQ4: T | BS4: F | BU4: S | BV4: S | BW4: M | BY4: T | CA4: W | CC4: T | CE4: F | CG4: S | CH4: S | CI4: M | CK4: T | CM4: W | CO4: T | CQ4: F | CS4: S | CT4: S | CU4: M | CW4: T | CY4: W | DA4: T | DC4: F | DE4: S | DF4: S | DG4: M | DI4: T | DK4: W | DM4: T | DO4: F | DQ4: S | DR4: S | DS4: M | DU4: T | DW4: W | DY4: T | EA4: F | EC4: S | ED4: S | EE4: M | EG4: T | EI4: W | EK4: T | EM4: F | EO4: S | EP4: S | EQ4: M | ES4: T | EU4: W | EW4: T | EY4: F | FA4: S | FB4: S | FC4: M | FE4: T | FG4: W | FI4: T | FK4: F | FM4: S | FN4: S | FO4: M | FQ4: T | FS4: W | FU4: T | FW4: F | FY4: S | FZ4: S | GA4: M | GC4: T | GE4: W | GG4: T | GI4: F | GK4: S | GL4: S | GM4: M | GO4: T | GQ4: W | GS4: T | GU4: F | GW4: S | GX4: S | GY4: M | HA4: T | HC4: W | HD4: T | HF4: F | HH4: S | HI4: S | HJ4: M | HL4: T | HN4: W | HP4: T | HR4: F | HT4: S | HU4: S | HV4: M | HX4: T | HZ4: W | IB4: T | ID4: F | IF4: S | IG4: S | IH4: M | IJ4: T | IL4: W | IN4: T | IP4: F | IR4: S | IS4: S | IT4: M | IV4: T | IX4: W | IZ4: T | JB4: F | JD4: S | JE4: S | JF4: M | JH4: T | JJ4: W | JL4: T | JN4: F | JP4: S | JQ4: S | JR4: M | JT4: T | JV4: W | JX4: T | JZ4: F | KB4: S | KC4: S | KD4: M | KF4: T | KH4: W | KJ4: T | KL4: F | KN4: S | KO4: S | KP4: M | KR4: T | KT4: W | KV4: T | KX4: F | KZ4: S | LA4: S | LB4: M | LD4: T | LF4: W | LH4: T | LJ4: F | LL4: S | LM4: S | LN4: M | LP4: T | LR4: W | LT4: T | LV4: F | LX4: S | LY4: S | LZ4: M | MB4: T | MD4: W | MF4: T | MG4: F | MI4: S | MJ4: S | MK4: M | MM4: T | MO4: W | MQ4: T | MS4: F | MU4: S | MV4: S | MW4: M | MY4: T | NA4: W | NC4: T | NE4: F | NG4: S | NH4: S | NI4: M | NK4: T | NM4: W | NO4: T | NQ4: F | NS4: S | NT4: S | NU4: M | NW4: T | NY4: W | OA4: T | OC4: F | OE4: S | OF4: S | OG4: M | OI4: T | OK4: W | OM4: T | OO4: F | OQ4: S | OR4: S | OS4: M | OU4: T | OW4: W | OY4: T | PA4: F | PC4: S | PD4: S | PE4: M | PG4: T | PI4: W | PK4: T | PM4: F | PO4: S | PP4: S | PQ4: M | PS4: T | PT4: W | PV4: T | PX4: F | PZ4: S | QA4: S | QB4: M
A5: Machine : | B5: M200 | C5: Ressources Availibility > | E5: Cecile | G5: ='[2]FTC General & WLM Schedule ''18'!K5 -> 0 | H5: ='[2]FTC General & WLM Schedule ''18'!L5 -> 0 | I5: ='[2]FTC General & WLM Schedule ''18'!M5 -> 0 | J5: ='[2]FTC General & WLM Schedule ''18'!N5 -> 0 | K5: ='[2]FTC General & WLM Schedule ''18'!O5 -> 0 | L5: ='[2]FTC General & WLM Schedule ''18'!P5 -> 0 | M5: ='[2]FTC General & WLM Schedule ''18'!Q5 -> 0 | N5: ='[2]FTC General & WLM Schedule ''18'!R5 -> 0 | ... BL5: ='[2]FTC General & WLM Schedule ''18'!BP5 -> 0 | BM5: ='[2]FTC General & WLM Schedule ''18'!BR5 -> 0 | BN5: ='[2]FTC General & WLM Schedule ''18'!BS5 -> 0 | BO5: ='[2]FTC General & WLM Schedule ''18'!BT5 -> 0 | BP5: ='[2]FTC General & WLM Schedule ''18'!BU5 -> 0 | BQ5: ='[2]FTC General & WLM Schedule ''18'!BV5 -> 0 | BR5: ='[2]FTC General & WLM Schedule ''18'!BW5 -> 0 | BS5: ='[2]FTC General & WLM Schedule ''18'!BX5 -> 0 | BT5: ='[2]FTC General & WLM Schedule ''18'!BY5 -> 0 | ... QC5: ='[2]FTC General & WLM Schedule ''18'!QH5 -> 0
B6: M3 | E6: Jerome | G6: ='[2]FTC General & WLM Schedule ''18'!K6 -> 0 | H6: ='[2]FTC General & WLM Schedule ''18'!L6 -> 0 | I6: ='[2]FTC General & WLM Schedule ''18'!M6 -> 0 | J6: ='[2]FTC General & WLM Schedule ''18'!N6 -> 0 | K6: ='[2]FTC General & WLM Schedule ''18'!O6 -> 0 | L6: ='[2]FTC General & WLM Schedule ''18'!P6 -> 0 | M6: ='[2]FTC General & WLM Schedule ''18'!Q6 -> 0 | N6: ='[2]FTC General & WLM Schedule ''18'!R6 -> 0 | ... BL6: ='[2]FTC General & WLM Schedule ''18'!BP6 -> 0 | BM6: ='[2]FTC General & WLM Schedule ''18'!BR6 -> 0 | BN6: ='[2]FTC General & WLM Schedule ''18'!BS6 -> 0 | BO6: ='[2]FTC General & WLM Schedule ''18'!BT6 -> 0 | BP6: ='[2]FTC General & WLM Schedule ''18'!BU6 -> 0 | BQ6: ='[2]FTC General & WLM Schedule ''18'!BV6 -> 0 | BR6: ='[2]FTC General & WLM Schedule ''18'!BW6 -> 0 | BS6: ='[2]FTC General & WLM Schedule ''18'!BX6 -> 0 | BT6: ='[2]FTC General & WLM Schedule ''18'!BY6 -> 0 | ... QC6: ='[2]FTC General & WLM Schedule ''18'!QH6 -> 0
B7: M500 | E7: Quentin | G7: ='[2]FTC General & WLM Schedule ''18'!K7 -> 0 | H7: ='[2]FTC General & WLM Schedule ''18'!L7 -> T | I7: ='[2]FTC General & WLM Schedule ''18'!M7 -> T | J7: ='[2]FTC General & WLM Schedule ''18'!N7 -> T | K7: ='[2]FTC General & WLM Schedule ''18'!O7 -> T | L7: ='[2]FTC General & WLM Schedule ''18'!P7 -> T | M7: ='[2]FTC General & WLM Schedule ''18'!Q7 -> T | N7: ='[2]FTC General & WLM Schedule ''18'!R7 -> T | ... BL7: ='[2]FTC General & WLM Schedule ''18'!BP7 -> 0 | BM7: ='[2]FTC General & WLM Schedule ''18'!BR7 -> 0 | BN7: ='[2]FTC General & WLM Schedule ''18'!BS7 -> 0 | BO7: ='[2]FTC General & WLM Schedule ''18'!BT7 -> 0 | BP7: ='[2]FTC General & WLM Schedule ''18'!BU7 -> 0 | BQ7: ='[2]FTC General & WLM Schedule ''18'!BV7 -> 0 | BR7: ='[2]FTC General & WLM Schedule ''18'!BW7 -> 0 | BS7: ='[2]FTC General & WLM Schedule ''18'!BX7 -> 0 | BT7: ='[2]FTC General & WLM Schedule ''18'!BY7 -> 0 | ... QC7: ='[2]FTC General & WLM Schedule ''18'!QH7 -> 0
E8: Benedikt | G8: ='[2]FTC General & WLM Schedule ''18'!K8 -> 0 | H8: ='[2]FTC General & WLM Schedule ''18'!L8 -> 0 | I8: ='[2]FTC General & WLM Schedule ''18'!M8 -> 0 | J8: ='[2]FTC General & WLM Schedule ''18'!N8 -> 0 | K8: ='[2]FTC General & WLM Schedule ''18'!O8 -> 0 | L8: ='[2]FTC General & WLM Schedule ''18'!P8 -> 0 | M8: ='[2]FTC General & WLM Schedule ''18'!Q8 -> 0 | N8: ='[2]FTC General & WLM Schedule ''18'!R8 -> 0 | ... BL8: ='[2]FTC General & WLM Schedule ''18'!BP8 -> 0 | BM8: ='[2]FTC General & WLM Schedule ''18'!BR8 -> T | BN8: ='[2]FTC General & WLM Schedule ''18'!BS8 -> T | BO8: ='[2]FTC General & WLM Schedule ''18'!BT8 -> T | BP8: ='[2]FTC General & WLM Schedule ''18'!BU8 -> T | BQ8: ='[2]FTC General & WLM Schedule ''18'!BV8 -> T | BR8: ='[2]FTC General & WLM Schedule ''18'!BW8 -> T | BS8: ='[2]FTC General & WLM Schedule ''18'!BX8 -> T | BT8: ='[2]FTC General & WLM Schedule ''18'!BY8 -> T | ... QC8: ='[2]FTC General & WLM Schedule ''18'!QH8 -> 0
A10: Requ. Type
A11: Cut test | M11: M3 | O11: M500 | Y11: M200
A12: Demo | Y12: M3 | AA12: M500? | AS12: M200 | AV12: M500
A13: Training | S13: M500 | U13: M500 | W13: M500 | BB13: M500 | BD13: M500 | BF13: M500 | BH13: M500 | BM13: M500 | BO13: M500 | BQ13: M500 | BS13: M500 | BX13: M500 | BZ13: M500 | CB13: M500 | CJ13: M500 | CL13: M500 | CN13: M500 | CP13: M500 | GN13: M3 | GO13: M3 | GP13: M3 | GQ13: M3 | GR13: M3 | GS13: M3 | GT13: M3 | GU13: M3
A14: Show | CY14: Stone+Tec Nurnberg '18

Sheet 1- FTC Schedule '18
A1: FTC Schedule '18 | O1: April | AO1: May | CN1: June | EM1: July | GN1: August | IO1: September | KM1: October | MO1: November | ON1: December
O2: W16 | AA2: W17 | AM2: W18 | AX2: W19 | BH2: W20 | BT2: W21 | CF2: W22 | CR2: W23 | DD2: W24 | DP2: W25 | EB2: W26 | EN2: W27 | EZ2: W28 | FL2: W29 | FX2: W30 | GJ2: W31 | GV2: W32 | HH2: W33 | HS2: W34 | IE2: W35 | IQ2: W36 | JC2: W37 | JO2: W38 | KA2: W39 | KM2: W40 | KY2: W41 | LK2: W42 | LW2: W43 | MI2: W44 | MT2: W45 | NF2: W46 | NR2: W47 | OD2: W48 | OP2: W49 | PB2: W50 | PN2: W51 | PZ2: W52
O3: 16 | Q3: 17 | S3: 18 | U3: 19 | W3: 20 | Y3: 21 | Z3: 22 | AA3: 23 | AC3: 24 | AE3: 25 | AG3: 26 | AI3: 27 | AK3: 28 | AL3: 29 | AM3: 30 | AO3: 1 | AP3: 2 | AR3: 3 | AT3: 4 | AV3: 5 | AW3: 6 | AX3: 7 | AZ3: 8 | BA3: 9 | BC3: 10 | BD3: 11 | BF3: 12 | BG3: 13 | BH3: 14 | BJ3: 15 | BL3: 16 | BN3: 17 | BP3: 18 | BR3: 19 | BS3: 20 | BT3: 21 | BV3: 22 | BX3: 23 | BZ3: 24 | CB3: 25 | CD3: 26 | CE3: 27 | CF3: 28 | CH3: 29 | CJ3: 30 | CL3: 31 | CN3: 1 | CP3: 2 | CQ3: 3 | CR3: 4 | CT3: 5 | CV3: 6 | CX3: 7 | CZ3: 8 | DB3: 9 | DC3: 10 | DD3: 11 | DF3: 12 | DH3: 13 | DJ3: 14 | DL3: 15 | DN3: 16 | DO3: 17 | DP3: 18 | DR3: 19 | DT3: 20 | DV3: 21 | DX3: 22 | DZ3: 23 | EA3: 24 | EB3: 25 | ED3: 26 | EF3: 27 | EH3: 28 | EJ3: 29 | EL3: 30 | EM3: 1 | EN3: 2 | EP3: 3 | ER3: 4 | ET3: 5 | EV3: 6 | EX3: 7 | EY3: 8 | EZ3: 9 | FB3: 10 | FD3: 11 | FF3: 12 | FH3: 13 | FJ3: 14 | FK3: 15 | FL3: 16 | FN3: 17 | FP3: 18 | FR3: 19 | FT3: 20 | FV3: 21 | FW3: 22 | FX3: 23 | FZ3: 24 | GB3: 25 | GD3: 26 | GF3: 27 | GH3: 28 | GI3: 29 | GJ3: 30 | GL3: 31 | GN3: 1 | GP3: 2 | GR3: 3 | GT3: 4 | GU3: 5 | GV3: 6 | GX3: 7 | GZ3: 8 | HB3: 9 | HD3: 10 | HF3: 11 | HG3: 12 | HH3: 13 | HJ3: 14 | HL3: 15 | HM3: 16 | HO3: 17 | HQ3: 18 | HR3: 19 | HS3: 20 | HU3: 21 | HW3: 22 | HY3: 23 | IA3: 24 | IC3: 25 | ID3: 26 | IE3: 27 | IG3: 28 | II3: 29 | IK3: 30 | IM3: 31 | IO3: 1 | IP3: 2 | IQ3: 3 | IS3: 4 | IU3: 5 | IW3: 6 | IY3: 7 | JA3: 8 | JB3: 9 | JC3: 10 | JE3: 11 | JG3: 12 | JI3: 13 | JK3: 14 | JM3: 15 | JN3: 16 | JO3: 17 | JQ3: 18 | JS3: 19 | JU3: 20 | JW3: 21 | JY3: 22 | JZ3: 23 | KA3: 24 | KC3: 25 | KE3: 26 | KG3: 27 | KI3: 28 | KK3: 29 | KL3: 30 | KM3: 1 | KO3: 2 | KQ3: 3 | KS3: 4 | KU3: 5 | KW3: 6 | KX3: 7 | KY3: 8 | LA3: 9 | LC3: 10 | LE3: 11 | LG3: 12 | LI3: 13 | LJ3: 14 | LK3: 15 | LM3: 16 | LO3: 17 | LQ3: 18 | LS3: 19 | LU3: 20 | LV3: 21 | LW3: 22 | LY3: 23 | MA3: 24 | MC3: 25 | ME3: 26 | MG3: 27 | MH3: 28 | MI3: 29 | MK3: 30 | MM3: 31 | MO3: 1 | MP3: 2 | MR3: 3 | MS3: 4 | MT3: 5 | MV3: 6 | MX3: 7 | MZ3: 8 | NB3: 9 | ND3: 10 | NE3: 11 | NF3: 12 | NH3: 13 | NJ3: 14 | NL3: 15 | NN3: 16 | NP3: 17 | NQ3: 18 | NR3: 19 | NT3: 20 | NV3: 21 | NX3: 22 | NZ3: 23 | OB3: 24 | OC3: 25 | OD3: 26 | OF3: 27 | OH3: 28 | OJ3: 29 | OL3: 30 | ON3: 1 | OO3: 2 | OP3: 3 | OR3: 4 | OT3: 5 | OV3: 6 | OX3: 7 | OZ3: 8 | PA3: 9 | PB3: 10 | PD3: 11 | PF3: 12 | PH3: 13 | PJ3: 14 | PL3: 15 | PM3: 16 | PN3: 17 | PP3: 18 | PR3: 19 | PT3: 20 | PV3: 21 | PX3: 22 | PY3: 23 | PZ3: 24 | QB3: 25 | QC3: 26 | QE3: 27 | QG3: 28 | QI3: 29 | QJ3: 30 | QK3: 31
O4: M | Q4: T | S4: W | U4: T | W4: F | Y4: S | Z4: S | AA4: M | AC4: T | AE4: W | AG4: T | AI4: F | AK4: S | AL4: S | AM4: M | AO4: T | AP4: W | AR4: T | AT4: F | AV4: S | AW4: S | AX4: M | AZ4: T | BA4: W | BC4: T | BD4: F | BF4: S | BG4: S | BH4: M | BJ4: T | BL4: W | BN4: T | BP4: F | BR4: S | BS4: S | BT4: M | BV4: T | BX4: W | BZ4: T | CB4: F | CD4: S | CE4: S | CF4: M | CH4: T | CJ4: W | CL4: T | CN4: F | CP4: S | CQ4: S | CR4: M | CT4: T | CV4: W | CX4: T | CZ4: F | DB4: S | DC4: S | DD4: M | DF4: T | DH4: W | DJ4: T | DL4: F | DN4: S | DO4: S | DP4: M | DR4: T | DT4: W | DV4: T | DX4: F | DZ4: S | EA4: S | EB4: M | ED4: T | EF4: W | EH4: T | EJ4: F | EL4: S | EM4: S | EN4: M | EP4: T | ER4: W | ET4: T | EV4: F | EX4: S | EY4: S | EZ4: M | FB4: T | FD4: W | FF4: T | FH4: F | FJ4: S | FK4: S | FL4: M | FN4: T | FP4: W | FR4: T | FT4: F | FV4: S | FW4: S | FX4: M | FZ4: T | GB4: W | GD4: T | GF4: F | GH4: S | GI4: S | GJ4: M | GL4: T | GN4: W | GP4: T | GR4: F | GT4: S | GU4: S | GV4: M | GX4: T | GZ4: W | HB4: T | HD4: F | HF4: S | HG4: S | HH4: M | HJ4: T | HL4: W | HM4: T | HO4: F | HQ4: S | HR4: S | HS4: M | HU4: T | HW4: W | HY4: T | IA4: F | IC4: S | ID4: S | IE4: M | IG4: T | II4: W | IK4: T | IM4: F | IO4: S | IP4: S | IQ4: M | IS4: T | IU4: W | IW4: T | IY4: F | JA4: S | JB4: S | JC4: M | JE4: T | JG4: W | JI4: T | JK4: F | JM4: S | JN4: S | JO4: M | JQ4: T | JS4: W | JU4: T | JW4: F | JY4: S | JZ4: S | KA4: M | KC4: T | KE4: W | KG4: T | KI4: F | KK4: S | KL4: S | KM4: M | KO4: T | KQ4: W | KS4: T | KU4: F | KW4: S | KX4: S | KY4: M | LA4: T | LC4: W | LE4: T | LG4: F | LI4: S | LJ4: S | LK4: M | LM4: T | LO4: W | LQ4: T | LS4: F | LU4: S | LV4: S | LW4: M | LY4: T | MA4: W | MC4: T | ME4: F | MG4: S | MH4: S | MI4: M | MK4: T | MM4: W | MO4: T | MP4: F | MR4: S | MS4: S | MT4: M | MV4: T | MX4: W | MZ4: T | NB4: F | ND4: S | NE4: S | NF4: M | NH4: T | NJ4: W | NL4: T | NN4: F | NP4: S | NQ4: S | NR4: M | NT4: T | NV4: W | NX4: T | NZ4: F | OB4: S | OC4: S | OD4: M | OF4: T | OH4: W | OJ4: T | OL4: F | ON4: S | OO4: S | OP4: M | OR4: T | OT4: W | OV4: T | OX4: F | OZ4: S | PA4: S | PB4: M | PD4: T | PF4: W | PH4: T | PJ4: F | PL4: S | PM4: S | PN4: M | PP4: T | PR4: W | PT4: T | PV4: F | PX4: S | PY4: S | PZ4: M | QB4: T | QC4: W | QE4: T | QG4: F | QI4: S | QJ4: S | QK4: M
A5: Ressources Availibility > | B5: M3 | M5: Cecile | AX5: V | AY5: V | BA5: V | BB5: V | BD5: V | BE5: V | DJ5: ? | DK5: ? | GZ5: V? | HA5: V? | HB5: V? | HC5: V? | HD5: V? | HE5: V? | HH5: V? | HI5: V? | HJ5: V? | HK5: V? | HM5: V? | HN5: V? | HO5: V? | HP5: V? | HS5: V? | HT5: V? | HU5: V? | HV5: V? | HW5: V? | HX5: V? | HY5: V? | HZ5: V? | IA5: V? | IB5: V?
B6: M200 | M6: Jerome | AM6: V | AN6: V | AP6: V | AQ6: V | AR6: V | AS6: V | AT6: V | AU6: V | DJ6: ? | DK6: ? | EZ6: V | FA6: V | FB6: V | FC6: V | FD6: V | FE6: V | FF6: V | FG6: V | FH6: V | FI6: V | HS6: V | HT6: V | HU6: V | HV6: V | HW6: V | HX6: V | HY6: V | HZ6: V | IA6: V | IB6: V | IE6: V | IF6: V | IG6: V | IH6: V | II6: V | IJ6: V | IK6: V | IL6: V | IM6: V | IN6: V
B7: M500 | M7: Quentin
M8: Benedikt
A10: From | B10: Customer | C10: Requ. Type | D10: Where ? | E10: Who ? | F10: Langage | G10: Translator | H10: Start | I10: Start morning or afternoon ? | J10: How long ? | K10: State | L10: Comment
B11: Hydroservice | C11: FM+FX | D11: On site | E11: Quentin | F11: Slovekian | G11: Yes | H11: 43217 | I11: Morning | J11: 5 | K11: Confirmed
A12: A | B12: Azul Acosa | C12: FX | D12: FTC | E12: Jerome | F12: Spanish | G12: Yes | K12: Confirmed | Z12: M500 | AA12: M500 | AB12: M500 | AC12: M500 | AD12: M500 | AE12: M500
A13: C | B13: Bernarzolli | C13: FM+FX | D13: FTC | E13: Jerome | F13: Italian | G13: Yes | K13: Confirmed | BI13: M500 | BJ13: M500 | BK13: M500 | BL13: M500 | BM13: M500 | BN13: M500 | BO13: M500 | BP13: M500
A14: F | B14: Keller | C14: FM+FX | D14: FTC | E14: Benedikt | F14: German | G14: No | K14: Invited | BU14: M500 | BV14: M500 | BW14: M500 | BX14: M500 | BY14: M500 | BZ14: M500 | CA14: M500 | CB14: M500
A15: F | B15: Govert | C15: FX | D15: FTC | E15: Benedikt | F15: German | G15: No | K15: Confirmed | CF15: M500 | CG15: M500 | CH15: M500 | CI15: M500 | CJ15: M500 | CK15: M500
A16: K. Pleva | B16: Nicro | C16: FM+FX | D16: FTC | E16: Jerome | F16: English or Croatian | G16: ? | K16: Invited | L16: English or Croatian | CR16: M500 | CS16: M500 | CT16: M500 | CU16: M500 | CV16: M500 | CW16: M500 | CX16: M500 | CY16: M500 | CZ16: M500

Sheet Liste déroulante
B2: Where | C2: From | D2: Request type | E2: Trainer | F2: State | G2: Start morning or afternoon ? | H2: Machine ? | L2: N° day | M2: Day | O2: N° month | P2: Month
B3: FTC | C3: A | D3: FM | E3: Benedikt | F3: To schedule | G3: AM | H3: M3 | L3: 1 | M3: M | O3: 1 | P3: JANUARY
B4: On site | C4: B | D4: FX | E4: Cecile | F4: To be invited | G4: PM | H4: M200 | L4: 2 | M4: T | O4: 2 | P4: FEBRUARY
C5: C | D5: FM+FX | E5: Jerome | F5: Invited | H5: M500 | L5: 3 | M5: W | O5: 3 | P5: MARCH
C6: D | D6: FM+Pump | E6: Quentin | F6: Confirmed | L6: 4 | M6: T | O6: 4 | P6: APRIL
C7: E | D7: FX+Pump | E7: FSE | F7: Done | L7: 5 | M7: F | O7: 5 | P7: MAY
C8: F | D8: FM+FX+Pump | F8: Left | L8: 6 | M8: S | O8: 6 | P8: JUNE
C9: G | D9: Other | L9: 7 | M9: S | O9: 7 | P9: JULY
C10: H | D10: Holidays | O10: 8 | P10: AUGUST
C11: I | O11: 9 | P11: SEPTEMBER
C12: J | O12: 10 | P12: OCTOBER
C13: K | O13: 11 | P13: NOVEMBER
C14: L | O14: 12 | P14: DECEMBER
C15: A
C16: M
C17: N
C18: O

Sheet 2- FTC Schedule '18
A1: FTC Schedule '18 | O1: April | AO1: May | CN1: June | EM1: July | GN1: August | IO1: September | KM1: October | MO1: November | ON1: December
O2: W16 | AA2: W17 | AM2: W18 | AX2: W19 | BH2: W20 | BT2: W21 | CF2: W22 | CR2: W23 | DD2: W24 | DP2: W25 | EB2: W26 | EN2: W27 | EZ2: W28 | FL2: W29 | FX2: W30 | GJ2: W31 | GV2: W32 | HH2: W33 | HS2: W34 | IE2: W35 | IQ2: W36 | JC2: W37 | JO2: W38 | KA2: W39 | KM2: W40 | KY2: W41 | LK2: W42 | LW2: W43 | MI2: W44 | MT2: W45 | NF2: W46 | NR2: W47 | OD2: W48 | OP2: W49 | PB2: W50 | PN2: W51 | PZ2: W52
O3: 16 | Q3: 17 | S3: 18 | U3: 19 | W3: 20 | Y3: 21 | Z3: 22 | AA3: 23 | AC3: 24 | AE3: 25 | AG3: 26 | AI3: 27 | AK3: 28 | AL3: 29 | AM3: 30 | AO3: 1 | AP3: 2 | AR3: 3 | AT3: 4 | AV3: 5 | AW3: 6 | AX3: 7 | AZ3: 8 | BA3: 9 | BC3: 10 | BD3: 11 | BF3: 12 | BG3: 13 | BH3: 14 | BJ3: 15 | BL3: 16 | BN3: 17 | BP3: 18 | BR3: 19 | BS3: 20 | BT3: 21 | BV3: 22 | BX3: 23 | BZ3: 24 | CB3: 25 | CD3: 26 | CE3: 27 | CF3: 28 | CH3: 29 | CJ3: 30 | CL3: 31 | CN3: 1 | CP3: 2 | CQ3: 3 | CR3: 4 | CT3: 5 | CV3: 6 | CX3: 7 | CZ3: 8 | DB3: 9 | DC3: 10 | DD3: 11 | DF3: 12 | DH3: 13 | DJ3: 14 | DL3: 15 | DN3: 16 | DO3: 17 | DP3: 18 | DR3: 19 | DT3: 20 | DV3: 21 | DX3: 22 | DZ3: 23 | EA3: 24 | EB3: 25 | ED3: 26 | EF3: 27 | EH3: 28 | EJ3: 29 | EL3: 30 | EM3: 1 | EN3: 2 | EP3: 3 | ER3: 4 | ET3: 5 | EV3: 6 | EX3: 7 | EY3: 8 | EZ3: 9 | FB3: 10 | FD3: 11 | FF3: 12 | FH3: 13 | FJ3: 14 | FK3: 15 | FL3: 16 | FN3: 17 | FP3: 18 | FR3: 19 | FT3: 20 | FV3: 21 | FW3: 22 | FX3: 23 | FZ3: 24 | GB3: 25 | GD3: 26 | GF3: 27 | GH3: 28 | GI3: 29 | GJ3: 30 | GL3: 31 | GN3: 1 | GP3: 2 | GR3: 3 | GT3: 4 | GU3: 5 | GV3: 6 | GX3: 7 | GZ3: 8 | HB3: 9 | HD3: 10 | HF3: 11 | HG3: 12 | HH3: 13 | HJ3: 14 | HL3: 15 | HM3: 16 | HO3: 17 | HQ3: 18 | HR3: 19 | HS3: 20 | HU3: 21 | HW3: 22 | HY3: 23 | IA3: 24 | IC3: 25 | ID3: 26 | IE3: 27 | IG3: 28 | II3: 29 | IK3: 30 | IM3: 31 | IO3: 1 | IP3: 2 | IQ3: 3 | IS3: 4 | IU3: 5 | IW3: 6 | IY3: 7 | JA3: 8 | JB3: 9 | JC3: 10 | JE3: 11 | JG3: 12 | JI3: 13 | JK3: 14 | JM3: 15 | JN3: 16 | JO3: 17 | JQ3: 18 | JS3: 19 | JU3: 20 | JW3: 21 | JY3: 22 | JZ3: 23 | KA3: 24 | KC3: 25 | KE3: 26 | KG3: 27 | KI3: 28 | KK3: 29 | KL3: 30 | KM3: 1 | KO3: 2 | KQ3: 3 | KS3: 4 | KU3: 5 | KW3: 6 | KX3: 7 | KY3: 8 | LA3: 9 | LC3: 10 | LE3: 11 | LG3: 12 | LI3: 13 | LJ3: 14 | LK3: 15 | LM3: 16 | LO3: 17 | LQ3: 18 | LS3: 19 | LU3: 20 | LV3: 21 | LW3: 22 | LY3: 23 | MA3: 24 | MC3: 25 | ME3: 26 | MG3: 27 | MH3: 28 | MI3: 29 | MK3: 30 | MM3: 31 | MO3: 1 | MP3: 2 | MR3: 3 | MS3: 4 | MT3: 5 | MV3: 6 | MX3: 7 | MZ3: 8 | NB3: 9 | ND3: 10 | NE3: 11 | NF3: 12 | NH3: 13 | NJ3: 14 | NL3: 15 | NN3: 16 | NP3: 17 | NQ3: 18 | NR3: 19 | NT3: 20 | NV3: 21 | NX3: 22 | NZ3: 23 | OB3: 24 | OC3: 25 | OD3: 26 | OF3: 27 | OH3: 28 | OJ3: 29 | OL3: 30 | ON3: 1 | OO3: 2 | OP3: 3 | OR3: 4 | OT3: 5 | OV3: 6 | OX3: 7 | OZ3: 8 | PA3: 9 | PB3: 10 | PD3: 11 | PF3: 12 | PH3: 13 | PJ3: 14 | PL3: 15 | PM3: 16 | PN3: 17 | PP3: 18 | PR3: 19 | PT3: 20 | PV3: 21 | PX3: 22 | PY3: 23 | PZ3: 24 | QB3: 25 | QC3: 26 | QE3: 27 | QG3: 28 | QI3: 29 | QJ3: 30 | QK3: 31
O4: M | Q4: T | S4: W | U4: T | W4: F | Y4: S | Z4: S | AA4: M | AC4: T | AE4: W | AG4: T | AI4: F | AK4: S | AL4: S | AM4: M | AO4: T | AP4: W | AR4: T | AT4: F | AV4: S | AW4: S | AX4: M | AZ4: T | BA4: W | BC4: T | BD4: F | BF4: S | BG4: S | BH4: M | BJ4: T | BL4: W | BN4: T | BP4: F | BR4: S | BS4: S | BT4: M | BV4: T | BX4: W | BZ4: T | CB4: F | CD4: S | CE4: S | CF4: M | CH4: T | CJ4: W | CL4: T | CN4: F | CP4: S | CQ4: S | CR4: M | CT4: T | CV4: W | CX4: T | CZ4: F | DB4: S | DC4: S | DD4: M | DF4: T | DH4: W | DJ4: T | DL4: F | DN4: S | DO4: S | DP4: M | DR4: T | DT4: W | DV4: T | DX4: F | DZ4: S | EA4: S | EB4: M | ED4: T | EF4: W | EH4: T | EJ4: F | EL4: S | EM4: S | EN4: M | EP4: T | ER4: W | ET4: T | EV4: F | EX4: S | EY4: S | EZ4: M | FB4: T | FD4: W | FF4: T | FH4: F | FJ4: S | FK4: S | FL4: M | FN4: T | FP4: W | FR4: T | FT4: F | FV4: S | FW4: S | FX4: M | FZ4: T | GB4: W | GD4: T | GF4: F | GH4: S | GI4: S | GJ4: M | GL4: T | GN4: W | GP4: T | GR4: F | GT4: S | GU4: S | GV4: M | GX4: T | GZ4: W | HB4: T | HD4: F | HF4: S | HG4: S | HH4: M | HJ4: T | HL4: W | HM4: T | HO4: F | HQ4: S | HR4: S | HS4: M | HU4: T | HW4: W | HY4: T | IA4: F | IC4: S | ID4: S | IE4: M | IG4: T | II4: W | IK4: T | IM4: F | IO4: S | IP4: S | IQ4: M | IS4: T | IU4: W | IW4: T | IY4: F | JA4: S | JB4: S | JC4: M | JE4: T | JG4: W | JI4: T | JK4: F | JM4: S | JN4: S | JO4: M | JQ4: T | JS4: W | JU4: T | JW4: F | JY4: S | JZ4: S | KA4: M | KC4: T | KE4: W | KG4: T | KI4: F | KK4: S | KL4: S | KM4: M | KO4: T | KQ4: W | KS4: T | KU4: F | KW4: S | KX4: S | KY4: M | LA4: T | LC4: W | LE4: T | LG4: F | LI4: S | LJ4: S | LK4: M | LM4: T | LO4: W | LQ4: T | LS4: F | LU4: S | LV4: S | LW4: M | LY4: T | MA4: W | MC4: T | ME4: F | MG4: S | MH4: S | MI4: M | MK4: T | MM4: W | MO4: T | MP4: F | MR4: S | MS4: S | MT4: M | MV4: T | MX4: W | MZ4: T | NB4: F | ND4: S | NE4: S | NF4: M | NH4: T | NJ4: W | NL4: T | NN4: F | NP4: S | NQ4: S | NR4: M | NT4: T | NV4: W | NX4: T | NZ4: F | OB4: S | OC4: S | OD4: M | OF4: T | OH4: W | OJ4: T | OL4: F | ON4: S | OO4: S | OP4: M | OR4: T | OT4: W | OV4: T | OX4: F | OZ4: S | PA4: S | PB4: M | PD4: T | PF4: W | PH4: T | PJ4: F | PL4: S | PM4: S | PN4: M | PP4: T | PR4: W | PT4: T | PV4: F | PX4: S | PY4: S | PZ4: M | QB4: T | QC4: W | QE4: T | QG4: F | QI4: S | QJ4: S | QK4: M
A5: Ressources Availibility > | B5: M3 | M5: Cecile | AX5: V | AY5: V | BA5: V | BB5: V | BD5: V | BE5: V | DJ5: ? | DK5: ? | GZ5: V? | HA5: V? | HB5: V? | HC5: V? | HD5: V? | HE5: V? | HH5: V? | HI5: V? | HJ5: V? | HK5: V? | HM5: V? | HN5: V? | HO5: V? | HP5: V? | HS5: V? | HT5: V? | HU5: V? | HV5: V? | HW5: V? | HX5: V? | HY5: V? | HZ5: V? | IA5: V? | IB5: V?
B6: M200 | M6: Jerome | AM6: V | AN6: V | AP6: V | AQ6: V | AR6: V | AS6: V | AT6: V | AU6: V | DJ6: ? | DK6: ? | EZ6: V | FA6: V | FB6: V | FC6: V | FD6: V | FE6: V | FF6: V | FG6: V | FH6: V | FI6: V | HS6: V | HT6: V | HU6: V | HV6: V | HW6: V | HX6: V | HY6: V | HZ6: V | IA6: V | IB6: V | IE6: V | IF6: V | IG6: V | IH6: V | II6: V | IJ6: V | IK6: V | IL6: V | IM6: V | IN6: V
B7: M500 | M7: Quentin
M8: Benedikt
A10: From | B10: Customer | C10: Requ. Type | D10: Where ? | E10: Who ? | F10: Langage | G10: Translator | H10: Start | I10: Start morning or afternoon ? | J10: How long ? | K10: State | L10: Comment
B11: Hydroservice | C11: FM+FX | D11: On site | E11: Quentin | F11: Slovekian | G11: Yes | H11: 43217 | I11: Morning | J11: 5 | K11: Confirmed
A12: A | B12: Azul Acosa | C12: FX | D12: FTC | E12: Jerome | F12: Spanish | G12: Yes | K12: Confirmed | Z12: M500 | AA12: M500 | AB12: M500 | AC12: M500 | AD12: M500 | AE12: M500
A13: C | B13: Bernarzolli | C13: FM+FX | D13: FTC | E13: Jerome | F13: Italian | G13: Yes | K13: Confirmed | BI13: M500 | BJ13: M500 | BK13: M500 | BL13: M500 | BM13: M500 | BN13: M500 | BO13: M500 | BP13: M500
A14: F | B14: Keller | C14: FM+FX | D14: FTC | E14: Benedikt | F14: German | G14: No | K14: Invited | BU14: M500 | BV14: M500 | BW14: M500 | BX14: M500 | BY14: M500 | BZ14: M500 | CA14: M500 | CB14: M500
A15: F | B15: Govert | C15: FX | D15: FTC | E15: Benedikt | F15: German | G15: No | K15: Confirmed | CF15: M500 | CG15: M500 | CH15: M500 | CI15: M500 | CJ15: M500 | CK15: M500
A16: K. Pleva | B16: Nicro | C16: FM+FX | D16: FTC | E16: Jerome | F16: English or Croatian | G16: ? | K16: Invited | L16: English or Croatian | CR16: M500 | CS16: M500 | CT16: M500 | CU16: M500 | CV16: M500 | CW16: M500 | CX16: M500 | CY16: M500 | CZ16: M500

Sheet Liste déroulante 2
B2: Where | C2: From | D2: Request type | E2: Trainer | F2: State | G2: Start morning or afternoon ? | H2: Machine ? | L2: N° day | M2: Day | O2: N° month | P2: Month
B3: FTC | C3: A | D3: FM | E3: Benedikt | F3: To schedule | G3: AM | H3: M3 | L3: 1 | M3: M | O3: 1 | P3: JANUARY
B4: On site | C4: B | D4: FX | E4: Cecile | F4: To be invited | G4: PM | H4: M200 | L4: 2 | M4: T | O4: 2 | P4: FEBRUARY
C5: C | D5: FM+FX | E5: Jerome | F5: Invited | H5: M500 | L5: 3 | M5: W | O5: 3 | P5: MARCH
C6: D | D6: FM+Pump | E6: Quentin | F6: Confirmed | L6: 4 | M6: T | O6: 4 | P6: APRIL
C7: E | D7: FX+Pump | E7: FSE | F7: Done | L7: 5 | M7: F | O7: 5 | P7: MAY
C8: F | D8: FM+FX+Pump | F8: Left | L8: 6 | M8: S | O8: 6 | P8: JUNE
C9: G | D9: Other | L9: 7 | M9: S | O9: 7 | P9: JULY
C10: H | D10: Holidays | O10: 8 | P10: AUGUST
C11: I | O11: 9 | P11: SEPTEMBER
C12: J | O12: 10 | P12: OCTOBER
C13: K | O13: 11 | P13: NOVEMBER
C14: L | O14: 12 | P14: DECEMBER
C15: A
C16: M
C17: N
C18: O
