Workbook

Sheet Résultats
A1: Date | B1: Mois | C1: Prévision | D1: Résultat attendu
A2: 44197 | B2: =MONTH(A2) -> 1 | C2: =IF(Résultats!A2<Table!$B$17,VLOOKUP(B2,Table!$A$2:$B$13,2,FALSE)-IF(AND(B2>3,B2<11),0.012,0.015),VLOOKUP(Résultats!B2,Table!$A$2:$B$13,2,FALSE)) -> 0.833 | D2: 0.833
A3: 44228 | B3: =MONTH(A3) -> 2 | C3: =IF(Résultats!A3<Table!$B$17,VLOOKUP(B3,Table!$A$2:$B$13,2,FALSE)-IF(AND(B3>3,B3<11),0.012,0.015),VLOOKUP(Résultats!B3,Table!$A$2:$B$13,2,FALSE)) -> 0.835 | D3: 0.835
A4: 44256 | B4: =MONTH(A4) -> 3 | C4: =IF(Résultats!A4<Table!$B$17,VLOOKUP(B4,Table!$A$2:$B$13,2,FALSE)-IF(AND(B4>3,B4<11),0.012,0.015),VLOOKUP(Résultats!B4,Table!$A$2:$B$13,2,FALSE)) -> 0.82933333 | D4: 0.82933333
A5: 44287 | B5: =MONTH(A5) -> 4 | C5: =IF(Résultats!A5<Table!$B$17,VLOOKUP(B5,Table!$A$2:$B$13,2,FALSE)-IF(AND(B5>3,B5<11),0.012,0.015),VLOOKUP(Résultats!B5,Table!$A$2:$B$13,2,FALSE)) -> 0.83533333 | D5: 0.83533333
A6: 44317 | B6: =MONTH(A6) -> 5 | C6: =IF(Résultats!A6<Table!$B$17,VLOOKUP(B6,Table!$A$2:$B$13,2,FALSE)-IF(AND(B6>3,B6<11),0.012,0.015),VLOOKUP(Résultats!B6,Table!$A$2:$B$13,2,FALSE)) -> 0.83166667 | D6: 0.83166667
A7: 44348 | B7: =MONTH(A7) -> 6 | C7: =IF(Résultats!A7<Table!$B$17,VLOOKUP(B7,Table!$A$2:$B$13,2,FALSE)-IF(AND(B7>3,B7<11),0.012,0.015),VLOOKUP(Résultats!B7,Table!$A$2:$B$13,2,FALSE)) -> 0.829 | D7: 0.829
A8: 44378 | B8: =MONTH(A8) -> 7 | C8: =IF(Résultats!A8<Table!$B$17,VLOOKUP(B8,Table!$A$2:$B$13,2,FALSE)-IF(AND(B8>3,B8<11),0.012,0.015),VLOOKUP(Résultats!B8,Table!$A$2:$B$13,2,FALSE)) -> 0.827 | D8: 0.827
A9: 44409 | B9: =MONTH(A9) -> 8 | C9: =IF(Résultats!A9<Table!$B$17,VLOOKUP(B9,Table!$A$2:$B$13,2,FALSE)-IF(AND(B9>3,B9<11),0.012,0.015),VLOOKUP(Résultats!B9,Table!$A$2:$B$13,2,FALSE)) -> 0.826 | D9: 0.826
A10: 44440 | B10: =MONTH(A10) -> 9 | C10: =IF(Résultats!A10<Table!$B$17,VLOOKUP(B10,Table!$A$2:$B$13,2,FALSE)-IF(AND(B10>3,B10<11),0.012,0.015),VLOOKUP(Résultats!B10,Table!$A$2:$B$13,2,FALSE)) -> 0.83166667 | D10: 0.83166667
A11: 44470 | B11: =MONTH(A11) -> 10 | C11: =IF(Résultats!A11<Table!$B$17,VLOOKUP(B11,Table!$A$2:$B$13,2,FALSE)-IF(AND(B11>3,B11<11),0.012,0.015),VLOOKUP(Résultats!B11,Table!$A$2:$B$13,2,FALSE)) -> 0.83933333 | D11: 0.83933333
A12: 44501 | B12: =MONTH(A12) -> 11 | C12: =IF(Résultats!A12<Table!$B$17,VLOOKUP(B12,Table!$A$2:$B$13,2,FALSE)-IF(AND(B12>3,B12<11),0.012,0.015),VLOOKUP(Résultats!B12,Table!$A$2:$B$13,2,FALSE)) -> 0.837 | D12: 0.837
A13: 44531 | B13: =MONTH(A13) -> 12 | C13: =IF(Résultats!A13<Table!$B$17,VLOOKUP(B13,Table!$A$2:$B$13,2,FALSE)-IF(AND(B13>3,B13<11),0.012,0.015),VLOOKUP(Résultats!B13,Table!$A$2:$B$13,2,FALSE)) -> 0.83933333 | D13: 0.83933333
... A15: 44593 | B15: =MONTH(A15) -> 2 | C15: =IF(Résultats!A15<Table!$B$17,VLOOKUP(B15,Table!$A$2:$B$13,2,FALSE)-IF(AND(B15>3,B15<11),0.012,0.015),VLOOKUP(Résultats!B15,Table!$A$2:$B$13,2,FALSE)) -> 0.835 | D15: 0.835
A16: 44621 | B16: =MONTH(A16) -> 3 | C16: =IF(Résultats!A16<Table!$B$17,VLOOKUP(B16,Table!$A$2:$B$13,2,FALSE)-IF(AND(B16>3,B16<11),0.012,0.015),VLOOKUP(Résultats!B16,Table!$A$2:$B$13,2,FALSE)) -> 0.84433333 | D16: =IF(Résultats!A16<Table!$B$17,VLOOKUP(B16,Table!$A$2:$B$13,2,FALSE)-IF(AND(B16>3,B16<11),0.012,0.015),VLOOKUP(Résultats!B16,Table!$A$2:$B$13,2,FALSE)-IF(AND(B16>3,B16<11),0.012*((Table!$B$18-1)/Table!$B$18),0.015*((Table!$B$18-1)/Table!$B$18))) -> 0.83233333 | E16: Date renseignée sur l'onglet table | F16: 4/5 de l'effet
A17: 44652 | B17: =MONTH(A17) -> 4 | C17: =IF(Résultats!A17<Table!$B$17,VLOOKUP(B17,Table!$A$2:$B$13,2,FALSE)-IF(AND(B17>3,B17<11),0.012,0.015),VLOOKUP(Résultats!B17,Table!$A$2:$B$13,2,FALSE)) -> 0.84733333 | D17: =IF(Résultats!A17<Table!$B$17,VLOOKUP(B17,Table!$A$2:$B$13,2,FALSE)-IF(AND(B17>3,B17<11),0.012,0.015),VLOOKUP(Résultats!B17,Table!$A$2:$B$13,2,FALSE)-IF(AND(B17>3,B17<11),0.012*((Table!$B$18-2)/Table!$B$18),0.015*((Table!$B$18-2)/Table!$B$18))) -> 0.84013333 | F17: 3/5 de l'effet
A18: 44682 | B18: =MONTH(A18) -> 5 | C18: =IF(Résultats!A18<Table!$B$17,VLOOKUP(B18,Table!$A$2:$B$13,2,FALSE)-IF(AND(B18>3,B18<11),0.012,0.015),VLOOKUP(Résultats!B18,Table!$A$2:$B$13,2,FALSE)) -> 0.84366667 | D18: =IF(Résultats!A18<Table!$B$17,VLOOKUP(B18,Table!$A$2:$B$13,2,FALSE)-IF(AND(B18>3,B18<11),0.012,0.015),VLOOKUP(Résultats!B18,Table!$A$2:$B$13,2,FALSE)-IF(AND(B18>3,B18<11),0.012*((Table!$B$18-3)/Table!$B$18),0.015*((Table!$B$18-3)/Table!$B$18))) -> 0.83886667 | F18: 2/5 de l'effet
A19: 44713 | B19: =MONTH(A19) -> 6 | C19: =IF(Résultats!A19<Table!$B$17,VLOOKUP(B19,Table!$A$2:$B$13,2,FALSE)-IF(AND(B19>3,B19<11),0.012,0.015),VLOOKUP(Résultats!B19,Table!$A$2:$B$13,2,FALSE)) -> 0.841 | D19: =IF(Résultats!A19<Table!$B$17,VLOOKUP(B19,Table!$A$2:$B$13,2,FALSE)-IF(AND(B19>3,B19<11),0.012,0.015),VLOOKUP(Résultats!B19,Table!$A$2:$B$13,2,FALSE)-IF(AND(B19>3,B19<11),0.012*((Table!$B$18-4)/Table!$B$18),0.015*((Table!$B$18-4)/Table!$B$18))) -> 0.8386 | F19: 1/5 de l'effet
A20: 44743 | B20: =MONTH(A20) -> 7 | C20: =IF(Résultats!A20<Table!$B$17,VLOOKUP(B20,Table!$A$2:$B$13,2,FALSE)-IF(AND(B20>3,B20<11),0.012,0.015),VLOOKUP(Résultats!B20,Table!$A$2:$B$13,2,FALSE)) -> 0.839 | D20: =IF(Résultats!A20<Table!$B$17,VLOOKUP(B20,Table!$A$2:$B$13,2,FALSE)-IF(AND(B20>3,B20<11),0.012,0.015),VLOOKUP(Résultats!B20,Table!$A$2:$B$13,2,FALSE)-IF(AND(B20>3,B20<11),0.012*((Table!$B$18-5)/Table!$B$18),0.015*((Table!$B$18-5)/Table!$B$18))) -> 0.839 | F20: plus d'effet
A21: 44774 | B21: =MONTH(A21) -> 8 | C21: =IF(Résultats!A21<Table!$B$17,VLOOKUP(B21,Table!$A$2:$B$13,2,FALSE)-IF(AND(B21>3,B21<11),0.012,0.015),VLOOKUP(Résultats!B21,Table!$A$2:$B$13,2,FALSE)) -> 0.838 | D21: =IF(Résultats!A21<Table!$B$17,VLOOKUP(B21,Table!$A$2:$B$13,2,FALSE)-IF(AND(B21>3,B21<11),0.012,0.015),VLOOKUP(Résultats!B21,Table!$A$2:$B$13,2,FALSE)) -> 0.838
A22: 44805 | B22: =MONTH(A22) -> 9 | C22: =IF(Résultats!A22<Table!$B$17,VLOOKUP(B22,Table!$A$2:$B$13,2,FALSE)-IF(AND(B22>3,B22<11),0.012,0.015),VLOOKUP(Résultats!B22,Table!$A$2:$B$13,2,FALSE)) -> 0.84366667 | D22: =IF(Résultats!A22<Table!$B$17,VLOOKUP(B22,Table!$A$2:$B$13,2,FALSE)-IF(AND(B22>3,B22<11),0.012,0.015),VLOOKUP(Résultats!B22,Table!$A$2:$B$13,2,FALSE)) -> 0.84366667
A23: 44835 | B23: =MONTH(A23) -> 10 | C23: =IF(Résultats!A23<Table!$B$17,VLOOKUP(B23,Table!$A$2:$B$13,2,FALSE)-IF(AND(B23>3,B23<11),0.012,0.015),VLOOKUP(Résultats!B23,Table!$A$2:$B$13,2,FALSE)) -> 0.85133333 | D23: =IF(Résultats!A23<Table!$B$17,VLOOKUP(B23,Table!$A$2:$B$13,2,FALSE)-IF(AND(B23>3,B23<11),0.012,0.015),VLOOKUP(Résultats!B23,Table!$A$2:$B$13,2,FALSE)) -> 0.85133333
A24: 44866 | B24: =MONTH(A24) -> 11 | C24: =IF(Résultats!A24<Table!$B$17,VLOOKUP(B24,Table!$A$2:$B$13,2,FALSE)-IF(AND(B24>3,B24<11),0.012,0.015),VLOOKUP(Résultats!B24,Table!$A$2:$B$13,2,FALSE)) -> 0.852 | D24: =IF(Résultats!A24<Table!$B$17,VLOOKUP(B24,Table!$A$2:$B$13,2,FALSE)-IF(AND(B24>3,B24<11),0.012,0.015),VLOOKUP(Résultats!B24,Table!$A$2:$B$13,2,FALSE)) -> 0.852
A25: 44896 | B25: =MONTH(A25) -> 12 | C25: =IF(Résultats!A25<Table!$B$17,VLOOKUP(B25,Table!$A$2:$B$13,2,FALSE)-IF(AND(B25>3,B25<11),0.012,0.015),VLOOKUP(Résultats!B25,Table!$A$2:$B$13,2,FALSE)) -> 0.85433333 | D25: =IF(Résultats!A25<Table!$B$17,VLOOKUP(B25,Table!$A$2:$B$13,2,FALSE)-IF(AND(B25>3,B25<11),0.012,0.015),VLOOKUP(Résultats!B25,Table!$A$2:$B$13,2,FALSE)) -> 0.85433333
A26: 44927 | B26: =MONTH(A26) -> 1 | C26: =IF(Résultats!A26<Table!$B$17,VLOOKUP(B26,Table!$A$2:$B$13,2,FALSE)-IF(AND(B26>3,B26<11),0.012,0.015),VLOOKUP(Résultats!B26,Table!$A$2:$B$13,2,FALSE)) -> 0.848 | D26: =IF(Résultats!A26<Table!$B$17,VLOOKUP(B26,Table!$A$2:$B$13,2,FALSE)-IF(AND(B26>3,B26<11),0.012,0.015),VLOOKUP(Résultats!B26,Table!$A$2:$B$13,2,FALSE)) -> 0.848
A27: 44958 | B27: =MONTH(A27) -> 2 | C27: =IF(Résultats!A27<Table!$B$17,VLOOKUP(B27,Table!$A$2:$B$13,2,FALSE)-IF(AND(B27>3,B27<11),0.012,0.015),VLOOKUP(Résultats!B27,Table!$A$2:$B$13,2,FALSE)) -> 0.85 | D27: =IF(Résultats!A27<Table!$B$17,VLOOKUP(B27,Table!$A$2:$B$13,2,FALSE)-IF(AND(B27>3,B27<11),0.012,0.015),VLOOKUP(Résultats!B27,Table!$A$2:$B$13,2,FALSE)) -> 0.85
A28: 44986 | B28: =MONTH(A28) -> 3 | C28: =IF(Résultats!A28<Table!$B$17,VLOOKUP(B28,Table!$A$2:$B$13,2,FALSE)-IF(AND(B28>3,B28<11),0.012,0.015),VLOOKUP(Résultats!B28,Table!$A$2:$B$13,2,FALSE)) -> 0.84433333 | D28: =IF(Résultats!A28<Table!$B$17,VLOOKUP(B28,Table!$A$2:$B$13,2,FALSE)-IF(AND(B28>3,B28<11),0.012,0.015),VLOOKUP(Résultats!B28,Table!$A$2:$B$13,2,FALSE)) -> 0.84433333
A29: 45017 | B29: =MONTH(A29) -> 4 | C29: =IF(Résultats!A29<Table!$B$17,VLOOKUP(B29,Table!$A$2:$B$13,2,FALSE)-IF(AND(B29>3,B29<11),0.012,0.015),VLOOKUP(Résultats!B29,Table!$A$2:$B$13,2,FALSE)) -> 0.84733333 | D29: =IF(Résultats!A29<Table!$B$17,VLOOKUP(B29,Table!$A$2:$B$13,2,FALSE)-IF(AND(B29>3,B29<11),0.012,0.015),VLOOKUP(Résultats!B29,Table!$A$2:$B$13,2,FALSE)) -> 0.84733333
A30: 45047 | B30: =MONTH(A30) -> 5 | C30: =IF(Résultats!A30<Table!$B$17,VLOOKUP(B30,Table!$A$2:$B$13,2,FALSE)-IF(AND(B30>3,B30<11),0.012,0.015),VLOOKUP(Résultats!B30,Table!$A$2:$B$13,2,FALSE)) -> 0.84366667 | D30: =IF(Résultats!A30<Table!$B$17,VLOOKUP(B30,Table!$A$2:$B$13,2,FALSE)-IF(AND(B30>3,B30<11),0.012,0.015),VLOOKUP(Résultats!B30,Table!$A$2:$B$13,2,FALSE)) -> 0.84366667
A31: 45078 | B31: =MONTH(A31) -> 6 | C31: =IF(Résultats!A31<Table!$B$17,VLOOKUP(B31,Table!$A$2:$B$13,2,FALSE)-IF(AND(B31>3,B31<11),0.012,0.015),VLOOKUP(Résultats!B31,Table!$A$2:$B$13,2,FALSE)) -> 0.841 | D31: =IF(Résultats!A31<Table!$B$17,VLOOKUP(B31,Table!$A$2:$B$13,2,FALSE)-IF(AND(B31>3,B31<11),0.012,0.015),VLOOKUP(Résultats!B31,Table!$A$2:$B$13,2,FALSE)) -> 0.841
A32: 45108 | B32: =MONTH(A32) -> 7 | C32: =IF(Résultats!A32<Table!$B$17,VLOOKUP(B32,Table!$A$2:$B$13,2,FALSE)-IF(AND(B32>3,B32<11),0.012,0.015),VLOOKUP(Résultats!B32,Table!$A$2:$B$13,2,FALSE)) -> 0.839 | D32: =IF(Résultats!A32<Table!$B$17,VLOOKUP(B32,Table!$A$2:$B$13,2,FALSE)-IF(AND(B32>3,B32<11),0.012,0.015),VLOOKUP(Résultats!B32,Table!$A$2:$B$13,2,FALSE)) -> 0.839
... A37: 45261 | B37: =MONTH(A37) -> 12 | C37: =IF(Résultats!A37<Table!$B$17,VLOOKUP(B37,Table!$A$2:$B$13,2,FALSE)-IF(AND(B37>3,B37<11),0.012,0.015),VLOOKUP(Résultats!B37,Table!$A$2:$B$13,2,FALSE)) -> 0.85433333 | D37: =IF(Résultats!A37<Table!$B$17,VLOOKUP(B37,Table!$A$2:$B$13,2,FALSE)-IF(AND(B37>3,B37<11),0.012,0.015),VLOOKUP(Résultats!B37,Table!$A$2:$B$13,2,FALSE)) -> 0.85433333

Sheet Table
A1: Mois | B1: Point de départ
A2: 1 | B2: 0.848
A3: 2 | B3: 0.85
A4: 3 | B4: 0.84433333
A5: 4 | B5: 0.84733333
A6: 5 | B6: 0.84366667
A7: 6 | B7: 0.841
A8: 7 | B8: 0.839
A9: 8 | B9: 0.838
A10: 9 | B10: 0.84366667
A11: 10 | B11: 0.85133333
A12: 11 | B12: 0.852
A13: 12 | B13: 0.85433333
A17: Date de début | B17: 44621
A18: Nombre de mois | B18: 5
