Workbook

Sheet 01
A1: PRESENCE DES RESIDENTS ET REPAS POUR FACTURATION
A2: RESIDENT | E2: ABSENCES
A3: SEMAINE 01 | E3: 01 JANVIER AU 07 JANVIER 2018
C4: LUNDI 01 | F4: MARDI 02 | I4: MERCREDI 03 | L4: JEUDI 04 | O4: VENDREDI 05 | R4: SAMEDI 06 | U4: DIMANCHE 07 | X4: PRESENCES A FACTURER | Y4: REPAS A FACTURER
A5: Régime : | C5: M | D5: M | E5: S | F5: M | G5: M | H5: S | I5: M | J5: M | K5: S | L5: M | M5: M | N5: S | O5: M | P5: M | Q5: S | R5: M | S5: M | T5: S | U5: M | V5: M | W5: S
A6: Internat | B6: Résident 1 | C6: A | D6: A | E6: A | F6: A | G6: P | H6: P | I6: P | J6: P | K6: P | L6: P | M6: P | N6: P | O6: P | P6: P | Q6: P | R6: P | S6: A | T6: A | U6: A | V6: A | W6: A
A7: Internat | B7: Résident 2 | C7: P | D7: P | E7: P | F7: P | G7: P | H7: P | I7: P | J7: P | K7: P | L7: P | M7: P | N7: P | O7: P | P7: P | Q7: P | R7: P | S7: P | T7: P | U7: P | V7: P | W7: P
A8: Internat | B8: Résident 3 | C8: P | D8: P | E8: P | F8: P | G8: P | H8: H | I8: H | J8: P | K8: P | L8: P | M8: P | N8: P | O8: P | P8: P | Q8: P | R8: P | S8: P | T8: P | U8: P | V8: P | W8: P
A9: Internat | B9: Résident 4 | C9: A | D9: A | E9: A | F9: A | G9: P | H9: P | I9: P | J9: P | K9: P | L9: P | M9: P | N9: P | O9: P | P9: P | Q9: P | R9: P | S9: P | T9: P | U9: P | V9: P | W9: P
A10: Internat | B10: Résident 5 | C10: P | D10: P | E10: P | F10: P | G10: P | H10: P | I10: P | J10: P | K10: P | L10: P | M10: P | N10: P | O10: P | P10: P | Q10: P | R10: P | S10: P | T10: P | U10: P | V10: P | W10: P
A11: Internat | B11: Résident 6 | C11: P | D11: P | E11: P | F11: P | G11: P | H11: P | I11: P | J11: P | K11: P | L11: P | M11: P | N11: P | O11: P | P11: P | Q11: P | R11: P | S11: P | T11: P | U11: P | V11: P | W11: P
A12: Internat | B12: Résident 7 | C12: A | D12: A | E12: A | F12: A | G12: P | H12: P | I12: P | J12: P | K12: P | L12: P | M12: P | N12: P | O12: P | P12: P | Q12: P | R12: P | S12: A | T12: A | U12: A | V12: A | W12: A
A13: Internat | B13: Résident 8 | C13: P | D13: P | E13: P | F13: P | G13: P | H13: P | I13: P | J13: P | K13: P | L13: P | M13: P | N13: P | O13: P | P13: P | Q13: P | R13: P | S13: P | T13: P | U13: P | V13: P | W13: P
A14: Internat | B14: Résident 9 | C14: P | D14: P | E14: P | F14: P | G14: P | H14: P | I14: P | J14: P | K14: P | L14: P | M14: P | N14: P | O14: P | P14: P | Q14: P | R14: P | S14: P | T14: P | U14: P | V14: P | W14: P
A15: Internat | B15: Résident 10 | C15: A | D15: A | E15: A | F15: A | G15: A | H15: A | I15: A | J15: A | K15: A | L15: A | M15: A | N15: A | O15: A | P15: A | Q15: A | R15: A | S15: A | T15: P | U15: P | V15: P | W15: P
A16: Internat | B16: Résident 11 | C16: A | D16: A | E16: P | F16: P | G16: P | H16: P | I16: P | J16: P | K16: P | L16: P | M16: P | N16: P | O16: P | P16: P | Q16: P | R16: P | S16: P | T16: P | U16: P | V16: P | W16: P
A17: Internat | B17: Résident 12 | C17: P | D17: P | E17: P | F17: P | G17: P | H17: P | I17: P | J17: P | K17: P | L17: P | M17: P | N17: P | O17: P | P17: P | Q17: P | R17: P | S17: A | T17: A | U17: A | V17: P | W17: P
... A34: Internat | B34: Résident 29 | C34: P | D34: P | E34: P | F34: P | G34: P | H34: P | I34: P | J34: P | K34: P | L34: P | M34: P | N34: P | O34: P | P34: P | Q34: P | R34: P | S34: P | T34: P | U34: P | V34: P | W34: P
A35: Internat | B35: Résident 30 | C35: A | D35: A | E35: A | F35: A | G35: A | H35: P | I35: P | J35: P | K35: P | L35: P | N35: P | O35: P | P35: P | Q35: P | R35: P | S35: P | T35: P | U35: P | V35: P | W35: P
A36: Internat | B36: Résident 31 | C36: A | D36: A | E36: A | F36: A | G36: P | H36: P | I36: P | J36: P | K36: P | L36: P | M36: P | N36: P | O36: P | P36: P | Q36: P | R36: P | S36: P | T36: P | U36: P | V36: P | W36: P
A37: Internat | B37: Résident 32 | C37: P | D37: P | E37: P | F37: P | G37: P | H37: P | I37: P | J37: P | K37: P | L37: P | M37: P | N37: P | O37: P | P37: P | Q37: P | R37: P | S37: P | T37: P | U37: P | V37: P | W37: P
A38: Internat | B38: Résident 33 | C38: P | D38: P | E38: P | F38: P | G38: P | H38: P | I38: P | J38: P | K38: P | L38: P | M38: P | N38: P | O38: P | P38: P | Q38: P | R38: P | S38: P | T38: P | U38: P | V38: A | W38: P
A39: Internat | B39: Résident 34 | C39: A | D39: A | E39: A | F39: A | G39: P | H39: P | I39: P | J39: P | K39: P | L39: P | M39: P | N39: P | O39: P | P39: A | Q39: A | R39: A | S39: A | T39: A | U39: A | V39: A | W39: A
A40: Internat | B40: Résident 35 | C40: H | D40: H | E40: H | F40: H | G40: H | H40: H | I40: H | J40: H | K40: H | L40: H | M40: H | N40: H | O40: H | P40: H | Q40: H | R40: H | S40: H | T40: H | U40: H | V40: H | W40: H
A41: Internat | B41: Résident 36 | C41: A | D41: A | E41: A | F41: A | G41: P | H41: P | I41: P | J41: P | K41: P | L41: P | M41: P | N41: P | O41: P | P41: A | Q41: A | R41: A | S41: A | T41: A | U41: A | V41: A | W41: A
A42: Internat | B42: Résident 37 | C42: P | D42: P | E42: P | F42: P | G42: P | H42: P | I42: P | J42: P | K42: P | L42: P | M42: P | N42: P | O42: P | P42: P | Q42: P | R42: P | S42: P | T42: P | U42: P | V42: P | W42: P
A43: Internat | B43: Résident 38 | C43: P | D43: P | E43: P | F43: P | G43: P | H43: P | I43: P | J43: P | K43: P | L43: P | M43: P | N43: P | O43: A | P43: A | Q43: A | R43: A | S43: A | T43: A | U43: A | V43: A | W43: P
A44: Internat | B44: Résident 39 | C44: P | D44: P | E44: P | F44: P | G44: P | H44: P | I44: P | J44: P | K44: P | L44: P | M44: P | N44: P | O44: P | P44: P | Q44: P | R44: P | S44: P | T44: P | U44: P | V44: P | W44: P
A45: Internat | B45: Résident 40 | C45: P | D45: P | E45: P | F45: P | G45: P | H45: P | I45: P | J45: P | K45: P | L45: P | M45: P | N45: P | O45: P | P45: P | Q45: P | R45: P | S45: P | T45: P | U45: P | V45: P | W45: P
A46: Externat | B46: Résident 41 | C46: A | D46: A | E46: A | F46: P | G46: P | H46: P | I46: P | J46: P | K46: P | L46: P | M46: P | N46: P | O46: P | P46: P | Q46: P
A47: Externat | B47: Résident 42 | C47: A | D47: A | E47: A | F47: P | G47: P | H47: P | I47: P | J47: P | K47: P | L47: P | M47: P | N47: P | O47: P | P47: P | Q47: P
A48: Externat | B48: Résident 43 | C48: A | D48: A | E48: A | F48: A | G48: A | H48: A | I48: A | J48: A | K48: A | L48: A | M48: A | N48: A | O48: A | P48: A | Q48: A
A49: Externat | B49: Résident 44 | C49: A | D49: A | E49: A | F49: A | G49: A | H49: A | I49: A | J49: A | K49: A | L49: A | M49: A | N49: A | O49: A | P49: A | Q49: A
A50: Externat | B50: Résident 45 | C50: A | D50: A | E50: A | F50: P | G50: P | H50: P | I50: P | J50: P | K50: P | L50: P | M50: P | N50: P | O50: P | P50: P | Q50: P
A51: Externat | B51: Résident 46 | C51: A | D51: A | E51: A | F51: A | G51: A | H51: A | I51: P | J51: P | K51: P | L51: A | M51: A | N51: A | O51: P | P51: P | Q51: P
A52: Externat | B52: Résident 47 | C52: A | D52: A | E52: A | F52: P | G52: P | H52: P | I52: P | J52: P | K52: P | L52: P | M52: P | N52: P | O52: P | P52: P | Q52: P
A53: Externat | B53: Résident 48 | C53: A | D53: A | E53: A | F53: P | G53: P | H53: P | I53: P | J53: P | K53: P | L53: P | M53: P | N53: P | O53: P | P53: P | Q53: P

Sheet 02
A1: PRESENCE DES RESIDENTS ET REPAS POUR FACTURATION
A2: RESIDENT | E2: ABSENCES
A3: SEMAINE 01 | E3: 08 JANVIER AU 14 JANVIER 2018
C4: LUNDI 08 | F4: MARDI 09 | I4: MERCREDI 10 | L4: JEUDI 11 | O4: VENDREDI 12 | R4: SAMEDI 13 | U4: DIMANCHE 14 | X4: PRESENCES A FACTURER | Y4: REPAS A FACTURER
A5: Régime : | C5: M | D5: M | E5: S | F5: M | G5: M | H5: S | I5: M | J5: M | K5: S | L5: M | M5: M | N5: S | O5: M | P5: M | Q5: S | R5: M | S5: M | T5: S | U5: M | V5: M | W5: S
A6: Internat | B6: Résident 1 | C6: A | D6: A | E6: A | F6: A | G6: P | H6: P | I6: P | J6: P | K6: P | L6: P | M6: P | N6: P | O6: P | P6: P | Q6: P | R6: P | S6: A | T6: A | U6: A | V6: A | W6: A
A7: Internat | B7: Résident 2 | C7: P | D7: P | E7: P | F7: P | G7: P | H7: P | I7: P | J7: P | K7: P | L7: P | M7: P | N7: P | O7: P | P7: P | Q7: P | R7: P | S7: P | T7: P | U7: P | V7: P | W7: P
A8: Internat | B8: Résident 3 | C8: P | D8: P | E8: P | F8: P | G8: P | H8: H | I8: H | J8: P | K8: P | L8: P | M8: P | N8: P | O8: P | P8: P | Q8: P | R8: P | S8: P | T8: P | U8: P | V8: P | W8: P
A9: Internat | B9: Résident 4 | C9: A | D9: A | E9: A | F9: A | G9: P | H9: P | I9: P | J9: P | K9: P | L9: P | M9: P | N9: P | O9: P | P9: P | Q9: P | R9: P | S9: P | T9: P | U9: P | V9: P | W9: P
A10: Internat | B10: Résident 5 | C10: P | D10: P | E10: P | F10: P | G10: P | H10: P | I10: P | J10: P | K10: P | L10: P | M10: P | N10: P | O10: P | P10: P | Q10: P | R10: P | S10: P | T10: P | U10: P | V10: P | W10: P
A11: Internat | B11: Résident 6 | C11: P | D11: P | E11: P | F11: P | G11: P | H11: P | I11: P | J11: P | K11: P | L11: P | M11: P | N11: P | O11: P | P11: P | Q11: P | R11: P | S11: P | T11: P | U11: P | V11: P | W11: P
A12: Internat | B12: Résident 7 | C12: A | D12: A | E12: A | F12: A | G12: P | H12: P | I12: P | J12: P | K12: P | L12: P | M12: P | N12: P | O12: P | P12: P | Q12: P | R12: P | S12: A | T12: A | U12: A | V12: A | W12: A
A13: Internat | B13: Résident 8 | C13: P | D13: P | E13: P | F13: P | G13: P | H13: P | I13: P | J13: P | K13: P | L13: P | M13: P | N13: P | O13: P | P13: P | Q13: P | R13: P | S13: P | T13: P | U13: P | V13: P | W13: P
A14: Internat | B14: Résident 9 | C14: P | D14: P | E14: P | F14: P | G14: P | H14: P | I14: P | J14: P | K14: P | L14: P | M14: P | N14: P | O14: P | P14: P | Q14: P | R14: P | S14: P | T14: P | U14: P | V14: P | W14: P
A15: Internat | B15: Résident 10 | C15: A | D15: A | E15: A | F15: A | G15: A | H15: A | I15: A | J15: A | K15: A | L15: A | M15: A | N15: A | O15: A | P15: A | Q15: A | R15: A | S15: A | T15: P | U15: P | V15: P | W15: P
A16: Internat | B16: Résident 11 | C16: A | D16: A | E16: P | F16: P | G16: P | H16: P | I16: P | J16: P | K16: P | L16: P | M16: P | N16: P | O16: P | P16: P | Q16: P | R16: P | S16: P | T16: P | U16: P | V16: P | W16: P
A17: Internat | B17: Résident 12 | C17: P | D17: P | E17: P | F17: P | G17: P | H17: P | I17: P | J17: P | K17: P | L17: P | M17: P | N17: P | O17: P | P17: P | Q17: P | R17: P | S17: A | T17: A | U17: A | V17: P | W17: P
... A34: Internat | B34: Résident 29 | C34: P | D34: P | E34: P | F34: P | G34: P | H34: P | I34: P | J34: P | K34: P | L34: P | M34: P | N34: P | O34: P | P34: P | Q34: P | R34: P | S34: P | T34: P | U34: P | V34: P | W34: P
A35: Internat | B35: Résident 30 | C35: A | D35: A | E35: A | F35: A | G35: A | H35: P | I35: P | J35: P | K35: P | L35: P | N35: P | O35: P | P35: P | Q35: P | R35: P | S35: P | T35: P | U35: P | V35: P | W35: P
A36: Internat | B36: Résident 31 | C36: A | D36: A | E36: A | F36: A | G36: P | H36: P | I36: P | J36: P | K36: P | L36: P | M36: P | N36: P | O36: P | P36: P | Q36: P | R36: P | S36: P | T36: P | U36: P | V36: P | W36: P
A37: Internat | B37: Résident 32 | C37: P | D37: P | E37: P | F37: P | G37: P | H37: P | I37: P | J37: P | K37: P | L37: P | M37: P | N37: P | O37: P | P37: P | Q37: P | R37: P | S37: P | T37: P | U37: P | V37: P | W37: P
A38: Internat | B38: Résident 33 | C38: P | D38: P | E38: P | F38: P | G38: P | H38: P | I38: P | J38: P | K38: P | L38: P | M38: P | N38: P | O38: P | P38: P | Q38: P | R38: P | S38: P | T38: P | U38: P | V38: A | W38: P
A39: Internat | B39: Résident 34 | C39: A | D39: A | E39: A | F39: A | G39: P | H39: P | I39: P | J39: P | K39: P | L39: P | M39: P | N39: P | O39: P | P39: A | Q39: A | R39: A | S39: A | T39: A | U39: A | V39: A | W39: A
A40: Internat | B40: Résident 35 | C40: H | D40: H | E40: H | F40: H | G40: H | H40: H | I40: H | J40: H | K40: H | L40: H | M40: H | N40: H | O40: H | P40: H | Q40: H | R40: H | S40: H | T40: H | U40: H | V40: H | W40: H
A41: Internat | B41: Résident 36 | C41: A | D41: A | E41: A | F41: A | G41: P | H41: P | I41: P | J41: P | K41: P | L41: P | M41: P | N41: P | O41: P | P41: A | Q41: A | R41: A | S41: A | T41: A | U41: A | V41: A | W41: A
A42: Internat | B42: Résident 37 | C42: P | D42: P | E42: P | F42: P | G42: P | H42: P | I42: P | J42: P | K42: P | L42: P | M42: P | N42: P | O42: P | P42: P | Q42: P | R42: P | S42: P | T42: P | U42: P | V42: P | W42: P
A43: Internat | B43: Résident 38 | C43: P | D43: P | E43: P | F43: P | G43: P | H43: P | I43: P | J43: P | K43: P | L43: P | M43: P | N43: P | O43: A | P43: A | Q43: A | R43: A | S43: A | T43: A | U43: A | V43: A | W43: P
A44: Internat | B44: Résident 39 | C44: P | D44: P | E44: P | F44: P | G44: P | H44: P | I44: P | J44: P | K44: P | L44: P | M44: P | N44: P | O44: P | P44: P | Q44: P | R44: P | S44: P | T44: P | U44: P | V44: P | W44: P
A45: Internat | B45: Résident 40 | C45: P | D45: P | E45: P | F45: P | G45: P | H45: P | I45: P | J45: P | K45: P | L45: P | M45: P | N45: P | O45: P | P45: P | Q45: P | R45: P | S45: P | T45: P | U45: P | V45: P | W45: P
A46: Externat | B46: Résident 41 | C46: A | D46: A | E46: A | F46: P | G46: P | H46: P | I46: P | J46: P | K46: P | L46: P | M46: P | N46: P | O46: P | P46: P | Q46: P
A47: Externat | B47: Résident 42 | C47: A | D47: A | E47: A | F47: P | G47: P | H47: P | I47: P | J47: P | K47: P | L47: P | M47: P | N47: P | O47: P | P47: P | Q47: P
A48: Externat | B48: Résident 43 | C48: A | D48: A | E48: A | F48: A | G48: A | H48: A | I48: A | J48: A | K48: A | L48: A | M48: A | N48: A | O48: A | P48: A | Q48: A
A49: Externat | B49: Résident 44 | C49: A | D49: A | E49: A | F49: A | G49: A | H49: A | I49: A | J49: A | K49: A | L49: A | M49: A | N49: A | O49: A | P49: A | Q49: A
A50: Externat | B50: Résident 45 | C50: A | D50: A | E50: A | F50: P | G50: P | H50: P | I50: P | J50: P | K50: P | L50: P | M50: P | N50: P | O50: P | P50: P | Q50: P
A51: Externat | B51: Résident 46 | C51: A | D51: A | E51: A | F51: A | G51: A | H51: A | I51: P | J51: P | K51: P | L51: A | M51: A | N51: A | O51: P | P51: P | Q51: P
A52: Externat | B52: Résident 47 | C52: A | D52: A | E52: A | F52: P | G52: P | H52: P | I52: P | J52: P | K52: P | L52: P | M52: P | N52: P | O52: P | P52: P | Q52: P
A53: Externat | B53: Résident 48 | C53: A | D53: A | E53: A | F53: P | G53: P | H53: P | I53: P | J53: P | K53: P | L53: P | M53: P | N53: P | O53: P | P53: P | Q53: P

Sheet 03
A1: PRESENCE DES RESIDENTS ET REPAS POUR FACTURATION
A2: RESIDENT | E2: ABSENCES
A3: SEMAINE 01 | E3: 15 JANVIER AU 21 JANVIER 2018
C4: LUNDI 15 | F4: MARDI 16 | I4: MERCREDI 17 | L4: JEUDI 18 | O4: VENDREDI 19 | R4: SAMEDI 20 | U4: DIMANCHE 21 | X4: PRESENCES A FACTURER | Y4: REPAS A FACTURER
A5: Régime : | C5: M | D5: M | E5: S | F5: M | G5: M | H5: S | I5: M | J5: M | K5: S | L5: M | M5: M | N5: S | O5: M | P5: M | Q5: S | R5: M | S5: M | T5: S | U5: M | V5: M | W5: S
A6: Internat | B6: Résident 1 | C6: A | D6: A | E6: A | F6: A | G6: P | H6: P | I6: P | J6: P | K6: P | L6: P | M6: P | N6: P | O6: P | P6: P | Q6: P | R6: P | S6: A | T6: A | U6: A | V6: A | W6: A
A7: Internat | B7: Résident 2 | C7: P | D7: P | E7: P | F7: P | G7: P | H7: P | I7: P | J7: P | K7: P | L7: P | M7: P | N7: P | O7: P | P7: P | Q7: P | R7: P | S7: P | T7: P | U7: P | V7: P | W7: P
A8: Internat | B8: Résident 3 | C8: P | D8: P | E8: P | F8: P | G8: P | H8: H | I8: H | J8: P | K8: P | L8: P | M8: P | N8: P | O8: P | P8: P | Q8: P | R8: P | S8: P | T8: P | U8: P | V8: P | W8: P
A9: Internat | B9: Résident 4 | C9: A | D9: A | E9: A | F9: A | G9: P | H9: P | I9: P | J9: P | K9: P | L9: P | M9: P | N9: P | O9: P | P9: P | Q9: P | R9: P | S9: P | T9: P | U9: P | V9: P | W9: P
A10: Internat | B10: Résident 5 | C10: P | D10: P | E10: P | F10: P | G10: P | H10: P | I10: P | J10: P | K10: P | L10: P | M10: P | N10: P | O10: P | P10: P | Q10: P | R10: P | S10: P | T10: P | U10: P | V10: P | W10: P
A11: Internat | B11: Résident 6 | C11: P | D11: P | E11: P | F11: P | G11: P | H11: P | I11: P | J11: P | K11: P | L11: P | M11: P | N11: P | O11: P | P11: P | Q11: P | R11: P | S11: P | T11: P | U11: P | V11: P | W11: P
A12: Internat | B12: Résident 7 | C12: A | D12: A | E12: A | F12: A | G12: P | H12: P | I12: P | J12: P | K12: P | L12: P | M12: P | N12: P | O12: P | P12: P | Q12: P | R12: P | S12: A | T12: A | U12: A | V12: A | W12: A
A13: Internat | B13: Résident 8 | C13: P | D13: P | E13: P | F13: P | G13: P | H13: P | I13: P | J13: P | K13: P | L13: P | M13: P | N13: P | O13: P | P13: P | Q13: P | R13: P | S13: P | T13: P | U13: P | V13: P | W13: P
A14: Internat | B14: Résident 9 | C14: P | D14: P | E14: P | F14: P | G14: P | H14: P | I14: P | J14: P | K14: P | L14: P | M14: P | N14: P | O14: P | P14: P | Q14: P | R14: P | S14: P | T14: P | U14: P | V14: P | W14: P
A15: Internat | B15: Résident 10 | C15: A | D15: A | E15: A | F15: A | G15: A | H15: A | I15: A | J15: A | K15: A | L15: A | M15: A | N15: A | O15: A | P15: A | Q15: A | R15: A | S15: A | T15: P | U15: P | V15: P | W15: P
A16: Internat | B16: Résident 11 | C16: A | D16: A | E16: P | F16: P | G16: P | H16: P | I16: P | J16: P | K16: P | L16: P | M16: P | N16: P | O16: P | P16: P | Q16: P | R16: P | S16: P | T16: P | U16: P | V16: P | W16: P
A17: Internat | B17: Résident 12 | C17: P | D17: P | E17: P | F17: P | G17: P | H17: P | I17: P | J17: P | K17: P | L17: P | M17: P | N17: P | O17: P | P17: P | Q17: P | R17: P | S17: A | T17: A | U17: A | V17: P | W17: P
... A34: Internat | B34: Résident 29 | C34: P | D34: P | E34: P | F34: P | G34: P | H34: P | I34: P | J34: P | K34: P | L34: P | M34: P | N34: P | O34: P | P34: P | Q34: P | R34: P | S34: P | T34: P | U34: P | V34: P | W34: P
A35: Internat | B35: Résident 30 | C35: A | D35: A | E35: A | F35: A | G35: A | H35: P | I35: P | J35: P | K35: P | L35: P | N35: P | O35: P | P35: P | Q35: P | R35: P | S35: P | T35: P | U35: P | V35: P | W35: P
A36: Internat | B36: Résident 31 | C36: A | D36: A | E36: A | F36: A | G36: P | H36: P | I36: P | J36: P | K36: P | L36: P | M36: P | N36: P | O36: P | P36: P | Q36: P | R36: P | S36: P | T36: P | U36: P | V36: P | W36: P
A37: Internat | B37: Résident 32 | C37: P | D37: P | E37: P | F37: P | G37: P | H37: P | I37: P | J37: P | K37: P | L37: P | M37: P | N37: P | O37: P | P37: P | Q37: P | R37: P | S37: P | T37: P | U37: P | V37: P | W37: P
A38: Internat | B38: Résident 33 | C38: P | D38: P | E38: P | F38: P | G38: P | H38: P | I38: P | J38: P | K38: P | L38: P | M38: P | N38: P | O38: P | P38: P | Q38: P | R38: P | S38: P | T38: P | U38: P | V38: A | W38: P
A39: Internat | B39: Résident 34 | C39: A | D39: A | E39: A | F39: A | G39: P | H39: P | I39: P | J39: P | K39: P | L39: P | M39: P | N39: P | O39: P | P39: A | Q39: A | R39: A | S39: A | T39: A | U39: A | V39: A | W39: A
A40: Internat | B40: Résident 35 | C40: H | D40: H | E40: H | F40: H | G40: H | H40: H | I40: H | J40: H | K40: H | L40: H | M40: H | N40: H | O40: H | P40: H | Q40: H | R40: H | S40: H | T40: H | U40: H | V40: H | W40: H
A41: Internat | B41: Résident 36 | C41: A | D41: A | E41: A | F41: A | G41: P | H41: P | I41: P | J41: P | K41: P | L41: P | M41: P | N41: P | O41: P | P41: A | Q41: A | R41: A | S41: A | T41: A | U41: A | V41: A | W41: A
A42: Internat | B42: Résident 37 | C42: P | D42: P | E42: P | F42: P | G42: P | H42: P | I42: P | J42: P | K42: P | L42: P | M42: P | N42: P | O42: P | P42: P | Q42: P | R42: P | S42: P | T42: P | U42: P | V42: P | W42: P
A43: Internat | B43: Résident 38 | C43: P | D43: P | E43: P | F43: P | G43: P | H43: P | I43: P | J43: P | K43: P | L43: P | M43: P | N43: P | O43: A | P43: A | Q43: A | R43: A | S43: A | T43: A | U43: A | V43: A | W43: P
A44: Internat | B44: Résident 39 | C44: P | D44: P | E44: P | F44: P | G44: P | H44: P | I44: P | J44: P | K44: P | L44: P | M44: P | N44: P | O44: P | P44: P | Q44: P | R44: P | S44: P | T44: P | U44: P | V44: P | W44: P
A45: Internat | B45: Résident 40 | C45: P | D45: P | E45: P | F45: P | G45: P | H45: P | I45: P | J45: P | K45: P | L45: P | M45: P | N45: P | O45: P | P45: P | Q45: P | R45: P | S45: P | T45: P | U45: P | V45: P | W45: P
A46: Externat | B46: Résident 41 | C46: A | D46: A | E46: A | F46: P | G46: P | H46: P | I46: P | J46: P | K46: P | L46: P | M46: P | N46: P | O46: P | P46: P | Q46: P
A47: Externat | B47: Résident 42 | C47: A | D47: A | E47: A | F47: P | G47: P | H47: P | I47: P | J47: P | K47: P | L47: P | M47: P | N47: P | O47: P | P47: P | Q47: P
A48: Externat | B48: Résident 43 | C48: A | D48: A | E48: A | F48: A | G48: A | H48: A | I48: A | J48: A | K48: A | L48: A | M48: A | N48: A | O48: A | P48: A | Q48: A
A49: Externat | B49: Résident 44 | C49: A | D49: A | E49: A | F49: A | G49: A | H49: A | I49: A | J49: A | K49: A | L49: A | M49: A | N49: A | O49: A | P49: A | Q49: A
A50: Externat | B50: Résident 45 | C50: A | D50: A | E50: A | F50: P | G50: P | H50: P | I50: P | J50: P | K50: P | L50: P | M50: P | N50: P | O50: P | P50: P | Q50: P
A51: Externat | B51: Résident 46 | C51: A | D51: A | E51: A | F51: A | G51: A | H51: A | I51: P | J51: P | K51: P | L51: A | M51: A | N51: A | O51: P | P51: P | Q51: P
A52: Externat | B52: Résident 47 | C52: A | D52: A | E52: A | F52: P | G52: P | H52: P | I52: P | J52: P | K52: P | L52: P | M52: P | N52: P | O52: P | P52: P | Q52: P
A53: Externat | B53: Résident 48 | C53: A | D53: A | E53: A | F53: P | G53: P | H53: P | I53: P | J53: P | K53: P | L53: P | M53: P | N53: P | O53: P | P53: P | Q53: P

Sheet Récap
A1: PRESENCE DES RESIDENTS ET REPAS POUR FACTURATION
A2: RESIDENT | C2: JANVIER | E2: FÉVRIER | G2: MARS | I2: AVRIL | K2: MAI | M2: JUIN | O2: JUILLET | Q2: AOÛT | S2: SEPTEMBRE | U2: OCTOBRE | W2: NOVEMBRE | Y2: DÉCEMBRE | AA2: TOTAL ANNUEL
A3: Régime : | C3: PRESENCES A FACTURER | D3: REPAS A FACTURER | E3: PRESENCES A FACTURER | F3: REPAS A FACTURER | G3: PRESENCES A FACTURER | H3: REPAS A FACTURER | I3: PRESENCES A FACTURER | J3: REPAS A FACTURER | K3: PRESENCES A FACTURER | L3: REPAS A FACTURER | M3: PRESENCES A FACTURER | N3: REPAS A FACTURER | O3: PRESENCES A FACTURER | P3: REPAS A FACTURER | Q3: PRESENCES A FACTURER | R3: REPAS A FACTURER | S3: PRESENCES A FACTURER | T3: REPAS A FACTURER | U3: PRESENCES A FACTURER | V3: REPAS A FACTURER | W3: PRESENCES A FACTURER | X3: REPAS A FACTURER | Y3: PRESENCES A FACTURER | Z3: REPAS A FACTURER | AA3: PRESENCES A FACTURER | AB3: REPAS A FACTURER
A4: Internat | B4: Résident 1 | C4: ='01'!X6+'[1]02'!AD7+'[1]03'!AD7+'[1]04'!AD7 -> 18 | D4: ='01'!Y6+'[1]02'!AE7+'[1]03'!AE7+'[1]04'!AE7 -> 45 | E4: ='[1]05'!X6+'[1]06'!W7+'[1]07'!W7+'[1]08'!W7+'[1]09'!W7 -> 0 | F4: ='[1]05'!Y6+'[1]06'!X7+'[1]07'!X7+'[1]08'!X7+'[1]09'!X7 -> 0 | G4: ='[1]09'!Y7+'[1]10'!W7+'[1]11'!W7+'[1]12'!W7+'[1]13'!W7 -> 0 | H4: ='[1]09'!Z7+'[1]10'!X7+'[1]11'!X7+'[1]12'!X7+'[1]13'!X7 -> 0 | I4: ='[1]13'!Y7+'[1]14'!W7+'[1]15'!W7+'[1]16'!W7+'[1]17'!W7 -> 0 | J4: ='[1]13'!Z7+'[1]14'!X7+'[1]15'!X7+'[1]16'!X7+'[1]17'!X7 -> 0 | K4: ='[1]17'!Y7+'[1]18'!W7+'[1]19'!W7+'[1]20'!W7+'[1]21'!W7+'[1]22'!W7 -> 0 | L4: ='[1]17'!Z7+'[1]18'!X7+'[1]19'!X7+'[1]20'!X7+'[1]21'!X7+'[1]22'!X7 -> 0 | M4: ='[1]22'!Y7+'[1]23'!W7+'[1]24'!W7+'[1]25'!W7+'[1]26'!W7 -> 0 | N4: ='[1]22'!Z7+'[1]23'!X7+'[1]24'!X7+'[1]25'!X7+'[1]26'!X7 -> 0 | O4: ='[1]26'!Y7+'[1]27'!W7+'[1]28'!W7+'[1]29'!W7+'[1]30'!W7 -> 0 | P4: ='[1]26'!Z7+'[1]27'!X7+'[1]28'!X7+'[1]29'!X7+'[1]30'!X7 -> 0 | Q4: ='[1]31'!W7+'[1]32'!W7+'[1]33'!W7+'[1]34'!W7+'[1]35'!W7 -> 0 | R4: ='[1]31'!X7+'[1]32'!X7+'[1]33'!X7+'[1]34'!X7+'[1]35'!X7 -> 0 | S4: ='[1]35'!Y7+'[1]36'!W7+'[1]37'!W7+'[1]38'!W7+'[1]39'!W7 -> 0 | T4: ='[1]35'!Z7+'[1]36'!X7+'[1]37'!X7+'[1]38'!X7+'[1]39'!X7 -> 0 | U4: ='[1]39'!#REF!+'[1]40'!W7+'[1]41'!W7+'[1]42'!W7+'[1]43'!W7+'[1]44'!W7 -> #REF! | V4: ='[1]39'!#REF!+'[1]40'!X7+'[1]41'!X7+'[1]42'!X7+'[1]43'!X7+'[1]44'!X7 -> #REF! | W4: ='[1]44'!#REF!+'[1]45'!W7+'[1]46'!W7+'[1]47'!W7+'[1]48'!W7 -> #REF! | X4: ='[1]44'!#REF!+'[1]45'!X7+'[1]46'!X7+'[1]47'!X7+'[1]48'!X7 -> #REF! | Y4: ='[1]48'!Y7+'[1]49'!W7+'[1]50'!P7+'[1]51'!W7+'[1]52'!W7 -> 0 | Z4: ='[1]48'!Z7+'[1]49'!X7+'[1]50'!Q7+'[1]51'!X7+'[1]52'!X7 -> 0 | AA4: =Y4+W4+U4+S4+Q4+O4+M4+K4+I4+G4+E4+C4 -> #REF! | AB4: =Z4+X4+V4+T4+R4+P4+N4+L4+J4+H4+F4+D4 -> #REF!
A5: Internat | B5: Résident 2 | C5: ='01'!X7+'[1]02'!AD8+'[1]03'!AD8+'[1]04'!AD8 -> 21 | D5: ='01'!Y7+'[1]02'!AE8+'[1]03'!AE8+'[1]04'!AE8 -> 63 | E5: ='[1]05'!X7+'[1]06'!W8+'[1]07'!W8+'[1]08'!W8+'[1]09'!W8 -> 0 | F5: ='[1]05'!Y7+'[1]06'!X8+'[1]07'!X8+'[1]08'!X8+'[1]09'!X8 -> 0 | G5: ='[1]09'!Y8+'[1]10'!W8+'[1]11'!W8+'[1]12'!W8+'[1]13'!W8 -> 0 | H5: ='[1]09'!Z8+'[1]10'!X8+'[1]11'!X8+'[1]12'!X8+'[1]13'!X8 -> 0 | I5: ='[1]13'!Y8+'[1]14'!W8+'[1]15'!W8+'[1]16'!W8+'[1]17'!W8 -> 0 | J5: ='[1]13'!Z8+'[1]14'!X8+'[1]15'!X8+'[1]16'!X8+'[1]17'!X8 -> 0 | K5: ='[1]17'!Y8+'[1]18'!W8+'[1]19'!W8+'[1]20'!W8+'[1]21'!W8+'[1]22'!W8 -> 0 | L5: ='[1]17'!Z8+'[1]18'!X8+'[1]19'!X8+'[1]20'!X8+'[1]21'!X8+'[1]22'!X8 -> 0 | M5: ='[1]22'!Y8+'[1]23'!W8+'[1]24'!W8+'[1]25'!W8+'[1]26'!W8 -> 0 | N5: ='[1]22'!Z8+'[1]23'!X8+'[1]24'!X8+'[1]25'!X8+'[1]26'!X8 -> 0 | O5: ='[1]26'!Y8+'[1]27'!W8+'[1]28'!W8+'[1]29'!W8+'[1]30'!W8 -> 0 | P5: ='[1]26'!Z8+'[1]27'!X8+'[1]28'!X8+'[1]29'!X8+'[1]30'!X8 -> 0 | Q5: ='[1]31'!W8+'[1]32'!W8+'[1]33'!W8+'[1]34'!W8+'[1]35'!W8 -> 0 | R5: ='[1]31'!X8+'[1]32'!X8+'[1]33'!X8+'[1]34'!X8+'[1]35'!X8 -> 0 | S5: ='[1]35'!Y8+'[1]36'!W8+'[1]37'!W8+'[1]38'!W8+'[1]39'!W8 -> 0 | T5: ='[1]35'!Z8+'[1]36'!X8+'[1]37'!X8+'[1]38'!X8+'[1]39'!X8 -> 0 | U5: ='[1]39'!#REF!+'[1]40'!W8+'[1]41'!W8+'[1]42'!W8+'[1]43'!W8+'[1]44'!W8 -> #REF! | V5: ='[1]39'!#REF!+'[1]40'!X8+'[1]41'!X8+'[1]42'!X8+'[1]43'!X8+'[1]44'!X8 -> #REF! | W5: ='[1]44'!#REF!+'[1]45'!W8+'[1]46'!W8+'[1]47'!W8+'[1]48'!W8 -> #REF! | X5: ='[1]44'!#REF!+'[1]45'!X8+'[1]46'!X8+'[1]47'!X8+'[1]48'!X8 -> #REF! | Y5: ='[1]48'!Y8+'[1]49'!W8+'[1]50'!P8+'[1]51'!W8+'[1]52'!W8 -> 0 | Z5: ='[1]48'!Z8+'[1]49'!X8+'[1]50'!Q8+'[1]51'!X8+'[1]52'!X8 -> 0 | AA5: =Y5+W5+U5+S5+Q5+O5+M5+K5+I5+G5+E5+C5 -> #REF! | AB5: =Z5+X5+V5+T5+R5+P5+N5+L5+J5+H5+F5+D5 -> #REF!
A6: Internat | B6: Résident 3 | C6: ='01'!X8+'[1]02'!AD9+'[1]03'!AD9+'[1]04'!AD9 -> 21 | D6: ='01'!Y8+'[1]02'!AE9+'[1]03'!AE9+'[1]04'!AE9 -> 63 | E6: ='[1]05'!X8+'[1]06'!W9+'[1]07'!W9+'[1]08'!W9+'[1]09'!W9 -> 0 | F6: ='[1]05'!Y8+'[1]06'!X9+'[1]07'!X9+'[1]08'!X9+'[1]09'!X9 -> 0 | G6: ='[1]09'!Y9+'[1]10'!W9+'[1]11'!W9+'[1]12'!W9+'[1]13'!W9 -> 0 | H6: ='[1]09'!Z9+'[1]10'!X9+'[1]11'!X9+'[1]12'!X9+'[1]13'!X9 -> 0 | I6: ='[1]13'!Y9+'[1]14'!W9+'[1]15'!W9+'[1]16'!W9+'[1]17'!W9 -> 0 | J6: ='[1]13'!Z9+'[1]14'!X9+'[1]15'!X9+'[1]16'!X9+'[1]17'!X9 -> 0 | K6: ='[1]17'!Y9+'[1]18'!W9+'[1]19'!W9+'[1]20'!W9+'[1]21'!W9+'[1]22'!W9 -> 0 | L6: ='[1]17'!Z9+'[1]18'!X9+'[1]19'!X9+'[1]20'!X9+'[1]21'!X9+'[1]22'!X9 -> 0 | M6: ='[1]22'!Y9+'[1]23'!W9+'[1]24'!W9+'[1]25'!W9+'[1]26'!W9 -> 0 | N6: ='[1]22'!Z9+'[1]23'!X9+'[1]24'!X9+'[1]25'!X9+'[1]26'!X9 -> 0 | O6: ='[1]26'!Y9+'[1]27'!W9+'[1]28'!W9+'[1]29'!W9+'[1]30'!W9 -> 0 | P6: ='[1]26'!Z9+'[1]27'!X9+'[1]28'!X9+'[1]29'!X9+'[1]30'!X9 -> 0 | Q6: ='[1]31'!W9+'[1]32'!W9+'[1]33'!W9+'[1]34'!W9+'[1]35'!W9 -> 0 | R6: ='[1]31'!X9+'[1]32'!X9+'[1]33'!X9+'[1]34'!X9+'[1]35'!X9 -> 0 | S6: ='[1]35'!Y9+'[1]36'!W9+'[1]37'!W9+'[1]38'!W9+'[1]39'!W9 -> 0 | T6: ='[1]35'!Z9+'[1]36'!X9+'[1]37'!X9+'[1]38'!X9+'[1]39'!X9 -> 0 | U6: ='[1]39'!#REF!+'[1]40'!W9+'[1]41'!W9+'[1]42'!W9+'[1]43'!W9+'[1]44'!W9 -> #REF! | V6: ='[1]39'!#REF!+'[1]40'!X9+'[1]41'!X9+'[1]42'!X9+'[1]43'!X9+'[1]44'!X9 -> #REF! | W6: ='[1]44'!#REF!+'[1]45'!W9+'[1]46'!W9+'[1]47'!W9+'[1]48'!W9 -> #REF! | X6: ='[1]44'!#REF!+'[1]45'!X9+'[1]46'!X9+'[1]47'!X9+'[1]48'!X9 -> #REF! | Y6: ='[1]48'!Y9+'[1]49'!W9+'[1]50'!P9+'[1]51'!W9+'[1]52'!W9 -> 0 | Z6: ='[1]48'!Z9+'[1]49'!X9+'[1]50'!Q9+'[1]51'!X9+'[1]52'!X9 -> 0 | AA6: =Y6+W6+U6+S6+Q6+O6+M6+K6+I6+G6+E6+C6 -> #REF! | AB6: =Z6+X6+V6+T6+R6+P6+N6+L6+J6+H6+F6+D6 -> #REF!
A7: Internat | B7: Résident 4 | C7: ='01'!X9+'[1]02'!AD10+'[1]03'!AD10+'[1]04'!AD10 -> 21 | D7: ='01'!Y9+'[1]02'!AE10+'[1]03'!AE10+'[1]04'!AE10 -> 63 | E7: ='[1]05'!X9+'[1]06'!W10+'[1]07'!W10+'[1]08'!W10+'[1]09'!W10 -> 0 | F7: ='[1]05'!Y9+'[1]06'!X10+'[1]07'!X10+'[1]08'!X10+'[1]09'!X10 -> 0 | G7: ='[1]09'!Y10+'[1]10'!W10+'[1]11'!W10+'[1]12'!W10+'[1]13'!W10 -> 0 | H7: ='[1]09'!Z10+'[1]10'!X10+'[1]11'!X10+'[1]12'!X10+'[1]13'!X10 -> 0 | I7: ='[1]13'!Y10+'[1]14'!W10+'[1]15'!W10+'[1]16'!W10+'[1]17'!W10 -> 0 | J7: ='[1]13'!Z10+'[1]14'!X10+'[1]15'!X10+'[1]16'!X10+'[1]17'!X10 -> 0 | K7: ='[1]17'!Y10+'[1]18'!W10+'[1]19'!W10+'[1]20'!W10+'[1]21'!W10+'[1]22'!W10 -> 0 | L7: ='[1]17'!Z10+'[1]18'!X10+'[1]19'!X10+'[1]20'!X10+'[1]21'!X10+'[1]22'!X10 -> 0 | M7: ='[1]22'!Y10+'[1]23'!W10+'[1]24'!W10+'[1]25'!W10+'[1]26'!W10 -> 0 | N7: ='[1]22'!Z10+'[1]23'!X10+'[1]24'!X10+'[1]25'!X10+'[1]26'!X10 -> 0 | O7: ='[1]26'!Y10+'[1]27'!W10+'[1]28'!W10+'[1]29'!W10+'[1]30'!W10 -> 0 | P7: ='[1]26'!Z10+'[1]27'!X10+'[1]28'!X10+'[1]29'!X10+'[1]30'!X10 -> 0 | Q7: ='[1]31'!W10+'[1]32'!W10+'[1]33'!W10+'[1]34'!W10+'[1]35'!W10 -> 0 | R7: ='[1]31'!X10+'[1]32'!X10+'[1]33'!X10+'[1]34'!X10+'[1]35'!X10 -> 0 | S7: ='[1]35'!Y10+'[1]36'!W10+'[1]37'!W10+'[1]38'!W10+'[1]39'!W10 -> 0 | T7: ='[1]35'!Z10+'[1]36'!X10+'[1]37'!X10+'[1]38'!X10+'[1]39'!X10 -> 0 | U7: ='[1]39'!#REF!+'[1]40'!W10+'[1]41'!W10+'[1]42'!W10+'[1]43'!W10+'[1]44'!W10 -> #REF! | V7: ='[1]39'!#REF!+'[1]40'!X10+'[1]41'!X10+'[1]42'!X10+'[1]43'!X10+'[1]44'!X10 -> #REF! | W7: ='[1]44'!#REF!+'[1]45'!W10+'[1]46'!W10+'[1]47'!W10+'[1]48'!W10 -> #REF! | X7: ='[1]44'!#REF!+'[1]45'!X10+'[1]46'!X10+'[1]47'!X10+'[1]48'!X10 -> #REF! | Y7: ='[1]48'!Y10+'[1]49'!W10+'[1]50'!P10+'[1]51'!W10+'[1]52'!W10 -> 0 | Z7: ='[1]48'!Z10+'[1]49'!X10+'[1]50'!Q10+'[1]51'!X10+'[1]52'!X10 -> 0 | AA7: =Y7+W7+U7+S7+Q7+O7+M7+K7+I7+G7+E7+C7 -> #REF! | AB7: =Z7+X7+V7+T7+R7+P7+N7+L7+J7+H7+F7+D7 -> #REF!
A8: Internat | B8: Résident 5 | C8: ='01'!X10+'[1]02'!AD11+'[1]03'!AD11+'[1]04'!AD11 -> 21 | D8: ='01'!Y10+'[1]02'!AE11+'[1]03'!AE11+'[1]04'!AE11 -> 63 | E8: ='[1]05'!X10+'[1]06'!W11+'[1]07'!W11+'[1]08'!W11+'[1]09'!W11 -> 0 | F8: ='[1]05'!Y10+'[1]06'!X11+'[1]07'!X11+'[1]08'!X11+'[1]09'!X11 -> 0 | G8: ='[1]09'!Y11+'[1]10'!W11+'[1]11'!W11+'[1]12'!W11+'[1]13'!W11 -> 0 | H8: ='[1]09'!Z11+'[1]10'!X11+'[1]11'!X11+'[1]12'!X11+'[1]13'!X11 -> 0 | I8: ='[1]13'!Y11+'[1]14'!W11+'[1]15'!W11+'[1]16'!W11+'[1]17'!W11 -> 0 | J8: ='[1]13'!Z11+'[1]14'!X11+'[1]15'!X11+'[1]16'!X11+'[1]17'!X11 -> 0 | K8: ='[1]17'!Y11+'[1]18'!W11+'[1]19'!W11+'[1]20'!W11+'[1]21'!W11+'[1]22'!W11 -> 0 | L8: ='[1]17'!Z11+'[1]18'!X11+'[1]19'!X11+'[1]20'!X11+'[1]21'!X11+'[1]22'!X11 -> 0 | M8: ='[1]22'!Y11+'[1]23'!W11+'[1]24'!W11+'[1]25'!W11+'[1]26'!W11 -> 0 | N8: ='[1]22'!Z11+'[1]23'!X11+'[1]24'!X11+'[1]25'!X11+'[1]26'!X11 -> 0 | O8: ='[1]26'!Y11+'[1]27'!W11+'[1]28'!W11+'[1]29'!W11+'[1]30'!W11 -> 0 | P8: ='[1]26'!Z11+'[1]27'!X11+'[1]28'!X11+'[1]29'!X11+'[1]30'!X11 -> 0 | Q8: ='[1]31'!W11+'[1]32'!W11+'[1]33'!W11+'[1]34'!W11+'[1]35'!W11 -> 0 | R8: ='[1]31'!X11+'[1]32'!X11+'[1]33'!X11+'[1]34'!X11+'[1]35'!X11 -> 0 | S8: ='[1]35'!Y11+'[1]36'!W11+'[1]37'!W11+'[1]38'!W11+'[1]39'!W11 -> 0 | T8: ='[1]35'!Z11+'[1]36'!X11+'[1]37'!X11+'[1]38'!X11+'[1]39'!X11 -> 0 | U8: ='[1]39'!#REF!+'[1]40'!W11+'[1]41'!W11+'[1]42'!W11+'[1]43'!W11+'[1]44'!W11 -> #REF! | V8: ='[1]39'!#REF!+'[1]40'!X11+'[1]41'!X11+'[1]42'!X11+'[1]43'!X11+'[1]44'!X11 -> #REF! | W8: ='[1]44'!#REF!+'[1]45'!W11+'[1]46'!W11+'[1]47'!W11+'[1]48'!W11 -> #REF! | X8: ='[1]44'!#REF!+'[1]45'!X11+'[1]46'!X11+'[1]47'!X11+'[1]48'!X11 -> #REF! | Y8: ='[1]48'!Y11+'[1]49'!W11+'[1]50'!P11+'[1]51'!W11+'[1]52'!W11 -> 0 | Z8: ='[1]48'!Z11+'[1]49'!X11+'[1]50'!Q11+'[1]51'!X11+'[1]52'!X11 -> 0 | AA8: =Y8+W8+U8+S8+Q8+O8+M8+K8+I8+G8+E8+C8 -> #REF! | AB8: =Z8+X8+V8+T8+R8+P8+N8+L8+J8+H8+F8+D8 -> #REF!
A9: Internat | B9: Résident 6 | C9: ='01'!X11+'[1]02'!AD12+'[1]03'!AD12+'[1]04'!AD12 -> 21 | D9: ='01'!Y11+'[1]02'!AE12+'[1]03'!AE12+'[1]04'!AE12 -> 63 | E9: ='[1]05'!X11+'[1]06'!W12+'[1]07'!W12+'[1]08'!W12+'[1]09'!W12 -> 0 | F9: ='[1]05'!Y11+'[1]06'!X12+'[1]07'!X12+'[1]08'!X12+'[1]09'!X12 -> 0 | G9: ='[1]09'!Y12+'[1]10'!W12+'[1]11'!W12+'[1]12'!W12+'[1]13'!W12 -> 0 | H9: ='[1]09'!Z12+'[1]10'!X12+'[1]11'!X12+'[1]12'!X12+'[1]13'!X12 -> 0 | I9: ='[1]13'!Y12+'[1]14'!W12+'[1]15'!W12+'[1]16'!W12+'[1]17'!W12 -> 0 | J9: ='[1]13'!Z12+'[1]14'!X12+'[1]15'!X12+'[1]16'!X12+'[1]17'!X12 -> 0 | K9: ='[1]17'!Y12+'[1]18'!W12+'[1]19'!W12+'[1]20'!W12+'[1]21'!W12+'[1]22'!W12 -> 0 | L9: ='[1]17'!Z12+'[1]18'!X12+'[1]19'!X12+'[1]20'!X12+'[1]21'!X12+'[1]22'!X12 -> 0 | M9: ='[1]22'!Y12+'[1]23'!W12+'[1]24'!W12+'[1]25'!W12+'[1]26'!W12 -> 0 | N9: ='[1]22'!Z12+'[1]23'!X12+'[1]24'!X12+'[1]25'!X12+'[1]26'!X12 -> 0 | O9: ='[1]26'!Y12+'[1]27'!W12+'[1]28'!W12+'[1]29'!W12+'[1]30'!W12 -> 0 | P9: ='[1]26'!Z12+'[1]27'!X12+'[1]28'!X12+'[1]29'!X12+'[1]30'!X12 -> 0 | Q9: ='[1]31'!W12+'[1]32'!W12+'[1]33'!W12+'[1]34'!W12+'[1]35'!W12 -> 0 | R9: ='[1]31'!X12+'[1]32'!X12+'[1]33'!X12+'[1]34'!X12+'[1]35'!X12 -> 0 | S9: ='[1]35'!Y12+'[1]36'!W12+'[1]37'!W12+'[1]38'!W12+'[1]39'!W12 -> 0 | T9: ='[1]35'!Z12+'[1]36'!X12+'[1]37'!X12+'[1]38'!X12+'[1]39'!X12 -> 0 | U9: ='[1]39'!#REF!+'[1]40'!W12+'[1]41'!W12+'[1]42'!W12+'[1]43'!W12+'[1]44'!W12 -> #REF! | V9: ='[1]39'!#REF!+'[1]40'!X12+'[1]41'!X12+'[1]42'!X12+'[1]43'!X12+'[1]44'!X12 -> #REF! | W9: ='[1]44'!#REF!+'[1]45'!W12+'[1]46'!W12+'[1]47'!W12+'[1]48'!W12 -> #REF! | X9: ='[1]44'!#REF!+'[1]45'!X12+'[1]46'!X12+'[1]47'!X12+'[1]48'!X12 -> #REF! | Y9: ='[1]48'!Y12+'[1]49'!W12+'[1]50'!P12+'[1]51'!W12+'[1]52'!W12 -> 0 | Z9: ='[1]48'!Z12+'[1]49'!X12+'[1]50'!Q12+'[1]51'!X12+'[1]52'!X12 -> 0 | AA9: =Y9+W9+U9+S9+Q9+O9+M9+K9+I9+G9+E9+C9 -> #REF! | AB9: =Z9+X9+V9+T9+R9+P9+N9+L9+J9+H9+F9+D9 -> #REF!
A10: Internat | B10: Résident 7 | C10: ='01'!X12+'[1]02'!AD13+'[1]03'!AD13+'[1]04'!AD13 -> 21 | D10: ='01'!Y12+'[1]02'!AE13+'[1]03'!AE13+'[1]04'!AE13 -> 53 | E10: ='[1]05'!X12+'[1]06'!W13+'[1]07'!W13+'[1]08'!W13+'[1]09'!W13 -> 0 | F10: ='[1]05'!Y12+'[1]06'!X13+'[1]07'!X13+'[1]08'!X13+'[1]09'!X13 -> 0 | G10: ='[1]09'!Y13+'[1]10'!W13+'[1]11'!W13+'[1]12'!W13+'[1]13'!W13 -> 0 | H10: ='[1]09'!Z13+'[1]10'!X13+'[1]11'!X13+'[1]12'!X13+'[1]13'!X13 -> 0 | I10: ='[1]13'!Y13+'[1]14'!W13+'[1]15'!W13+'[1]16'!W13+'[1]17'!W13 -> 0 | J10: ='[1]13'!Z13+'[1]14'!X13+'[1]15'!X13+'[1]16'!X13+'[1]17'!X13 -> 0 | K10: ='[1]17'!Y13+'[1]18'!W13+'[1]19'!W13+'[1]20'!W13+'[1]21'!W13+'[1]22'!W13 -> 0 | L10: ='[1]17'!Z13+'[1]18'!X13+'[1]19'!X13+'[1]20'!X13+'[1]21'!X13+'[1]22'!X13 -> 0 | M10: ='[1]22'!Y13+'[1]23'!W13+'[1]24'!W13+'[1]25'!W13+'[1]26'!W13 -> 0 | N10: ='[1]22'!Z13+'[1]23'!X13+'[1]24'!X13+'[1]25'!X13+'[1]26'!X13 -> 0 | O10: ='[1]26'!Y13+'[1]27'!W13+'[1]28'!W13+'[1]29'!W13+'[1]30'!W13 -> 0 | P10: ='[1]26'!Z13+'[1]27'!X13+'[1]28'!X13+'[1]29'!X13+'[1]30'!X13 -> 0 | Q10: ='[1]31'!W13+'[1]32'!W13+'[1]33'!W13+'[1]34'!W13+'[1]35'!W13 -> 0 | R10: ='[1]31'!X13+'[1]32'!X13+'[1]33'!X13+'[1]34'!X13+'[1]35'!X13 -> 0 | S10: ='[1]35'!Y13+'[1]36'!W13+'[1]37'!W13+'[1]38'!W13+'[1]39'!W13 -> 0 | T10: ='[1]35'!Z13+'[1]36'!X13+'[1]37'!X13+'[1]38'!X13+'[1]39'!X13 -> 0 | U10: ='[1]39'!#REF!+'[1]40'!W13+'[1]41'!W13+'[1]42'!W13+'[1]43'!W13+'[1]44'!W13 -> #REF! | V10: ='[1]39'!#REF!+'[1]40'!X13+'[1]41'!X13+'[1]42'!X13+'[1]43'!X13+'[1]44'!X13 -> #REF! | W10: ='[1]44'!#REF!+'[1]45'!W13+'[1]46'!W13+'[1]47'!W13+'[1]48'!W13 -> #REF! | X10: ='[1]44'!#REF!+'[1]45'!X13+'[1]46'!X13+'[1]47'!X13+'[1]48'!X13 -> #REF! | Y10: ='[1]48'!Y13+'[1]49'!W13+'[1]50'!P13+'[1]51'!W13+'[1]52'!W13 -> 0 | Z10: ='[1]48'!Z13+'[1]49'!X13+'[1]50'!Q13+'[1]51'!X13+'[1]52'!X13 -> 0 | AA10: =Y10+W10+U10+S10+Q10+O10+M10+K10+I10+G10+E10+C10 -> #REF! | AB10: =Z10+X10+V10+T10+R10+P10+N10+L10+J10+H10+F10+D10 -> #REF!
A11: Internat | B11: Résident 8 | C11: ='01'!X13+'[1]02'!AD14+'[1]03'!AD14+'[1]04'!AD14 -> 18 | D11: ='01'!Y13+'[1]02'!AE14+'[1]03'!AE14+'[1]04'!AE14 -> 50 | E11: ='[1]05'!X13+'[1]06'!W14+'[1]07'!W14+'[1]08'!W14+'[1]09'!W14 -> 0 | F11: ='[1]05'!Y13+'[1]06'!X14+'[1]07'!X14+'[1]08'!X14+'[1]09'!X14 -> 0 | G11: ='[1]09'!Y14+'[1]10'!W14+'[1]11'!W14+'[1]12'!W14+'[1]13'!W14 -> 0 | H11: ='[1]09'!Z14+'[1]10'!X14+'[1]11'!X14+'[1]12'!X14+'[1]13'!X14 -> 0 | I11: ='[1]13'!Y14+'[1]14'!W14+'[1]15'!W14+'[1]16'!W14+'[1]17'!W14 -> 0 | J11: ='[1]13'!Z14+'[1]14'!X14+'[1]15'!X14+'[1]16'!X14+'[1]17'!X14 -> 0 | K11: ='[1]17'!Y14+'[1]18'!W14+'[1]19'!W14+'[1]20'!W14+'[1]21'!W14+'[1]22'!W14 -> 0 | L11: ='[1]17'!Z14+'[1]18'!X14+'[1]19'!X14+'[1]20'!X14+'[1]21'!X14+'[1]22'!X14 -> 0 | M11: ='[1]22'!Y14+'[1]23'!W14+'[1]24'!W14+'[1]25'!W14+'[1]26'!W14 -> 0 | N11: ='[1]22'!Z14+'[1]23'!X14+'[1]24'!X14+'[1]25'!X14+'[1]26'!X14 -> 0 | O11: ='[1]26'!Y14+'[1]27'!W14+'[1]28'!W14+'[1]29'!W14+'[1]30'!W14 -> 0 | P11: ='[1]26'!Z14+'[1]27'!X14+'[1]28'!X14+'[1]29'!X14+'[1]30'!X14 -> 0 | Q11: ='[1]31'!W14+'[1]32'!W14+'[1]33'!W14+'[1]34'!W14+'[1]35'!W14 -> 0 | R11: ='[1]31'!X14+'[1]32'!X14+'[1]33'!X14+'[1]34'!X14+'[1]35'!X14 -> 0 | S11: ='[1]35'!Y14+'[1]36'!W14+'[1]37'!W14+'[1]38'!W14+'[1]39'!W14 -> 0 | T11: ='[1]35'!Z14+'[1]36'!X14+'[1]37'!X14+'[1]38'!X14+'[1]39'!X14 -> 0 | U11: ='[1]39'!#REF!+'[1]40'!W14+'[1]41'!W14+'[1]42'!W14+'[1]43'!W14+'[1]44'!W14 -> #REF! | V11: ='[1]39'!#REF!+'[1]40'!X14+'[1]41'!X14+'[1]42'!X14+'[1]43'!X14+'[1]44'!X14 -> #REF! | W11: ='[1]44'!#REF!+'[1]45'!W14+'[1]46'!W14+'[1]47'!W14+'[1]48'!W14 -> #REF! | X11: ='[1]44'!#REF!+'[1]45'!X14+'[1]46'!X14+'[1]47'!X14+'[1]48'!X14 -> #REF! | Y11: ='[1]48'!Y14+'[1]49'!W14+'[1]50'!P14+'[1]51'!W14+'[1]52'!W14 -> 0 | Z11: ='[1]48'!Z14+'[1]49'!X14+'[1]50'!Q14+'[1]51'!X14+'[1]52'!X14 -> 0 | AA11: =Y11+W11+U11+S11+Q11+O11+M11+K11+I11+G11+E11+C11 -> #REF! | AB11: =Z11+X11+V11+T11+R11+P11+N11+L11+J11+H11+F11+D11 -> #REF!
A12: Internat | B12: Résident 9 | C12: ='01'!X14+'[1]02'!AD15+'[1]03'!AD15+'[1]04'!AD15 -> 21 | D12: ='01'!Y14+'[1]02'!AE15+'[1]03'!AE15+'[1]04'!AE15 -> 63 | E12: ='[1]05'!X14+'[1]06'!W15+'[1]07'!W15+'[1]08'!W15+'[1]09'!W15 -> 0 | F12: ='[1]05'!Y14+'[1]06'!X15+'[1]07'!X15+'[1]08'!X15+'[1]09'!X15 -> 0 | G12: ='[1]09'!Y15+'[1]10'!W15+'[1]11'!W15+'[1]12'!W15+'[1]13'!W15 -> 0 | H12: ='[1]09'!Z15+'[1]10'!X15+'[1]11'!X15+'[1]12'!X15+'[1]13'!X15 -> 0 | I12: ='[1]13'!Y15+'[1]14'!W15+'[1]15'!W15+'[1]16'!W15+'[1]17'!W15 -> 0 | J12: ='[1]13'!Z15+'[1]14'!X15+'[1]15'!X15+'[1]16'!X15+'[1]17'!X15 -> 0 | K12: ='[1]17'!Y15+'[1]18'!W15+'[1]19'!W15+'[1]20'!W15+'[1]21'!W15+'[1]22'!W15 -> 0 | L12: ='[1]17'!Z15+'[1]18'!X15+'[1]19'!X15+'[1]20'!X15+'[1]21'!X15+'[1]22'!X15 -> 0 | M12: ='[1]22'!Y15+'[1]23'!W15+'[1]24'!W15+'[1]25'!W15+'[1]26'!W15 -> 0 | N12: ='[1]22'!Z15+'[1]23'!X15+'[1]24'!X15+'[1]25'!X15+'[1]26'!X15 -> 0 | O12: ='[1]26'!Y15+'[1]27'!W15+'[1]28'!W15+'[1]29'!W15+'[1]30'!W15 -> 0 | P12: ='[1]26'!Z15+'[1]27'!X15+'[1]28'!X15+'[1]29'!X15+'[1]30'!X15 -> 0 | Q12: ='[1]31'!W15+'[1]32'!W15+'[1]33'!W15+'[1]34'!W15+'[1]35'!W15 -> 0 | R12: ='[1]31'!X15+'[1]32'!X15+'[1]33'!X15+'[1]34'!X15+'[1]35'!X15 -> 0 | S12: ='[1]35'!Y15+'[1]36'!W15+'[1]37'!W15+'[1]38'!W15+'[1]39'!W15 -> 0 | T12: ='[1]35'!Z15+'[1]36'!X15+'[1]37'!X15+'[1]38'!X15+'[1]39'!X15 -> 0 | U12: ='[1]39'!#REF!+'[1]40'!W15+'[1]41'!W15+'[1]42'!W15+'[1]43'!W15+'[1]44'!W15 -> #REF! | V12: ='[1]39'!#REF!+'[1]40'!X15+'[1]41'!X15+'[1]42'!X15+'[1]43'!X15+'[1]44'!X15 -> #REF! | W12: ='[1]44'!#REF!+'[1]45'!W15+'[1]46'!W15+'[1]47'!W15+'[1]48'!W15 -> #REF! | X12: ='[1]44'!#REF!+'[1]45'!X15+'[1]46'!X15+'[1]47'!X15+'[1]48'!X15 -> #REF! | Y12: ='[1]48'!Y15+'[1]49'!W15+'[1]50'!P15+'[1]51'!W15+'[1]52'!W15 -> 0 | Z12: ='[1]48'!Z15+'[1]49'!X15+'[1]50'!Q15+'[1]51'!X15+'[1]52'!X15 -> 0 | AA12: =Y12+W12+U12+S12+Q12+O12+M12+K12+I12+G12+E12+C12 -> #REF! | AB12: =Z12+X12+V12+T12+R12+P12+N12+L12+J12+H12+F12+D12 -> #REF!
A13: Internat | B13: Résident 10 | C13: ='01'!X15+'[1]02'!AD16+'[1]03'!AD16+'[1]04'!AD16 -> 21 | D13: ='01'!Y15+'[1]02'!AE16+'[1]03'!AE16+'[1]04'!AE16 -> 60 | E13: ='[1]05'!X15+'[1]06'!W16+'[1]07'!W16+'[1]08'!W16+'[1]09'!W16 -> 0 | F13: ='[1]05'!Y15+'[1]06'!X16+'[1]07'!X16+'[1]08'!X16+'[1]09'!X16 -> 0 | G13: ='[1]09'!Y16+'[1]10'!W16+'[1]11'!W16+'[1]12'!W16+'[1]13'!W16 -> 0 | H13: ='[1]09'!Z16+'[1]10'!X16+'[1]11'!X16+'[1]12'!X16+'[1]13'!X16 -> 0 | I13: ='[1]13'!Y16+'[1]14'!W16+'[1]15'!W16+'[1]16'!W16+'[1]17'!W16 -> 0 | J13: ='[1]13'!Z16+'[1]14'!X16+'[1]15'!X16+'[1]16'!X16+'[1]17'!X16 -> 0 | K13: ='[1]17'!Y16+'[1]18'!W16+'[1]19'!W16+'[1]20'!W16+'[1]21'!W16+'[1]22'!W16 -> 0 | L13: ='[1]17'!Z16+'[1]18'!X16+'[1]19'!X16+'[1]20'!X16+'[1]21'!X16+'[1]22'!X16 -> 0 | M13: ='[1]22'!Y16+'[1]23'!W16+'[1]24'!W16+'[1]25'!W16+'[1]26'!W16 -> 0 | N13: ='[1]22'!Z16+'[1]23'!X16+'[1]24'!X16+'[1]25'!X16+'[1]26'!X16 -> 0 | O13: ='[1]26'!Y16+'[1]27'!W16+'[1]28'!W16+'[1]29'!W16+'[1]30'!W16 -> 0 | P13: ='[1]26'!Z16+'[1]27'!X16+'[1]28'!X16+'[1]29'!X16+'[1]30'!X16 -> 0 | Q13: ='[1]31'!W16+'[1]32'!W16+'[1]33'!W16+'[1]34'!W16+'[1]35'!W16 -> 0 | R13: ='[1]31'!X16+'[1]32'!X16+'[1]33'!X16+'[1]34'!X16+'[1]35'!X16 -> 0 | S13: ='[1]35'!Y16+'[1]36'!W16+'[1]37'!W16+'[1]38'!W16+'[1]39'!W16 -> 0 | T13: ='[1]35'!Z16+'[1]36'!X16+'[1]37'!X16+'[1]38'!X16+'[1]39'!X16 -> 0 | U13: ='[1]39'!#REF!+'[1]40'!W16+'[1]41'!W16+'[1]42'!W16+'[1]43'!W16+'[1]44'!W16 -> #REF! | V13: ='[1]39'!#REF!+'[1]40'!X16+'[1]41'!X16+'[1]42'!X16+'[1]43'!X16+'[1]44'!X16 -> #REF! | W13: ='[1]44'!#REF!+'[1]45'!W16+'[1]46'!W16+'[1]47'!W16+'[1]48'!W16 -> #REF! | X13: ='[1]44'!#REF!+'[1]45'!X16+'[1]46'!X16+'[1]47'!X16+'[1]48'!X16 -> #REF! | Y13: ='[1]48'!Y16+'[1]49'!W16+'[1]50'!P16+'[1]51'!W16+'[1]52'!W16 -> 0 | Z13: ='[1]48'!Z16+'[1]49'!X16+'[1]50'!Q16+'[1]51'!X16+'[1]52'!X16 -> 0 | AA13: =Y13+W13+U13+S13+Q13+O13+M13+K13+I13+G13+E13+C13 -> #REF! | AB13: =Z13+X13+V13+T13+R13+P13+N13+L13+J13+H13+F13+D13 -> #REF!
A14: Internat | B14: Résident 11 | C14: ='01'!X16+'[1]02'!AD17+'[1]03'!AD17+'[1]04'!AD17 -> 21 | D14: ='01'!Y16+'[1]02'!AE17+'[1]03'!AE17+'[1]04'!AE17 -> 59 | E14: ='[1]05'!X16+'[1]06'!W17+'[1]07'!W17+'[1]08'!W17+'[1]09'!W17 -> 0 | F14: ='[1]05'!Y16+'[1]06'!X17+'[1]07'!X17+'[1]08'!X17+'[1]09'!X17 -> 0 | G14: ='[1]09'!Y17+'[1]10'!W17+'[1]11'!W17+'[1]12'!W17+'[1]13'!W17 -> 0 | H14: ='[1]09'!Z17+'[1]10'!X17+'[1]11'!X17+'[1]12'!X17+'[1]13'!X17 -> 0 | I14: ='[1]13'!Y17+'[1]14'!W17+'[1]15'!W17+'[1]16'!W17+'[1]17'!W17 -> 0 | J14: ='[1]13'!Z17+'[1]14'!X17+'[1]15'!X17+'[1]16'!X17+'[1]17'!X17 -> 0 | K14: ='[1]17'!Y17+'[1]18'!W17+'[1]19'!W17+'[1]20'!W17+'[1]21'!W17+'[1]22'!W17 -> 0 | L14: ='[1]17'!Z17+'[1]18'!X17+'[1]19'!X17+'[1]20'!X17+'[1]21'!X17+'[1]22'!X17 -> 0 | M14: ='[1]22'!Y17+'[1]23'!W17+'[1]24'!W17+'[1]25'!W17+'[1]26'!W17 -> 0 | N14: ='[1]22'!Z17+'[1]23'!X17+'[1]24'!X17+'[1]25'!X17+'[1]26'!X17 -> 0 | O14: ='[1]26'!Y17+'[1]27'!W17+'[1]28'!W17+'[1]29'!W17+'[1]30'!W17 -> 0 | P14: ='[1]26'!Z17+'[1]27'!X17+'[1]28'!X17+'[1]29'!X17+'[1]30'!X17 -> 0 | Q14: ='[1]31'!W17+'[1]32'!W17+'[1]33'!W17+'[1]34'!W17+'[1]35'!W17 -> 0 | R14: ='[1]31'!X17+'[1]32'!X17+'[1]33'!X17+'[1]34'!X17+'[1]35'!X17 -> 0 | S14: ='[1]35'!Y17+'[1]36'!W17+'[1]37'!W17+'[1]38'!W17+'[1]39'!W17 -> 0 | T14: ='[1]35'!Z17+'[1]36'!X17+'[1]37'!X17+'[1]38'!X17+'[1]39'!X17 -> 0 | U14: ='[1]39'!#REF!+'[1]40'!W17+'[1]41'!W17+'[1]42'!W17+'[1]43'!W17+'[1]44'!W17 -> #REF! | V14: ='[1]39'!#REF!+'[1]40'!X17+'[1]41'!X17+'[1]42'!X17+'[1]43'!X17+'[1]44'!X17 -> #REF! | W14: ='[1]44'!#REF!+'[1]45'!W17+'[1]46'!W17+'[1]47'!W17+'[1]48'!W17 -> #REF! | X14: ='[1]44'!#REF!+'[1]45'!X17+'[1]46'!X17+'[1]47'!X17+'[1]48'!X17 -> #REF! | Y14: ='[1]48'!Y17+'[1]49'!W17+'[1]50'!P17+'[1]51'!W17+'[1]52'!W17 -> 0 | Z14: ='[1]48'!Z17+'[1]49'!X17+'[1]50'!Q17+'[1]51'!X17+'[1]52'!X17 -> 0 | AA14: =Y14+W14+U14+S14+Q14+O14+M14+K14+I14+G14+E14+C14 -> #REF! | AB14: =Z14+X14+V14+T14+R14+P14+N14+L14+J14+H14+F14+D14 -> #REF!
A15: Internat | B15: Résident 12 | C15: ='01'!X17+'[1]02'!AD18+'[1]03'!AD18+'[1]04'!AD18 -> 21 | D15: ='01'!Y17+'[1]02'!AE18+'[1]03'!AE18+'[1]04'!AE18 -> 58 | E15: ='[1]05'!X17+'[1]06'!W18+'[1]07'!W18+'[1]08'!W18+'[1]09'!W18 -> 0 | F15: ='[1]05'!Y17+'[1]06'!X18+'[1]07'!X18+'[1]08'!X18+'[1]09'!X18 -> 0 | G15: ='[1]09'!Y18+'[1]10'!W18+'[1]11'!W18+'[1]12'!W18+'[1]13'!W18 -> 0 | H15: ='[1]09'!Z18+'[1]10'!X18+'[1]11'!X18+'[1]12'!X18+'[1]13'!X18 -> 0 | I15: ='[1]13'!Y18+'[1]14'!W18+'[1]15'!W18+'[1]16'!W18+'[1]17'!W18 -> 0 | J15: ='[1]13'!Z18+'[1]14'!X18+'[1]15'!X18+'[1]16'!X18+'[1]17'!X18 -> 0 | K15: ='[1]17'!Y18+'[1]18'!W18+'[1]19'!W18+'[1]20'!W18+'[1]21'!W18+'[1]22'!W18 -> 0 | L15: ='[1]17'!Z18+'[1]18'!X18+'[1]19'!X18+'[1]20'!X18+'[1]21'!X18+'[1]22'!X18 -> 0 | M15: ='[1]22'!Y18+'[1]23'!W18+'[1]24'!W18+'[1]25'!W18+'[1]26'!W18 -> 0 | N15: ='[1]22'!Z18+'[1]23'!X18+'[1]24'!X18+'[1]25'!X18+'[1]26'!X18 -> 0 | O15: ='[1]26'!Y18+'[1]27'!W18+'[1]28'!W18+'[1]29'!W18+'[1]30'!W18 -> 0 | P15: ='[1]26'!Z18+'[1]27'!X18+'[1]28'!X18+'[1]29'!X18+'[1]30'!X18 -> 0 | Q15: ='[1]31'!W18+'[1]32'!W18+'[1]33'!W18+'[1]34'!W18+'[1]35'!W18 -> 0 | R15: ='[1]31'!X18+'[1]32'!X18+'[1]33'!X18+'[1]34'!X18+'[1]35'!X18 -> 0 | S15: ='[1]35'!Y18+'[1]36'!W18+'[1]37'!W18+'[1]38'!W18+'[1]39'!W18 -> 0 | T15: ='[1]35'!Z18+'[1]36'!X18+'[1]37'!X18+'[1]38'!X18+'[1]39'!X18 -> 0 | U15: ='[1]39'!#REF!+'[1]40'!W18+'[1]41'!W18+'[1]42'!W18+'[1]43'!W18+'[1]44'!W18 -> #REF! | V15: ='[1]39'!#REF!+'[1]40'!X18+'[1]41'!X18+'[1]42'!X18+'[1]43'!X18+'[1]44'!X18 -> #REF! | W15: ='[1]44'!#REF!+'[1]45'!W18+'[1]46'!W18+'[1]47'!W18+'[1]48'!W18 -> #REF! | X15: ='[1]44'!#REF!+'[1]45'!X18+'[1]46'!X18+'[1]47'!X18+'[1]48'!X18 -> #REF! | Y15: ='[1]48'!Y18+'[1]49'!W18+'[1]50'!P18+'[1]51'!W18+'[1]52'!W18 -> 0 | Z15: ='[1]48'!Z18+'[1]49'!X18+'[1]50'!Q18+'[1]51'!X18+'[1]52'!X18 -> 0 | AA15: =Y15+W15+U15+S15+Q15+O15+M15+K15+I15+G15+E15+C15 -> #REF! | AB15: =Z15+X15+V15+T15+R15+P15+N15+L15+J15+H15+F15+D15 -> #REF!
... A51: Externat | B51: Résident 48 | C51: ='01'!X53+'[1]02'!AD54+'[1]03'!AD54+'[1]04'!AD54 -> 14 | D51: ='01'!Y53+'[1]02'!AE54+'[1]03'!AE54+'[1]04'!AE54 -> 32 | E51: ='[1]05'!X53+'[1]06'!W54+'[1]07'!W54+'[1]08'!W54+'[1]09'!W54 -> 0 | F51: ='[1]05'!Y53+'[1]06'!X54+'[1]07'!X54+'[1]08'!X54+'[1]09'!X54 -> 0 | G51: ='[1]09'!Y54+'[1]10'!W54+'[1]11'!W54+'[1]12'!W54+'[1]13'!W54 -> 0 | H51: ='[1]09'!Z54+'[1]10'!X54+'[1]11'!X54+'[1]12'!X54+'[1]13'!X54 -> 0 | I51: ='[1]13'!Y54+'[1]14'!W54+'[1]15'!W54+'[1]16'!W54+'[1]17'!W54 -> 0 | J51: ='[1]13'!Z54+'[1]14'!X54+'[1]15'!X54+'[1]16'!X54+'[1]17'!X54 -> 0 | K51: ='[1]17'!Y54+'[1]18'!W54+'[1]19'!W54+'[1]20'!W54+'[1]21'!W54+'[1]22'!W54 -> 0 | L51: ='[1]17'!Z54+'[1]18'!X54+'[1]19'!X54+'[1]20'!X54+'[1]21'!X54+'[1]22'!X54 -> 0 | M51: ='[1]22'!Y54+'[1]23'!W54+'[1]24'!W54+'[1]25'!W54+'[1]26'!W54 -> 0 | N51: ='[1]22'!Z54+'[1]23'!X54+'[1]24'!X54+'[1]25'!X54+'[1]26'!X54 -> 0 | O51: ='[1]26'!Y54+'[1]27'!W54+'[1]28'!W54+'[1]29'!W54+'[1]30'!W54 -> 0 | P51: ='[1]26'!Z54+'[1]27'!X54+'[1]28'!X54+'[1]29'!X54+'[1]30'!X54 -> 0 | Q51: ='[1]31'!W54+'[1]32'!W54+'[1]33'!W54+'[1]34'!W54+'[1]35'!W54 -> 0 | R51: ='[1]31'!X54+'[1]32'!X54+'[1]33'!X54+'[1]34'!X54+'[1]35'!X54 -> 0 | S51: ='[1]35'!Y54+'[1]36'!W54+'[1]37'!W54+'[1]38'!W54+'[1]39'!W54 -> 0 | T51: ='[1]35'!Z54+'[1]36'!X54+'[1]37'!X54+'[1]38'!X54+'[1]39'!X54 -> 0 | U51: ='[1]39'!#REF!+'[1]40'!W54+'[1]41'!W54+'[1]42'!W54+'[1]43'!W54+'[1]44'!W54 -> #REF! | V51: ='[1]39'!#REF!+'[1]40'!X54+'[1]41'!X54+'[1]42'!X54+'[1]43'!X54+'[1]44'!X54 -> #REF! | W51: ='[1]44'!#REF!+'[1]45'!W54+'[1]46'!W54+'[1]47'!W54+'[1]48'!W54 -> #REF! | X51: ='[1]44'!#REF!+'[1]45'!X54+'[1]46'!X54+'[1]47'!X54+'[1]48'!X54 -> #REF! | Y51: ='[1]48'!Y54+'[1]49'!W54+'[1]50'!P54+'[1]51'!W54+'[1]52'!W54 -> 0 | Z51: ='[1]48'!Z54+'[1]49'!X54+'[1]50'!Q54+'[1]51'!X54+'[1]52'!X54 -> 0 | AA51: =Y51+W51+U51+S51+Q51+O51+M51+K51+I51+G51+E51+C51 -> #REF! | AB51: =Z51+X51+V51+T51+R51+P51+N51+L51+J51+H51+F51+D51 -> #REF!
C52: ='01'!X54+'[1]02'!AD55+'[1]03'!AD55+'[1]04'!AD55 -> 14 | D52: ='01'!Y54+'[1]02'!AE55+'[1]03'!AE55+'[1]04'!AE55 -> 35 | E52: ='[1]05'!X54+'[1]06'!W55+'[1]07'!W55+'[1]08'!W55+'[1]09'!W55 -> 0 | F52: ='[1]05'!Y54+'[1]06'!X55+'[1]07'!X55+'[1]08'!X55+'[1]09'!X55 -> 0 | G52: ='[1]09'!Y55+'[1]10'!W55+'[1]11'!W55+'[1]12'!W55+'[1]13'!W55 -> 0 | H52: ='[1]09'!Z55+'[1]10'!X55+'[1]11'!X55+'[1]12'!X55+'[1]13'!X55 -> 0 | I52: ='[1]13'!Y55+'[1]14'!W55+'[1]15'!W55+'[1]16'!W55+'[1]17'!W55 -> 0 | J52: ='[1]13'!Z55+'[1]14'!X55+'[1]15'!X55+'[1]16'!X55+'[1]17'!X55 -> 0 | K52: ='[1]17'!Y55+'[1]18'!W55+'[1]19'!W55+'[1]20'!W55+'[1]21'!W55+'[1]22'!W55 -> 0 | L52: ='[1]17'!Z55+'[1]18'!X55+'[1]19'!X55+'[1]20'!X55+'[1]21'!X55+'[1]22'!X55 -> 0 | M52: ='[1]22'!Y55+'[1]23'!W55+'[1]24'!W55+'[1]25'!W55+'[1]26'!W55 -> 0 | N52: ='[1]22'!Z55+'[1]23'!X55+'[1]24'!X55+'[1]25'!X55+'[1]26'!X55 -> 0 | O52: ='[1]26'!Y55+'[1]27'!W55+'[1]28'!W55+'[1]29'!W55+'[1]30'!W55 -> 0 | P52: ='[1]26'!Z55+'[1]27'!X55+'[1]28'!X55+'[1]29'!X55+'[1]30'!X55 -> 0 | Q52: ='[1]31'!W55+'[1]32'!W55+'[1]33'!W55+'[1]34'!W55+'[1]35'!W55 -> 0 | R52: ='[1]31'!X55+'[1]32'!X55+'[1]33'!X55+'[1]34'!X55+'[1]35'!X55 -> 0 | S52: ='[1]35'!Y55+'[1]36'!W55+'[1]37'!W55+'[1]38'!W55+'[1]39'!W55 -> 0 | T52: ='[1]35'!Z55+'[1]36'!X55+'[1]37'!X55+'[1]38'!X55+'[1]39'!X55 -> 0 | U52: ='[1]39'!#REF!+'[1]40'!W55+'[1]41'!W55+'[1]42'!W55+'[1]43'!W55+'[1]44'!W55 -> #REF! | V52: ='[1]39'!#REF!+'[1]40'!X55+'[1]41'!X55+'[1]42'!X55+'[1]43'!X55+'[1]44'!X55 -> #REF! | W52: ='[1]44'!#REF!+'[1]45'!W55+'[1]46'!W55+'[1]47'!W55+'[1]48'!W55 -> #REF! | X52: ='[1]44'!#REF!+'[1]45'!X55+'[1]46'!X55+'[1]47'!X55+'[1]48'!X55 -> #REF! | Y52: ='[1]48'!Y55+'[1]49'!W55+'[1]50'!P55+'[1]51'!W55+'[1]52'!W55 -> 0 | Z52: ='[1]48'!Z55+'[1]49'!X55+'[1]50'!Q55+'[1]51'!X55+'[1]52'!X55 -> 0 | AA52: =Y52+W52+U52+S52+Q52+O52+M52+K52+I52+G52+E52+C52 -> #REF! | AB52: =Z52+X52+V52+T52+R52+P52+N52+L52+J52+H52+F52+D52 -> #REF!
