Workbook
Name An: données!$A$4
Name An_ref: 'AO - 1'!$G$2
Name An_ref: VIERGE!$G$2
Name An_ref: 'VIERGE (2)'!$G$2
Name An_ref: 'VIERGE test zoom menu deroulant'!$G$2
Name An_ref: #REF!
Name Dates: données!$F$1
Name Fériés_ref: OFFSET(données!$F$1,1,,COUNTA(données!$F:$F)-1,)
Name Jours_chômés: données!$D$2:$D$8
Name Premier_mois: données!$A$2
Name Tab_feri: données!$F$2:$G$15

Sheet RECAP GENERALE
B2: RECAPITUALTIF GENERALE
D4: Sur 1 ans | F4: Sur 2 ans
B6: AO 1 | D6: =RECAP!R20 -> 4
F7: =RECAP!T20 -> #REF!
B8: AO 2 | D8: =RECAP!R36 -> #REF!
B10: AGRI 1 | D10: =RECAP!R52 -> #REF!
F11: =RECAP!T52 -> #REF!
B12: AGRI 2 | D12: =RECAP!R68 -> #REF!
B14: CG 1 | D14: =RECAP!R84 -> #REF!
F15: =RECAP!T84 -> #REF!
B16: CG 2 | D16: =RECAP!R100 -> #REF!
B18: PART 1 | D18: =RECAP!R148 -> #REF!
F19: =RECAP!T116 -> #REF!
B20: PART 2 | D20: =RECAP!R196 -> #REF!

Sheet RECAP
E1: RECAPITULATIF
A3: Années | B3: Années | D3: liste chantier | E3: janvier | F3: fevrier | G3: mars | H3: avril | I3: mai | J3: juin | K3: juillet | L3: aout | M3: septembre | N3: octobre | O3: novembre | P3: décembre | R3: total sur 1 ans | T3: total sur 2 ans
A5: 1 | B5: AO 1 | C5: 1 | E5: ='AO - 1'!B8 -> 2 | F5: ='AO - 1'!V8 -> 0 | G5: ='AO - 1'!AP8 -> 0 | H5: ='AO - 1'!B120 -> 0 | I5: ='AO - 1'!V120 -> 0 | J5: ='AO - 1'!AP120 -> 0 | K5: ='AO - 1'!B231 -> 0 | L5: ='AO - 1'!V231 -> 0 | M5: ='AO - 1'!AP231 -> 0 | N5: ='AO - 1'!B342 -> 0 | O5: ='AO - 1'!V342 -> 0 | P5: ='AO - 1'!AP342 -> 0 | R5: =SUM(E5:P5) -> 2 | T5: =R5+R21 -> #REF!
A6: 1 | B6: AO 1 | C6: 2 | E6: ='AO - 1'!B9 -> 0 | F6: ='AO - 1'!V9 -> 0 | G6: ='AO - 1'!AP9 -> 0 | H6: ='AO - 1'!B121 -> 0 | I6: ='AO - 1'!V121 -> 0 | J6: ='AO - 1'!AP121 -> 0 | K6: ='AO - 1'!B232 -> 0 | L6: ='AO - 1'!V232 -> 0 | M6: ='AO - 1'!AP232 -> 0 | N6: ='AO - 1'!B343 -> 0 | O6: ='AO - 1'!V343 -> 0 | P6: ='AO - 1'!AP343 -> 0 | R6: =SUM(E6:P6) -> 0 | T6: =R6+R22 -> #REF!
A7: 1 | B7: AO 1 | C7: 3 | E7: ='AO - 1'!B10 -> 2 | F7: ='AO - 1'!V10 -> 0 | G7: ='AO - 1'!AP10 -> 0 | H7: ='AO - 1'!B122 -> 0 | I7: ='AO - 1'!V122 -> 0 | J7: ='AO - 1'!AP122 -> 0 | K7: ='AO - 1'!B233 -> 0 | L7: ='AO - 1'!V233 -> 0 | M7: ='AO - 1'!AP233 -> 0 | N7: ='AO - 1'!B344 -> 0 | O7: ='AO - 1'!V344 -> 0 | P7: ='AO - 1'!AP344 -> 0 | R7: =SUM(E7:P7) -> 2 | T7: =R7+R23 -> #REF!
A8: 1 | B8: AO 1 | C8: 4 | E8: ='AO - 1'!B11 -> 0 | F8: ='AO - 1'!V11 -> 0 | G8: ='AO - 1'!AP11 -> 0 | H8: ='AO - 1'!B123 -> 0 | I8: ='AO - 1'!V123 -> 0 | J8: ='AO - 1'!AP123 -> 0 | K8: ='AO - 1'!B234 -> 0 | L8: ='AO - 1'!V234 -> 0 | M8: ='AO - 1'!AP234 -> 0 | N8: ='AO - 1'!B345 -> 0 | O8: ='AO - 1'!V345 -> 0 | P8: ='AO - 1'!AP345 -> 0 | R8: =SUM(E8:P8) -> 0 | T8: =R8+R24 -> #REF!
A9: 1 | B9: AO 1 | C9: 5 | E9: ='AO - 1'!B12 -> 0 | F9: ='AO - 1'!V12 -> 0 | G9: ='AO - 1'!AP12 -> 0 | H9: ='AO - 1'!B124 -> 0 | I9: ='AO - 1'!V124 -> 0 | J9: ='AO - 1'!AP124 -> 0 | K9: ='AO - 1'!B235 -> 0 | L9: ='AO - 1'!V235 -> 0 | M9: ='AO - 1'!AP235 -> 0 | N9: ='AO - 1'!B346 -> 0 | O9: ='AO - 1'!V346 -> 0 | P9: ='AO - 1'!AP346 -> 0 | R9: =SUM(E9:P9) -> 0 | T9: =R9+R25 -> #REF!
A10: 1 | B10: AO 1 | C10: 6 | E10: ='AO - 1'!B13 -> 0 | F10: ='AO - 1'!V13 -> 0 | G10: ='AO - 1'!AP13 -> 0 | H10: ='AO - 1'!B125 -> 0 | I10: ='AO - 1'!V125 -> 0 | J10: ='AO - 1'!AP125 -> 0 | K10: ='AO - 1'!B236 -> 0 | L10: ='AO - 1'!V236 -> 0 | M10: ='AO - 1'!AP236 -> 0 | N10: ='AO - 1'!B347 -> 0 | O10: ='AO - 1'!V347 -> 0 | P10: ='AO - 1'!AP347 -> 0 | R10: =SUM(E10:P10) -> 0 | T10: =R10+R26 -> #REF!
A11: 1 | B11: AO 1 | C11: 7 | E11: ='AO - 1'!B14 -> 0 | F11: ='AO - 1'!V14 -> 0 | G11: ='AO - 1'!AP14 -> 0 | H11: ='AO - 1'!B126 -> 0 | I11: ='AO - 1'!V126 -> 0 | J11: ='AO - 1'!AP126 -> 0 | K11: ='AO - 1'!B237 -> 0 | L11: ='AO - 1'!V237 -> 0 | M11: ='AO - 1'!AP237 -> 0 | N11: ='AO - 1'!B348 -> 0 | O11: ='AO - 1'!V348 -> 0 | P11: ='AO - 1'!AP348 -> 0 | R11: =SUM(E11:P11) -> 0 | T11: =R11+R27 -> #REF!
A12: 1 | B12: AO 1 | C12: 8 | E12: ='AO - 1'!B15 -> 0 | F12: ='AO - 1'!V15 -> 0 | G12: ='AO - 1'!AP15 -> 0 | H12: ='AO - 1'!B127 -> 0 | I12: ='AO - 1'!V127 -> 0 | J12: ='AO - 1'!AP127 -> 0 | K12: ='AO - 1'!B238 -> 0 | L12: ='AO - 1'!V238 -> 0 | M12: ='AO - 1'!AP238 -> 0 | N12: ='AO - 1'!B349 -> 0 | O12: ='AO - 1'!V349 -> 0 | P12: ='AO - 1'!AP349 -> 0 | R12: =SUM(E12:P12) -> 0 | T12: =R12+R28 -> #REF!
A13: 1 | B13: AO 1 | C13: 9 | E13: ='AO - 1'!B16 -> 0 | F13: ='AO - 1'!V16 -> 0 | G13: ='AO - 1'!AP16 -> 0 | H13: ='AO - 1'!B128 -> 0 | I13: ='AO - 1'!V128 -> 0 | J13: ='AO - 1'!AP128 -> 0 | K13: ='AO - 1'!B239 -> 0 | L13: ='AO - 1'!V239 -> 0 | M13: ='AO - 1'!AP239 -> 0 | N13: ='AO - 1'!B350 -> 0 | O13: ='AO - 1'!V350 -> 0 | P13: ='AO - 1'!AP350 -> 0 | R13: =SUM(E13:P13) -> 0 | T13: =R13+R29 -> #REF!
A14: 1 | B14: AO 1 | C14: 10 | E14: ='AO - 1'!B17 -> 0 | F14: ='AO - 1'!V17 -> 0 | G14: ='AO - 1'!AP17 -> 0 | H14: ='AO - 1'!B129 -> 0 | I14: ='AO - 1'!V129 -> 0 | J14: ='AO - 1'!AP129 -> 0 | K14: ='AO - 1'!B240 -> 0 | L14: ='AO - 1'!V240 -> 0 | M14: ='AO - 1'!AP240 -> 0 | N14: ='AO - 1'!B351 -> 0 | O14: ='AO - 1'!V351 -> 0 | P14: ='AO - 1'!AP351 -> 0 | R14: =SUM(E14:P14) -> 0 | T14: =R14+R30 -> #REF!
A15: 1 | B15: AO 1 | C15: 11 | E15: ='AO - 1'!B18 -> 0 | F15: ='AO - 1'!V18 -> 0 | G15: ='AO - 1'!AP18 -> 0 | H15: ='AO - 1'!B130 -> 0 | I15: ='AO - 1'!V130 -> 0 | J15: ='AO - 1'!AP130 -> 0 | K15: ='AO - 1'!B241 -> 0 | L15: ='AO - 1'!V241 -> 0 | M15: ='AO - 1'!AP241 -> 0 | N15: ='AO - 1'!B352 -> 0 | O15: ='AO - 1'!V352 -> 0 | P15: ='AO - 1'!AP352 -> 0 | R15: =SUM(E15:P15) -> 0 | T15: =R15+R31 -> #REF!
A16: 1 | B16: AO 1 | C16: 12 | E16: ='AO - 1'!B19 -> 0 | F16: ='AO - 1'!V19 -> 0 | G16: ='AO - 1'!AP19 -> 0 | H16: ='AO - 1'!B131 -> 0 | I16: ='AO - 1'!V131 -> 0 | J16: ='AO - 1'!AP131 -> 0 | K16: ='AO - 1'!B242 -> 0 | L16: ='AO - 1'!V242 -> 0 | M16: ='AO - 1'!AP242 -> 0 | N16: ='AO - 1'!B353 -> 0 | O16: ='AO - 1'!V353 -> 0 | P16: ='AO - 1'!AP353 -> 0 | R16: =SUM(E16:P16) -> 0 | T16: =R16+R32 -> #REF!
... A19: 1 | B19: AO 1 | C19: 15 | E19: ='AO - 1'!B22 -> 0 | F19: ='AO - 1'!V22 -> 0 | G19: ='AO - 1'!AP22 -> 0 | H19: ='AO - 1'!B134 -> 0 | I19: ='AO - 1'!V134 -> 0 | J19: ='AO - 1'!AP134 -> 0 | K19: ='AO - 1'!B245 -> 0 | L19: ='AO - 1'!V245 -> 0 | M19: ='AO - 1'!AP245 -> 0 | N19: ='AO - 1'!B356 -> 0 | O19: ='AO - 1'!V356 -> 0 | P19: ='AO - 1'!AP356 -> 0 | R19: =SUM(E19:P19) -> 0 | T19: =R19+R35 -> #REF!
N20: total des chantiers de la première année | R20: =SUM(R5:R19) -> 4 | T20: =SUM(T5:T19) -> #REF! | U20: total de tout les chantiers sur 2 ans
A21: 2 | B21: AO 2 | C21: 1 | E21: =#REF! -> #REF! | F21: =#REF! -> #REF! | G21: =#REF! -> #REF! | H21: =#REF! -> #REF! | I21: =#REF! -> #REF! | J21: =#REF! -> #REF! | K21: =#REF! -> #REF! | L21: =#REF! -> #REF! | ... P21: =#REF! -> #REF! | R21: =SUM(E21:P21) -> #REF!
A22: 2 | B22: AO 2 | C22: 2 | E22: =#REF! -> #REF! | F22: =#REF! -> #REF! | G22: =#REF! -> #REF! | H22: =#REF! -> #REF! | I22: =#REF! -> #REF! | J22: =#REF! -> #REF! | K22: =#REF! -> #REF! | L22: =#REF! -> #REF! | ... P22: =#REF! -> #REF! | R22: =SUM(E22:P22) -> #REF!
A23: 2 | B23: AO 2 | C23: 3 | E23: =#REF! -> #REF! | F23: =#REF! -> #REF! | G23: =#REF! -> #REF! | H23: =#REF! -> #REF! | I23: =#REF! -> #REF! | J23: =#REF! -> #REF! | K23: =#REF! -> #REF! | L23: =#REF! -> #REF! | ... P23: =#REF! -> #REF! | R23: =SUM(E23:P23) -> #REF!
A24: 2 | B24: AO 2 | C24: 4 | E24: =#REF! -> #REF! | F24: =#REF! -> #REF! | G24: =#REF! -> #REF! | H24: =#REF! -> #REF! | I24: =#REF! -> #REF! | J24: =#REF! -> #REF! | K24: =#REF! -> #REF! | L24: =#REF! -> #REF! | ... P24: =#REF! -> #REF! | R24: =SUM(E24:P24) -> #REF!
A25: 2 | B25: AO 2 | C25: 5 | E25: =#REF! -> #REF! | F25: =#REF! -> #REF! | G25: =#REF! -> #REF! | H25: =#REF! -> #REF! | I25: =#REF! -> #REF! | J25: =#REF! -> #REF! | K25: =#REF! -> #REF! | L25: =#REF! -> #REF! | ... P25: =#REF! -> #REF! | R25: =SUM(E25:P25) -> #REF!
A26: 2 | B26: AO 2 | C26: 6 | E26: =#REF! -> #REF! | F26: =#REF! -> #REF! | G26: =#REF! -> #REF! | H26: =#REF! -> #REF! | I26: =#REF! -> #REF! | J26: =#REF! -> #REF! | K26: =#REF! -> #REF! | L26: =#REF! -> #REF! | ... P26: =#REF! -> #REF! | R26: =SUM(E26:P26) -> #REF!
A27: 2 | B27: AO 2 | C27: 7 | E27: =#REF! -> #REF! | F27: =#REF! -> #REF! | G27: =#REF! -> #REF! | H27: =#REF! -> #REF! | I27: =#REF! -> #REF! | J27: =#REF! -> #REF! | K27: =#REF! -> #REF! | L27: =#REF! -> #REF! | ... P27: =#REF! -> #REF! | R27: =SUM(E27:P27) -> #REF!
A28: 2 | B28: AO 2 | C28: 8 | E28: =#REF! -> #REF! | F28: =#REF! -> #REF! | G28: =#REF! -> #REF! | H28: =#REF! -> #REF! | I28: =#REF! -> #REF! | J28: =#REF! -> #REF! | K28: =#REF! -> #REF! | L28: =#REF! -> #REF! | ... P28: =#REF! -> #REF! | R28: =SUM(E28:P28) -> #REF!
A29: 2 | B29: AO 2 | C29: 9 | E29: =#REF! -> #REF! | F29: =#REF! -> #REF! | G29: =#REF! -> #REF! | H29: =#REF! -> #REF! | I29: =#REF! -> #REF! | J29: =#REF! -> #REF! | K29: =#REF! -> #REF! | L29: =#REF! -> #REF! | ... P29: =#REF! -> #REF! | R29: =SUM(E29:P29) -> #REF!
A30: 2 | B30: AO 2 | C30: 10 | E30: =#REF! -> #REF! | F30: =#REF! -> #REF! | G30: =#REF! -> #REF! | H30: =#REF! -> #REF! | I30: =#REF! -> #REF! | J30: =#REF! -> #REF! | K30: =#REF! -> #REF! | L30: =#REF! -> #REF! | ... P30: =#REF! -> #REF! | R30: =SUM(E30:P30) -> #REF!
A31: 2 | B31: AO 2 | C31: 11 | E31: =#REF! -> #REF! | F31: =#REF! -> #REF! | G31: =#REF! -> #REF! | H31: =#REF! -> #REF! | I31: =#REF! -> #REF! | J31: =#REF! -> #REF! | K31: =#REF! -> #REF! | L31: =#REF! -> #REF! | ... P31: =#REF! -> #REF! | R31: =SUM(E31:P31) -> #REF!
A32: 2 | B32: AO 2 | C32: 12 | E32: =#REF! -> #REF! | F32: =#REF! -> #REF! | G32: =#REF! -> #REF! | H32: =#REF! -> #REF! | I32: =#REF! -> #REF! | J32: =#REF! -> #REF! | K32: =#REF! -> #REF! | L32: =#REF! -> #REF! | ... P32: =#REF! -> #REF! | R32: =SUM(E32:P32) -> #REF!
... A35: 2 | B35: AO 2 | C35: 15 | E35: =#REF! -> #REF! | F35: =#REF! -> #REF! | G35: =#REF! -> #REF! | H35: =#REF! -> #REF! | I35: =#REF! -> #REF! | J35: =#REF! -> #REF! | K35: =#REF! -> #REF! | L35: =#REF! -> #REF! | ... P35: =#REF! -> #REF! | R35: =SUM(E35:P35) -> #REF!
N36: total des chantiers de la deuxième année | R36: =SUM(R21:R35) -> #REF!
A37: 1 | B37: AGRI 1 | C37: 1 | E37: =#REF! -> #REF! | F37: =#REF! -> #REF! | G37: =#REF! -> #REF! | H37: =#REF! -> #REF! | I37: =#REF! -> #REF! | J37: =#REF! -> #REF! | K37: =#REF! -> #REF! | L37: =#REF! -> #REF! | ... P37: =#REF! -> #REF! | R37: =SUM(E37:P37) -> #REF! | T37: =R37+R53 -> #REF!
A38: 1 | B38: AGRI 1 | C38: 2 | E38: =#REF! -> #REF! | F38: =#REF! -> #REF! | G38: =#REF! -> #REF! | H38: =#REF! -> #REF! | I38: =#REF! -> #REF! | J38: =#REF! -> #REF! | K38: =#REF! -> #REF! | L38: =#REF! -> #REF! | ... P38: =#REF! -> #REF! | R38: =SUM(E38:P38) -> #REF! | T38: =R38+R54 -> #REF!
A39: 1 | B39: AGRI 1 | C39: 3 | E39: =#REF! -> #REF! | F39: =#REF! -> #REF! | G39: =#REF! -> #REF! | H39: =#REF! -> #REF! | I39: =#REF! -> #REF! | J39: =#REF! -> #REF! | K39: =#REF! -> #REF! | L39: =#REF! -> #REF! | ... P39: =#REF! -> #REF! | R39: =SUM(E39:P39) -> #REF! | T39: =R39+R55 -> #REF!
A40: 1 | B40: AGRI 1 | C40: 4 | E40: =#REF! -> #REF! | F40: =#REF! -> #REF! | G40: =#REF! -> #REF! | H40: =#REF! -> #REF! | I40: =#REF! -> #REF! | J40: =#REF! -> #REF! | K40: =#REF! -> #REF! | L40: =#REF! -> #REF! | ... P40: =#REF! -> #REF! | R40: =SUM(E40:P40) -> #REF! | T40: =R40+R56 -> #REF!
A41: 1 | B41: AGRI 1 | C41: 5 | E41: =#REF! -> #REF! | F41: =#REF! -> #REF! | G41: =#REF! -> #REF! | H41: =#REF! -> #REF! | I41: =#REF! -> #REF! | J41: =#REF! -> #REF! | K41: =#REF! -> #REF! | L41: =#REF! -> #REF! | ... P41: =#REF! -> #REF! | R41: =SUM(E41:P41) -> #REF! | T41: =R41+R57 -> #REF!
A42: 1 | B42: AGRI 1 | C42: 6 | E42: =#REF! -> #REF! | F42: =#REF! -> #REF! | G42: =#REF! -> #REF! | H42: =#REF! -> #REF! | I42: =#REF! -> #REF! | J42: =#REF! -> #REF! | K42: =#REF! -> #REF! | L42: =#REF! -> #REF! | ... P42: =#REF! -> #REF! | R42: =SUM(E42:P42) -> #REF! | T42: =R42+R58 -> #REF!
A43: 1 | B43: AGRI 1 | C43: 7 | E43: =#REF! -> #REF! | F43: =#REF! -> #REF! | G43: =#REF! -> #REF! | H43: =#REF! -> #REF! | I43: =#REF! -> #REF! | J43: =#REF! -> #REF! | K43: =#REF! -> #REF! | L43: =#REF! -> #REF! | ... P43: =#REF! -> #REF! | R43: =SUM(E43:P43) -> #REF! | T43: =R43+R59 -> #REF!
A44: 1 | B44: AGRI 1 | C44: 8 | E44: =#REF! -> #REF! | F44: =#REF! -> #REF! | G44: =#REF! -> #REF! | H44: =#REF! -> #REF! | I44: =#REF! -> #REF! | J44: =#REF! -> #REF! | K44: =#REF! -> #REF! | L44: =#REF! -> #REF! | ... P44: =#REF! -> #REF! | R44: =SUM(E44:P44) -> #REF! | T44: =R44+R60 -> #REF!
A45: 1 | B45: AGRI 1 | C45: 9 | E45: =#REF! -> #REF! | F45: =#REF! -> #REF! | G45: =#REF! -> #REF! | H45: =#REF! -> #REF! | I45: =#REF! -> #REF! | J45: =#REF! -> #REF! | K45: =#REF! -> #REF! | L45: =#REF! -> #REF! | ... P45: =#REF! -> #REF! | R45: =SUM(E45:P45) -> #REF! | T45: =R45+R61 -> #REF!
A46: 1 | B46: AGRI 1 | C46: 10 | E46: =#REF! -> #REF! | F46: =#REF! -> #REF! | G46: =#REF! -> #REF! | H46: =#REF! -> #REF! | I46: =#REF! -> #REF! | J46: =#REF! -> #REF! | K46: =#REF! -> #REF! | L46: =#REF! -> #REF! | ... P46: =#REF! -> #REF! | R46: =SUM(E46:P46) -> #REF! | T46: =R46+R62 -> #REF!
A47: 1 | B47: AGRI 1 | C47: 11 | E47: =#REF! -> #REF! | F47: =#REF! -> #REF! | G47: =#REF! -> #REF! | H47: =#REF! -> #REF! | I47: =#REF! -> #REF! | J47: =#REF! -> #REF! | K47: =#REF! -> #REF! | L47: =#REF! -> #REF! | ... P47: =#REF! -> #REF! | R47: =SUM(E47:P47) -> #REF! | T47: =R47+R63 -> #REF!
A48: 1 | B48: AGRI 1 | C48: 12 | E48: =#REF! -> #REF! | F48: =#REF! -> #REF! | G48: =#REF! -> #REF! | H48: =#REF! -> #REF! | I48: =#REF! -> #REF! | J48: =#REF! -> #REF! | K48: =#REF! -> #REF! | L48: =#REF! -> #REF! | ... P48: =#REF! -> #REF! | R48: =SUM(E48:P48) -> #REF! | T48: =R48+R64 -> #REF!
... A51: 1 | B51: AGRI 1 | C51: 15 | E51: =#REF! -> #REF! | F51: =#REF! -> #REF! | G51: =#REF! -> #REF! | H51: =#REF! -> #REF! | I51: =#REF! -> #REF! | J51: =#REF! -> #REF! | K51: =#REF! -> #REF! | L51: =#REF! -> #REF! | ... P51: =#REF! -> #REF! | R51: =SUM(E51:P51) -> #REF! | T51: =R51+R67 -> #REF!
N52: total des chantiers de la première année | R52: =SUM(R37:R51) -> #REF! | T52: =SUM(T37:T51) -> #REF! | U52: total de tout les chantiers sur 2 ans
A53: 2 | B53: AGRI 2 | C53: 1 | E53: =#REF! -> #REF! | F53: =#REF! -> #REF! | G53: =#REF! -> #REF! | H53: =#REF! -> #REF! | I53: =#REF! -> #REF! | J53: =#REF! -> #REF! | K53: =#REF! -> #REF! | L53: =#REF! -> #REF! | ... P53: =#REF! -> #REF! | R53: =SUM(E53:P53) -> #REF!
A54: 2 | B54: AGRI 2 | C54: 2 | E54: =#REF! -> #REF! | F54: =#REF! -> #REF! | G54: =#REF! -> #REF! | H54: =#REF! -> #REF! | I54: =#REF! -> #REF! | J54: =#REF! -> #REF! | K54: =#REF! -> #REF! | L54: =#REF! -> #REF! | ... P54: =#REF! -> #REF! | R54: =SUM(E54:P54) -> #REF!
A55: 2 | B55: AGRI 2 | C55: 3 | E55: =#REF! -> #REF! | F55: =#REF! -> #REF! | G55: =#REF! -> #REF! | H55: =#REF! -> #REF! | I55: =#REF! -> #REF! | J55: =#REF! -> #REF! | K55: =#REF! -> #REF! | L55: =#REF! -> #REF! | ... P55: =#REF! -> #REF! | R55: =SUM(E55:P55) -> #REF!
A56: 2 | B56: AGRI 2 | C56: 4 | E56: =#REF! -> #REF! | F56: =#REF! -> #REF! | G56: =#REF! -> #REF! | H56: =#REF! -> #REF! | I56: =#REF! -> #REF! | J56: =#REF! -> #REF! | K56: =#REF! -> #REF! | L56: =#REF! -> #REF! | ... P56: =#REF! -> #REF! | R56: =SUM(E56:P56) -> #REF!
A57: 2 | B57: AGRI 2 | C57: 5 | E57: =#REF! -> #REF! | F57: =#REF! -> #REF! | G57: =#REF! -> #REF! | H57: =#REF! -> #REF! | I57: =#REF! -> #REF! | J57: =#REF! -> #REF! | K57: =#REF! -> #REF! | L57: =#REF! -> #REF! | ... P57: =#REF! -> #REF! | R57: =SUM(E57:P57) -> #REF!
A58: 2 | B58: AGRI 2 | C58: 6 | E58: =#REF! -> #REF! | F58: =#REF! -> #REF! | G58: =#REF! -> #REF! | H58: =#REF! -> #REF! | I58: =#REF! -> #REF! | J58: =#REF! -> #REF! | K58: =#REF! -> #REF! | L58: =#REF! -> #REF! | ... P58: =#REF! -> #REF! | R58: =SUM(E58:P58) -> #REF!
A59: 2 | B59: AGRI 2 | C59: 7 | E59: =#REF! -> #REF! | F59: =#REF! -> #REF! | G59: =#REF! -> #REF! | H59: =#REF! -> #REF! | I59: =#REF! -> #REF! | J59: =#REF! -> #REF! | K59: =#REF! -> #REF! | L59: =#REF! -> #REF! | ... P59: =#REF! -> #REF! | R59: =SUM(E59:P59) -> #REF!
A60: 2 | B60: AGRI 2 | C60: 8 | E60: =#REF! -> #REF! | F60: =#REF! -> #REF! | G60: =#REF! -> #REF! | H60: =#REF! -> #REF! | I60: =#REF! -> #REF! | J60: =#REF! -> #REF! | K60: =#REF! -> #REF! | L60: =#REF! -> #REF! | ... P60: =#REF! -> #REF! | R60: =SUM(E60:P60) -> #REF!
A61: 2 | B61: AGRI 2 | C61: 9 | E61: =#REF! -> #REF! | F61: =#REF! -> #REF! | G61: =#REF! -> #REF! | H61: =#REF! -> #REF! | I61: =#REF! -> #REF! | J61: =#REF! -> #REF! | K61: =#REF! -> #REF! | L61: =#REF! -> #REF! | ... P61: =#REF! -> #REF! | R61: =SUM(E61:P61) -> #REF!
A62: 2 | B62: AGRI 2 | C62: 10 | E62: =#REF! -> #REF! | F62: =#REF! -> #REF! | G62: =#REF! -> #REF! | H62: =#REF! -> #REF! | I62: =#REF! -> #REF! | J62: =#REF! -> #REF! | K62: =#REF! -> #REF! | L62: =#REF! -> #REF! | ... P62: =#REF! -> #REF! | R62: =SUM(E62:P62) -> #REF!
A63: 2 | B63: AGRI 2 | C63: 11 | E63: =#REF! -> #REF! | F63: =#REF! -> #REF! | G63: =#REF! -> #REF! | H63: =#REF! -> #REF! | I63: =#REF! -> #REF! | J63: =#REF! -> #REF! | K63: =#REF! -> #REF! | L63: =#REF! -> #REF! | ... P63: =#REF! -> #REF! | R63: =SUM(E63:P63) -> #REF!
A64: 2 | B64: AGRI 2 | C64: 12 | E64: =#REF! -> #REF! | F64: =#REF! -> #REF! | G64: =#REF! -> #REF! | H64: =#REF! -> #REF! | I64: =#REF! -> #REF! | J64: =#REF! -> #REF! | K64: =#REF! -> #REF! | L64: =#REF! -> #REF! | ... P64: =#REF! -> #REF! | R64: =SUM(E64:P64) -> #REF!
... A67: 2 | B67: AGRI 2 | C67: 15 | E67: =#REF! -> #REF! | F67: =#REF! -> #REF! | G67: =#REF! -> #REF! | H67: =#REF! -> #REF! | I67: =#REF! -> #REF! | J67: =#REF! -> #REF! | K67: =#REF! -> #REF! | L67: =#REF! -> #REF! | ... P67: =#REF! -> #REF! | R67: =SUM(E67:P67) -> #REF!
N68: total des chantiers de la deuxième année | R68: =SUM(R53:R67) -> #REF!
A69: 1 | B69: CG 1 | C69: 1 | E69: =#REF! -> #REF! | F69: =#REF! -> #REF! | G69: =#REF! -> #REF! | H69: =#REF! -> #REF! | I69: =#REF! -> #REF! | J69: =#REF! -> #REF! | K69: =#REF! -> #REF! | L69: =#REF! -> #REF! | ... P69: =#REF! -> #REF! | R69: =SUM(E69:P69) -> #REF! | T69: =R69+R85 -> #REF!
A70: 1 | B70: CG 1 | C70: 2 | E70: =#REF! -> #REF! | F70: =#REF! -> #REF! | G70: =#REF! -> #REF! | H70: =#REF! -> #REF! | I70: =#REF! -> #REF! | J70: =#REF! -> #REF! | K70: =#REF! -> #REF! | L70: =#REF! -> #REF! | ... P70: =#REF! -> #REF! | R70: =SUM(E70:P70) -> #REF! | T70: =R70+R86 -> #REF!
A71: 1 | B71: CG 1 | C71: 3 | E71: =#REF! -> #REF! | F71: =#REF! -> #REF! | G71: =#REF! -> #REF! | H71: =#REF! -> #REF! | I71: =#REF! -> #REF! | J71: =#REF! -> #REF! | K71: =#REF! -> #REF! | L71: =#REF! -> #REF! | ... P71: =#REF! -> #REF! | R71: =SUM(E71:P71) -> #REF! | T71: =R71+R87 -> #REF!
A72: 1 | B72: CG 1 | C72: 4 | E72: =#REF! -> #REF! | F72: =#REF! -> #REF! | G72: =#REF! -> #REF! | H72: =#REF! -> #REF! | I72: =#REF! -> #REF! | J72: =#REF! -> #REF! | K72: =#REF! -> #REF! | L72: =#REF! -> #REF! | ... P72: =#REF! -> #REF! | R72: =SUM(E72:P72) -> #REF! | T72: =R72+R88 -> #REF!
A73: 1 | B73: CG 1 | C73: 5 | E73: =#REF! -> #REF! | F73: =#REF! -> #REF! | G73: =#REF! -> #REF! | H73: =#REF! -> #REF! | I73: =#REF! -> #REF! | J73: =#REF! -> #REF! | K73: =#REF! -> #REF! | L73: =#REF! -> #REF! | ... P73: =#REF! -> #REF! | R73: =SUM(E73:P73) -> #REF! | T73: =R73+R89 -> #REF!
A74: 1 | B74: CG 1 | C74: 6 | E74: =#REF! -> #REF! | F74: =#REF! -> #REF! | G74: =#REF! -> #REF! | H74: =#REF! -> #REF! | I74: =#REF! -> #REF! | J74: =#REF! -> #REF! | K74: =#REF! -> #REF! | L74: =#REF! -> #REF! | ... P74: =#REF! -> #REF! | R74: =SUM(E74:P74) -> #REF! | T74: =R74+R90 -> #REF!
A75: 1 | B75: CG 1 | C75: 7 | E75: =#REF! -> #REF! | F75: =#REF! -> #REF! | G75: =#REF! -> #REF! | H75: =#REF! -> #REF! | I75: =#REF! -> #REF! | J75: =#REF! -> #REF! | K75: =#REF! -> #REF! | L75: =#REF! -> #REF! | ... P75: =#REF! -> #REF! | R75: =SUM(E75:P75) -> #REF! | T75: =R75+R91 -> #REF!
A76: 1 | B76: CG 1 | C76: 8 | E76: =#REF! -> #REF! | F76: =#REF! -> #REF! | G76: =#REF! -> #REF! | H76: =#REF! -> #REF! | I76: =#REF! -> #REF! | J76: =#REF! -> #REF! | K76: =#REF! -> #REF! | L76: =#REF! -> #REF! | ... P76: =#REF! -> #REF! | R76: =SUM(E76:P76) -> #REF! | T76: =R76+R92 -> #REF!
A77: 1 | B77: CG 1 | C77: 9 | E77: =#REF! -> #REF! | F77: =#REF! -> #REF! | G77: =#REF! -> #REF! | H77: =#REF! -> #REF! | I77: =#REF! -> #REF! | J77: =#REF! -> #REF! | K77: =#REF! -> #REF! | L77: =#REF! -> #REF! | ... P77: =#REF! -> #REF! | R77: =SUM(E77:P77) -> #REF! | T77: =R77+R93 -> #REF!
A78: 1 | B78: CG 1 | C78: 10 | E78: =#REF! -> #REF! | F78: =#REF! -> #REF! | G78: =#REF! -> #REF! | H78: =#REF! -> #REF! | I78: =#REF! -> #REF! | J78: =#REF! -> #REF! | K78: =#REF! -> #REF! | L78: =#REF! -> #REF! | ... P78: =#REF! -> #REF! | R78: =SUM(E78:P78) -> #REF! | T78: =R78+R94 -> #REF!
A79: 1 | B79: CG 1 | C79: 11 | E79: =#REF! -> #REF! | F79: =#REF! -> #REF! | G79: =#REF! -> #REF! | H79: =#REF! -> #REF! | I79: =#REF! -> #REF! | J79: =#REF! -> #REF! | K79: =#REF! -> #REF! | L79: =#REF! -> #REF! | ... P79: =#REF! -> #REF! | R79: =SUM(E79:P79) -> #REF! | T79: =R79+R95 -> #REF!
A80: 1 | B80: CG 1 | C80: 12 | E80: =#REF! -> #REF! | F80: =#REF! -> #REF! | G80: =#REF! -> #REF! | H80: =#REF! -> #REF! | I80: =#REF! -> #REF! | J80: =#REF! -> #REF! | K80: =#REF! -> #REF! | L80: =#REF! -> #REF! | ... P80: =#REF! -> #REF! | R80: =SUM(E80:P80) -> #REF! | T80: =R80+R96 -> #REF!
... A83: 1 | B83: CG 1 | C83: 15 | E83: =#REF! -> #REF! | F83: =#REF! -> #REF! | G83: =#REF! -> #REF! | H83: =#REF! -> #REF! | I83: =#REF! -> #REF! | J83: =#REF! -> #REF! | K83: =#REF! -> #REF! | L83: =#REF! -> #REF! | ... P83: =#REF! -> #REF! | R83: =SUM(E83:P83) -> #REF! | T83: =R83+R99 -> #REF!
N84: total des chantiers de la première année | R84: =SUM(R69:R83) -> #REF! | T84: =SUM(T69:T83) -> #REF! | U84: total de tout les chantiers sur 2 ans
A85: 2 | B85: CG 2 | C85: 1 | E85: =#REF! -> #REF! | F85: =#REF! -> #REF! | G85: =#REF! -> #REF! | H85: =#REF! -> #REF! | I85: =#REF! -> #REF! | J85: =#REF! -> #REF! | K85: =#REF! -> #REF! | L85: =#REF! -> #REF! | ... P85: =#REF! -> #REF! | R85: =SUM(E85:P85) -> #REF!
A86: 2 | B86: CG 2 | C86: 2 | E86: =#REF! -> #REF! | F86: =#REF! -> #REF! | G86: =#REF! -> #REF! | H86: =#REF! -> #REF! | I86: =#REF! -> #REF! | J86: =#REF! -> #REF! | K86: =#REF! -> #REF! | L86: =#REF! -> #REF! | ... P86: =#REF! -> #REF! | R86: =SUM(E86:P86) -> #REF!
A87: 2 | B87: CG 2 | C87: 3 | E87: =#REF! -> #REF! | F87: =#REF! -> #REF! | G87: =#REF! -> #REF! | H87: =#REF! -> #REF! | I87: =#REF! -> #REF! | J87: =#REF! -> #REF! | K87: =#REF! -> #REF! | L87: =#REF! -> #REF! | ... P87: =#REF! -> #REF! | R87: =SUM(E87:P87) -> #REF!
A88: 2 | B88: CG 2 | C88: 4 | E88: =#REF! -> #REF! | F88: =#REF! -> #REF! | G88: =#REF! -> #REF! | H88: =#REF! -> #REF! | I88: =#REF! -> #REF! | J88: =#REF! -> #REF! | K88: =#REF! -> #REF! | L88: =#REF! -> #REF! | ... P88: =#REF! -> #REF! | R88: =SUM(E88:P88) -> #REF!
A89: 2 | B89: CG 2 | C89: 5 | E89: =#REF! -> #REF! | F89: =#REF! -> #REF! | G89: =#REF! -> #REF! | H89: =#REF! -> #REF! | I89: =#REF! -> #REF! | J89: =#REF! -> #REF! | K89: =#REF! -> #REF! | L89: =#REF! -> #REF! | ... P89: =#REF! -> #REF! | R89: =SUM(E89:P89) -> #REF!
A90: 2 | B90: CG 2 | C90: 6 | E90: =#REF! -> #REF! | F90: =#REF! -> #REF! | G90: =#REF! -> #REF! | H90: =#REF! -> #REF! | I90: =#REF! -> #REF! | J90: =#REF! -> #REF! | K90: =#REF! -> #REF! | L90: =#REF! -> #REF! | ... P90: =#REF! -> #REF! | R90: =SUM(E90:P90) -> #REF!
A91: 2 | B91: CG 2 | C91: 7 | E91: =#REF! -> #REF! | F91: =#REF! -> #REF! | G91: =#REF! -> #REF! | H91: =#REF! -> #REF! | I91: =#REF! -> #REF! | J91: =#REF! -> #REF! | K91: =#REF! -> #REF! | L91: =#REF! -> #REF! | ... P91: =#REF! -> #REF! | R91: =SUM(E91:P91) -> #REF!
A92: 2 | B92: CG 2 | C92: 8 | E92: =#REF! -> #REF! | F92: =#REF! -> #REF! | G92: =#REF! -> #REF! | H92: =#REF! -> #REF! | I92: =#REF! -> #REF! | J92: =#REF! -> #REF! | K92: =#REF! -> #REF! | L92: =#REF! -> #REF! | ... P92: =#REF! -> #REF! | R92: =SUM(E92:P92) -> #REF!
A93: 2 | B93: CG 2 | C93: 9 | E93: =#REF! -> #REF! | F93: =#REF! -> #REF! | G93: =#REF! -> #REF! | H93: =#REF! -> #REF! | I93: =#REF! -> #REF! | J93: =#REF! -> #REF! | K93: =#REF! -> #REF! | L93: =#REF! -> #REF! | ... P93: =#REF! -> #REF! | R93: =SUM(E93:P93) -> #REF!
A94: 2 | B94: CG 2 | C94: 10 | E94: =#REF! -> #REF! | F94: =#REF! -> #REF! | G94: =#REF! -> #REF! | H94: =#REF! -> #REF! | I94: =#REF! -> #REF! | J94: =#REF! -> #REF! | K94: =#REF! -> #REF! | L94: =#REF! -> #REF! | ... P94: =#REF! -> #REF! | R94: =SUM(E94:P94) -> #REF!
A95: 2 | B95: CG 2 | C95: 11 | E95: =#REF! -> #REF! | F95: =#REF! -> #REF! | G95: =#REF! -> #REF! | H95: =#REF! -> #REF! | I95: =#REF! -> #REF! | J95: =#REF! -> #REF! | K95: =#REF! -> #REF! | L95: =#REF! -> #REF! | ... P95: =#REF! -> #REF! | R95: =SUM(E95:P95) -> #REF!
A96: 2 | B96: CG 2 | C96: 12 | E96: =#REF! -> #REF! | F96: =#REF! -> #REF! | G96: =#REF! -> #REF! | H96: =#REF! -> #REF! | I96: =#REF! -> #REF! | J96: =#REF! -> #REF! | K96: =#REF! -> #REF! | L96: =#REF! -> #REF! | ... P96: =#REF! -> #REF! | R96: =SUM(E96:P96) -> #REF!
... A99: 2 | B99: CG 2 | C99: 15 | E99: =#REF! -> #REF! | F99: =#REF! -> #REF! | G99: =#REF! -> #REF! | H99: =#REF! -> #REF! | I99: =#REF! -> #REF! | J99: =#REF! -> #REF! | K99: =#REF! -> #REF! | L99: =#REF! -> #REF! | ... P99: =#REF! -> #REF! | R99: =SUM(E99:P99) -> #REF!
N100: total des chantiers de la deuxième année | R100: =SUM(R85:R99) -> #REF!
A101: 1 | B101: PART 1-1 | C101: 1 | E101: =#REF! -> #REF! | F101: =#REF! -> #REF! | G101: =#REF! -> #REF! | H101: =#REF! -> #REF! | I101: =#REF! -> #REF! | J101: =#REF! -> #REF! | K101: =#REF! -> #REF! | L101: =#REF! -> #REF! | ... P101: =#REF! -> #REF! | R101: =SUM(E101:P101) -> #REF! | T101: =SUM(R101,R117,R133) -> #REF!
A102: 1 | B102: PART 1-1 | C102: 2 | E102: =#REF! -> #REF! | F102: =#REF! -> #REF! | G102: =#REF! -> #REF! | H102: =#REF! -> #REF! | I102: =#REF! -> #REF! | J102: =#REF! -> #REF! | K102: =#REF! -> #REF! | L102: =#REF! -> #REF! | ... P102: =#REF! -> #REF! | R102: =SUM(E102:P102) -> #REF! | T102: =SUM(R102,R118,R134) -> #REF!
A103: 1 | B103: PART 1-1 | C103: 3 | E103: =#REF! -> #REF! | F103: =#REF! -> #REF! | G103: =#REF! -> #REF! | H103: =#REF! -> #REF! | I103: =#REF! -> #REF! | J103: =#REF! -> #REF! | K103: =#REF! -> #REF! | L103: =#REF! -> #REF! | ... P103: =#REF! -> #REF! | R103: =SUM(E103:P103) -> #REF! | T103: =SUM(R103,R119,R135) -> #REF!
A104: 1 | B104: PART 1-1 | C104: 4 | E104: =#REF! -> #REF! | F104: =#REF! -> #REF! | G104: =#REF! -> #REF! | H104: =#REF! -> #REF! | I104: =#REF! -> #REF! | J104: =#REF! -> #REF! | K104: =#REF! -> #REF! | L104: =#REF! -> #REF! | ... P104: =#REF! -> #REF! | R104: =SUM(E104:P104) -> #REF! | T104: =SUM(R104,R120,R136) -> #REF!
A105: 1 | B105: PART 1-1 | C105: 5 | E105: =#REF! -> #REF! | F105: =#REF! -> #REF! | G105: =#REF! -> #REF! | H105: =#REF! -> #REF! | I105: =#REF! -> #REF! | J105: =#REF! -> #REF! | K105: =#REF! -> #REF! | L105: =#REF! -> #REF! | ... P105: =#REF! -> #REF! | R105: =SUM(E105:P105) -> #REF! | T105: =SUM(R105,R121,R137) -> #REF!
A106: 1 | B106: PART 1-1 | C106: 6 | E106: =#REF! -> #REF! | F106: =#REF! -> #REF! | G106: =#REF! -> #REF! | H106: =#REF! -> #REF! | I106: =#REF! -> #REF! | J106: =#REF! -> #REF! | K106: =#REF! -> #REF! | L106: =#REF! -> #REF! | ... P106: =#REF! -> #REF! | R106: =SUM(E106:P106) -> #REF! | T106: =SUM(R106,R122,R138) -> #REF!
A107: 1 | B107: PART 1-1 | C107: 7 | E107: =#REF! -> #REF! | F107: =#REF! -> #REF! | G107: =#REF! -> #REF! | H107: =#REF! -> #REF! | I107: =#REF! -> #REF! | J107: =#REF! -> #REF! | K107: =#REF! -> #REF! | L107: =#REF! -> #REF! | ... P107: =#REF! -> #REF! | R107: =SUM(E107:P107) -> #REF! | T107: =SUM(R107,R123,R139) -> #REF!
A108: 1 | B108: PART 1-1 | C108: 8 | E108: =#REF! -> #REF! | F108: =#REF! -> #REF! | G108: =#REF! -> #REF! | H108: =#REF! -> #REF! | I108: =#REF! -> #REF! | J108: =#REF! -> #REF! | K108: =#REF! -> #REF! | L108: =#REF! -> #REF! | ... P108: =#REF! -> #REF! | R108: =SUM(E108:P108) -> #REF! | T108: =SUM(R108,R124,R140) -> #REF!
A109: 1 | B109: PART 1-1 | C109: 9 | E109: =#REF! -> #REF! | F109: =#REF! -> #REF! | G109: =#REF! -> #REF! | H109: =#REF! -> #REF! | I109: =#REF! -> #REF! | J109: =#REF! -> #REF! | K109: =#REF! -> #REF! | L109: =#REF! -> #REF! | ... P109: =#REF! -> #REF! | R109: =SUM(E109:P109) -> #REF! | T109: =SUM(R109,R125,R141) -> #REF!
A110: 1 | B110: PART 1-1 | C110: 10 | E110: =#REF! -> #REF! | F110: =#REF! -> #REF! | G110: =#REF! -> #REF! | H110: =#REF! -> #REF! | I110: =#REF! -> #REF! | J110: =#REF! -> #REF! | K110: =#REF! -> #REF! | L110: =#REF! -> #REF! | ... P110: =#REF! -> #REF! | R110: =SUM(E110:P110) -> #REF! | T110: =SUM(R110,R126,R142) -> #REF!
A111: 1 | B111: PART 1-1 | C111: 11 | E111: =#REF! -> #REF! | F111: =#REF! -> #REF! | G111: =#REF! -> #REF! | H111: =#REF! -> #REF! | I111: =#REF! -> #REF! | J111: =#REF! -> #REF! | K111: =#REF! -> #REF! | L111: =#REF! -> #REF! | ... P111: =#REF! -> #REF! | R111: =SUM(E111:P111) -> #REF! | T111: =SUM(R111,R127,R143) -> #REF!
A112: 1 | B112: PART 1-1 | C112: 12 | E112: =#REF! -> #REF! | F112: =#REF! -> #REF! | G112: =#REF! -> #REF! | H112: =#REF! -> #REF! | I112: =#REF! -> #REF! | J112: =#REF! -> #REF! | K112: =#REF! -> #REF! | L112: =#REF! -> #REF! | ... P112: =#REF! -> #REF! | R112: =SUM(E112:P112) -> #REF! | T112: =SUM(R112,R128,R144) -> #REF!
... A115: 1 | B115: PART 1-1 | C115: 15 | E115: =#REF! -> #REF! | F115: =#REF! -> #REF! | G115: =#REF! -> #REF! | H115: =#REF! -> #REF! | I115: =#REF! -> #REF! | J115: =#REF! -> #REF! | K115: =#REF! -> #REF! | L115: =#REF! -> #REF! | ... P115: =#REF! -> #REF! | R115: =SUM(E115:P115) -> #REF! | T115: =SUM(R115,R131,R147) -> #REF!
T116: =SUM(T101:T115) -> #REF! | U116: total de tout les chantiers sur 2 ans
...

Sheet AO - 1
G2: 2019 | I2: TOTAL pers | K2: =SUM(M4,AG4,BA4,BA116,AG116,M116,M227,AG227,BA227,BA338,AG338,M338) -> 4 | AA2: AO - 1
F4: =EDATE(DATE(An_ref,1,1),0) -> 43466 | M4: =SUM(B8:B22) -> 4 | Z4: =EDATE(DATE(An_ref,1,1),1) -> 43497 | AG4: =SUM(V8:V22) -> 0 | AT4: =EDATE(DATE(An_ref,1,1),2) -> 43525 | BA4: =SUM(AP8:AP22) -> 0 | BN4: Fériés | BO4: Date | BP4: =OR(H7=BO5,H7=BO6,H7=BO7,H7=BO24,H7=BO25,H7=BO26,H7=BO42,H7=BO43,H7=BO44,H7=BO60,H7=BO61,H7=BO62,H7=BO78) -> FALSE
B5: TOTAL | G5: =UPPER(TEXT(H25,"jjjj")) -> LUNDI | I5: =UPPER(TEXT(J25,"jjjj")) -> MARDI | K5: =UPPER(TEXT(L25,"jjjj")) -> MERCREDI | M5: =UPPER(TEXT(N25,"jjjj")) -> JEUDI | O5: =UPPER(TEXT(P25,"jjjj")) -> VENDREDI | Q5: =UPPER(TEXT(R25,"jjjj")) -> SAMEDI | S5: =UPPER(TEXT(T25,"jjjj")) -> DIMANCHE | V5: TOTAL | AA5: =UPPER(TEXT(AB25,"jjjj")) -> LUNDI | AC5: =UPPER(TEXT(AD25,"jjjj")) -> MARDI | AE5: =UPPER(TEXT(AF25,"jjjj")) -> MERCREDI | AG5: =UPPER(TEXT(AH25,"jjjj")) -> JEUDI | AI5: =UPPER(TEXT(AJ25,"jjjj")) -> VENDREDI | AK5: =UPPER(TEXT(AL25,"jjjj")) -> SAMEDI | AM5: =UPPER(TEXT(AN25,"jjjj")) -> DIMANCHE | AP5: TOTAL | AU5: =UPPER(TEXT(AV25,"jjjj")) -> LUNDI | AW5: =UPPER(TEXT(AX25,"jjjj")) -> MARDI | AY5: =UPPER(TEXT(AZ25,"jjjj")) -> MERCREDI | BA5: =UPPER(TEXT(BB25,"jjjj")) -> JEUDI | BC5: =UPPER(TEXT(BD25,"jjjj")) -> VENDREDI | BE5: =UPPER(TEXT(BF25,"jjjj")) -> SAMEDI | BG5: =UPPER(TEXT(BH25,"jjjj")) -> DIMANCHE | BO5: =DATE(An_ref,1,1) -> 43466
F6: =INT((N7-LOOKUP(N7,DATE(YEAR(N7)+{-1;0;1},1,3)-WEEKDAY(DATE(YEAR(N7)+{-1;0;1},1,3))+2))/7)+1 -> 1 | Z6: =INT((AH7-LOOKUP(AH7,DATE(YEAR(AH7)+{-1;0;1},1,3)-WEEKDAY(DATE(YEAR(AH7)+{-1;0;1},1,3))+2))/7)+1 -> #VALUE! | AT6: =INT((BB7-LOOKUP(BB7,DATE(YEAR(BB7)+{-1;0;1},1,3)-WEEKDAY(DATE(YEAR(BB7)+{-1;0;1},1,3))+2))/7)+1 -> #VALUE! | BO6: =DATE(An_ref,1,2) -> 43467
B7: mois | D7: sem | F7: =F6 -> 1 | G7: =IF(ISNA(VLOOKUP(H7,Tab_feri,2,FALSE)),"",VLOOKUP(H7,Tab_feri,2,FALSE)) | H7: =IF(WEEKDAY(F4)=2,F4,"") | I7: =IF(ISNA(VLOOKUP(J7,Tab_feri,2,FALSE)),"",VLOOKUP(J7,Tab_feri,2,FALSE)) | J7: =IF(H7<>"",H7+1,IF(WEEKDAY(F4)=3,F4,"")) -> 43466 | K7: =IF(ISNA(VLOOKUP(L7,Tab_feri,2,FALSE)),"",VLOOKUP(L7,Tab_feri,2,FALSE)) | L7: =IF(J7<>"",J7+1,IF(WEEKDAY(F4)=4,F4,"")) -> 43467 | M7: =IF(ISNA(VLOOKUP(N7,Tab_feri,2,FALSE)),"",VLOOKUP(N7,Tab_feri,2,FALSE)) | N7: =IF(L7<>"",L7+1,IF(WEEKDAY(F4)=5,F4,"")) -> 43468 | O7: =IF(ISNA(VLOOKUP(P7,Tab_feri,2,FALSE)),"",VLOOKUP(P7,Tab_feri,2,FALSE)) | P7: =IF(N7<>"",N7+1,IF(WEEKDAY(F4)=6,F4,"")) -> 43469 | Q7: =IF(ISNA(VLOOKUP(R7,Tab_feri,2,FALSE)),"",VLOOKUP(R7,Tab_feri,2,FALSE)) | R7: =IF(P7<>"",P7+1,IF(WEEKDAY(F4)=7,F4,"")) -> 43470 | S7: =IF(ISNA(VLOOKUP(T7,Tab_feri,2,FALSE)),"",VLOOKUP(T7,Tab_feri,2,FALSE)) | T7: =IF(R7<>"",R7+1,IF(WEEKDAY(F4)=1,F4,"")) -> 43471 | V7: mois | X7: sem | Z7: =Z6 -> #VALUE! | AA7: =IF(ISNA(VLOOKUP(AB7,Tab_feri,2,FALSE)),"",VLOOKUP(AB7,Tab_feri,2,FALSE)) | AB7: =IF(WEEKDAY(Z4)=2,Z4,"") | AC7: =IF(ISNA(VLOOKUP(AD7,Tab_feri,2,FALSE)),"",VLOOKUP(AD7,Tab_feri,2,FALSE)) | AD7: =IF(AB7<>"",AB7+1,IF(WEEKDAY(Z4)=3,Z4,"")) | AE7: =IF(ISNA(VLOOKUP(AF7,Tab_feri,2,FALSE)),"",VLOOKUP(AF7,Tab_feri,2,FALSE)) | AF7: =IF(AD7<>"",AD7+1,IF(WEEKDAY(Z4)=4,Z4,"")) | AG7: =IF(ISNA(VLOOKUP(AH7,Tab_feri,2,FALSE)),"",VLOOKUP(AH7,Tab_feri,2,FALSE)) | AH7: =IF(AF7<>"",AF7+1,IF(WEEKDAY(Z4)=5,Z4,"")) | AI7: =IF(ISNA(VLOOKUP(AJ7,Tab_feri,2,FALSE)),"",VLOOKUP(AJ7,Tab_feri,2,FALSE)) | AJ7: =IF(AH7<>"",AH7+1,IF(WEEKDAY(Z4)=6,Z4,"")) -> 43497 | AK7: =IF(ISNA(VLOOKUP(AL7,Tab_feri,2,FALSE)),"",VLOOKUP(AL7,Tab_feri,2,FALSE)) | AL7: =IF(AJ7<>"",AJ7+1,IF(WEEKDAY(Z4)=7,Z4,"")) -> 43498 | AM7: =IF(ISNA(VLOOKUP(AN7,Tab_feri,2,FALSE)),"",VLOOKUP(AN7,Tab_feri,2,FALSE)) | AN7: =IF(AL7<>"",AL7+1,IF(WEEKDAY(Z4)=1,Z4,"")) -> 43499 | AP7: mois | AR7: sem | AT7: =AT6 -> #VALUE! | AU7: =IF(ISNA(VLOOKUP(AV7,Tab_feri,2,FALSE)),"",VLOOKUP(AV7,Tab_feri,2,FALSE)) | AV7: =IF(WEEKDAY(AT4)=2,AT4,"") | AW7: =IF(ISNA(VLOOKUP(AX7,Tab_feri,2,FALSE)),"",VLOOKUP(AX7,Tab_feri,2,FALSE)) | AX7: =IF(AV7<>"",AV7+1,IF(WEEKDAY(AT4)=3,AT4,"")) | AY7: =IF(ISNA(VLOOKUP(AZ7,Tab_feri,2,FALSE)),"",VLOOKUP(AZ7,Tab_feri,2,FALSE)) | AZ7: =IF(AX7<>"",AX7+1,IF(WEEKDAY(AT4)=4,AT4,"")) | BA7: =IF(ISNA(VLOOKUP(BB7,Tab_feri,2,FALSE)),"",VLOOKUP(BB7,Tab_feri,2,FALSE)) | BB7: =IF(AZ7<>"",AZ7+1,IF(WEEKDAY(AT4)=5,AT4,"")) | BC7: =IF(ISNA(VLOOKUP(BD7,Tab_feri,2,FALSE)),"",VLOOKUP(BD7,Tab_feri,2,FALSE)) | BD7: =IF(BB7<>"",BB7+1,IF(WEEKDAY(AT4)=6,AT4,"")) -> 43525 | BE7: =IF(ISNA(VLOOKUP(BF7,Tab_feri,2,FALSE)),"",VLOOKUP(BF7,Tab_feri,2,FALSE)) | BF7: =IF(BD7<>"",BD7+1,IF(WEEKDAY(AT4)=7,AT4,"")) -> 43526 | BG7: =IF(ISNA(VLOOKUP(BH7,Tab_feri,2,FALSE)),"",VLOOKUP(BH7,Tab_feri,2,FALSE)) | BH7: =IF(BF7<>"",BF7+1,IF(WEEKDAY(AT4)=1,AT4,"")) -> 43527 | BO7: =BO8-2 -> 43574
B8: =SUM(D8,D26,D44,D62,D80,D98) -> 2 | D8: =SUM(H8,J8,L8,N8,P8,R8,T8) -> 2 | F8: 1 | G8: AX HOTEL 309 MX | H8: 2 | V8: =SUM(X8,X26,X44,X62,X80,X98) -> 0 | X8: =SUM(AB8,AD8,AF8,AH8,AJ8,AL8,AN8) -> 0 | Z8: 1 | AP8: =SUM(AR8,AR26,AR44,AR62,AR80,AR98) -> 0 | AR8: =SUM(AV8,AX8,AZ8,BB8,BD8,BF8,BH8) -> 0 | AT8: 1 | BO8: =ROUND(DATE(An_ref,4,MOD(234-11*MOD(An_ref,19),30))/7,)*7-6 -> 43576
B9: =SUM(D9,D27,D45,D63,D81,D99) -> 0 | D9: =SUM(H9,J9,L9,N9,P9,R9,T9) -> 0 | F9: 2 | V9: =SUM(X9,X27,X45,X63,X81,X99) -> 0 | X9: =SUM(AB9,AD9,AF9,AH9,AJ9,AL9,AN9) -> 0 | Z9: 2 | AP9: =SUM(AR9,AR27,AR45,AR63,AR81,AR99) -> 0 | AR9: =SUM(AV9,AX9,AZ9,BB9,BD9,BF9,BH9) -> 0 | AT9: 2
B10: =SUM(D10,D28,D46,D64,D82,D100) -> 2 | D10: =SUM(H10,J10,L10,N10,P10,R10,T10) -> 2 | F10: 3 | G10: AX HOTEL 310 TE | H10: 2 | V10: =SUM(X10,X28,X46,X64,X82,X100) -> 0 | X10: =SUM(AB10,AD10,AF10,AH10,AJ10,AL10,AN10) -> 0 | Z10: 3 | AP10: =SUM(AR10,AR28,AR46,AR64,AR82,AR100) -> 0 | AR10: =SUM(AV10,AX10,AZ10,BB10,BD10,BF10,BH10) -> 0 | AT10: 3
B11: =SUM(D11,D29,D47,D65,D83,D101) -> 0 | D11: =SUM(H11,J11,L11,N11,P11,R11,T11) -> 0 | F11: 4 | V11: =SUM(X11,X29,X47,X65,X83,X101) -> 0 | X11: =SUM(AB11,AD11,AF11,AH11,AJ11,AL11,AN11) -> 0 | Z11: 4 | AP11: =SUM(AR11,AR29,AR47,AR65,AR83,AR101) -> 0 | AR11: =SUM(AV11,AX11,AZ11,BB11,BD11,BF11,BH11) -> 0 | AT11: 4
B12: =SUM(D12,D30,D48,D66,D84,D102) -> 0 | D12: =SUM(H12,J12,L12,N12,P12,R12,T12) -> 0 | F12: 5 | V12: =SUM(X12,X30,X48,X66,X84,X102) -> 0 | X12: =SUM(AB12,AD12,AF12,AH12,AJ12,AL12,AN12) -> 0 | Z12: 5 | AP12: =SUM(AR12,AR30,AR48,AR66,AR84,AR102) -> 0 | AR12: =SUM(AV12,AX12,AZ12,BB12,BD12,BF12,BH12) -> 0 | AT12: 5
B13: =SUM(D13,D31,D49,D67,D85,D103) -> 0 | D13: =SUM(H13,J13,L13,N13,P13,R13,T13) -> 0 | F13: 6 | V13: =SUM(X13,X31,X49,X67,X85,X103) -> 0 | X13: =SUM(AB13,AD13,AF13,AH13,AJ13,AL13,AN13) -> 0 | Z13: 6 | AP13: =SUM(AR13,AR31,AR49,AR67,AR85,AR103) -> 0 | AR13: =SUM(AV13,AX13,AZ13,BB13,BD13,BF13,BH13) -> 0 | AT13: 6
B14: =SUM(D14,D32,D50,D68,D86,D104) -> 0 | D14: =SUM(H14,J14,L14,N14,P14,R14,T14) -> 0 | F14: 7 | V14: =SUM(X14,X32,X50,X68,X86,X104) -> 0 | X14: =SUM(AB14,AD14,AF14,AH14,AJ14,AL14,AN14) -> 0 | Z14: 7 | AP14: =SUM(AR14,AR32,AR50,AR68,AR86,AR104) -> 0 | AR14: =SUM(AV14,AX14,AZ14,BB14,BD14,BF14,BH14) -> 0 | AT14: 7
B15: =SUM(D15,D33,D51,D69,D87,D105) -> 0 | D15: =SUM(H15,J15,L15,N15,P15,R15,T15) -> 0 | F15: 8 | V15: =SUM(X15,X33,X51,X69,X87,X105) -> 0 | X15: =SUM(AB15,AD15,AF15,AH15,AJ15,AL15,AN15) -> 0 | Z15: 8 | AP15: =SUM(AR15,AR33,AR51,AR69,AR87,AR105) -> 0 | AR15: =SUM(AV15,AX15,AZ15,BB15,BD15,BF15,BH15) -> 0 | AT15: 8
B16: =SUM(D16,D34,D52,D70,D88,D106) -> 0 | D16: =SUM(H16,J16,L16,N16,P16,R16,T16) -> 0 | F16: 9 | V16: =SUM(X16,X34,X52,X70,X88,X106) -> 0 | X16: =SUM(AB16,AD16,AF16,AH16,AJ16,AL16,AN16) -> 0 | Z16: 9 | AP16: =SUM(AR16,AR34,AR52,AR70,AR88,AR106) -> 0 | AR16: =SUM(AV16,AX16,AZ16,BB16,BD16,BF16,BH16) -> 0 | AT16: 9
B17: =SUM(D17,D35,D53,D71,D89,D107) -> 0 | D17: =SUM(H17,J17,L17,N17,P17,R17,T17) -> 0 | F17: 10 | V17: =SUM(X17,X35,X53,X71,X89,X107) -> 0 | X17: =SUM(AB17,AD17,AF17,AH17,AJ17,AL17,AN17) -> 0 | Z17: 10 | AP17: =SUM(AR17,AR35,AR53,AR71,AR89,AR107) -> 0 | AR17: =SUM(AV17,AX17,AZ17,BB17,BD17,BF17,BH17) -> 0 | AT17: 10
B18: =SUM(D18,D36,D54,D72,D90,D108) -> 0 | D18: =SUM(H18,J18,L18,N18,P18,R18,T18) -> 0 | F18: 11 | V18: =SUM(X18,X36,X54,X72,X90,X108) -> 0 | X18: =SUM(AB18,AD18,AF18,AH18,AJ18,AL18,AN18) -> 0 | Z18: 11 | AP18: =SUM(AR18,AR36,AR54,AR72,AR90,AR108) -> 0 | AR18: =SUM(AV18,AX18,AZ18,BB18,BD18,BF18,BH18) -> 0 | AT18: 11
B19: =SUM(D19,D37,D55,D73,D91,D109) -> 0 | D19: =SUM(H19,J19,L19,N19,P19,R19,T19) -> 0 | F19: 12 | V19: =SUM(X19,X37,X55,X73,X91,X109) -> 0 | X19: =SUM(AB19,AD19,AF19,AH19,AJ19,AL19,AN19) -> 0 | Z19: 12 | AP19: =SUM(AR19,AR37,AR55,AR73,AR91,AR109) -> 0 | AR19: =SUM(AV19,AX19,AZ19,BB19,BD19,BF19,BH19) -> 0 | AT19: 12
B20: =SUM(D20,D38,D56,D74,D92,D110) -> 0 | D20: =SUM(H20,J20,L20,N20,P20,R20,T20) -> 0 | F20: 13 | V20: =SUM(X20,X38,X56,X74,X92,X110) -> 0 | X20: =SUM(AB20,AD20,AF20,AH20,AJ20,AL20,AN20) -> 0 | Z20: 13 | AP20: =SUM(AR20,AR38,AR56,AR74,AR92,AR110) -> 0 | AR20: =SUM(AV20,AX20,AZ20,BB20,BD20,BF20,BH20) -> 0 | AT20: 13
B21: =SUM(D21,D39,D57,D75,D93,D111) -> 0 | D21: =SUM(H21,J21,L21,N21,P21,R21,T21) -> 0 | F21: 14 | V21: =SUM(X21,X39,X57,X75,X93,X111) -> 0 | X21: =SUM(AB21,AD21,AF21,AH21,AJ21,AL21,AN21) -> 0 | Z21: 14 | AP21: =SUM(AR21,AR39,AR57,AR75,AR93,AR111) -> 0 | AR21: =SUM(AV21,AX21,AZ21,BB21,BD21,BF21,BH21) -> 0 | AT21: 14
B22: =SUM(D22,D40,D58,D76,D94,D112) -> 0 | D22: =SUM(H22,J22,L22,N22,P22,R22,T22) -> 0 | F22: 15 | V22: =SUM(X22,X40,X58,X76,X94,X112) -> 0 | X22: =SUM(AB22,AD22,AF22,AH22,AJ22,AL22,AN22) -> 0 | Z22: 15 | AP22: =SUM(AR22,AR40,AR58,AR76,AR94,AR112) -> 0 | AR22: =SUM(AV22,AX22,AZ22,BB22,BD22,BF22,BH22) -> 0 | AT22: 15
G23: TOTAL | H23: =SUM(H8:H22) -> 4 | J23: =SUM(J8:J22) -> 0 | L23: =SUM(L8:L22) -> 0 | N23: =SUM(N8:N22) -> 0 | P23: =SUM(P8:P22) -> 0 | R23: =SUM(R8:R22) -> 0 | T23: =SUM(T8:T22) -> 0 | AA23: TOTAL | AB23: =SUM(AB8:AB22) -> 0 | AD23: =SUM(AD8:AD22) -> 0 | AF23: =SUM(AF8:AF22) -> 0 | AH23: =SUM(AH8:AH22) -> 0 | AJ23: =SUM(AJ8:AJ22) -> 0 | AL23: =SUM(AL8:AL22) -> 0 | AN23: =SUM(AN8:AN22) -> 0 | AU23: TOTAL | AV23: =SUM(AV8:AV22) -> 0 | AX23: =SUM(AX8:AX22) -> 0 | AZ23: =SUM(AZ8:AZ22) -> 0 | BB23: =SUM(BB8:BB22) -> 0 | BD23: =SUM(BD8:BD22) -> 0 | BF23: =SUM(BF8:BF22) -> 0 | BH23: =SUM(BH8:BH22) -> 0
F24: =INT((N25-LOOKUP(N25,DATE(YEAR(N25)+{-1;0;1},1,3)-WEEKDAY(DATE(YEAR(N25)+{-1;0;1},1,3))+2))/7)+1 -> 2 | Z24: =INT((AH25-LOOKUP(AH25,DATE(YEAR(AH25)+{-1;0;1},1,3)-WEEKDAY(DATE(YEAR(AH25)+{-1;0;1},1,3))+2))/7)+1 -> 6 | AT24: =INT((BB25-LOOKUP(BB25,DATE(YEAR(BB25)+{-1;0;1},1,3)-WEEKDAY(DATE(YEAR(BB25)+{-1;0;1},1,3))+2))/7)+1 -> 10 | BO24: =BO8+1 -> 43577
F25: =F24 -> 2 | G25: =IF(ISNA(VLOOKUP(H25,Tab_feri,2,FALSE)),"",VLOOKUP(H25,Tab_feri,2,FALSE)) | H25: =T7+1 -> 43472 | I25: =IF(ISNA(VLOOKUP(J25,Tab_feri,2,FALSE)),"",VLOOKUP(J25,Tab_feri,2,FALSE)) | J25: =H25+1 -> 43473 | K25: =IF(ISNA(VLOOKUP(L25,Tab_feri,2,FALSE)),"",VLOOKUP(L25,Tab_feri,2,FALSE)) | L25: =J25+1 -> 43474 | M25: =IF(ISNA(VLOOKUP(N25,Tab_feri,2,FALSE)),"",VLOOKUP(N25,Tab_feri,2,FALSE)) | N25: =L25+1 -> 43475 | O25: =IF(ISNA(VLOOKUP(P25,Tab_feri,2,FALSE)),"",VLOOKUP(P25,Tab_feri,2,FALSE)) | P25: =N25+1 -> 43476 | Q25: =IF(ISNA(VLOOKUP(R25,Tab_feri,2,FALSE)),"",VLOOKUP(R25,Tab_feri,2,FALSE)) | R25: =P25+1 -> 43477 | S25: =IF(ISNA(VLOOKUP(T25,Tab_feri,2,FALSE)),"",VLOOKUP(T25,Tab_feri,2,FALSE)) | T25: =R25+1 -> 43478 | Z25: =Z24 -> 6 | AA25: =IF(ISNA(VLOOKUP(AB25,Tab_feri,2,FALSE)),"",VLOOKUP(AB25,Tab_feri,2,FALSE)) | AB25: =AN7+1 -> 43500 | AC25: =IF(ISNA(VLOOKUP(AD25,Tab_feri,2,FALSE)),"",VLOOKUP(AD25,Tab_feri,2,FALSE)) | AD25: =AB25+1 -> 43501 | AE25: =IF(ISNA(VLOOKUP(AF25,Tab_feri,2,FALSE)),"",VLOOKUP(AF25,Tab_feri,2,FALSE)) | AF25: =AD25+1 -> 43502 | AG25: =IF(ISNA(VLOOKUP(AH25,Tab_feri,2,FALSE)),"",VLOOKUP(AH25,Tab_feri,2,FALSE)) | AH25: =AF25+1 -> 43503 | AI25: =IF(ISNA(VLOOKUP(AJ25,Tab_feri,2,FALSE)),"",VLOOKUP(AJ25,Tab_feri,2,FALSE)) | AJ25: =AH25+1 -> 43504 | AK25: =IF(ISNA(VLOOKUP(AL25,Tab_feri,2,FALSE)),"",VLOOKUP(AL25,Tab_feri,2,FALSE)) | AL25: =AJ25+1 -> 43505 | AM25: =IF(ISNA(VLOOKUP(AN25,Tab_feri,2,FALSE)),"",VLOOKUP(AN25,Tab_feri,2,FALSE)) | AN25: =AL25+1 -> 43506 | AT25: =AT24 -> 10 | AU25: =IF(ISNA(VLOOKUP(AV25,Tab_feri,2,FALSE)),"",VLOOKUP(AV25,Tab_feri,2,FALSE)) | AV25: =BH7+1 -> 43528 | AW25: =IF(ISNA(VLOOKUP(AX25,Tab_feri,2,FALSE)),"",VLOOKUP(AX25,Tab_feri,2,FALSE)) | AX25: =AV25+1 -> 43529 | AY25: =IF(ISNA(VLOOKUP(AZ25,Tab_feri,2,FALSE)),"",VLOOKUP(AZ25,Tab_feri,2,FALSE)) | AZ25: =AX25+1 -> 43530 | BA25: =IF(ISNA(VLOOKUP(BB25,Tab_feri,2,FALSE)),"",VLOOKUP(BB25,Tab_feri,2,FALSE)) | BB25: =AZ25+1 -> 43531 | BC25: =IF(ISNA(VLOOKUP(BD25,Tab_feri,2,FALSE)),"",VLOOKUP(BD25,Tab_feri,2,FALSE)) | BD25: =BB25+1 -> 43532 | BE25: =IF(ISNA(VLOOKUP(BF25,Tab_feri,2,FALSE)),"",VLOOKUP(BF25,Tab_feri,2,FALSE)) | BF25: =BD25+1 -> 43533 | BG25: =IF(ISNA(VLOOKUP(BH25,Tab_feri,2,FALSE)),"",VLOOKUP(BH25,Tab_feri,2,FALSE)) | BH25: =BF25+1 -> 43534 | BO25: =DATE(An_ref,5,21) -> 43606
D26: =SUM(H26,J26,L26,N26,P26,R26,T26) -> 0 | F26: 1 | X26: =SUM(AB26,AD26,AF26,AH26,AJ26,AL26,AN26) -> 0 | Z26: 1 | AR26: =SUM(AV26,AX26,AZ26,BB26,BD26,BF26,BH26) -> 0 | AT26: 1 | BO26: =DATE(An_ref,6,24) -> 43640
D27: =SUM(H27,J27,L27,N27,P27,R27,T27) -> 0 | F27: 2 | X27: =SUM(AB27,AD27,AF27,AH27,AJ27,AL27,AN27) -> 0 | Z27: 2 | AR27: =SUM(AV27,AX27,AZ27,BB27,BD27,BF27,BH27) -> 0 | AT27: 2
D28: =SUM(H28,J28,L28,N28,P28,R28,T28) -> 0 | F28: 3 | X28: =SUM(AB28,AD28,AF28,AH28,AJ28,AL28,AN28) -> 0 | Z28: 3 | AR28: =SUM(AV28,AX28,AZ28,BB28,BD28,BF28,BH28) -> 0 | AT28: 3
D29: =SUM(H29,J29,L29,N29,P29,R29,T29) -> 0 | F29: 4 | X29: =SUM(AB29,AD29,AF29,AH29,AJ29,AL29,AN29) -> 0 | Z29: 4 | AR29: =SUM(AV29,AX29,AZ29,BB29,BD29,BF29,BH29) -> 0 | AT29: 4
D30: =SUM(H30,J30,L30,N30,P30,R30,T30) -> 0 | F30: 5 | X30: =SUM(AB30,AD30,AF30,AH30,AJ30,AL30,AN30) -> 0 | Z30: 5 | AR30: =SUM(AV30,AX30,AZ30,BB30,BD30,BF30,BH30) -> 0 | AT30: 5
D31: =SUM(H31,J31,L31,N31,P31,R31,T31) -> 0 | F31: 6 | X31: =SUM(AB31,AD31,AF31,AH31,AJ31,AL31,AN31) -> 0 | Z31: 6 | AR31: =SUM(AV31,AX31,AZ31,BB31,BD31,BF31,BH31) -> 0 | AT31: 6
D32: =SUM(H32,J32,L32,N32,P32,R32,T32) -> 0 | F32: 7 | X32: =SUM(AB32,AD32,AF32,AH32,AJ32,AL32,AN32) -> 0 | Z32: 7 | AR32: =SUM(AV32,AX32,AZ32,BB32,BD32,BF32,BH32) -> 0 | AT32: 7
D33: =SUM(H33,J33,L33,N33,P33,R33,T33) -> 0 | F33: 8 | X33: =SUM(AB33,AD33,AF33,AH33,AJ33,AL33,AN33) -> 0 | Z33: 8 | AR33: =SUM(AV33,AX33,AZ33,BB33,BD33,BF33,BH33) -> 0 | AT33: 8
D34: =SUM(H34,J34,L34,N34,P34,R34,T34) -> 0 | F34: 9 | X34: =SUM(AB34,AD34,AF34,AH34,AJ34,AL34,AN34) -> 0 | Z34: 9 | AR34: =SUM(AV34,AX34,AZ34,BB34,BD34,BF34,BH34) -> 0 | AT34: 9
D35: =SUM(H35,J35,L35,N35,P35,R35,T35) -> 0 | F35: 10 | X35: =SUM(AB35,AD35,AF35,AH35,AJ35,AL35,AN35) -> 0 | Z35: 10 | AR35: =SUM(AV35,AX35,AZ35,BB35,BD35,BF35,BH35) -> 0 | AT35: 10
D36: =SUM(H36,J36,L36,N36,P36,R36,T36) -> 0 | F36: 11 | X36: =SUM(AB36,AD36,AF36,AH36,AJ36,AL36,AN36) -> 0 | Z36: 11 | AR36: =SUM(AV36,AX36,AZ36,BB36,BD36,BF36,BH36) -> 0 | AT36: 11
D37: =SUM(H37,J37,L37,N37,P37,R37,T37) -> 0 | F37: 12 | X37: =SUM(AB37,AD37,AF37,AH37,AJ37,AL37,AN37) -> 0 | Z37: 12 | AR37: =SUM(AV37,AX37,AZ37,BB37,BD37,BF37,BH37) -> 0 | AT37: 12
D38: =SUM(H38,J38,L38,N38,P38,R38,T38) -> 0 | F38: 13 | X38: =SUM(AB38,AD38,AF38,AH38,AJ38,AL38,AN38) -> 0 | Z38: 13 | AR38: =SUM(AV38,AX38,AZ38,BB38,BD38,BF38,BH38) -> 0 | AT38: 13
... D40: =SUM(H40,J40,L40,N40,P40,R40,T40) -> 0 | F40: 15 | X40: =SUM(AB40,AD40,AF40,AH40,AJ40,AL40,AN40) -> 0 | Z40: 15 | AR40: =SUM(AV40,AX40,AZ40,BB40,BD40,BF40,BH40) -> 0 | AT40: 15
G41: TOTAL | H41: =SUM(H26:H40) -> 0 | J41: =SUM(J26:J40) -> 0 | L41: =SUM(L26:L40) -> 0 | N41: =SUM(N26:N40) -> 0 | P41: =SUM(P26:P40) -> 0 | R41: =SUM(R26:R40) -> 0 | T41: =SUM(T26:T40) -> 0 | AA41: TOTAL | AB41: =SUM(AB26:AB40) -> 0 | AD41: =SUM(AD26:AD40) -> 0 | AF41: =SUM(AF26:AF40) -> 0 | AH41: =SUM(AH26:AH40) -> 0 | AJ41: =SUM(AJ26:AJ40) -> 0 | AL41: =SUM(AL26:AL40) -> 0 | AN41: =SUM(AN26:AN40) -> 0 | AU41: TOTAL | AV41: =SUM(AV26:AV40) -> 0 | AX41: =SUM(AX26:AX40) -> 0 | AZ41: =SUM(AZ26:AZ40) -> 0 | BB41: =SUM(BB26:BB40) -> 0 | BD41: =SUM(BD26:BD40) -> 0 | BF41: =SUM(BF26:BF40) -> 0 | BH41: =SUM(BH26:BH40) -> 0
F42: =INT((N43-LOOKUP(N43,DATE(YEAR(N43)+{-1;0;1},1,3)-WEEKDAY(DATE(YEAR(N43)+{-1;0;1},1,3))+2))/7)+1 -> 3 | Z42: =INT((AH43-LOOKUP(AH43,DATE(YEAR(AH43)+{-1;0;1},1,3)-WEEKDAY(DATE(YEAR(AH43)+{-1;0;1},1,3))+2))/7)+1 -> 7 | AT42: =INT((BB43-LOOKUP(BB43,DATE(YEAR(BB43)+{-1;0;1},1,3)-WEEKDAY(DATE(YEAR(BB43)+{-1;0;1},1,3))+2))/7)+1 -> 11 | BO42: =DATE(An_ref,7,1) -> 43647
F43: =F42 -> 3 | G43: =IF(ISNA(VLOOKUP(H43,Tab_feri,2,FALSE)),"",VLOOKUP(H43,Tab_feri,2,FALSE)) | H43: =T25+1 -> 43479 | I43: =IF(ISNA(VLOOKUP(J43,Tab_feri,2,FALSE)),"",VLOOKUP(J43,Tab_feri,2,FALSE)) | J43: =H43+1 -> 43480 | K43: =IF(ISNA(VLOOKUP(L43,Tab_feri,2,FALSE)),"",VLOOKUP(L43,Tab_feri,2,FALSE)) | L43: =J43+1 -> 43481 | M43: =IF(ISNA(VLOOKUP(N43,Tab_feri,2,FALSE)),"",VLOOKUP(N43,Tab_feri,2,FALSE)) | N43: =L43+1 -> 43482 | O43: =IF(ISNA(VLOOKUP(P43,Tab_feri,2,FALSE)),"",VLOOKUP(P43,Tab_feri,2,FALSE)) | P43: =N43+1 -> 43483 | Q43: =IF(ISNA(VLOOKUP(R43,Tab_feri,2,FALSE)),"",VLOOKUP(R43,Tab_feri,2,FALSE)) | R43: =P43+1 -> 43484 | S43: =IF(ISNA(VLOOKUP(T43,Tab_feri,2,FALSE)),"",VLOOKUP(T43,Tab_feri,2,FALSE)) | T43: =R43+1 -> 43485 | Z43: =Z42 -> 7 | AA43: =IF(ISNA(VLOOKUP(AB43,Tab_feri,2,FALSE)),"",VLOOKUP(AB43,Tab_feri,2,FALSE)) | AB43: =AN25+1 -> 43507 | AC43: =IF(ISNA(VLOOKUP(AD43,Tab_feri,2,FALSE)),"",VLOOKUP(AD43,Tab_feri,2,FALSE)) | AD43: =AB43+1 -> 43508 | AE43: =IF(ISNA(VLOOKUP(AF43,Tab_feri,2,FALSE)),"",VLOOKUP(AF43,Tab_feri,2,FALSE)) | AF43: =AD43+1 -> 43509 | AG43: =IF(ISNA(VLOOKUP(AH43,Tab_feri,2,FALSE)),"",VLOOKUP(AH43,Tab_feri,2,FALSE)) | AH43: =AF43+1 -> 43510 | AI43: =IF(ISNA(VLOOKUP(AJ43,Tab_feri,2,FALSE)),"",VLOOKUP(AJ43,Tab_feri,2,FALSE)) | AJ43: =AH43+1 -> 43511 | AK43: =IF(ISNA(VLOOKUP(AL43,Tab_feri,2,FALSE)),"",VLOOKUP(AL43,Tab_feri,2,FALSE)) | AL43: =AJ43+1 -> 43512 | AM43: =IF(ISNA(VLOOKUP(AN43,Tab_feri,2,FALSE)),"",VLOOKUP(AN43,Tab_feri,2,FALSE)) | AN43: =AL43+1 -> 43513 | AT43: =AT42 -> 11 | AU43: =IF(ISNA(VLOOKUP(AV43,Tab_feri,2,FALSE)),"",VLOOKUP(AV43,Tab_feri,2,FALSE)) | AV43: =BH25+1 -> 43535 | AW43: =IF(ISNA(VLOOKUP(AX43,Tab_feri,2,FALSE)),"",VLOOKUP(AX43,Tab_feri,2,FALSE)) | AX43: =AV43+1 -> 43536 | AY43: =IF(ISNA(VLOOKUP(AZ43,Tab_feri,2,FALSE)),"",VLOOKUP(AZ43,Tab_feri,2,FALSE)) | AZ43: =AX43+1 -> 43537 | BA43: =IF(ISNA(VLOOKUP(BB43,Tab_feri,2,FALSE)),"",VLOOKUP(BB43,Tab_feri,2,FALSE)) | BB43: =AZ43+1 -> 43538 | BC43: =IF(ISNA(VLOOKUP(BD43,Tab_feri,2,FALSE)),"",VLOOKUP(BD43,Tab_feri,2,FALSE)) | BD43: =BB43+1 -> 43539 | BE43: =IF(ISNA(VLOOKUP(BF43,Tab_feri,2,FALSE)),"",VLOOKUP(BF43,Tab_feri,2,FALSE)) | BF43: =BD43+1 -> 43540 | BG43: =IF(ISNA(VLOOKUP(BH43,Tab_feri,2,FALSE)),"",VLOOKUP(BH43,Tab_feri,2,FALSE)) | BH43: =BF43+1 -> 43541 | BO43: =DATE(An_ref,9,3) -> 43711
D44: =SUM(H44,J44,L44,N44,P44,R44,T44) -> 0 | F44: 1 | X44: =SUM(AB44,AD44,AF44,AH44,AJ44,AL44,AN44) -> 0 | Z44: 1 | AR44: =SUM(AV44,AX44,AZ44,BB44,BD44,BF44,BH44) -> 0 | AT44: 1 | BO44: =DATE(An_ref,10,8) -> 43746
D45: =SUM(H45,J45,L45,N45,P45,R45,T45) -> 0 | F45: 2 | X45: =SUM(AB45,AD45,AF45,AH45,AJ45,AL45,AN45) -> 0 | Z45: 2 | AR45: =SUM(AV45,AX45,AZ45,BB45,BD45,BF45,BH45) -> 0 | AT45: 2
D46: =SUM(H46,J46,L46,N46,P46,R46,T46) -> 0 | F46: 3 | X46: =SUM(AB46,AD46,AF46,AH46,AJ46,AL46,AN46) -> 0 | Z46: 3 | AR46: =SUM(AV46,AX46,AZ46,BB46,BD46,BF46,BH46) -> 0 | AT46: 3
D47: =SUM(H47,J47,L47,N47,P47,R47,T47) -> 0 | F47: 4 | X47: =SUM(AB47,AD47,AF47,AH47,AJ47,AL47,AN47) -> 0 | Z47: 4 | AR47: =SUM(AV47,AX47,AZ47,BB47,BD47,BF47,BH47) -> 0 | AT47: 4
D48: =SUM(H48,J48,L48,N48,P48,R48,T48) -> 0 | F48: 5 | X48: =SUM(AB48,AD48,AF48,AH48,AJ48,AL48,AN48) -> 0 | Z48: 5 | AR48: =SUM(AV48,AX48,AZ48,BB48,BD48,BF48,BH48) -> 0 | AT48: 5
D49: =SUM(H49,J49,L49,N49,P49,R49,T49) -> 0 | F49: 6 | X49: =SUM(AB49,AD49,AF49,AH49,AJ49,AL49,AN49) -> 0 | Z49: 6 | AR49: =SUM(AV49,AX49,AZ49,BB49,BD49,BF49,BH49) -> 0 | AT49: 6
D50: =SUM(H50,J50,L50,N50,P50,R50,T50) -> 0 | F50: 7 | X50: =SUM(AB50,AD50,AF50,AH50,AJ50,AL50,AN50) -> 0 | Z50: 7 | AR50: =SUM(AV50,AX50,AZ50,BB50,BD50,BF50,BH50) -> 0 | AT50: 7
D51: =SUM(H51,J51,L51,N51,P51,R51,T51) -> 0 | F51: 8 | X51: =SUM(AB51,AD51,AF51,AH51,AJ51,AL51,AN51) -> 0 | Z51: 8 | AR51: =SUM(AV51,AX51,AZ51,BB51,BD51,BF51,BH51) -> 0 | AT51: 8
D52: =SUM(H52,J52,L52,N52,P52,R52,T52) -> 0 | F52: 9 | X52: =SUM(AB52,AD52,AF52,AH52,AJ52,AL52,AN52) -> 0 | Z52: 9 | AR52: =SUM(AV52,AX52,AZ52,BB52,BD52,BF52,BH52) -> 0 | AT52: 9
D53: =SUM(H53,J53,L53,N53,P53,R53,T53) -> 0 | F53: 10 | X53: =SUM(AB53,AD53,AF53,AH53,AJ53,AL53,AN53) -> 0 | Z53: 10 | AR53: =SUM(AV53,AX53,AZ53,BB53,BD53,BF53,BH53) -> 0 | AT53: 10
D54: =SUM(H54,J54,L54,N54,P54,R54,T54) -> 0 | F54: 11 | X54: =SUM(AB54,AD54,AF54,AH54,AJ54,AL54,AN54) -> 0 | Z54: 11 | AR54: =SUM(AV54,AX54,AZ54,BB54,BD54,BF54,BH54) -> 0 | AT54: 11
D55: =SUM(H55,J55,L55,N55,P55,R55,T55) -> 0 | F55: 12 | X55: =SUM(AB55,AD55,AF55,AH55,AJ55,AL55,AN55) -> 0 | Z55: 12 | AR55: =SUM(AV55,AX55,AZ55,BB55,BD55,BF55,BH55) -> 0 | AT55: 12
D56: =SUM(H56,J56,L56,N56,P56,R56,T56) -> 0 | F56: 13 | X56: =SUM(AB56,AD56,AF56,AH56,AJ56,AL56,AN56) -> 0 | Z56: 13 | AR56: =SUM(AV56,AX56,AZ56,BB56,BD56,BF56,BH56) -> 0 | AT56: 13
... D58: =SUM(H58,J58,L58,N58,P58,R58,T58) -> 0 | F58: 15 | X58: =SUM(AB58,AD58,AF58,AH58,AJ58,AL58,AN58) -> 0 | Z58: 15 | AR58: =SUM(AV58,AX58,AZ58,BB58,BD58,BF58,BH58) -> 0 | AT58: 15
G59: TOTAL | H59: =SUM(H44:H58) -> 0 | J59: =SUM(J44:J58) -> 0 | L59: =SUM(L44:L58) -> 0 | N59: =SUM(N44:N58) -> 0 | P59: =SUM(P44:P58) -> 0 | R59: =SUM(R44:R58) -> 0 | T59: =SUM(T44:T58) -> 0 | AA59: TOTAL | AB59: =SUM(AB44:AB58) -> 0 | AD59: =SUM(AD44:AD58) -> 0 | AF59: =SUM(AF44:AF58) -> 0 | AH59: =SUM(AH44:AH58) -> 0 | AJ59: =SUM(AJ44:AJ58) -> 0 | AL59: =SUM(AL44:AL58) -> 0 | AN59: =SUM(AN44:AN58) -> 0 | AU59: TOTAL | AV59: =SUM(AV44:AV58) -> 0 | AX59: =SUM(AX44:AX58) -> 0 | AZ59: =SUM(AZ44:AZ58) -> 0 | BB59: =SUM(BB44:BB58) -> 0 | BD59: =SUM(BD44:BD58) -> 0 | BF59: =SUM(BF44:BF58) -> 0 | BH59: =SUM(BH44:BH58) -> 0
F60: =INT((N61-LOOKUP(N61,DATE(YEAR(N61)+{-1;0;1},1,3)-WEEKDAY(DATE(YEAR(N61)+{-1;0;1},1,3))+2))/7)+1 -> 4 | Z60: =INT((AH61-LOOKUP(AH61,DATE(YEAR(AH61)+{-1;0;1},1,3)-WEEKDAY(DATE(YEAR(AH61)+{-1;0;1},1,3))+2))/7)+1 -> 8 | AT60: =INT((BB61-LOOKUP(BB61,DATE(YEAR(BB61)+{-1;0;1},1,3)-WEEKDAY(DATE(YEAR(BB61)+{-1;0;1},1,3))+2))/7)+1 -> 12 | BO60: =DATE(An_ref,12,23) -> 43822
F61: =F60 -> 4 | G61: =IF(ISNA(VLOOKUP(H61,Tab_feri,2,FALSE)),"",VLOOKUP(H61,Tab_feri,2,FALSE)) | H61: =T43+1 -> 43486 | I61: =IF(ISNA(VLOOKUP(J61,Tab_feri,2,FALSE)),"",VLOOKUP(J61,Tab_feri,2,FALSE)) | J61: =H61+1 -> 43487 | K61: =IF(ISNA(VLOOKUP(L61,Tab_feri,2,FALSE)),"",VLOOKUP(L61,Tab_feri,2,FALSE)) | L61: =J61+1 -> 43488 | M61: =IF(ISNA(VLOOKUP(N61,Tab_feri,2,FALSE)),"",VLOOKUP(N61,Tab_feri,2,FALSE)) | N61: =L61+1 -> 43489 | O61: =IF(ISNA(VLOOKUP(P61,Tab_feri,2,FALSE)),"",VLOOKUP(P61,Tab_feri,2,FALSE)) | P61: =N61+1 -> 43490 | Q61: =IF(ISNA(VLOOKUP(R61,Tab_feri,2,FALSE)),"",VLOOKUP(R61,Tab_feri,2,FALSE)) | R61: =P61+1 -> 43491 | S61: =IF(ISNA(VLOOKUP(T61,Tab_feri,2,FALSE)),"",VLOOKUP(T61,Tab_feri,2,FALSE)) | T61: =R61+1 -> 43492 | Z61: =Z60 -> 8 | AA61: =IF(ISNA(VLOOKUP(AB61,Tab_feri,2,FALSE)),"",VLOOKUP(AB61,Tab_feri,2,FALSE)) | AB61: =AN43+1 -> 43514 | AC61: =IF(ISNA(VLOOKUP(AD61,Tab_feri,2,FALSE)),"",VLOOKUP(AD61,Tab_feri,2,FALSE)) | AD61: =AB61+1 -> 43515 | AE61: =IF(ISNA(VLOOKUP(AF61,Tab_feri,2,FALSE)),"",VLOOKUP(AF61,Tab_feri,2,FALSE)) | AF61: =AD61+1 -> 43516 | AG61: =IF(ISNA(VLOOKUP(AH61,Tab_feri,2,FALSE)),"",VLOOKUP(AH61,Tab_feri,2,FALSE)) | AH61: =AF61+1 -> 43517 | AI61: =IF(ISNA(VLOOKUP(AJ61,Tab_feri,2,FALSE)),"",VLOOKUP(AJ61,Tab_feri,2,FALSE)) | AJ61: =AH61+1 -> 43518 | AK61: =IF(ISNA(VLOOKUP(AL61,Tab_feri,2,FALSE)),"",VLOOKUP(AL61,Tab_feri,2,FALSE)) | AL61: =AJ61+1 -> 43519 | AM61: =IF(ISNA(VLOOKUP(AN61,Tab_feri,2,FALSE)),"",VLOOKUP(AN61,Tab_feri,2,FALSE)) | AN61: =AL61+1 -> 43520 | AT61: =AT60 -> 12 | AU61: =IF(ISNA(VLOOKUP(AV61,Tab_feri,2,FALSE)),"",VLOOKUP(AV61,Tab_feri,2,FALSE)) | AV61: =BH43+1 -> 43542 | AW61: =IF(ISNA(VLOOKUP(AX61,Tab_feri,2,FALSE)),"",VLOOKUP(AX61,Tab_feri,2,FALSE)) | AX61: =AV61+1 -> 43543 | AY61: =IF(ISNA(VLOOKUP(AZ61,Tab_feri,2,FALSE)),"",VLOOKUP(AZ61,Tab_feri,2,FALSE)) | AZ61: =AX61+1 -> 43544 | BA61: =IF(ISNA(VLOOKUP(BB61,Tab_feri,2,FALSE)),"",VLOOKUP(BB61,Tab_feri,2,FALSE)) | BB61: =AZ61+1 -> 43545 | BC61: =IF(ISNA(VLOOKUP(BD61,Tab_feri,2,FALSE)),"",VLOOKUP(BD61,Tab_feri,2,FALSE)) | BD61: =BB61+1 -> 43546 | BE61: =IF(ISNA(VLOOKUP(BF61,Tab_feri,2,FALSE)),"",VLOOKUP(BF61,Tab_feri,2,FALSE)) | BF61: =BD61+1 -> 43547 | BG61: =IF(ISNA(VLOOKUP(BH61,Tab_feri,2,FALSE)),"",VLOOKUP(BH61,Tab_feri,2,FALSE)) | BH61: =BF61+1 -> 43548 | BO61: =DATE(An_ref,12,24) -> 43823
D62: =SUM(H62,J62,L62,N62,P62,R62,T62) -> 0 | F62: 1 | X62: =SUM(AB62,AD62,AF62,AH62,AJ62,AL62,AN62) -> 0 | Z62: 1 | AR62: =SUM(AV62,AX62,AZ62,BB62,BD62,BF62,BH62) -> 0 | AT62: 1 | BO62: =DATE(An_ref,12,25) -> 43824
D63: =SUM(H63,J63,L63,N63,P63,R63,T63) -> 0 | F63: 2 | X63: =SUM(AB63,AD63,AF63,AH63,AJ63,AL63,AN63) -> 0 | Z63: 2 | AR63: =SUM(AV63,AX63,AZ63,BB63,BD63,BF63,BH63) -> 0 | AT63: 2
D64: =SUM(H64,J64,L64,N64,P64,R64,T64) -> 0 | F64: 3 | X64: =SUM(AB64,AD64,AF64,AH64,AJ64,AL64,AN64) -> 0 | Z64: 3 | AR64: =SUM(AV64,AX64,AZ64,BB64,BD64,BF64,BH64) -> 0 | AT64: 3
D65: =SUM(H65,J65,L65,N65,P65,R65,T65) -> 0 | F65: 4 | X65: =SUM(AB65,AD65,AF65,AH65,AJ65,AL65,AN65) -> 0 | Z65: 4 | AR65: =SUM(AV65,AX65,AZ65,BB65,BD65,BF65,BH65) -> 0 | AT65: 4
D66: =SUM(H66,J66,L66,N66,P66,R66,T66) -> 0 | F66: 5 | X66: =SUM(AB66,AD66,AF66,AH66,AJ66,AL66,AN66) -> 0 | Z66: 5 | AR66: =SUM(AV66,AX66,AZ66,BB66,BD66,BF66,BH66) -> 0 | AT66: 5
D67: =SUM(H67,J67,L67,N67,P67,R67,T67) -> 0 | F67: 6 | X67: =SUM(AB67,AD67,AF67,AH67,AJ67,AL67,AN67) -> 0 | Z67: 6 | AR67: =SUM(AV67,AX67,AZ67,BB67,BD67,BF67,BH67) -> 0 | AT67: 6
D68: =SUM(H68,J68,L68,N68,P68,R68,T68) -> 0 | F68: 7 | X68: =SUM(AB68,AD68,AF68,AH68,AJ68,AL68,AN68) -> 0 | Z68: 7 | AR68: =SUM(AV68,AX68,AZ68,BB68,BD68,BF68,BH68) -> 0 | AT68: 7
D69: =SUM(H69,J69,L69,N69,P69,R69,T69) -> 0 | F69: 8 | X69: =SUM(AB69,AD69,AF69,AH69,AJ69,AL69,AN69) -> 0 | Z69: 8 | AR69: =SUM(AV69,AX69,AZ69,BB69,BD69,BF69,BH69) -> 0 | AT69: 8
D70: =SUM(H70,J70,L70,N70,P70,R70,T70) -> 0 | F70: 9 | X70: =SUM(AB70,AD70,AF70,AH70,AJ70,AL70,AN70) -> 0 | Z70: 9 | AR70: =SUM(AV70,AX70,AZ70,BB70,BD70,BF70,BH70) -> 0 | AT70: 9
D71: =SUM(H71,J71,L71,N71,P71,R71,T71) -> 0 | F71: 10 | X71: =SUM(AB71,AD71,AF71,AH71,AJ71,AL71,AN71) -> 0 | Z71: 10 | AR71: =SUM(AV71,AX71,AZ71,BB71,BD71,BF71,BH71) -> 0 | AT71: 10
D72: =SUM(H72,J72,L72,N72,P72,R72,T72) -> 0 | F72: 11 | X72: =SUM(AB72,AD72,AF72,AH72,AJ72,AL72,AN72) -> 0 | Z72: 11 | AR72: =SUM(AV72,AX72,AZ72,BB72,BD72,BF72,BH72) -> 0 | AT72: 11
D73: =SUM(H73,J73,L73,N73,P73,R73,T73) -> 0 | F73: 12 | X73: =SUM(AB73,AD73,AF73,AH73,AJ73,AL73,AN73) -> 0 | Z73: 12 | AR73: =SUM(AV73,AX73,AZ73,BB73,BD73,BF73,BH73) -> 0 | AT73: 12
D74: =SUM(H74,J74,L74,N74,P74,R74,T74) -> 0 | F74: 13 | X74: =SUM(AB74,AD74,AF74,AH74,AJ74,AL74,AN74) -> 0 | Z74: 13 | AR74: =SUM(AV74,AX74,AZ74,BB74,BD74,BF74,BH74) -> 0 | AT74: 13
... D76: =SUM(H76,J76,L76,N76,P76,R76,T76) -> 0 | F76: 15 | X76: =SUM(AB76,AD76,AF76,AH76,AJ76,AL76,AN76) -> 0 | Z76: 15 | AR76: =SUM(AV76,AX76,AZ76,BB76,BD76,BF76,BH76) -> 0 | AT76: 15
G77: TOTAL | H77: =SUM(H62:H76) -> 0 | J77: =SUM(J62:J76) -> 0 | L77: =SUM(L62:L76) -> 0 | N77: =SUM(N62:N76) -> 0 | P77: =SUM(P62:P76) -> 0 | R77: =SUM(R62:R76) -> 0 | T77: =SUM(T62:T76) -> 0 | AA77: TOTAL | AB77: =SUM(AB62:AB76) -> 0 | AD77: =SUM(AD62:AD76) -> 0 | AF77: =SUM(AF62:AF76) -> 0 | AH77: =SUM(AH62:AH76) -> 0 | AJ77: =SUM(AJ62:AJ76) -> 0 | AL77: =SUM(AL62:AL76) -> 0 | AN77: =SUM(AN62:AN76) -> 0 | AU77: TOTAL | AV77: =SUM(AV62:AV76) -> 0 | AX77: =SUM(AX62:AX76) -> 0 | AZ77: =SUM(AZ62:AZ76) -> 0 | BB77: =SUM(BB62:BB76) -> 0 | BD77: =SUM(BD62:BD76) -> 0 | BF77: =SUM(BF62:BF76) -> 0 | BH77: =SUM(BH62:BH76) -> 0
F78: =IF(H79<=EOMONTH(H43,0),INT((N79-LOOKUP(N79,DATE(YEAR(N79)+{-1;0;1},1,3)-WEEKDAY(DATE(YEAR(N79)+{-1;0;1},1,3))+2))/7)+1,"") -> 5 | Z78: =IF(AB79<=EOMONTH(AB43,0),INT((AH79-LOOKUP(AH79,DATE(YEAR(AH79)+{-1;0;1},1,3)-WEEKDAY(DATE(YEAR(AH79)+{-1;0;1},1,3))+2))/7)+1,"") -> 9 | AT78: =IF(AV79<=EOMONTH(AV43,0),INT((BB79-LOOKUP(BB79,DATE(YEAR(BB79)+{-1;0;1},1,3)-WEEKDAY(DATE(YEAR(BB79)+{-1;0;1},1,3))+2))/7)+1,"") -> 13 | BO78: =DATE(An_ref,12,31) -> 43830
F79: =F78 -> 5 | G79: =IF(ISNA(VLOOKUP(H79,Tab_feri,2,FALSE)),"",VLOOKUP(H79,Tab_feri,2,FALSE)) | H79: =IF(T61<EOMONTH(F4,0),T61+1,"") -> 43493 | I79: =IF(ISNA(VLOOKUP(J79,Tab_feri,2,FALSE)),"",VLOOKUP(J79,Tab_feri,2,FALSE)) | J79: =IF(H79<EOMONTH(F4,0),H79+1,"") -> 43494 | K79: =IF(ISNA(VLOOKUP(L79,Tab_feri,2,FALSE)),"",VLOOKUP(L79,Tab_feri,2,FALSE)) | L79: =IF(J79<EOMONTH(F4,0),J79+1,"") -> 43495 | M79: =IF(ISNA(VLOOKUP(N79,Tab_feri,2,FALSE)),"",VLOOKUP(N79,Tab_feri,2,FALSE)) | N79: =IF(L79<EOMONTH(F4,0),L79+1,"") -> 43496 | O79: =IF(ISNA(VLOOKUP(P79,Tab_feri,2,FALSE)),"",VLOOKUP(P79,Tab_feri,2,FALSE)) | P79: =IF(N79<EOMONTH(F4,0),N79+1,"") | Q79: =IF(ISNA(VLOOKUP(R79,Tab_feri,2,FALSE)),"",VLOOKUP(R79,Tab_feri,2,FALSE)) | R79: =IF(P79<EOMONTH(F4,0),P79+1,"") | S79: =IF(ISNA(VLOOKUP(T79,Tab_feri,2,FALSE)),"",VLOOKUP(T79,Tab_feri,2,FALSE)) | T79: =IF(R79<EOMONTH(F4,0),R79+1,"") | Z79: =Z78 -> 9 | AA79: =IF(ISNA(VLOOKUP(AB79,Tab_feri,2,FALSE)),"",VLOOKUP(AB79,Tab_feri,2,FALSE)) | AB79: =IF(AN61<EOMONTH(Z4,0),AN61+1,"") -> 43521 | AC79: =IF(ISNA(VLOOKUP(AD79,Tab_feri,2,FALSE)),"",VLOOKUP(AD79,Tab_feri,2,FALSE)) | AD79: =IF(AB79<EOMONTH(Z4,0),AB79+1,"") -> 43522 | AE79: =IF(ISNA(VLOOKUP(AF79,Tab_feri,2,FALSE)),"",VLOOKUP(AF79,Tab_feri,2,FALSE)) | AF79: =IF(AD79<EOMONTH(Z4,0),AD79+1,"") -> 43523 | AG79: =IF(ISNA(VLOOKUP(AH79,Tab_feri,2,FALSE)),"",VLOOKUP(AH79,Tab_feri,2,FALSE)) | AH79: =IF(AF79<EOMONTH(Z4,0),AF79+1,"") -> 43524 | AI79: =IF(ISNA(VLOOKUP(AJ79,Tab_feri,2,FALSE)),"",VLOOKUP(AJ79,Tab_feri,2,FALSE)) | AJ79: =IF(AH79<EOMONTH(Z4,0),AH79+1,"") | AK79: =IF(ISNA(VLOOKUP(AL79,Tab_feri,2,FALSE)),"",VLOOKUP(AL79,Tab_feri,2,FALSE)) | AL79: =IF(AJ79<EOMONTH(Z4,0),AJ79+1,"") | AM79: =IF(ISNA(VLOOKUP(AN79,Tab_feri,2,FALSE)),"",VLOOKUP(AN79,Tab_feri,2,FALSE)) | AN79: =IF(AL79<EOMONTH(Z4,0),AL79+1,"") | AT79: =AT78 -> 13 | AU79: =IF(ISNA(VLOOKUP(AV79,Tab_feri,2,FALSE)),"",VLOOKUP(AV79,Tab_feri,2,FALSE)) | AV79: =IF(BH61<EOMONTH(AT4,0),BH61+1,"") -> 43549 | AW79: =IF(ISNA(VLOOKUP(AX79,Tab_feri,2,FALSE)),"",VLOOKUP(AX79,Tab_feri,2,FALSE)) | AX79: =IF(AV79<EOMONTH(AT4,0),AV79+1,"") -> 43550 | AY79: =IF(ISNA(VLOOKUP(AZ79,Tab_feri,2,FALSE)),"",VLOOKUP(AZ79,Tab_feri,2,FALSE)) | AZ79: =IF(AX79<EOMONTH(AT4,0),AX79+1,"") -> 43551 | BA79: =IF(ISNA(VLOOKUP(BB79,Tab_feri,2,FALSE)),"",VLOOKUP(BB79,Tab_feri,2,FALSE)) | BB79: =IF(AZ79<EOMONTH(AT4,0),AZ79+1,"") -> 43552 | BC79: =IF(ISNA(VLOOKUP(BD79,Tab_feri,2,FALSE)),"",VLOOKUP(BD79,Tab_feri,2,FALSE)) | BD79: =IF(BB79<EOMONTH(AT4,0),BB79+1,"") -> 43553 | BE79: =IF(ISNA(VLOOKUP(BF79,Tab_feri,2,FALSE)),"",VLOOKUP(BF79,Tab_feri,2,FALSE)) | BF79: =IF(BD79<EOMONTH(AT4,0),BD79+1,"") -> 43554 | BG79: =IF(ISNA(VLOOKUP(BH79,Tab_feri,2,FALSE)),"",VLOOKUP(BH79,Tab_feri,2,FALSE)) | BH79: =IF(BF79<EOMONTH(AT4,0),BF79+1,"") -> 43555
D80: =SUM(H80,J80,L80,N80,P80,R80,T80) -> 0 | F80: 1 | X80: =SUM(AB80,AD80,AF80,AH80,AJ80,AL80,AN80) -> 0 | Z80: 1 | AR80: =SUM(AV80,AX80,AZ80,BB80,BD80,BF80,BH80) -> 0 | AT80: 1
D81: =SUM(H81,J81,L81,N81,P81,R81,T81) -> 0 | F81: 2 | X81: =SUM(AB81,AD81,AF81,AH81,AJ81,AL81,AN81) -> 0 | Z81: 2 | AR81: =SUM(AV81,AX81,AZ81,BB81,BD81,BF81,BH81) -> 0 | AT81: 2
D82: =SUM(H82,J82,L82,N82,P82,R82,T82) -> 0 | F82: 3 | X82: =SUM(AB82,AD82,AF82,AH82,AJ82,AL82,AN82) -> 0 | Z82: 3 | AR82: =SUM(AV82,AX82,AZ82,BB82,BD82,BF82,BH82) -> 0 | AT82: 3
D83: =SUM(H83,J83,L83,N83,P83,R83,T83) -> 0 | F83: 4 | X83: =SUM(AB83,AD83,AF83,AH83,AJ83,AL83,AN83) -> 0 | Z83: 4 | AR83: =SUM(AV83,AX83,AZ83,BB83,BD83,BF83,BH83) -> 0 | AT83: 4
D84: =SUM(H84,J84,L84,N84,P84,R84,T84) -> 0 | F84: 5 | X84: =SUM(AB84,AD84,AF84,AH84,AJ84,AL84,AN84) -> 0 | Z84: 5 | AR84: =SUM(AV84,AX84,AZ84,BB84,BD84,BF84,BH84) -> 0 | AT84: 5
D85: =SUM(H85,J85,L85,N85,P85,R85,T85) -> 0 | F85: 6 | X85: =SUM(AB85,AD85,AF85,AH85,AJ85,AL85,AN85) -> 0 | Z85: 6 | AR85: =SUM(AV85,AX85,AZ85,BB85,BD85,BF85,BH85) -> 0 | AT85: 6
D86: =SUM(H86,J86,L86,N86,P86,R86,T86) -> 0 | F86: 7 | X86: =SUM(AB86,AD86,AF86,AH86,AJ86,AL86,AN86) -> 0 | Z86: 7 | AR86: =SUM(AV86,AX86,AZ86,BB86,BD86,BF86,BH86) -> 0 | AT86: 7
D87: =SUM(H87,J87,L87,N87,P87,R87,T87) -> 0 | F87: 8 | X87: =SUM(AB87,AD87,AF87,AH87,AJ87,AL87,AN87) -> 0 | Z87: 8 | AR87: =SUM(AV87,AX87,AZ87,BB87,BD87,BF87,BH87) -> 0 | AT87: 8
D88: =SUM(H88,J88,L88,N88,P88,R88,T88) -> 0 | F88: 9 | X88: =SUM(AB88,AD88,AF88,AH88,AJ88,AL88,AN88) -> 0 | Z88: 9 | AR88: =SUM(AV88,AX88,AZ88,BB88,BD88,BF88,BH88) -> 0 | AT88: 9
D89: =SUM(H89,J89,L89,N89,P89,R89,T89) -> 0 | F89: 10 | X89: =SUM(AB89,AD89,AF89,AH89,AJ89,AL89,AN89) -> 0 | Z89: 10 | AR89: =SUM(AV89,AX89,AZ89,BB89,BD89,BF89,BH89) -> 0 | AT89: 10
D90: =SUM(H90,J90,L90,N90,P90,R90,T90) -> 0 | F90: 11 | X90: =SUM(AB90,AD90,AF90,AH90,AJ90,AL90,AN90) -> 0 | Z90: 11 | AR90: =SUM(AV90,AX90,AZ90,BB90,BD90,BF90,BH90) -> 0 | AT90: 11
D91: =SUM(H91,J91,L91,N91,P91,R91,T91) -> 0 | F91: 12 | X91: =SUM(AB91,AD91,AF91,AH91,AJ91,AL91,AN91) -> 0 | Z91: 12 | AR91: =SUM(AV91,AX91,AZ91,BB91,BD91,BF91,BH91) -> 0 | AT91: 12
... D94: =SUM(H94,J94,L94,N94,P94,R94,T94) -> 0 | F94: 15 | X94: =SUM(AB94,AD94,AF94,AH94,AJ94,AL94,AN94) -> 0 | Z94: 15 | AR94: =SUM(AV94,AX94,AZ94,BB94,BD94,BF94,BH94) -> 0 | AT94: 15
G95: TOTAL | H95: =SUM(H80:H94) -> 0 | J95: =SUM(J80:J94) -> 0 | L95: =SUM(L80:L94) -> 0 | N95: =SUM(N80:N94) -> 0 | P95: =SUM(P80:P94) -> 0 | R95: =SUM(R80:R94) -> 0 | T95: =SUM(T80:T94) -> 0 | AA95: TOTAL | AB95: =SUM(AB80:AB94) -> 0 | AD95: =SUM(AD80:AD94) -> 0 | AF95: =SUM(AF80:AF94) -> 0 | AH95: =SUM(AH80:AH94) -> 0 | AJ95: =SUM(AJ80:AJ94) -> 0 | AL95: =SUM(AL80:AL94) -> 0 | AN95: =SUM(AN80:AN94) -> 0 | AU95: TOTAL | AV95: =SUM(AV80:AV94) -> 0 | AX95: =SUM(AX80:AX94) -> 0 | AZ95: =SUM(AZ80:AZ94) -> 0 | BB95: =SUM(BB80:BB94) -> 0 | BD95: =SUM(BD80:BD94) -> 0 | BF95: =SUM(BF80:BF94) -> 0 | BH95: =SUM(BH80:BH94) -> 0
F96: =IF(H97<=EOMONTH(H61,0),INT((N97-LOOKUP(N97,DATE(YEAR(N97)+{-1;0;1},1,3)-WEEKDAY(DATE(YEAR(N97)+{-1;0;1},1,3))+2))/7)+1,"") | Z96: =IF(AB97<=EOMONTH(AB61,0),INT((AH97-LOOKUP(AH97,DATE(YEAR(AH97)+{-1;0;1},1,3)-WEEKDAY(DATE(YEAR(AH97)+{-1;0;1},1,3))+2))/7)+1,"") | AT96: =IF(AV97<=EOMONTH(AV61,0),INT((BB97-LOOKUP(BB97,DATE(YEAR(BB97)+{-1;0;1},1,3)-WEEKDAY(DATE(YEAR(BB97)+{-1;0;1},1,3))+2))/7)+1,"")
F97: =F96 | G97: =IF(ISNA(VLOOKUP(H97,Tab_feri,2,FALSE)),"",VLOOKUP(H97,Tab_feri,2,FALSE)) | H97: =IF(T79<EOMONTH(F4,0),T79+1,"") | I97: =IF(ISNA(VLOOKUP(J97,Tab_feri,2,FALSE)),"",VLOOKUP(J97,Tab_feri,2,FALSE)) | J97: =IF(H97<EOMONTH(F4,0),H97+1,"") | K97: =IF(ISNA(VLOOKUP(L97,Tab_feri,2,FALSE)),"",VLOOKUP(L97,Tab_feri,2,FALSE)) | L97: =IF(J97<EOMONTH(F4,0),J97+1,"") | M97: =IF(ISNA(VLOOKUP(N97,Tab_feri,2,FALSE)),"",VLOOKUP(N97,Tab_feri,2,FALSE)) | N97: =IF(L97<EOMONTH(F4,0),L97+1,"") | O97: =IF(ISNA(VLOOKUP(P97,Tab_feri,2,FALSE)),"",VLOOKUP(P97,Tab_feri,2,FALSE)) | P97: =IF(N97<EOMONTH(F4,0),N97+1,"") | Q97: =IF(ISNA(VLOOKUP(R97,Tab_feri,2,FALSE)),"",VLOOKUP(R97,Tab_feri,2,FALSE)) | R97: =IF(P97<EOMONTH(F4,0),P97+1,"") | S97: =IF(ISNA(VLOOKUP(T97,Tab_feri,2,FALSE)),"",VLOOKUP(T97,Tab_feri,2,FALSE)) | T97: =IF(R97<EOMONTH(F4,0),R97+1,"") | Z97: =Z96 | AA97: =IF(ISNA(VLOOKUP(AB97,Tab_feri,2,FALSE)),"",VLOOKUP(AB97,Tab_feri,2,FALSE)) | AB97: =IF(AN79<EOMONTH(Z4,0),AN79+1,"") | AC97: =IF(ISNA(VLOOKUP(AD97,Tab_feri,2,FALSE)),"",VLOOKUP(AD97,Tab_feri,2,FALSE)) | AD97: =IF(AB97<EOMONTH(Z4,0),AB97+1,"") | AE97: =IF(ISNA(VLOOKUP(AF97,Tab_feri,2,FALSE)),"",VLOOKUP(AF97,Tab_feri,2,FALSE)) | AF97: =IF(AD97<EOMONTH(Z4,0),AD97+1,"") | AG97: =IF(ISNA(VLOOKUP(AH97,Tab_feri,2,FALSE)),"",VLOOKUP(AH97,Tab_feri,2,FALSE)) | AH97: =IF(AF97<EOMONTH(Z4,0),AF97+1,"") | AI97: =IF(ISNA(VLOOKUP(AJ97,Tab_feri,2,FALSE)),"",VLOOKUP(AJ97,Tab_feri,2,FALSE)) | AJ97: =IF(AH97<EOMONTH(Z4,0),AH97+1,"") | AK97: =IF(ISNA(VLOOKUP(AL97,Tab_feri,2,FALSE)),"",VLOOKUP(AL97,Tab_feri,2,FALSE)) | AL97: =IF(AJ97<EOMONTH(Z4,0),AJ97+1,"") | AM97: =IF(ISNA(VLOOKUP(AN97,Tab_feri,2,FALSE)),"",VLOOKUP(AN97,Tab_feri,2,FALSE)) | AN97: =IF(AL97<EOMONTH(Z4,0),AL97+1,"") | AT97: =AT96 | AU97: =IF(ISNA(VLOOKUP(AV97,Tab_feri,2,FALSE)),"",VLOOKUP(AV97,Tab_feri,2,FALSE)) | AV97: =IF(BH79<EOMONTH(AT4,0),BH79+1,"") | AW97: =IF(ISNA(VLOOKUP(AX97,Tab_feri,2,FALSE)),"",VLOOKUP(AX97,Tab_feri,2,FALSE)) | AX97: =IF(AV97<EOMONTH(AT4,0),AV97+1,"") | AY97: =IF(ISNA(VLOOKUP(AZ97,Tab_feri,2,FALSE)),"",VLOOKUP(AZ97,Tab_feri,2,FALSE)) | AZ97: =IF(AX97<EOMONTH(AT4,0),AX97+1,"") | BA97: =IF(ISNA(VLOOKUP(BB97,Tab_feri,2,FALSE)),"",VLOOKUP(BB97,Tab_feri,2,FALSE)) | BB97: =IF(AZ97<EOMONTH(AT4,0),AZ97+1,"") | BC97: =IF(ISNA(VLOOKUP(BD97,Tab_feri,2,FALSE)),"",VLOOKUP(BD97,Tab_feri,2,FALSE)) | BD97: =IF(BB97<EOMONTH(AT4,0),BB97+1,"") | BE97: =IF(ISNA(VLOOKUP(BF97,Tab_feri,2,FALSE)),"",VLOOKUP(BF97,Tab_feri,2,FALSE)) | BF97: =IF(BD97<EOMONTH(AT4,0),BD97+1,"") | BG97: =IF(ISNA(VLOOKUP(BH97,Tab_feri,2,FALSE)),"",VLOOKUP(BH97,Tab_feri,2,FALSE)) | BH97: =IF(BF97<EOMONTH(AT4,0),BF97+1,"")
D98: =SUM(H98,J98,L98,N98,P98,R98,T98) -> 0 | F98: 1 | X98: =SUM(AB98,AD98,AF98,AH98,AJ98,AL98,AN98) -> 0 | Z98: 1 | AR98: =SUM(AV98,AX98,AZ98,BB98,BD98,BF98,BH98) -> 0 | AT98: 1
D99: =SUM(H99,J99,L99,N99,P99,R99,T99) -> 0 | F99: 2 | X99: =SUM(AB99,AD99,AF99,AH99,AJ99,AL99,AN99) -> 0 | Z99: 2 | AR99: =SUM(AV99,AX99,AZ99,BB99,BD99,BF99,BH99) -> 0 | AT99: 2
D100: =SUM(H100,J100,L100,N100,P100,R100,T100) -> 0 | F100: 3 | X100: =SUM(AB100,AD100,AF100,AH100,AJ100,AL100,AN100) -> 0 | Z100: 3 | AR100: =SUM(AV100,AX100,AZ100,BB100,BD100,BF100,BH100) -> 0 | AT100: 3
D101: =SUM(H101,J101,L101,N101,P101,R101,T101) -> 0 | F101: 4 | X101: =SUM(AB101,AD101,AF101,AH101,AJ101,AL101,AN101) -> 0 | Z101: 4 | AR101: =SUM(AV101,AX101,AZ101,BB101,BD101,BF101,BH101) -> 0 | AT101: 4
D102: =SUM(H102,J102,L102,N102,P102,R102,T102) -> 0 | F102: 5 | X102: =SUM(AB102,AD102,AF102,AH102,AJ102,AL102,AN102) -> 0 | Z102: 5 | AR102: =SUM(AV102,AX102,AZ102,BB102,BD102,BF102,BH102) -> 0 | AT102: 5
D103: =SUM(H103,J103,L103,N103,P103,R103,T103) -> 0 | F103: 6 | X103: =SUM(AB103,AD103,AF103,AH103,AJ103,AL103,AN103) -> 0 | Z103: 6 | AR103: =SUM(AV103,AX103,AZ103,BB103,BD103,BF103,BH103) -> 0 | AT103: 6
D104: =SUM(H104,J104,L104,N104,P104,R104,T104) -> 0 | F104: 7 | X104: =SUM(AB104,AD104,AF104,AH104,AJ104,AL104,AN104) -> 0 | Z104: 7 | AR104: =SUM(AV104,AX104,AZ104,BB104,BD104,BF104,BH104) -> 0 | AT104: 7
D105: =SUM(H105,J105,L105,N105,P105,R105,T105) -> 0 | F105: 8 | X105: =SUM(AB105,AD105,AF105,AH105,AJ105,AL105,AN105) -> 0 | Z105: 8 | AR105: =SUM(AV105,AX105,AZ105,BB105,BD105,BF105,BH105) -> 0 | AT105: 8
D106: =SUM(H106,J106,L106,N106,P106,R106,T106) -> 0 | F106: 9 | X106: =SUM(AB106,AD106,AF106,AH106,AJ106,AL106,AN106) -> 0 | Z106: 9 | AR106: =SUM(AV106,AX106,AZ106,BB106,BD106,BF106,BH106) -> 0 | AT106: 9
D107: =SUM(H107,J107,L107,N107,P107,R107,T107) -> 0 | F107: 10 | X107: =SUM(AB107,AD107,AF107,AH107,AJ107,AL107,AN107) -> 0 | Z107: 10 | AR107: =SUM(AV107,AX107,AZ107,BB107,BD107,BF107,BH107) -> 0 | AT107: 10
...

Sheet Liste Chantier
B1: AX HOTEL 300 CO | D1: codification | F1: famille ouvrage | G1: code couleur | I1: famille client | J1: code couleur
B2: AX HOTEL 301 BA | D2: CO | F2: couverture | I2: ao
B3: AX HOTEL 302 OB | D3: BM | F3: bardage métal | I3: agri
B4: AX HOTEL 303 CH | D4: OB | F4: ossature bois | I4: cg
B5: AX HOTEL 304 PS | D5: CH | F5: charpente | I5: part
B6: AX HOTEL 305 PA | D6: PS | F6: plafond suspendu
B7: AX HOTEL 306 FE | D7: PA | F7: parquet
B8: AX HOTEL 307 PL | D8: FE | F8: fermeture
B9: AX HOTEL 308 MI | D9: PL | F9: placo
B10: AX HOTEL 309 MX | D10: MI | F10: menuiserie interieure
B11: AX HOTEL 310 TE | D11: MX | F11: menuiserie exterieure
B12: DUPOND 50 CH | D12: TE | F12: terrasse
B13: DUPOND 20 MI | D13: BB | F13: bardage bois
B14: DUPOND 10 MX | D14: FE | F14: fermette
D15: AU | F15: autre

Sheet VIERGE
G2: 2019 | I2: TOTAL pers | K2: =SUM(M4,AG4,BA4,BA116,AG116,M116,M227,AG227,BA227,BA338,AG338,M338) -> 0 | L2: par 9h | M2: =K2/16 -> 0
F4: =EDATE(DATE(An_ref,1,1),0) -> 43466 | M4: =SUM(B8:B22) -> 0 | Z4: =EDATE(DATE(An_ref,1,1),1) -> 43497 | AG4: =SUM(V8:V22) -> 0 | AT4: =EDATE(DATE(An_ref,1,1),2) -> 43525 | BA4: =SUM(AP8:AP22) -> 0 | BN4: Fériés | BO4: Date | BP4: =OR(H7=BO5,H7=BO6,H7=BO7,H7=BO24,H7=BO25,H7=BO26,H7=BO42,H7=BO43,H7=BO44,H7=BO60,H7=BO61,H7=BO62,H7=BO78) -> FALSE
B5: TOTAL | G5: =UPPER(TEXT(H25,"jjjj")) -> LUNDI | I5: =UPPER(TEXT(J25,"jjjj")) -> MARDI | K5: =UPPER(TEXT(L25,"jjjj")) -> MERCREDI | M5: =UPPER(TEXT(N25,"jjjj")) -> JEUDI | O5: =UPPER(TEXT(P25,"jjjj")) -> VENDREDI | Q5: =UPPER(TEXT(R25,"jjjj")) -> SAMEDI | S5: =UPPER(TEXT(T25,"jjjj")) -> DIMANCHE | V5: TOTAL | AA5: =UPPER(TEXT(AB25,"jjjj")) -> LUNDI | AC5: =UPPER(TEXT(AD25,"jjjj")) -> MARDI | AE5: =UPPER(TEXT(AF25,"jjjj")) -> MERCREDI | AG5: =UPPER(TEXT(AH25,"jjjj")) -> JEUDI | AI5: =UPPER(TEXT(AJ25,"jjjj")) -> VENDREDI | AK5: =UPPER(TEXT(AL25,"jjjj")) -> SAMEDI | AM5: =UPPER(TEXT(AN25,"jjjj")) -> DIMANCHE | AP5: TOTAL | AU5: =UPPER(TEXT(AV25,"jjjj")) -> LUNDI | AW5: =UPPER(TEXT(AX25,"jjjj")) -> MARDI | AY5: =UPPER(TEXT(AZ25,"jjjj")) -> MERCREDI | BA5: =UPPER(TEXT(BB25,"jjjj")) -> JEUDI | BC5: =UPPER(TEXT(BD25,"jjjj")) -> VENDREDI | BE5: =UPPER(TEXT(BF25,"jjjj")) -> SAMEDI | BG5: =UPPER(TEXT(BH25,"jjjj")) -> DIMANCHE | BO5: =DATE(An_ref,1,1) -> 43466
F6: =INT((N7-LOOKUP(N7,DATE(YEAR(N7)+{-1;0;1},1,3)-WEEKDAY(DATE(YEAR(N7)+{-1;0;1},1,3))+2))/7)+1 -> 1 | Z6: =INT((AH7-LOOKUP(AH7,DATE(YEAR(AH7)+{-1;0;1},1,3)-WEEKDAY(DATE(YEAR(AH7)+{-1;0;1},1,3))+2))/7)+1 -> #VALUE! | AT6: =INT((BB7-LOOKUP(BB7,DATE(YEAR(BB7)+{-1;0;1},1,3)-WEEKDAY(DATE(YEAR(BB7)+{-1;0;1},1,3))+2))/7)+1 -> #VALUE! | BO6: =DATE(An_ref,1,2) -> 43467
B7: mois | D7: sem | F7: =F6 -> 1 | G7: =IF(ISNA(VLOOKUP(H7,Tab_feri,2,FALSE)),"",VLOOKUP(H7,Tab_feri,2,FALSE)) | H7: =IF(WEEKDAY(F4)=2,F4,"") | I7: =IF(ISNA(VLOOKUP(J7,Tab_feri,2,FALSE)),"",VLOOKUP(J7,Tab_feri,2,FALSE)) | J7: =IF(H7<>"",H7+1,IF(WEEKDAY(F4)=3,F4,"")) -> 43466 | K7: =IF(ISNA(VLOOKUP(L7,Tab_feri,2,FALSE)),"",VLOOKUP(L7,Tab_feri,2,FALSE)) | L7: =IF(J7<>"",J7+1,IF(WEEKDAY(F4)=4,F4,"")) -> 43467 | M7: =IF(ISNA(VLOOKUP(N7,Tab_feri,2,FALSE)),"",VLOOKUP(N7,Tab_feri,2,FALSE)) | N7: =IF(L7<>"",L7+1,IF(WEEKDAY(F4)=5,F4,"")) -> 43468 | O7: =IF(ISNA(VLOOKUP(P7,Tab_feri,2,FALSE)),"",VLOOKUP(P7,Tab_feri,2,FALSE)) | P7: =IF(N7<>"",N7+1,IF(WEEKDAY(F4)=6,F4,"")) -> 43469 | Q7: =IF(ISNA(VLOOKUP(R7,Tab_feri,2,FALSE)),"",VLOOKUP(R7,Tab_feri,2,FALSE)) | R7: =IF(P7<>"",P7+1,IF(WEEKDAY(F4)=7,F4,"")) -> 43470 | S7: =IF(ISNA(VLOOKUP(T7,Tab_feri,2,FALSE)),"",VLOOKUP(T7,Tab_feri,2,FALSE)) | T7: =IF(R7<>"",R7+1,IF(WEEKDAY(F4)=1,F4,"")) -> 43471 | V7: mois | X7: sem | Z7: =Z6 -> #VALUE! | AA7: =IF(ISNA(VLOOKUP(AB7,Tab_feri,2,FALSE)),"",VLOOKUP(AB7,Tab_feri,2,FALSE)) | AB7: =IF(WEEKDAY(Z4)=2,Z4,"") | AC7: =IF(ISNA(VLOOKUP(AD7,Tab_feri,2,FALSE)),"",VLOOKUP(AD7,Tab_feri,2,FALSE)) | AD7: =IF(AB7<>"",AB7+1,IF(WEEKDAY(Z4)=3,Z4,"")) | AE7: =IF(ISNA(VLOOKUP(AF7,Tab_feri,2,FALSE)),"",VLOOKUP(AF7,Tab_feri,2,FALSE)) | AF7: =IF(AD7<>"",AD7+1,IF(WEEKDAY(Z4)=4,Z4,"")) | AG7: =IF(ISNA(VLOOKUP(AH7,Tab_feri,2,FALSE)),"",VLOOKUP(AH7,Tab_feri,2,FALSE)) | AH7: =IF(AF7<>"",AF7+1,IF(WEEKDAY(Z4)=5,Z4,"")) | AI7: =IF(ISNA(VLOOKUP(AJ7,Tab_feri,2,FALSE)),"",VLOOKUP(AJ7,Tab_feri,2,FALSE)) | AJ7: =IF(AH7<>"",AH7+1,IF(WEEKDAY(Z4)=6,Z4,"")) -> 43497 | AK7: =IF(ISNA(VLOOKUP(AL7,Tab_feri,2,FALSE)),"",VLOOKUP(AL7,Tab_feri,2,FALSE)) | AL7: =IF(AJ7<>"",AJ7+1,IF(WEEKDAY(Z4)=7,Z4,"")) -> 43498 | AM7: =IF(ISNA(VLOOKUP(AN7,Tab_feri,2,FALSE)),"",VLOOKUP(AN7,Tab_feri,2,FALSE)) | AN7: =IF(AL7<>"",AL7+1,IF(WEEKDAY(Z4)=1,Z4,"")) -> 43499 | AP7: mois | AR7: sem | AT7: =AT6 -> #VALUE! | AU7: =IF(ISNA(VLOOKUP(AV7,Tab_feri,2,FALSE)),"",VLOOKUP(AV7,Tab_feri,2,FALSE)) | AV7: =IF(WEEKDAY(AT4)=2,AT4,"") | AW7: =IF(ISNA(VLOOKUP(AX7,Tab_feri,2,FALSE)),"",VLOOKUP(AX7,Tab_feri,2,FALSE)) | AX7: =IF(AV7<>"",AV7+1,IF(WEEKDAY(AT4)=3,AT4,"")) | AY7: =IF(ISNA(VLOOKUP(AZ7,Tab_feri,2,FALSE)),"",VLOOKUP(AZ7,Tab_feri,2,FALSE)) | AZ7: =IF(AX7<>"",AX7+1,IF(WEEKDAY(AT4)=4,AT4,"")) | BA7: =IF(ISNA(VLOOKUP(BB7,Tab_feri,2,FALSE)),"",VLOOKUP(BB7,Tab_feri,2,FALSE)) | BB7: =IF(AZ7<>"",AZ7+1,IF(WEEKDAY(AT4)=5,AT4,"")) | BC7: =IF(ISNA(VLOOKUP(BD7,Tab_feri,2,FALSE)),"",VLOOKUP(BD7,Tab_feri,2,FALSE)) | BD7: =IF(BB7<>"",BB7+1,IF(WEEKDAY(AT4)=6,AT4,"")) -> 43525 | BE7: =IF(ISNA(VLOOKUP(BF7,Tab_feri,2,FALSE)),"",VLOOKUP(BF7,Tab_feri,2,FALSE)) | BF7: =IF(BD7<>"",BD7+1,IF(WEEKDAY(AT4)=7,AT4,"")) -> 43526 | BG7: =IF(ISNA(VLOOKUP(BH7,Tab_feri,2,FALSE)),"",VLOOKUP(BH7,Tab_feri,2,FALSE)) | BH7: =IF(BF7<>"",BF7+1,IF(WEEKDAY(AT4)=1,AT4,"")) -> 43527 | BO7: =BO8-2 -> 43574
B8: =SUM(D8,D26,D44,D62,D80,D98) -> 0 | D8: =SUM(H8,J8,L8,N8,P8,R8,T8) -> 0 | F8: 1 | V8: =SUM(X8,X26,X44,X62,X80,X98) -> 0 | X8: =SUM(AB8,AD8,AF8,AH8,AJ8,AL8,AN8) -> 0 | Z8: 1 | AP8: =SUM(AR8,AR26,AR44,AR62,AR80,AR98) -> 0 | AR8: =SUM(AV8,AX8,AZ8,BB8,BD8,BF8,BH8) -> 0 | AT8: 1 | BO8: =ROUND(DATE(An_ref,4,MOD(234-11*MOD(An_ref,19),30))/7,)*7-6 -> 43576
B9: =SUM(D9,D27,D45,D63,D81,D99) -> 0 | D9: =SUM(H9,J9,L9,N9,P9,R9,T9) -> 0 | F9: 2 | V9: =SUM(X9,X27,X45,X63,X81,X99) -> 0 | X9: =SUM(AB9,AD9,AF9,AH9,AJ9,AL9,AN9) -> 0 | Z9: 2 | AP9: =SUM(AR9,AR27,AR45,AR63,AR81,AR99) -> 0 | AR9: =SUM(AV9,AX9,AZ9,BB9,BD9,BF9,BH9) -> 0 | AT9: 2
B10: =SUM(D10,D28,D46,D64,D82,D100) -> 0 | D10: =SUM(H10,J10,L10,N10,P10,R10,T10) -> 0 | F10: 3 | V10: =SUM(X10,X28,X46,X64,X82,X100) -> 0 | X10: =SUM(AB10,AD10,AF10,AH10,AJ10,AL10,AN10) -> 0 | Z10: 3 | AP10: =SUM(AR10,AR28,AR46,AR64,AR82,AR100) -> 0 | AR10: =SUM(AV10,AX10,AZ10,BB10,BD10,BF10,BH10) -> 0 | AT10: 3
B11: =SUM(D11,D29,D47,D65,D83,D101) -> 0 | D11: =SUM(H11,J11,L11,N11,P11,R11,T11) -> 0 | F11: 4 | V11: =SUM(X11,X29,X47,X65,X83,X101) -> 0 | X11: =SUM(AB11,AD11,AF11,AH11,AJ11,AL11,AN11) -> 0 | Z11: 4 | AP11: =SUM(AR11,AR29,AR47,AR65,AR83,AR101) -> 0 | AR11: =SUM(AV11,AX11,AZ11,BB11,BD11,BF11,BH11) -> 0 | AT11: 4
B12: =SUM(D12,D30,D48,D66,D84,D102) -> 0 | D12: =SUM(H12,J12,L12,N12,P12,R12,T12) -> 0 | F12: 5 | V12: =SUM(X12,X30,X48,X66,X84,X102) -> 0 | X12: =SUM(AB12,AD12,AF12,AH12,AJ12,AL12,AN12) -> 0 | Z12: 5 | AP12: =SUM(AR12,AR30,AR48,AR66,AR84,AR102) -> 0 | AR12: =SUM(AV12,AX12,AZ12,BB12,BD12,BF12,BH12) -> 0 | AT12: 5
B13: =SUM(D13,D31,D49,D67,D85,D103) -> 0 | D13: =SUM(H13,J13,L13,N13,P13,R13,T13) -> 0 | F13: 6 | V13: =SUM(X13,X31,X49,X67,X85,X103) -> 0 | X13: =SUM(AB13,AD13,AF13,AH13,AJ13,AL13,AN13) -> 0 | Z13: 6 | AP13: =SUM(AR13,AR31,AR49,AR67,AR85,AR103) -> 0 | AR13: =SUM(AV13,AX13,AZ13,BB13,BD13,BF13,BH13) -> 0 | AT13: 6
B14: =SUM(D14,D32,D50,D68,D86,D104) -> 0 | D14: =SUM(H14,J14,L14,N14,P14,R14,T14) -> 0 | F14: 7 | V14: =SUM(X14,X32,X50,X68,X86,X104) -> 0 | X14: =SUM(AB14,AD14,AF14,AH14,AJ14,AL14,AN14) -> 0 | Z14: 7 | AP14: =SUM(AR14,AR32,AR50,AR68,AR86,AR104) -> 0 | AR14: =SUM(AV14,AX14,AZ14,BB14,BD14,BF14,BH14) -> 0 | AT14: 7
B15: =SUM(D15,D33,D51,D69,D87,D105) -> 0 | D15: =SUM(H15,J15,L15,N15,P15,R15,T15) -> 0 | F15: 8 | V15: =SUM(X15,X33,X51,X69,X87,X105) -> 0 | X15: =SUM(AB15,AD15,AF15,AH15,AJ15,AL15,AN15) -> 0 | Z15: 8 | AP15: =SUM(AR15,AR33,AR51,AR69,AR87,AR105) -> 0 | AR15: =SUM(AV15,AX15,AZ15,BB15,BD15,BF15,BH15) -> 0 | AT15: 8
B16: =SUM(D16,D34,D52,D70,D88,D106) -> 0 | D16: =SUM(H16,J16,L16,N16,P16,R16,T16) -> 0 | F16: 9 | V16: =SUM(X16,X34,X52,X70,X88,X106) -> 0 | X16: =SUM(AB16,AD16,AF16,AH16,AJ16,AL16,AN16) -> 0 | Z16: 9 | AP16: =SUM(AR16,AR34,AR52,AR70,AR88,AR106) -> 0 | AR16: =SUM(AV16,AX16,AZ16,BB16,BD16,BF16,BH16) -> 0 | AT16: 9
B17: =SUM(D17,D35,D53,D71,D89,D107) -> 0 | D17: =SUM(H17,J17,L17,N17,P17,R17,T17) -> 0 | F17: 10 | V17: =SUM(X17,X35,X53,X71,X89,X107) -> 0 | X17: =SUM(AB17,AD17,AF17,AH17,AJ17,AL17,AN17) -> 0 | Z17: 10 | AP17: =SUM(AR17,AR35,AR53,AR71,AR89,AR107) -> 0 | AR17: =SUM(AV17,AX17,AZ17,BB17,BD17,BF17,BH17) -> 0 | AT17: 10
B18: =SUM(D18,D36,D54,D72,D90,D108) -> 0 | D18: =SUM(H18,J18,L18,N18,P18,R18,T18) -> 0 | F18: 11 | V18: =SUM(X18,X36,X54,X72,X90,X108) -> 0 | X18: =SUM(AB18,AD18,AF18,AH18,AJ18,AL18,AN18) -> 0 | Z18: 11 | AP18: =SUM(AR18,AR36,AR54,AR72,AR90,AR108) -> 0 | AR18: =SUM(AV18,AX18,AZ18,BB18,BD18,BF18,BH18) -> 0 | AT18: 11
B19: =SUM(D19,D37,D55,D73,D91,D109) -> 0 | D19: =SUM(H19,J19,L19,N19,P19,R19,T19) -> 0 | F19: 12 | V19: =SUM(X19,X37,X55,X73,X91,X109) -> 0 | X19: =SUM(AB19,AD19,AF19,AH19,AJ19,AL19,AN19) -> 0 | Z19: 12 | AP19: =SUM(AR19,AR37,AR55,AR73,AR91,AR109) -> 0 | AR19: =SUM(AV19,AX19,AZ19,BB19,BD19,BF19,BH19) -> 0 | AT19: 12
B20: =SUM(D20,D38,D56,D74,D92,D110) -> 0 | D20: =SUM(H20,J20,L20,N20,P20,R20,T20) -> 0 | F20: 13 | V20: =SUM(X20,X38,X56,X74,X92,X110) -> 0 | X20: =SUM(AB20,AD20,AF20,AH20,AJ20,AL20,AN20) -> 0 | Z20: 13 | AP20: =SUM(AR20,AR38,AR56,AR74,AR92,AR110) -> 0 | AR20: =SUM(AV20,AX20,AZ20,BB20,BD20,BF20,BH20) -> 0 | AT20: 13
... B22: =SUM(D22,D40,D58,D76,D94,D112) -> 0 | D22: =SUM(H22,J22,L22,N22,P22,R22,T22) -> 0 | F22: 15 | V22: =SUM(X22,X40,X58,X76,X94,X112) -> 0 | X22: =SUM(AB22,AD22,AF22,AH22,AJ22,AL22,AN22) -> 0 | Z22: 15 | AP22: =SUM(AR22,AR40,AR58,AR76,AR94,AR112) -> 0 | AR22: =SUM(AV22,AX22,AZ22,BB22,BD22,BF22,BH22) -> 0 | AT22: 15
G23: TOTAL | H23: =SUM(H8:H22) -> 0 | J23: =SUM(J8:J22) -> 0 | L23: =SUM(L8:L22) -> 0 | N23: =SUM(N8:N22) -> 0 | P23: =SUM(P8:P22) -> 0 | R23: =SUM(R8:R22) -> 0 | T23: =SUM(T8:T22) -> 0 | AA23: TOTAL | AB23: =SUM(AB8:AB22) -> 0 | AD23: =SUM(AD8:AD22) -> 0 | AF23: =SUM(AF8:AF22) -> 0 | AH23: =SUM(AH8:AH22) -> 0 | AJ23: =SUM(AJ8:AJ22) -> 0 | AL23: =SUM(AL8:AL22) -> 0 | AN23: =SUM(AN8:AN22) -> 0 | AU23: TOTAL | AV23: =SUM(AV8:AV22) -> 0 | AX23: =SUM(AX8:AX22) -> 0 | AZ23: =SUM(AZ8:AZ22) -> 0 | BB23: =SUM(BB8:BB22) -> 0 | BD23: =SUM(BD8:BD22) -> 0 | BF23: =SUM(BF8:BF22) -> 0 | BH23: =SUM(BH8:BH22) -> 0
F24: =INT((N25-LOOKUP(N25,DATE(YEAR(N25)+{-1;0;1},1,3)-WEEKDAY(DATE(YEAR(N25)+{-1;0;1},1,3))+2))/7)+1 -> 2 | Z24: =INT((AH25-LOOKUP(AH25,DATE(YEAR(AH25)+{-1;0;1},1,3)-WEEKDAY(DATE(YEAR(AH25)+{-1;0;1},1,3))+2))/7)+1 -> 6 | AT24: =INT((BB25-LOOKUP(BB25,DATE(YEAR(BB25)+{-1;0;1},1,3)-WEEKDAY(DATE(YEAR(BB25)+{-1;0;1},1,3))+2))/7)+1 -> 10 | BO24: =BO8+1 -> 43577
F25: =F24 -> 2 | G25: =IF(ISNA(VLOOKUP(H25,Tab_feri,2,FALSE)),"",VLOOKUP(H25,Tab_feri,2,FALSE)) | H25: =T7+1 -> 43472 | I25: =IF(ISNA(VLOOKUP(J25,Tab_feri,2,FALSE)),"",VLOOKUP(J25,Tab_feri,2,FALSE)) | J25: =H25+1 -> 43473 | K25: =IF(ISNA(VLOOKUP(L25,Tab_feri,2,FALSE)),"",VLOOKUP(L25,Tab_feri,2,FALSE)) | L25: =J25+1 -> 43474 | M25: =IF(ISNA(VLOOKUP(N25,Tab_feri,2,FALSE)),"",VLOOKUP(N25,Tab_feri,2,FALSE)) | N25: =L25+1 -> 43475 | O25: =IF(ISNA(VLOOKUP(P25,Tab_feri,2,FALSE)),"",VLOOKUP(P25,Tab_feri,2,FALSE)) | P25: =N25+1 -> 43476 | Q25: =IF(ISNA(VLOOKUP(R25,Tab_feri,2,FALSE)),"",VLOOKUP(R25,Tab_feri,2,FALSE)) | R25: =P25+1 -> 43477 | S25: =IF(ISNA(VLOOKUP(T25,Tab_feri,2,FALSE)),"",VLOOKUP(T25,Tab_feri,2,FALSE)) | T25: =R25+1 -> 43478 | Z25: =Z24 -> 6 | AA25: =IF(ISNA(VLOOKUP(AB25,Tab_feri,2,FALSE)),"",VLOOKUP(AB25,Tab_feri,2,FALSE)) | AB25: =AN7+1 -> 43500 | AC25: =IF(ISNA(VLOOKUP(AD25,Tab_feri,2,FALSE)),"",VLOOKUP(AD25,Tab_feri,2,FALSE)) | AD25: =AB25+1 -> 43501 | AE25: =IF(ISNA(VLOOKUP(AF25,Tab_feri,2,FALSE)),"",VLOOKUP(AF25,Tab_feri,2,FALSE)) | AF25: =AD25+1 -> 43502 | AG25: =IF(ISNA(VLOOKUP(AH25,Tab_feri,2,FALSE)),"",VLOOKUP(AH25,Tab_feri,2,FALSE)) | AH25: =AF25+1 -> 43503 | AI25: =IF(ISNA(VLOOKUP(AJ25,Tab_feri,2,FALSE)),"",VLOOKUP(AJ25,Tab_feri,2,FALSE)) | AJ25: =AH25+1 -> 43504 | AK25: =IF(ISNA(VLOOKUP(AL25,Tab_feri,2,FALSE)),"",VLOOKUP(AL25,Tab_feri,2,FALSE)) | AL25: =AJ25+1 -> 43505 | AM25: =IF(ISNA(VLOOKUP(AN25,Tab_feri,2,FALSE)),"",VLOOKUP(AN25,Tab_feri,2,FALSE)) | AN25: =AL25+1 -> 43506 | AT25: =AT24 -> 10 | AU25: =IF(ISNA(VLOOKUP(AV25,Tab_feri,2,FALSE)),"",VLOOKUP(AV25,Tab_feri,2,FALSE)) | AV25: =BH7+1 -> 43528 | AW25: =IF(ISNA(VLOOKUP(AX25,Tab_feri,2,FALSE)),"",VLOOKUP(AX25,Tab_feri,2,FALSE)) | AX25: =AV25+1 -> 43529 | AY25: =IF(ISNA(VLOOKUP(AZ25,Tab_feri,2,FALSE)),"",VLOOKUP(AZ25,Tab_feri,2,FALSE)) | AZ25: =AX25+1 -> 43530 | BA25: =IF(ISNA(VLOOKUP(BB25,Tab_feri,2,FALSE)),"",VLOOKUP(BB25,Tab_feri,2,FALSE)) | BB25: =AZ25+1 -> 43531 | BC25: =IF(ISNA(VLOOKUP(BD25,Tab_feri,2,FALSE)),"",VLOOKUP(BD25,Tab_feri,2,FALSE)) | BD25: =BB25+1 -> 43532 | BE25: =IF(ISNA(VLOOKUP(BF25,Tab_feri,2,FALSE)),"",VLOOKUP(BF25,Tab_feri,2,FALSE)) | BF25: =BD25+1 -> 43533 | BG25: =IF(ISNA(VLOOKUP(BH25,Tab_feri,2,FALSE)),"",VLOOKUP(BH25,Tab_feri,2,FALSE)) | BH25: =BF25+1 -> 43534 | BO25: =DATE(An_ref,5,21) -> 43606
D26: =SUM(H26,J26,L26,N26,P26,R26,T26) -> 0 | F26: 1 | X26: =SUM(AB26,AD26,AF26,AH26,AJ26,AL26,AN26) -> 0 | Z26: 1 | AR26: =SUM(AV26,AX26,AZ26,BB26,BD26,BF26,BH26) -> 0 | AT26: 1 | BO26: =DATE(An_ref,6,24) -> 43640
D27: =SUM(H27,J27,L27,N27,P27,R27,T27) -> 0 | F27: 2 | X27: =SUM(AB27,AD27,AF27,AH27,AJ27,AL27,AN27) -> 0 | Z27: 2 | AR27: =SUM(AV27,AX27,AZ27,BB27,BD27,BF27,BH27) -> 0 | AT27: 2
D28: =SUM(H28,J28,L28,N28,P28,R28,T28) -> 0 | F28: 3 | X28: =SUM(AB28,AD28,AF28,AH28,AJ28,AL28,AN28) -> 0 | Z28: 3 | AR28: =SUM(AV28,AX28,AZ28,BB28,BD28,BF28,BH28) -> 0 | AT28: 3
D29: =SUM(H29,J29,L29,N29,P29,R29,T29) -> 0 | F29: 4 | X29: =SUM(AB29,AD29,AF29,AH29,AJ29,AL29,AN29) -> 0 | Z29: 4 | AR29: =SUM(AV29,AX29,AZ29,BB29,BD29,BF29,BH29) -> 0 | AT29: 4
D30: =SUM(H30,J30,L30,N30,P30,R30,T30) -> 0 | F30: 5 | X30: =SUM(AB30,AD30,AF30,AH30,AJ30,AL30,AN30) -> 0 | Z30: 5 | AR30: =SUM(AV30,AX30,AZ30,BB30,BD30,BF30,BH30) -> 0 | AT30: 5
D31: =SUM(H31,J31,L31,N31,P31,R31,T31) -> 0 | F31: 6 | X31: =SUM(AB31,AD31,AF31,AH31,AJ31,AL31,AN31) -> 0 | Z31: 6 | AR31: =SUM(AV31,AX31,AZ31,BB31,BD31,BF31,BH31) -> 0 | AT31: 6
D32: =SUM(H32,J32,L32,N32,P32,R32,T32) -> 0 | F32: 7 | X32: =SUM(AB32,AD32,AF32,AH32,AJ32,AL32,AN32) -> 0 | Z32: 7 | AR32: =SUM(AV32,AX32,AZ32,BB32,BD32,BF32,BH32) -> 0 | AT32: 7
D33: =SUM(H33,J33,L33,N33,P33,R33,T33) -> 0 | F33: 8 | X33: =SUM(AB33,AD33,AF33,AH33,AJ33,AL33,AN33) -> 0 | Z33: 8 | AR33: =SUM(AV33,AX33,AZ33,BB33,BD33,BF33,BH33) -> 0 | AT33: 8
D34: =SUM(H34,J34,L34,N34,P34,R34,T34) -> 0 | F34: 9 | X34: =SUM(AB34,AD34,AF34,AH34,AJ34,AL34,AN34) -> 0 | Z34: 9 | AR34: =SUM(AV34,AX34,AZ34,BB34,BD34,BF34,BH34) -> 0 | AT34: 9
D35: =SUM(H35,J35,L35,N35,P35,R35,T35) -> 0 | F35: 10 | X35: =SUM(AB35,AD35,AF35,AH35,AJ35,AL35,AN35) -> 0 | Z35: 10 | AR35: =SUM(AV35,AX35,AZ35,BB35,BD35,BF35,BH35) -> 0 | AT35: 10
D36: =SUM(H36,J36,L36,N36,P36,R36,T36) -> 0 | F36: 11 | X36: =SUM(AB36,AD36,AF36,AH36,AJ36,AL36,AN36) -> 0 | Z36: 11 | AR36: =SUM(AV36,AX36,AZ36,BB36,BD36,BF36,BH36) -> 0 | AT36: 11
D37: =SUM(H37,J37,L37,N37,P37,R37,T37) -> 0 | F37: 12 | X37: =SUM(AB37,AD37,AF37,AH37,AJ37,AL37,AN37) -> 0 | Z37: 12 | AR37: =SUM(AV37,AX37,AZ37,BB37,BD37,BF37,BH37) -> 0 | AT37: 12
D38: =SUM(H38,J38,L38,N38,P38,R38,T38) -> 0 | F38: 13 | X38: =SUM(AB38,AD38,AF38,AH38,AJ38,AL38,AN38) -> 0 | Z38: 13 | AR38: =SUM(AV38,AX38,AZ38,BB38,BD38,BF38,BH38) -> 0 | AT38: 13
... D40: =SUM(H40,J40,L40,N40,P40,R40,T40) -> 0 | F40: 15 | X40: =SUM(AB40,AD40,AF40,AH40,AJ40,AL40,AN40) -> 0 | Z40: 15 | AR40: =SUM(AV40,AX40,AZ40,BB40,BD40,BF40,BH40) -> 0 | AT40: 15
G41: TOTAL | H41: =SUM(H26:H40) -> 0 | J41: =SUM(J26:J40) -> 0 | L41: =SUM(L26:L40) -> 0 | N41: =SUM(N26:N40) -> 0 | P41: =SUM(P26:P40) -> 0 | R41: =SUM(R26:R40) -> 0 | T41: =SUM(T26:T40) -> 0 | AA41: TOTAL | AB41: =SUM(AB26:AB40) -> 0 | AD41: =SUM(AD26:AD40) -> 0 | AF41: =SUM(AF26:AF40) -> 0 | AH41: =SUM(AH26:AH40) -> 0 | AJ41: =SUM(AJ26:AJ40) -> 0 | AL41: =SUM(AL26:AL40) -> 0 | AN41: =SUM(AN26:AN40) -> 0 | AU41: TOTAL | AV41: =SUM(AV26:AV40) -> 0 | AX41: =SUM(AX26:AX40) -> 0 | AZ41: =SUM(AZ26:AZ40) -> 0 | BB41: =SUM(BB26:BB40) -> 0 | BD41: =SUM(BD26:BD40) -> 0 | BF41: =SUM(BF26:BF40) -> 0 | BH41: =SUM(BH26:BH40) -> 0
F42: =INT((N43-LOOKUP(N43,DATE(YEAR(N43)+{-1;0;1},1,3)-WEEKDAY(DATE(YEAR(N43)+{-1;0;1},1,3))+2))/7)+1 -> 3 | Z42: =INT((AH43-LOOKUP(AH43,DATE(YEAR(AH43)+{-1;0;1},1,3)-WEEKDAY(DATE(YEAR(AH43)+{-1;0;1},1,3))+2))/7)+1 -> 7 | AT42: =INT((BB43-LOOKUP(BB43,DATE(YEAR(BB43)+{-1;0;1},1,3)-WEEKDAY(DATE(YEAR(BB43)+{-1;0;1},1,3))+2))/7)+1 -> 11 | BO42: =DATE(An_ref,7,1) -> 43647
F43: =F42 -> 3 | G43: =IF(ISNA(VLOOKUP(H43,Tab_feri,2,FALSE)),"",VLOOKUP(H43,Tab_feri,2,FALSE)) | H43: =T25+1 -> 43479 | I43: =IF(ISNA(VLOOKUP(J43,Tab_feri,2,FALSE)),"",VLOOKUP(J43,Tab_feri,2,FALSE)) | J43: =H43+1 -> 43480 | K43: =IF(ISNA(VLOOKUP(L43,Tab_feri,2,FALSE)),"",VLOOKUP(L43,Tab_feri,2,FALSE)) | L43: =J43+1 -> 43481 | M43: =IF(ISNA(VLOOKUP(N43,Tab_feri,2,FALSE)),"",VLOOKUP(N43,Tab_feri,2,FALSE)) | N43: =L43+1 -> 43482 | O43: =IF(ISNA(VLOOKUP(P43,Tab_feri,2,FALSE)),"",VLOOKUP(P43,Tab_feri,2,FALSE)) | P43: =N43+1 -> 43483 | Q43: =IF(ISNA(VLOOKUP(R43,Tab_feri,2,FALSE)),"",VLOOKUP(R43,Tab_feri,2,FALSE)) | R43: =P43+1 -> 43484 | S43: =IF(ISNA(VLOOKUP(T43,Tab_feri,2,FALSE)),"",VLOOKUP(T43,Tab_feri,2,FALSE)) | T43: =R43+1 -> 43485 | Z43: =Z42 -> 7 | AA43: =IF(ISNA(VLOOKUP(AB43,Tab_feri,2,FALSE)),"",VLOOKUP(AB43,Tab_feri,2,FALSE)) | AB43: =AN25+1 -> 43507 | AC43: =IF(ISNA(VLOOKUP(AD43,Tab_feri,2,FALSE)),"",VLOOKUP(AD43,Tab_feri,2,FALSE)) | AD43: =AB43+1 -> 43508 | AE43: =IF(ISNA(VLOOKUP(AF43,Tab_feri,2,FALSE)),"",VLOOKUP(AF43,Tab_feri,2,FALSE)) | AF43: =AD43+1 -> 43509 | AG43: =IF(ISNA(VLOOKUP(AH43,Tab_feri,2,FALSE)),"",VLOOKUP(AH43,Tab_feri,2,FALSE)) | AH43: =AF43+1 -> 43510 | AI43: =IF(ISNA(VLOOKUP(AJ43,Tab_feri,2,FALSE)),"",VLOOKUP(AJ43,Tab_feri,2,FALSE)) | AJ43: =AH43+1 -> 43511 | AK43: =IF(ISNA(VLOOKUP(AL43,Tab_feri,2,FALSE)),"",VLOOKUP(AL43,Tab_feri,2,FALSE)) | AL43: =AJ43+1 -> 43512 | AM43: =IF(ISNA(VLOOKUP(AN43,Tab_feri,2,FALSE)),"",VLOOKUP(AN43,Tab_feri,2,FALSE)) | AN43: =AL43+1 -> 43513 | AT43: =AT42 -> 11 | AU43: =IF(ISNA(VLOOKUP(AV43,Tab_feri,2,FALSE)),"",VLOOKUP(AV43,Tab_feri,2,FALSE)) | AV43: =BH25+1 -> 43535 | AW43: =IF(ISNA(VLOOKUP(AX43,Tab_feri,2,FALSE)),"",VLOOKUP(AX43,Tab_feri,2,FALSE)) | AX43: =AV43+1 -> 43536 | AY43: =IF(ISNA(VLOOKUP(AZ43,Tab_feri,2,FALSE)),"",VLOOKUP(AZ43,Tab_feri,2,FALSE)) | AZ43: =AX43+1 -> 43537 | BA43: =IF(ISNA(VLOOKUP(BB43,Tab_feri,2,FALSE)),"",VLOOKUP(BB43,Tab_feri,2,FALSE)) | BB43: =AZ43+1 -> 43538 | BC43: =IF(ISNA(VLOOKUP(BD43,Tab_feri,2,FALSE)),"",VLOOKUP(BD43,Tab_feri,2,FALSE)) | BD43: =BB43+1 -> 43539 | BE43: =IF(ISNA(VLOOKUP(BF43,Tab_feri,2,FALSE)),"",VLOOKUP(BF43,Tab_feri,2,FALSE)) | BF43: =BD43+1 -> 43540 | BG43: =IF(ISNA(VLOOKUP(BH43,Tab_feri,2,FALSE)),"",VLOOKUP(BH43,Tab_feri,2,FALSE)) | BH43: =BF43+1 -> 43541 | BO43: =DATE(An_ref,9,3) -> 43711
D44: =SUM(H44,J44,L44,N44,P44,R44,T44) -> 0 | F44: 1 | X44: =SUM(AB44,AD44,AF44,AH44,AJ44,AL44,AN44) -> 0 | Z44: 1 | AR44: =SUM(AV44,AX44,AZ44,BB44,BD44,BF44,BH44) -> 0 | AT44: 1 | BO44: =DATE(An_ref,10,8) -> 43746
D45: =SUM(H45,J45,L45,N45,P45,R45,T45) -> 0 | F45: 2 | X45: =SUM(AB45,AD45,AF45,AH45,AJ45,AL45,AN45) -> 0 | Z45: 2 | AR45: =SUM(AV45,AX45,AZ45,BB45,BD45,BF45,BH45) -> 0 | AT45: 2
D46: =SUM(H46,J46,L46,N46,P46,R46,T46) -> 0 | F46: 3 | X46: =SUM(AB46,AD46,AF46,AH46,AJ46,AL46,AN46) -> 0 | Z46: 3 | AR46: =SUM(AV46,AX46,AZ46,BB46,BD46,BF46,BH46) -> 0 | AT46: 3
D47: =SUM(H47,J47,L47,N47,P47,R47,T47) -> 0 | F47: 4 | X47: =SUM(AB47,AD47,AF47,AH47,AJ47,AL47,AN47) -> 0 | Z47: 4 | AR47: =SUM(AV47,AX47,AZ47,BB47,BD47,BF47,BH47) -> 0 | AT47: 4
D48: =SUM(H48,J48,L48,N48,P48,R48,T48) -> 0 | F48: 5 | X48: =SUM(AB48,AD48,AF48,AH48,AJ48,AL48,AN48) -> 0 | Z48: 5 | AR48: =SUM(AV48,AX48,AZ48,BB48,BD48,BF48,BH48) -> 0 | AT48: 5
D49: =SUM(H49,J49,L49,N49,P49,R49,T49) -> 0 | F49: 6 | X49: =SUM(AB49,AD49,AF49,AH49,AJ49,AL49,AN49) -> 0 | Z49: 6 | AR49: =SUM(AV49,AX49,AZ49,BB49,BD49,BF49,BH49) -> 0 | AT49: 6
D50: =SUM(H50,J50,L50,N50,P50,R50,T50) -> 0 | F50: 7 | X50: =SUM(AB50,AD50,AF50,AH50,AJ50,AL50,AN50) -> 0 | Z50: 7 | AR50: =SUM(AV50,AX50,AZ50,BB50,BD50,BF50,BH50) -> 0 | AT50: 7
D51: =SUM(H51,J51,L51,N51,P51,R51,T51) -> 0 | F51: 8 | X51: =SUM(AB51,AD51,AF51,AH51,AJ51,AL51,AN51) -> 0 | Z51: 8 | AR51: =SUM(AV51,AX51,AZ51,BB51,BD51,BF51,BH51) -> 0 | AT51: 8
D52: =SUM(H52,J52,L52,N52,P52,R52,T52) -> 0 | F52: 9 | X52: =SUM(AB52,AD52,AF52,AH52,AJ52,AL52,AN52) -> 0 | Z52: 9 | AR52: =SUM(AV52,AX52,AZ52,BB52,BD52,BF52,BH52) -> 0 | AT52: 9
D53: =SUM(H53,J53,L53,N53,P53,R53,T53) -> 0 | F53: 10 | X53: =SUM(AB53,AD53,AF53,AH53,AJ53,AL53,AN53) -> 0 | Z53: 10 | AR53: =SUM(AV53,AX53,AZ53,BB53,BD53,BF53,BH53) -> 0 | AT53: 10
D54: =SUM(H54,J54,L54,N54,P54,R54,T54) -> 0 | F54: 11 | X54: =SUM(AB54,AD54,AF54,AH54,AJ54,AL54,AN54) -> 0 | Z54: 11 | AR54: =SUM(AV54,AX54,AZ54,BB54,BD54,BF54,BH54) -> 0 | AT54: 11
D55: =SUM(H55,J55,L55,N55,P55,R55,T55) -> 0 | F55: 12 | X55: =SUM(AB55,AD55,AF55,AH55,AJ55,AL55,AN55) -> 0 | Z55: 12 | AR55: =SUM(AV55,AX55,AZ55,BB55,BD55,BF55,BH55) -> 0 | AT55: 12
D56: =SUM(H56,J56,L56,N56,P56,R56,T56) -> 0 | F56: 13 | X56: =SUM(AB56,AD56,AF56,AH56,AJ56,AL56,AN56) -> 0 | Z56: 13 | AR56: =SUM(AV56,AX56,AZ56,BB56,BD56,BF56,BH56) -> 0 | AT56: 13
... D58: =SUM(H58,J58,L58,N58,P58,R58,T58) -> 0 | F58: 15 | X58: =SUM(AB58,AD58,AF58,AH58,AJ58,AL58,AN58) -> 0 | Z58: 15 | AR58: =SUM(AV58,AX58,AZ58,BB58,BD58,BF58,BH58) -> 0 | AT58: 15
G59: TOTAL | H59: =SUM(H44:H58) -> 0 | J59: =SUM(J44:J58) -> 0 | L59: =SUM(L44:L58) -> 0 | N59: =SUM(N44:N58) -> 0 | P59: =SUM(P44:P58) -> 0 | R59: =SUM(R44:R58) -> 0 | T59: =SUM(T44:T58) -> 0 | AA59: TOTAL | AB59: =SUM(AB44:AB58) -> 0 | AD59: =SUM(AD44:AD58) -> 0 | AF59: =SUM(AF44:AF58) -> 0 | AH59: =SUM(AH44:AH58) -> 0 | AJ59: =SUM(AJ44:AJ58) -> 0 | AL59: =SUM(AL44:AL58) -> 0 | AN59: =SUM(AN44:AN58) -> 0 | AU59: TOTAL | AV59: =SUM(AV44:AV58) -> 0 | AX59: =SUM(AX44:AX58) -> 0 | AZ59: =SUM(AZ44:AZ58) -> 0 | BB59: =SUM(BB44:BB58) -> 0 | BD59: =SUM(BD44:BD58) -> 0 | BF59: =SUM(BF44:BF58) -> 0 | BH59: =SUM(BH44:BH58) -> 0
F60: =INT((N61-LOOKUP(N61,DATE(YEAR(N61)+{-1;0;1},1,3)-WEEKDAY(DATE(YEAR(N61)+{-1;0;1},1,3))+2))/7)+1 -> 4 | Z60: =INT((AH61-LOOKUP(AH61,DATE(YEAR(AH61)+{-1;0;1},1,3)-WEEKDAY(DATE(YEAR(AH61)+{-1;0;1},1,3))+2))/7)+1 -> 8 | AT60: =INT((BB61-LOOKUP(BB61,DATE(YEAR(BB61)+{-1;0;1},1,3)-WEEKDAY(DATE(YEAR(BB61)+{-1;0;1},1,3))+2))/7)+1 -> 12 | BO60: =DATE(An_ref,12,23) -> 43822
F61: =F60 -> 4 | G61: =IF(ISNA(VLOOKUP(H61,Tab_feri,2,FALSE)),"",VLOOKUP(H61,Tab_feri,2,FALSE)) | H61: =T43+1 -> 43486 | I61: =IF(ISNA(VLOOKUP(J61,Tab_feri,2,FALSE)),"",VLOOKUP(J61,Tab_feri,2,FALSE)) | J61: =H61+1 -> 43487 | K61: =IF(ISNA(VLOOKUP(L61,Tab_feri,2,FALSE)),"",VLOOKUP(L61,Tab_feri,2,FALSE)) | L61: =J61+1 -> 43488 | M61: =IF(ISNA(VLOOKUP(N61,Tab_feri,2,FALSE)),"",VLOOKUP(N61,Tab_feri,2,FALSE)) | N61: =L61+1 -> 43489 | O61: =IF(ISNA(VLOOKUP(P61,Tab_feri,2,FALSE)),"",VLOOKUP(P61,Tab_feri,2,FALSE)) | P61: =N61+1 -> 43490 | Q61: =IF(ISNA(VLOOKUP(R61,Tab_feri,2,FALSE)),"",VLOOKUP(R61,Tab_feri,2,FALSE)) | R61: =P61+1 -> 43491 | S61: =IF(ISNA(VLOOKUP(T61,Tab_feri,2,FALSE)),"",VLOOKUP(T61,Tab_feri,2,FALSE)) | T61: =R61+1 -> 43492 | Z61: =Z60 -> 8 | AA61: =IF(ISNA(VLOOKUP(AB61,Tab_feri,2,FALSE)),"",VLOOKUP(AB61,Tab_feri,2,FALSE)) | AB61: =AN43+1 -> 43514 | AC61: =IF(ISNA(VLOOKUP(AD61,Tab_feri,2,FALSE)),"",VLOOKUP(AD61,Tab_feri,2,FALSE)) | AD61: =AB61+1 -> 43515 | AE61: =IF(ISNA(VLOOKUP(AF61,Tab_feri,2,FALSE)),"",VLOOKUP(AF61,Tab_feri,2,FALSE)) | AF61: =AD61+1 -> 43516 | AG61: =IF(ISNA(VLOOKUP(AH61,Tab_feri,2,FALSE)),"",VLOOKUP(AH61,Tab_feri,2,FALSE)) | AH61: =AF61+1 -> 43517 | AI61: =IF(ISNA(VLOOKUP(AJ61,Tab_feri,2,FALSE)),"",VLOOKUP(AJ61,Tab_feri,2,FALSE)) | AJ61: =AH61+1 -> 43518 | AK61: =IF(ISNA(VLOOKUP(AL61,Tab_feri,2,FALSE)),"",VLOOKUP(AL61,Tab_feri,2,FALSE)) | AL61: =AJ61+1 -> 43519 | AM61: =IF(ISNA(VLOOKUP(AN61,Tab_feri,2,FALSE)),"",VLOOKUP(AN61,Tab_feri,2,FALSE)) | AN61: =AL61+1 -> 43520 | AT61: =AT60 -> 12 | AU61: =IF(ISNA(VLOOKUP(AV61,Tab_feri,2,FALSE)),"",VLOOKUP(AV61,Tab_feri,2,FALSE)) | AV61: =BH43+1 -> 43542 | AW61: =IF(ISNA(VLOOKUP(AX61,Tab_feri,2,FALSE)),"",VLOOKUP(AX61,Tab_feri,2,FALSE)) | AX61: =AV61+1 -> 43543 | AY61: =IF(ISNA(VLOOKUP(AZ61,Tab_feri,2,FALSE)),"",VLOOKUP(AZ61,Tab_feri,2,FALSE)) | AZ61: =AX61+1 -> 43544 | BA61: =IF(ISNA(VLOOKUP(BB61,Tab_feri,2,FALSE)),"",VLOOKUP(BB61,Tab_feri,2,FALSE)) | BB61: =AZ61+1 -> 43545 | BC61: =IF(ISNA(VLOOKUP(BD61,Tab_feri,2,FALSE)),"",VLOOKUP(BD61,Tab_feri,2,FALSE)) | BD61: =BB61+1 -> 43546 | BE61: =IF(ISNA(VLOOKUP(BF61,Tab_feri,2,FALSE)),"",VLOOKUP(BF61,Tab_feri,2,FALSE)) | BF61: =BD61+1 -> 43547 | BG61: =IF(ISNA(VLOOKUP(BH61,Tab_feri,2,FALSE)),"",VLOOKUP(BH61,Tab_feri,2,FALSE)) | BH61: =BF61+1 -> 43548 | BO61: =DATE(An_ref,12,24) -> 43823
D62: =SUM(H62,J62,L62,N62,P62,R62,T62) -> 0 | F62: 1 | X62: =SUM(AB62,AD62,AF62,AH62,AJ62,AL62,AN62) -> 0 | Z62: 1 | AR62: =SUM(AV62,AX62,AZ62,BB62,BD62,BF62,BH62) -> 0 | AT62: 1 | BO62: =DATE(An_ref,12,25) -> 43824
D63: =SUM(H63,J63,L63,N63,P63,R63,T63) -> 0 | F63: 2 | X63: =SUM(AB63,AD63,AF63,AH63,AJ63,AL63,AN63) -> 0 | Z63: 2 | AR63: =SUM(AV63,AX63,AZ63,BB63,BD63,BF63,BH63) -> 0 | AT63: 2
D64: =SUM(H64,J64,L64,N64,P64,R64,T64) -> 0 | F64: 3 | X64: =SUM(AB64,AD64,AF64,AH64,AJ64,AL64,AN64) -> 0 | Z64: 3 | AR64: =SUM(AV64,AX64,AZ64,BB64,BD64,BF64,BH64) -> 0 | AT64: 3
D65: =SUM(H65,J65,L65,N65,P65,R65,T65) -> 0 | F65: 4 | X65: =SUM(AB65,AD65,AF65,AH65,AJ65,AL65,AN65) -> 0 | Z65: 4 | AR65: =SUM(AV65,AX65,AZ65,BB65,BD65,BF65,BH65) -> 0 | AT65: 4
D66: =SUM(H66,J66,L66,N66,P66,R66,T66) -> 0 | F66: 5 | X66: =SUM(AB66,AD66,AF66,AH66,AJ66,AL66,AN66) -> 0 | Z66: 5 | AR66: =SUM(AV66,AX66,AZ66,BB66,BD66,BF66,BH66) -> 0 | AT66: 5
D67: =SUM(H67,J67,L67,N67,P67,R67,T67) -> 0 | F67: 6 | X67: =SUM(AB67,AD67,AF67,AH67,AJ67,AL67,AN67) -> 0 | Z67: 6 | AR67: =SUM(AV67,AX67,AZ67,BB67,BD67,BF67,BH67) -> 0 | AT67: 6
D68: =SUM(H68,J68,L68,N68,P68,R68,T68) -> 0 | F68: 7 | X68: =SUM(AB68,AD68,AF68,AH68,AJ68,AL68,AN68) -> 0 | Z68: 7 | AR68: =SUM(AV68,AX68,AZ68,BB68,BD68,BF68,BH68) -> 0 | AT68: 7
D69: =SUM(H69,J69,L69,N69,P69,R69,T69) -> 0 | F69: 8 | X69: =SUM(AB69,AD69,AF69,AH69,AJ69,AL69,AN69) -> 0 | Z69: 8 | AR69: =SUM(AV69,AX69,AZ69,BB69,BD69,BF69,BH69) -> 0 | AT69: 8
D70: =SUM(H70,J70,L70,N70,P70,R70,T70) -> 0 | F70: 9 | X70: =SUM(AB70,AD70,AF70,AH70,AJ70,AL70,AN70) -> 0 | Z70: 9 | AR70: =SUM(AV70,AX70,AZ70,BB70,BD70,BF70,BH70) -> 0 | AT70: 9
D71: =SUM(H71,J71,L71,N71,P71,R71,T71) -> 0 | F71: 10 | X71: =SUM(AB71,AD71,AF71,AH71,AJ71,AL71,AN71) -> 0 | Z71: 10 | AR71: =SUM(AV71,AX71,AZ71,BB71,BD71,BF71,BH71) -> 0 | AT71: 10
D72: =SUM(H72,J72,L72,N72,P72,R72,T72) -> 0 | F72: 11 | X72: =SUM(AB72,AD72,AF72,AH72,AJ72,AL72,AN72) -> 0 | Z72: 11 | AR72: =SUM(AV72,AX72,AZ72,BB72,BD72,BF72,BH72) -> 0 | AT72: 11
D73: =SUM(H73,J73,L73,N73,P73,R73,T73) -> 0 | F73: 12 | X73: =SUM(AB73,AD73,AF73,AH73,AJ73,AL73,AN73) -> 0 | Z73: 12 | AR73: =SUM(AV73,AX73,AZ73,BB73,BD73,BF73,BH73) -> 0 | AT73: 12
D74: =SUM(H74,J74,L74,N74,P74,R74,T74) -> 0 | F74: 13 | X74: =SUM(AB74,AD74,AF74,AH74,AJ74,AL74,AN74) -> 0 | Z74: 13 | AR74: =SUM(AV74,AX74,AZ74,BB74,BD74,BF74,BH74) -> 0 | AT74: 13
... D76: =SUM(H76,J76,L76,N76,P76,R76,T76) -> 0 | F76: 15 | X76: =SUM(AB76,AD76,AF76,AH76,AJ76,AL76,AN76) -> 0 | Z76: 15 | AR76: =SUM(AV76,AX76,AZ76,BB76,BD76,BF76,BH76) -> 0 | AT76: 15
G77: TOTAL | H77: =SUM(H62:H76) -> 0 | J77: =SUM(J62:J76) -> 0 | L77: =SUM(L62:L76) -> 0 | N77: =SUM(N62:N76) -> 0 | P77: =SUM(P62:P76) -> 0 | R77: =SUM(R62:R76) -> 0 | T77: =SUM(T62:T76) -> 0 | AA77: TOTAL | AB77: =SUM(AB62:AB76) -> 0 | AD77: =SUM(AD62:AD76) -> 0 | AF77: =SUM(AF62:AF76) -> 0 | AH77: =SUM(AH62:AH76) -> 0 | AJ77: =SUM(AJ62:AJ76) -> 0 | AL77: =SUM(AL62:AL76) -> 0 | AN77: =SUM(AN62:AN76) -> 0 | AU77: TOTAL | AV77: =SUM(AV62:AV76) -> 0 | AX77: =SUM(AX62:AX76) -> 0 | AZ77: =SUM(AZ62:AZ76) -> 0 | BB77: =SUM(BB62:BB76) -> 0 | BD77: =SUM(BD62:BD76) -> 0 | BF77: =SUM(BF62:BF76) -> 0 | BH77: =SUM(BH62:BH76) -> 0
F78: =IF(H79<=EOMONTH(H43,0),INT((N79-LOOKUP(N79,DATE(YEAR(N79)+{-1;0;1},1,3)-WEEKDAY(DATE(YEAR(N79)+{-1;0;1},1,3))+2))/7)+1,"") -> 5 | Z78: =IF(AB79<=EOMONTH(AB43,0),INT((AH79-LOOKUP(AH79,DATE(YEAR(AH79)+{-1;0;1},1,3)-WEEKDAY(DATE(YEAR(AH79)+{-1;0;1},1,3))+2))/7)+1,"") -> 9 | AT78: =IF(AV79<=EOMONTH(AV43,0),INT((BB79-LOOKUP(BB79,DATE(YEAR(BB79)+{-1;0;1},1,3)-WEEKDAY(DATE(YEAR(BB79)+{-1;0;1},1,3))+2))/7)+1,"") -> 13 | BO78: =DATE(An_ref,12,31) -> 43830
F79: =F78 -> 5 | G79: =IF(ISNA(VLOOKUP(H79,Tab_feri,2,FALSE)),"",VLOOKUP(H79,Tab_feri,2,FALSE)) | H79: =IF(T61<EOMONTH(F4,0),T61+1,"") -> 43493 | I79: =IF(ISNA(VLOOKUP(J79,Tab_feri,2,FALSE)),"",VLOOKUP(J79,Tab_feri,2,FALSE)) | J79: =IF(H79<EOMONTH(F4,0),H79+1,"") -> 43494 | K79: =IF(ISNA(VLOOKUP(L79,Tab_feri,2,FALSE)),"",VLOOKUP(L79,Tab_feri,2,FALSE)) | L79: =IF(J79<EOMONTH(F4,0),J79+1,"") -> 43495 | M79: =IF(ISNA(VLOOKUP(N79,Tab_feri,2,FALSE)),"",VLOOKUP(N79,Tab_feri,2,FALSE)) | N79: =IF(L79<EOMONTH(F4,0),L79+1,"") -> 43496 | O79: =IF(ISNA(VLOOKUP(P79,Tab_feri,2,FALSE)),"",VLOOKUP(P79,Tab_feri,2,FALSE)) | P79: =IF(N79<EOMONTH(F4,0),N79+1,"") | Q79: =IF(ISNA(VLOOKUP(R79,Tab_feri,2,FALSE)),"",VLOOKUP(R79,Tab_feri,2,FALSE)) | R79: =IF(P79<EOMONTH(F4,0),P79+1,"") | S79: =IF(ISNA(VLOOKUP(T79,Tab_feri,2,FALSE)),"",VLOOKUP(T79,Tab_feri,2,FALSE)) | T79: =IF(R79<EOMONTH(F4,0),R79+1,"") | Z79: =Z78 -> 9 | AA79: =IF(ISNA(VLOOKUP(AB79,Tab_feri,2,FALSE)),"",VLOOKUP(AB79,Tab_feri,2,FALSE)) | AB79: =IF(AN61<EOMONTH(Z4,0),AN61+1,"") -> 43521 | AC79: =IF(ISNA(VLOOKUP(AD79,Tab_feri,2,FALSE)),"",VLOOKUP(AD79,Tab_feri,2,FALSE)) | AD79: =IF(AB79<EOMONTH(Z4,0),AB79+1,"") -> 43522 | AE79: =IF(ISNA(VLOOKUP(AF79,Tab_feri,2,FALSE)),"",VLOOKUP(AF79,Tab_feri,2,FALSE)) | AF79: =IF(AD79<EOMONTH(Z4,0),AD79+1,"") -> 43523 | AG79: =IF(ISNA(VLOOKUP(AH79,Tab_feri,2,FALSE)),"",VLOOKUP(AH79,Tab_feri,2,FALSE)) | AH79: =IF(AF79<EOMONTH(Z4,0),AF79+1,"") -> 43524 | AI79: =IF(ISNA(VLOOKUP(AJ79,Tab_feri,2,FALSE)),"",VLOOKUP(AJ79,Tab_feri,2,FALSE)) | AJ79: =IF(AH79<EOMONTH(Z4,0),AH79+1,"") | AK79: =IF(ISNA(VLOOKUP(AL79,Tab_feri,2,FALSE)),"",VLOOKUP(AL79,Tab_feri,2,FALSE)) | AL79: =IF(AJ79<EOMONTH(Z4,0),AJ79+1,"") | AM79: =IF(ISNA(VLOOKUP(AN79,Tab_feri,2,FALSE)),"",VLOOKUP(AN79,Tab_feri,2,FALSE)) | AN79: =IF(AL79<EOMONTH(Z4,0),AL79+1,"") | AT79: =AT78 -> 13 | AU79: =IF(ISNA(VLOOKUP(AV79,Tab_feri,2,FALSE)),"",VLOOKUP(AV79,Tab_feri,2,FALSE)) | AV79: =IF(BH61<EOMONTH(AT4,0),BH61+1,"") -> 43549 | AW79: =IF(ISNA(VLOOKUP(AX79,Tab_feri,2,FALSE)),"",VLOOKUP(AX79,Tab_feri,2,FALSE)) | AX79: =IF(AV79<EOMONTH(AT4,0),AV79+1,"") -> 43550 | AY79: =IF(ISNA(VLOOKUP(AZ79,Tab_feri,2,FALSE)),"",VLOOKUP(AZ79,Tab_feri,2,FALSE)) | AZ79: =IF(AX79<EOMONTH(AT4,0),AX79+1,"") -> 43551 | BA79: =IF(ISNA(VLOOKUP(BB79,Tab_feri,2,FALSE)),"",VLOOKUP(BB79,Tab_feri,2,FALSE)) | BB79: =IF(AZ79<EOMONTH(AT4,0),AZ79+1,"") -> 43552 | BC79: =IF(ISNA(VLOOKUP(BD79,Tab_feri,2,FALSE)),"",VLOOKUP(BD79,Tab_feri,2,FALSE)) | BD79: =IF(BB79<EOMONTH(AT4,0),BB79+1,"") -> 43553 | BE79: =IF(ISNA(VLOOKUP(BF79,Tab_feri,2,FALSE)),"",VLOOKUP(BF79,Tab_feri,2,FALSE)) | BF79: =IF(BD79<EOMONTH(AT4,0),BD79+1,"") -> 43554 | BG79: =IF(ISNA(VLOOKUP(BH79,Tab_feri,2,FALSE)),"",VLOOKUP(BH79,Tab_feri,2,FALSE)) | BH79: =IF(BF79<EOMONTH(AT4,0),BF79+1,"") -> 43555
D80: =SUM(H80,J80,L80,N80,P80,R80,T80) -> 0 | F80: 1 | X80: =SUM(AB80,AD80,AF80,AH80,AJ80,AL80,AN80) -> 0 | Z80: 1 | AR80: =SUM(AV80,AX80,AZ80,BB80,BD80,BF80,BH80) -> 0 | AT80: 1
D81: =SUM(H81,J81,L81,N81,P81,R81,T81) -> 0 | F81: 2 | X81: =SUM(AB81,AD81,AF81,AH81,AJ81,AL81,AN81) -> 0 | Z81: 2 | AR81: =SUM(AV81,AX81,AZ81,BB81,BD81,BF81,BH81) -> 0 | AT81: 2
D82: =SUM(H82,J82,L82,N82,P82,R82,T82) -> 0 | F82: 3 | X82: =SUM(AB82,AD82,AF82,AH82,AJ82,AL82,AN82) -> 0 | Z82: 3 | AR82: =SUM(AV82,AX82,AZ82,BB82,BD82,BF82,BH82) -> 0 | AT82: 3
D83: =SUM(H83,J83,L83,N83,P83,R83,T83) -> 0 | F83: 4 | X83: =SUM(AB83,AD83,AF83,AH83,AJ83,AL83,AN83) -> 0 | Z83: 4 | AR83: =SUM(AV83,AX83,AZ83,BB83,BD83,BF83,BH83) -> 0 | AT83: 4
D84: =SUM(H84,J84,L84,N84,P84,R84,T84) -> 0 | F84: 5 | X84: =SUM(AB84,AD84,AF84,AH84,AJ84,AL84,AN84) -> 0 | Z84: 5 | AR84: =SUM(AV84,AX84,AZ84,BB84,BD84,BF84,BH84) -> 0 | AT84: 5
D85: =SUM(H85,J85,L85,N85,P85,R85,T85) -> 0 | F85: 6 | X85: =SUM(AB85,AD85,AF85,AH85,AJ85,AL85,AN85) -> 0 | Z85: 6 | AR85: =SUM(AV85,AX85,AZ85,BB85,BD85,BF85,BH85) -> 0 | AT85: 6
D86: =SUM(H86,J86,L86,N86,P86,R86,T86) -> 0 | F86: 7 | X86: =SUM(AB86,AD86,AF86,AH86,AJ86,AL86,AN86) -> 0 | Z86: 7 | AR86: =SUM(AV86,AX86,AZ86,BB86,BD86,BF86,BH86) -> 0 | AT86: 7
D87: =SUM(H87,J87,L87,N87,P87,R87,T87) -> 0 | F87: 8 | X87: =SUM(AB87,AD87,AF87,AH87,AJ87,AL87,AN87) -> 0 | Z87: 8 | AR87: =SUM(AV87,AX87,AZ87,BB87,BD87,BF87,BH87) -> 0 | AT87: 8
D88: =SUM(H88,J88,L88,N88,P88,R88,T88) -> 0 | F88: 9 | X88: =SUM(AB88,AD88,AF88,AH88,AJ88,AL88,AN88) -> 0 | Z88: 9 | AR88: =SUM(AV88,AX88,AZ88,BB88,BD88,BF88,BH88) -> 0 | AT88: 9
D89: =SUM(H89,J89,L89,N89,P89,R89,T89) -> 0 | F89: 10 | X89: =SUM(AB89,AD89,AF89,AH89,AJ89,AL89,AN89) -> 0 | Z89: 10 | AR89: =SUM(AV89,AX89,AZ89,BB89,BD89,BF89,BH89) -> 0 | AT89: 10
D90: =SUM(H90,J90,L90,N90,P90,R90,T90) -> 0 | F90: 11 | X90: =SUM(AB90,AD90,AF90,AH90,AJ90,AL90,AN90) -> 0 | Z90: 11 | AR90: =SUM(AV90,AX90,AZ90,BB90,BD90,BF90,BH90) -> 0 | AT90: 11
D91: =SUM(H91,J91,L91,N91,P91,R91,T91) -> 0 | F91: 12 | X91: =SUM(AB91,AD91,AF91,AH91,AJ91,AL91,AN91) -> 0 | Z91: 12 | AR91: =SUM(AV91,AX91,AZ91,BB91,BD91,BF91,BH91) -> 0 | AT91: 12
... D94: =SUM(H94,J94,L94,N94,P94,R94,T94) -> 0 | F94: 15 | X94: =SUM(AB94,AD94,AF94,AH94,AJ94,AL94,AN94) -> 0 | Z94: 15 | AR94: =SUM(AV94,AX94,AZ94,BB94,BD94,BF94,BH94) -> 0 | AT94: 15
G95: TOTAL | H95: =SUM(H80:H94) -> 0 | J95: =SUM(J80:J94) -> 0 | L95: =SUM(L80:L94) -> 0 | N95: =SUM(N80:N94) -> 0 | P95: =SUM(P80:P94) -> 0 | R95: =SUM(R80:R94) -> 0 | T95: =SUM(T80:T94) -> 0 | AA95: TOTAL | AB95: =SUM(AB80:AB94) -> 0 | AD95: =SUM(AD80:AD94) -> 0 | AF95: =SUM(AF80:AF94) -> 0 | AH95: =SUM(AH80:AH94) -> 0 | AJ95: =SUM(AJ80:AJ94) -> 0 | AL95: =SUM(AL80:AL94) -> 0 | AN95: =SUM(AN80:AN94) -> 0 | AU95: TOTAL | AV95: =SUM(AV80:AV94) -> 0 | AX95: =SUM(AX80:AX94) -> 0 | AZ95: =SUM(AZ80:AZ94) -> 0 | BB95: =SUM(BB80:BB94) -> 0 | BD95: =SUM(BD80:BD94) -> 0 | BF95: =SUM(BF80:BF94) -> 0 | BH95: =SUM(BH80:BH94) -> 0
F96: =IF(H97<=EOMONTH(H61,0),INT((N97-LOOKUP(N97,DATE(YEAR(N97)+{-1;0;1},1,3)-WEEKDAY(DATE(YEAR(N97)+{-1;0;1},1,3))+2))/7)+1,"") | Z96: =IF(AB97<=EOMONTH(AB61,0),INT((AH97-LOOKUP(AH97,DATE(YEAR(AH97)+{-1;0;1},1,3)-WEEKDAY(DATE(YEAR(AH97)+{-1;0;1},1,3))+2))/7)+1,"") | AT96: =IF(AV97<=EOMONTH(AV61,0),INT((BB97-LOOKUP(BB97,DATE(YEAR(BB97)+{-1;0;1},1,3)-WEEKDAY(DATE(YEAR(BB97)+{-1;0;1},1,3))+2))/7)+1,"")
F97: =F96 | G97: =IF(ISNA(VLOOKUP(H97,Tab_feri,2,FALSE)),"",VLOOKUP(H97,Tab_feri,2,FALSE)) | H97: =IF(T79<EOMONTH(F4,0),T79+1,"") | I97: =IF(ISNA(VLOOKUP(J97,Tab_feri,2,FALSE)),"",VLOOKUP(J97,Tab_feri,2,FALSE)) | J97: =IF(H97<EOMONTH(F4,0),H97+1,"") | K97: =IF(ISNA(VLOOKUP(L97,Tab_feri,2,FALSE)),"",VLOOKUP(L97,Tab_feri,2,FALSE)) | L97: =IF(J97<EOMONTH(F4,0),J97+1,"") | M97: =IF(ISNA(VLOOKUP(N97,Tab_feri,2,FALSE)),"",VLOOKUP(N97,Tab_feri,2,FALSE)) | N97: =IF(L97<EOMONTH(F4,0),L97+1,"") | O97: =IF(ISNA(VLOOKUP(P97,Tab_feri,2,FALSE)),"",VLOOKUP(P97,Tab_feri,2,FALSE)) | P97: =IF(N97<EOMONTH(F4,0),N97+1,"") | Q97: =IF(ISNA(VLOOKUP(R97,Tab_feri,2,FALSE)),"",VLOOKUP(R97,Tab_feri,2,FALSE)) | R97: =IF(P97<EOMONTH(F4,0),P97+1,"") | S97: =IF(ISNA(VLOOKUP(T97,Tab_feri,2,FALSE)),"",VLOOKUP(T97,Tab_feri,2,FALSE)) | T97: =IF(R97<EOMONTH(F4,0),R97+1,"") | Z97: =Z96 | AA97: =IF(ISNA(VLOOKUP(AB97,Tab_feri,2,FALSE)),"",VLOOKUP(AB97,Tab_feri,2,FALSE)) | AB97: =IF(AN79<EOMONTH(Z4,0),AN79+1,"") | AC97: =IF(ISNA(VLOOKUP(AD97,Tab_feri,2,FALSE)),"",VLOOKUP(AD97,Tab_feri,2,FALSE)) | AD97: =IF(AB97<EOMONTH(Z4,0),AB97+1,"") | AE97: =IF(ISNA(VLOOKUP(AF97,Tab_feri,2,FALSE)),"",VLOOKUP(AF97,Tab_feri,2,FALSE)) | AF97: =IF(AD97<EOMONTH(Z4,0),AD97+1,"") | AG97: =IF(ISNA(VLOOKUP(AH97,Tab_feri,2,FALSE)),"",VLOOKUP(AH97,Tab_feri,2,FALSE)) | AH97: =IF(AF97<EOMONTH(Z4,0),AF97+1,"") | AI97: =IF(ISNA(VLOOKUP(AJ97,Tab_feri,2,FALSE)),"",VLOOKUP(AJ97,Tab_feri,2,FALSE)) | AJ97: =IF(AH97<EOMONTH(Z4,0),AH97+1,"") | AK97: =IF(ISNA(VLOOKUP(AL97,Tab_feri,2,FALSE)),"",VLOOKUP(AL97,Tab_feri,2,FALSE)) | AL97: =IF(AJ97<EOMONTH(Z4,0),AJ97+1,"") | AM97: =IF(ISNA(VLOOKUP(AN97,Tab_feri,2,FALSE)),"",VLOOKUP(AN97,Tab_feri,2,FALSE)) | AN97: =IF(AL97<EOMONTH(Z4,0),AL97+1,"") | AT97: =AT96 | AU97: =IF(ISNA(VLOOKUP(AV97,Tab_feri,2,FALSE)),"",VLOOKUP(AV97,Tab_feri,2,FALSE)) | AV97: =IF(BH79<EOMONTH(AT4,0),BH79+1,"") | AW97: =IF(ISNA(VLOOKUP(AX97,Tab_feri,2,FALSE)),"",VLOOKUP(AX97,Tab_feri,2,FALSE)) | AX97: =IF(AV97<EOMONTH(AT4,0),AV97+1,"") | AY97: =IF(ISNA(VLOOKUP(AZ97,Tab_feri,2,FALSE)),"",VLOOKUP(AZ97,Tab_feri,2,FALSE)) | AZ97: =IF(AX97<EOMONTH(AT4,0),AX97+1,"") | BA97: =IF(ISNA(VLOOKUP(BB97,Tab_feri,2,FALSE)),"",VLOOKUP(BB97,Tab_feri,2,FALSE)) | BB97: =IF(AZ97<EOMONTH(AT4,0),AZ97+1,"") | BC97: =IF(ISNA(VLOOKUP(BD97,Tab_feri,2,FALSE)),"",VLOOKUP(BD97,Tab_feri,2,FALSE)) | BD97: =IF(BB97<EOMONTH(AT4,0),BB97+1,"") | BE97: =IF(ISNA(VLOOKUP(BF97,Tab_feri,2,FALSE)),"",VLOOKUP(BF97,Tab_feri,2,FALSE)) | BF97: =IF(BD97<EOMONTH(AT4,0),BD97+1,"") | BG97: =IF(ISNA(VLOOKUP(BH97,Tab_feri,2,FALSE)),"",VLOOKUP(BH97,Tab_feri,2,FALSE)) | BH97: =IF(BF97<EOMONTH(AT4,0),BF97+1,"")
D98: =SUM(H98,J98,L98,N98,P98,R98,T98) -> 0 | F98: 1 | X98: =SUM(AB98,AD98,AF98,AH98,AJ98,AL98,AN98) -> 0 | Z98: 1 | AR98: =SUM(AV98,AX98,AZ98,BB98,BD98,BF98,BH98) -> 0 | AT98: 1
D99: =SUM(H99,J99,L99,N99,P99,R99,T99) -> 0 | F99: 2 | X99: =SUM(AB99,AD99,AF99,AH99,AJ99,AL99,AN99) -> 0 | Z99: 2 | AR99: =SUM(AV99,AX99,AZ99,BB99,BD99,BF99,BH99) -> 0 | AT99: 2
D100: =SUM(H100,J100,L100,N100,P100,R100,T100) -> 0 | F100: 3 | X100: =SUM(AB100,AD100,AF100,AH100,AJ100,AL100,AN100) -> 0 | Z100: 3 | AR100: =SUM(AV100,AX100,AZ100,BB100,BD100,BF100,BH100) -> 0 | AT100: 3
D101: =SUM(H101,J101,L101,N101,P101,R101,T101) -> 0 | F101: 4 | X101: =SUM(AB101,AD101,AF101,AH101,AJ101,AL101,AN101) -> 0 | Z101: 4 | AR101: =SUM(AV101,AX101,AZ101,BB101,BD101,BF101,BH101) -> 0 | AT101: 4
D102: =SUM(H102,J102,L102,N102,P102,R102,T102) -> 0 | F102: 5 | X102: =SUM(AB102,AD102,AF102,AH102,AJ102,AL102,AN102) -> 0 | Z102: 5 | AR102: =SUM(AV102,AX102,AZ102,BB102,BD102,BF102,BH102) -> 0 | AT102: 5
D103: =SUM(H103,J103,L103,N103,P103,R103,T103) -> 0 | F103: 6 | X103: =SUM(AB103,AD103,AF103,AH103,AJ103,AL103,AN103) -> 0 | Z103: 6 | AR103: =SUM(AV103,AX103,AZ103,BB103,BD103,BF103,BH103) -> 0 | AT103: 6
D104: =SUM(H104,J104,L104,N104,P104,R104,T104) -> 0 | F104: 7 | X104: =SUM(AB104,AD104,AF104,AH104,AJ104,AL104,AN104) -> 0 | Z104: 7 | AR104: =SUM(AV104,AX104,AZ104,BB104,BD104,BF104,BH104) -> 0 | AT104: 7
D105: =SUM(H105,J105,L105,N105,P105,R105,T105) -> 0 | F105: 8 | X105: =SUM(AB105,AD105,AF105,AH105,AJ105,AL105,AN105) -> 0 | Z105: 8 | AR105: =SUM(AV105,AX105,AZ105,BB105,BD105,BF105,BH105) -> 0 | AT105: 8
D106: =SUM(H106,J106,L106,N106,P106,R106,T106) -> 0 | F106: 9 | X106: =SUM(AB106,AD106,AF106,AH106,AJ106,AL106,AN106) -> 0 | Z106: 9 | AR106: =SUM(AV106,AX106,AZ106,BB106,BD106,BF106,BH106) -> 0 | AT106: 9
D107: =SUM(H107,J107,L107,N107,P107,R107,T107) -> 0 | F107: 10 | X107: =SUM(AB107,AD107,AF107,AH107,AJ107,AL107,AN107) -> 0 | Z107: 10 | AR107: =SUM(AV107,AX107,AZ107,BB107,BD107,BF107,BH107) -> 0 | AT107: 10
D108: =SUM(H108,J108,L108,N108,P108,R108,T108) -> 0 | F108: 11 | X108: =SUM(AB108,AD108,AF108,AH108,AJ108,AL108,AN108) -> 0 | Z108: 11 | AR108: =SUM(AV108,AX108,AZ108,BB108,BD108,BF108,BH108) -> 0 | AT108: 11
...

Sheet VIERGE test zoom menu deroulant
G2: 2019 | I2: TOTAL pers | K2: =SUM(M4,AG4,BA4,BA116,AG116,M116,M227,AG227,BA227,BA338,AG338,M338) -> 0 | L2: par 9h | M2: =K2/16 -> 0
F4: =EDATE(DATE(An_ref,1,1),0) -> 43466 | M4: =SUM(B8:B22) -> 0 | Z4: =EDATE(DATE(An_ref,1,1),1) -> 43497 | AG4: =SUM(V8:V22) -> 0 | AT4: =EDATE(DATE(An_ref,1,1),2) -> 43525 | BA4: =SUM(AP8:AP22) -> 0 | BN4: Fériés | BO4: Date | BP4: =OR(H7=BO5,H7=BO6,H7=BO7,H7=BO24,H7=BO25,H7=BO26,H7=BO42,H7=BO43,H7=BO44,H7=BO60,H7=BO61,H7=BO62,H7=BO78) -> FALSE
B5: TOTAL | G5: =UPPER(TEXT(H25,"jjjj")) -> LUNDI | I5: =UPPER(TEXT(J25,"jjjj")) -> MARDI | K5: =UPPER(TEXT(L25,"jjjj")) -> MERCREDI | M5: =UPPER(TEXT(N25,"jjjj")) -> JEUDI | O5: =UPPER(TEXT(P25,"jjjj")) -> VENDREDI | Q5: =UPPER(TEXT(R25,"jjjj")) -> SAMEDI | S5: =UPPER(TEXT(T25,"jjjj")) -> DIMANCHE | V5: TOTAL | AA5: =UPPER(TEXT(AB25,"jjjj")) -> LUNDI | AC5: =UPPER(TEXT(AD25,"jjjj")) -> MARDI | AE5: =UPPER(TEXT(AF25,"jjjj")) -> MERCREDI | AG5: =UPPER(TEXT(AH25,"jjjj")) -> JEUDI | AI5: =UPPER(TEXT(AJ25,"jjjj")) -> VENDREDI | AK5: =UPPER(TEXT(AL25,"jjjj")) -> SAMEDI | AM5: =UPPER(TEXT(AN25,"jjjj")) -> DIMANCHE | AP5: TOTAL | AU5: =UPPER(TEXT(AV25,"jjjj")) -> LUNDI | AW5: =UPPER(TEXT(AX25,"jjjj")) -> MARDI | AY5: =UPPER(TEXT(AZ25,"jjjj")) -> MERCREDI | BA5: =UPPER(TEXT(BB25,"jjjj")) -> JEUDI | BC5: =UPPER(TEXT(BD25,"jjjj")) -> VENDREDI | BE5: =UPPER(TEXT(BF25,"jjjj")) -> SAMEDI | BG5: =UPPER(TEXT(BH25,"jjjj")) -> DIMANCHE | BO5: =DATE(An_ref,1,1) -> 43466
F6: =INT((N7-LOOKUP(N7,DATE(YEAR(N7)+{-1;0;1},1,3)-WEEKDAY(DATE(YEAR(N7)+{-1;0;1},1,3))+2))/7)+1 -> 1 | Z6: =INT((AH7-LOOKUP(AH7,DATE(YEAR(AH7)+{-1;0;1},1,3)-WEEKDAY(DATE(YEAR(AH7)+{-1;0;1},1,3))+2))/7)+1 -> #VALUE! | AT6: =INT((BB7-LOOKUP(BB7,DATE(YEAR(BB7)+{-1;0;1},1,3)-WEEKDAY(DATE(YEAR(BB7)+{-1;0;1},1,3))+2))/7)+1 -> #VALUE! | BO6: =DATE(An_ref,1,2) -> 43467
B7: mois | D7: sem | F7: =F6 -> 1 | G7: =IF(ISNA(VLOOKUP(H7,Tab_feri,2,FALSE)),"",VLOOKUP(H7,Tab_feri,2,FALSE)) | H7: =IF(WEEKDAY(F4)=2,F4,"") | I7: =IF(ISNA(VLOOKUP(J7,Tab_feri,2,FALSE)),"",VLOOKUP(J7,Tab_feri,2,FALSE)) | J7: =IF(H7<>"",H7+1,IF(WEEKDAY(F4)=3,F4,"")) -> 43466 | K7: =IF(ISNA(VLOOKUP(L7,Tab_feri,2,FALSE)),"",VLOOKUP(L7,Tab_feri,2,FALSE)) | L7: =IF(J7<>"",J7+1,IF(WEEKDAY(F4)=4,F4,"")) -> 43467 | M7: =IF(ISNA(VLOOKUP(N7,Tab_feri,2,FALSE)),"",VLOOKUP(N7,Tab_feri,2,FALSE)) | N7: =IF(L7<>"",L7+1,IF(WEEKDAY(F4)=5,F4,"")) -> 43468 | O7: =IF(ISNA(VLOOKUP(P7,Tab_feri,2,FALSE)),"",VLOOKUP(P7,Tab_feri,2,FALSE)) | P7: =IF(N7<>"",N7+1,IF(WEEKDAY(F4)=6,F4,"")) -> 43469 | Q7: =IF(ISNA(VLOOKUP(R7,Tab_feri,2,FALSE)),"",VLOOKUP(R7,Tab_feri,2,FALSE)) | R7: =IF(P7<>"",P7+1,IF(WEEKDAY(F4)=7,F4,"")) -> 43470 | S7: =IF(ISNA(VLOOKUP(T7,Tab_feri,2,FALSE)),"",VLOOKUP(T7,Tab_feri,2,FALSE)) | T7: =IF(R7<>"",R7+1,IF(WEEKDAY(F4)=1,F4,"")) -> 43471 | V7: mois | X7: sem | Z7: =Z6 -> #VALUE! | AA7: =IF(ISNA(VLOOKUP(AB7,Tab_feri,2,FALSE)),"",VLOOKUP(AB7,Tab_feri,2,FALSE)) | AB7: =IF(WEEKDAY(Z4)=2,Z4,"") | AC7: =IF(ISNA(VLOOKUP(AD7,Tab_feri,2,FALSE)),"",VLOOKUP(AD7,Tab_feri,2,FALSE)) | AD7: =IF(AB7<>"",AB7+1,IF(WEEKDAY(Z4)=3,Z4,"")) | AE7: =IF(ISNA(VLOOKUP(AF7,Tab_feri,2,FALSE)),"",VLOOKUP(AF7,Tab_feri,2,FALSE)) | AF7: =IF(AD7<>"",AD7+1,IF(WEEKDAY(Z4)=4,Z4,"")) | AG7: =IF(ISNA(VLOOKUP(AH7,Tab_feri,2,FALSE)),"",VLOOKUP(AH7,Tab_feri,2,FALSE)) | AH7: =IF(AF7<>"",AF7+1,IF(WEEKDAY(Z4)=5,Z4,"")) | AI7: =IF(ISNA(VLOOKUP(AJ7,Tab_feri,2,FALSE)),"",VLOOKUP(AJ7,Tab_feri,2,FALSE)) | AJ7: =IF(AH7<>"",AH7+1,IF(WEEKDAY(Z4)=6,Z4,"")) -> 43497 | AK7: =IF(ISNA(VLOOKUP(AL7,Tab_feri,2,FALSE)),"",VLOOKUP(AL7,Tab_feri,2,FALSE)) | AL7: =IF(AJ7<>"",AJ7+1,IF(WEEKDAY(Z4)=7,Z4,"")) -> 43498 | AM7: =IF(ISNA(VLOOKUP(AN7,Tab_feri,2,FALSE)),"",VLOOKUP(AN7,Tab_feri,2,FALSE)) | AN7: =IF(AL7<>"",AL7+1,IF(WEEKDAY(Z4)=1,Z4,"")) -> 43499 | AP7: mois | AR7: sem | AT7: =AT6 -> #VALUE! | AU7: =IF(ISNA(VLOOKUP(AV7,Tab_feri,2,FALSE)),"",VLOOKUP(AV7,Tab_feri,2,FALSE)) | AV7: =IF(WEEKDAY(AT4)=2,AT4,"") | AW7: =IF(ISNA(VLOOKUP(AX7,Tab_feri,2,FALSE)),"",VLOOKUP(AX7,Tab_feri,2,FALSE)) | AX7: =IF(AV7<>"",AV7+1,IF(WEEKDAY(AT4)=3,AT4,"")) | AY7: =IF(ISNA(VLOOKUP(AZ7,Tab_feri,2,FALSE)),"",VLOOKUP(AZ7,Tab_feri,2,FALSE)) | AZ7: =IF(AX7<>"",AX7+1,IF(WEEKDAY(AT4)=4,AT4,"")) | BA7: =IF(ISNA(VLOOKUP(BB7,Tab_feri,2,FALSE)),"",VLOOKUP(BB7,Tab_feri,2,FALSE)) | BB7: =IF(AZ7<>"",AZ7+1,IF(WEEKDAY(AT4)=5,AT4,"")) | BC7: =IF(ISNA(VLOOKUP(BD7,Tab_feri,2,FALSE)),"",VLOOKUP(BD7,Tab_feri,2,FALSE)) | BD7: =IF(BB7<>"",BB7+1,IF(WEEKDAY(AT4)=6,AT4,"")) -> 43525 | BE7: =IF(ISNA(VLOOKUP(BF7,Tab_feri,2,FALSE)),"",VLOOKUP(BF7,Tab_feri,2,FALSE)) | BF7: =IF(BD7<>"",BD7+1,IF(WEEKDAY(AT4)=7,AT4,"")) -> 43526 | BG7: =IF(ISNA(VLOOKUP(BH7,Tab_feri,2,FALSE)),"",VLOOKUP(BH7,Tab_feri,2,FALSE)) | BH7: =IF(BF7<>"",BF7+1,IF(WEEKDAY(AT4)=1,AT4,"")) -> 43527 | BO7: =BO8-2 -> 43574
B8: =SUM(D8,D26,D44,D62,D80,D98) -> 0 | D8: =SUM(H8,J8,L8,N8,P8,R8,T8) -> 0 | F8: 1 | V8: =SUM(X8,X26,X44,X62,X80,X98) -> 0 | X8: =SUM(AB8,AD8,AF8,AH8,AJ8,AL8,AN8) -> 0 | Z8: 1 | AP8: =SUM(AR8,AR26,AR44,AR62,AR80,AR98) -> 0 | AR8: =SUM(AV8,AX8,AZ8,BB8,BD8,BF8,BH8) -> 0 | AT8: 1 | BO8: =ROUND(DATE(An_ref,4,MOD(234-11*MOD(An_ref,19),30))/7,)*7-6 -> 43576
B9: =SUM(D9,D27,D45,D63,D81,D99) -> 0 | D9: =SUM(H9,J9,L9,N9,P9,R9,T9) -> 0 | F9: 2 | V9: =SUM(X9,X27,X45,X63,X81,X99) -> 0 | X9: =SUM(AB9,AD9,AF9,AH9,AJ9,AL9,AN9) -> 0 | Z9: 2 | AP9: =SUM(AR9,AR27,AR45,AR63,AR81,AR99) -> 0 | AR9: =SUM(AV9,AX9,AZ9,BB9,BD9,BF9,BH9) -> 0 | AT9: 2
B10: =SUM(D10,D28,D46,D64,D82,D100) -> 0 | D10: =SUM(H10,J10,L10,N10,P10,R10,T10) -> 0 | F10: 3 | V10: =SUM(X10,X28,X46,X64,X82,X100) -> 0 | X10: =SUM(AB10,AD10,AF10,AH10,AJ10,AL10,AN10) -> 0 | Z10: 3 | AP10: =SUM(AR10,AR28,AR46,AR64,AR82,AR100) -> 0 | AR10: =SUM(AV10,AX10,AZ10,BB10,BD10,BF10,BH10) -> 0 | AT10: 3
B11: =SUM(D11,D29,D47,D65,D83,D101) -> 0 | D11: =SUM(H11,J11,L11,N11,P11,R11,T11) -> 0 | F11: 4 | V11: =SUM(X11,X29,X47,X65,X83,X101) -> 0 | X11: =SUM(AB11,AD11,AF11,AH11,AJ11,AL11,AN11) -> 0 | Z11: 4 | AP11: =SUM(AR11,AR29,AR47,AR65,AR83,AR101) -> 0 | AR11: =SUM(AV11,AX11,AZ11,BB11,BD11,BF11,BH11) -> 0 | AT11: 4
B12: =SUM(D12,D30,D48,D66,D84,D102) -> 0 | D12: =SUM(H12,J12,L12,N12,P12,R12,T12) -> 0 | F12: 5 | V12: =SUM(X12,X30,X48,X66,X84,X102) -> 0 | X12: =SUM(AB12,AD12,AF12,AH12,AJ12,AL12,AN12) -> 0 | Z12: 5 | AP12: =SUM(AR12,AR30,AR48,AR66,AR84,AR102) -> 0 | AR12: =SUM(AV12,AX12,AZ12,BB12,BD12,BF12,BH12) -> 0 | AT12: 5
B13: =SUM(D13,D31,D49,D67,D85,D103) -> 0 | D13: =SUM(H13,J13,L13,N13,P13,R13,T13) -> 0 | F13: 6 | V13: =SUM(X13,X31,X49,X67,X85,X103) -> 0 | X13: =SUM(AB13,AD13,AF13,AH13,AJ13,AL13,AN13) -> 0 | Z13: 6 | AP13: =SUM(AR13,AR31,AR49,AR67,AR85,AR103) -> 0 | AR13: =SUM(AV13,AX13,AZ13,BB13,BD13,BF13,BH13) -> 0 | AT13: 6
B14: =SUM(D14,D32,D50,D68,D86,D104) -> 0 | D14: =SUM(H14,J14,L14,N14,P14,R14,T14) -> 0 | F14: 7 | V14: =SUM(X14,X32,X50,X68,X86,X104) -> 0 | X14: =SUM(AB14,AD14,AF14,AH14,AJ14,AL14,AN14) -> 0 | Z14: 7 | AP14: =SUM(AR14,AR32,AR50,AR68,AR86,AR104) -> 0 | AR14: =SUM(AV14,AX14,AZ14,BB14,BD14,BF14,BH14) -> 0 | AT14: 7
B15: =SUM(D15,D33,D51,D69,D87,D105) -> 0 | D15: =SUM(H15,J15,L15,N15,P15,R15,T15) -> 0 | F15: 8 | V15: =SUM(X15,X33,X51,X69,X87,X105) -> 0 | X15: =SUM(AB15,AD15,AF15,AH15,AJ15,AL15,AN15) -> 0 | Z15: 8 | AP15: =SUM(AR15,AR33,AR51,AR69,AR87,AR105) -> 0 | AR15: =SUM(AV15,AX15,AZ15,BB15,BD15,BF15,BH15) -> 0 | AT15: 8
B16: =SUM(D16,D34,D52,D70,D88,D106) -> 0 | D16: =SUM(H16,J16,L16,N16,P16,R16,T16) -> 0 | F16: 9 | V16: =SUM(X16,X34,X52,X70,X88,X106) -> 0 | X16: =SUM(AB16,AD16,AF16,AH16,AJ16,AL16,AN16) -> 0 | Z16: 9 | AP16: =SUM(AR16,AR34,AR52,AR70,AR88,AR106) -> 0 | AR16: =SUM(AV16,AX16,AZ16,BB16,BD16,BF16,BH16) -> 0 | AT16: 9
B17: =SUM(D17,D35,D53,D71,D89,D107) -> 0 | D17: =SUM(H17,J17,L17,N17,P17,R17,T17) -> 0 | F17: 10 | V17: =SUM(X17,X35,X53,X71,X89,X107) -> 0 | X17: =SUM(AB17,AD17,AF17,AH17,AJ17,AL17,AN17) -> 0 | Z17: 10 | AP17: =SUM(AR17,AR35,AR53,AR71,AR89,AR107) -> 0 | AR17: =SUM(AV17,AX17,AZ17,BB17,BD17,BF17,BH17) -> 0 | AT17: 10
B18: =SUM(D18,D36,D54,D72,D90,D108) -> 0 | D18: =SUM(H18,J18,L18,N18,P18,R18,T18) -> 0 | F18: 11 | V18: =SUM(X18,X36,X54,X72,X90,X108) -> 0 | X18: =SUM(AB18,AD18,AF18,AH18,AJ18,AL18,AN18) -> 0 | Z18: 11 | AP18: =SUM(AR18,AR36,AR54,AR72,AR90,AR108) -> 0 | AR18: =SUM(AV18,AX18,AZ18,BB18,BD18,BF18,BH18) -> 0 | AT18: 11
B19: =SUM(D19,D37,D55,D73,D91,D109) -> 0 | D19: =SUM(H19,J19,L19,N19,P19,R19,T19) -> 0 | F19: 12 | V19: =SUM(X19,X37,X55,X73,X91,X109) -> 0 | X19: =SUM(AB19,AD19,AF19,AH19,AJ19,AL19,AN19) -> 0 | Z19: 12 | AP19: =SUM(AR19,AR37,AR55,AR73,AR91,AR109) -> 0 | AR19: =SUM(AV19,AX19,AZ19,BB19,BD19,BF19,BH19) -> 0 | AT19: 12
B20: =SUM(D20,D38,D56,D74,D92,D110) -> 0 | D20: =SUM(H20,J20,L20,N20,P20,R20,T20) -> 0 | F20: 13 | V20: =SUM(X20,X38,X56,X74,X92,X110) -> 0 | X20: =SUM(AB20,AD20,AF20,AH20,AJ20,AL20,AN20) -> 0 | Z20: 13 | AP20: =SUM(AR20,AR38,AR56,AR74,AR92,AR110) -> 0 | AR20: =SUM(AV20,AX20,AZ20,BB20,BD20,BF20,BH20) -> 0 | AT20: 13
... B22: =SUM(D22,D40,D58,D76,D94,D112) -> 0 | D22: =SUM(H22,J22,L22,N22,P22,R22,T22) -> 0 | F22: 15 | V22: =SUM(X22,X40,X58,X76,X94,X112) -> 0 | X22: =SUM(AB22,AD22,AF22,AH22,AJ22,AL22,AN22) -> 0 | Z22: 15 | AP22: =SUM(AR22,AR40,AR58,AR76,AR94,AR112) -> 0 | AR22: =SUM(AV22,AX22,AZ22,BB22,BD22,BF22,BH22) -> 0 | AT22: 15
G23: TOTAL | H23: =SUM(H8:H22) -> 0 | J23: =SUM(J8:J22) -> 0 | L23: =SUM(L8:L22) -> 0 | N23: =SUM(N8:N22) -> 0 | P23: =SUM(P8:P22) -> 0 | R23: =SUM(R8:R22) -> 0 | T23: =SUM(T8:T22) -> 0 | AA23: TOTAL | AB23: =SUM(AB8:AB22) -> 0 | AD23: =SUM(AD8:AD22) -> 0 | AF23: =SUM(AF8:AF22) -> 0 | AH23: =SUM(AH8:AH22) -> 0 | AJ23: =SUM(AJ8:AJ22) -> 0 | AL23: =SUM(AL8:AL22) -> 0 | AN23: =SUM(AN8:AN22) -> 0 | AU23: TOTAL | AV23: =SUM(AV8:AV22) -> 0 | AX23: =SUM(AX8:AX22) -> 0 | AZ23: =SUM(AZ8:AZ22) -> 0 | BB23: =SUM(BB8:BB22) -> 0 | BD23: =SUM(BD8:BD22) -> 0 | BF23: =SUM(BF8:BF22) -> 0 | BH23: =SUM(BH8:BH22) -> 0
F24: =INT((N25-LOOKUP(N25,DATE(YEAR(N25)+{-1;0;1},1,3)-WEEKDAY(DATE(YEAR(N25)+{-1;0;1},1,3))+2))/7)+1 -> 2 | Z24: =INT((AH25-LOOKUP(AH25,DATE(YEAR(AH25)+{-1;0;1},1,3)-WEEKDAY(DATE(YEAR(AH25)+{-1;0;1},1,3))+2))/7)+1 -> 6 | AT24: =INT((BB25-LOOKUP(BB25,DATE(YEAR(BB25)+{-1;0;1},1,3)-WEEKDAY(DATE(YEAR(BB25)+{-1;0;1},1,3))+2))/7)+1 -> 10 | BO24: =BO8+1 -> 43577
F25: =F24 -> 2 | G25: =IF(ISNA(VLOOKUP(H25,Tab_feri,2,FALSE)),"",VLOOKUP(H25,Tab_feri,2,FALSE)) | H25: =T7+1 -> 43472 | I25: =IF(ISNA(VLOOKUP(J25,Tab_feri,2,FALSE)),"",VLOOKUP(J25,Tab_feri,2,FALSE)) | J25: =H25+1 -> 43473 | K25: =IF(ISNA(VLOOKUP(L25,Tab_feri,2,FALSE)),"",VLOOKUP(L25,Tab_feri,2,FALSE)) | L25: =J25+1 -> 43474 | M25: =IF(ISNA(VLOOKUP(N25,Tab_feri,2,FALSE)),"",VLOOKUP(N25,Tab_feri,2,FALSE)) | N25: =L25+1 -> 43475 | O25: =IF(ISNA(VLOOKUP(P25,Tab_feri,2,FALSE)),"",VLOOKUP(P25,Tab_feri,2,FALSE)) | P25: =N25+1 -> 43476 | Q25: =IF(ISNA(VLOOKUP(R25,Tab_feri,2,FALSE)),"",VLOOKUP(R25,Tab_feri,2,FALSE)) | R25: =P25+1 -> 43477 | S25: =IF(ISNA(VLOOKUP(T25,Tab_feri,2,FALSE)),"",VLOOKUP(T25,Tab_feri,2,FALSE)) | T25: =R25+1 -> 43478 | Z25: =Z24 -> 6 | AA25: =IF(ISNA(VLOOKUP(AB25,Tab_feri,2,FALSE)),"",VLOOKUP(AB25,Tab_feri,2,FALSE)) | AB25: =AN7+1 -> 43500 | AC25: =IF(ISNA(VLOOKUP(AD25,Tab_feri,2,FALSE)),"",VLOOKUP(AD25,Tab_feri,2,FALSE)) | AD25: =AB25+1 -> 43501 | AE25: =IF(ISNA(VLOOKUP(AF25,Tab_feri,2,FALSE)),"",VLOOKUP(AF25,Tab_feri,2,FALSE)) | AF25: =AD25+1 -> 43502 | AG25: =IF(ISNA(VLOOKUP(AH25,Tab_feri,2,FALSE)),"",VLOOKUP(AH25,Tab_feri,2,FALSE)) | AH25: =AF25+1 -> 43503 | AI25: =IF(ISNA(VLOOKUP(AJ25,Tab_feri,2,FALSE)),"",VLOOKUP(AJ25,Tab_feri,2,FALSE)) | AJ25: =AH25+1 -> 43504 | AK25: =IF(ISNA(VLOOKUP(AL25,Tab_feri,2,FALSE)),"",VLOOKUP(AL25,Tab_feri,2,FALSE)) | AL25: =AJ25+1 -> 43505 | AM25: =IF(ISNA(VLOOKUP(AN25,Tab_feri,2,FALSE)),"",VLOOKUP(AN25,Tab_feri,2,FALSE)) | AN25: =AL25+1 -> 43506 | AT25: =AT24 -> 10 | AU25: =IF(ISNA(VLOOKUP(AV25,Tab_feri,2,FALSE)),"",VLOOKUP(AV25,Tab_feri,2,FALSE)) | AV25: =BH7+1 -> 43528 | AW25: =IF(ISNA(VLOOKUP(AX25,Tab_feri,2,FALSE)),"",VLOOKUP(AX25,Tab_feri,2,FALSE)) | AX25: =AV25+1 -> 43529 | AY25: =IF(ISNA(VLOOKUP(AZ25,Tab_feri,2,FALSE)),"",VLOOKUP(AZ25,Tab_feri,2,FALSE)) | AZ25: =AX25+1 -> 43530 | BA25: =IF(ISNA(VLOOKUP(BB25,Tab_feri,2,FALSE)),"",VLOOKUP(BB25,Tab_feri,2,FALSE)) | BB25: =AZ25+1 -> 43531 | BC25: =IF(ISNA(VLOOKUP(BD25,Tab_feri,2,FALSE)),"",VLOOKUP(BD25,Tab_feri,2,FALSE)) | BD25: =BB25+1 -> 43532 | BE25: =IF(ISNA(VLOOKUP(BF25,Tab_feri,2,FALSE)),"",VLOOKUP(BF25,Tab_feri,2,FALSE)) | BF25: =BD25+1 -> 43533 | BG25: =IF(ISNA(VLOOKUP(BH25,Tab_feri,2,FALSE)),"",VLOOKUP(BH25,Tab_feri,2,FALSE)) | BH25: =BF25+1 -> 43534 | BO25: =DATE(An_ref,5,21) -> 43606
D26: =SUM(H26,J26,L26,N26,P26,R26,T26) -> 0 | F26: 1 | X26: =SUM(AB26,AD26,AF26,AH26,AJ26,AL26,AN26) -> 0 | Z26: 1 | AR26: =SUM(AV26,AX26,AZ26,BB26,BD26,BF26,BH26) -> 0 | AT26: 1 | BO26: =DATE(An_ref,6,24) -> 43640
D27: =SUM(H27,J27,L27,N27,P27,R27,T27) -> 0 | F27: 2 | X27: =SUM(AB27,AD27,AF27,AH27,AJ27,AL27,AN27) -> 0 | Z27: 2 | AR27: =SUM(AV27,AX27,AZ27,BB27,BD27,BF27,BH27) -> 0 | AT27: 2
D28: =SUM(H28,J28,L28,N28,P28,R28,T28) -> 0 | F28: 3 | X28: =SUM(AB28,AD28,AF28,AH28,AJ28,AL28,AN28) -> 0 | Z28: 3 | AR28: =SUM(AV28,AX28,AZ28,BB28,BD28,BF28,BH28) -> 0 | AT28: 3
D29: =SUM(H29,J29,L29,N29,P29,R29,T29) -> 0 | F29: 4 | X29: =SUM(AB29,AD29,AF29,AH29,AJ29,AL29,AN29) -> 0 | Z29: 4 | AR29: =SUM(AV29,AX29,AZ29,BB29,BD29,BF29,BH29) -> 0 | AT29: 4
D30: =SUM(H30,J30,L30,N30,P30,R30,T30) -> 0 | F30: 5 | X30: =SUM(AB30,AD30,AF30,AH30,AJ30,AL30,AN30) -> 0 | Z30: 5 | AR30: =SUM(AV30,AX30,AZ30,BB30,BD30,BF30,BH30) -> 0 | AT30: 5
D31: =SUM(H31,J31,L31,N31,P31,R31,T31) -> 0 | F31: 6 | X31: =SUM(AB31,AD31,AF31,AH31,AJ31,AL31,AN31) -> 0 | Z31: 6 | AR31: =SUM(AV31,AX31,AZ31,BB31,BD31,BF31,BH31) -> 0 | AT31: 6
D32: =SUM(H32,J32,L32,N32,P32,R32,T32) -> 0 | F32: 7 | X32: =SUM(AB32,AD32,AF32,AH32,AJ32,AL32,AN32) -> 0 | Z32: 7 | AR32: =SUM(AV32,AX32,AZ32,BB32,BD32,BF32,BH32) -> 0 | AT32: 7
D33: =SUM(H33,J33,L33,N33,P33,R33,T33) -> 0 | F33: 8 | X33: =SUM(AB33,AD33,AF33,AH33,AJ33,AL33,AN33) -> 0 | Z33: 8 | AR33: =SUM(AV33,AX33,AZ33,BB33,BD33,BF33,BH33) -> 0 | AT33: 8
D34: =SUM(H34,J34,L34,N34,P34,R34,T34) -> 0 | F34: 9 | X34: =SUM(AB34,AD34,AF34,AH34,AJ34,AL34,AN34) -> 0 | Z34: 9 | AR34: =SUM(AV34,AX34,AZ34,BB34,BD34,BF34,BH34) -> 0 | AT34: 9
D35: =SUM(H35,J35,L35,N35,P35,R35,T35) -> 0 | F35: 10 | X35: =SUM(AB35,AD35,AF35,AH35,AJ35,AL35,AN35) -> 0 | Z35: 10 | AR35: =SUM(AV35,AX35,AZ35,BB35,BD35,BF35,BH35) -> 0 | AT35: 10
D36: =SUM(H36,J36,L36,N36,P36,R36,T36) -> 0 | F36: 11 | X36: =SUM(AB36,AD36,AF36,AH36,AJ36,AL36,AN36) -> 0 | Z36: 11 | AR36: =SUM(AV36,AX36,AZ36,BB36,BD36,BF36,BH36) -> 0 | AT36: 11
D37: =SUM(H37,J37,L37,N37,P37,R37,T37) -> 0 | F37: 12 | X37: =SUM(AB37,AD37,AF37,AH37,AJ37,AL37,AN37) -> 0 | Z37: 12 | AR37: =SUM(AV37,AX37,AZ37,BB37,BD37,BF37,BH37) -> 0 | AT37: 12
D38: =SUM(H38,J38,L38,N38,P38,R38,T38) -> 0 | F38: 13 | X38: =SUM(AB38,AD38,AF38,AH38,AJ38,AL38,AN38) -> 0 | Z38: 13 | AR38: =SUM(AV38,AX38,AZ38,BB38,BD38,BF38,BH38) -> 0 | AT38: 13
... D40: =SUM(H40,J40,L40,N40,P40,R40,T40) -> 0 | F40: 15 | X40: =SUM(AB40,AD40,AF40,AH40,AJ40,AL40,AN40) -> 0 | Z40: 15 | AR40: =SUM(AV40,AX40,AZ40,BB40,BD40,BF40,BH40) -> 0 | AT40: 15
G41: TOTAL | H41: =SUM(H26:H40) -> 0 | J41: =SUM(J26:J40) -> 0 | L41: =SUM(L26:L40) -> 0 | N41: =SUM(N26:N40) -> 0 | P41: =SUM(P26:P40) -> 0 | R41: =SUM(R26:R40) -> 0 | T41: =SUM(T26:T40) -> 0 | AA41: TOTAL | AB41: =SUM(AB26:AB40) -> 0 | AD41: =SUM(AD26:AD40) -> 0 | AF41: =SUM(AF26:AF40) -> 0 | AH41: =SUM(AH26:AH40) -> 0 | AJ41: =SUM(AJ26:AJ40) -> 0 | AL41: =SUM(AL26:AL40) -> 0 | AN41: =SUM(AN26:AN40) -> 0 | AU41: TOTAL | AV41: =SUM(AV26:AV40) -> 0 | AX41: =SUM(AX26:AX40) -> 0 | AZ41: =SUM(AZ26:AZ40) -> 0 | BB41: =SUM(BB26:BB40) -> 0 | BD41: =SUM(BD26:BD40) -> 0 | BF41: =SUM(BF26:BF40) -> 0 | BH41: =SUM(BH26:BH40) -> 0
F42: =INT((N43-LOOKUP(N43,DATE(YEAR(N43)+{-1;0;1},1,3)-WEEKDAY(DATE(YEAR(N43)+{-1;0;1},1,3))+2))/7)+1 -> 3 | Z42: =INT((AH43-LOOKUP(AH43,DATE(YEAR(AH43)+{-1;0;1},1,3)-WEEKDAY(DATE(YEAR(AH43)+{-1;0;1},1,3))+2))/7)+1 -> 7 | AT42: =INT((BB43-LOOKUP(BB43,DATE(YEAR(BB43)+{-1;0;1},1,3)-WEEKDAY(DATE(YEAR(BB43)+{-1;0;1},1,3))+2))/7)+1 -> 11 | BO42: =DATE(An_ref,7,1) -> 43647
F43: =F42 -> 3 | G43: =IF(ISNA(VLOOKUP(H43,Tab_feri,2,FALSE)),"",VLOOKUP(H43,Tab_feri,2,FALSE)) | H43: =T25+1 -> 43479 | I43: =IF(ISNA(VLOOKUP(J43,Tab_feri,2,FALSE)),"",VLOOKUP(J43,Tab_feri,2,FALSE)) | J43: =H43+1 -> 43480 | K43: =IF(ISNA(VLOOKUP(L43,Tab_feri,2,FALSE)),"",VLOOKUP(L43,Tab_feri,2,FALSE)) | L43: =J43+1 -> 43481 | M43: =IF(ISNA(VLOOKUP(N43,Tab_feri,2,FALSE)),"",VLOOKUP(N43,Tab_feri,2,FALSE)) | N43: =L43+1 -> 43482 | O43: =IF(ISNA(VLOOKUP(P43,Tab_feri,2,FALSE)),"",VLOOKUP(P43,Tab_feri,2,FALSE)) | P43: =N43+1 -> 43483 | Q43: =IF(ISNA(VLOOKUP(R43,Tab_feri,2,FALSE)),"",VLOOKUP(R43,Tab_feri,2,FALSE)) | R43: =P43+1 -> 43484 | S43: =IF(ISNA(VLOOKUP(T43,Tab_feri,2,FALSE)),"",VLOOKUP(T43,Tab_feri,2,FALSE)) | T43: =R43+1 -> 43485 | Z43: =Z42 -> 7 | AA43: =IF(ISNA(VLOOKUP(AB43,Tab_feri,2,FALSE)),"",VLOOKUP(AB43,Tab_feri,2,FALSE)) | AB43: =AN25+1 -> 43507 | AC43: =IF(ISNA(VLOOKUP(AD43,Tab_feri,2,FALSE)),"",VLOOKUP(AD43,Tab_feri,2,FALSE)) | AD43: =AB43+1 -> 43508 | AE43: =IF(ISNA(VLOOKUP(AF43,Tab_feri,2,FALSE)),"",VLOOKUP(AF43,Tab_feri,2,FALSE)) | AF43: =AD43+1 -> 43509 | AG43: =IF(ISNA(VLOOKUP(AH43,Tab_feri,2,FALSE)),"",VLOOKUP(AH43,Tab_feri,2,FALSE)) | AH43: =AF43+1 -> 43510 | AI43: =IF(ISNA(VLOOKUP(AJ43,Tab_feri,2,FALSE)),"",VLOOKUP(AJ43,Tab_feri,2,FALSE)) | AJ43: =AH43+1 -> 43511 | AK43: =IF(ISNA(VLOOKUP(AL43,Tab_feri,2,FALSE)),"",VLOOKUP(AL43,Tab_feri,2,FALSE)) | AL43: =AJ43+1 -> 43512 | AM43: =IF(ISNA(VLOOKUP(AN43,Tab_feri,2,FALSE)),"",VLOOKUP(AN43,Tab_feri,2,FALSE)) | AN43: =AL43+1 -> 43513 | AT43: =AT42 -> 11 | AU43: =IF(ISNA(VLOOKUP(AV43,Tab_feri,2,FALSE)),"",VLOOKUP(AV43,Tab_feri,2,FALSE)) | AV43: =BH25+1 -> 43535 | AW43: =IF(ISNA(VLOOKUP(AX43,Tab_feri,2,FALSE)),"",VLOOKUP(AX43,Tab_feri,2,FALSE)) | AX43: =AV43+1 -> 43536 | AY43: =IF(ISNA(VLOOKUP(AZ43,Tab_feri,2,FALSE)),"",VLOOKUP(AZ43,Tab_feri,2,FALSE)) | AZ43: =AX43+1 -> 43537 | BA43: =IF(ISNA(VLOOKUP(BB43,Tab_feri,2,FALSE)),"",VLOOKUP(BB43,Tab_feri,2,FALSE)) | BB43: =AZ43+1 -> 43538 | BC43: =IF(ISNA(VLOOKUP(BD43,Tab_feri,2,FALSE)),"",VLOOKUP(BD43,Tab_feri,2,FALSE)) | BD43: =BB43+1 -> 43539 | BE43: =IF(ISNA(VLOOKUP(BF43,Tab_feri,2,FALSE)),"",VLOOKUP(BF43,Tab_feri,2,FALSE)) | BF43: =BD43+1 -> 43540 | BG43: =IF(ISNA(VLOOKUP(BH43,Tab_feri,2,FALSE)),"",VLOOKUP(BH43,Tab_feri,2,FALSE)) | BH43: =BF43+1 -> 43541 | BO43: =DATE(An_ref,9,3) -> 43711
D44: =SUM(H44,J44,L44,N44,P44,R44,T44) -> 0 | F44: 1 | X44: =SUM(AB44,AD44,AF44,AH44,AJ44,AL44,AN44) -> 0 | Z44: 1 | AR44: =SUM(AV44,AX44,AZ44,BB44,BD44,BF44,BH44) -> 0 | AT44: 1 | BO44: =DATE(An_ref,10,8) -> 43746
D45: =SUM(H45,J45,L45,N45,P45,R45,T45) -> 0 | F45: 2 | X45: =SUM(AB45,AD45,AF45,AH45,AJ45,AL45,AN45) -> 0 | Z45: 2 | AR45: =SUM(AV45,AX45,AZ45,BB45,BD45,BF45,BH45) -> 0 | AT45: 2
D46: =SUM(H46,J46,L46,N46,P46,R46,T46) -> 0 | F46: 3 | X46: =SUM(AB46,AD46,AF46,AH46,AJ46,AL46,AN46) -> 0 | Z46: 3 | AR46: =SUM(AV46,AX46,AZ46,BB46,BD46,BF46,BH46) -> 0 | AT46: 3
D47: =SUM(H47,J47,L47,N47,P47,R47,T47) -> 0 | F47: 4 | X47: =SUM(AB47,AD47,AF47,AH47,AJ47,AL47,AN47) -> 0 | Z47: 4 | AR47: =SUM(AV47,AX47,AZ47,BB47,BD47,BF47,BH47) -> 0 | AT47: 4
D48: =SUM(H48,J48,L48,N48,P48,R48,T48) -> 0 | F48: 5 | X48: =SUM(AB48,AD48,AF48,AH48,AJ48,AL48,AN48) -> 0 | Z48: 5 | AR48: =SUM(AV48,AX48,AZ48,BB48,BD48,BF48,BH48) -> 0 | AT48: 5
D49: =SUM(H49,J49,L49,N49,P49,R49,T49) -> 0 | F49: 6 | X49: =SUM(AB49,AD49,AF49,AH49,AJ49,AL49,AN49) -> 0 | Z49: 6 | AR49: =SUM(AV49,AX49,AZ49,BB49,BD49,BF49,BH49) -> 0 | AT49: 6
D50: =SUM(H50,J50,L50,N50,P50,R50,T50) -> 0 | F50: 7 | X50: =SUM(AB50,AD50,AF50,AH50,AJ50,AL50,AN50) -> 0 | Z50: 7 | AR50: =SUM(AV50,AX50,AZ50,BB50,BD50,BF50,BH50) -> 0 | AT50: 7
D51: =SUM(H51,J51,L51,N51,P51,R51,T51) -> 0 | F51: 8 | X51: =SUM(AB51,AD51,AF51,AH51,AJ51,AL51,AN51) -> 0 | Z51: 8 | AR51: =SUM(AV51,AX51,AZ51,BB51,BD51,BF51,BH51) -> 0 | AT51: 8
D52: =SUM(H52,J52,L52,N52,P52,R52,T52) -> 0 | F52: 9 | X52: =SUM(AB52,AD52,AF52,AH52,AJ52,AL52,AN52) -> 0 | Z52: 9 | AR52: =SUM(AV52,AX52,AZ52,BB52,BD52,BF52,BH52) -> 0 | AT52: 9
D53: =SUM(H53,J53,L53,N53,P53,R53,T53) -> 0 | F53: 10 | X53: =SUM(AB53,AD53,AF53,AH53,AJ53,AL53,AN53) -> 0 | Z53: 10 | AR53: =SUM(AV53,AX53,AZ53,BB53,BD53,BF53,BH53) -> 0 | AT53: 10
D54: =SUM(H54,J54,L54,N54,P54,R54,T54) -> 0 | F54: 11 | X54: =SUM(AB54,AD54,AF54,AH54,AJ54,AL54,AN54) -> 0 | Z54: 11 | AR54: =SUM(AV54,AX54,AZ54,BB54,BD54,BF54,BH54) -> 0 | AT54: 11
D55: =SUM(H55,J55,L55,N55,P55,R55,T55) -> 0 | F55: 12 | X55: =SUM(AB55,AD55,AF55,AH55,AJ55,AL55,AN55) -> 0 | Z55: 12 | AR55: =SUM(AV55,AX55,AZ55,BB55,BD55,BF55,BH55) -> 0 | AT55: 12
D56: =SUM(H56,J56,L56,N56,P56,R56,T56) -> 0 | F56: 13 | X56: =SUM(AB56,AD56,AF56,AH56,AJ56,AL56,AN56) -> 0 | Z56: 13 | AR56: =SUM(AV56,AX56,AZ56,BB56,BD56,BF56,BH56) -> 0 | AT56: 13
... D58: =SUM(H58,J58,L58,N58,P58,R58,T58) -> 0 | F58: 15 | X58: =SUM(AB58,AD58,AF58,AH58,AJ58,AL58,AN58) -> 0 | Z58: 15 | AR58: =SUM(AV58,AX58,AZ58,BB58,BD58,BF58,BH58) -> 0 | AT58: 15
G59: TOTAL | H59: =SUM(H44:H58) -> 0 | J59: =SUM(J44:J58) -> 0 | L59: =SUM(L44:L58) -> 0 | N59: =SUM(N44:N58) -> 0 | P59: =SUM(P44:P58) -> 0 | R59: =SUM(R44:R58) -> 0 | T59: =SUM(T44:T58) -> 0 | AA59: TOTAL | AB59: =SUM(AB44:AB58) -> 0 | AD59: =SUM(AD44:AD58) -> 0 | AF59: =SUM(AF44:AF58) -> 0 | AH59: =SUM(AH44:AH58) -> 0 | AJ59: =SUM(AJ44:AJ58) -> 0 | AL59: =SUM(AL44:AL58) -> 0 | AN59: =SUM(AN44:AN58) -> 0 | AU59: TOTAL | AV59: =SUM(AV44:AV58) -> 0 | AX59: =SUM(AX44:AX58) -> 0 | AZ59: =SUM(AZ44:AZ58) -> 0 | BB59: =SUM(BB44:BB58) -> 0 | BD59: =SUM(BD44:BD58) -> 0 | BF59: =SUM(BF44:BF58) -> 0 | BH59: =SUM(BH44:BH58) -> 0
F60: =INT((N61-LOOKUP(N61,DATE(YEAR(N61)+{-1;0;1},1,3)-WEEKDAY(DATE(YEAR(N61)+{-1;0;1},1,3))+2))/7)+1 -> 4 | Z60: =INT((AH61-LOOKUP(AH61,DATE(YEAR(AH61)+{-1;0;1},1,3)-WEEKDAY(DATE(YEAR(AH61)+{-1;0;1},1,3))+2))/7)+1 -> 8 | AT60: =INT((BB61-LOOKUP(BB61,DATE(YEAR(BB61)+{-1;0;1},1,3)-WEEKDAY(DATE(YEAR(BB61)+{-1;0;1},1,3))+2))/7)+1 -> 12 | BO60: =DATE(An_ref,12,23) -> 43822
F61: =F60 -> 4 | G61: =IF(ISNA(VLOOKUP(H61,Tab_feri,2,FALSE)),"",VLOOKUP(H61,Tab_feri,2,FALSE)) | H61: =T43+1 -> 43486 | I61: =IF(ISNA(VLOOKUP(J61,Tab_feri,2,FALSE)),"",VLOOKUP(J61,Tab_feri,2,FALSE)) | J61: =H61+1 -> 43487 | K61: =IF(ISNA(VLOOKUP(L61,Tab_feri,2,FALSE)),"",VLOOKUP(L61,Tab_feri,2,FALSE)) | L61: =J61+1 -> 43488 | M61: =IF(ISNA(VLOOKUP(N61,Tab_feri,2,FALSE)),"",VLOOKUP(N61,Tab_feri,2,FALSE)) | N61: =L61+1 -> 43489 | O61: =IF(ISNA(VLOOKUP(P61,Tab_feri,2,FALSE)),"",VLOOKUP(P61,Tab_feri,2,FALSE)) | P61: =N61+1 -> 43490 | Q61: =IF(ISNA(VLOOKUP(R61,Tab_feri,2,FALSE)),"",VLOOKUP(R61,Tab_feri,2,FALSE)) | R61: =P61+1 -> 43491 | S61: =IF(ISNA(VLOOKUP(T61,Tab_feri,2,FALSE)),"",VLOOKUP(T61,Tab_feri,2,FALSE)) | T61: =R61+1 -> 43492 | Z61: =Z60 -> 8 | AA61: =IF(ISNA(VLOOKUP(AB61,Tab_feri,2,FALSE)),"",VLOOKUP(AB61,Tab_feri,2,FALSE)) | AB61: =AN43+1 -> 43514 | AC61: =IF(ISNA(VLOOKUP(AD61,Tab_feri,2,FALSE)),"",VLOOKUP(AD61,Tab_feri,2,FALSE)) | AD61: =AB61+1 -> 43515 | AE61: =IF(ISNA(VLOOKUP(AF61,Tab_feri,2,FALSE)),"",VLOOKUP(AF61,Tab_feri,2,FALSE)) | AF61: =AD61+1 -> 43516 | AG61: =IF(ISNA(VLOOKUP(AH61,Tab_feri,2,FALSE)),"",VLOOKUP(AH61,Tab_feri,2,FALSE)) | AH61: =AF61+1 -> 43517 | AI61: =IF(ISNA(VLOOKUP(AJ61,Tab_feri,2,FALSE)),"",VLOOKUP(AJ61,Tab_feri,2,FALSE)) | AJ61: =AH61+1 -> 43518 | AK61: =IF(ISNA(VLOOKUP(AL61,Tab_feri,2,FALSE)),"",VLOOKUP(AL61,Tab_feri,2,FALSE)) | AL61: =AJ61+1 -> 43519 | AM61: =IF(ISNA(VLOOKUP(AN61,Tab_feri,2,FALSE)),"",VLOOKUP(AN61,Tab_feri,2,FALSE)) | AN61: =AL61+1 -> 43520 | AT61: =AT60 -> 12 | AU61: =IF(ISNA(VLOOKUP(AV61,Tab_feri,2,FALSE)),"",VLOOKUP(AV61,Tab_feri,2,FALSE)) | AV61: =BH43+1 -> 43542 | AW61: =IF(ISNA(VLOOKUP(AX61,Tab_feri,2,FALSE)),"",VLOOKUP(AX61,Tab_feri,2,FALSE)) | AX61: =AV61+1 -> 43543 | AY61: =IF(ISNA(VLOOKUP(AZ61,Tab_feri,2,FALSE)),"",VLOOKUP(AZ61,Tab_feri,2,FALSE)) | AZ61: =AX61+1 -> 43544 | BA61: =IF(ISNA(VLOOKUP(BB61,Tab_feri,2,FALSE)),"",VLOOKUP(BB61,Tab_feri,2,FALSE)) | BB61: =AZ61+1 -> 43545 | BC61: =IF(ISNA(VLOOKUP(BD61,Tab_feri,2,FALSE)),"",VLOOKUP(BD61,Tab_feri,2,FALSE)) | BD61: =BB61+1 -> 43546 | BE61: =IF(ISNA(VLOOKUP(BF61,Tab_feri,2,FALSE)),"",VLOOKUP(BF61,Tab_feri,2,FALSE)) | BF61: =BD61+1 -> 43547 | BG61: =IF(ISNA(VLOOKUP(BH61,Tab_feri,2,FALSE)),"",VLOOKUP(BH61,Tab_feri,2,FALSE)) | BH61: =BF61+1 -> 43548 | BO61: =DATE(An_ref,12,24) -> 43823
D62: =SUM(H62,J62,L62,N62,P62,R62,T62) -> 0 | F62: 1 | X62: =SUM(AB62,AD62,AF62,AH62,AJ62,AL62,AN62) -> 0 | Z62: 1 | AR62: =SUM(AV62,AX62,AZ62,BB62,BD62,BF62,BH62) -> 0 | AT62: 1 | BO62: =DATE(An_ref,12,25) -> 43824
D63: =SUM(H63,J63,L63,N63,P63,R63,T63) -> 0 | F63: 2 | X63: =SUM(AB63,AD63,AF63,AH63,AJ63,AL63,AN63) -> 0 | Z63: 2 | AR63: =SUM(AV63,AX63,AZ63,BB63,BD63,BF63,BH63) -> 0 | AT63: 2
D64: =SUM(H64,J64,L64,N64,P64,R64,T64) -> 0 | F64: 3 | X64: =SUM(AB64,AD64,AF64,AH64,AJ64,AL64,AN64) -> 0 | Z64: 3 | AR64: =SUM(AV64,AX64,AZ64,BB64,BD64,BF64,BH64) -> 0 | AT64: 3
D65: =SUM(H65,J65,L65,N65,P65,R65,T65) -> 0 | F65: 4 | X65: =SUM(AB65,AD65,AF65,AH65,AJ65,AL65,AN65) -> 0 | Z65: 4 | AR65: =SUM(AV65,AX65,AZ65,BB65,BD65,BF65,BH65) -> 0 | AT65: 4
D66: =SUM(H66,J66,L66,N66,P66,R66,T66) -> 0 | F66: 5 | X66: =SUM(AB66,AD66,AF66,AH66,AJ66,AL66,AN66) -> 0 | Z66: 5 | AR66: =SUM(AV66,AX66,AZ66,BB66,BD66,BF66,BH66) -> 0 | AT66: 5
D67: =SUM(H67,J67,L67,N67,P67,R67,T67) -> 0 | F67: 6 | X67: =SUM(AB67,AD67,AF67,AH67,AJ67,AL67,AN67) -> 0 | Z67: 6 | AR67: =SUM(AV67,AX67,AZ67,BB67,BD67,BF67,BH67) -> 0 | AT67: 6
D68: =SUM(H68,J68,L68,N68,P68,R68,T68) -> 0 | F68: 7 | X68: =SUM(AB68,AD68,AF68,AH68,AJ68,AL68,AN68) -> 0 | Z68: 7 | AR68: =SUM(AV68,AX68,AZ68,BB68,BD68,BF68,BH68) -> 0 | AT68: 7
D69: =SUM(H69,J69,L69,N69,P69,R69,T69) -> 0 | F69: 8 | X69: =SUM(AB69,AD69,AF69,AH69,AJ69,AL69,AN69) -> 0 | Z69: 8 | AR69: =SUM(AV69,AX69,AZ69,BB69,BD69,BF69,BH69) -> 0 | AT69: 8
D70: =SUM(H70,J70,L70,N70,P70,R70,T70) -> 0 | F70: 9 | X70: =SUM(AB70,AD70,AF70,AH70,AJ70,AL70,AN70) -> 0 | Z70: 9 | AR70: =SUM(AV70,AX70,AZ70,BB70,BD70,BF70,BH70) -> 0 | AT70: 9
D71: =SUM(H71,J71,L71,N71,P71,R71,T71) -> 0 | F71: 10 | X71: =SUM(AB71,AD71,AF71,AH71,AJ71,AL71,AN71) -> 0 | Z71: 10 | AR71: =SUM(AV71,AX71,AZ71,BB71,BD71,BF71,BH71) -> 0 | AT71: 10
D72: =SUM(H72,J72,L72,N72,P72,R72,T72) -> 0 | F72: 11 | X72: =SUM(AB72,AD72,AF72,AH72,AJ72,AL72,AN72) -> 0 | Z72: 11 | AR72: =SUM(AV72,AX72,AZ72,BB72,BD72,BF72,BH72) -> 0 | AT72: 11
D73: =SUM(H73,J73,L73,N73,P73,R73,T73) -> 0 | F73: 12 | X73: =SUM(AB73,AD73,AF73,AH73,AJ73,AL73,AN73) -> 0 | Z73: 12 | AR73: =SUM(AV73,AX73,AZ73,BB73,BD73,BF73,BH73) -> 0 | AT73: 12
D74: =SUM(H74,J74,L74,N74,P74,R74,T74) -> 0 | F74: 13 | X74: =SUM(AB74,AD74,AF74,AH74,AJ74,AL74,AN74) -> 0 | Z74: 13 | AR74: =SUM(AV74,AX74,AZ74,BB74,BD74,BF74,BH74) -> 0 | AT74: 13
... D76: =SUM(H76,J76,L76,N76,P76,R76,T76) -> 0 | F76: 15 | X76: =SUM(AB76,AD76,AF76,AH76,AJ76,AL76,AN76) -> 0 | Z76: 15 | AR76: =SUM(AV76,AX76,AZ76,BB76,BD76,BF76,BH76) -> 0 | AT76: 15
G77: TOTAL | H77: =SUM(H62:H76) -> 0 | J77: =SUM(J62:J76) -> 0 | L77: =SUM(L62:L76) -> 0 | N77: =SUM(N62:N76) -> 0 | P77: =SUM(P62:P76) -> 0 | R77: =SUM(R62:R76) -> 0 | T77: =SUM(T62:T76) -> 0 | AA77: TOTAL | AB77: =SUM(AB62:AB76) -> 0 | AD77: =SUM(AD62:AD76) -> 0 | AF77: =SUM(AF62:AF76) -> 0 | AH77: =SUM(AH62:AH76) -> 0 | AJ77: =SUM(AJ62:AJ76) -> 0 | AL77: =SUM(AL62:AL76) -> 0 | AN77: =SUM(AN62:AN76) -> 0 | AU77: TOTAL | AV77: =SUM(AV62:AV76) -> 0 | AX77: =SUM(AX62:AX76) -> 0 | AZ77: =SUM(AZ62:AZ76) -> 0 | BB77: =SUM(BB62:BB76) -> 0 | BD77: =SUM(BD62:BD76) -> 0 | BF77: =SUM(BF62:BF76) -> 0 | BH77: =SUM(BH62:BH76) -> 0
F78: =IF(H79<=EOMONTH(H43,0),INT((N79-LOOKUP(N79,DATE(YEAR(N79)+{-1;0;1},1,3)-WEEKDAY(DATE(YEAR(N79)+{-1;0;1},1,3))+2))/7)+1,"") -> 5 | Z78: =IF(AB79<=EOMONTH(AB43,0),INT((AH79-LOOKUP(AH79,DATE(YEAR(AH79)+{-1;0;1},1,3)-WEEKDAY(DATE(YEAR(AH79)+{-1;0;1},1,3))+2))/7)+1,"") -> 9 | AT78: =IF(AV79<=EOMONTH(AV43,0),INT((BB79-LOOKUP(BB79,DATE(YEAR(BB79)+{-1;0;1},1,3)-WEEKDAY(DATE(YEAR(BB79)+{-1;0;1},1,3))+2))/7)+1,"") -> 13 | BO78: =DATE(An_ref,12,31) -> 43830
F79: =F78 -> 5 | G79: =IF(ISNA(VLOOKUP(H79,Tab_feri,2,FALSE)),"",VLOOKUP(H79,Tab_feri,2,FALSE)) | H79: =IF(T61<EOMONTH(F4,0),T61+1,"") -> 43493 | I79: =IF(ISNA(VLOOKUP(J79,Tab_feri,2,FALSE)),"",VLOOKUP(J79,Tab_feri,2,FALSE)) | J79: =IF(H79<EOMONTH(F4,0),H79+1,"") -> 43494 | K79: =IF(ISNA(VLOOKUP(L79,Tab_feri,2,FALSE)),"",VLOOKUP(L79,Tab_feri,2,FALSE)) | L79: =IF(J79<EOMONTH(F4,0),J79+1,"") -> 43495 | M79: =IF(ISNA(VLOOKUP(N79,Tab_feri,2,FALSE)),"",VLOOKUP(N79,Tab_feri,2,FALSE)) | N79: =IF(L79<EOMONTH(F4,0),L79+1,"") -> 43496 | O79: =IF(ISNA(VLOOKUP(P79,Tab_feri,2,FALSE)),"",VLOOKUP(P79,Tab_feri,2,FALSE)) | P79: =IF(N79<EOMONTH(F4,0),N79+1,"") | Q79: =IF(ISNA(VLOOKUP(R79,Tab_feri,2,FALSE)),"",VLOOKUP(R79,Tab_feri,2,FALSE)) | R79: =IF(P79<EOMONTH(F4,0),P79+1,"") | S79: =IF(ISNA(VLOOKUP(T79,Tab_feri,2,FALSE)),"",VLOOKUP(T79,Tab_feri,2,FALSE)) | T79: =IF(R79<EOMONTH(F4,0),R79+1,"") | Z79: =Z78 -> 9 | AA79: =IF(ISNA(VLOOKUP(AB79,Tab_feri,2,FALSE)),"",VLOOKUP(AB79,Tab_feri,2,FALSE)) | AB79: =IF(AN61<EOMONTH(Z4,0),AN61+1,"") -> 43521 | AC79: =IF(ISNA(VLOOKUP(AD79,Tab_feri,2,FALSE)),"",VLOOKUP(AD79,Tab_feri,2,FALSE)) | AD79: =IF(AB79<EOMONTH(Z4,0),AB79+1,"") -> 43522 | AE79: =IF(ISNA(VLOOKUP(AF79,Tab_feri,2,FALSE)),"",VLOOKUP(AF79,Tab_feri,2,FALSE)) | AF79: =IF(AD79<EOMONTH(Z4,0),AD79+1,"") -> 43523 | AG79: =IF(ISNA(VLOOKUP(AH79,Tab_feri,2,FALSE)),"",VLOOKUP(AH79,Tab_feri,2,FALSE)) | AH79: =IF(AF79<EOMONTH(Z4,0),AF79+1,"") -> 43524 | AI79: =IF(ISNA(VLOOKUP(AJ79,Tab_feri,2,FALSE)),"",VLOOKUP(AJ79,Tab_feri,2,FALSE)) | AJ79: =IF(AH79<EOMONTH(Z4,0),AH79+1,"") | AK79: =IF(ISNA(VLOOKUP(AL79,Tab_feri,2,FALSE)),"",VLOOKUP(AL79,Tab_feri,2,FALSE)) | AL79: =IF(AJ79<EOMONTH(Z4,0),AJ79+1,"") | AM79: =IF(ISNA(VLOOKUP(AN79,Tab_feri,2,FALSE)),"",VLOOKUP(AN79,Tab_feri,2,FALSE)) | AN79: =IF(AL79<EOMONTH(Z4,0),AL79+1,"") | AT79: =AT78 -> 13 | AU79: =IF(ISNA(VLOOKUP(AV79,Tab_feri,2,FALSE)),"",VLOOKUP(AV79,Tab_feri,2,FALSE)) | AV79: =IF(BH61<EOMONTH(AT4,0),BH61+1,"") -> 43549 | AW79: =IF(ISNA(VLOOKUP(AX79,Tab_feri,2,FALSE)),"",VLOOKUP(AX79,Tab_feri,2,FALSE)) | AX79: =IF(AV79<EOMONTH(AT4,0),AV79+1,"") -> 43550 | AY79: =IF(ISNA(VLOOKUP(AZ79,Tab_feri,2,FALSE)),"",VLOOKUP(AZ79,Tab_feri,2,FALSE)) | AZ79: =IF(AX79<EOMONTH(AT4,0),AX79+1,"") -> 43551 | BA79: =IF(ISNA(VLOOKUP(BB79,Tab_feri,2,FALSE)),"",VLOOKUP(BB79,Tab_feri,2,FALSE)) | BB79: =IF(AZ79<EOMONTH(AT4,0),AZ79+1,"") -> 43552 | BC79: =IF(ISNA(VLOOKUP(BD79,Tab_feri,2,FALSE)),"",VLOOKUP(BD79,Tab_feri,2,FALSE)) | BD79: =IF(BB79<EOMONTH(AT4,0),BB79+1,"") -> 43553 | BE79: =IF(ISNA(VLOOKUP(BF79,Tab_feri,2,FALSE)),"",VLOOKUP(BF79,Tab_feri,2,FALSE)) | BF79: =IF(BD79<EOMONTH(AT4,0),BD79+1,"") -> 43554 | BG79: =IF(ISNA(VLOOKUP(BH79,Tab_feri,2,FALSE)),"",VLOOKUP(BH79,Tab_feri,2,FALSE)) | BH79: =IF(BF79<EOMONTH(AT4,0),BF79+1,"") -> 43555
D80: =SUM(H80,J80,L80,N80,P80,R80,T80) -> 0 | F80: 1 | X80: =SUM(AB80,AD80,AF80,AH80,AJ80,AL80,AN80) -> 0 | Z80: 1 | AR80: =SUM(AV80,AX80,AZ80,BB80,BD80,BF80,BH80) -> 0 | AT80: 1
D81: =SUM(H81,J81,L81,N81,P81,R81,T81) -> 0 | F81: 2 | X81: =SUM(AB81,AD81,AF81,AH81,AJ81,AL81,AN81) -> 0 | Z81: 2 | AR81: =SUM(AV81,AX81,AZ81,BB81,BD81,BF81,BH81) -> 0 | AT81: 2
D82: =SUM(H82,J82,L82,N82,P82,R82,T82) -> 0 | F82: 3 | X82: =SUM(AB82,AD82,AF82,AH82,AJ82,AL82,AN82) -> 0 | Z82: 3 | AR82: =SUM(AV82,AX82,AZ82,BB82,BD82,BF82,BH82) -> 0 | AT82: 3
D83: =SUM(H83,J83,L83,N83,P83,R83,T83) -> 0 | F83: 4 | X83: =SUM(AB83,AD83,AF83,AH83,AJ83,AL83,AN83) -> 0 | Z83: 4 | AR83: =SUM(AV83,AX83,AZ83,BB83,BD83,BF83,BH83) -> 0 | AT83: 4
D84: =SUM(H84,J84,L84,N84,P84,R84,T84) -> 0 | F84: 5 | X84: =SUM(AB84,AD84,AF84,AH84,AJ84,AL84,AN84) -> 0 | Z84: 5 | AR84: =SUM(AV84,AX84,AZ84,BB84,BD84,BF84,BH84) -> 0 | AT84: 5
D85: =SUM(H85,J85,L85,N85,P85,R85,T85) -> 0 | F85: 6 | X85: =SUM(AB85,AD85,AF85,AH85,AJ85,AL85,AN85) -> 0 | Z85: 6 | AR85: =SUM(AV85,AX85,AZ85,BB85,BD85,BF85,BH85) -> 0 | AT85: 6
D86: =SUM(H86,J86,L86,N86,P86,R86,T86) -> 0 | F86: 7 | X86: =SUM(AB86,AD86,AF86,AH86,AJ86,AL86,AN86) -> 0 | Z86: 7 | AR86: =SUM(AV86,AX86,AZ86,BB86,BD86,BF86,BH86) -> 0 | AT86: 7
D87: =SUM(H87,J87,L87,N87,P87,R87,T87) -> 0 | F87: 8 | X87: =SUM(AB87,AD87,AF87,AH87,AJ87,AL87,AN87) -> 0 | Z87: 8 | AR87: =SUM(AV87,AX87,AZ87,BB87,BD87,BF87,BH87) -> 0 | AT87: 8
D88: =SUM(H88,J88,L88,N88,P88,R88,T88) -> 0 | F88: 9 | X88: =SUM(AB88,AD88,AF88,AH88,AJ88,AL88,AN88) -> 0 | Z88: 9 | AR88: =SUM(AV88,AX88,AZ88,BB88,BD88,BF88,BH88) -> 0 | AT88: 9
D89: =SUM(H89,J89,L89,N89,P89,R89,T89) -> 0 | F89: 10 | X89: =SUM(AB89,AD89,AF89,AH89,AJ89,AL89,AN89) -> 0 | Z89: 10 | AR89: =SUM(AV89,AX89,AZ89,BB89,BD89,BF89,BH89) -> 0 | AT89: 10
D90: =SUM(H90,J90,L90,N90,P90,R90,T90) -> 0 | F90: 11 | X90: =SUM(AB90,AD90,AF90,AH90,AJ90,AL90,AN90) -> 0 | Z90: 11 | AR90: =SUM(AV90,AX90,AZ90,BB90,BD90,BF90,BH90) -> 0 | AT90: 11
D91: =SUM(H91,J91,L91,N91,P91,R91,T91) -> 0 | F91: 12 | X91: =SUM(AB91,AD91,AF91,AH91,AJ91,AL91,AN91) -> 0 | Z91: 12 | AR91: =SUM(AV91,AX91,AZ91,BB91,BD91,BF91,BH91) -> 0 | AT91: 12
... D94: =SUM(H94,J94,L94,N94,P94,R94,T94) -> 0 | F94: 15 | X94: =SUM(AB94,AD94,AF94,AH94,AJ94,AL94,AN94) -> 0 | Z94: 15 | AR94: =SUM(AV94,AX94,AZ94,BB94,BD94,BF94,BH94) -> 0 | AT94: 15
G95: TOTAL | H95: =SUM(H80:H94) -> 0 | J95: =SUM(J80:J94) -> 0 | L95: =SUM(L80:L94) -> 0 | N95: =SUM(N80:N94) -> 0 | P95: =SUM(P80:P94) -> 0 | R95: =SUM(R80:R94) -> 0 | T95: =SUM(T80:T94) -> 0 | AA95: TOTAL | AB95: =SUM(AB80:AB94) -> 0 | AD95: =SUM(AD80:AD94) -> 0 | AF95: =SUM(AF80:AF94) -> 0 | AH95: =SUM(AH80:AH94) -> 0 | AJ95: =SUM(AJ80:AJ94) -> 0 | AL95: =SUM(AL80:AL94) -> 0 | AN95: =SUM(AN80:AN94) -> 0 | AU95: TOTAL | AV95: =SUM(AV80:AV94) -> 0 | AX95: =SUM(AX80:AX94) -> 0 | AZ95: =SUM(AZ80:AZ94) -> 0 | BB95: =SUM(BB80:BB94) -> 0 | BD95: =SUM(BD80:BD94) -> 0 | BF95: =SUM(BF80:BF94) -> 0 | BH95: =SUM(BH80:BH94) -> 0
F96: =IF(H97<=EOMONTH(H61,0),INT((N97-LOOKUP(N97,DATE(YEAR(N97)+{-1;0;1},1,3)-WEEKDAY(DATE(YEAR(N97)+{-1;0;1},1,3))+2))/7)+1,"") | Z96: =IF(AB97<=EOMONTH(AB61,0),INT((AH97-LOOKUP(AH97,DATE(YEAR(AH97)+{-1;0;1},1,3)-WEEKDAY(DATE(YEAR(AH97)+{-1;0;1},1,3))+2))/7)+1,"") | AT96: =IF(AV97<=EOMONTH(AV61,0),INT((BB97-LOOKUP(BB97,DATE(YEAR(BB97)+{-1;0;1},1,3)-WEEKDAY(DATE(YEAR(BB97)+{-1;0;1},1,3))+2))/7)+1,"")
F97: =F96 | G97: =IF(ISNA(VLOOKUP(H97,Tab_feri,2,FALSE)),"",VLOOKUP(H97,Tab_feri,2,FALSE)) | H97: =IF(T79<EOMONTH(F4,0),T79+1,"") | I97: =IF(ISNA(VLOOKUP(J97,Tab_feri,2,FALSE)),"",VLOOKUP(J97,Tab_feri,2,FALSE)) | J97: =IF(H97<EOMONTH(F4,0),H97+1,"") | K97: =IF(ISNA(VLOOKUP(L97,Tab_feri,2,FALSE)),"",VLOOKUP(L97,Tab_feri,2,FALSE)) | L97: =IF(J97<EOMONTH(F4,0),J97+1,"") | M97: =IF(ISNA(VLOOKUP(N97,Tab_feri,2,FALSE)),"",VLOOKUP(N97,Tab_feri,2,FALSE)) | N97: =IF(L97<EOMONTH(F4,0),L97+1,"") | O97: =IF(ISNA(VLOOKUP(P97,Tab_feri,2,FALSE)),"",VLOOKUP(P97,Tab_feri,2,FALSE)) | P97: =IF(N97<EOMONTH(F4,0),N97+1,"") | Q97: =IF(ISNA(VLOOKUP(R97,Tab_feri,2,FALSE)),"",VLOOKUP(R97,Tab_feri,2,FALSE)) | R97: =IF(P97<EOMONTH(F4,0),P97+1,"") | S97: =IF(ISNA(VLOOKUP(T97,Tab_feri,2,FALSE)),"",VLOOKUP(T97,Tab_feri,2,FALSE)) | T97: =IF(R97<EOMONTH(F4,0),R97+1,"") | Z97: =Z96 | AA97: =IF(ISNA(VLOOKUP(AB97,Tab_feri,2,FALSE)),"",VLOOKUP(AB97,Tab_feri,2,FALSE)) | AB97: =IF(AN79<EOMONTH(Z4,0),AN79+1,"") | AC97: =IF(ISNA(VLOOKUP(AD97,Tab_feri,2,FALSE)),"",VLOOKUP(AD97,Tab_feri,2,FALSE)) | AD97: =IF(AB97<EOMONTH(Z4,0),AB97+1,"") | AE97: =IF(ISNA(VLOOKUP(AF97,Tab_feri,2,FALSE)),"",VLOOKUP(AF97,Tab_feri,2,FALSE)) | AF97: =IF(AD97<EOMONTH(Z4,0),AD97+1,"") | AG97: =IF(ISNA(VLOOKUP(AH97,Tab_feri,2,FALSE)),"",VLOOKUP(AH97,Tab_feri,2,FALSE)) | AH97: =IF(AF97<EOMONTH(Z4,0),AF97+1,"") | AI97: =IF(ISNA(VLOOKUP(AJ97,Tab_feri,2,FALSE)),"",VLOOKUP(AJ97,Tab_feri,2,FALSE)) | AJ97: =IF(AH97<EOMONTH(Z4,0),AH97+1,"") | AK97: =IF(ISNA(VLOOKUP(AL97,Tab_feri,2,FALSE)),"",VLOOKUP(AL97,Tab_feri,2,FALSE)) | AL97: =IF(AJ97<EOMONTH(Z4,0),AJ97+1,"") | AM97: =IF(ISNA(VLOOKUP(AN97,Tab_feri,2,FALSE)),"",VLOOKUP(AN97,Tab_feri,2,FALSE)) | AN97: =IF(AL97<EOMONTH(Z4,0),AL97+1,"") | AT97: =AT96 | AU97: =IF(ISNA(VLOOKUP(AV97,Tab_feri,2,FALSE)),"",VLOOKUP(AV97,Tab_feri,2,FALSE)) | AV97: =IF(BH79<EOMONTH(AT4,0),BH79+1,"") | AW97: =IF(ISNA(VLOOKUP(AX97,Tab_feri,2,FALSE)),"",VLOOKUP(AX97,Tab_feri,2,FALSE)) | AX97: =IF(AV97<EOMONTH(AT4,0),AV97+1,"") | AY97: =IF(ISNA(VLOOKUP(AZ97,Tab_feri,2,FALSE)),"",VLOOKUP(AZ97,Tab_feri,2,FALSE)) | AZ97: =IF(AX97<EOMONTH(AT4,0),AX97+1,"") | BA97: =IF(ISNA(VLOOKUP(BB97,Tab_feri,2,FALSE)),"",VLOOKUP(BB97,Tab_feri,2,FALSE)) | BB97: =IF(AZ97<EOMONTH(AT4,0),AZ97+1,"") | BC97: =IF(ISNA(VLOOKUP(BD97,Tab_feri,2,FALSE)),"",VLOOKUP(BD97,Tab_feri,2,FALSE)) | BD97: =IF(BB97<EOMONTH(AT4,0),BB97+1,"") | BE97: =IF(ISNA(VLOOKUP(BF97,Tab_feri,2,FALSE)),"",VLOOKUP(BF97,Tab_feri,2,FALSE)) | BF97: =IF(BD97<EOMONTH(AT4,0),BD97+1,"") | BG97: =IF(ISNA(VLOOKUP(BH97,Tab_feri,2,FALSE)),"",VLOOKUP(BH97,Tab_feri,2,FALSE)) | BH97: =IF(BF97<EOMONTH(AT4,0),BF97+1,"")
D98: =SUM(H98,J98,L98,N98,P98,R98,T98) -> 0 | F98: 1 | X98: =SUM(AB98,AD98,AF98,AH98,AJ98,AL98,AN98) -> 0 | Z98: 1 | AR98: =SUM(AV98,AX98,AZ98,BB98,BD98,BF98,BH98) -> 0 | AT98: 1
D99: =SUM(H99,J99,L99,N99,P99,R99,T99) -> 0 | F99: 2 | X99: =SUM(AB99,AD99,AF99,AH99,AJ99,AL99,AN99) -> 0 | Z99: 2 | AR99: =SUM(AV99,AX99,AZ99,BB99,BD99,BF99,BH99) -> 0 | AT99: 2
D100: =SUM(H100,J100,L100,N100,P100,R100,T100) -> 0 | F100: 3 | X100: =SUM(AB100,AD100,AF100,AH100,AJ100,AL100,AN100) -> 0 | Z100: 3 | AR100: =SUM(AV100,AX100,AZ100,BB100,BD100,BF100,BH100) -> 0 | AT100: 3
D101: =SUM(H101,J101,L101,N101,P101,R101,T101) -> 0 | F101: 4 | X101: =SUM(AB101,AD101,AF101,AH101,AJ101,AL101,AN101) -> 0 | Z101: 4 | AR101: =SUM(AV101,AX101,AZ101,BB101,BD101,BF101,BH101) -> 0 | AT101: 4
D102: =SUM(H102,J102,L102,N102,P102,R102,T102) -> 0 | F102: 5 | X102: =SUM(AB102,AD102,AF102,AH102,AJ102,AL102,AN102) -> 0 | Z102: 5 | AR102: =SUM(AV102,AX102,AZ102,BB102,BD102,BF102,BH102) -> 0 | AT102: 5
D103: =SUM(H103,J103,L103,N103,P103,R103,T103) -> 0 | F103: 6 | X103: =SUM(AB103,AD103,AF103,AH103,AJ103,AL103,AN103) -> 0 | Z103: 6 | AR103: =SUM(AV103,AX103,AZ103,BB103,BD103,BF103,BH103) -> 0 | AT103: 6
D104: =SUM(H104,J104,L104,N104,P104,R104,T104) -> 0 | F104: 7 | X104: =SUM(AB104,AD104,AF104,AH104,AJ104,AL104,AN104) -> 0 | Z104: 7 | AR104: =SUM(AV104,AX104,AZ104,BB104,BD104,BF104,BH104) -> 0 | AT104: 7
D105: =SUM(H105,J105,L105,N105,P105,R105,T105) -> 0 | F105: 8 | X105: =SUM(AB105,AD105,AF105,AH105,AJ105,AL105,AN105) -> 0 | Z105: 8 | AR105: =SUM(AV105,AX105,AZ105,BB105,BD105,BF105,BH105) -> 0 | AT105: 8
D106: =SUM(H106,J106,L106,N106,P106,R106,T106) -> 0 | F106: 9 | X106: =SUM(AB106,AD106,AF106,AH106,AJ106,AL106,AN106) -> 0 | Z106: 9 | AR106: =SUM(AV106,AX106,AZ106,BB106,BD106,BF106,BH106) -> 0 | AT106: 9
D107: =SUM(H107,J107,L107,N107,P107,R107,T107) -> 0 | F107: 10 | X107: =SUM(AB107,AD107,AF107,AH107,AJ107,AL107,AN107) -> 0 | Z107: 10 | AR107: =SUM(AV107,AX107,AZ107,BB107,BD107,BF107,BH107) -> 0 | AT107: 10
D108: =SUM(H108,J108,L108,N108,P108,R108,T108) -> 0 | F108: 11 | X108: =SUM(AB108,AD108,AF108,AH108,AJ108,AL108,AN108) -> 0 | Z108: 11 | AR108: =SUM(AV108,AX108,AZ108,BB108,BD108,BF108,BH108) -> 0 | AT108: 11
...

Sheet VIERGE (2)
G2: 2019 | I2: TOTAL pers | K2: =SUM(M4,AG4,BA4,BA116,AG116,M116,M227,AG227,BA227,BA338,AG338,M338) -> 0 | L2: par 9h | M2: =K2/16 -> 0
F4: =EDATE(DATE(An_ref,1,1),0) -> 43466 | M4: =SUM(B8:B22) -> 0 | Z4: =EDATE(DATE(An_ref,1,1),1) -> 43497 | AG4: =SUM(V8:V22) -> 0 | AT4: =EDATE(DATE(An_ref,1,1),2) -> 43525 | BA4: =SUM(AP8:AP22) -> 0 | BN4: Fériés | BO4: Date | BP4: =OR(H7=BO5,H7=BO6,H7=BO7,H7=BO24,H7=BO25,H7=BO26,H7=BO42,H7=BO43,H7=BO44,H7=BO60,H7=BO61,H7=BO62,H7=BO78) -> FALSE
B5: TOTAL | G5: =UPPER(TEXT(H25,"jjjj")) -> LUNDI | I5: =UPPER(TEXT(J25,"jjjj")) -> MARDI | K5: =UPPER(TEXT(L25,"jjjj")) -> MERCREDI | M5: =UPPER(TEXT(N25,"jjjj")) -> JEUDI | O5: =UPPER(TEXT(P25,"jjjj")) -> VENDREDI | Q5: =UPPER(TEXT(R25,"jjjj")) -> SAMEDI | S5: =UPPER(TEXT(T25,"jjjj")) -> DIMANCHE | V5: TOTAL | AA5: =UPPER(TEXT(AB25,"jjjj")) -> LUNDI | AC5: =UPPER(TEXT(AD25,"jjjj")) -> MARDI | AE5: =UPPER(TEXT(AF25,"jjjj")) -> MERCREDI | AG5: =UPPER(TEXT(AH25,"jjjj")) -> JEUDI | AI5: =UPPER(TEXT(AJ25,"jjjj")) -> VENDREDI | AK5: =UPPER(TEXT(AL25,"jjjj")) -> SAMEDI | AM5: =UPPER(TEXT(AN25,"jjjj")) -> DIMANCHE | AP5: TOTAL | AU5: =UPPER(TEXT(AV25,"jjjj")) -> LUNDI | AW5: =UPPER(TEXT(AX25,"jjjj")) -> MARDI | AY5: =UPPER(TEXT(AZ25,"jjjj")) -> MERCREDI | BA5: =UPPER(TEXT(BB25,"jjjj")) -> JEUDI | BC5: =UPPER(TEXT(BD25,"jjjj")) -> VENDREDI | BE5: =UPPER(TEXT(BF25,"jjjj")) -> SAMEDI | BG5: =UPPER(TEXT(BH25,"jjjj")) -> DIMANCHE | BO5: =DATE(An_ref,1,1) -> 43466
F6: =INT((N7-LOOKUP(N7,DATE(YEAR(N7)+{-1;0;1},1,3)-WEEKDAY(DATE(YEAR(N7)+{-1;0;1},1,3))+2))/7)+1 -> 1 | Z6: =INT((AH7-LOOKUP(AH7,DATE(YEAR(AH7)+{-1;0;1},1,3)-WEEKDAY(DATE(YEAR(AH7)+{-1;0;1},1,3))+2))/7)+1 -> #VALUE! | AT6: =INT((BB7-LOOKUP(BB7,DATE(YEAR(BB7)+{-1;0;1},1,3)-WEEKDAY(DATE(YEAR(BB7)+{-1;0;1},1,3))+2))/7)+1 -> #VALUE! | BO6: =DATE(An_ref,1,2) -> 43467
B7: mois | D7: sem | F7: =F6 -> 1 | G7: =IF(ISNA(VLOOKUP(H7,Tab_feri,2,FALSE)),"",VLOOKUP(H7,Tab_feri,2,FALSE)) | H7: =IF(WEEKDAY(F4)=2,F4,"") | I7: =IF(ISNA(VLOOKUP(J7,Tab_feri,2,FALSE)),"",VLOOKUP(J7,Tab_feri,2,FALSE)) | J7: =IF(H7<>"",H7+1,IF(WEEKDAY(F4)=3,F4,"")) -> 43466 | K7: =IF(ISNA(VLOOKUP(L7,Tab_feri,2,FALSE)),"",VLOOKUP(L7,Tab_feri,2,FALSE)) | L7: =IF(J7<>"",J7+1,IF(WEEKDAY(F4)=4,F4,"")) -> 43467 | M7: =IF(ISNA(VLOOKUP(N7,Tab_feri,2,FALSE)),"",VLOOKUP(N7,Tab_feri,2,FALSE)) | N7: =IF(L7<>"",L7+1,IF(WEEKDAY(F4)=5,F4,"")) -> 43468 | O7: =IF(ISNA(VLOOKUP(P7,Tab_feri,2,FALSE)),"",VLOOKUP(P7,Tab_feri,2,FALSE)) | P7: =IF(N7<>"",N7+1,IF(WEEKDAY(F4)=6,F4,"")) -> 43469 | Q7: =IF(ISNA(VLOOKUP(R7,Tab_feri,2,FALSE)),"",VLOOKUP(R7,Tab_feri,2,FALSE)) | R7: =IF(P7<>"",P7+1,IF(WEEKDAY(F4)=7,F4,"")) -> 43470 | S7: =IF(ISNA(VLOOKUP(T7,Tab_feri,2,FALSE)),"",VLOOKUP(T7,Tab_feri,2,FALSE)) | T7: =IF(R7<>"",R7+1,IF(WEEKDAY(F4)=1,F4,"")) -> 43471 | V7: mois | X7: sem | Z7: =Z6 -> #VALUE! | AA7: =IF(ISNA(VLOOKUP(AB7,Tab_feri,2,FALSE)),"",VLOOKUP(AB7,Tab_feri,2,FALSE)) | AB7: =IF(WEEKDAY(Z4)=2,Z4,"") | AC7: =IF(ISNA(VLOOKUP(AD7,Tab_feri,2,FALSE)),"",VLOOKUP(AD7,Tab_feri,2,FALSE)) | AD7: =IF(AB7<>"",AB7+1,IF(WEEKDAY(Z4)=3,Z4,"")) | AE7: =IF(ISNA(VLOOKUP(AF7,Tab_feri,2,FALSE)),"",VLOOKUP(AF7,Tab_feri,2,FALSE)) | AF7: =IF(AD7<>"",AD7+1,IF(WEEKDAY(Z4)=4,Z4,"")) | AG7: =IF(ISNA(VLOOKUP(AH7,Tab_feri,2,FALSE)),"",VLOOKUP(AH7,Tab_feri,2,FALSE)) | AH7: =IF(AF7<>"",AF7+1,IF(WEEKDAY(Z4)=5,Z4,"")) | AI7: =IF(ISNA(VLOOKUP(AJ7,Tab_feri,2,FALSE)),"",VLOOKUP(AJ7,Tab_feri,2,FALSE)) | AJ7: =IF(AH7<>"",AH7+1,IF(WEEKDAY(Z4)=6,Z4,"")) -> 43497 | AK7: =IF(ISNA(VLOOKUP(AL7,Tab_feri,2,FALSE)),"",VLOOKUP(AL7,Tab_feri,2,FALSE)) | AL7: =IF(AJ7<>"",AJ7+1,IF(WEEKDAY(Z4)=7,Z4,"")) -> 43498 | AM7: =IF(ISNA(VLOOKUP(AN7,Tab_feri,2,FALSE)),"",VLOOKUP(AN7,Tab_feri,2,FALSE)) | AN7: =IF(AL7<>"",AL7+1,IF(WEEKDAY(Z4)=1,Z4,"")) -> 43499 | AP7: mois | AR7: sem | AT7: =AT6 -> #VALUE! | AU7: =IF(ISNA(VLOOKUP(AV7,Tab_feri,2,FALSE)),"",VLOOKUP(AV7,Tab_feri,2,FALSE)) | AV7: =IF(WEEKDAY(AT4)=2,AT4,"") | AW7: =IF(ISNA(VLOOKUP(AX7,Tab_feri,2,FALSE)),"",VLOOKUP(AX7,Tab_feri,2,FALSE)) | AX7: =IF(AV7<>"",AV7+1,IF(WEEKDAY(AT4)=3,AT4,"")) | AY7: =IF(ISNA(VLOOKUP(AZ7,Tab_feri,2,FALSE)),"",VLOOKUP(AZ7,Tab_feri,2,FALSE)) | AZ7: =IF(AX7<>"",AX7+1,IF(WEEKDAY(AT4)=4,AT4,"")) | BA7: =IF(ISNA(VLOOKUP(BB7,Tab_feri,2,FALSE)),"",VLOOKUP(BB7,Tab_feri,2,FALSE)) | BB7: =IF(AZ7<>"",AZ7+1,IF(WEEKDAY(AT4)=5,AT4,"")) | BC7: =IF(ISNA(VLOOKUP(BD7,Tab_feri,2,FALSE)),"",VLOOKUP(BD7,Tab_feri,2,FALSE)) | BD7: =IF(BB7<>"",BB7+1,IF(WEEKDAY(AT4)=6,AT4,"")) -> 43525 | BE7: =IF(ISNA(VLOOKUP(BF7,Tab_feri,2,FALSE)),"",VLOOKUP(BF7,Tab_feri,2,FALSE)) | BF7: =IF(BD7<>"",BD7+1,IF(WEEKDAY(AT4)=7,AT4,"")) -> 43526 | BG7: =IF(ISNA(VLOOKUP(BH7,Tab_feri,2,FALSE)),"",VLOOKUP(BH7,Tab_feri,2,FALSE)) | BH7: =IF(BF7<>"",BF7+1,IF(WEEKDAY(AT4)=1,AT4,"")) -> 43527 | BO7: =BO8-2 -> 43574
B8: =SUM(D8,D26,D44,D62,D80,D98) -> 0 | D8: =SUM(H8,J8,L8,N8,P8,R8,T8) -> 0 | F8: 1 | V8: =SUM(X8,X26,X44,X62,X80,X98) -> 0 | X8: =SUM(AB8,AD8,AF8,AH8,AJ8,AL8,AN8) -> 0 | Z8: 1 | AP8: =SUM(AR8,AR26,AR44,AR62,AR80,AR98) -> 0 | AR8: =SUM(AV8,AX8,AZ8,BB8,BD8,BF8,BH8) -> 0 | AT8: 1 | BO8: =ROUND(DATE(An_ref,4,MOD(234-11*MOD(An_ref,19),30))/7,)*7-6 -> 43576
B9: =SUM(D9,D27,D45,D63,D81,D99) -> 0 | D9: =SUM(H9,J9,L9,N9,P9,R9,T9) -> 0 | F9: 2 | V9: =SUM(X9,X27,X45,X63,X81,X99) -> 0 | X9: =SUM(AB9,AD9,AF9,AH9,AJ9,AL9,AN9) -> 0 | Z9: 2 | AP9: =SUM(AR9,AR27,AR45,AR63,AR81,AR99) -> 0 | AR9: =SUM(AV9,AX9,AZ9,BB9,BD9,BF9,BH9) -> 0 | AT9: 2
B10: =SUM(D10,D28,D46,D64,D82,D100) -> 0 | D10: =SUM(H10,J10,L10,N10,P10,R10,T10) -> 0 | F10: 3 | V10: =SUM(X10,X28,X46,X64,X82,X100) -> 0 | X10: =SUM(AB10,AD10,AF10,AH10,AJ10,AL10,AN10) -> 0 | Z10: 3 | AP10: =SUM(AR10,AR28,AR46,AR64,AR82,AR100) -> 0 | AR10: =SUM(AV10,AX10,AZ10,BB10,BD10,BF10,BH10) -> 0 | AT10: 3
B11: =SUM(D11,D29,D47,D65,D83,D101) -> 0 | D11: =SUM(H11,J11,L11,N11,P11,R11,T11) -> 0 | F11: 4 | V11: =SUM(X11,X29,X47,X65,X83,X101) -> 0 | X11: =SUM(AB11,AD11,AF11,AH11,AJ11,AL11,AN11) -> 0 | Z11: 4 | AP11: =SUM(AR11,AR29,AR47,AR65,AR83,AR101) -> 0 | AR11: =SUM(AV11,AX11,AZ11,BB11,BD11,BF11,BH11) -> 0 | AT11: 4
B12: =SUM(D12,D30,D48,D66,D84,D102) -> 0 | D12: =SUM(H12,J12,L12,N12,P12,R12,T12) -> 0 | F12: 5 | V12: =SUM(X12,X30,X48,X66,X84,X102) -> 0 | X12: =SUM(AB12,AD12,AF12,AH12,AJ12,AL12,AN12) -> 0 | Z12: 5 | AP12: =SUM(AR12,AR30,AR48,AR66,AR84,AR102) -> 0 | AR12: =SUM(AV12,AX12,AZ12,BB12,BD12,BF12,BH12) -> 0 | AT12: 5
B13: =SUM(D13,D31,D49,D67,D85,D103) -> 0 | D13: =SUM(H13,J13,L13,N13,P13,R13,T13) -> 0 | F13: 6 | V13: =SUM(X13,X31,X49,X67,X85,X103) -> 0 | X13: =SUM(AB13,AD13,AF13,AH13,AJ13,AL13,AN13) -> 0 | Z13: 6 | AP13: =SUM(AR13,AR31,AR49,AR67,AR85,AR103) -> 0 | AR13: =SUM(AV13,AX13,AZ13,BB13,BD13,BF13,BH13) -> 0 | AT13: 6
B14: =SUM(D14,D32,D50,D68,D86,D104) -> 0 | D14: =SUM(H14,J14,L14,N14,P14,R14,T14) -> 0 | F14: 7 | V14: =SUM(X14,X32,X50,X68,X86,X104) -> 0 | X14: =SUM(AB14,AD14,AF14,AH14,AJ14,AL14,AN14) -> 0 | Z14: 7 | AP14: =SUM(AR14,AR32,AR50,AR68,AR86,AR104) -> 0 | AR14: =SUM(AV14,AX14,AZ14,BB14,BD14,BF14,BH14) -> 0 | AT14: 7
B15: =SUM(D15,D33,D51,D69,D87,D105) -> 0 | D15: =SUM(H15,J15,L15,N15,P15,R15,T15) -> 0 | F15: 8 | V15: =SUM(X15,X33,X51,X69,X87,X105) -> 0 | X15: =SUM(AB15,AD15,AF15,AH15,AJ15,AL15,AN15) -> 0 | Z15: 8 | AP15: =SUM(AR15,AR33,AR51,AR69,AR87,AR105) -> 0 | AR15: =SUM(AV15,AX15,AZ15,BB15,BD15,BF15,BH15) -> 0 | AT15: 8
B16: =SUM(D16,D34,D52,D70,D88,D106) -> 0 | D16: =SUM(H16,J16,L16,N16,P16,R16,T16) -> 0 | F16: 9 | V16: =SUM(X16,X34,X52,X70,X88,X106) -> 0 | X16: =SUM(AB16,AD16,AF16,AH16,AJ16,AL16,AN16) -> 0 | Z16: 9 | AP16: =SUM(AR16,AR34,AR52,AR70,AR88,AR106) -> 0 | AR16: =SUM(AV16,AX16,AZ16,BB16,BD16,BF16,BH16) -> 0 | AT16: 9
B17: =SUM(D17,D35,D53,D71,D89,D107) -> 0 | D17: =SUM(H17,J17,L17,N17,P17,R17,T17) -> 0 | F17: 10 | V17: =SUM(X17,X35,X53,X71,X89,X107) -> 0 | X17: =SUM(AB17,AD17,AF17,AH17,AJ17,AL17,AN17) -> 0 | Z17: 10 | AP17: =SUM(AR17,AR35,AR53,AR71,AR89,AR107) -> 0 | AR17: =SUM(AV17,AX17,AZ17,BB17,BD17,BF17,BH17) -> 0 | AT17: 10
B18: =SUM(D18,D36,D54,D72,D90,D108) -> 0 | D18: =SUM(H18,J18,L18,N18,P18,R18,T18) -> 0 | F18: 11 | V18: =SUM(X18,X36,X54,X72,X90,X108) -> 0 | X18: =SUM(AB18,AD18,AF18,AH18,AJ18,AL18,AN18) -> 0 | Z18: 11 | AP18: =SUM(AR18,AR36,AR54,AR72,AR90,AR108) -> 0 | AR18: =SUM(AV18,AX18,AZ18,BB18,BD18,BF18,BH18) -> 0 | AT18: 11
B19: =SUM(D19,D37,D55,D73,D91,D109) -> 0 | D19: =SUM(H19,J19,L19,N19,P19,R19,T19) -> 0 | F19: 12 | V19: =SUM(X19,X37,X55,X73,X91,X109) -> 0 | X19: =SUM(AB19,AD19,AF19,AH19,AJ19,AL19,AN19) -> 0 | Z19: 12 | AP19: =SUM(AR19,AR37,AR55,AR73,AR91,AR109) -> 0 | AR19: =SUM(AV19,AX19,AZ19,BB19,BD19,BF19,BH19) -> 0 | AT19: 12
B20: =SUM(D20,D38,D56,D74,D92,D110) -> 0 | D20: =SUM(H20,J20,L20,N20,P20,R20,T20) -> 0 | F20: 13 | V20: =SUM(X20,X38,X56,X74,X92,X110) -> 0 | X20: =SUM(AB20,AD20,AF20,AH20,AJ20,AL20,AN20) -> 0 | Z20: 13 | AP20: =SUM(AR20,AR38,AR56,AR74,AR92,AR110) -> 0 | AR20: =SUM(AV20,AX20,AZ20,BB20,BD20,BF20,BH20) -> 0 | AT20: 13
... B22: =SUM(D22,D40,D58,D76,D94,D112) -> 0 | D22: =SUM(H22,J22,L22,N22,P22,R22,T22) -> 0 | F22: 15 | V22: =SUM(X22,X40,X58,X76,X94,X112) -> 0 | X22: =SUM(AB22,AD22,AF22,AH22,AJ22,AL22,AN22) -> 0 | Z22: 15 | AP22: =SUM(AR22,AR40,AR58,AR76,AR94,AR112) -> 0 | AR22: =SUM(AV22,AX22,AZ22,BB22,BD22,BF22,BH22) -> 0 | AT22: 15
G23: TOTAL | H23: =SUM(H8:H22) -> 0 | J23: =SUM(J8:J22) -> 0 | L23: =SUM(L8:L22) -> 0 | N23: =SUM(N8:N22) -> 0 | P23: =SUM(P8:P22) -> 0 | R23: =SUM(R8:R22) -> 0 | T23: =SUM(T8:T22) -> 0 | AA23: TOTAL | AB23: =SUM(AB8:AB22) -> 0 | AD23: =SUM(AD8:AD22) -> 0 | AF23: =SUM(AF8:AF22) -> 0 | AH23: =SUM(AH8:AH22) -> 0 | AJ23: =SUM(AJ8:AJ22) -> 0 | AL23: =SUM(AL8:AL22) -> 0 | AN23: =SUM(AN8:AN22) -> 0 | AU23: TOTAL | AV23: =SUM(AV8:AV22) -> 0 | AX23: =SUM(AX8:AX22) -> 0 | AZ23: =SUM(AZ8:AZ22) -> 0 | BB23: =SUM(BB8:BB22) -> 0 | BD23: =SUM(BD8:BD22) -> 0 | BF23: =SUM(BF8:BF22) -> 0 | BH23: =SUM(BH8:BH22) -> 0
F24: =INT((N25-LOOKUP(N25,DATE(YEAR(N25)+{-1;0;1},1,3)-WEEKDAY(DATE(YEAR(N25)+{-1;0;1},1,3))+2))/7)+1 -> 2 | Z24: =INT((AH25-LOOKUP(AH25,DATE(YEAR(AH25)+{-1;0;1},1,3)-WEEKDAY(DATE(YEAR(AH25)+{-1;0;1},1,3))+2))/7)+1 -> 6 | AT24: =INT((BB25-LOOKUP(BB25,DATE(YEAR(BB25)+{-1;0;1},1,3)-WEEKDAY(DATE(YEAR(BB25)+{-1;0;1},1,3))+2))/7)+1 -> 10 | BO24: =BO8+1 -> 43577
F25: =F24 -> 2 | G25: =IF(ISNA(VLOOKUP(H25,Tab_feri,2,FALSE)),"",VLOOKUP(H25,Tab_feri,2,FALSE)) | H25: =T7+1 -> 43472 | I25: =IF(ISNA(VLOOKUP(J25,Tab_feri,2,FALSE)),"",VLOOKUP(J25,Tab_feri,2,FALSE)) | J25: =H25+1 -> 43473 | K25: =IF(ISNA(VLOOKUP(L25,Tab_feri,2,FALSE)),"",VLOOKUP(L25,Tab_feri,2,FALSE)) | L25: =J25+1 -> 43474 | M25: =IF(ISNA(VLOOKUP(N25,Tab_feri,2,FALSE)),"",VLOOKUP(N25,Tab_feri,2,FALSE)) | N25: =L25+1 -> 43475 | O25: =IF(ISNA(VLOOKUP(P25,Tab_feri,2,FALSE)),"",VLOOKUP(P25,Tab_feri,2,FALSE)) | P25: =N25+1 -> 43476 | Q25: =IF(ISNA(VLOOKUP(R25,Tab_feri,2,FALSE)),"",VLOOKUP(R25,Tab_feri,2,FALSE)) | R25: =P25+1 -> 43477 | S25: =IF(ISNA(VLOOKUP(T25,Tab_feri,2,FALSE)),"",VLOOKUP(T25,Tab_feri,2,FALSE)) | T25: =R25+1 -> 43478 | Z25: =Z24 -> 6 | AA25: =IF(ISNA(VLOOKUP(AB25,Tab_feri,2,FALSE)),"",VLOOKUP(AB25,Tab_feri,2,FALSE)) | AB25: =AN7+1 -> 43500 | AC25: =IF(ISNA(VLOOKUP(AD25,Tab_feri,2,FALSE)),"",VLOOKUP(AD25,Tab_feri,2,FALSE)) | AD25: =AB25+1 -> 43501 | AE25: =IF(ISNA(VLOOKUP(AF25,Tab_feri,2,FALSE)),"",VLOOKUP(AF25,Tab_feri,2,FALSE)) | AF25: =AD25+1 -> 43502 | AG25: =IF(ISNA(VLOOKUP(AH25,Tab_feri,2,FALSE)),"",VLOOKUP(AH25,Tab_feri,2,FALSE)) | AH25: =AF25+1 -> 43503 | AI25: =IF(ISNA(VLOOKUP(AJ25,Tab_feri,2,FALSE)),"",VLOOKUP(AJ25,Tab_feri,2,FALSE)) | AJ25: =AH25+1 -> 43504 | AK25: =IF(ISNA(VLOOKUP(AL25,Tab_feri,2,FALSE)),"",VLOOKUP(AL25,Tab_feri,2,FALSE)) | AL25: =AJ25+1 -> 43505 | AM25: =IF(ISNA(VLOOKUP(AN25,Tab_feri,2,FALSE)),"",VLOOKUP(AN25,Tab_feri,2,FALSE)) | AN25: =AL25+1 -> 43506 | AT25: =AT24 -> 10 | AU25: =IF(ISNA(VLOOKUP(AV25,Tab_feri,2,FALSE)),"",VLOOKUP(AV25,Tab_feri,2,FALSE)) | AV25: =BH7+1 -> 43528 | AW25: =IF(ISNA(VLOOKUP(AX25,Tab_feri,2,FALSE)),"",VLOOKUP(AX25,Tab_feri,2,FALSE)) | AX25: =AV25+1 -> 43529 | AY25: =IF(ISNA(VLOOKUP(AZ25,Tab_feri,2,FALSE)),"",VLOOKUP(AZ25,Tab_feri,2,FALSE)) | AZ25: =AX25+1 -> 43530 | BA25: =IF(ISNA(VLOOKUP(BB25,Tab_feri,2,FALSE)),"",VLOOKUP(BB25,Tab_feri,2,FALSE)) | BB25: =AZ25+1 -> 43531 | BC25: =IF(ISNA(VLOOKUP(BD25,Tab_feri,2,FALSE)),"",VLOOKUP(BD25,Tab_feri,2,FALSE)) | BD25: =BB25+1 -> 43532 | BE25: =IF(ISNA(VLOOKUP(BF25,Tab_feri,2,FALSE)),"",VLOOKUP(BF25,Tab_feri,2,FALSE)) | BF25: =BD25+1 -> 43533 | BG25: =IF(ISNA(VLOOKUP(BH25,Tab_feri,2,FALSE)),"",VLOOKUP(BH25,Tab_feri,2,FALSE)) | BH25: =BF25+1 -> 43534 | BO25: =DATE(An_ref,5,21) -> 43606
D26: =SUM(H26,J26,L26,N26,P26,R26,T26) -> 0 | F26: 1 | X26: =SUM(AB26,AD26,AF26,AH26,AJ26,AL26,AN26) -> 0 | Z26: 1 | AR26: =SUM(AV26,AX26,AZ26,BB26,BD26,BF26,BH26) -> 0 | AT26: 1 | BO26: =DATE(An_ref,6,24) -> 43640
D27: =SUM(H27,J27,L27,N27,P27,R27,T27) -> 0 | F27: 2 | X27: =SUM(AB27,AD27,AF27,AH27,AJ27,AL27,AN27) -> 0 | Z27: 2 | AR27: =SUM(AV27,AX27,AZ27,BB27,BD27,BF27,BH27) -> 0 | AT27: 2
D28: =SUM(H28,J28,L28,N28,P28,R28,T28) -> 0 | F28: 3 | X28: =SUM(AB28,AD28,AF28,AH28,AJ28,AL28,AN28) -> 0 | Z28: 3 | AR28: =SUM(AV28,AX28,AZ28,BB28,BD28,BF28,BH28) -> 0 | AT28: 3
D29: =SUM(H29,J29,L29,N29,P29,R29,T29) -> 0 | F29: 4 | X29: =SUM(AB29,AD29,AF29,AH29,AJ29,AL29,AN29) -> 0 | Z29: 4 | AR29: =SUM(AV29,AX29,AZ29,BB29,BD29,BF29,BH29) -> 0 | AT29: 4
D30: =SUM(H30,J30,L30,N30,P30,R30,T30) -> 0 | F30: 5 | X30: =SUM(AB30,AD30,AF30,AH30,AJ30,AL30,AN30) -> 0 | Z30: 5 | AR30: =SUM(AV30,AX30,AZ30,BB30,BD30,BF30,BH30) -> 0 | AT30: 5
D31: =SUM(H31,J31,L31,N31,P31,R31,T31) -> 0 | F31: 6 | X31: =SUM(AB31,AD31,AF31,AH31,AJ31,AL31,AN31) -> 0 | Z31: 6 | AR31: =SUM(AV31,AX31,AZ31,BB31,BD31,BF31,BH31) -> 0 | AT31: 6
D32: =SUM(H32,J32,L32,N32,P32,R32,T32) -> 0 | F32: 7 | X32: =SUM(AB32,AD32,AF32,AH32,AJ32,AL32,AN32) -> 0 | Z32: 7 | AR32: =SUM(AV32,AX32,AZ32,BB32,BD32,BF32,BH32) -> 0 | AT32: 7
D33: =SUM(H33,J33,L33,N33,P33,R33,T33) -> 0 | F33: 8 | X33: =SUM(AB33,AD33,AF33,AH33,AJ33,AL33,AN33) -> 0 | Z33: 8 | AR33: =SUM(AV33,AX33,AZ33,BB33,BD33,BF33,BH33) -> 0 | AT33: 8
D34: =SUM(H34,J34,L34,N34,P34,R34,T34) -> 0 | F34: 9 | X34: =SUM(AB34,AD34,AF34,AH34,AJ34,AL34,AN34) -> 0 | Z34: 9 | AR34: =SUM(AV34,AX34,AZ34,BB34,BD34,BF34,BH34) -> 0 | AT34: 9
D35: =SUM(H35,J35,L35,N35,P35,R35,T35) -> 0 | F35: 10 | X35: =SUM(AB35,AD35,AF35,AH35,AJ35,AL35,AN35) -> 0 | Z35: 10 | AR35: =SUM(AV35,AX35,AZ35,BB35,BD35,BF35,BH35) -> 0 | AT35: 10
D36: =SUM(H36,J36,L36,N36,P36,R36,T36) -> 0 | F36: 11 | X36: =SUM(AB36,AD36,AF36,AH36,AJ36,AL36,AN36) -> 0 | Z36: 11 | AR36: =SUM(AV36,AX36,AZ36,BB36,BD36,BF36,BH36) -> 0 | AT36: 11
D37: =SUM(H37,J37,L37,N37,P37,R37,T37) -> 0 | F37: 12 | X37: =SUM(AB37,AD37,AF37,AH37,AJ37,AL37,AN37) -> 0 | Z37: 12 | AR37: =SUM(AV37,AX37,AZ37,BB37,BD37,BF37,BH37) -> 0 | AT37: 12
D38: =SUM(H38,J38,L38,N38,P38,R38,T38) -> 0 | F38: 13 | X38: =SUM(AB38,AD38,AF38,AH38,AJ38,AL38,AN38) -> 0 | Z38: 13 | AR38: =SUM(AV38,AX38,AZ38,BB38,BD38,BF38,BH38) -> 0 | AT38: 13
... D40: =SUM(H40,J40,L40,N40,P40,R40,T40) -> 0 | F40: 15 | X40: =SUM(AB40,AD40,AF40,AH40,AJ40,AL40,AN40) -> 0 | Z40: 15 | AR40: =SUM(AV40,AX40,AZ40,BB40,BD40,BF40,BH40) -> 0 | AT40: 15
G41: TOTAL | H41: =SUM(H26:H40) -> 0 | J41: =SUM(J26:J40) -> 0 | L41: =SUM(L26:L40) -> 0 | N41: =SUM(N26:N40) -> 0 | P41: =SUM(P26:P40) -> 0 | R41: =SUM(R26:R40) -> 0 | T41: =SUM(T26:T40) -> 0 | AA41: TOTAL | AB41: =SUM(AB26:AB40) -> 0 | AD41: =SUM(AD26:AD40) -> 0 | AF41: =SUM(AF26:AF40) -> 0 | AH41: =SUM(AH26:AH40) -> 0 | AJ41: =SUM(AJ26:AJ40) -> 0 | AL41: =SUM(AL26:AL40) -> 0 | AN41: =SUM(AN26:AN40) -> 0 | AU41: TOTAL | AV41: =SUM(AV26:AV40) -> 0 | AX41: =SUM(AX26:AX40) -> 0 | AZ41: =SUM(AZ26:AZ40) -> 0 | BB41: =SUM(BB26:BB40) -> 0 | BD41: =SUM(BD26:BD40) -> 0 | BF41: =SUM(BF26:BF40) -> 0 | BH41: =SUM(BH26:BH40) -> 0
F42: =INT((N43-LOOKUP(N43,DATE(YEAR(N43)+{-1;0;1},1,3)-WEEKDAY(DATE(YEAR(N43)+{-1;0;1},1,3))+2))/7)+1 -> 3 | Z42: =INT((AH43-LOOKUP(AH43,DATE(YEAR(AH43)+{-1;0;1},1,3)-WEEKDAY(DATE(YEAR(AH43)+{-1;0;1},1,3))+2))/7)+1 -> 7 | AT42: =INT((BB43-LOOKUP(BB43,DATE(YEAR(BB43)+{-1;0;1},1,3)-WEEKDAY(DATE(YEAR(BB43)+{-1;0;1},1,3))+2))/7)+1 -> 11 | BO42: =DATE(An_ref,7,1) -> 43647
F43: =F42 -> 3 | G43: =IF(ISNA(VLOOKUP(H43,Tab_feri,2,FALSE)),"",VLOOKUP(H43,Tab_feri,2,FALSE)) | H43: =T25+1 -> 43479 | I43: =IF(ISNA(VLOOKUP(J43,Tab_feri,2,FALSE)),"",VLOOKUP(J43,Tab_feri,2,FALSE)) | J43: =H43+1 -> 43480 | K43: =IF(ISNA(VLOOKUP(L43,Tab_feri,2,FALSE)),"",VLOOKUP(L43,Tab_feri,2,FALSE)) | L43: =J43+1 -> 43481 | M43: =IF(ISNA(VLOOKUP(N43,Tab_feri,2,FALSE)),"",VLOOKUP(N43,Tab_feri,2,FALSE)) | N43: =L43+1 -> 43482 | O43: =IF(ISNA(VLOOKUP(P43,Tab_feri,2,FALSE)),"",VLOOKUP(P43,Tab_feri,2,FALSE)) | P43: =N43+1 -> 43483 | Q43: =IF(ISNA(VLOOKUP(R43,Tab_feri,2,FALSE)),"",VLOOKUP(R43,Tab_feri,2,FALSE)) | R43: =P43+1 -> 43484 | S43: =IF(ISNA(VLOOKUP(T43,Tab_feri,2,FALSE)),"",VLOOKUP(T43,Tab_feri,2,FALSE)) | T43: =R43+1 -> 43485 | Z43: =Z42 -> 7 | AA43: =IF(ISNA(VLOOKUP(AB43,Tab_feri,2,FALSE)),"",VLOOKUP(AB43,Tab_feri,2,FALSE)) | AB43: =AN25+1 -> 43507 | AC43: =IF(ISNA(VLOOKUP(AD43,Tab_feri,2,FALSE)),"",VLOOKUP(AD43,Tab_feri,2,FALSE)) | AD43: =AB43+1 -> 43508 | AE43: =IF(ISNA(VLOOKUP(AF43,Tab_feri,2,FALSE)),"",VLOOKUP(AF43,Tab_feri,2,FALSE)) | AF43: =AD43+1 -> 43509 | AG43: =IF(ISNA(VLOOKUP(AH43,Tab_feri,2,FALSE)),"",VLOOKUP(AH43,Tab_feri,2,FALSE)) | AH43: =AF43+1 -> 43510 | AI43: =IF(ISNA(VLOOKUP(AJ43,Tab_feri,2,FALSE)),"",VLOOKUP(AJ43,Tab_feri,2,FALSE)) | AJ43: =AH43+1 -> 43511 | AK43: =IF(ISNA(VLOOKUP(AL43,Tab_feri,2,FALSE)),"",VLOOKUP(AL43,Tab_feri,2,FALSE)) | AL43: =AJ43+1 -> 43512 | AM43: =IF(ISNA(VLOOKUP(AN43,Tab_feri,2,FALSE)),"",VLOOKUP(AN43,Tab_feri,2,FALSE)) | AN43: =AL43+1 -> 43513 | AT43: =AT42 -> 11 | AU43: =IF(ISNA(VLOOKUP(AV43,Tab_feri,2,FALSE)),"",VLOOKUP(AV43,Tab_feri,2,FALSE)) | AV43: =BH25+1 -> 43535 | AW43: =IF(ISNA(VLOOKUP(AX43,Tab_feri,2,FALSE)),"",VLOOKUP(AX43,Tab_feri,2,FALSE)) | AX43: =AV43+1 -> 43536 | AY43: =IF(ISNA(VLOOKUP(AZ43,Tab_feri,2,FALSE)),"",VLOOKUP(AZ43,Tab_feri,2,FALSE)) | AZ43: =AX43+1 -> 43537 | BA43: =IF(ISNA(VLOOKUP(BB43,Tab_feri,2,FALSE)),"",VLOOKUP(BB43,Tab_feri,2,FALSE)) | BB43: =AZ43+1 -> 43538 | BC43: =IF(ISNA(VLOOKUP(BD43,Tab_feri,2,FALSE)),"",VLOOKUP(BD43,Tab_feri,2,FALSE)) | BD43: =BB43+1 -> 43539 | BE43: =IF(ISNA(VLOOKUP(BF43,Tab_feri,2,FALSE)),"",VLOOKUP(BF43,Tab_feri,2,FALSE)) | BF43: =BD43+1 -> 43540 | BG43: =IF(ISNA(VLOOKUP(BH43,Tab_feri,2,FALSE)),"",VLOOKUP(BH43,Tab_feri,2,FALSE)) | BH43: =BF43+1 -> 43541 | BO43: =DATE(An_ref,9,3) -> 43711
D44: =SUM(H44,J44,L44,N44,P44,R44,T44) -> 0 | F44: 1 | X44: =SUM(AB44,AD44,AF44,AH44,AJ44,AL44,AN44) -> 0 | Z44: 1 | AR44: =SUM(AV44,AX44,AZ44,BB44,BD44,BF44,BH44) -> 0 | AT44: 1 | BO44: =DATE(An_ref,10,8) -> 43746
D45: =SUM(H45,J45,L45,N45,P45,R45,T45) -> 0 | F45: 2 | X45: =SUM(AB45,AD45,AF45,AH45,AJ45,AL45,AN45) -> 0 | Z45: 2 | AR45: =SUM(AV45,AX45,AZ45,BB45,BD45,BF45,BH45) -> 0 | AT45: 2
D46: =SUM(H46,J46,L46,N46,P46,R46,T46) -> 0 | F46: 3 | X46: =SUM(AB46,AD46,AF46,AH46,AJ46,AL46,AN46) -> 0 | Z46: 3 | AR46: =SUM(AV46,AX46,AZ46,BB46,BD46,BF46,BH46) -> 0 | AT46: 3
D47: =SUM(H47,J47,L47,N47,P47,R47,T47) -> 0 | F47: 4 | X47: =SUM(AB47,AD47,AF47,AH47,AJ47,AL47,AN47) -> 0 | Z47: 4 | AR47: =SUM(AV47,AX47,AZ47,BB47,BD47,BF47,BH47) -> 0 | AT47: 4
D48: =SUM(H48,J48,L48,N48,P48,R48,T48) -> 0 | F48: 5 | X48: =SUM(AB48,AD48,AF48,AH48,AJ48,AL48,AN48) -> 0 | Z48: 5 | AR48: =SUM(AV48,AX48,AZ48,BB48,BD48,BF48,BH48) -> 0 | AT48: 5
D49: =SUM(H49,J49,L49,N49,P49,R49,T49) -> 0 | F49: 6 | X49: =SUM(AB49,AD49,AF49,AH49,AJ49,AL49,AN49) -> 0 | Z49: 6 | AR49: =SUM(AV49,AX49,AZ49,BB49,BD49,BF49,BH49) -> 0 | AT49: 6
D50: =SUM(H50,J50,L50,N50,P50,R50,T50) -> 0 | F50: 7 | X50: =SUM(AB50,AD50,AF50,AH50,AJ50,AL50,AN50) -> 0 | Z50: 7 | AR50: =SUM(AV50,AX50,AZ50,BB50,BD50,BF50,BH50) -> 0 | AT50: 7
D51: =SUM(H51,J51,L51,N51,P51,R51,T51) -> 0 | F51: 8 | X51: =SUM(AB51,AD51,AF51,AH51,AJ51,AL51,AN51) -> 0 | Z51: 8 | AR51: =SUM(AV51,AX51,AZ51,BB51,BD51,BF51,BH51) -> 0 | AT51: 8
D52: =SUM(H52,J52,L52,N52,P52,R52,T52) -> 0 | F52: 9 | X52: =SUM(AB52,AD52,AF52,AH52,AJ52,AL52,AN52) -> 0 | Z52: 9 | AR52: =SUM(AV52,AX52,AZ52,BB52,BD52,BF52,BH52) -> 0 | AT52: 9
D53: =SUM(H53,J53,L53,N53,P53,R53,T53) -> 0 | F53: 10 | X53: =SUM(AB53,AD53,AF53,AH53,AJ53,AL53,AN53) -> 0 | Z53: 10 | AR53: =SUM(AV53,AX53,AZ53,BB53,BD53,BF53,BH53) -> 0 | AT53: 10
D54: =SUM(H54,J54,L54,N54,P54,R54,T54) -> 0 | F54: 11 | X54: =SUM(AB54,AD54,AF54,AH54,AJ54,AL54,AN54) -> 0 | Z54: 11 | AR54: =SUM(AV54,AX54,AZ54,BB54,BD54,BF54,BH54) -> 0 | AT54: 11
D55: =SUM(H55,J55,L55,N55,P55,R55,T55) -> 0 | F55: 12 | X55: =SUM(AB55,AD55,AF55,AH55,AJ55,AL55,AN55) -> 0 | Z55: 12 | AR55: =SUM(AV55,AX55,AZ55,BB55,BD55,BF55,BH55) -> 0 | AT55: 12
D56: =SUM(H56,J56,L56,N56,P56,R56,T56) -> 0 | F56: 13 | X56: =SUM(AB56,AD56,AF56,AH56,AJ56,AL56,AN56) -> 0 | Z56: 13 | AR56: =SUM(AV56,AX56,AZ56,BB56,BD56,BF56,BH56) -> 0 | AT56: 13
... D58: =SUM(H58,J58,L58,N58,P58,R58,T58) -> 0 | F58: 15 | X58: =SUM(AB58,AD58,AF58,AH58,AJ58,AL58,AN58) -> 0 | Z58: 15 | AR58: =SUM(AV58,AX58,AZ58,BB58,BD58,BF58,BH58) -> 0 | AT58: 15
G59: TOTAL | H59: =SUM(H44:H58) -> 0 | J59: =SUM(J44:J58) -> 0 | L59: =SUM(L44:L58) -> 0 | N59: =SUM(N44:N58) -> 0 | P59: =SUM(P44:P58) -> 0 | R59: =SUM(R44:R58) -> 0 | T59: =SUM(T44:T58) -> 0 | AA59: TOTAL | AB59: =SUM(AB44:AB58) -> 0 | AD59: =SUM(AD44:AD58) -> 0 | AF59: =SUM(AF44:AF58) -> 0 | AH59: =SUM(AH44:AH58) -> 0 | AJ59: =SUM(AJ44:AJ58) -> 0 | AL59: =SUM(AL44:AL58) -> 0 | AN59: =SUM(AN44:AN58) -> 0 | AU59: TOTAL | AV59: =SUM(AV44:AV58) -> 0 | AX59: =SUM(AX44:AX58) -> 0 | AZ59: =SUM(AZ44:AZ58) -> 0 | BB59: =SUM(BB44:BB58) -> 0 | BD59: =SUM(BD44:BD58) -> 0 | BF59: =SUM(BF44:BF58) -> 0 | BH59: =SUM(BH44:BH58) -> 0
F60: =INT((N61-LOOKUP(N61,DATE(YEAR(N61)+{-1;0;1},1,3)-WEEKDAY(DATE(YEAR(N61)+{-1;0;1},1,3))+2))/7)+1 -> 4 | Z60: =INT((AH61-LOOKUP(AH61,DATE(YEAR(AH61)+{-1;0;1},1,3)-WEEKDAY(DATE(YEAR(AH61)+{-1;0;1},1,3))+2))/7)+1 -> 8 | AT60: =INT((BB61-LOOKUP(BB61,DATE(YEAR(BB61)+{-1;0;1},1,3)-WEEKDAY(DATE(YEAR(BB61)+{-1;0;1},1,3))+2))/7)+1 -> 12 | BO60: =DATE(An_ref,12,23) -> 43822
F61: =F60 -> 4 | G61: =IF(ISNA(VLOOKUP(H61,Tab_feri,2,FALSE)),"",VLOOKUP(H61,Tab_feri,2,FALSE)) | H61: =T43+1 -> 43486 | I61: =IF(ISNA(VLOOKUP(J61,Tab_feri,2,FALSE)),"",VLOOKUP(J61,Tab_feri,2,FALSE)) | J61: =H61+1 -> 43487 | K61: =IF(ISNA(VLOOKUP(L61,Tab_feri,2,FALSE)),"",VLOOKUP(L61,Tab_feri,2,FALSE)) | L61: =J61+1 -> 43488 | M61: =IF(ISNA(VLOOKUP(N61,Tab_feri,2,FALSE)),"",VLOOKUP(N61,Tab_feri,2,FALSE)) | N61: =L61+1 -> 43489 | O61: =IF(ISNA(VLOOKUP(P61,Tab_feri,2,FALSE)),"",VLOOKUP(P61,Tab_feri,2,FALSE)) | P61: =N61+1 -> 43490 | Q61: =IF(ISNA(VLOOKUP(R61,Tab_feri,2,FALSE)),"",VLOOKUP(R61,Tab_feri,2,FALSE)) | R61: =P61+1 -> 43491 | S61: =IF(ISNA(VLOOKUP(T61,Tab_feri,2,FALSE)),"",VLOOKUP(T61,Tab_feri,2,FALSE)) | T61: =R61+1 -> 43492 | Z61: =Z60 -> 8 | AA61: =IF(ISNA(VLOOKUP(AB61,Tab_feri,2,FALSE)),"",VLOOKUP(AB61,Tab_feri,2,FALSE)) | AB61: =AN43+1 -> 43514 | AC61: =IF(ISNA(VLOOKUP(AD61,Tab_feri,2,FALSE)),"",VLOOKUP(AD61,Tab_feri,2,FALSE)) | AD61: =AB61+1 -> 43515 | AE61: =IF(ISNA(VLOOKUP(AF61,Tab_feri,2,FALSE)),"",VLOOKUP(AF61,Tab_feri,2,FALSE)) | AF61: =AD61+1 -> 43516 | AG61: =IF(ISNA(VLOOKUP(AH61,Tab_feri,2,FALSE)),"",VLOOKUP(AH61,Tab_feri,2,FALSE)) | AH61: =AF61+1 -> 43517 | AI61: =IF(ISNA(VLOOKUP(AJ61,Tab_feri,2,FALSE)),"",VLOOKUP(AJ61,Tab_feri,2,FALSE)) | AJ61: =AH61+1 -> 43518 | AK61: =IF(ISNA(VLOOKUP(AL61,Tab_feri,2,FALSE)),"",VLOOKUP(AL61,Tab_feri,2,FALSE)) | AL61: =AJ61+1 -> 43519 | AM61: =IF(ISNA(VLOOKUP(AN61,Tab_feri,2,FALSE)),"",VLOOKUP(AN61,Tab_feri,2,FALSE)) | AN61: =AL61+1 -> 43520 | AT61: =AT60 -> 12 | AU61: =IF(ISNA(VLOOKUP(AV61,Tab_feri,2,FALSE)),"",VLOOKUP(AV61,Tab_feri,2,FALSE)) | AV61: =BH43+1 -> 43542 | AW61: =IF(ISNA(VLOOKUP(AX61,Tab_feri,2,FALSE)),"",VLOOKUP(AX61,Tab_feri,2,FALSE)) | AX61: =AV61+1 -> 43543 | AY61: =IF(ISNA(VLOOKUP(AZ61,Tab_feri,2,FALSE)),"",VLOOKUP(AZ61,Tab_feri,2,FALSE)) | AZ61: =AX61+1 -> 43544 | BA61: =IF(ISNA(VLOOKUP(BB61,Tab_feri,2,FALSE)),"",VLOOKUP(BB61,Tab_feri,2,FALSE)) | BB61: =AZ61+1 -> 43545 | BC61: =IF(ISNA(VLOOKUP(BD61,Tab_feri,2,FALSE)),"",VLOOKUP(BD61,Tab_feri,2,FALSE)) | BD61: =BB61+1 -> 43546 | BE61: =IF(ISNA(VLOOKUP(BF61,Tab_feri,2,FALSE)),"",VLOOKUP(BF61,Tab_feri,2,FALSE)) | BF61: =BD61+1 -> 43547 | BG61: =IF(ISNA(VLOOKUP(BH61,Tab_feri,2,FALSE)),"",VLOOKUP(BH61,Tab_feri,2,FALSE)) | BH61: =BF61+1 -> 43548 | BO61: =DATE(An_ref,12,24) -> 43823
D62: =SUM(H62,J62,L62,N62,P62,R62,T62) -> 0 | F62: 1 | X62: =SUM(AB62,AD62,AF62,AH62,AJ62,AL62,AN62) -> 0 | Z62: 1 | AR62: =SUM(AV62,AX62,AZ62,BB62,BD62,BF62,BH62) -> 0 | AT62: 1 | BO62: =DATE(An_ref,12,25) -> 43824
D63: =SUM(H63,J63,L63,N63,P63,R63,T63) -> 0 | F63: 2 | X63: =SUM(AB63,AD63,AF63,AH63,AJ63,AL63,AN63) -> 0 | Z63: 2 | AR63: =SUM(AV63,AX63,AZ63,BB63,BD63,BF63,BH63) -> 0 | AT63: 2
D64: =SUM(H64,J64,L64,N64,P64,R64,T64) -> 0 | F64: 3 | X64: =SUM(AB64,AD64,AF64,AH64,AJ64,AL64,AN64) -> 0 | Z64: 3 | AR64: =SUM(AV64,AX64,AZ64,BB64,BD64,BF64,BH64) -> 0 | AT64: 3
D65: =SUM(H65,J65,L65,N65,P65,R65,T65) -> 0 | F65: 4 | X65: =SUM(AB65,AD65,AF65,AH65,AJ65,AL65,AN65) -> 0 | Z65: 4 | AR65: =SUM(AV65,AX65,AZ65,BB65,BD65,BF65,BH65) -> 0 | AT65: 4
D66: =SUM(H66,J66,L66,N66,P66,R66,T66) -> 0 | F66: 5 | X66: =SUM(AB66,AD66,AF66,AH66,AJ66,AL66,AN66) -> 0 | Z66: 5 | AR66: =SUM(AV66,AX66,AZ66,BB66,BD66,BF66,BH66) -> 0 | AT66: 5
D67: =SUM(H67,J67,L67,N67,P67,R67,T67) -> 0 | F67: 6 | X67: =SUM(AB67,AD67,AF67,AH67,AJ67,AL67,AN67) -> 0 | Z67: 6 | AR67: =SUM(AV67,AX67,AZ67,BB67,BD67,BF67,BH67) -> 0 | AT67: 6
D68: =SUM(H68,J68,L68,N68,P68,R68,T68) -> 0 | F68: 7 | X68: =SUM(AB68,AD68,AF68,AH68,AJ68,AL68,AN68) -> 0 | Z68: 7 | AR68: =SUM(AV68,AX68,AZ68,BB68,BD68,BF68,BH68) -> 0 | AT68: 7
D69: =SUM(H69,J69,L69,N69,P69,R69,T69) -> 0 | F69: 8 | X69: =SUM(AB69,AD69,AF69,AH69,AJ69,AL69,AN69) -> 0 | Z69: 8 | AR69: =SUM(AV69,AX69,AZ69,BB69,BD69,BF69,BH69) -> 0 | AT69: 8
D70: =SUM(H70,J70,L70,N70,P70,R70,T70) -> 0 | F70: 9 | X70: =SUM(AB70,AD70,AF70,AH70,AJ70,AL70,AN70) -> 0 | Z70: 9 | AR70: =SUM(AV70,AX70,AZ70,BB70,BD70,BF70,BH70) -> 0 | AT70: 9
D71: =SUM(H71,J71,L71,N71,P71,R71,T71) -> 0 | F71: 10 | X71: =SUM(AB71,AD71,AF71,AH71,AJ71,AL71,AN71) -> 0 | Z71: 10 | AR71: =SUM(AV71,AX71,AZ71,BB71,BD71,BF71,BH71) -> 0 | AT71: 10
D72: =SUM(H72,J72,L72,N72,P72,R72,T72) -> 0 | F72: 11 | X72: =SUM(AB72,AD72,AF72,AH72,AJ72,AL72,AN72) -> 0 | Z72: 11 | AR72: =SUM(AV72,AX72,AZ72,BB72,BD72,BF72,BH72) -> 0 | AT72: 11
D73: =SUM(H73,J73,L73,N73,P73,R73,T73) -> 0 | F73: 12 | X73: =SUM(AB73,AD73,AF73,AH73,AJ73,AL73,AN73) -> 0 | Z73: 12 | AR73: =SUM(AV73,AX73,AZ73,BB73,BD73,BF73,BH73) -> 0 | AT73: 12
D74: =SUM(H74,J74,L74,N74,P74,R74,T74) -> 0 | F74: 13 | X74: =SUM(AB74,AD74,AF74,AH74,AJ74,AL74,AN74) -> 0 | Z74: 13 | AR74: =SUM(AV74,AX74,AZ74,BB74,BD74,BF74,BH74) -> 0 | AT74: 13
... D76: =SUM(H76,J76,L76,N76,P76,R76,T76) -> 0 | F76: 15 | X76: =SUM(AB76,AD76,AF76,AH76,AJ76,AL76,AN76) -> 0 | Z76: 15 | AR76: =SUM(AV76,AX76,AZ76,BB76,BD76,BF76,BH76) -> 0 | AT76: 15
G77: TOTAL | H77: =SUM(H62:H76) -> 0 | J77: =SUM(J62:J76) -> 0 | L77: =SUM(L62:L76) -> 0 | N77: =SUM(N62:N76) -> 0 | P77: =SUM(P62:P76) -> 0 | R77: =SUM(R62:R76) -> 0 | T77: =SUM(T62:T76) -> 0 | AA77: TOTAL | AB77: =SUM(AB62:AB76) -> 0 | AD77: =SUM(AD62:AD76) -> 0 | AF77: =SUM(AF62:AF76) -> 0 | AH77: =SUM(AH62:AH76) -> 0 | AJ77: =SUM(AJ62:AJ76) -> 0 | AL77: =SUM(AL62:AL76) -> 0 | AN77: =SUM(AN62:AN76) -> 0 | AU77: TOTAL | AV77: =SUM(AV62:AV76) -> 0 | AX77: =SUM(AX62:AX76) -> 0 | AZ77: =SUM(AZ62:AZ76) -> 0 | BB77: =SUM(BB62:BB76) -> 0 | BD77: =SUM(BD62:BD76) -> 0 | BF77: =SUM(BF62:BF76) -> 0 | BH77: =SUM(BH62:BH76) -> 0
F78: =IF(H79<=EOMONTH(H43,0),INT((N79-LOOKUP(N79,DATE(YEAR(N79)+{-1;0;1},1,3)-WEEKDAY(DATE(YEAR(N79)+{-1;0;1},1,3))+2))/7)+1,"") -> 5 | Z78: =IF(AB79<=EOMONTH(AB43,0),INT((AH79-LOOKUP(AH79,DATE(YEAR(AH79)+{-1;0;1},1,3)-WEEKDAY(DATE(YEAR(AH79)+{-1;0;1},1,3))+2))/7)+1,"") -> 9 | AT78: =IF(AV79<=EOMONTH(AV43,0),INT((BB79-LOOKUP(BB79,DATE(YEAR(BB79)+{-1;0;1},1,3)-WEEKDAY(DATE(YEAR(BB79)+{-1;0;1},1,3))+2))/7)+1,"") -> 13 | BO78: =DATE(An_ref,12,31) -> 43830
F79: =F78 -> 5 | G79: =IF(ISNA(VLOOKUP(H79,Tab_feri,2,FALSE)),"",VLOOKUP(H79,Tab_feri,2,FALSE)) | H79: =IF(T61<EOMONTH(F4,0),T61+1,"") -> 43493 | I79: =IF(ISNA(VLOOKUP(J79,Tab_feri,2,FALSE)),"",VLOOKUP(J79,Tab_feri,2,FALSE)) | J79: =IF(H79<EOMONTH(F4,0),H79+1,"") -> 43494 | K79: =IF(ISNA(VLOOKUP(L79,Tab_feri,2,FALSE)),"",VLOOKUP(L79,Tab_feri,2,FALSE)) | L79: =IF(J79<EOMONTH(F4,0),J79+1,"") -> 43495 | M79: =IF(ISNA(VLOOKUP(N79,Tab_feri,2,FALSE)),"",VLOOKUP(N79,Tab_feri,2,FALSE)) | N79: =IF(L79<EOMONTH(F4,0),L79+1,"") -> 43496 | O79: =IF(ISNA(VLOOKUP(P79,Tab_feri,2,FALSE)),"",VLOOKUP(P79,Tab_feri,2,FALSE)) | P79: =IF(N79<EOMONTH(F4,0),N79+1,"") | Q79: =IF(ISNA(VLOOKUP(R79,Tab_feri,2,FALSE)),"",VLOOKUP(R79,Tab_feri,2,FALSE)) | R79: =IF(P79<EOMONTH(F4,0),P79+1,"") | S79: =IF(ISNA(VLOOKUP(T79,Tab_feri,2,FALSE)),"",VLOOKUP(T79,Tab_feri,2,FALSE)) | T79: =IF(R79<EOMONTH(F4,0),R79+1,"") | Z79: =Z78 -> 9 | AA79: =IF(ISNA(VLOOKUP(AB79,Tab_feri,2,FALSE)),"",VLOOKUP(AB79,Tab_feri,2,FALSE)) | AB79: =IF(AN61<EOMONTH(Z4,0),AN61+1,"") -> 43521 | AC79: =IF(ISNA(VLOOKUP(AD79,Tab_feri,2,FALSE)),"",VLOOKUP(AD79,Tab_feri,2,FALSE)) | AD79: =IF(AB79<EOMONTH(Z4,0),AB79+1,"") -> 43522 | AE79: =IF(ISNA(VLOOKUP(AF79,Tab_feri,2,FALSE)),"",VLOOKUP(AF79,Tab_feri,2,FALSE)) | AF79: =IF(AD79<EOMONTH(Z4,0),AD79+1,"") -> 43523 | AG79: =IF(ISNA(VLOOKUP(AH79,Tab_feri,2,FALSE)),"",VLOOKUP(AH79,Tab_feri,2,FALSE)) | AH79: =IF(AF79<EOMONTH(Z4,0),AF79+1,"") -> 43524 | AI79: =IF(ISNA(VLOOKUP(AJ79,Tab_feri,2,FALSE)),"",VLOOKUP(AJ79,Tab_feri,2,FALSE)) | AJ79: =IF(AH79<EOMONTH(Z4,0),AH79+1,"") | AK79: =IF(ISNA(VLOOKUP(AL79,Tab_feri,2,FALSE)),"",VLOOKUP(AL79,Tab_feri,2,FALSE)) | AL79: =IF(AJ79<EOMONTH(Z4,0),AJ79+1,"") | AM79: =IF(ISNA(VLOOKUP(AN79,Tab_feri,2,FALSE)),"",VLOOKUP(AN79,Tab_feri,2,FALSE)) | AN79: =IF(AL79<EOMONTH(Z4,0),AL79+1,"") | AT79: =AT78 -> 13 | AU79: =IF(ISNA(VLOOKUP(AV79,Tab_feri,2,FALSE)),"",VLOOKUP(AV79,Tab_feri,2,FALSE)) | AV79: =IF(BH61<EOMONTH(AT4,0),BH61+1,"") -> 43549 | AW79: =IF(ISNA(VLOOKUP(AX79,Tab_feri,2,FALSE)),"",VLOOKUP(AX79,Tab_feri,2,FALSE)) | AX79: =IF(AV79<EOMONTH(AT4,0),AV79+1,"") -> 43550 | AY79: =IF(ISNA(VLOOKUP(AZ79,Tab_feri,2,FALSE)),"",VLOOKUP(AZ79,Tab_feri,2,FALSE)) | AZ79: =IF(AX79<EOMONTH(AT4,0),AX79+1,"") -> 43551 | BA79: =IF(ISNA(VLOOKUP(BB79,Tab_feri,2,FALSE)),"",VLOOKUP(BB79,Tab_feri,2,FALSE)) | BB79: =IF(AZ79<EOMONTH(AT4,0),AZ79+1,"") -> 43552 | BC79: =IF(ISNA(VLOOKUP(BD79,Tab_feri,2,FALSE)),"",VLOOKUP(BD79,Tab_feri,2,FALSE)) | BD79: =IF(BB79<EOMONTH(AT4,0),BB79+1,"") -> 43553 | BE79: =IF(ISNA(VLOOKUP(BF79,Tab_feri,2,FALSE)),"",VLOOKUP(BF79,Tab_feri,2,FALSE)) | BF79: =IF(BD79<EOMONTH(AT4,0),BD79+1,"") -> 43554 | BG79: =IF(ISNA(VLOOKUP(BH79,Tab_feri,2,FALSE)),"",VLOOKUP(BH79,Tab_feri,2,FALSE)) | BH79: =IF(BF79<EOMONTH(AT4,0),BF79+1,"") -> 43555
D80: =SUM(H80,J80,L80,N80,P80,R80,T80) -> 0 | F80: 1 | X80: =SUM(AB80,AD80,AF80,AH80,AJ80,AL80,AN80) -> 0 | Z80: 1 | AR80: =SUM(AV80,AX80,AZ80,BB80,BD80,BF80,BH80) -> 0 | AT80: 1
D81: =SUM(H81,J81,L81,N81,P81,R81,T81) -> 0 | F81: 2 | X81: =SUM(AB81,AD81,AF81,AH81,AJ81,AL81,AN81) -> 0 | Z81: 2 | AR81: =SUM(AV81,AX81,AZ81,BB81,BD81,BF81,BH81) -> 0 | AT81: 2
D82: =SUM(H82,J82,L82,N82,P82,R82,T82) -> 0 | F82: 3 | X82: =SUM(AB82,AD82,AF82,AH82,AJ82,AL82,AN82) -> 0 | Z82: 3 | AR82: =SUM(AV82,AX82,AZ82,BB82,BD82,BF82,BH82) -> 0 | AT82: 3
D83: =SUM(H83,J83,L83,N83,P83,R83,T83) -> 0 | F83: 4 | X83: =SUM(AB83,AD83,AF83,AH83,AJ83,AL83,AN83) -> 0 | Z83: 4 | AR83: =SUM(AV83,AX83,AZ83,BB83,BD83,BF83,BH83) -> 0 | AT83: 4
D84: =SUM(H84,J84,L84,N84,P84,R84,T84) -> 0 | F84: 5 | X84: =SUM(AB84,AD84,AF84,AH84,AJ84,AL84,AN84) -> 0 | Z84: 5 | AR84: =SUM(AV84,AX84,AZ84,BB84,BD84,BF84,BH84) -> 0 | AT84: 5
D85: =SUM(H85,J85,L85,N85,P85,R85,T85) -> 0 | F85: 6 | X85: =SUM(AB85,AD85,AF85,AH85,AJ85,AL85,AN85) -> 0 | Z85: 6 | AR85: =SUM(AV85,AX85,AZ85,BB85,BD85,BF85,BH85) -> 0 | AT85: 6
D86: =SUM(H86,J86,L86,N86,P86,R86,T86) -> 0 | F86: 7 | X86: =SUM(AB86,AD86,AF86,AH86,AJ86,AL86,AN86) -> 0 | Z86: 7 | AR86: =SUM(AV86,AX86,AZ86,BB86,BD86,BF86,BH86) -> 0 | AT86: 7
D87: =SUM(H87,J87,L87,N87,P87,R87,T87) -> 0 | F87: 8 | X87: =SUM(AB87,AD87,AF87,AH87,AJ87,AL87,AN87) -> 0 | Z87: 8 | AR87: =SUM(AV87,AX87,AZ87,BB87,BD87,BF87,BH87) -> 0 | AT87: 8
D88: =SUM(H88,J88,L88,N88,P88,R88,T88) -> 0 | F88: 9 | X88: =SUM(AB88,AD88,AF88,AH88,AJ88,AL88,AN88) -> 0 | Z88: 9 | AR88: =SUM(AV88,AX88,AZ88,BB88,BD88,BF88,BH88) -> 0 | AT88: 9
D89: =SUM(H89,J89,L89,N89,P89,R89,T89) -> 0 | F89: 10 | X89: =SUM(AB89,AD89,AF89,AH89,AJ89,AL89,AN89) -> 0 | Z89: 10 | AR89: =SUM(AV89,AX89,AZ89,BB89,BD89,BF89,BH89) -> 0 | AT89: 10
D90: =SUM(H90,J90,L90,N90,P90,R90,T90) -> 0 | F90: 11 | X90: =SUM(AB90,AD90,AF90,AH90,AJ90,AL90,AN90) -> 0 | Z90: 11 | AR90: =SUM(AV90,AX90,AZ90,BB90,BD90,BF90,BH90) -> 0 | AT90: 11
D91: =SUM(H91,J91,L91,N91,P91,R91,T91) -> 0 | F91: 12 | X91: =SUM(AB91,AD91,AF91,AH91,AJ91,AL91,AN91) -> 0 | Z91: 12 | AR91: =SUM(AV91,AX91,AZ91,BB91,BD91,BF91,BH91) -> 0 | AT91: 12
... D94: =SUM(H94,J94,L94,N94,P94,R94,T94) -> 0 | F94: 15 | X94: =SUM(AB94,AD94,AF94,AH94,AJ94,AL94,AN94) -> 0 | Z94: 15 | AR94: =SUM(AV94,AX94,AZ94,BB94,BD94,BF94,BH94) -> 0 | AT94: 15
G95: TOTAL | H95: =SUM(H80:H94) -> 0 | J95: =SUM(J80:J94) -> 0 | L95: =SUM(L80:L94) -> 0 | N95: =SUM(N80:N94) -> 0 | P95: =SUM(P80:P94) -> 0 | R95: =SUM(R80:R94) -> 0 | T95: =SUM(T80:T94) -> 0 | AA95: TOTAL | AB95: =SUM(AB80:AB94) -> 0 | AD95: =SUM(AD80:AD94) -> 0 | AF95: =SUM(AF80:AF94) -> 0 | AH95: =SUM(AH80:AH94) -> 0 | AJ95: =SUM(AJ80:AJ94) -> 0 | AL95: =SUM(AL80:AL94) -> 0 | AN95: =SUM(AN80:AN94) -> 0 | AU95: TOTAL | AV95: =SUM(AV80:AV94) -> 0 | AX95: =SUM(AX80:AX94) -> 0 | AZ95: =SUM(AZ80:AZ94) -> 0 | BB95: =SUM(BB80:BB94) -> 0 | BD95: =SUM(BD80:BD94) -> 0 | BF95: =SUM(BF80:BF94) -> 0 | BH95: =SUM(BH80:BH94) -> 0
F96: =IF(H97<=EOMONTH(H61,0),INT((N97-LOOKUP(N97,DATE(YEAR(N97)+{-1;0;1},1,3)-WEEKDAY(DATE(YEAR(N97)+{-1;0;1},1,3))+2))/7)+1,"") | Z96: =IF(AB97<=EOMONTH(AB61,0),INT((AH97-LOOKUP(AH97,DATE(YEAR(AH97)+{-1;0;1},1,3)-WEEKDAY(DATE(YEAR(AH97)+{-1;0;1},1,3))+2))/7)+1,"") | AT96: =IF(AV97<=EOMONTH(AV61,0),INT((BB97-LOOKUP(BB97,DATE(YEAR(BB97)+{-1;0;1},1,3)-WEEKDAY(DATE(YEAR(BB97)+{-1;0;1},1,3))+2))/7)+1,"")
F97: =F96 | G97: =IF(ISNA(VLOOKUP(H97,Tab_feri,2,FALSE)),"",VLOOKUP(H97,Tab_feri,2,FALSE)) | H97: =IF(T79<EOMONTH(F4,0),T79+1,"") | I97: =IF(ISNA(VLOOKUP(J97,Tab_feri,2,FALSE)),"",VLOOKUP(J97,Tab_feri,2,FALSE)) | J97: =IF(H97<EOMONTH(F4,0),H97+1,"") | K97: =IF(ISNA(VLOOKUP(L97,Tab_feri,2,FALSE)),"",VLOOKUP(L97,Tab_feri,2,FALSE)) | L97: =IF(J97<EOMONTH(F4,0),J97+1,"") | M97: =IF(ISNA(VLOOKUP(N97,Tab_feri,2,FALSE)),"",VLOOKUP(N97,Tab_feri,2,FALSE)) | N97: =IF(L97<EOMONTH(F4,0),L97+1,"") | O97: =IF(ISNA(VLOOKUP(P97,Tab_feri,2,FALSE)),"",VLOOKUP(P97,Tab_feri,2,FALSE)) | P97: =IF(N97<EOMONTH(F4,0),N97+1,"") | Q97: =IF(ISNA(VLOOKUP(R97,Tab_feri,2,FALSE)),"",VLOOKUP(R97,Tab_feri,2,FALSE)) | R97: =IF(P97<EOMONTH(F4,0),P97+1,"") | S97: =IF(ISNA(VLOOKUP(T97,Tab_feri,2,FALSE)),"",VLOOKUP(T97,Tab_feri,2,FALSE)) | T97: =IF(R97<EOMONTH(F4,0),R97+1,"") | Z97: =Z96 | AA97: =IF(ISNA(VLOOKUP(AB97,Tab_feri,2,FALSE)),"",VLOOKUP(AB97,Tab_feri,2,FALSE)) | AB97: =IF(AN79<EOMONTH(Z4,0),AN79+1,"") | AC97: =IF(ISNA(VLOOKUP(AD97,Tab_feri,2,FALSE)),"",VLOOKUP(AD97,Tab_feri,2,FALSE)) | AD97: =IF(AB97<EOMONTH(Z4,0),AB97+1,"") | AE97: =IF(ISNA(VLOOKUP(AF97,Tab_feri,2,FALSE)),"",VLOOKUP(AF97,Tab_feri,2,FALSE)) | AF97: =IF(AD97<EOMONTH(Z4,0),AD97+1,"") | AG97: =IF(ISNA(VLOOKUP(AH97,Tab_feri,2,FALSE)),"",VLOOKUP(AH97,Tab_feri,2,FALSE)) | AH97: =IF(AF97<EOMONTH(Z4,0),AF97+1,"") | AI97: =IF(ISNA(VLOOKUP(AJ97,Tab_feri,2,FALSE)),"",VLOOKUP(AJ97,Tab_feri,2,FALSE)) | AJ97: =IF(AH97<EOMONTH(Z4,0),AH97+1,"") | AK97: =IF(ISNA(VLOOKUP(AL97,Tab_feri,2,FALSE)),"",VLOOKUP(AL97,Tab_feri,2,FALSE)) | AL97: =IF(AJ97<EOMONTH(Z4,0),AJ97+1,"") | AM97: =IF(ISNA(VLOOKUP(AN97,Tab_feri,2,FALSE)),"",VLOOKUP(AN97,Tab_feri,2,FALSE)) | AN97: =IF(AL97<EOMONTH(Z4,0),AL97+1,"") | AT97: =AT96 | AU97: =IF(ISNA(VLOOKUP(AV97,Tab_feri,2,FALSE)),"",VLOOKUP(AV97,Tab_feri,2,FALSE)) | AV97: =IF(BH79<EOMONTH(AT4,0),BH79+1,"") | AW97: =IF(ISNA(VLOOKUP(AX97,Tab_feri,2,FALSE)),"",VLOOKUP(AX97,Tab_feri,2,FALSE)) | AX97: =IF(AV97<EOMONTH(AT4,0),AV97+1,"") | AY97: =IF(ISNA(VLOOKUP(AZ97,Tab_feri,2,FALSE)),"",VLOOKUP(AZ97,Tab_feri,2,FALSE)) | AZ97: =IF(AX97<EOMONTH(AT4,0),AX97+1,"") | BA97: =IF(ISNA(VLOOKUP(BB97,Tab_feri,2,FALSE)),"",VLOOKUP(BB97,Tab_feri,2,FALSE)) | BB97: =IF(AZ97<EOMONTH(AT4,0),AZ97+1,"") | BC97: =IF(ISNA(VLOOKUP(BD97,Tab_feri,2,FALSE)),"",VLOOKUP(BD97,Tab_feri,2,FALSE)) | BD97: =IF(BB97<EOMONTH(AT4,0),BB97+1,"") | BE97: =IF(ISNA(VLOOKUP(BF97,Tab_feri,2,FALSE)),"",VLOOKUP(BF97,Tab_feri,2,FALSE)) | BF97: =IF(BD97<EOMONTH(AT4,0),BD97+1,"") | BG97: =IF(ISNA(VLOOKUP(BH97,Tab_feri,2,FALSE)),"",VLOOKUP(BH97,Tab_feri,2,FALSE)) | BH97: =IF(BF97<EOMONTH(AT4,0),BF97+1,"")
D98: =SUM(H98,J98,L98,N98,P98,R98,T98) -> 0 | F98: 1 | X98: =SUM(AB98,AD98,AF98,AH98,AJ98,AL98,AN98) -> 0 | Z98: 1 | AR98: =SUM(AV98,AX98,AZ98,BB98,BD98,BF98,BH98) -> 0 | AT98: 1
D99: =SUM(H99,J99,L99,N99,P99,R99,T99) -> 0 | F99: 2 | X99: =SUM(AB99,AD99,AF99,AH99,AJ99,AL99,AN99) -> 0 | Z99: 2 | AR99: =SUM(AV99,AX99,AZ99,BB99,BD99,BF99,BH99) -> 0 | AT99: 2
D100: =SUM(H100,J100,L100,N100,P100,R100,T100) -> 0 | F100: 3 | X100: =SUM(AB100,AD100,AF100,AH100,AJ100,AL100,AN100) -> 0 | Z100: 3 | AR100: =SUM(AV100,AX100,AZ100,BB100,BD100,BF100,BH100) -> 0 | AT100: 3
D101: =SUM(H101,J101,L101,N101,P101,R101,T101) -> 0 | F101: 4 | X101: =SUM(AB101,AD101,AF101,AH101,AJ101,AL101,AN101) -> 0 | Z101: 4 | AR101: =SUM(AV101,AX101,AZ101,BB101,BD101,BF101,BH101) -> 0 | AT101: 4
D102: =SUM(H102,J102,L102,N102,P102,R102,T102) -> 0 | F102: 5 | X102: =SUM(AB102,AD102,AF102,AH102,AJ102,AL102,AN102) -> 0 | Z102: 5 | AR102: =SUM(AV102,AX102,AZ102,BB102,BD102,BF102,BH102) -> 0 | AT102: 5
D103: =SUM(H103,J103,L103,N103,P103,R103,T103) -> 0 | F103: 6 | X103: =SUM(AB103,AD103,AF103,AH103,AJ103,AL103,AN103) -> 0 | Z103: 6 | AR103: =SUM(AV103,AX103,AZ103,BB103,BD103,BF103,BH103) -> 0 | AT103: 6
D104: =SUM(H104,J104,L104,N104,P104,R104,T104) -> 0 | F104: 7 | X104: =SUM(AB104,AD104,AF104,AH104,AJ104,AL104,AN104) -> 0 | Z104: 7 | AR104: =SUM(AV104,AX104,AZ104,BB104,BD104,BF104,BH104) -> 0 | AT104: 7
D105: =SUM(H105,J105,L105,N105,P105,R105,T105) -> 0 | F105: 8 | X105: =SUM(AB105,AD105,AF105,AH105,AJ105,AL105,AN105) -> 0 | Z105: 8 | AR105: =SUM(AV105,AX105,AZ105,BB105,BD105,BF105,BH105) -> 0 | AT105: 8
D106: =SUM(H106,J106,L106,N106,P106,R106,T106) -> 0 | F106: 9 | X106: =SUM(AB106,AD106,AF106,AH106,AJ106,AL106,AN106) -> 0 | Z106: 9 | AR106: =SUM(AV106,AX106,AZ106,BB106,BD106,BF106,BH106) -> 0 | AT106: 9
D107: =SUM(H107,J107,L107,N107,P107,R107,T107) -> 0 | F107: 10 | X107: =SUM(AB107,AD107,AF107,AH107,AJ107,AL107,AN107) -> 0 | Z107: 10 | AR107: =SUM(AV107,AX107,AZ107,BB107,BD107,BF107,BH107) -> 0 | AT107: 10
D108: =SUM(H108,J108,L108,N108,P108,R108,T108) -> 0 | F108: 11 | X108: =SUM(AB108,AD108,AF108,AH108,AJ108,AL108,AN108) -> 0 | Z108: 11 | AR108: =SUM(AV108,AX108,AZ108,BB108,BD108,BF108,BH108) -> 0 | AT108: 11
...

Sheet données
B1: =IF(AND(C2:C8),"Erreur !","Jours Chômés") -> Jours Chômés | C1: Chômé ? | D1: Jours chômés | E1: Année du jour férié | F1: Dates | G1: Fériés
A2: Janvier | B2: Lundi | C2: FALSE | D2: =IF(C2,B2,"") | E2: =IF(MONTH(1&Premier_mois)<>1,An+1,An) -> #REF! | F2: =DATE(An_ref,5,22) -> #REF! | G2: jour de l'an
B3: Mardi | C3: FALSE | D3: =IF(C3,B3,"") | E3: =IF(MONTH(DATE(An,3,29.56+0.979*MOD(204-11*MOD(An,19),30)-WEEKDAY(DATE(An,3,28.56+0.979*MOD(204-11*MOD(An,19),30))))+1)<MONTH(1&Premier_mois),An+1,An) -> #REF! | F3: =DATE(An_ref,5,1) -> #REF! | G3: Fête du travail
A4: =An_ref -> #REF! | B4: Mercredi | C4: FALSE | D4: =IF(C4,B4,"") | E4: =IF(MONTH(1&Premier_mois)>5,An+1,An) -> #REF! | F4: =F5-2 -> #REF!
B5: Jeudi | C5: FALSE | D5: =IF(C5,B5,"") | E5: =IF(MONTH(DATE(An,3,29.56+0.979*MOD(204-11*MOD(An,19),30)-WEEKDAY(DATE(An,3,28.56+0.979*MOD(204-11*MOD(An,19),30))))+1+38)<MONTH(1&Premier_mois),An+1,An) -> #REF! | F5: =ROUND(DATE(An_ref,4,MOD(234-11*MOD(An_ref,19),30))/7,)*7-6 -> #REF! | G5: Pâques | H5: =ROUND(DATE(An_ref,4,1)/7+MOD(19*MOD(An_ref,19)-7,30)*14%,0)*7-6 -> #REF!
B6: Vendredi | C6: FALSE | D6: =IF(C6,B6,"") | E6: =IF(MONTH(1&Premier_mois)>5,An+1,An) -> #REF! | F6: =F5+1 -> #REF! | G6: Lundi de Pâques | H6: =(FLOOR(DATE(An_ref,5,DAY(MINUTE(An_ref/38)/2+56)),7)-34)+1 -> #REF!
B7: Samedi | C7: TRUE | D7: =IF(C7,B7,"") -> Samedi | E7: =IF(MONTH(DATE(An,3,29.56+0.979*MOD(204-11*MOD(An,19),30)-WEEKDAY(DATE(An,3,28.56+0.979*MOD(204-11*MOD(An,19),30))))+1+49)<MONTH(1&Premier_mois),An+1,An) -> #REF! | F7: =DATE(An_ref,5,8) -> #REF! | G7: Victoire 1945
B8: Dimanche | C8: TRUE | D8: =IF(C8,B8,"") -> Dimanche | E8: =IF(MONTH(1&Premier_mois)>7,An+1,An) -> #REF! | F8: =DATE(An_ref,5,30) -> #REF! | G8: Ascension
C9: N° mois | D9: =MONTH(1&Premier_mois) -> 1 | E9: =IF(MONTH(1&Premier_mois)>8,An+1,An) -> #REF! | F9: =DATE(An_ref,7,14) -> #REF! | G9: Fête nationale
C10: N° semaine | D10: =INT((TODAY()-LOOKUP(TODAY(),DATE(YEAR(TODAY())+{-1;0;1},1,3)-WEEKDAY(DATE(YEAR(TODAY())+{-1;0;1},1,3))+2))/7)+1 -> 12 | E10: =IF(MONTH(1&Premier_mois)>11,An+1,An) -> #REF! | F10: =DATE(An_ref,9,7)-MOD(DATE(An_ref,9,7)-2,7) -> #REF! | H10: =DATE(An_ref,9,1)+6-MOD(DATE(An_ref,9,1)+4,7) -> #REF!
E11: =IF(MONTH(1&Premier_mois)>11,An+1,An) -> #REF! | F11: =DATE(An_ref,10,7)-MOD(DATE(An_ref,10,7)-2,7)+7 -> #REF! | H11: =DATE(An_ref,10,1)+13-MOD(DATE(An_ref,10,1)+4,7) -> #REF!
F12: =DATE(An_ref,12,23) -> #REF! | G12: Assomption
F13: =DATE(An_ref,11,1) -> #REF! | G13: Toussaint
F14: =DATE(An_ref,11,11) -> #REF! | G14: Armistice 1918
F15: =DATE(An_ref,12,25) -> #REF! | G15: Noel
