Workbook
Name An: données!$A$4
Name An_ref: 'AO - 1'!$G$2
Name An_ref: VIERGE!$G$2
Name An_ref: 'VIERGE (2)'!$G$2
Name An_ref: 'VIERGE test zoom menu deroulant'!$G$2
Name An_ref: #REF!
Name Dates: données!$F$1
Name Fériés_ref: OFFSET(données!$F$1,1,,COUNTA(données!$F:$F)-1,)
Name Jours_chômés: données!$D$2:$D$8
Name Premier_mois: données!$A$2
Name Tab_feri: données!$F$2:$G$15

Sheet RECAP GENERALE
B2: RECAPITUALTIF GENERALE
D4: Sur 1 ans | F4: Sur 2 ans
B6: AO 1 | D6: =RECAP!R20 -> 4
F7: =RECAP!T20 -> #REF!
B8: AO 2 | D8: =RECAP!R36 -> #REF!
B10: AGRI 1 | D10: =RECAP!R52 -> #REF!
F11: =RECAP!T52 -> #REF!
B12: AGRI 2 | D12: =RECAP!R68 -> #REF!
B14: CG 1 | D14: =RECAP!R84 -> #REF!
F15: =RECAP!T84 -> #REF!
B16: CG 2 | D16: =RECAP!R100 -> #REF!
B18: PART 1 | D18: =RECAP!R148 -> #REF!
F19: =RECAP!T116 -> #REF!
B20: PART 2 | D20: =RECAP!R196 -> #REF!

Sheet RECAP
E1: RECAPITULATIF
A3: Années | B3: Années | D3: liste chantier | E3: janvier | F3: fevrier | G3: mars | H3: avril | I3: mai | J3: juin | K3: juillet | L3: aout | M3: septembre | N3: octobre | O3: novembre | P3: décembre | R3: total sur 1 ans | T3: total sur 2 ans
A5: 1 | B5: AO 1 | C5: 1 | E5: ='AO - 1'!B8 -> 2 | F5: ='AO - 1'!V8 -> 0 | G5: ='AO - 1'!AP8 -> 0 | H5: ='AO - 1'!B120 -> 0 | I5: ='AO - 1'!V120 -> 0 | J5: ='AO - 1'!AP120 -> 0 | K5: ='AO - 1'!B231 -> 0 | L5: ='AO - 1'!V231 -> 0 | M5: ='AO - 1'!AP231 -> 0 | N5: ='AO - 1'!B342 -> 0 | O5: ='AO - 1'!V342 -> 0 | P5: ='AO - 1'!AP342 -> 0 | R5: =SUM(E5:P5) -> 2 | T5: =R5+R21 -> #REF!
A6: 1 | B6: AO 1 | C6: 2 | E6: ='AO - 1'!B9 -> 0 | F6: ='AO - 1'!V9 -> 0 | G6: ='AO - 1'!AP9 -> 0 | H6: ='AO - 1'!B121 -> 0 | I6: ='AO - 1'!V121 -> 0 | J6: ='AO - 1'!AP121 -> 0 | K6: ='AO - 1'!B232 -> 0 | L6: ='AO - 1'!V232 -> 0 | M6: ='AO - 1'!AP232 -> 0 | N6: ='AO - 1'!B343 -> 0 | O6: ='AO - 1'!V343 -> 0 | P6: ='AO - 1'!AP343 -> 0 | R6: =SUM(E6:P6) -> 0 | T6: =R6+R22 -> #REF!
A7: 1 | B7: AO 1 | C7: 3 | E7: ='AO - 1'!B10 -> 2 | F7: ='AO - 1'!V10 -> 0 | G7: ='AO - 1'!AP10 -> 0 | H7: ='AO - 1'!B122 -> 0 | I7: ='AO - 1'!V122 -> 0 | J7: ='AO - 1'!AP122 -> 0 | K7: ='AO - 1'!B233 -> 0 | L7: ='AO - 1'!V233 -> 0 | M7: ='AO - 1'!AP233 -> 0 | N7: ='AO - 1'!B344 -> 0 | O7: ='AO - 1'!V344 -> 0 | P7: ='AO - 1'!AP344 -> 0 | R7: =SUM(E7:P7) -> 2 | T7: =R7+R23 -> #REF!
A8: 1 | B8: AO 1 | C8: 4 | E8: ='AO - 1'!B11 -> 0 | F8: ='AO - 1'!V11 -> 0 | G8: ='AO - 1'!AP11 -> 0 | H8: ='AO - 1'!B123 -> 0 | I8: ='AO - 1'!V123 -> 0 | J8: ='AO - 1'!AP123 -> 0 | K8: ='AO - 1'!B234 -> 0 | L8: ='AO - 1'!V234 -> 0 | M8: ='AO - 1'!AP234 -> 0 | N8: ='AO - 1'!B345 -> 0 | O8: ='AO - 1'!V345 -> 0 | P8: ='AO - 1'!AP345 -> 0 | R8: =SUM(E8:P8) -> 0 | T8: =R8+R24 -> #REF!
A9: 1 | B9: AO 1 | C9: 5 | E9: ='AO - 1'!B12 -> 0 | F9: ='AO - 1'!V12 -> 0 | G9: ='AO - 1'!AP12 -> 0 | H9: ='AO - 1'!B124 -> 0 | I9: ='AO - 1'!V124 -> 0 | J9: ='AO - 1'!AP124 -> 0 | K9: ='AO - 1'!B235 -> 0 | L9: ='AO - 1'!V235 -> 0 | M9: ='AO - 1'!AP235 -> 0 | N9: ='AO - 1'!B346 -> 0 | O9: ='AO - 1'!V346 -> 0 | P9: ='AO - 1'!AP346 -> 0 | R9: =SUM(E9:P9) -> 0 | T9: =R9+R25 -> #REF!
A10: 1 | B10: AO 1 | C10: 6 | E10: ='AO - 1'!B13 -> 0 | F10: ='AO - 1'!V13 -> 0 | G10: ='AO - 1'!AP13 -> 0 | H10: ='AO - 1'!B125 -> 0 | I10: ='AO - 1'!V125 -> 0 | J10: ='AO - 1'!AP125 -> 0 | K10: ='AO - 1'!B236 -> 0 | L10: ='AO - 1'!V236 -> 0 | M10: ='AO - 1'!AP236 -> 0 | N10: ='AO - 1'!B347 -> 0 | O10: ='AO - 1'!V347 -> 0 | P10: ='AO - 1'!AP347 -> 0 | R10: =SUM(E10:P10) -> 0 | T10: =R10+R26 -> #REF!
A11: 1 | B11: AO 1 | C11: 7 | E11: ='AO - 1'!B14 -> 0 | F11: ='AO - 1'!V14 -> 0 | G11: ='AO - 1'!AP14 -> 0 | H11: ='AO - 1'!B126 -> 0 | I11: ='AO - 1'!V126 -> 0 | J11: ='AO - 1'!AP126 -> 0 | K11: ='AO - 1'!B237 -> 0 | L11: ='AO - 1'!V237 -> 0 | M11: ='AO - 1'!AP237 -> 0 | N11: ='AO - 1'!B348 -> 0 | O11: ='AO - 1'!V348 -> 0 | P11: ='AO - 1'!AP348 -> 0 | R11: =SUM(E11:P11) -> 0 | T11: =R11+R27 -> #REF!
A12: 1 | B12: AO 1 | C12: 8 | E12: ='AO - 1'!B15 -> 0 | F12: ='AO - 1'!V15 -> 0 | G12: ='AO - 1'!AP15 -> 0 | H12: ='AO - 1'!B127 -> 0 | I12: ='AO - 1'!V127 -> 0 | J12: ='AO - 1'!AP127 -> 0 | K12: ='AO - 1'!B238 -> 0 | L12: ='AO - 1'!V238 -> 0 | M12: ='AO - 1'!AP238 -> 0 | N12: ='AO - 1'!B349 -> 0 | O12: ='AO - 1'!V349 -> 0 | P12: ='AO - 1'!AP349 -> 0 | R12: =SUM(E12:P12) -> 0 | T12: =R12+R28 -> #REF!
A13: 1 | B13: AO 1 | C13: 9 | E13: ='AO - 1'!B16 -> 0 | F13: ='AO - 1'!V16 -> 0 | G13: ='AO - 1'!AP16 -> 0 | H13: ='AO - 1'!B128 -> 0 | I13: ='AO - 1'!V128 -> 0 | J13: ='AO - 1'!AP128 -> 0 | K13: ='AO - 1'!B239 -> 0 | L13: ='AO - 1'!V239 -> 0 | M13: ='AO - 1'!AP239 -> 0 | N13: ='AO - 1'!B350 -> 0 | O13: ='AO - 1'!V350 -> 0 | P13: ='AO - 1'!AP350 -> 0 | R13: =SUM(E13:P13) -> 0 | T13: =R13+R29 -> #REF!
A14: 1 | B14: AO 1 | C14: 10 | E14: ='AO - 1'!B17 -> 0 | F14: ='AO - 1'!V17 -> 0 | G14: ='AO - 1'!AP17 -> 0 | H14: ='AO - 1'!B129 -> 0 | I14: ='AO - 1'!V129 -> 0 | J14: ='AO - 1'!AP129 -> 0 | K14: ='AO - 1'!B240 -> 0 | L14: ='AO - 1'!V240 -> 0 | M14: ='AO - 1'!AP240 -> 0 | N14: ='AO - 1'!B351 -> 0 | O14: ='AO - 1'!V351 -> 0 | P14: ='AO - 1'!AP351 -> 0 | R14: =SUM(E14:P14) -> 0 | T14: =R14+R30 -> #REF!
A15: 1 | B15: AO 1 | C15: 11 | E15: ='AO - 1'!B18 -> 0 | F15: ='AO - 1'!V18 -> 0 | G15: ='AO - 1'!AP18 -> 0 | H15: ='AO - 1'!B130 -> 0 | I15: ='AO - 1'!V130 -> 0 | J15: ='AO - 1'!AP130 -> 0 | K15: ='AO - 1'!B241 -> 0 | L15: ='AO - 1'!V241 -> 0 | M15: ='AO - 1'!AP241 -> 0 | N15: ='AO - 1'!B352 -> 0 | O15: ='AO - 1'!V352 -> 0 | P15: ='AO - 1'!AP352 -> 0 | R15: =SUM(E15:P15) -> 0 | T15: =R15+R31 -> #REF!
A16: 1 | B16: AO 1 | C16: 12 | E16: ='AO - 1'!B19 -> 0 | F16: ='AO - 1'!V19 -> 0 | G16: ='AO - 1'!AP19 -> 0 | H16: ='AO - 1'!B131 -> 0 | I16: ='AO - 1'!V131 -> 0 | J16: ='AO - 1'!AP131 -> 0 | K16: ='AO - 1'!B242 -> 0 | L16: ='AO - 1'!V242 -> 0 | M16: ='AO - 1'!AP242 -> 0 | N16: ='AO - 1'!B353 -> 0 | O16: ='AO - 1'!V353 -> 0 | P16: ='AO - 1'!AP353 -> 0 | R16: =SUM(E16:P16) -> 0 | T16: =R16+R32 -> #REF!
... A19: 1 | B19: AO 1 | C19: 15 | E19: ='AO - 1'!B22 -> 0 | F19: ='AO - 1'!V22 -> 0 | G19: ='AO - 1'!AP22 -> 0 | H19: ='AO - 1'!B134 -> 0 | I19: ='AO - 1'!V134 -> 0 | J19: ='AO - 1'!AP134 -> 0 | K19: ='AO - 1'!B245 -> 0 | L19: ='AO - 1'!V245 -> 0 | M19: ='AO - 1'!AP245 -> 0 | N19: ='AO - 1'!B356 -> 0 | O19: ='AO - 1'!V356 -> 0 | P19: ='AO - 1'!AP356 -> 0 | R19: =SUM(E19:P19) -> 0 | T19: =R19+R35 -> #REF!
N20: total des chantiers de la première année | R20: =SUM(R5:R19) -> 4 | T20: =SUM(T5:T19) -> #REF! | U20: total de tout les chantiers sur 2 ans
A21: 2 | B21: AO 2 | C21: 1 | E21: =#REF! -> #REF! | F21: =#REF! -> #REF! | G21: =#REF! -> #REF! | H21: =#REF! -> #REF! | I21: =#REF! -> #REF! | J21: =#REF! -> #REF! | K21: =#REF! -> #REF! | L21: =#REF! -> #REF! | ... P21: =#REF! -> #REF! | R21: =SUM(E21:P21) -> #REF!
A22: 2 | B22: AO 2 | C22: 2 | E22: =#REF! -> #REF! | F22: =#REF! -> #REF! | G22: =#REF! -> #REF! | H22: =#REF! -> #REF! | I22: =#REF! -> #REF! | J22: =#REF! -> #REF! | K22: =#REF! -> #REF! | L22: =#REF! -> #REF! | ... P22: =#REF! -> #REF! | R22: =SUM(E22:P22) -> #REF!
A23: 2 | B23: AO 2 | C23: 3 | E23: =#REF! -> #REF! | F23: =#REF! -> #REF! | G23: =#REF! -> #REF! | H23: =#REF! -> #REF! | I23: =#REF! -> #REF! | J23: =#REF! -> #REF! | K23: =#REF! -> #REF! | L23: =#REF! -> #REF! | ... P23: =#REF! -> #REF! | R23: =SUM(E23:P23) -> #REF!
A24: 2 | B24: AO 2 | C24: 4 | E24: =#REF! -> #REF! | F24: =#REF! -> #REF! | G24: =#REF! -> #REF! | H24: =#REF! -> #REF! | I24: =#REF! -> #REF! | J24: =#REF! -> #REF! | K24: =#REF! -> #REF! | L24: =#REF! -> #REF! | ... P24: =#REF! -> #REF! | R24: =SUM(E24:P24) -> #REF!
A25: 2 | B25: AO 2 | C25: 5 | E25: =#REF! -> #REF! | F25: =#REF! -> #REF! | G25: =#REF! -> #REF! | H25: =#REF! -> #REF! | I25: =#REF! -> #REF! | J25: =#REF! -> #REF! | K25: =#REF! -> #REF! | L25: =#REF! -> #REF! | ... P25: =#REF! -> #REF! | R25: =SUM(E25:P25) -> #REF!
A26: 2 | B26: AO 2 | C26: 6 | E26: =#REF! -> #REF! | F26: =#REF! -> #REF! | G26: =#REF! -> #REF! | H26: =#REF! -> #REF! | I26: =#REF! -> #REF! | J26: =#REF! -> #REF! | K26: =#REF! -> #REF! | L26: =#REF! -> #REF! | ... P26: =#REF! -> #REF! | R26: =SUM(E26:P26) -> #REF!
A27: 2 | B27: AO 2 | C27: 7 | E27: =#REF! -> #REF! | F27: =#REF! -> #REF! | G27: =#REF! -> #REF! | H27: =#REF! -> #REF! | I27: =#REF! -> #REF! | J27: =#REF! -> #REF! | K27: =#REF! -> #REF! | L27: =#REF! -> #REF! | ... P27: =#REF! -> #REF! | R27: =SUM(E27:P27) -> #REF!
A28: 2 | B28: AO 2 | C28: 8 | E28: =#REF! -> #REF! | F28: =#REF! -> #REF! | G28: =#REF! -> #REF! | H28: =#REF! -> #REF! | I28: =#REF! -> #REF! | J28: =#REF! -> #REF! | K28: =#REF! -> #REF! | L28: =#REF! -> #REF! | ... P28: =#REF! -> #REF! | R28: =SUM(E28:P28) -> #REF!
A29: 2 | B29: AO 2 | C29: 9 | E29: =#REF! -> #REF! | F29: =#REF! -> #REF! | G29: =#REF! -> #REF! | H29: =#REF! -> #REF! | I29: =#REF! -> #REF! | J29: =#REF! -> #REF! | K29: =#REF! -> #REF! | L29: =#REF! -> #REF! | ... P29: =#REF! -> #REF! | R29: =SUM(E29:P29) -> #REF!
A30: 2 | B30: AO 2 | C30: 10 | E30: =#REF! -> #REF! | F30: =#REF! -> #REF! | G30: =#REF! -> #REF! | H30: =#REF! -> #REF! | I30: =#REF! -> #REF! | J30: =#REF! -> #REF! | K30: =#REF! -> #REF! | L30: =#REF! -> #REF! | ... P30: =#REF! -> #REF! | R30: =SUM(E30:P30) -> #REF!
A31: 2 | B31: AO 2 | C31: 11 | E31: =#REF! -> #REF! | F31: =#REF! -> #REF! | G31: =#REF! -> #REF! | H31: =#REF! -> #REF! | I31: =#REF! -> #REF! | J31: =#REF! -> #REF! | K31: =#REF! -> #REF! | L31: =#REF! -> #REF! | ... P31: =#REF! -> #REF! | R31: =SUM(E31:P31) -> #REF!
A32: 2 | B32: AO 2 | C32: 12 | E32: =#REF! -> #REF! | F32: =#REF! -> #REF! | G32: =#REF! -> #REF! | H32: =#REF! -> #REF! | I32: =#REF! -> #REF! | J32: =#REF! -> #REF! | K32: =#REF! -> #REF! | L32: =#REF! -> #REF! | ... P32: =#REF! -> #REF! | R32: =SUM(E32:P32) -> #REF!
... A35: 2 | B35: AO 2 | C35: 15 | E35: =#REF! -> #REF! | F35: =#REF! -> #REF! | G35: =#REF! -> #REF! | H35: =#REF! -> #REF! | I35: =#REF! -> #REF! | J35: =#REF! -> #REF! | K35: =#REF! -> #REF! | L35: =#REF! -> #REF! | ... P35: =#REF! -> #REF! | R35: =SUM(E35:P35) -> #REF!
N36: total des chantiers de la deuxième année | R36: =SUM(R21:R35) -> #REF!
A37: 1 | B37: AGRI 1 | C37: 1 | E37: =#REF! -> #REF! | F37: =#REF! -> #REF! | G37: =#REF! -> #REF! | H37: =#REF! -> #REF! | I37: =#REF! -> #REF! | J37: =#REF! -> #REF! | K37: =#REF! -> #REF! | L37: =#REF! -> #REF! | ... P37: =#REF! -> #REF! | R37: =SUM(E37:P37) -> #REF! | T37: =R37+R53 -> #REF!
A38: 1 | B38: AGRI 1 | C38: 2 | E38: =#REF! -> #REF! | F38: =#REF! -> #REF! | G38: =#REF! -> #REF! | H38: =#REF! -> #REF! | I38: =#REF! -> #REF! | J38: =#REF! -> #REF! | K38: =#REF! -> #REF! | L38: =#REF! -> #REF! | ... P38: =#REF! -> #REF! | R38: =SUM(E38:P38) -> #REF! | T38: =R38+R54 -> #REF!
A39: 1 | B39: AGRI 1 | C39: 3 | E39: =#REF! -> #REF! | F39: =#REF! -> #REF! | G39: =#REF! -> #REF! | H39: =#REF! -> #REF! | I39: =#REF! -> #REF! | J39: =#REF! -> #REF! | K39: =#REF! -> #REF! | L39: =#REF! -> #REF! | ... P39: =#REF! -> #REF! | R39: =SUM(E39:P39) -> #REF! | T39: =R39+R55 -> #REF!
A40: 1 | B40: AGRI 1 | C40: 4 | E40: =#REF! -> #REF! | F40: =#REF! -> #REF! | G40: =#REF! -> #REF! | H40: =#REF! -> #REF! | I40: =#REF! -> #REF! | J40: =#REF! -> #REF! | K40: =#REF! -> #REF! | L40: =#REF! -> #REF! | ... P40: =#REF! -> #REF! | R40: =SUM(E40:P40) -> #REF! | T40: =R40+R56 -> #REF!
A41: 1 | B41: AGRI 1 | C41: 5 | E41: =#REF! -> #REF! | F41: =#REF! -> #REF! | G41: =#REF! -> #REF! | H41: =#REF! -> #REF! | I41: =#REF! -> #REF! | J41: =#REF! -> #REF! | K41: =#REF! -> #REF! | L41: =#REF! -> #REF! | ... P41: =#REF! -> #REF! | R41: =SUM(E41:P41) -> #REF! | T41: =R41+R57 -> #REF!
A42: 1 | B42: AGRI 1 | C42: 6 | E42: =#REF! -> #REF! | F42: =#REF! -> #REF! | G42: =#REF! -> #REF! | H42: =#REF! -> #REF! | I42: =#REF! -> #REF! | J42: =#REF! -> #REF! | K42: =#REF! -> #REF! | L42: =#REF! -> #REF! | ... P42: =#REF! -> #REF! | R42: =SUM(E42:P42) -> #REF! | T42: =R42+R58 -> #REF!
A43: 1 | B43: AGRI 1 | C43: 7 | E43: =#REF! -> #REF! | F43: =#REF! -> #REF! | G43: =#REF! -> #REF! | H43: =#REF! -> #REF! | I43: =#REF! -> #REF! | J43: =#REF! -> #REF! | K43: =#REF! -> #REF! | L43: =#REF! -> #REF! | ... P43: =#REF! -> #REF! | R43: =SUM(E43:P43) -> #REF! | T43: =R43+R59 -> #REF!
A44: 1 | B44: AGRI 1 | C44: 8 | E44: =#REF! -> #REF! | F44: =#REF! -> #REF! | G44: =#REF! -> #REF! | H44: =#REF! -> #REF! | I44: =#REF! -> #REF! | J44: =#REF! -> #REF! | K44: =#REF! -> #REF! | L44: =#REF! -> #REF! | ... P44: =#REF! -> #REF! | R44: =SUM(E44:P44) -> #REF! | T44: =R44+R60 -> #REF!
A45: 1 | B45: AGRI 1 | C45: 9 | E45: =#REF! -> #REF! | F45: =#REF! -> #REF! | G45: =#REF! -> #REF! | H45: =#REF! -> #REF! | I45: =#REF! -> #REF! | J45: =#REF! -> #REF! | K45: =#REF! -> #REF! | L45: =#REF! -> #REF! | ... P45: =#REF! -> #REF! | R45: =SUM(E45:P45) -> #REF! | T45: =R45+R61 -> #REF!
A46: 1 | B46: AGRI 1 | C46: 10 | E46: =#REF! -> #REF! | F46: =#REF! -> #REF! | G46: =#REF! -> #REF! | H46: =#REF! -> #REF! | I46: =#REF! -> #REF! | J46: =#REF! -> #REF! | K46: =#REF! -> #REF! | L46: =#REF! -> #REF! | ... P46: =#REF! -> #REF! | R46: =SUM(E46:P46) -> #REF! | T46: =R46+R62 -> #REF!
...

Sheet AO - 1
G2: 2019 | I2: TOTAL pers | K2: =SUM(M4,AG4,BA4,BA116,AG116,M116,M227,AG227,BA227,BA338,AG338,M338) -> 4 | AA2: AO - 1
F4: =EDATE(DATE(An_ref,1,1),0) -> 43466 | M4: =SUM(B8:B22) -> 4 | Z4: =EDATE(DATE(An_ref,1,1),1) -> 43497 | AG4: =SUM(V8:V22) -> 0 | AT4: =EDATE(DATE(An_ref,1,1),2) -> 43525 | BA4: =SUM(AP8:AP22) -> 0 | BN4: Fériés | BO4: Date | BP4: =OR(H7=BO5,H7=BO6,H7=BO7,H7=BO24,H7=BO25,H7=BO26,H7=BO42,H7=BO43,H7=BO44,H7=BO60,H7=BO61,H7=BO62,H7=BO78) -> FALSE
B5: TOTAL | G5: =UPPER(TEXT(H25,"jjjj")) -> LUNDI | I5: =UPPER(TEXT(J25,"jjjj")) -> MARDI | K5: =UPPER(TEXT(L25,"jjjj")) -> MERCREDI | M5: =UPPER(TEXT(N25,"jjjj")) -> JEUDI | O5: =UPPER(TEXT(P25,"jjjj")) -> VENDREDI | Q5: =UPPER(TEXT(R25,"jjjj")) -> SAMEDI | S5: =UPPER(TEXT(T25,"jjjj")) -> DIMANCHE | V5: TOTAL | AA5: =UPPER(TEXT(AB25,"jjjj")) -> LUNDI | AC5: =UPPER(TEXT(AD25,"jjjj")) -> MARDI | AE5: =UPPER(TEXT(AF25,"jjjj")) -> MERCREDI | AG5: =UPPER(TEXT(AH25,"jjjj")) -> JEUDI | AI5: =UPPER(TEXT(AJ25,"jjjj")) -> VENDREDI | AK5: =UPPER(TEXT(AL25,"jjjj")) -> SAMEDI | AM5: =UPPER(TEXT(AN25,"jjjj")) -> DIMANCHE | AP5: TOTAL | AU5: =UPPER(TEXT(AV25,"jjjj")) -> LUNDI | AW5: =UPPER(TEXT(AX25,"jjjj")) -> MARDI | AY5: =UPPER(TEXT(AZ25,"jjjj")) -> MERCREDI | BA5: =UPPER(TEXT(BB25,"jjjj")) -> JEUDI | BC5: =UPPER(TEXT(BD25,"jjjj")) -> VENDREDI | BE5: =UPPER(TEXT(BF25,"jjjj")) -> SAMEDI | BG5: =UPPER(TEXT(BH25,"jjjj")) -> DIMANCHE | BO5: =DATE(An_ref,1,1) -> 43466
F6: =INT((N7-LOOKUP(N7,DATE(YEAR(N7)+{-1;0;1},1,3)-WEEKDAY(DATE(YEAR(N7)+{-1;0;1},1,3))+2))/7)+1 -> 1 | Z6: =INT((AH7-LOOKUP(AH7,DATE(YEAR(AH7)+{-1;0;1},1,3)-WEEKDAY(DATE(YEAR(AH7)+{-1;0;1},1,3))+2))/7)+1 -> #VALUE! | AT6: =INT((BB7-LOOKUP(BB7,DATE(YEAR(BB7)+{-1;0;1},1,3)-WEEKDAY(DATE(YEAR(BB7)+{-1;0;1},1,3))+2))/7)+1 -> #VALUE! | BO6: =DATE(An_ref,1,2) -> 43467
B7: mois | D7: sem | F7: =F6 -> 1 | G7: =IF(ISNA(VLOOKUP(H7,Tab_feri,2,FALSE)),"",VLOOKUP(H7,Tab_feri,2,FALSE)) | H7: =IF(WEEKDAY(F4)=2,F4,"") | I7: =IF(ISNA(VLOOKUP(J7,Tab_feri,2,FALSE)),"",VLOOKUP(J7,Tab_feri,2,FALSE)) | J7: =IF(H7<>"",H7+1,IF(WEEKDAY(F4)=3,F4,"")) -> 43466 | K7: =IF(ISNA(VLOOKUP(L7,Tab_feri,2,FALSE)),"",VLOOKUP(L7,Tab_feri,2,FALSE)) | L7: =IF(J7<>"",J7+1,IF(WEEKDAY(F4)=4,F4,"")) -> 43467 | M7: =IF(ISNA(VLOOKUP(N7,Tab_feri,2,FALSE)),"",VLOOKUP(N7,Tab_feri,2,FALSE)) | N7: =IF(L7<>"",L7+1,IF(WEEKDAY(F4)=5,F4,"")) -> 43468 | O7: =IF(ISNA(VLOOKUP(P7,Tab_feri,2,FALSE)),"",VLOOKUP(P7,Tab_feri,2,FALSE)) | P7: =IF(N7<>"",N7+1,IF(WEEKDAY(F4)=6,F4,"")) -> 43469 | Q7: =IF(ISNA(VLOOKUP(R7,Tab_feri,2,FALSE)),"",VLOOKUP(R7,Tab_feri,2,FALSE)) | R7: =IF(P7<>"",P7+1,IF(WEEKDAY(F4)=7,F4,"")) -> 43470 | S7: =IF(ISNA(VLOOKUP(T7,Tab_feri,2,FALSE)),"",VLOOKUP(T7,Tab_feri,2,FALSE)) | T7: =IF(R7<>"",R7+1,IF(WEEKDAY(F4)=1,F4,"")) -> 43471 | V7: mois | X7: sem | Z7: =Z6 -> #VALUE! | AA7: =IF(ISNA(VLOOKUP(AB7,Tab_feri,2,FALSE)),"",VLOOKUP(AB7,Tab_feri,2,FALSE)) | AB7: =IF(WEEKDAY(Z4)=2,Z4,"") | AC7: =IF(ISNA(VLOOKUP(AD7,Tab_feri,2,FALSE)),"",VLOOKUP(AD7,Tab_feri,2,FALSE)) | AD7: =IF(AB7<>"",AB7+1,IF(WEEKDAY(Z4)=3,Z4,"")) | AE7: =IF(ISNA(VLOOKUP(AF7,Tab_feri,2,FALSE)),"",VLOOKUP(AF7,Tab_feri,2,FALSE)) | AF7: =IF(AD7<>"",AD7+1,IF(WEEKDAY(Z4)=4,Z4,"")) | AG7: =IF(ISNA(VLOOKUP(AH7,Tab_feri,2,FALSE)),"",VLOOKUP(AH7,Tab_feri,2,FALSE)) | AH7: =IF(AF7<>"",AF7+1,IF(WEEKDAY(Z4)=5,Z4,"")) | AI7: =IF(ISNA(VLOOKUP(AJ7,Tab_feri,2,FALSE)),"",VLOOKUP(AJ7,Tab_feri,2,FALSE)) | AJ7: =IF(AH7<>"",AH7+1,IF(WEEKDAY(Z4)=6,Z4,"")) -> 43497 | AK7: =IF(ISNA(VLOOKUP(AL7,Tab_feri,2,FALSE)),"",VLOOKUP(AL7,Tab_feri,2,FALSE)) | AL7: =IF(AJ7<>"",AJ7+1,IF(WEEKDAY(Z4)=7,Z4,"")) -> 43498 | AM7: =IF(ISNA(VLOOKUP(AN7,Tab_feri,2,FALSE)),"",VLOOKUP(AN7,Tab_feri,2,FALSE)) | AN7: =IF(AL7<>"",AL7+1,IF(WEEKDAY(Z4)=1,Z4,"")) -> 43499 | AP7: mois | AR7: sem | AT7: =AT6 -> #VALUE! | AU7: =IF(ISNA(VLOOKUP(AV7,Tab_feri,2,FALSE)),"",VLOOKUP(AV7,Tab_feri,2,FALSE)) | AV7: =IF(WEEKDAY(AT4)=2,AT4,"") | AW7: =IF(ISNA(VLOOKUP(AX7,Tab_feri,2,FALSE)),"",VLOOKUP(AX7,Tab_feri,2,FALSE)) | AX7: =IF(AV7<>"",AV7+1,IF(WEEKDAY(AT4)=3,AT4,"")) | AY7: =IF(ISNA(VLOOKUP(AZ7,Tab_feri,2,FALSE)),"",VLOOKUP(AZ7,Tab_feri,2,FALSE)) | AZ7: =IF(AX7<>"",AX7+1,IF(WEEKDAY(AT4)=4,AT4,"")) | BA7: =IF(ISNA(VLOOKUP(BB7,Tab_feri,2,FALSE)),"",VLOOKUP(BB7,Tab_feri,2,FALSE)) | BB7: =IF(AZ7<>"",AZ7+1,IF(WEEKDAY(AT4)=5,AT4,"")) | BC7: =IF(ISNA(VLOOKUP(BD7,Tab_feri,2,FALSE)),"",VLOOKUP(BD7,Tab_feri,2,FALSE)) | BD7: =IF(BB7<>"",BB7+1,IF(WEEKDAY(AT4)=6,AT4,"")) -> 43525 | BE7: =IF(ISNA(VLOOKUP(BF7,Tab_feri,2,FALSE)),"",VLOOKUP(BF7,Tab_feri,2,FALSE)) | BF7: =IF(BD7<>"",BD7+1,IF(WEEKDAY(AT4)=7,AT4,"")) -> 43526 | BG7: =IF(ISNA(VLOOKUP(BH7,Tab_feri,2,FALSE)),"",VLOOKUP(BH7,Tab_feri,2,FALSE)) | BH7: =IF(BF7<>"",BF7+1,IF(WEEKDAY(AT4)=1,AT4,"")) -> 43527 | BO7: =BO8-2 -> 43574
B8: =SUM(D8,D26,D44,D62,D80,D98) -> 2 | D8: =SUM(H8,J8,L8,N8,P8,R8,T8) -> 2 | F8: 1 | G8: AX HOTEL 309 MX | H8: 2 | V8: =SUM(X8,X26,X44,X62,X80,X98) -> 0 | X8: =SUM(AB8,AD8,AF8,AH8,AJ8,AL8,AN8) -> 0 | Z8: 1 | AP8: =SUM(AR8,AR26,AR44,AR62,AR80,AR98) -> 0 | AR8: =SUM(AV8,AX8,AZ8,BB8,BD8,BF8,BH8) -> 0 | AT8: 1 | BO8: =ROUND(DATE(An_ref,4,MOD(234-11*MOD(An_ref,19),30))/7,)*7-6 -> 43576
B9: =SUM(D9,D27,D45,D63,D81,D99) -> 0 | D9: =SUM(H9,J9,L9,N9,P9,R9,T9) -> 0 | F9: 2 | V9: =SUM(X9,X27,X45,X63,X81,X99) -> 0 | X9: =SUM(AB9,AD9,AF9,AH9,AJ9,AL9,AN9) -> 0 | Z9: 2 | AP9: =SUM(AR9,AR27,AR45,AR63,AR81,AR99) -> 0 | AR9: =SUM(AV9,AX9,AZ9,BB9,BD9,BF9,BH9) -> 0 | AT9: 2
B10: =SUM(D10,D28,D46,D64,D82,D100) -> 2 | D10: =SUM(H10,J10,L10,N10,P10,R10,T10) -> 2 | F10: 3 | G10: AX HOTEL 310 TE | H10: 2 | V10: =SUM(X10,X28,X46,X64,X82,X100) -> 0 | X10: =SUM(AB10,AD10,AF10,AH10,AJ10,AL10,AN10) -> 0 | Z10: 3 | AP10: =SUM(AR10,AR28,AR46,AR64,AR82,AR100) -> 0 | AR10: =SUM(AV10,AX10,AZ10,BB10,BD10,BF10,BH10) -> 0 | AT10: 3
B11: =SUM(D11,D29,D47,D65,D83,D101) -> 0 | D11: =SUM(H11,J11,L11,N11,P11,R11,T11) -> 0 | F11: 4 | V11: =SUM(X11,X29,X47,X65,X83,X101) -> 0 | X11: =SUM(AB11,AD11,AF11,AH11,AJ11,AL11,AN11) -> 0 | Z11: 4 | AP11: =SUM(AR11,AR29,AR47,AR65,AR83,AR101) -> 0 | AR11: =SUM(AV11,AX11,AZ11,BB11,BD11,BF11,BH11) -> 0 | AT11: 4
B12: =SUM(D12,D30,D48,D66,D84,D102) -> 0 | D12: =SUM(H12,J12,L12,N12,P12,R12,T12) -> 0 | F12: 5 | V12: =SUM(X12,X30,X48,X66,X84,X102) -> 0 | X12: =SUM(AB12,AD12,AF12,AH12,AJ12,AL12,AN12) -> 0 | Z12: 5 | AP12: =SUM(AR12,AR30,AR48,AR66,AR84,AR102) -> 0 | AR12: =SUM(AV12,AX12,AZ12,BB12,BD12,BF12,BH12) -> 0 | AT12: 5
B13: =SUM(D13,D31,D49,D67,D85,D103) -> 0 | D13: =SUM(H13,J13,L13,N13,P13,R13,T13) -> 0 | F13: 6 | V13: =SUM(X13,X31,X49,X67,X85,X103) -> 0 | X13: =SUM(AB13,AD13,AF13,AH13,AJ13,AL13,AN13) -> 0 | Z13: 6 | AP13: =SUM(AR13,AR31,AR49,AR67,AR85,AR103) -> 0 | AR13: =SUM(AV13,AX13,AZ13,BB13,BD13,BF13,BH13) -> 0 | AT13: 6
B14: =SUM(D14,D32,D50,D68,D86,D104) -> 0 | D14: =SUM(H14,J14,L14,N14,P14,R14,T14) -> 0 | F14: 7 | V14: =SUM(X14,X32,X50,X68,X86,X104) -> 0 | X14: =SUM(AB14,AD14,AF14,AH14,AJ14,AL14,AN14) -> 0 | Z14: 7 | AP14: =SUM(AR14,AR32,AR50,AR68,AR86,AR104) -> 0 | AR14: =SUM(AV14,AX14,AZ14,BB14,BD14,BF14,BH14) -> 0 | AT14: 7
B15: =SUM(D15,D33,D51,D69,D87,D105) -> 0 | D15: =SUM(H15,J15,L15,N15,P15,R15,T15) -> 0 | F15: 8 | V15: =SUM(X15,X33,X51,X69,X87,X105) -> 0 | X15: =SUM(AB15,AD15,AF15,AH15,AJ15,AL15,AN15) -> 0 | Z15: 8 | AP15: =SUM(AR15,AR33,AR51,AR69,AR87,AR105) -> 0 | AR15: =SUM(AV15,AX15,AZ15,BB15,BD15,BF15,BH15) -> 0 | AT15: 8
B16: =SUM(D16,D34,D52,D70,D88,D106) -> 0 | D16: =SUM(H16,J16,L16,N16,P16,R16,T16) -> 0 | F16: 9 | V16: =SUM(X16,X34,X52,X70,X88,X106) -> 0 | X16: =SUM(AB16,AD16,AF16,AH16,AJ16,AL16,AN16) -> 0 | Z16: 9 | AP16: =SUM(AR16,AR34,AR52,AR70,AR88,AR106) -> 0 | AR16: =SUM(AV16,AX16,AZ16,BB16,BD16,BF16,BH16) -> 0 | AT16: 9
B17: =SUM(D17,D35,D53,D71,D89,D107) -> 0 | D17: =SUM(H17,J17,L17,N17,P17,R17,T17) -> 0 | F17: 10 | V17: =SUM(X17,X35,X53,X71,X89,X107) -> 0 | X17: =SUM(AB17,AD17,AF17,AH17,AJ17,AL17,AN17) -> 0 | Z17: 10 | AP17: =SUM(AR17,AR35,AR53,AR71,AR89,AR107) -> 0 | AR17: =SUM(AV17,AX17,AZ17,BB17,BD17,BF17,BH17) -> 0 | AT17: 10
B18: =SUM(D18,D36,D54,D72,D90,D108) -> 0 | D18: =SUM(H18,J18,L18,N18,P18,R18,T18) -> 0 | F18: 11 | V18: =SUM(X18,X36,X54,X72,X90,X108) -> 0 | X18: =SUM(AB18,AD18,AF18,AH18,AJ18,AL18,AN18) -> 0 | Z18: 11 | AP18: =SUM(AR18,AR36,AR54,AR72,AR90,AR108) -> 0 | AR18: =SUM(AV18,AX18,AZ18,BB18,BD18,BF18,BH18) -> 0 | AT18: 11
B19: =SUM(D19,D37,D55,D73,D91,D109) -> 0 | D19: =SUM(H19,J19,L19,N19,P19,R19,T19) -> 0 | F19: 12 | V19: =SUM(X19,X37,X55,X73,X91,X109) -> 0 | X19: =SUM(AB19,AD19,AF19,AH19,AJ19,AL19,AN19) -> 0 | Z19: 12 | AP19: =SUM(AR19,AR37,AR55,AR73,AR91,AR109) -> 0 | AR19: =SUM(AV19,AX19,AZ19,BB19,BD19,BF19,BH19) -> 0 | AT19: 12
B20: =SUM(D20,D38,D56,D74,D92,D110) -> 0 | D20: =SUM(H20,J20,L20,N20,P20,R20,T20) -> 0 | F20: 13 | V20: =SUM(X20,X38,X56,X74,X92,X110) -> 0 | X20: =SUM(AB20,AD20,AF20,AH20,AJ20,AL20,AN20) -> 0 | Z20: 13 | AP20: =SUM(AR20,AR38,AR56,AR74,AR92,AR110) -> 0 | AR20: =SUM(AV20,AX20,AZ20,BB20,BD20,BF20,BH20) -> 0 | AT20: 13
B21: =SUM(D21,D39,D57,D75,D93,D111) -> 0 | D21: =SUM(H21,J21,L21,N21,P21,R21,T21) -> 0 | F21: 14 | V21: =SUM(X21,X39,X57,X75,X93,X111) -> 0 | X21: =SUM(AB21,AD21,AF21,AH21,AJ21,AL21,AN21) -> 0 | Z21: 14 | AP21: =SUM(AR21,AR39,AR57,AR75,AR93,AR111) -> 0 | AR21: =SUM(AV21,AX21,AZ21,BB21,BD21,BF21,BH21) -> 0 | AT21: 14
B22: =SUM(D22,D40,D58,D76,D94,D112) -> 0 | D22: =SUM(H22,J22,L22,N22,P22,R22,T22) -> 0 | F22: 15 | V22: =SUM(X22,X40,X58,X76,X94,X112) -> 0 | X22: =SUM(AB22,AD22,AF22,AH22,AJ22,AL22,AN22) -> 0 | Z22: 15 | AP22: =SUM(AR22,AR40,AR58,AR76,AR94,AR112) -> 0 | AR22: =SUM(AV22,AX22,AZ22,BB22,BD22,BF22,BH22) -> 0 | AT22: 15
G23: TOTAL | H23: =SUM(H8:H22) -> 4 | J23: =SUM(J8:J22) -> 0 | L23: =SUM(L8:L22) -> 0 | N23: =SUM(N8:N22) -> 0 | P23: =SUM(P8:P22) -> 0 | R23: =SUM(R8:R22) -> 0 | T23: =SUM(T8:T22) -> 0 | AA23: TOTAL | AB23: =SUM(AB8:AB22) -> 0 | AD23: =SUM(AD8:AD22) -> 0 | AF23: =SUM(AF8:AF22) -> 0 | AH23: =SUM(AH8:AH22) -> 0 | AJ23: =SUM(AJ8:AJ22) -> 0 | AL23: =SUM(AL8:AL22) -> 0 | AN23: =SUM(AN8:AN22) -> 0 | AU23: TOTAL | AV23: =SUM(AV8:AV22) -> 0 | AX23: =SUM(AX8:AX22) -> 0 | AZ23: =SUM(AZ8:AZ22) -> 0 | BB23: =SUM(BB8:BB22) -> 0 | BD23: =SUM(BD8:BD22) -> 0 | BF23: =SUM(BF8:BF22) -> 0 | BH23: =SUM(BH8:BH22) -> 0
F24: =INT((N25-LOOKUP(N25,DATE(YEAR(N25)+{-1;0;1},1,3)-WEEKDAY(DATE(YEAR(N25)+{-1;0;1},1,3))+2))/7)+1 -> 2 | Z24: =INT((AH25-LOOKUP(AH25,DATE(YEAR(AH25)+{-1;0;1},1,3)-WEEKDAY(DATE(YEAR(AH25)+{-1;0;1},1,3))+2))/7)+1 -> 6 | AT24: =INT((BB25-LOOKUP(BB25,DATE(YEAR(BB25)+{-1;0;1},1,3)-WEEKDAY(DATE(YEAR(BB25)+{-1;0;1},1,3))+2))/7)+1 -> 10 | BO24: =BO8+1 -> 43577
F25: =F24 -> 2 | G25: =IF(ISNA(VLOOKUP(H25,Tab_feri,2,FALSE)),"",VLOOKUP(H25,Tab_feri,2,FALSE)) | H25: =T7+1 -> 43472 | I25: =IF(ISNA(VLOOKUP(J25,Tab_feri,2,FALSE)),"",VLOOKUP(J25,Tab_feri,2,FALSE)) | J25: =H25+1 -> 43473 | K25: =IF(ISNA(VLOOKUP(L25,Tab_feri,2,FALSE)),"",VLOOKUP(L25,Tab_feri,2,FALSE)) | L25: =J25+1 -> 43474 | M25: =IF(ISNA(VLOOKUP(N25,Tab_feri,2,FALSE)),"",VLOOKUP(N25,Tab_feri,2,FALSE)) | N25: =L25+1 -> 43475 | O25: =IF(ISNA(VLOOKUP(P25,Tab_feri,2,FALSE)),"",VLOOKUP(P25,Tab_feri,2,FALSE)) | P25: =N25+1 -> 43476 | Q25: =IF(ISNA(VLOOKUP(R25,Tab_feri,2,FALSE)),"",VLOOKUP(R25,Tab_feri,2,FALSE)) | R25: =P25+1 -> 43477 | S25: =IF(ISNA(VLOOKUP(T25,Tab_feri,2,FALSE)),"",VLOOKUP(T25,Tab_feri,2,FALSE)) | T25: =R25+1 -> 43478 | Z25: =Z24 -> 6 | AA25: =IF(ISNA(VLOOKUP(AB25,Tab_feri,2,FALSE)),"",VLOOKUP(AB25,Tab_feri,2,FALSE)) | AB25: =AN7+1 -> 43500 | AC25: =IF(ISNA(VLOOKUP(AD25,Tab_feri,2,FALSE)),"",VLOOKUP(AD25,Tab_feri,2,FALSE)) | AD25: =AB25+1 -> 43501 | AE25: =IF(ISNA(VLOOKUP(AF25,Tab_feri,2,FALSE)),"",VLOOKUP(AF25,Tab_feri,2,FALSE)) | AF25: =AD25+1 -> 43502 | AG25: =IF(ISNA(VLOOKUP(AH25,Tab_feri,2,FALSE)),"",VLOOKUP(AH25,Tab_feri,2,FALSE)) | AH25: =AF25+1 -> 43503 | AI25: =IF(ISNA(VLOOKUP(AJ25,Tab_feri,2,FALSE)),"",VLOOKUP(AJ25,Tab_feri,2,FALSE)) | AJ25: =AH25+1 -> 43504 | AK25: =IF(ISNA(VLOOKUP(AL25,Tab_feri,2,FALSE)),"",VLOOKUP(AL25,Tab_feri,2,FALSE)) | AL25: =AJ25+1 -> 43505 | AM25: =IF(ISNA(VLOOKUP(AN25,Tab_feri,2,FALSE)),"",VLOOKUP(AN25,Tab_feri,2,FALSE)) | AN25: =AL25+1 -> 43506 | AT25: =AT24 -> 10 | AU25: =IF(ISNA(VLOOKUP(AV25,Tab_feri,2,FALSE)),"",VLOOKUP(AV25,Tab_feri,2,FALSE)) | AV25: =BH7+1 -> 43528 | AW25: =IF(ISNA(VLOOKUP(AX25,Tab_feri,2,FALSE)),"",VLOOKUP(AX25,Tab_feri,2,FALSE)) | AX25: =AV25+1 -> 43529 | AY25: =IF(ISNA(VLOOKUP(AZ25,Tab_feri,2,FALSE)),"",VLOOKUP(AZ25,Tab_feri,2,FALSE)) | AZ25: =AX25+1 -> 43530 | BA25: =IF(ISNA(VLOOKUP(BB25,Tab_feri,2,FALSE)),"",VLOOKUP(BB25,Tab_feri,2,FALSE)) | BB25: =AZ25+1 -> 43531 | BC25: =IF(ISNA(VLOOKUP(BD25,Tab_feri,2,FALSE)),"",VLOOKUP(BD25,Tab_feri,2,FALSE)) | BD25: =BB25+1 -> 43532 | BE25: =IF(ISNA(VLOOKUP(BF25,Tab_feri,2,FALSE)),"",VLOOKUP(BF25,Tab_feri,2,FALSE)) | BF25: =BD25+1 -> 43533 | BG25: =IF(ISNA(VLOOKUP(BH25,Tab_feri,2,FALSE)),"",VLOOKUP(BH25,Tab_feri,2,FALSE)) | BH25: =BF25+1 -> 43534 | BO25: =DATE(An_ref,5,21) -> 43606
D26: =SUM(H26,J26,L26,N26,P26,R26,T26) -> 0 | F26: 1 | X26: =SUM(AB26,AD26,AF26,AH26,AJ26,AL26,AN26) -> 0 | Z26: 1 | AR26: =SUM(AV26,AX26,AZ26,BB26,BD26,BF26,BH26) -> 0 | AT26: 1 | BO26: =DATE(An_ref,6,24) -> 43640
D27: =SUM(H27,J27,L27,N27,P27,R27,T27) -> 0 | F27: 2 | X27: =SUM(AB27,AD27,AF27,AH27,AJ27,AL27,AN27) -> 0 | Z27: 2 | AR27: =SUM(AV27,AX27,AZ27,BB27,BD27,BF27,BH27) -> 0 | AT27: 2
D28: =SUM(H28,J28,L28,N28,P28,R28,T28) -> 0 | F28: 3 | X28: =SUM(AB28,AD28,AF28,AH28,AJ28,AL28,AN28) -> 0 | Z28: 3 | AR28: =SUM(AV28,AX28,AZ28,BB28,BD28,BF28,BH28) -> 0 | AT28: 3
D29: =SUM(H29,J29,L29,N29,P29,R29,T29) -> 0 | F29: 4 | X29: =SUM(AB29,AD29,AF29,AH29,AJ29,AL29,AN29) -> 0 | Z29: 4 | AR29: =SUM(AV29,AX29,AZ29,BB29,BD29,BF29,BH29) -> 0 | AT29: 4
D30: =SUM(H30,J30,L30,N30,P30,R30,T30) -> 0 | F30: 5 | X30: =SUM(AB30,AD30,AF30,AH30,AJ30,AL30,AN30) -> 0 | Z30: 5 | AR30: =SUM(AV30,AX30,AZ30,BB30,BD30,BF30,BH30) -> 0 | AT30: 5
D31: =SUM(H31,J31,L31,N31,P31,R31,T31) -> 0 | F31: 6 | X31: =SUM(AB31,AD31,AF31,AH31,AJ31,AL31,AN31) -> 0 | Z31: 6 | AR31: =SUM(AV31,AX31,AZ31,BB31,BD31,BF31,BH31) -> 0 | AT31: 6
D32: =SUM(H32,J32,L32,N32,P32,R32,T32) -> 0 | F32: 7 | X32: =SUM(AB32,AD32,AF32,AH32,AJ32,AL32,AN32) -> 0 | Z32: 7 | AR32: =SUM(AV32,AX32,AZ32,BB32,BD32,BF32,BH32) -> 0 | AT32: 7
D33: =SUM(H33,J33,L33,N33,P33,R33,T33) -> 0 | F33: 8 | X33: =SUM(AB33,AD33,AF33,AH33,AJ33,AL33,AN33) -> 0 | Z33: 8 | AR33: =SUM(AV33,AX33,AZ33,BB33,BD33,BF33,BH33) -> 0 | AT33: 8
D34: =SUM(H34,J34,L34,N34,P34,R34,T34) -> 0 | F34: 9 | X34: =SUM(AB34,AD34,AF34,AH34,AJ34,AL34,AN34) -> 0 | Z34: 9 | AR34: =SUM(AV34,AX34,AZ34,BB34,BD34,BF34,BH34) -> 0 | AT34: 9
D35: =SUM(H35,J35,L35,N35,P35,R35,T35) -> 0 | F35: 10 | X35: =SUM(AB35,AD35,AF35,AH35,AJ35,AL35,AN35) -> 0 | Z35: 10 | AR35: =SUM(AV35,AX35,AZ35,BB35,BD35,BF35,BH35) -> 0 | AT35: 10
D36: =SUM(H36,J36,L36,N36,P36,R36,T36) -> 0 | F36: 11 | X36: =SUM(AB36,AD36,AF36,AH36,AJ36,AL36,AN36) -> 0 | Z36: 11 | AR36: =SUM(AV36,AX36,AZ36,BB36,BD36,BF36,BH36) -> 0 | AT36: 11
D37: =SUM(H37,J37,L37,N37,P37,R37,T37) -> 0 | F37: 12 | X37: =SUM(AB37,AD37,AF37,AH37,AJ37,AL37,AN37) -> 0 | Z37: 12 | AR37: =SUM(AV37,AX37,AZ37,BB37,BD37,BF37,BH37) -> 0 | AT37: 12
D38: =SUM(H38,J38,L38,N38,P38,R38,T38) -> 0 | F38: 13 | X38: =SUM(AB38,AD38,AF38,AH38,AJ38,AL38,AN38) -> 0 | Z38: 13 | AR38: =SUM(AV38,AX38,AZ38,BB38,BD38,BF38,BH38) -> 0 | AT38: 13
... D40: =SUM(H40,J40,L40,N40,P40,R40,T40) -> 0 | F40: 15 | X40: =SUM(AB40,AD40,AF40,AH40,AJ40,AL40,AN40) -> 0 | Z40: 15 | AR40: =SUM(AV40,AX40,AZ40,BB40,BD40,BF40,BH40) -> 0 | AT40: 15
G41: TOTAL | H41: =SUM(H26:H40) -> 0 | J41: =SUM(J26:J40) -> 0 | L41: =SUM(L26:L40) -> 0 | N41: =SUM(N26:N40) -> 0 | P41: =SUM(P26:P40) -> 0 | R41: =SUM(R26:R40) -> 0 | T41: =SUM(T26:T40) -> 0 | AA41: TOTAL | AB41: =SUM(AB26:AB40) -> 0 | AD41: =SUM(AD26:AD40) -> 0 | AF41: =SUM(AF26:AF40) -> 0 | AH41: =SUM(AH26:AH40) -> 0 | AJ41: =SUM(AJ26:AJ40) -> 0 | AL41: =SUM(AL26:AL40) -> 0 | AN41: =SUM(AN26:AN40) -> 0 | AU41: TOTAL | AV41: =SUM(AV26:AV40) -> 0 | AX41: =SUM(AX26:AX40) -> 0 | AZ41: =SUM(AZ26:AZ40) -> 0 | BB41: =SUM(BB26:BB40) -> 0 | BD41: =SUM(BD26:BD40) -> 0 | BF41: =SUM(BF26:BF40) -> 0 | BH41: =SUM(BH26:BH40) -> 0
F42: =INT((N43-LOOKUP(N43,DATE(YEAR(N43)+{-1;0;1},1,3)-WEEKDAY(DATE(YEAR(N43)+{-1;0;1},1,3))+2))/7)+1 -> 3 | Z42: =INT((AH43-LOOKUP(AH43,DATE(YEAR(AH43)+{-1;0;1},1,3)-WEEKDAY(DATE(YEAR(AH43)+{-1;0;1},1,3))+2))/7)+1 -> 7 | AT42: =INT((BB43-LOOKUP(BB43,DATE(YEAR(BB43)+{-1;0;1},1,3)-WEEKDAY(DATE(YEAR(BB43)+{-1;0;1},1,3))+2))/7)+1 -> 11 | BO42: =DATE(An_ref,7,1) -> 43647
F43: =F42 -> 3 | G43: =IF(ISNA(VLOOKUP(H43,Tab_feri,2,FALSE)),"",VLOOKUP(H43,Tab_feri,2,FALSE)) | H43: =T25+1 -> 43479 | I43: =IF(ISNA(VLOOKUP(J43,Tab_feri,2,FALSE)),"",VLOOKUP(J43,Tab_feri,2,FALSE)) | J43: =H43+1 -> 43480 | K43: =IF(ISNA(VLOOKUP(L43,Tab_feri,2,FALSE)),"",VLOOKUP(L43,Tab_feri,2,FALSE)) | L43: =J43+1 -> 43481 | M43: =IF(ISNA(VLOOKUP(N43,Tab_feri,2,FALSE)),"",VLOOKUP(N43,Tab_feri,2,FALSE)) | N43: =L43+1 -> 43482 | O43: =IF(ISNA(VLOOKUP(P43,Tab_feri,2,FALSE)),"",VLOOKUP(P43,Tab_feri,2,FALSE)) | P43: =N43+1 -> 43483 | Q43: =IF(ISNA(VLOOKUP(R43,Tab_feri,2,FALSE)),"",VLOOKUP(R43,Tab_feri,2,FALSE)) | R43: =P43+1 -> 43484 | S43: =IF(ISNA(VLOOKUP(T43,Tab_feri,2,FALSE)),"",VLOOKUP(T43,Tab_feri,2,FALSE)) | T43: =R43+1 -> 43485 | Z43: =Z42 -> 7 | AA43: =IF(ISNA(VLOOKUP(AB43,Tab_feri,2,FALSE)),"",VLOOKUP(AB43,Tab_feri,2,FALSE)) | AB43: =AN25+1 -> 43507 | AC43: =IF(ISNA(VLOOKUP(AD43,Tab_feri,2,FALSE)),"",VLOOKUP(AD43,Tab_feri,2,FALSE)) | AD43: =AB43+1 -> 43508 | AE43: =IF(ISNA(VLOOKUP(AF43,Tab_feri,2,FALSE)),"",VLOOKUP(AF43,Tab_feri,2,FALSE)) | AF43: =AD43+1 -> 43509 | AG43: =IF(ISNA(VLOOKUP(AH43,Tab_feri,2,FALSE)),"",VLOOKUP(AH43,Tab_feri,2,FALSE)) | AH43: =AF43+1 -> 43510 | AI43: =IF(ISNA(VLOOKUP(AJ43,Tab_feri,2,FALSE)),"",VLOOKUP(AJ43,Tab_feri,2,FALSE)) | AJ43: =AH43+1 -> 43511 | AK43: =IF(ISNA(VLOOKUP(AL43,Tab_feri,2,FALSE)),"",VLOOKUP(AL43,Tab_feri,2,FALSE)) | AL43: =AJ43+1 -> 43512 | AM43: =IF(ISNA(VLOOKUP(AN43,Tab_feri,2,FALSE)),"",VLOOKUP(AN43,Tab_feri,2,FALSE)) | AN43: =AL43+1 -> 43513 | AT43: =AT42 -> 11 | AU43: =IF(ISNA(VLOOKUP(AV43,Tab_feri,2,FALSE)),"",VLOOKUP(AV43,Tab_feri,2,FALSE)) | AV43: =BH25+1 -> 43535 | AW43: =IF(ISNA(VLOOKUP(AX43,Tab_feri,2,FALSE)),"",VLOOKUP(AX43,Tab_feri,2,FALSE)) | AX43: =AV43+1 -> 43536 | AY43: =IF(ISNA(VLOOKUP(AZ43,Tab_feri,2,FALSE)),"",VLOOKUP(AZ43,Tab_feri,2,FALSE)) | AZ43: =AX43+1 -> 43537 | BA43: =IF(ISNA(VLOOKUP(BB43,Tab_feri,2,FALSE)),"",VLOOKUP(BB43,Tab_feri,2,FALSE)) | BB43: =AZ43+1 -> 43538 | BC43: =IF(ISNA(VLOOKUP(BD43,Tab_feri,2,FALSE)),"",VLOOKUP(BD43,Tab_feri,2,FALSE)) | BD43: =BB43+1 -> 43539 | BE43: =IF(ISNA(VLOOKUP(BF43,Tab_feri,2,FALSE)),"",VLOOKUP(BF43,Tab_feri,2,FALSE)) | BF43: =BD43+1 -> 43540 | BG43: =IF(ISNA(VLOOKUP(BH43,Tab_feri,2,FALSE)),"",VLOOKUP(BH43,Tab_feri,2,FALSE)) | BH43: =BF43+1 -> 43541 | BO43: =DATE(An_ref,9,3) -> 43711
...

Sheet Liste Chantier
B1: AX HOTEL 300 CO | D1: codification | F1: famille ouvrage | G1: code couleur | I1: famille client | J1: code couleur
B2: AX HOTEL 301 BA | D2: CO | F2: couverture | I2: ao
B3: AX HOTEL 302 OB | D3: BM | F3: bardage métal | I3: agri
B4: AX HOTEL 303 CH | D4: OB | F4: ossature bois | I4: cg
B5: AX HOTEL 304 PS | D5: CH | F5: charpente | I5: part
B6: AX HOTEL 305 PA | D6: PS | F6: plafond suspendu
B7: AX HOTEL 306 FE | D7: PA | F7: parquet
B8: AX HOTEL 307 PL | D8: FE | F8: fermeture
B9: AX HOTEL 308 MI | D9: PL | F9: placo
B10: AX HOTEL 309 MX | D10: MI | F10: menuiserie interieure
B11: AX HOTEL 310 TE | D11: MX | F11: menuiserie exterieure
B12: DUPOND 50 CH | D12: TE | F12: terrasse
B13: DUPOND 20 MI | D13: BB | F13: bardage bois
B14: DUPOND 10 MX | D14: FE | F14: fermette
D15: AU | F15: autre

Sheet VIERGE
G2: 2019 | I2: TOTAL pers | K2: =SUM(M4,AG4,BA4,BA116,AG116,M116,M227,AG227,BA227,BA338,AG338,M338) -> 0 | L2: par 9h | M2: =K2/16 -> 0
F4: =EDATE(DATE(An_ref,1,1),0) -> 43466 | M4: =SUM(B8:B22) -> 0 | Z4: =EDATE(DATE(An_ref,1,1),1) -> 43497 | AG4: =SUM(V8:V22) -> 0 | AT4: =EDATE(DATE(An_ref,1,1),2) -> 43525 | BA4: =SUM(AP8:AP22) -> 0 | BN4: Fériés | BO4: Date | BP4: =OR(H7=BO5,H7=BO6,H7=BO7,H7=BO24,H7=BO25,H7=BO26,H7=BO42,H7=BO43,H7=BO44,H7=BO60,H7=BO61,H7=BO62,H7=BO78) -> FALSE
B5: TOTAL | G5: =UPPER(TEXT(H25,"jjjj")) -> LUNDI | I5: =UPPER(TEXT(J25,"jjjj")) -> MARDI | K5: =UPPER(TEXT(L25,"jjjj")) -> MERCREDI | M5: =UPPER(TEXT(N25,"jjjj")) -> JEUDI | O5: =UPPER(TEXT(P25,"jjjj")) -> VENDREDI | Q5: =UPPER(TEXT(R25,"jjjj")) -> SAMEDI | S5: =UPPER(TEXT(T25,"jjjj")) -> DIMANCHE | V5: TOTAL | AA5: =UPPER(TEXT(AB25,"jjjj")) -> LUNDI | AC5: =UPPER(TEXT(AD25,"jjjj")) -> MARDI | AE5: =UPPER(TEXT(AF25,"jjjj")) -> MERCREDI | AG5: =UPPER(TEXT(AH25,"jjjj")) -> JEUDI | AI5: =UPPER(TEXT(AJ25,"jjjj")) -> VENDREDI | AK5: =UPPER(TEXT(AL25,"jjjj")) -> SAMEDI | AM5: =UPPER(TEXT(AN25,"jjjj")) -> DIMANCHE | AP5: TOTAL | AU5: =UPPER(TEXT(AV25,"jjjj")) -> LUNDI | AW5: =UPPER(TEXT(AX25,"jjjj")) -> MARDI | AY5: =UPPER(TEXT(AZ25,"jjjj")) -> MERCREDI | BA5: =UPPER(TEXT(BB25,"jjjj")) -> JEUDI | BC5: =UPPER(TEXT(BD25,"jjjj")) -> VENDREDI | BE5: =UPPER(TEXT(BF25,"jjjj")) -> SAMEDI | BG5: =UPPER(TEXT(BH25,"jjjj")) -> DIMANCHE | BO5: =DATE(An_ref,1,1) -> 43466
F6: =INT((N7-LOOKUP(N7,DATE(YEAR(N7)+{-1;0;1},1,3)-WEEKDAY(DATE(YEAR(N7)+{-1;0;1},1,3))+2))/7)+1 -> 1 | Z6: =INT((AH7-LOOKUP(AH7,DATE(YEAR(AH7)+{-1;0;1},1,3)-WEEKDAY(DATE(YEAR(AH7)+{-1;0;1},1,3))+2))/7)+1 -> #VALUE! | AT6: =INT((BB7-LOOKUP(BB7,DATE(YEAR(BB7)+{-1;0;1},1,3)-WEEKDAY(DATE(YEAR(BB7)+{-1;0;1},1,3))+2))/7)+1 -> #VALUE! | BO6: =DATE(An_ref,1,2) -> 43467
B7: mois | D7: sem | F7: =F6 -> 1 | G7: =IF(ISNA(VLOOKUP(H7,Tab_feri,2,FALSE)),"",VLOOKUP(H7,Tab_feri,2,FALSE)) | H7: =IF(WEEKDAY(F4)=2,F4,"") | I7: =IF(ISNA(VLOOKUP(J7,Tab_feri,2,FALSE)),"",VLOOKUP(J7,Tab_feri,2,FALSE)) | J7: =IF(H7<>"",H7+1,IF(WEEKDAY(F4)=3,F4,"")) -> 43466 | K7: =IF(ISNA(VLOOKUP(L7,Tab_feri,2,FALSE)),"",VLOOKUP(L7,Tab_feri,2,FALSE)) | L7: =IF(J7<>"",J7+1,IF(WEEKDAY(F4)=4,F4,"")) -> 43467 | M7: =IF(ISNA(VLOOKUP(N7,Tab_feri,2,FALSE)),"",VLOOKUP(N7,Tab_feri,2,FALSE)) | N7: =IF(L7<>"",L7+1,IF(WEEKDAY(F4)=5,F4,"")) -> 43468 | O7: =IF(ISNA(VLOOKUP(P7,Tab_feri,2,FALSE)),"",VLOOKUP(P7,Tab_feri,2,FALSE)) | P7: =IF(N7<>"",N7+1,IF(WEEKDAY(F4)=6,F4,"")) -> 43469 | Q7: =IF(ISNA(VLOOKUP(R7,Tab_feri,2,FALSE)),"",VLOOKUP(R7,Tab_feri,2,FALSE)) | R7: =IF(P7<>"",P7+1,IF(WEEKDAY(F4)=7,F4,"")) -> 43470 | S7: =IF(ISNA(VLOOKUP(T7,Tab_feri,2,FALSE)),"",VLOOKUP(T7,Tab_feri,2,FALSE)) | T7: =IF(R7<>"",R7+1,IF(WEEKDAY(F4)=1,F4,"")) -> 43471 | V7: mois | X7: sem | Z7: =Z6 -> #VALUE! | AA7: =IF(ISNA(VLOOKUP(AB7,Tab_feri,2,FALSE)),"",VLOOKUP(AB7,Tab_feri,2,FALSE)) | AB7: =IF(WEEKDAY(Z4)=2,Z4,"") | AC7: =IF(ISNA(VLOOKUP(AD7,Tab_feri,2,FALSE)),"",VLOOKUP(AD7,Tab_feri,2,FALSE)) | AD7: =IF(AB7<>"",AB7+1,IF(WEEKDAY(Z4)=3,Z4,"")) | AE7: =IF(ISNA(VLOOKUP(AF7,Tab_feri,2,FALSE)),"",VLOOKUP(AF7,Tab_feri,2,FALSE)) | AF7: =IF(AD7<>"",AD7+1,IF(WEEKDAY(Z4)=4,Z4,"")) | AG7: =IF(ISNA(VLOOKUP(AH7,Tab_feri,2,FALSE)),"",VLOOKUP(AH7,Tab_feri,2,FALSE)) | AH7: =IF(AF7<>"",AF7+1,IF(WEEKDAY(Z4)=5,Z4,"")) | AI7: =IF(ISNA(VLOOKUP(AJ7,Tab_feri,2,FALSE)),"",VLOOKUP(AJ7,Tab_feri,2,FALSE)) | AJ7: =IF(AH7<>"",AH7+1,IF(WEEKDAY(Z4)=6,Z4,"")) -> 43497 | AK7: =IF(ISNA(VLOOKUP(AL7,Tab_feri,2,FALSE)),"",VLOOKUP(AL7,Tab_feri,2,FALSE)) | AL7: =IF(AJ7<>"",AJ7+1,IF(WEEKDAY(Z4)=7,Z4,"")) -> 43498 | AM7: =IF(ISNA(VLOOKUP(AN7,Tab_feri,2,FALSE)),"",VLOOKUP(AN7,Tab_feri,2,FALSE)) | AN7: =IF(AL7<>"",AL7+1,IF(WEEKDAY(Z4)=1,Z4,"")) -> 43499 | AP7: mois | AR7: sem | AT7: =AT6 -> #VALUE! | AU7: =IF(ISNA(VLOOKUP(AV7,Tab_feri,2,FALSE)),"",VLOOKUP(AV7,Tab_feri,2,FALSE)) | AV7: =IF(WEEKDAY(AT4)=2,AT4,"") | AW7: =IF(ISNA(VLOOKUP(AX7,Tab_feri,2,FALSE)),"",VLOOKUP(AX7,Tab_feri,2,FALSE)) | AX7: =IF(AV7<>"",AV7+1,IF(WEEKDAY(AT4)=3,AT4,"")) | AY7: =IF(ISNA(VLOOKUP(AZ7,Tab_feri,2,FALSE)),"",VLOOKUP(AZ7,Tab_feri,2,FALSE)) | AZ7: =IF(AX7<>"",AX7+1,IF(WEEKDAY(AT4)=4,AT4,"")) | BA7: =IF(ISNA(VLOOKUP(BB7,Tab_feri,2,FALSE)),"",VLOOKUP(BB7,Tab_feri,2,FALSE)) | BB7: =IF(AZ7<>"",AZ7+1,IF(WEEKDAY(AT4)=5,AT4,"")) | BC7: =IF(ISNA(VLOOKUP(BD7,Tab_feri,2,FALSE)),"",VLOOKUP(BD7,Tab_feri,2,FALSE)) | BD7: =IF(BB7<>"",BB7+1,IF(WEEKDAY(AT4)=6,AT4,"")) -> 43525 | BE7: =IF(ISNA(VLOOKUP(BF7,Tab_feri,2,FALSE)),"",VLOOKUP(BF7,Tab_feri,2,FALSE)) | BF7: =IF(BD7<>"",BD7+1,IF(WEEKDAY(AT4)=7,AT4,"")) -> 43526 | BG7: =IF(ISNA(VLOOKUP(BH7,Tab_feri,2,FALSE)),"",VLOOKUP(BH7,Tab_feri,2,FALSE)) | BH7: =IF(BF7<>"",BF7+1,IF(WEEKDAY(AT4)=1,AT4,"")) -> 43527 | BO7: =BO8-2 -> 43574
B8: =SUM(D8,D26,D44,D62,D80,D98) -> 0 | D8: =SUM(H8,J8,L8,N8,P8,R8,T8) -> 0 | F8: 1 | V8: =SUM(X8,X26,X44,X62,X80,X98) -> 0 | X8: =SUM(AB8,AD8,AF8,AH8,AJ8,AL8,AN8) -> 0 | Z8: 1 | AP8: =SUM(AR8,AR26,AR44,AR62,AR80,AR98) -> 0 | AR8: =SUM(AV8,AX8,AZ8,BB8,BD8,BF8,BH8) -> 0 | AT8: 1 | BO8: =ROUND(DATE(An_ref,4,MOD(234-11*MOD(An_ref,19),30))/7,)*7-6 -> 43576
B9: =SUM(D9,D27,D45,D63,D81,D99) -> 0 | D9: =SUM(H9,J9,L9,N9,P9,R9,T9) -> 0 | F9: 2 | V9: =SUM(X9,X27,X45,X63,X81,X99) -> 0 | X9: =SUM(AB9,AD9,AF9,AH9,AJ9,AL9,AN9) -> 0 | Z9: 2 | AP9: =SUM(AR9,AR27,AR45,AR63,AR81,AR99) -> 0 | AR9: =SUM(AV9,AX9,AZ9,BB9,BD9,BF9,BH9) -> 0 | AT9: 2
B10: =SUM(D10,D28,D46,D64,D82,D100) -> 0 | D10: =SUM(H10,J10,L10,N10,P10,R10,T10) -> 0 | F10: 3 | V10: =SUM(X10,X28,X46,X64,X82,X100) -> 0 | X10: =SUM(AB10,AD10,AF10,AH10,AJ10,AL10,AN10) -> 0 | Z10: 3 | AP10: =SUM(AR10,AR28,AR46,AR64,AR82,AR100) -> 0 | AR10: =SUM(AV10,AX10,AZ10,BB10,BD10,BF10,BH10) -> 0 | AT10: 3
B11: =SUM(D11,D29,D47,D65,D83,D101) -> 0 | D11: =SUM(H11,J11,L11,N11,P11,R11,T11) -> 0 | F11: 4 | V11: =SUM(X11,X29,X47,X65,X83,X101) -> 0 | X11: =SUM(AB11,AD11,AF11,AH11,AJ11,AL11,AN11) -> 0 | Z11: 4 | AP11: =SUM(AR11,AR29,AR47,AR65,AR83,AR101) -> 0 | AR11: =SUM(AV11,AX11,AZ11,BB11,BD11,BF11,BH11) -> 0 | AT11: 4
B12: =SUM(D12,D30,D48,D66,D84,D102) -> 0 | D12: =SUM(H12,J12,L12,N12,P12,R12,T12) -> 0 | F12: 5 | V12: =SUM(X12,X30,X48,X66,X84,X102) -> 0 | X12: =SUM(AB12,AD12,AF12,AH12,AJ12,AL12,AN12) -> 0 | Z12: 5 | AP12: =SUM(AR12,AR30,AR48,AR66,AR84,AR102) -> 0 | AR12: =SUM(AV12,AX12,AZ12,BB12,BD12,BF12,BH12) -> 0 | AT12: 5
B13: =SUM(D13,D31,D49,D67,D85,D103) -> 0 | D13: =SUM(H13,J13,L13,N13,P13,R13,T13) -> 0 | F13: 6 | V13: =SUM(X13,X31,X49,X67,X85,X103) -> 0 | X13: =SUM(AB13,AD13,AF13,AH13,AJ13,AL13,AN13) -> 0 | Z13: 6 | AP13: =SUM(AR13,AR31,AR49,AR67,AR85,AR103) -> 0 | AR13: =SUM(AV13,AX13,AZ13,BB13,BD13,BF13,BH13) -> 0 | AT13: 6
B14: =SUM(D14,D32,D50,D68,D86,D104) -> 0 | D14: =SUM(H14,J14,L14,N14,P14,R14,T14) -> 0 | F14: 7 | V14: =SUM(X14,X32,X50,X68,X86,X104) -> 0 | X14: =SUM(AB14,AD14,AF14,AH14,AJ14,AL14,AN14) -> 0 | Z14: 7 | AP14: =SUM(AR14,AR32,AR50,AR68,AR86,AR104) -> 0 | AR14: =SUM(AV14,AX14,AZ14,BB14,BD14,BF14,BH14) -> 0 | AT14: 7
B15: =SUM(D15,D33,D51,D69,D87,D105) -> 0 | D15: =SUM(H15,J15,L15,N15,P15,R15,T15) -> 0 | F15: 8 | V15: =SUM(X15,X33,X51,X69,X87,X105) -> 0 | X15: =SUM(AB15,AD15,AF15,AH15,AJ15,AL15,AN15) -> 0 | Z15: 8 | AP15: =SUM(AR15,AR33,AR51,AR69,AR87,AR105) -> 0 | AR15: =SUM(AV15,AX15,AZ15,BB15,BD15,BF15,BH15) -> 0 | AT15: 8
B16: =SUM(D16,D34,D52,D70,D88,D106) -> 0 | D16: =SUM(H16,J16,L16,N16,P16,R16,T16) -> 0 | F16: 9 | V16: =SUM(X16,X34,X52,X70,X88,X106) -> 0 | X16: =SUM(AB16,AD16,AF16,AH16,AJ16,AL16,AN16) -> 0 | Z16: 9 | AP16: =SUM(AR16,AR34,AR52,AR70,AR88,AR106) -> 0 | AR16: =SUM(AV16,AX16,AZ16,BB16,BD16,BF16,BH16) -> 0 | AT16: 9
B17: =SUM(D17,D35,D53,D71,D89,D107) -> 0 | D17: =SUM(H17,J17,L17,N17,P17,R17,T17) -> 0 | F17: 10 | V17: =SUM(X17,X35,X53,X71,X89,X107) -> 0 | X17: =SUM(AB17,AD17,AF17,AH17,AJ17,AL17,AN17) -> 0 | Z17: 10 | AP17: =SUM(AR17,AR35,AR53,AR71,AR89,AR107) -> 0 | AR17: =SUM(AV17,AX17,AZ17,BB17,BD17,BF17,BH17) -> 0 | AT17: 10
B18: =SUM(D18,D36,D54,D72,D90,D108) -> 0 | D18: =SUM(H18,J18,L18,N18,P18,R18,T18) -> 0 | F18: 11 | V18: =SUM(X18,X36,X54,X72,X90,X108) -> 0 | X18: =SUM(AB18,AD18,AF18,AH18,AJ18,AL18,AN18) -> 0 | Z18: 11 | AP18: =SUM(AR18,AR36,AR54,AR72,AR90,AR108) -> 0 | AR18: =SUM(AV18,AX18,AZ18,BB18,BD18,BF18,BH18) -> 0 | AT18: 11
B19: =SUM(D19,D37,D55,D73,D91,D109) -> 0 | D19: =SUM(H19,J19,L19,N19,P19,R19,T19) -> 0 | F19: 12 | V19: =SUM(X19,X37,X55,X73,X91,X109) -> 0 | X19: =SUM(AB19,AD19,AF19,AH19,AJ19,AL19,AN19) -> 0 | Z19: 12 | AP19: =SUM(AR19,AR37,AR55,AR73,AR91,AR109) -> 0 | AR19: =SUM(AV19,AX19,AZ19,BB19,BD19,BF19,BH19) -> 0 | AT19: 12
B20: =SUM(D20,D38,D56,D74,D92,D110) -> 0 | D20: =SUM(H20,J20,L20,N20,P20,R20,T20) -> 0 | F20: 13 | V20: =SUM(X20,X38,X56,X74,X92,X110) -> 0 | X20: =SUM(AB20,AD20,AF20,AH20,AJ20,AL20,AN20) -> 0 | Z20: 13 | AP20: =SUM(AR20,AR38,AR56,AR74,AR92,AR110) -> 0 | AR20: =SUM(AV20,AX20,AZ20,BB20,BD20,BF20,BH20) -> 0 | AT20: 13
... B22: =SUM(D22,D40,D58,D76,D94,D112) -> 0 | D22: =SUM(H22,J22,L22,N22,P22,R22,T22) -> 0 | F22: 15 | V22: =SUM(X22,X40,X58,X76,X94,X112) -> 0 | X22: =SUM(AB22,AD22,AF22,AH22,AJ22,AL22,AN22) -> 0 | Z22: 15 | AP22: =SUM(AR22,AR40,AR58,AR76,AR94,AR112) -> 0 | AR22: =SUM(AV22,AX22,AZ22,BB22,BD22,BF22,BH22) -> 0 | AT22: 15
G23: TOTAL | H23: =SUM(H8:H22) -> 0 | J23: =SUM(J8:J22) -> 0 | L23: =SUM(L8:L22) -> 0 | N23: =SUM(N8:N22) -> 0 | P23: =SUM(P8:P22) -> 0 | R23: =SUM(R8:R22) -> 0 | T23: =SUM(T8:T22) -> 0 | AA23: TOTAL | AB23: =SUM(AB8:AB22) -> 0 | AD23: =SUM(AD8:AD22) -> 0 | AF23: =SUM(AF8:AF22) -> 0 | AH23: =SUM(AH8:AH22) -> 0 | AJ23: =SUM(AJ8:AJ22) -> 0 | AL23: =SUM(AL8:AL22) -> 0 | AN23: =SUM(AN8:AN22) -> 0 | AU23: TOTAL | AV23: =SUM(AV8:AV22) -> 0 | AX23: =SUM(AX8:AX22) -> 0 | AZ23: =SUM(AZ8:AZ22) -> 0 | BB23: =SUM(BB8:BB22) -> 0 | BD23: =SUM(BD8:BD22) -> 0 | BF23: =SUM(BF8:BF22) -> 0 | BH23: =SUM(BH8:BH22) -> 0
F24: =INT((N25-LOOKUP(N25,DATE(YEAR(N25)+{-1;0;1},1,3)-WEEKDAY(DATE(YEAR(N25)+{-1;0;1},1,3))+2))/7)+1 -> 2 | Z24: =INT((AH25-LOOKUP(AH25,DATE(YEAR(AH25)+{-1;0;1},1,3)-WEEKDAY(DATE(YEAR(AH25)+{-1;0;1},1,3))+2))/7)+1 -> 6 | AT24: =INT((BB25-LOOKUP(BB25,DATE(YEAR(BB25)+{-1;0;1},1,3)-WEEKDAY(DATE(YEAR(BB25)+{-1;0;1},1,3))+2))/7)+1 -> 10 | BO24: =BO8+1 -> 43577
F25: =F24 -> 2 | G25: =IF(ISNA(VLOOKUP(H25,Tab_feri,2,FALSE)),"",VLOOKUP(H25,Tab_feri,2,FALSE)) | H25: =T7+1 -> 43472 | I25: =IF(ISNA(VLOOKUP(J25,Tab_feri,2,FALSE)),"",VLOOKUP(J25,Tab_feri,2,FALSE)) | J25: =H25+1 -> 43473 | K25: =IF(ISNA(VLOOKUP(L25,Tab_feri,2,FALSE)),"",VLOOKUP(L25,Tab_feri,2,FALSE)) | L25: =J25+1 -> 43474 | M25: =IF(ISNA(VLOOKUP(N25,Tab_feri,2,FALSE)),"",VLOOKUP(N25,Tab_feri,2,FALSE)) | N25: =L25+1 -> 43475 | O25: =IF(ISNA(VLOOKUP(P25,Tab_feri,2,FALSE)),"",VLOOKUP(P25,Tab_feri,2,FALSE)) | P25: =N25+1 -> 43476 | Q25: =IF(ISNA(VLOOKUP(R25,Tab_feri,2,FALSE)),"",VLOOKUP(R25,Tab_feri,2,FALSE)) | R25: =P25+1 -> 43477 | S25: =IF(ISNA(VLOOKUP(T25,Tab_feri,2,FALSE)),"",VLOOKUP(T25,Tab_feri,2,FALSE)) | T25: =R25+1 -> 43478 | Z25: =Z24 -> 6 | AA25: =IF(ISNA(VLOOKUP(AB25,Tab_feri,2,FALSE)),"",VLOOKUP(AB25,Tab_feri,2,FALSE)) | AB25: =AN7+1 -> 43500 | AC25: =IF(ISNA(VLOOKUP(AD25,Tab_feri,2,FALSE)),"",VLOOKUP(AD25,Tab_feri,2,FALSE)) | AD25: =AB25+1 -> 43501 | AE25: =IF(ISNA(VLOOKUP(AF25,Tab_feri,2,FALSE)),"",VLOOKUP(AF25,Tab_feri,2,FALSE)) | AF25: =AD25+1 -> 43502 | AG25: =IF(ISNA(VLOOKUP(AH25,Tab_feri,2,FALSE)),"",VLOOKUP(AH25,Tab_feri,2,FALSE)) | AH25: =AF25+1 -> 43503 | AI25: =IF(ISNA(VLOOKUP(AJ25,Tab_feri,2,FALSE)),"",VLOOKUP(AJ25,Tab_feri,2,FALSE)) | AJ25: =AH25+1 -> 43504 | AK25: =IF(ISNA(VLOOKUP(AL25,Tab_feri,2,FALSE)),"",VLOOKUP(AL25,Tab_feri,2,FALSE)) | AL25: =AJ25+1 -> 43505 | AM25: =IF(ISNA(VLOOKUP(AN25,Tab_feri,2,FALSE)),"",VLOOKUP(AN25,Tab_feri,2,FALSE)) | AN25: =AL25+1 -> 43506 | AT25: =AT24 -> 10 | AU25: =IF(ISNA(VLOOKUP(AV25,Tab_feri,2,FALSE)),"",VLOOKUP(AV25,Tab_feri,2,FALSE)) | AV25: =BH7+1 -> 43528 | AW25: =IF(ISNA(VLOOKUP(AX25,Tab_feri,2,FALSE)),"",VLOOKUP(AX25,Tab_feri,2,FALSE)) | AX25: =AV25+1 -> 43529 | AY25: =IF(ISNA(VLOOKUP(AZ25,Tab_feri,2,FALSE)),"",VLOOKUP(AZ25,Tab_feri,2,FALSE)) | AZ25: =AX25+1 -> 43530 | BA25: =IF(ISNA(VLOOKUP(BB25,Tab_feri,2,FALSE)),"",VLOOKUP(BB25,Tab_feri,2,FALSE)) | BB25: =AZ25+1 -> 43531 | BC25: =IF(ISNA(VLOOKUP(BD25,Tab_feri,2,FALSE)),"",VLOOKUP(BD25,Tab_feri,2,FALSE)) | BD25: =BB25+1 -> 43532 | BE25: =IF(ISNA(VLOOKUP(BF25,Tab_feri,2,FALSE)),"",VLOOKUP(BF25,Tab_feri,2,FALSE)) | BF25: =BD25+1 -> 43533 | BG25: =IF(ISNA(VLOOKUP(BH25,Tab_feri,2,FALSE)),"",VLOOKUP(BH25,Tab_feri,2,FALSE)) | BH25: =BF25+1 -> 43534 | BO25: =DATE(An_ref,5,21) -> 43606
D26: =SUM(H26,J26,L26,N26,P26,R26,T26) -> 0 | F26: 1 | X26: =SUM(AB26,AD26,AF26,AH26,AJ26,AL26,AN26) -> 0 | Z26: 1 | AR26: =SUM(AV26,AX26,AZ26,BB26,BD26,BF26,BH26) -> 0 | AT26: 1 | BO26: =DATE(An_ref,6,24) -> 43640
D27: =SUM(H27,J27,L27,N27,P27,R27,T27) -> 0 | F27: 2 | X27: =SUM(AB27,AD27,AF27,AH27,AJ27,AL27,AN27) -> 0 | Z27: 2 | AR27: =SUM(AV27,AX27,AZ27,BB27,BD27,BF27,BH27) -> 0 | AT27: 2
D28: =SUM(H28,J28,L28,N28,P28,R28,T28) -> 0 | F28: 3 | X28: =SUM(AB28,AD28,AF28,AH28,AJ28,AL28,AN28) -> 0 | Z28: 3 | AR28: =SUM(AV28,AX28,AZ28,BB28,BD28,BF28,BH28) -> 0 | AT28: 3
D29: =SUM(H29,J29,L29,N29,P29,R29,T29) -> 0 | F29: 4 | X29: =SUM(AB29,AD29,AF29,AH29,AJ29,AL29,AN29) -> 0 | Z29: 4 | AR29: =SUM(AV29,AX29,AZ29,BB29,BD29,BF29,BH29) -> 0 | AT29: 4
D30: =SUM(H30,J30,L30,N30,P30,R30,T30) -> 0 | F30: 5 | X30: =SUM(AB30,AD30,AF30,AH30,AJ30,AL30,AN30) -> 0 | Z30: 5 | AR30: =SUM(AV30,AX30,AZ30,BB30,BD30,BF30,BH30) -> 0 | AT30: 5
D31: =SUM(H31,J31,L31,N31,P31,R31,T31) -> 0 | F31: 6 | X31: =SUM(AB31,AD31,AF31,AH31,AJ31,AL31,AN31) -> 0 | Z31: 6 | AR31: =SUM(AV31,AX31,AZ31,BB31,BD31,BF31,BH31) -> 0 | AT31: 6
D32: =SUM(H32,J32,L32,N32,P32,R32,T32) -> 0 | F32: 7 | X32: =SUM(AB32,AD32,AF32,AH32,AJ32,AL32,AN32) -> 0 | Z32: 7 | AR32: =SUM(AV32,AX32,AZ32,BB32,BD32,BF32,BH32) -> 0 | AT32: 7
D33: =SUM(H33,J33,L33,N33,P33,R33,T33) -> 0 | F33: 8 | X33: =SUM(AB33,AD33,AF33,AH33,AJ33,AL33,AN33) -> 0 | Z33: 8 | AR33: =SUM(AV33,AX33,AZ33,BB33,BD33,BF33,BH33) -> 0 | AT33: 8
D34: =SUM(H34,J34,L34,N34,P34,R34,T34) -> 0 | F34: 9 | X34: =SUM(AB34,AD34,AF34,AH34,AJ34,AL34,AN34) -> 0 | Z34: 9 | AR34: =SUM(AV34,AX34,AZ34,BB34,BD34,BF34,BH34) -> 0 | AT34: 9
D35: =SUM(H35,J35,L35,N35,P35,R35,T35) -> 0 | F35: 10 | X35: =SUM(AB35,AD35,AF35,AH35,AJ35,AL35,AN35) -> 0 | Z35: 10 | AR35: =SUM(AV35,AX35,AZ35,BB35,BD35,BF35,BH35) -> 0 | AT35: 10
D36: =SUM(H36,J36,L36,N36,P36,R36,T36) -> 0 | F36: 11 | X36: =SUM(AB36,AD36,AF36,AH36,AJ36,AL36,AN36) -> 0 | Z36: 11 | AR36: =SUM(AV36,AX36,AZ36,BB36,BD36,BF36,BH36) -> 0 | AT36: 11
D37: =SUM(H37,J37,L37,N37,P37,R37,T37) -> 0 | F37: 12 | X37: =SUM(AB37,AD37,AF37,AH37,AJ37,AL37,AN37) -> 0 | Z37: 12 | AR37: =SUM(AV37,AX37,AZ37,BB37,BD37,BF37,BH37) -> 0 | AT37: 12
D38: =SUM(H38,J38,L38,N38,P38,R38,T38) -> 0 | F38: 13 | X38: =SUM(AB38,AD38,AF38,AH38,AJ38,AL38,AN38) -> 0 | Z38: 13 | AR38: =SUM(AV38,AX38,AZ38,BB38,BD38,BF38,BH38) -> 0 | AT38: 13
... D40: =SUM(H40,J40,L40,N40,P40,R40,T40) -> 0 | F40: 15 | X40: =SUM(AB40,AD40,AF40,AH40,AJ40,AL40,AN40) -> 0 | Z40: 15 | AR40: =SUM(AV40,AX40,AZ40,BB40,BD40,BF40,BH40) -> 0 | AT40: 15
G41: TOTAL | H41: =SUM(H26:H40) -> 0 | J41: =SUM(J26:J40) -> 0 | L41: =SUM(L26:L40) -> 0 | N41: =SUM(N26:N40) -> 0 | P41: =SUM(P26:P40) -> 0 | R41: =SUM(R26:R40) -> 0 | T41: =SUM(T26:T40) -> 0 | AA41: TOTAL | AB41: =SUM(AB26:AB40) -> 0 | AD41: =SUM(AD26:AD40) -> 0 | AF41: =SUM(AF26:AF40) -> 0 | AH41: =SUM(AH26:AH40) -> 0 | AJ41: =SUM(AJ26:AJ40) -> 0 | AL41: =SUM(AL26:AL40) -> 0 | AN41: =SUM(AN26:AN40) -> 0 | AU41: TOTAL | AV41: =SUM(AV26:AV40) -> 0 | AX41: =SUM(AX26:AX40) -> 0 | AZ41: =SUM(AZ26:AZ40) -> 0 | BB41: =SUM(BB26:BB40) -> 0 | BD41: =SUM(BD26:BD40) -> 0 | BF41: =SUM(BF26:BF40) -> 0 | BH41: =SUM(BH26:BH40) -> 0
F42: =INT((N43-LOOKUP(N43,DATE(YEAR(N43)+{-1;0;1},1,3)-WEEKDAY(DATE(YEAR(N43)+{-1;0;1},1,3))+2))/7)+1 -> 3 | Z42: =INT((AH43-LOOKUP(AH43,DATE(YEAR(AH43)+{-1;0;1},1,3)-WEEKDAY(DATE(YEAR(AH43)+{-1;0;1},1,3))+2))/7)+1 -> 7 | AT42: =INT((BB43-LOOKUP(BB43,DATE(YEAR(BB43)+{-1;0;1},1,3)-WEEKDAY(DATE(YEAR(BB43)+{-1;0;1},1,3))+2))/7)+1 -> 11 | BO42: =DATE(An_ref,7,1) -> 43647
F43: =F42 -> 3 | G43: =IF(ISNA(VLOOKUP(H43,Tab_feri,2,FALSE)),"",VLOOKUP(H43,Tab_feri,2,FALSE)) | H43: =T25+1 -> 43479 | I43: =IF(ISNA(VLOOKUP(J43,Tab_feri,2,FALSE)),"",VLOOKUP(J43,Tab_feri,2,FALSE)) | J43: =H43+1 -> 43480 | K43: =IF(ISNA(VLOOKUP(L43,Tab_feri,2,FALSE)),"",VLOOKUP(L43,Tab_feri,2,FALSE)) | L43: =J43+1 -> 43481 | M43: =IF(ISNA(VLOOKUP(N43,Tab_feri,2,FALSE)),"",VLOOKUP(N43,Tab_feri,2,FALSE)) | N43: =L43+1 -> 43482 | O43: =IF(ISNA(VLOOKUP(P43,Tab_feri,2,FALSE)),"",VLOOKUP(P43,Tab_feri,2,FALSE)) | P43: =N43+1 -> 43483 | Q43: =IF(ISNA(VLOOKUP(R43,Tab_feri,2,FALSE)),"",VLOOKUP(R43,Tab_feri,2,FALSE)) | R43: =P43+1 -> 43484 | S43: =IF(ISNA(VLOOKUP(T43,Tab_feri,2,FALSE)),"",VLOOKUP(T43,Tab_feri,2,FALSE)) | T43: =R43+1 -> 43485 | Z43: =Z42 -> 7 | AA43: =IF(ISNA(VLOOKUP(AB43,Tab_feri,2,FALSE)),"",VLOOKUP(AB43,Tab_feri,2,FALSE)) | AB43: =AN25+1 -> 43507 | AC43: =IF(ISNA(VLOOKUP(AD43,Tab_feri,2,FALSE)),"",VLOOKUP(AD43,Tab_feri,2,FALSE)) | AD43: =AB43+1 -> 43508 | AE43: =IF(ISNA(VLOOKUP(AF43,Tab_feri,2,FALSE)),"",VLOOKUP(AF43,Tab_feri,2,FALSE)) | AF43: =AD43+1 -> 43509 | AG43: =IF(ISNA(VLOOKUP(AH43,Tab_feri,2,FALSE)),"",VLOOKUP(AH43,Tab_feri,2,FALSE)) | AH43: =AF43+1 -> 43510 | AI43: =IF(ISNA(VLOOKUP(AJ43,Tab_feri,2,FALSE)),"",VLOOKUP(AJ43,Tab_feri,2,FALSE)) | AJ43: =AH43+1 -> 43511 | AK43: =IF(ISNA(VLOOKUP(AL43,Tab_feri,2,FALSE)),"",VLOOKUP(AL43,Tab_feri,2,FALSE)) | AL43: =AJ43+1 -> 43512 | AM43: =IF(ISNA(VLOOKUP(AN43,Tab_feri,2,FALSE)),"",VLOOKUP(AN43,Tab_feri,2,FALSE)) | AN43: =AL43+1 -> 43513 | AT43: =AT42 -> 11 | AU43: =IF(ISNA(VLOOKUP(AV43,Tab_feri,2,FALSE)),"",VLOOKUP(AV43,Tab_feri,2,FALSE)) | AV43: =BH25+1 -> 43535 | AW43: =IF(ISNA(VLOOKUP(AX43,Tab_feri,2,FALSE)),"",VLOOKUP(AX43,Tab_feri,2,FALSE)) | AX43: =AV43+1 -> 43536 | AY43: =IF(ISNA(VLOOKUP(AZ43,Tab_feri,2,FALSE)),"",VLOOKUP(AZ43,Tab_feri,2,FALSE)) | AZ43: =AX43+1 -> 43537 | BA43: =IF(ISNA(VLOOKUP(BB43,Tab_feri,2,FALSE)),"",VLOOKUP(BB43,Tab_feri,2,FALSE)) | BB43: =AZ43+1 -> 43538 | BC43: =IF(ISNA(VLOOKUP(BD43,Tab_feri,2,FALSE)),"",VLOOKUP(BD43,Tab_feri,2,FALSE)) | BD43: =BB43+1 -> 43539 | BE43: =IF(ISNA(VLOOKUP(BF43,Tab_feri,2,FALSE)),"",VLOOKUP(BF43,Tab_feri,2,FALSE)) | BF43: =BD43+1 -> 43540 | BG43: =IF(ISNA(VLOOKUP(BH43,Tab_feri,2,FALSE)),"",VLOOKUP(BH43,Tab_feri,2,FALSE)) | BH43: =BF43+1 -> 43541 | BO43: =DATE(An_ref,9,3) -> 43711
D44: =SUM(H44,J44,L44,N44,P44,R44,T44) -> 0 | F44: 1 | X44: =SUM(AB44,AD44,AF44,AH44,AJ44,AL44,AN44) -> 0 | Z44: 1 | AR44: =SUM(AV44,AX44,AZ44,BB44,BD44,BF44,BH44) -> 0 | AT44: 1 | BO44: =DATE(An_ref,10,8) -> 43746
...

Sheet VIERGE test zoom menu deroulant
G2: 2019 | I2: TOTAL pers | K2: =SUM(M4,AG4,BA4,BA116,AG116,M116,M227,AG227,BA227,BA338,AG338,M338) -> 0 | L2: par 9h | M2: =K2/16 -> 0
F4: =EDATE(DATE(An_ref,1,1),0) -> 43466 | M4: =SUM(B8:B22) -> 0 | Z4: =EDATE(DATE(An_ref,1,1),1) -> 43497 | AG4: =SUM(V8:V22) -> 0 | AT4: =EDATE(DATE(An_ref,1,1),2) -> 43525 | BA4: =SUM(AP8:AP22) -> 0 | BN4: Fériés | BO4: Date | BP4: =OR(H7=BO5,H7=BO6,H7=BO7,H7=BO24,H7=BO25,H7=BO26,H7=BO42,H7=BO43,H7=BO44,H7=BO60,H7=BO61,H7=BO62,H7=BO78) -> FALSE
B5: TOTAL | G5: =UPPER(TEXT(H25,"jjjj")) -> LUNDI | I5: =UPPER(TEXT(J25,"jjjj")) -> MARDI | K5: =UPPER(TEXT(L25,"jjjj")) -> MERCREDI | M5: =UPPER(TEXT(N25,"jjjj")) -> JEUDI | O5: =UPPER(TEXT(P25,"jjjj")) -> VENDREDI | Q5: =UPPER(TEXT(R25,"jjjj")) -> SAMEDI | S5: =UPPER(TEXT(T25,"jjjj")) -> DIMANCHE | V5: TOTAL | AA5: =UPPER(TEXT(AB25,"jjjj")) -> LUNDI | AC5: =UPPER(TEXT(AD25,"jjjj")) -> MARDI | AE5: =UPPER(TEXT(AF25,"jjjj")) -> MERCREDI | AG5: =UPPER(TEXT(AH25,"jjjj")) -> JEUDI | AI5: =UPPER(TEXT(AJ25,"jjjj")) -> VENDREDI | AK5: =UPPER(TEXT(AL25,"jjjj")) -> SAMEDI | AM5: =UPPER(TEXT(AN25,"jjjj")) -> DIMANCHE | AP5: TOTAL | AU5: =UPPER(TEXT(AV25,"jjjj")) -> LUNDI | AW5: =UPPER(TEXT(AX25,"jjjj")) -> MARDI | AY5: =UPPER(TEXT(AZ25,"jjjj")) -> MERCREDI | BA5: =UPPER(TEXT(BB25,"jjjj")) -> JEUDI | BC5: =UPPER(TEXT(BD25,"jjjj")) -> VENDREDI | BE5: =UPPER(TEXT(BF25,"jjjj")) -> SAMEDI | BG5: =UPPER(TEXT(BH25,"jjjj")) -> DIMANCHE | BO5: =DATE(An_ref,1,1) -> 43466
F6: =INT((N7-LOOKUP(N7,DATE(YEAR(N7)+{-1;0;1},1,3)-WEEKDAY(DATE(YEAR(N7)+{-1;0;1},1,3))+2))/7)+1 -> 1 | Z6: =INT((AH7-LOOKUP(AH7,DATE(YEAR(AH7)+{-1;0;1},1,3)-WEEKDAY(DATE(YEAR(AH7)+{-1;0;1},1,3))+2))/7)+1 -> #VALUE! | AT6: =INT((BB7-LOOKUP(BB7,DATE(YEAR(BB7)+{-1;0;1},1,3)-WEEKDAY(DATE(YEAR(BB7)+{-1;0;1},1,3))+2))/7)+1 -> #VALUE! | BO6: =DATE(An_ref,1,2) -> 43467
B7: mois | D7: sem | F7: =F6 -> 1 | G7: =IF(ISNA(VLOOKUP(H7,Tab_feri,2,FALSE)),"",VLOOKUP(H7,Tab_feri,2,FALSE)) | H7: =IF(WEEKDAY(F4)=2,F4,"") | I7: =IF(ISNA(VLOOKUP(J7,Tab_feri,2,FALSE)),"",VLOOKUP(J7,Tab_feri,2,FALSE)) | J7: =IF(H7<>"",H7+1,IF(WEEKDAY(F4)=3,F4,"")) -> 43466 | K7: =IF(ISNA(VLOOKUP(L7,Tab_feri,2,FALSE)),"",VLOOKUP(L7,Tab_feri,2,FALSE)) | L7: =IF(J7<>"",J7+1,IF(WEEKDAY(F4)=4,F4,"")) -> 43467 | M7: =IF(ISNA(VLOOKUP(N7,Tab_feri,2,FALSE)),"",VLOOKUP(N7,Tab_feri,2,FALSE)) | N7: =IF(L7<>"",L7+1,IF(WEEKDAY(F4)=5,F4,"")) -> 43468 | O7: =IF(ISNA(VLOOKUP(P7,Tab_feri,2,FALSE)),"",VLOOKUP(P7,Tab_feri,2,FALSE)) | P7: =IF(N7<>"",N7+1,IF(WEEKDAY(F4)=6,F4,"")) -> 43469 | Q7: =IF(ISNA(VLOOKUP(R7,Tab_feri,2,FALSE)),"",VLOOKUP(R7,Tab_feri,2,FALSE)) | R7: =IF(P7<>"",P7+1,IF(WEEKDAY(F4)=7,F4,"")) -> 43470 | S7: =IF(ISNA(VLOOKUP(T7,Tab_feri,2,FALSE)),"",VLOOKUP(T7,Tab_feri,2,FALSE)) | T7: =IF(R7<>"",R7+1,IF(WEEKDAY(F4)=1,F4,"")) -> 43471 | V7: mois | X7: sem | Z7: =Z6 -> #VALUE! | AA7: =IF(ISNA(VLOOKUP(AB7,Tab_feri,2,FALSE)),"",VLOOKUP(AB7,Tab_feri,2,FALSE)) | AB7: =IF(WEEKDAY(Z4)=2,Z4,"") | AC7: =IF(ISNA(VLOOKUP(AD7,Tab_feri,2,FALSE)),"",VLOOKUP(AD7,Tab_feri,2,FALSE)) | AD7: =IF(AB7<>"",AB7+1,IF(WEEKDAY(Z4)=3,Z4,"")) | AE7: =IF(ISNA(VLOOKUP(AF7,Tab_feri,2,FALSE)),"",VLOOKUP(AF7,Tab_feri,2,FALSE)) | AF7: =IF(AD7<>"",AD7+1,IF(WEEKDAY(Z4)=4,Z4,"")) | AG7: =IF(ISNA(VLOOKUP(AH7,Tab_feri,2,FALSE)),"",VLOOKUP(AH7,Tab_feri,2,FALSE)) | AH7: =IF(AF7<>"",AF7+1,IF(WEEKDAY(Z4)=5,Z4,"")) | AI7: =IF(ISNA(VLOOKUP(AJ7,Tab_feri,2,FALSE)),"",VLOOKUP(AJ7,Tab_feri,2,FALSE)) | AJ7: =IF(AH7<>"",AH7+1,IF(WEEKDAY(Z4)=6,Z4,"")) -> 43497 | AK7: =IF(ISNA(VLOOKUP(AL7,Tab_feri,2,FALSE)),"",VLOOKUP(AL7,Tab_feri,2,FALSE)) | AL7: =IF(AJ7<>"",AJ7+1,IF(WEEKDAY(Z4)=7,Z4,"")) -> 43498 | AM7: =IF(ISNA(VLOOKUP(AN7,Tab_feri,2,FALSE)),"",VLOOKUP(AN7,Tab_feri,2,FALSE)) | AN7: =IF(AL7<>"",AL7+1,IF(WEEKDAY(Z4)=1,Z4,"")) -> 43499 | AP7: mois | AR7: sem | AT7: =AT6 -> #VALUE! | AU7: =IF(ISNA(VLOOKUP(AV7,Tab_feri,2,FALSE)),"",VLOOKUP(AV7,Tab_feri,2,FALSE)) | AV7: =IF(WEEKDAY(AT4)=2,AT4,"") | AW7: =IF(ISNA(VLOOKUP(AX7,Tab_feri,2,FALSE)),"",VLOOKUP(AX7,Tab_feri,2,FALSE)) | AX7: =IF(AV7<>"",AV7+1,IF(WEEKDAY(AT4)=3,AT4,"")) | AY7: =IF(ISNA(VLOOKUP(AZ7,Tab_feri,2,FALSE)),"",VLOOKUP(AZ7,Tab_feri,2,FALSE)) | AZ7: =IF(AX7<>"",AX7+1,IF(WEEKDAY(AT4)=4,AT4,"")) | BA7: =IF(ISNA(VLOOKUP(BB7,Tab_feri,2,FALSE)),"",VLOOKUP(BB7,Tab_feri,2,FALSE)) | BB7: =IF(AZ7<>"",AZ7+1,IF(WEEKDAY(AT4)=5,AT4,"")) | BC7: =IF(ISNA(VLOOKUP(BD7,Tab_feri,2,FALSE)),"",VLOOKUP(BD7,Tab_feri,2,FALSE)) | BD7: =IF(BB7<>"",BB7+1,IF(WEEKDAY(AT4)=6,AT4,"")) -> 43525 | BE7: =IF(ISNA(VLOOKUP(BF7,Tab_feri,2,FALSE)),"",VLOOKUP(BF7,Tab_feri,2,FALSE)) | BF7: =IF(BD7<>"",BD7+1,IF(WEEKDAY(AT4)=7,AT4,"")) -> 43526 | BG7: =IF(ISNA(VLOOKUP(BH7,Tab_feri,2,FALSE)),"",VLOOKUP(BH7,Tab_feri,2,FALSE)) | BH7: =IF(BF7<>"",BF7+1,IF(WEEKDAY(AT4)=1,AT4,"")) -> 43527 | BO7: =BO8-2 -> 43574
B8: =SUM(D8,D26,D44,D62,D80,D98) -> 0 | D8: =SUM(H8,J8,L8,N8,P8,R8,T8) -> 0 | F8: 1 | V8: =SUM(X8,X26,X44,X62,X80,X98) -> 0 | X8: =SUM(AB8,AD8,AF8,AH8,AJ8,AL8,AN8) -> 0 | Z8: 1 | AP8: =SUM(AR8,AR26,AR44,AR62,AR80,AR98) -> 0 | AR8: =SUM(AV8,AX8,AZ8,BB8,BD8,BF8,BH8) -> 0 | AT8: 1 | BO8: =ROUND(DATE(An_ref,4,MOD(234-11*MOD(An_ref,19),30))/7,)*7-6 -> 43576
B9: =SUM(D9,D27,D45,D63,D81,D99) -> 0 | D9: =SUM(H9,J9,L9,N9,P9,R9,T9) -> 0 | F9: 2 | V9: =SUM(X9,X27,X45,X63,X81,X99) -> 0 | X9: =SUM(AB9,AD9,AF9,AH9,AJ9,AL9,AN9) -> 0 | Z9: 2 | AP9: =SUM(AR9,AR27,AR45,AR63,AR81,AR99) -> 0 | AR9: =SUM(AV9,AX9,AZ9,BB9,BD9,BF9,BH9) -> 0 | AT9: 2
B10: =SUM(D10,D28,D46,D64,D82,D100) -> 0 | D10: =SUM(H10,J10,L10,N10,P10,R10,T10) -> 0 | F10: 3 | V10: =SUM(X10,X28,X46,X64,X82,X100) -> 0 | X10: =SUM(AB10,AD10,AF10,AH10,AJ10,AL10,AN10) -> 0 | Z10: 3 | AP10: =SUM(AR10,AR28,AR46,AR64,AR82,AR100) -> 0 | AR10: =SUM(AV10,AX10,AZ10,BB10,BD10,BF10,BH10) -> 0 | AT10: 3
B11: =SUM(D11,D29,D47,D65,D83,D101) -> 0 | D11: =SUM(H11,J11,L11,N11,P11,R11,T11) -> 0 | F11: 4 | V11: =SUM(X11,X29,X47,X65,X83,X101) -> 0 | X11: =SUM(AB11,AD11,AF11,AH11,AJ11,AL11,AN11) -> 0 | Z11: 4 | AP11: =SUM(AR11,AR29,AR47,AR65,AR83,AR101) -> 0 | AR11: =SUM(AV11,AX11,AZ11,BB11,BD11,BF11,BH11) -> 0 | AT11: 4
B12: =SUM(D12,D30,D48,D66,D84,D102) -> 0 | D12: =SUM(H12,J12,L12,N12,P12,R12,T12) -> 0 | F12: 5 | V12: =SUM(X12,X30,X48,X66,X84,X102) -> 0 | X12: =SUM(AB12,AD12,AF12,AH12,AJ12,AL12,AN12) -> 0 | Z12: 5 | AP12: =SUM(AR12,AR30,AR48,AR66,AR84,AR102) -> 0 | AR12: =SUM(AV12,AX12,AZ12,BB12,BD12,BF12,BH12) -> 0 | AT12: 5
B13: =SUM(D13,D31,D49,D67,D85,D103) -> 0 | D13: =SUM(H13,J13,L13,N13,P13,R13,T13) -> 0 | F13: 6 | V13: =SUM(X13,X31,X49,X67,X85,X103) -> 0 | X13: =SUM(AB13,AD13,AF13,AH13,AJ13,AL13,AN13) -> 0 | Z13: 6 | AP13: =SUM(AR13,AR31,AR49,AR67,AR85,AR103) -> 0 | AR13: =SUM(AV13,AX13,AZ13,BB13,BD13,BF13,BH13) -> 0 | AT13: 6
B14: =SUM(D14,D32,D50,D68,D86,D104) -> 0 | D14: =SUM(H14,J14,L14,N14,P14,R14,T14) -> 0 | F14: 7 | V14: =SUM(X14,X32,X50,X68,X86,X104) -> 0 | X14: =SUM(AB14,AD14,AF14,AH14,AJ14,AL14,AN14) -> 0 | Z14: 7 | AP14: =SUM(AR14,AR32,AR50,AR68,AR86,AR104) -> 0 | AR14: =SUM(AV14,AX14,AZ14,BB14,BD14,BF14,BH14) -> 0 | AT14: 7
B15: =SUM(D15,D33,D51,D69,D87,D105) -> 0 | D15: =SUM(H15,J15,L15,N15,P15,R15,T15) -> 0 | F15: 8 | V15: =SUM(X15,X33,X51,X69,X87,X105) -> 0 | X15: =SUM(AB15,AD15,AF15,AH15,AJ15,AL15,AN15) -> 0 | Z15: 8 | AP15: =SUM(AR15,AR33,AR51,AR69,AR87,AR105) -> 0 | AR15: =SUM(AV15,AX15,AZ15,BB15,BD15,BF15,BH15) -> 0 | AT15: 8
B16: =SUM(D16,D34,D52,D70,D88,D106) -> 0 | D16: =SUM(H16,J16,L16,N16,P16,R16,T16) -> 0 | F16: 9 | V16: =SUM(X16,X34,X52,X70,X88,X106) -> 0 | X16: =SUM(AB16,AD16,AF16,AH16,AJ16,AL16,AN16) -> 0 | Z16: 9 | AP16: =SUM(AR16,AR34,AR52,AR70,AR88,AR106) -> 0 | AR16: =SUM(AV16,AX16,AZ16,BB16,BD16,BF16,BH16) -> 0 | AT16: 9
B17: =SUM(D17,D35,D53,D71,D89,D107) -> 0 | D17: =SUM(H17,J17,L17,N17,P17,R17,T17) -> 0 | F17: 10 | V17: =SUM(X17,X35,X53,X71,X89,X107) -> 0 | X17: =SUM(AB17,AD17,AF17,AH17,AJ17,AL17,AN17) -> 0 | Z17: 10 | AP17: =SUM(AR17,AR35,AR53,AR71,AR89,AR107) -> 0 | AR17: =SUM(AV17,AX17,AZ17,BB17,BD17,BF17,BH17) -> 0 | AT17: 10
B18: =SUM(D18,D36,D54,D72,D90,D108) -> 0 | D18: =SUM(H18,J18,L18,N18,P18,R18,T18) -> 0 | F18: 11 | V18: =SUM(X18,X36,X54,X72,X90,X108) -> 0 | X18: =SUM(AB18,AD18,AF18,AH18,AJ18,AL18,AN18) -> 0 | Z18: 11 | AP18: =SUM(AR18,AR36,AR54,AR72,AR90,AR108) -> 0 | AR18: =SUM(AV18,AX18,AZ18,BB18,BD18,BF18,BH18) -> 0 | AT18: 11
B19: =SUM(D19,D37,D55,D73,D91,D109) -> 0 | D19: =SUM(H19,J19,L19,N19,P19,R19,T19) -> 0 | F19: 12 | V19: =SUM(X19,X37,X55,X73,X91,X109) -> 0 | X19: =SUM(AB19,AD19,AF19,AH19,AJ19,AL19,AN19) -> 0 | Z19: 12 | AP19: =SUM(AR19,AR37,AR55,AR73,AR91,AR109) -> 0 | AR19: =SUM(AV19,AX19,AZ19,BB19,BD19,BF19,BH19) -> 0 | AT19: 12
