Workbook
Name Acompte: 'Facture commerciale'!#REF!
Name Expédition: 'Facture commerciale'!$G$32
Name LigneTitreRégion2..E5: 'Facture commerciale'!$D$5
Name LigneTitreRégion4..H20: 'Facture commerciale'!$F$29
Name NomDeLaSociété: 'Facture commerciale'!$B$1
Name NomFacture: 'Facture commerciale'!$C$5
Name RechercheClients: [1]!ListeClients[NOM DE LA SOCIÉTÉ]
Name SousTotalDeLaFacture: 'Facture commerciale'!$G$29
Name TauxTaxeVente: 'Facture commerciale'!$G$30
Name Titre2: [1]!ListeClients[[#Headers],[NOM DE LA SOCIÉTÉ]]
Name TitreColonne1: PostesFacture[[#Headers],[DATE]]
Name TVA: 'Facture commerciale'!$G$31
Name ZoneTitreLigne1..C6: 'Facture commerciale'!$B$5
Name ZoneTitreLigne3..H5: 'Facture commerciale'!$F$5

Sheet Feuil1
B5: Client | C5: Article | D5: Qté | E5: Prix unitaire
B7: Elliot Granger | C7: Bas | D7: 10 | E7: 2
B8: Harry Potter | C8: Scrabble | D8: 1 | E8: 10
B9: Arnold Palmer | C9: Monopoly | D9: 2 | E9: 25
B10: Elliot Granger | C10: Jeu | D10: 1 | E10: 50
B11: Arnold Palmer | C11: a | D11: 2 | E11: 25
B12: Armand Frappier | C12: Scrabble | D12: 1 | E12: 20
B13: Jeremy | C13: d | D13: 1 | E13: 10
B14: Paul | C14: f | D14: 4 | E14: 15
B15: Bernard | C15: g | D15: 5 | E15: 22
B16: Arnold Palmer | C16: h | D16: 6 | E16: 23
B17: Harry Potter | C17: Jeu | D17: 7 | E17: 30
B18: Elliot Granger | C18: k | D18: 8 | E18: 21

Sheet Liste client
B2: Nom | C2: Adresse | D2: Ville | E2: Code Postal | F2: Téléphone | G2: Courriel | H2: Expédition
B4: Elliot Granger | C4: 321 des érables | D4: Laval | E4: H7H 1H1 | F4: (514) 123-1234 | G4: elliot.granger@allo.ca | H4: 5
B5: Harry Potter | C5: 123 de Bleau | D5: Montréal | E5: H3K 1Z2 | F5: (514) 123-1235 | G5: Harry.Potter@astral.ca | H5: 10
B6: Arnold Palmer | C6: 1122 Allo | D6: Astral | E6: H1Z 1X1 | F6: (514) 123-1236 | G6: test@ddd.ca | H6: 5
B7: Armand Frappier | C7: 1234 des sables | D7: Laval | E7: HOH OHO | F7: (514) 123-1237 | G7: test2@ddd.ca | H7: 5
B8: Jeremy | C8: 123 des Trouvailles | D8: Mirabel | E8: J1J 1J1 | F8: (514) 123-1238 | G8: test3@ddd.ca | H8: 5
B9: Paul | C9: 123 du Vent | D9: Montréal | E9: J2J 1J2 | F9: (514) 123-1239 | G9: test4@ddd.ca | H9: 10
B10: Bernard | C10: 123 Bonjour | D10: Mirabel | E10: H1J 1J1 | F10: (514) 123-1240 | G10: test5@ddd.ca | H10: 5

Sheet Facture commerciale
B1: Ma compagnie | D1: 123, rue des Écoles | F1: tailspin@interestingsite.com | I1: Les clients
D2: Ocean View, MO 12345 | F2: www.tailspintoys.com
D3: Tél. : (514) 123-4567
B5: Facturer à : | C5: Elliot Granger | D5: Téléphone : | E5: =VLOOKUP(NomFacture,'Liste client'!$B$4:$H$10,5,FALSE) -> (514) 123-1234 | F5: N° de facture : | G5: 34567
B6: Adresse : | C6: =VLOOKUP(NomFacture,'Liste client'!$B$4:$G$10,2,FALSE) -> 321 des érables | D6: Courriel : | E6: =VLOOKUP(NomFacture,'Liste client'!$B$4:$H$10,6,FALSE) -> elliot.granger@allo.ca | F6: Date de facturation : | G6: =TODAY() -> 45009
C7: =VLOOKUP(NomFacture,'Liste client'!$B$4:$H$10,3,FALSE)&", Québec" -> Laval, Québec | D7: =IFERROR(VLOOKUP(NomFacture,[1]!ListeClients[#Data],9,FALSE),"") | F7: Coordonnées : | G7: =IFERROR(VLOOKUP(NomFacture,[1]!ListeClients[#Data],2,FALSE),"")
C8: =VLOOKUP(NomFacture,'Liste client'!$B$4:$H$10,4,FALSE) -> H7H 1H1
B9: DATE | C9: DESCRIPTION | D9: QTÉ | E9: PRIX UNITAIRE | G9: TOTAL
B10: =TODAY() -> 45009 | C10: Blocs de bois | D10: 4 | E10: 10 | G10: =IF(AND(PostesFacture[[#This Row],[QTÉ]]<>"",PostesFacture[[#This Row],[PRIX UNITAIRE]]<>""),(PostesFacture[[#This Row],[QTÉ]]*PostesFacture[[#This Row],[PRIX UNITAIRE]])-PostesFacture[[#This Row],[ ]],"") -> 40
G11: =IF(AND(PostesFacture[[#This Row],[QTÉ]]<>"",PostesFacture[[#This Row],[PRIX UNITAIRE]]<>""),(PostesFacture[[#This Row],[QTÉ]]*PostesFacture[[#This Row],[PRIX UNITAIRE]])-PostesFacture[[#This Row],[ ]],"")
G12: =IF(AND(PostesFacture[[#This Row],[QTÉ]]<>"",PostesFacture[[#This Row],[PRIX UNITAIRE]]<>""),(PostesFacture[[#This Row],[QTÉ]]*PostesFacture[[#This Row],[PRIX UNITAIRE]])-PostesFacture[[#This Row],[ ]],"")
G13: =IF(AND(PostesFacture[[#This Row],[QTÉ]]<>"",PostesFacture[[#This Row],[PRIX UNITAIRE]]<>""),(PostesFacture[[#This Row],[QTÉ]]*PostesFacture[[#This Row],[PRIX UNITAIRE]])-PostesFacture[[#This Row],[ ]],"")
G14: =IF(AND(PostesFacture[[#This Row],[QTÉ]]<>"",PostesFacture[[#This Row],[PRIX UNITAIRE]]<>""),(PostesFacture[[#This Row],[QTÉ]]*PostesFacture[[#This Row],[PRIX UNITAIRE]])-PostesFacture[[#This Row],[ ]],"")
G15: =IF(AND(PostesFacture[[#This Row],[QTÉ]]<>"",PostesFacture[[#This Row],[PRIX UNITAIRE]]<>""),(PostesFacture[[#This Row],[QTÉ]]*PostesFacture[[#This Row],[PRIX UNITAIRE]])-PostesFacture[[#This Row],[ ]],"")
G16: =IF(AND(PostesFacture[[#This Row],[QTÉ]]<>"",PostesFacture[[#This Row],[PRIX UNITAIRE]]<>""),(PostesFacture[[#This Row],[QTÉ]]*PostesFacture[[#This Row],[PRIX UNITAIRE]])-PostesFacture[[#This Row],[ ]],"")
G17: =IF(AND(PostesFacture[[#This Row],[QTÉ]]<>"",PostesFacture[[#This Row],[PRIX UNITAIRE]]<>""),(PostesFacture[[#This Row],[QTÉ]]*PostesFacture[[#This Row],[PRIX UNITAIRE]])-PostesFacture[[#This Row],[ ]],"")
G18: =IF(AND(PostesFacture[[#This Row],[QTÉ]]<>"",PostesFacture[[#This Row],[PRIX UNITAIRE]]<>""),(PostesFacture[[#This Row],[QTÉ]]*PostesFacture[[#This Row],[PRIX UNITAIRE]])-PostesFacture[[#This Row],[ ]],"")
G19: =IF(AND(PostesFacture[[#This Row],[QTÉ]]<>"",PostesFacture[[#This Row],[PRIX UNITAIRE]]<>""),(PostesFacture[[#This Row],[QTÉ]]*PostesFacture[[#This Row],[PRIX UNITAIRE]])-PostesFacture[[#This Row],[ ]],"")
G20: =IF(AND(PostesFacture[[#This Row],[QTÉ]]<>"",PostesFacture[[#This Row],[PRIX UNITAIRE]]<>""),(PostesFacture[[#This Row],[QTÉ]]*PostesFacture[[#This Row],[PRIX UNITAIRE]])-PostesFacture[[#This Row],[ ]],"")
G21: =IF(AND(PostesFacture[[#This Row],[QTÉ]]<>"",PostesFacture[[#This Row],[PRIX UNITAIRE]]<>""),(PostesFacture[[#This Row],[QTÉ]]*PostesFacture[[#This Row],[PRIX UNITAIRE]])-PostesFacture[[#This Row],[ ]],"")
G22: =IF(AND(PostesFacture[[#This Row],[QTÉ]]<>"",PostesFacture[[#This Row],[PRIX UNITAIRE]]<>""),(PostesFacture[[#This Row],[QTÉ]]*PostesFacture[[#This Row],[PRIX UNITAIRE]])-PostesFacture[[#This Row],[ ]],"")
... G28: =IF(AND(PostesFacture[[#This Row],[QTÉ]]<>"",PostesFacture[[#This Row],[PRIX UNITAIRE]]<>""),(PostesFacture[[#This Row],[QTÉ]]*PostesFacture[[#This Row],[PRIX UNITAIRE]])-PostesFacture[[#This Row],[ ]],"")
F29: Sous-total de la facture | G29: =SUM(PostesFacture[TOTAL]) -> 40
F30: TPS | G30: =ROUND(SousTotalDeLaFacture*5%,2) -> 2
F31: TVQ | G31: =ROUND(SousTotalDeLaFacture*9.975%,2) -> 3.99
F32: Expédition | G32: =VLOOKUP(NomFacture,'Liste client'!$B$4:$H$10,7,FALSE) -> 5
B33: Montant total dû dans 10 jours. Les comptes en souffrance sont soumis à des frais d’intérêt de 2% par mois. | F33: Total | G33: =SUM(G29:G32) -> 50.99
