Workbook

Sheet Données
A1: DOSSARD | B1: NOM | C1: PRENOM | D1: CLUB | E1: SEXE | F1: CATEGORIE
A2: 500 | B2: LOUIS-MONDESIR | C2: LOIC | D2: MAIRIE SPORTIVE | E2: H | F2: SE
A3: =A2+1 -> 501 | B3: JACQUE-EDOUARD | C3: THIERRY | D3: RENOVATION | E3: H | F3: V1
A4: =A3+1 -> 502 | B4: QUENETTE | C4: JEAN-PHILIPPE | D4: MAIRIE SPORTIVE | E4: H | F4: V1
A5: =A4+1 -> 503 | B5: AUSTER | C5: TONY | D5: MAIRIE SPORTIVE | E5: H | F5: V1
A6: =A5+1 -> 504 | B6: GUEGANT | C6: HEATHCLIFF | D6: AIGLON | E6: H | F6: V1
A7: =A6+1 -> 505 | B7: RETORY | C7: ISAAC | D7: GOOD LUCK | E7: H | F7: ES
A8: =A7+1 -> 506 | B8: LUDOP | C8: BRIAND | D8: RENOVATION | E8: H | F8: ES
A9: =A8+1 -> 507 | B9: ATALA | C9: JEAN-MICHEL | D9: GOLDEN STAR | E9: H | F9: V1
A10: =A9+1 -> 508 | B10: ERNEST | C10: MICKAEL | D10: POLICE | E10: H | F10: V1
A11: =A10+1 -> 509 | B11: JEANNOT | C11: JEAN-ETIENNE | D11: GOLDEN STAR | E11: H | F11: V2
A12: =A11+1 -> 510 | B12: MELIS | C12: DIMITRI | D12: RENOVATION | E12: H | F12: V1
A13: =A12+1 -> 511 | B13: LABARDE | C13: ROLAND | D13: CLUP PELEEN | E13: H | F13: V1
A14: =A13+1 -> 512 | B14: BLACODON | C14: THIERRY | D14: POLICE | E14: H | F14: V1
... A169: =A168+1 -> 667 | B169: URSULET | C169: JOSE | D169: CM | E169: H | F169: V1
B173: ELISABETH | C173: RAYMOND | D173: CLUB PELEEN | E173: H | F173: V2
B174: TROMPETTE | C174: EMMANUEL | D174: MAIRIE SPORTIVE | E174: H | F174: V3
B175: PETIOT | C175: MIREILLE | D175: CM | E175: F | F175: V2

Sheet MANCHE 1
A1: CLASSEMENT SCRATCH 1ère MANCHE
A3: PLACE | B3: DOSSARD | C3: NOM | D3: PRENOM | E3: CLUB UFOLEP ou hors UFOLEP (NL) | F3: TEMPS | G3: SEXE | H3: CATEGORIE | I3: CLASSEMENT MASCULIN | J3: CLASSEMENT FEMININ
A4: 1 | B4: 502 | C4: =IFERROR(VLOOKUP($B4,Données!$A:$F,2,FALSE),"") -> QUENETTE | D4: =IFERROR(VLOOKUP($B4,Données!$A:$F,3,FALSE),"") -> JEAN-PHILIPPE | E4: =IFERROR(VLOOKUP($B4,Données!$A:$F,4,FALSE),"") -> MAIRIE SPORTIVE | F4: 33'14 | G4: =IFERROR(VLOOKUP($B4,Données!$A:$F,5,FALSE),"") -> H | H4: =IFERROR(VLOOKUP($B4,Données!$A:$F,6,FALSE),"") -> V1 | J4: =IF($G4="F",RANK($A$4,$A$4:$A$1048576,1),"")
A5: =A4+1 -> 2 | B5: 501 | C5: =IFERROR(VLOOKUP($B5,Données!$A:$F,2,FALSE),"") -> JACQUE-EDOUARD | D5: =IFERROR(VLOOKUP($B5,Données!$A:$F,3,FALSE),"") -> THIERRY | E5: =IFERROR(VLOOKUP($B5,Données!$A:$F,4,FALSE),"") -> RENOVATION | F5: 34'24 | G5: =IFERROR(VLOOKUP($B5,Données!$A:$F,5,FALSE),"") -> H | H5: =IFERROR(VLOOKUP($B5,Données!$A:$F,6,FALSE),"") -> V1 | J5: =IF($G5="F",RANK($A$4,$A$4:$A$1048576,1),"")
A6: =A5+1 -> 3 | B6: 505 | C6: =IFERROR(VLOOKUP($B6,Données!$A:$F,2,FALSE),"") -> RETORY | D6: =IFERROR(VLOOKUP($B6,Données!$A:$F,3,FALSE),"") -> ISAAC | E6: =IFERROR(VLOOKUP($B6,Données!$A:$F,4,FALSE),"") -> GOOD LUCK | F6: 35'05 | G6: =IFERROR(VLOOKUP($B6,Données!$A:$F,5,FALSE),"") -> H | H6: =IFERROR(VLOOKUP($B6,Données!$A:$F,6,FALSE),"") -> ES | J6: =IF($G6="F",RANK($A$4,$A$4:$A$1048576,1),"")
A7: =A6+1 -> 4 | B7: =B6+1 -> 506 | C7: =IFERROR(VLOOKUP($B7,Données!$A:$F,2,FALSE),"") -> LUDOP | D7: =IFERROR(VLOOKUP($B7,Données!$A:$F,3,FALSE),"") -> BRIAND | E7: =IFERROR(VLOOKUP($B7,Données!$A:$F,4,FALSE),"") -> RENOVATION | F7: 36'06 | G7: =IFERROR(VLOOKUP($B7,Données!$A:$F,5,FALSE),"") -> H | H7: =IFERROR(VLOOKUP($B7,Données!$A:$F,6,FALSE),"") -> ES | J7: =IF($G7="F",RANK($A$4,$A$4:$A$1048576,1),"")
A8: =A7+1 -> 5 | B8: =B7+1 -> 507 | C8: =IFERROR(VLOOKUP($B8,Données!$A:$F,2,FALSE),"") -> ATALA | D8: =IFERROR(VLOOKUP($B8,Données!$A:$F,3,FALSE),"") -> JEAN-MICHEL | E8: =IFERROR(VLOOKUP($B8,Données!$A:$F,4,FALSE),"") -> GOLDEN STAR | F8: 36'23 | G8: =IFERROR(VLOOKUP($B8,Données!$A:$F,5,FALSE),"") -> H | H8: =IFERROR(VLOOKUP($B8,Données!$A:$F,6,FALSE),"") -> V1 | J8: =IF($G8="F",RANK($A$4,$A$4:$A$1048576,1),"")
A9: =A8+1 -> 6 | B9: =B8+1 -> 508 | C9: =IFERROR(VLOOKUP($B9,Données!$A:$F,2,FALSE),"") -> ERNEST | D9: =IFERROR(VLOOKUP($B9,Données!$A:$F,3,FALSE),"") -> MICKAEL | E9: =IFERROR(VLOOKUP($B9,Données!$A:$F,4,FALSE),"") -> POLICE | F9: 36'28 | G9: =IFERROR(VLOOKUP($B9,Données!$A:$F,5,FALSE),"") -> H | H9: =IFERROR(VLOOKUP($B9,Données!$A:$F,6,FALSE),"") -> V1 | J9: =IF($G9="F",RANK($A$4,$A$4:$A$1048576,1),"")
A10: =A9+1 -> 7 | B10: =B9+1 -> 509 | C10: =IFERROR(VLOOKUP($B10,Données!$A:$F,2,FALSE),"") -> JEANNOT | D10: =IFERROR(VLOOKUP($B10,Données!$A:$F,3,FALSE),"") -> JEAN-ETIENNE | E10: =IFERROR(VLOOKUP($B10,Données!$A:$F,4,FALSE),"") -> GOLDEN STAR | F10: 36'33 | G10: =IFERROR(VLOOKUP($B10,Données!$A:$F,5,FALSE),"") -> H | H10: =IFERROR(VLOOKUP($B10,Données!$A:$F,6,FALSE),"") -> V2 | J10: =IF($G10="F",RANK($A$4,$A$4:$A$1048576,1),"")
A11: =A10+1 -> 8 | B11: =B10+1 -> 510 | C11: =IFERROR(VLOOKUP($B11,Données!$A:$F,2,FALSE),"") -> MELIS | D11: =IFERROR(VLOOKUP($B11,Données!$A:$F,3,FALSE),"") -> DIMITRI | E11: =IFERROR(VLOOKUP($B11,Données!$A:$F,4,FALSE),"") -> RENOVATION | F11: 37'17 | G11: =IFERROR(VLOOKUP($B11,Données!$A:$F,5,FALSE),"") -> H | H11: =IFERROR(VLOOKUP($B11,Données!$A:$F,6,FALSE),"") -> V1 | J11: =IF($G11="F",RANK($A$4,$A$4:$A$1048576,1),"")
A12: =A11+1 -> 9 | B12: =B11+1 -> 511 | C12: =IFERROR(VLOOKUP($B12,Données!$A:$F,2,FALSE),"") -> LABARDE | D12: =IFERROR(VLOOKUP($B12,Données!$A:$F,3,FALSE),"") -> ROLAND | E12: =IFERROR(VLOOKUP($B12,Données!$A:$F,4,FALSE),"") -> CLUP PELEEN | F12: 37'27 | G12: =IFERROR(VLOOKUP($B12,Données!$A:$F,5,FALSE),"") -> H | H12: =IFERROR(VLOOKUP($B12,Données!$A:$F,6,FALSE),"") -> V1 | J12: =IF($G12="F",RANK($A$4,$A$4:$A$1048576,1),"")
A13: =A12+1 -> 10 | B13: =B12+1 -> 512 | C13: =IFERROR(VLOOKUP($B13,Données!$A:$F,2,FALSE),"") -> BLACODON | D13: =IFERROR(VLOOKUP($B13,Données!$A:$F,3,FALSE),"") -> THIERRY | E13: =IFERROR(VLOOKUP($B13,Données!$A:$F,4,FALSE),"") -> POLICE | F13: 38'23 | G13: =IFERROR(VLOOKUP($B13,Données!$A:$F,5,FALSE),"") -> H | H13: =IFERROR(VLOOKUP($B13,Données!$A:$F,6,FALSE),"") -> V1 | J13: =IF($G13="F",RANK($A$4,$A$4:$A$1048576,1),"")
A14: =A13+1 -> 11 | B14: =B13+1 -> 513 | C14: =IFERROR(VLOOKUP($B14,Données!$A:$F,2,FALSE),"") -> TRESFIELD | D14: =IFERROR(VLOOKUP($B14,Données!$A:$F,3,FALSE),"") -> JEAN-CHARLES | E14: =IFERROR(VLOOKUP($B14,Données!$A:$F,4,FALSE),"") -> RENOVATION | F14: 38'30 | G14: =IFERROR(VLOOKUP($B14,Données!$A:$F,5,FALSE),"") -> H | H14: =IFERROR(VLOOKUP($B14,Données!$A:$F,6,FALSE),"") -> SE | J14: =IF($G14="F",RANK($A$4,$A$4:$A$1048576,1),"")
A15: =A14+1 -> 12 | B15: =B14+1 -> 514 | C15: =IFERROR(VLOOKUP($B15,Données!$A:$F,2,FALSE),"") -> DESMAZON | D15: =IFERROR(VLOOKUP($B15,Données!$A:$F,3,FALSE),"") -> ERIC | E15: =IFERROR(VLOOKUP($B15,Données!$A:$F,4,FALSE),"") -> RENOVATION | F15: 38'38 | G15: =IFERROR(VLOOKUP($B15,Données!$A:$F,5,FALSE),"") -> H | H15: =IFERROR(VLOOKUP($B15,Données!$A:$F,6,FALSE),"") -> SE | J15: =IF($G15="F",RANK($A$4,$A$4:$A$1048576,1),"")
A16: =A15+1 -> 13 | B16: =B15+1 -> 515 | C16: =IFERROR(VLOOKUP($B16,Données!$A:$F,2,FALSE),"") -> RALECHE | D16: =IFERROR(VLOOKUP($B16,Données!$A:$F,3,FALSE),"") -> PATRICK | E16: =IFERROR(VLOOKUP($B16,Données!$A:$F,4,FALSE),"") -> RENOVATION | F16: 39'10 | G16: =IFERROR(VLOOKUP($B16,Données!$A:$F,5,FALSE),"") -> H | H16: =IFERROR(VLOOKUP($B16,Données!$A:$F,6,FALSE),"") -> V1 | J16: =IF($G16="F",RANK($A$4,$A$4:$A$1048576,1),"")
A17: =A16+1 -> 14 | B17: =B16+1 -> 516 | C17: =IFERROR(VLOOKUP($B17,Données!$A:$F,2,FALSE),"") -> ZACHARIE | D17: =IFERROR(VLOOKUP($B17,Données!$A:$F,3,FALSE),"") -> CHARLES-DENIS | E17: =IFERROR(VLOOKUP($B17,Données!$A:$F,4,FALSE),"") -> CLUB COLONIAL | F17: 39'13 | G17: =IFERROR(VLOOKUP($B17,Données!$A:$F,5,FALSE),"") -> H | H17: =IFERROR(VLOOKUP($B17,Données!$A:$F,6,FALSE),"") -> V1 | J17: =IF($G17="F",RANK($A$4,$A$4:$A$1048576,1),"")
A18: =A17+1 -> 15 | B18: =B17+1 -> 517 | C18: =IFERROR(VLOOKUP($B18,Données!$A:$F,2,FALSE),"") -> PATTERY | D18: =IFERROR(VLOOKUP($B18,Données!$A:$F,3,FALSE),"") -> OLIVIER | E18: =IFERROR(VLOOKUP($B18,Données!$A:$F,4,FALSE),"") -> MARIN | F18: 39'25 | G18: =IFERROR(VLOOKUP($B18,Données!$A:$F,5,FALSE),"") -> H | H18: =IFERROR(VLOOKUP($B18,Données!$A:$F,6,FALSE),"") -> V1 | J18: =IF($G18="F",RANK($A$4,$A$4:$A$1048576,1),"")
... A171: =A170+1 -> 168 | B171: =B170+1 -> 670 | C171: =IFERROR(VLOOKUP($B171,Données!$A:$F,2,FALSE),"") | D171: =IFERROR(VLOOKUP($B171,Données!$A:$F,3,FALSE),"") | E171: =IFERROR(VLOOKUP($B171,Données!$A:$F,4,FALSE),"") | F171: 1'19'31 | G171: =IFERROR(VLOOKUP($B171,Données!$A:$F,5,FALSE),"") | H171: =IFERROR(VLOOKUP($B171,Données!$A:$F,6,FALSE),"") | J171: =IF($G171="F",RANK($A$4,$A$4:$A$1048576,1),"")
A175: AB | C175: ELISABETH | D175: RAYMOND | E175: CLUB PELEEN | G175: H | H175: V2 | I175: 500
A176: AB | C176: TROMPETTE | D176: EMMANUEL | E176: MAIRIE SPORTIVE | G176: H | H176: V3 | I176: 500
A177: AB | C177: PETIOT | D177: MIREILLE | E177: CM | G177: F | H177: V2 | I177: 500

Sheet GENERAL
A1: CLASSEMENT GENERAL
A3: PLACE | B3: NOMS | C3: PRENOM | D3: CLUBS | E3: SEXE | F3: CATEGORIE | G3: PLACE MANCHE 1 | H3: PLACE MANCHE 2
A6: 1 | B6: LOUIS-MONDESIR | C6: LOIC | D6: MAIRIE SPORTIVE | E6: H | F6: SE | G6: 1 | H6: 1 | I6: =SUM(G6+H6) -> 2
A7: 2 | B7: JACQUE-EDOUARD | C7: THIERRY | D7: RENOVATION | E7: H | F7: V1 | G7: 2 | H7: 2 | I7: =SUM(G7+H7) -> 4
A8: 3 | B8: QUENETTE | C8: JEAN-PHILIPPE | D8: MAIRIE SPORTIVE | E8: H | F8: V1 | G8: 5 | H8: 3 | I8: =SUM(G8+H8) -> 8
A9: 4 | B9: GUEGANT | C9: HEATCLIFF | D9: AIGLON | E9: H | F9: V1 | G9: 4 | H9: 5 | I9: =SUM(G9+H9) -> 9
A10: 5 | B10: RETORY | C10: ISAAC | D10: GOOD LUCK | E10: H | F10: ES | G10: 6 | H10: 6 | I10: =SUM(G10+H10) -> 12
A11: 6 | B11: LUDOP | C11: BRIAND | D11: RENOVATION | E11: H | F11: ES | G11: 9 | H11: 7 | I11: =SUM(G11+H11) -> 16
A12: 7 | B12: ERNEST | C12: MICKAEL | D12: POLICE | E12: H | F12: V1 | G12: 8 | H12: 9 | I12: =SUM(G12+H12) -> 17
A13: 8 | B13: ATALA | C13: JEAN-MICHEL | D13: GOLDEN STAR | E13: H | F13: V1 | G13: 12 | H13: 8 | I13: =SUM(G13+H13) -> 20
A14: 9 | B14: LABARDE | C14: ROLAND | D14: CLUB PELEEN | E14: H | F14: V1 | G14: 13 | H14: 12 | I14: =SUM(G14+H14) -> 25
A15: 10 | B15: DESMAZON | C15: ERIC | D15: RENOVATION | E15: H | F15: SE | G15: 18 | H15: 15 | I15: =SUM(G15+H15) -> 33
A16: 11 | B16: PATTERY | C16: OLIVIER | D16: MARIN | E16: H | F16: V1 | G16: 15 | H16: 18 | I16: =SUM(G16+H16) -> 33
A17: 12 | B17: ZACHARIE | C17: CHARLES-DENIS | D17: CLUB COLONIAL | E17: H | F17: V1 | G17: 16 | H17: 17 | I17: =SUM(G17+H17) -> 33
... A104: 99 | B104: VOLTINE | C104: MIREILLE | D104: VAUCLIN | E104: F | F104: V2 | G104: 150 | H104: 163 | I104: =SUM(G104+H104) -> 313
