Workbook

Sheet Export tableur
A1: Compteur Analytique | B1: Compte anal | C1: Section | D1: Solde | E1: Interrogation Analytique | I1: Exercice début | J1: 44562 | M1: =IF((R1-S1+T1)=0,0,1) -> 1 | N1: Ecart géné/ana | O1: Compteur d'écart | P1: 10100000 | R1: 1451156 | S1: 5066636 | T1: -505000 | W1: Max de comptes en camptabilité générale | AA1: 2000
A2: =+AA1-1 -> 1999 | B2: =IF(A2=A1,"",IF(LEFT(E2,1)="-",IF(+VALUE(RIGHT(LEFT(E2,3),1))<6,"",RIGHT(E2,LEN(E2)-2)),"")) | C2: =IF(A2="","",IFERROR(VLOOKUP(E2,'[1]Mapping '!$I$2:$J$19,2,FALSE),C1)) -> Section | D2: =IF(B2="",0,+K2-L2) -> 0 | I2: Période début | J2: 44562 | M2: =IF(VALUE(LEFT(P2,1))>=6,"",IF((R2-S2+T2)=0,+M1,+M1+1)) -> 1 | N2: =IFERROR(IF(VALUE(LEFT(P2,1))>=6,+R2-S2+T2-SUMIF(B:B,P2,D:D),0),"") -> 0 | O2: 0 | P2: 10610000 | R2: 14101.54 | S2: 0 | T2: -14101.54
A3: =IF(LEFT(E3,1)="-",IF(+VALUE(RIGHT(LEFT(E3,3),1))<6,+A2,+A2+1),+A2) -> 1999 | B3: =IF(A3=A2,"",IF(LEFT(E3,1)="-",IF(+VALUE(RIGHT(LEFT(E3,3),1))<6,"",RIGHT(E3,LEN(E3)-2)),"")) | C3: =IF(A3="","",IFERROR(VLOOKUP(E3,'[1]Mapping '!$I$2:$J$19,2,FALSE),C2)) -> Section | D3: =IF(B3="",0,+K3-L3) -> 0 | I3: Période fin | J3: 44681 | M3: =IF(VALUE(LEFT(P3,1))>=6,"",IF((R3-S3+T3)=0,+M2,+M2+1)) -> 1 | N3: =IFERROR(IF(VALUE(LEFT(P3,1))>=6,+R3-S3+T3-SUMIF(B:B,P3,D:D),0),"") -> 0 | O3: =IF(ROUND(N3,0)=0,+O2,+O2+1) -> 0 | P3: 10680000 | R3: 267929.23 | S3: 0 | T3: -267929.23
A4: =IF(LEFT(E4,1)="-",IF(+VALUE(RIGHT(LEFT(E4,3),1))<6,+A3,+A3+1),+A3) -> 1999 | B4: =IF(A4=A3,"",IF(LEFT(E4,1)="-",IF(+VALUE(RIGHT(LEFT(E4,3),1))<6,"",RIGHT(E4,LEN(E4)-2)),"")) | C4: =IF(A4="","",IFERROR(VLOOKUP(E4,'[1]Mapping '!$I$2:$J$19,2,FALSE),C3)) -> Section | D4: =IF(B4="",0,+K4-L4) -> 0 | M4: =IF(VALUE(LEFT(P4,1))>=6,"",IF((R4-S4+T4)=0,+M3,+M3+1)) -> 1 | N4: =IFERROR(IF(VALUE(LEFT(P4,1))>=6,+R4-S4+T4-SUMIF(B:B,P4,D:D),0),"") -> 0 | O4: =IF(ROUND(N4,0)=0,+O3,+O3+1) -> 0 | P4: 11910000 | R4: 1108054.3 | S4: 1733186.8 | T4: 625132.5
A5: =IF(LEFT(E5,1)="-",IF(+VALUE(RIGHT(LEFT(E5,3),1))<6,+A4,+A4+1),+A4) -> 1999 | B5: =IF(A5=A4,"",IF(LEFT(E5,1)="-",IF(+VALUE(RIGHT(LEFT(E5,3),1))<6,"",RIGHT(E5,LEN(E5)-2)),"")) | C5: =IF(A5="","",IFERROR(VLOOKUP(E5,'[1]Mapping '!$I$2:$J$19,2,FALSE),C4)) -> Section | D5: =IF(B5="",0,+K5-L5) -> 0 | G5: Solde période EUR | H5: Solde exercice EUR | I5: Solde saisi EUR | J5: Début période EUR | K5: Débit période EUR | L5: Crédit période EUR | M5: =IF(VALUE(LEFT(P5,1))>=6,"",IF((R5-S5+T5)=0,+M4,+M4+1)) -> 1 | N5: =IFERROR(IF(VALUE(LEFT(P5,1))>=6,+R5-S5+T5-SUMIF(B:B,P5,D:D),0),"") -> 0 | O5: =IF(ROUND(N5,0)=0,+O4,+O4+1) -> 0 | P5: 12000000 | R5: 0 | S5: 0 | T5: 0
A6: =IF(LEFT(E6,1)="-",IF(+VALUE(RIGHT(LEFT(E6,3),1))<6,+A5,+A5+1),+A5) -> 1999 | B6: =IF(A6=A5,"",IF(LEFT(E6,1)="-",IF(+VALUE(RIGHT(LEFT(E6,3),1))<6,"",RIGHT(E6,LEN(E6)-2)),"")) | C6: =IF(A6="","",IFERROR(VLOOKUP(E6,'[1]Mapping '!$I$2:$J$19,2,FALSE),C5)) -> 4000 | D6: =IF(B6="",0,+K6-L6) -> 0 | E6: 4000 | G6: -1255.42 | H6: -1255.42 | I6: -7853.58 | J6: 0 | K6: 1255.42 | L6: 0 | M6: =IF(VALUE(LEFT(P6,1))>=6,"",IF((R6-S6+T6)=0,+M5,+M5+1)) -> 1 | N6: =IFERROR(IF(VALUE(LEFT(P6,1))>=6,+R6-S6+T6-SUMIF(B:B,P6,D:D),0),"") -> 0 | O6: =IF(ROUND(N6,0)=0,+O5,+O5+1) -> 0 | P6: 12900000 | R6: 0 | S6: 1108054.3 | T6: 1108054.3
A7: =IF(LEFT(E7,1)="-",IF(+VALUE(RIGHT(LEFT(E7,3),1))<6,+A6,+A6+1),+A6) -> 2000 | B7: =IF(A7=A6,"",IF(LEFT(E7,1)="-",IF(+VALUE(RIGHT(LEFT(E7,3),1))<6,"",VALUE(RIGHT(E7,LEN(E7)-2))),"")) -> 62261300 | C7: =IF(A7="","",IFERROR(VLOOKUP(E7,'[1]Mapping '!$I$2:$J$19,2,FALSE),C6)) -> 4000 | D7: =IF(B7="",0,+K7-L7) -> 1255.42 | E7: --62261300 | G7: -1255.42 | H7: -1255.42 | I7: 179920.39 | J7: 0 | K7: 1255.42 | L7: 0 | M7: =IF(VALUE(LEFT(P7,1))>=6,"",IF((R7-S7+T7)=0,+M6,+M6+1)) -> 2 | N7: =IFERROR(IF(VALUE(LEFT(P7,1))>=6,+R7-S7+T7-SUMIF(B:B,P7,D:D),0),"") -> 0 | O7: =IF(ROUND(N7,0)=0,+O6,+O6+1) -> 0 | P7: 13110000 | R7: 0 | S7: 0 | T7: -12079
A8: =IF(LEFT(E8,1)="-",IF(+VALUE(RIGHT(LEFT(E8,3),1))<6,+A7,+A7+1),+A7) -> 2000 | B8: =IF(A8=A7,"",IF(LEFT(E8,1)="-",IF(+VALUE(RIGHT(LEFT(E8,3),1))<6,"",VALUE(RIGHT(E8,LEN(E8)-2))),"")) | C8: =IF(A8="","",IFERROR(VLOOKUP(E8,'[1]Mapping '!$I$2:$J$19,2,FALSE),C7)) -> 4000 | D8: =IF(B8="",0,+K8-L8) -> 0 | E8: 4000 | G8: -402 | H8: -402 | I8: -3339 | J8: 0 | K8: 402 | L8: 0 | M8: =IF(VALUE(LEFT(P8,1))>=6,"",IF((R8-S8+T8)=0,+M7,+M7+1)) -> 3 | N8: =IFERROR(IF(VALUE(LEFT(P8,1))>=6,+R8-S8+T8-SUMIF(B:B,P8,D:D),0),"") -> 0 | O8: =IF(ROUND(N8,0)=0,+O7,+O7+1) -> 0 | P8: 13910000 | R8: 0 | S8: 0 | T8: 1092.07
A9: =IF(E9="","",IF(LEFT(E9,1)="-",IF(+VALUE(RIGHT(LEFT(E9,3),1))<6,+A8,+A8+1),+A8)) -> 2001 | B9: =IF(A9=A8,"",IF(LEFT(E9,1)="-",IF(+VALUE(RIGHT(LEFT(E9,3),1))<6,"",VALUE(RIGHT(E9,LEN(E9)-2))),"")) -> 60630000 | C9: =IF(A9="","",IFERROR(VLOOKUP(E9,'[1]Mapping '!$I$2:$J$19,2,FALSE),C8)) -> 4000 | D9: =IF(B9="",0,+K9-L9) -> 7.58 | E9: --60630000 | G9: -7.58 | H9: -7.58 | I9: 12483.04 | J9: 0 | K9: 7.58 | L9: 0 | M9: =IF(VALUE(LEFT(P9,1))>=6,"",IF((R9-S9+T9)=0,+M8,+M8+1)) -> 4 | N9: =IFERROR(IF(VALUE(LEFT(P9,1))>=6,+R9-S9+T9-SUMIF(B:B,P9,D:D),0),"") -> 0 | O9: =IF(ROUND(N9,0)=0,+O8,+O8+1) -> 0 | P9: 16410000 | R9: 18849.44 | S9: 0 | T9: -268516.07
A10: =IF(E10="","",IF(LEFT(E10,1)="-",IF(+VALUE(RIGHT(LEFT(E10,3),1))<6,+A9,+A9+1),+A9)) -> 2002 | B10: =IF(A10=A9,"",IF(LEFT(E10,1)="-",IF(+VALUE(RIGHT(LEFT(E10,3),1))<6,"",VALUE(RIGHT(E10,LEN(E10)-2))),"")) -> 62261300 | C10: =IF(A10="","",IFERROR(VLOOKUP(E10,'[1]Mapping '!$I$2:$J$19,2,FALSE),C9)) -> 4000 | D10: =IF(B10="",0,+K10-L10) -> 394.42 | E10: --62261300 | G10: -394.42 | H10: -394.42 | I10: 179920.39 | J10: 0 | K10: 394.42 | L10: 0 | M10: =IF(VALUE(LEFT(P10,1))>=6,"",IF((R10-S10+T10)=0,+M9,+M9+1)) -> 5 | N10: =IFERROR(IF(VALUE(LEFT(P10,1))>=6,+R10-S10+T10-SUMIF(B:B,P10,D:D),0),"") -> 0 | O10: =IF(ROUND(N10,0)=0,+O9,+O9+1) -> 0 | P10: 16419000 | R10: 0 | S10: 0 | T10: -414000
A11: =IF(E11="","",IF(LEFT(E11,1)="-",IF(+VALUE(RIGHT(LEFT(E11,3),1))<6,+A10,+A10+1),+A10)) -> 2002 | B11: =IF(A11=A10,"",IF(LEFT(E11,1)="-",IF(+VALUE(RIGHT(LEFT(E11,3),1))<6,"",VALUE(RIGHT(E11,LEN(E11)-2))),"")) | C11: =IF(A11="","",IFERROR(VLOOKUP(E11,'[1]Mapping '!$I$2:$J$19,2,FALSE),C10)) -> 4000 | D11: =IF(B11="",0,+K11-L11) -> 0 | E11: 4000 | G11: -137102.31 | H11: -137102.31 | I11: 138681.68 | J11: 0 | K11: 552760.16 | L11: 415657.85 | M11: =IF(VALUE(LEFT(P11,1))>=6,"",IF((R11-S11+T11)=0,+M10,+M10+1)) -> 6 | N11: =IFERROR(IF(VALUE(LEFT(P11,1))>=6,+R11-S11+T11-SUMIF(B:B,P11,D:D),0),"") -> 0 | O11: =IF(ROUND(N11,0)=0,+O10,+O10+1) -> 0 | P11: 16419100 | R11: 32250 | S11: 0 | T11: -364000
A12: =IF(E12="","",IF(LEFT(E12,1)="-",IF(+VALUE(RIGHT(LEFT(E12,3),1))<6,+A11,+A11+1),+A11)) -> 2003 | B12: =IF(A12=A11,"",IF(LEFT(E12,1)="-",IF(+VALUE(RIGHT(LEFT(E12,3),1))<6,"",VALUE(RIGHT(E12,LEN(E12)-2))),"")) -> 60613000 | C12: =IF(A12="","",IFERROR(VLOOKUP(E12,'[1]Mapping '!$I$2:$J$19,2,FALSE),C11)) -> 4000 | D12: =IF(B12="",0,+K12-L12) -> 266.71 | E12: --60613000 | G12: -266.71 | H12: -266.71 | I12: 7223.14 | J12: 0 | K12: 266.71 | L12: 0 | M12: =IF(VALUE(LEFT(P12,1))>=6,"",IF((R12-S12+T12)=0,+M11,+M11+1)) -> 7 | N12: =IFERROR(IF(VALUE(LEFT(P12,1))>=6,+R12-S12+T12-SUMIF(B:B,P12,D:D),0),"") -> 0 | O12: =IF(ROUND(N12,0)=0,+O11,+O11+1) -> 0 | P12: 16710000 | R12: 0 | S12: 0 | T12: -9900000
A13: =IF(E13="","",IF(LEFT(E13,1)="-",IF(+VALUE(RIGHT(LEFT(E13,3),1))<6,+A12,+A12+1),+A12)) -> 2004 | B13: =IF(A13=A12,"",IF(LEFT(E13,1)="-",IF(+VALUE(RIGHT(LEFT(E13,3),1))<6,"",VALUE(RIGHT(E13,LEN(E13)-2))),"")) -> 60630000 | C13: =IF(A13="","",IFERROR(VLOOKUP(E13,'[1]Mapping '!$I$2:$J$19,2,FALSE),C12)) -> 4000 | D13: =IF(B13="",0,+K13-L13) -> 1316.47 | E13: --60630000 | G13: -1316.47 | H13: -1316.47 | I13: 12483.04 | J13: 0 | K13: 1480.47 | L13: 164 | M13: =IF(VALUE(LEFT(P13,1))>=6,"",IF((R13-S13+T13)=0,+M12,+M12+1)) -> 8 | N13: =IFERROR(IF(VALUE(LEFT(P13,1))>=6,+R13-S13+T13-SUMIF(B:B,P13,D:D),0),"") -> 0 | O13: =IF(ROUND(N13,0)=0,+O12,+O12+1) -> 0 | P13: 16810000 | R13: 120000 | S13: 0 | T13: -600000
A14: =IF(E14="","",IF(LEFT(E14,1)="-",IF(+VALUE(RIGHT(LEFT(E14,3),1))<6,+A13,+A13+1),+A13)) -> 2005 | B14: =IF(A14=A13,"",IF(LEFT(E14,1)="-",IF(+VALUE(RIGHT(LEFT(E14,3),1))<6,"",VALUE(RIGHT(E14,LEN(E14)-2))),"")) -> 60640000 | C14: =IF(A14="","",IFERROR(VLOOKUP(E14,'[1]Mapping '!$I$2:$J$19,2,FALSE),C13)) -> 4000 | D14: =IF(B14="",0,+K14-L14) -> 1274.07 | E14: --60640000 | G14: -1274.07 | H14: -1274.07 | I14: 3689.15 | J14: 0 | K14: 1274.07 | L14: 0 | M14: =IF(VALUE(LEFT(P14,1))>=6,"",IF((R14-S14+T14)=0,+M13,+M13+1)) -> 9 | N14: =IFERROR(IF(VALUE(LEFT(P14,1))>=6,+R14-S14+T14-SUMIF(B:B,P14,D:D),0),"") -> 0 | O14: =IF(ROUND(N14,0)=0,+O13,+O13+1) -> 0 | P14: 16820000 | R14: 0 | S14: 0 | T14: -220000
A15: =IF(E15="","",IF(LEFT(E15,1)="-",IF(+VALUE(RIGHT(LEFT(E15,3),1))<6,+A14,+A14+1),+A14)) -> 2006 | B15: =IF(A15=A14,"",IF(LEFT(E15,1)="-",IF(+VALUE(RIGHT(LEFT(E15,3),1))<6,"",VALUE(RIGHT(E15,LEN(E15)-2))),"")) -> 60641000 | C15: =IF(A15="","",IFERROR(VLOOKUP(E15,'[1]Mapping '!$I$2:$J$19,2,FALSE),C14)) -> 4000 | D15: =IF(B15="",0,+K15-L15) -> 9.17 | E15: --60641000 | G15: -9.17 | H15: -9.17 | I15: 68.91 | J15: 0 | K15: 9.17 | L15: 0 | M15: =IF(VALUE(LEFT(P15,1))>=6,"",IF((R15-S15+T15)=0,+M14,+M14+1)) -> 9 | N15: =IFERROR(IF(VALUE(LEFT(P15,1))>=6,+R15-S15+T15-SUMIF(B:B,P15,D:D),0),"") -> 0 | O15: =IF(ROUND(N15,0)=0,+O14,+O14+1) -> 0 | P15: 16884100 | R15: 0 | S15: 0 | T15: 0 | W15: Compteur | X15: Compte | Y15: Analytique | Z15: CG+CA | AA15: Libellé | AB15: Montant (+/-)
A16: =IF(E16="","",IF(LEFT(E16,1)="-",IF(+VALUE(RIGHT(LEFT(E16,3),1))<6,+A15,+A15+1),+A15)) -> 2007 | B16: =IF(A16=A15,"",IF(LEFT(E16,1)="-",IF(+VALUE(RIGHT(LEFT(E16,3),1))<6,"",VALUE(RIGHT(E16,LEN(E16)-2))),"")) -> 60710000 | C16: =IF(A16="","",IFERROR(VLOOKUP(E16,'[1]Mapping '!$I$2:$J$19,2,FALSE),C15)) -> 4000 | D16: =IF(B16="",0,+K16-L16) -> 840 | E16: --60710000 | G16: -840 | H16: -840 | I16: 11890.73 | J16: 0 | K16: 840 | L16: 0 | M16: =IF(VALUE(LEFT(P16,1))>=6,"",IF((R16-S16+T16)=0,+M15,+M15+1)) -> 10 | N16: =IFERROR(IF(VALUE(LEFT(P16,1))>=6,+R16-S16+T16-SUMIF(B:B,P16,D:D),0),"") -> 0 | O16: =IF(ROUND(N16,0)=0,+O15,+O15+1) -> 0 | P16: 20501000 | R16: 0 | S16: 0 | T16: 15042.88 | U16: =IF(ISNA(VLOOKUP(Z16,'Balance SIEGE'!$C$14:$E$205,3,FALSE))=FALSE,U15,U15+1) -> 0 | W16: 1 | X16: =IF(W16<$AA$1,VLOOKUP(W16,M:P,4,FALSE),VLOOKUP(W16,A:B,2,FALSE)) -> 10100000 | Y16: =IF(W16<$AA$1,"",VLOOKUP(W16,A:C,3,FALSE)) | Z16: =CONCATENATE(X16,"_",Y16) -> 10100000_ | AA16: =IF(W16<$AA$1,VLOOKUP(W16,M:Q,5,FALSE),VLOOKUP(W16,A:F,6,FALSE)) -> 0 | AB16: =IF(W16<$AA$1,SUMIF(P:P,$X16,R:R)-SUMIF(P:P,$X16,S:S)+SUMIF(P:P,$X16,T:T),SUMIF(A:A,$W16,D:D)) -> -4120480 | AC16: =LEFT(X16,1) -> 1 | AD16: =LEFT(Y16,2)
A17: =IF(E17="","",IF(LEFT(E17,1)="-",IF(+VALUE(RIGHT(LEFT(E17,3),1))<6,+A16,+A16+1),+A16)) -> 2008 | B17: =IF(A17=A16,"",IF(LEFT(E17,1)="-",IF(+VALUE(RIGHT(LEFT(E17,3),1))<6,"",VALUE(RIGHT(E17,LEN(E17)-2))),"")) -> 61100000 | C17: =IF(A17="","",IFERROR(VLOOKUP(E17,'[1]Mapping '!$I$2:$J$19,2,FALSE),C16)) -> 4000 | D17: =IF(B17="",0,+K17-L17) -> 37 | E17: --61100000 | G17: -37 | H17: -37 | I17: 1079.15 | J17: 0 | K17: 37 | L17: 0 | M17: =IF(VALUE(LEFT(P17,1))>=6,"",IF((R17-S17+T17)=0,+M16,+M16+1)) -> 11 | N17: =IFERROR(IF(VALUE(LEFT(P17,1))>=6,+R17-S17+T17-SUMIF(B:B,P17,D:D),0),"") -> 0 | O17: =IF(ROUND(N17,0)=0,+O16,+O16+1) -> 0 | P17: 20502000 | R17: 2868 | S17: 0 | T17: 1199.76 | U17: =IF(ISNA(VLOOKUP(Z17,'Balance SIEGE'!$C$14:$E$205,3,FALSE))=FALSE,U16,U16+1) -> 0 | W17: =IFERROR(IF(W16+1>MAX(A:A),"",IF(+W16+1<=MAX(M:M),+W16+1,IF(W16=MAX(M:M),$AA$1,+W16+1))),"") -> 2 | X17: =IF(W17<$AA$1,VLOOKUP(W17,M:P,4,FALSE),VLOOKUP(W17,A:B,2,FALSE)) -> 13110000 | Y17: =IF(W17<$AA$1,"",VLOOKUP(W17,A:C,3,FALSE)) | Z17: =CONCATENATE(X17,"_",Y17) -> 13110000_ | AA17: =IF(W17<$AA$1,VLOOKUP(W17,M:Q,5,FALSE),VLOOKUP(W17,A:F,6,FALSE)) -> 0 | AB17: =IF(W17<$AA$1,SUMIF(P:P,$X17,R:R)-SUMIF(P:P,$X17,S:S)+SUMIF(P:P,$X17,T:T),SUMIF(A:A,$W17,D:D)) -> -12079 | AC17: =LEFT(X17,1) -> 1 | AD17: =LEFT(Y17,2)
A18: =IF(E18="","",IF(LEFT(E18,1)="-",IF(+VALUE(RIGHT(LEFT(E18,3),1))<6,+A17,+A17+1),+A17)) -> 2009 | B18: =IF(A18=A17,"",IF(LEFT(E18,1)="-",IF(+VALUE(RIGHT(LEFT(E18,3),1))<6,"",VALUE(RIGHT(E18,LEN(E18)-2))),"")) -> 61320000 | C18: =IF(A18="","",IFERROR(VLOOKUP(E18,'[1]Mapping '!$I$2:$J$19,2,FALSE),C17)) -> 4000 | D18: =IF(B18="",0,+K18-L18) -> 4732.31 | E18: --61320000 | G18: -4732.31 | H18: -4732.31 | I18: 7098.46 | J18: 0 | K18: 10647.69 | L18: 5915.38 | M18: =IF(VALUE(LEFT(P18,1))>=6,"",IF((R18-S18+T18)=0,+M17,+M17+1)) -> 12 | N18: =IFERROR(IF(VALUE(LEFT(P18,1))>=6,+R18-S18+T18-SUMIF(B:B,P18,D:D),0),"") -> 0 | O18: =IF(ROUND(N18,0)=0,+O17,+O17+1) -> 0 | P18: 20700000 | R18: 0 | S18: 0 | T18: 347888.57 | U18: =IF(ISNA(VLOOKUP(Z18,'Balance SIEGE'!$C$14:$E$205,3,FALSE))=FALSE,U17,U17+1) -> 0 | W18: =IFERROR(IF(W17+1>MAX(A:A),"",IF(+W17+1<=MAX(M:M),+W17+1,IF(W17=MAX(M:M),$AA$1,+W17+1))),"") -> 3 | X18: =IF(W18<$AA$1,VLOOKUP(W18,M:P,4,FALSE),VLOOKUP(W18,A:B,2,FALSE)) -> 13910000 | Y18: =IF(W18<$AA$1,"",VLOOKUP(W18,A:C,3,FALSE)) | Z18: =CONCATENATE(X18,"_",Y18) -> 13910000_ | AA18: =IF(W18<$AA$1,VLOOKUP(W18,M:Q,5,FALSE),VLOOKUP(W18,A:F,6,FALSE)) -> 0 | AB18: =IF(W18<$AA$1,SUMIF(P:P,$X18,R:R)-SUMIF(P:P,$X18,S:S)+SUMIF(P:P,$X18,T:T),SUMIF(A:A,$W18,D:D)) -> 1092.07 | AC18: =LEFT(X18,1) -> 1 | AD18: =LEFT(Y18,2)
A19: =IF(E19="","",IF(LEFT(E19,1)="-",IF(+VALUE(RIGHT(LEFT(E19,3),1))<6,+A18,+A18+1),+A18)) -> 2010 | B19: =IF(A19=A18,"",IF(LEFT(E19,1)="-",IF(+VALUE(RIGHT(LEFT(E19,3),1))<6,"",VALUE(RIGHT(E19,LEN(E19)-2))),"")) -> 61400000 | C19: =IF(A19="","",IFERROR(VLOOKUP(E19,'[1]Mapping '!$I$2:$J$19,2,FALSE),C18)) -> 4000 | D19: =IF(B19="",0,+K19-L19) -> 2085.33 | E19: --61400000 | G19: -2085.33 | H19: -2085.33 | I19: 3128 | J19: 0 | K19: 4692 | L19: 2606.67 | M19: =IF(VALUE(LEFT(P19,1))>=6,"",IF((R19-S19+T19)=0,+M18,+M18+1)) -> 13 | N19: =IFERROR(IF(VALUE(LEFT(P19,1))>=6,+R19-S19+T19-SUMIF(B:B,P19,D:D),0),"") -> 0 | O19: =IF(ROUND(N19,0)=0,+O18,+O18+1) -> 0 | P19: 20710000 | R19: 0 | S19: 0 | T19: 1028562 | U19: =IF(ISNA(VLOOKUP(Z19,'Balance SIEGE'!$C$14:$E$205,3,FALSE))=FALSE,U18,U18+1) -> 0 | W19: =IFERROR(IF(W18+1>MAX(A:A),"",IF(+W18+1<=MAX(M:M),+W18+1,IF(W18=MAX(M:M),$AA$1,+W18+1))),"") -> 4 | X19: =IF(W19<$AA$1,VLOOKUP(W19,M:P,4,FALSE),VLOOKUP(W19,A:B,2,FALSE)) -> 16410000 | Y19: =IF(W19<$AA$1,"",VLOOKUP(W19,A:C,3,FALSE)) | Z19: =CONCATENATE(X19,"_",Y19) -> 16410000_ | AA19: =IF(W19<$AA$1,VLOOKUP(W19,M:Q,5,FALSE),VLOOKUP(W19,A:F,6,FALSE)) -> 0 | AB19: =IF(W19<$AA$1,SUMIF(P:P,$X19,R:R)-SUMIF(P:P,$X19,S:S)+SUMIF(P:P,$X19,T:T),SUMIF(A:A,$W19,D:D)) -> -249666.63 | AC19: =LEFT(X19,1) -> 1 | AD19: =LEFT(Y19,2)
A20: =IF(E20="","",IF(LEFT(E20,1)="-",IF(+VALUE(RIGHT(LEFT(E20,3),1))<6,+A19,+A19+1),+A19)) -> 2011 | B20: =IF(A20=A19,"",IF(LEFT(E20,1)="-",IF(+VALUE(RIGHT(LEFT(E20,3),1))<6,"",VALUE(RIGHT(E20,LEN(E20)-2))),"")) -> 61510000 | C20: =IF(A20="","",IFERROR(VLOOKUP(E20,'[1]Mapping '!$I$2:$J$19,2,FALSE),C19)) -> 4000 | D20: =IF(B20="",0,+K20-L20) -> 2547.66 | E20: --61510000 | G20: -2547.66 | H20: -2547.66 | I20: 9904.95 | J20: 0 | K20: 3901.66 | L20: 1354 | M20: =IF(VALUE(LEFT(P20,1))>=6,"",IF((R20-S20+T20)=0,+M19,+M19+1)) -> 13 | N20: =IFERROR(IF(VALUE(LEFT(P20,1))>=6,+R20-S20+T20-SUMIF(B:B,P20,D:D),0),"") -> 0 | O20: =IF(ROUND(N20,0)=0,+O19,+O19+1) -> 0 | P20: 20720000 | R20: 0 | S20: 0 | T20: 0 | U20: =IF(ISNA(VLOOKUP(Z20,'Balance SIEGE'!$C$14:$E$205,3,FALSE))=FALSE,U19,U19+1) -> 0 | W20: =IFERROR(IF(W19+1>MAX(A:A),"",IF(+W19+1<=MAX(M:M),+W19+1,IF(W19=MAX(M:M),$AA$1,+W19+1))),"") -> 5 | X20: =IF(W20<$AA$1,VLOOKUP(W20,M:P,4,FALSE),VLOOKUP(W20,A:B,2,FALSE)) -> 16419000 | Y20: =IF(W20<$AA$1,"",VLOOKUP(W20,A:C,3,FALSE)) | Z20: =CONCATENATE(X20,"_",Y20) -> 16419000_ | AA20: =IF(W20<$AA$1,VLOOKUP(W20,M:Q,5,FALSE),VLOOKUP(W20,A:F,6,FALSE)) -> 0 | AB20: =IF(W20<$AA$1,SUMIF(P:P,$X20,R:R)-SUMIF(P:P,$X20,S:S)+SUMIF(P:P,$X20,T:T),SUMIF(A:A,$W20,D:D)) -> -414000 | AC20: =LEFT(X20,1) -> 1 | AD20: =LEFT(Y20,2)
A21: =IF(E21="","",IF(LEFT(E21,1)="-",IF(+VALUE(RIGHT(LEFT(E21,3),1))<6,+A20,+A20+1),+A20)) -> 2012 | B21: =IF(A21=A20,"",IF(LEFT(E21,1)="-",IF(+VALUE(RIGHT(LEFT(E21,3),1))<6,"",VALUE(RIGHT(E21,LEN(E21)-2))),"")) -> 61561000 | C21: =IF(A21="","",IFERROR(VLOOKUP(E21,'[1]Mapping '!$I$2:$J$19,2,FALSE),C20)) -> 4000 | D21: =IF(B21="",0,+K21-L21) -> 1124.06 | E21: --61561000 | G21: -1124.06 | H21: -1124.06 | I21: 6936.79 | J21: 0 | K21: 2650.49 | L21: 1526.43 | M21: =IF(VALUE(LEFT(P21,1))>=6,"",IF((R21-S21+T21)=0,+M20,+M20+1)) -> 14 | N21: =IFERROR(IF(VALUE(LEFT(P21,1))>=6,+R21-S21+T21-SUMIF(B:B,P21,D:D),0),"") -> 0 | O21: =IF(ROUND(N21,0)=0,+O20,+O20+1) -> 0 | P21: 21310000 | R21: 0 | S21: 0 | T21: 1909493.9 | U21: =IF(ISNA(VLOOKUP(Z21,'Balance SIEGE'!$C$14:$E$205,3,FALSE))=FALSE,U20,U20+1) -> 0 | W21: =IFERROR(IF(W20+1>MAX(A:A),"",IF(+W20+1<=MAX(M:M),+W20+1,IF(W20=MAX(M:M),$AA$1,+W20+1))),"") -> 6 | X21: =IF(W21<$AA$1,VLOOKUP(W21,M:P,4,FALSE),VLOOKUP(W21,A:B,2,FALSE)) -> 16419100 | Y21: =IF(W21<$AA$1,"",VLOOKUP(W21,A:C,3,FALSE)) | Z21: =CONCATENATE(X21,"_",Y21) -> 16419100_ | AA21: =IF(W21<$AA$1,VLOOKUP(W21,M:Q,5,FALSE),VLOOKUP(W21,A:F,6,FALSE)) -> 0 | AB21: =IF(W21<$AA$1,SUMIF(P:P,$X21,R:R)-SUMIF(P:P,$X21,S:S)+SUMIF(P:P,$X21,T:T),SUMIF(A:A,$W21,D:D)) -> -331750 | AC21: =LEFT(X21,1) -> 1 | AD21: =LEFT(Y21,2)
A22: =IF(E22="","",IF(LEFT(E22,1)="-",IF(+VALUE(RIGHT(LEFT(E22,3),1))<6,+A21,+A21+1),+A21)) -> 2013 | B22: =IF(A22=A21,"",IF(LEFT(E22,1)="-",IF(+VALUE(RIGHT(LEFT(E22,3),1))<6,"",VALUE(RIGHT(E22,LEN(E22)-2))),"")) -> 61610000 | C22: =IF(A22="","",IFERROR(VLOOKUP(E22,'[1]Mapping '!$I$2:$J$19,2,FALSE),C21)) -> 4000 | D22: =IF(B22="",0,+K22-L22) -> 585.37 | E22: --61610000 | G22: -585.37 | H22: -585.37 | I22: 20215.25 | J22: 0 | K22: 585.37 | L22: 0 | M22: =IF(VALUE(LEFT(P22,1))>=6,"",IF((R22-S22+T22)=0,+M21,+M21+1)) -> 15 | N22: =IFERROR(IF(VALUE(LEFT(P22,1))>=6,+R22-S22+T22-SUMIF(B:B,P22,D:D),0),"") -> 0 | O22: =IF(ROUND(N22,0)=0,+O21,+O21+1) -> 0 | P22: 21551000 | R22: 2744 | S22: 0 | T22: 91216.75 | U22: =IF(ISNA(VLOOKUP(Z22,'Balance SIEGE'!$C$14:$E$205,3,FALSE))=FALSE,U21,U21+1) -> 0 | W22: =IFERROR(IF(W21+1>MAX(A:A),"",IF(+W21+1<=MAX(M:M),+W21+1,IF(W21=MAX(M:M),$AA$1,+W21+1))),"") -> 7 | X22: =IF(W22<$AA$1,VLOOKUP(W22,M:P,4,FALSE),VLOOKUP(W22,A:B,2,FALSE)) -> 16710000 | Y22: =IF(W22<$AA$1,"",VLOOKUP(W22,A:C,3,FALSE)) | Z22: =CONCATENATE(X22,"_",Y22) -> 16710000_ | AA22: =IF(W22<$AA$1,VLOOKUP(W22,M:Q,5,FALSE),VLOOKUP(W22,A:F,6,FALSE)) -> 0 | AB22: =IF(W22<$AA$1,SUMIF(P:P,$X22,R:R)-SUMIF(P:P,$X22,S:S)+SUMIF(P:P,$X22,T:T),SUMIF(A:A,$W22,D:D)) -> -9900000 | AC22: =LEFT(X22,1) -> 1 | AD22: =LEFT(Y22,2)
A23: =IF(E23="","",IF(LEFT(E23,1)="-",IF(+VALUE(RIGHT(LEFT(E23,3),1))<6,+A22,+A22+1),+A22)) -> 2014 | B23: =IF(A23=A22,"",IF(LEFT(E23,1)="-",IF(+VALUE(RIGHT(LEFT(E23,3),1))<6,"",VALUE(RIGHT(E23,LEN(E23)-2))),"")) -> 61612000 | C23: =IF(A23="","",IFERROR(VLOOKUP(E23,'[1]Mapping '!$I$2:$J$19,2,FALSE),C22)) -> 4000 | D23: =IF(B23="",0,+K23-L23) -> 540 | E23: --61612000 | G23: -540 | H23: -540 | I23: 205 | J23: 0 | K23: 1822.5 | L23: 1282.5 | M23: =IF(VALUE(LEFT(P23,1))>=6,"",IF((R23-S23+T23)=0,+M22,+M22+1)) -> 16 | N23: =IFERROR(IF(VALUE(LEFT(P23,1))>=6,+R23-S23+T23-SUMIF(B:B,P23,D:D),0),"") -> 0 | O23: =IF(ROUND(N23,0)=0,+O22,+O22+1) -> 0 | P23: 21811000 | R23: 5894.98 | S23: 0 | T23: 1768772.5 | U23: =IF(ISNA(VLOOKUP(Z23,'Balance SIEGE'!$C$14:$E$205,3,FALSE))=FALSE,U22,U22+1) -> 0 | W23: =IFERROR(IF(W22+1>MAX(A:A),"",IF(+W22+1<=MAX(M:M),+W22+1,IF(W22=MAX(M:M),$AA$1,+W22+1))),"") -> 8 | X23: =IF(W23<$AA$1,VLOOKUP(W23,M:P,4,FALSE),VLOOKUP(W23,A:B,2,FALSE)) -> 16810000 | Y23: =IF(W23<$AA$1,"",VLOOKUP(W23,A:C,3,FALSE)) | Z23: =CONCATENATE(X23,"_",Y23) -> 16810000_ | AA23: =IF(W23<$AA$1,VLOOKUP(W23,M:Q,5,FALSE),VLOOKUP(W23,A:F,6,FALSE)) -> 0 | AB23: =IF(W23<$AA$1,SUMIF(P:P,$X23,R:R)-SUMIF(P:P,$X23,S:S)+SUMIF(P:P,$X23,T:T),SUMIF(A:A,$W23,D:D)) -> -480000 | AC23: =LEFT(X23,1) -> 1 | AD23: =LEFT(Y23,2)
A24: =IF(E24="","",IF(LEFT(E24,1)="-",IF(+VALUE(RIGHT(LEFT(E24,3),1))<6,+A23,+A23+1),+A23)) -> 2015 | B24: =IF(A24=A23,"",IF(LEFT(E24,1)="-",IF(+VALUE(RIGHT(LEFT(E24,3),1))<6,"",VALUE(RIGHT(E24,LEN(E24)-2))),"")) -> 62261000 | C24: =IF(A24="","",IFERROR(VLOOKUP(E24,'[1]Mapping '!$I$2:$J$19,2,FALSE),C23)) -> 4000 | D24: =IF(B24="",0,+K24-L24) -> 46949.5 | E24: --62261000 | G24: -46949.5 | H24: -46949.5 | I24: 46949.5 | J24: 0 | K24: 53558.78 | L24: 6609.28 | M24: =IF(VALUE(LEFT(P24,1))>=6,"",IF((R24-S24+T24)=0,+M23,+M23+1)) -> 17 | N24: =IFERROR(IF(VALUE(LEFT(P24,1))>=6,+R24-S24+T24-SUMIF(B:B,P24,D:D),0),"") -> 0 | O24: =IF(ROUND(N24,0)=0,+O23,+O23+1) -> 0 | P24: 21830000 | R24: 1278.17 | S24: 0 | T24: 26702.9 | U24: =IF(ISNA(VLOOKUP(Z24,'Balance SIEGE'!$C$14:$E$205,3,FALSE))=FALSE,U23,U23+1) -> 0 | W24: =IFERROR(IF(W23+1>MAX(A:A),"",IF(+W23+1<=MAX(M:M),+W23+1,IF(W23=MAX(M:M),$AA$1,+W23+1))),"") -> 9 | X24: =IF(W24<$AA$1,VLOOKUP(W24,M:P,4,FALSE),VLOOKUP(W24,A:B,2,FALSE)) -> 16820000 | Y24: =IF(W24<$AA$1,"",VLOOKUP(W24,A:C,3,FALSE)) | Z24: =CONCATENATE(X24,"_",Y24) -> 16820000_ | AA24: =IF(W24<$AA$1,VLOOKUP(W24,M:Q,5,FALSE),VLOOKUP(W24,A:F,6,FALSE)) -> 0 | AB24: =IF(W24<$AA$1,SUMIF(P:P,$X24,R:R)-SUMIF(P:P,$X24,S:S)+SUMIF(P:P,$X24,T:T),SUMIF(A:A,$W24,D:D)) -> -220000 | AC24: =LEFT(X24,1) -> 1 | AD24: =LEFT(Y24,2)
A25: =IF(E25="","",IF(LEFT(E25,1)="-",IF(+VALUE(RIGHT(LEFT(E25,3),1))<6,+A24,+A24+1),+A24)) -> 2016 | B25: =IF(A25=A24,"",IF(LEFT(E25,1)="-",IF(+VALUE(RIGHT(LEFT(E25,3),1))<6,"",VALUE(RIGHT(E25,LEN(E25)-2))),"")) -> 62261300 | C25: =IF(A25="","",IFERROR(VLOOKUP(E25,'[1]Mapping '!$I$2:$J$19,2,FALSE),C24)) -> 4000 | D25: =IF(B25="",0,+K25-L25) -> 173687.57 | E25: --62261300 | G25: -173687.57 | H25: -173687.57 | I25: 179920.39 | J25: 0 | K25: 257972.56 | L25: 84284.99 | M25: =IF(VALUE(LEFT(P25,1))>=6,"",IF((R25-S25+T25)=0,+M24,+M24+1)) -> 18 | N25: =IFERROR(IF(VALUE(LEFT(P25,1))>=6,+R25-S25+T25-SUMIF(B:B,P25,D:D),0),"") -> 0 | O25: =IF(ROUND(N25,0)=0,+O24,+O24+1) -> 0 | P25: 21840000 | R25: 0 | S25: 0 | T25: 87539.91 | U25: =IF(ISNA(VLOOKUP(Z25,'Balance SIEGE'!$C$14:$E$205,3,FALSE))=FALSE,U24,U24+1) -> 0 | W25: =IFERROR(IF(W24+1>MAX(A:A),"",IF(+W24+1<=MAX(M:M),+W24+1,IF(W24=MAX(M:M),$AA$1,+W24+1))),"") -> 10 | X25: =IF(W25<$AA$1,VLOOKUP(W25,M:P,4,FALSE),VLOOKUP(W25,A:B,2,FALSE)) -> 20501000 | Y25: =IF(W25<$AA$1,"",VLOOKUP(W25,A:C,3,FALSE)) | Z25: =CONCATENATE(X25,"_",Y25) -> 20501000_ | AA25: =IF(W25<$AA$1,VLOOKUP(W25,M:Q,5,FALSE),VLOOKUP(W25,A:F,6,FALSE)) -> 0 | AB25: =IF(W25<$AA$1,SUMIF(P:P,$X25,R:R)-SUMIF(P:P,$X25,S:S)+SUMIF(P:P,$X25,T:T),SUMIF(A:A,$W25,D:D)) -> 15042.88 | AC25: =LEFT(X25,1) -> 2 | AD25: =LEFT(Y25,2)
A26: =IF(E26="","",IF(LEFT(E26,1)="-",IF(+VALUE(RIGHT(LEFT(E26,3),1))<6,+A25,+A25+1),+A25)) -> 2017 | B26: =IF(A26=A25,"",IF(LEFT(E26,1)="-",IF(+VALUE(RIGHT(LEFT(E26,3),1))<6,"",VALUE(RIGHT(E26,LEN(E26)-2))),"")) -> 62261400 | C26: =IF(A26="","",IFERROR(VLOOKUP(E26,'[1]Mapping '!$I$2:$J$19,2,FALSE),C25)) -> 4000 | D26: =IF(B26="",0,+K26-L26) -> 76000 | E26: --62261400 | G26: -76000 | H26: -76000 | I26: 76000 | J26: 0 | K26: 76000 | L26: 0 | M26: =IF(VALUE(LEFT(P26,1))>=6,"",IF((R26-S26+T26)=0,+M25,+M25+1)) -> 19 | N26: =IFERROR(IF(VALUE(LEFT(P26,1))>=6,+R26-S26+T26-SUMIF(B:B,P26,D:D),0),"") -> 0 | O26: =IF(ROUND(N26,0)=0,+O25,+O25+1) -> 0 | P26: 23130000 | R26: 51928.03 | S26: 44370.25 | T26: 17863.61 | U26: =IF(ISNA(VLOOKUP(Z26,'Balance SIEGE'!$C$14:$E$205,3,FALSE))=FALSE,U25,U25+1) -> 0 | W26: =IFERROR(IF(W25+1>MAX(A:A),"",IF(+W25+1<=MAX(M:M),+W25+1,IF(W25=MAX(M:M),$AA$1,+W25+1))),"") -> 11 | X26: =IF(W26<$AA$1,VLOOKUP(W26,M:P,4,FALSE),VLOOKUP(W26,A:B,2,FALSE)) -> 20502000 | Y26: =IF(W26<$AA$1,"",VLOOKUP(W26,A:C,3,FALSE)) | Z26: =CONCATENATE(X26,"_",Y26) -> 20502000_ | AA26: =IF(W26<$AA$1,VLOOKUP(W26,M:Q,5,FALSE),VLOOKUP(W26,A:F,6,FALSE)) -> 0 | AB26: =IF(W26<$AA$1,SUMIF(P:P,$X26,R:R)-SUMIF(P:P,$X26,S:S)+SUMIF(P:P,$X26,T:T),SUMIF(A:A,$W26,D:D)) -> 4067.76 | AC26: =LEFT(X26,1) -> 2 | AD26: =LEFT(Y26,2)
A27: =IF(E27="","",IF(LEFT(E27,1)="-",IF(+VALUE(RIGHT(LEFT(E27,3),1))<6,+A26,+A26+1),+A26)) -> 2018 | B27: =IF(A27=A26,"",IF(LEFT(E27,1)="-",IF(+VALUE(RIGHT(LEFT(E27,3),1))<6,"",VALUE(RIGHT(E27,LEN(E27)-2))),"")) -> 62311000 | C27: =IF(A27="","",IFERROR(VLOOKUP(E27,'[1]Mapping '!$I$2:$J$19,2,FALSE),C26)) -> 4000 | D27: =IF(B27="",0,+K27-L27) -> 480 | E27: --62311000 | G27: -480 | H27: -480 | I27: 480 | J27: 0 | K27: 480 | L27: 0 | M27: =IF(VALUE(LEFT(P27,1))>=6,"",IF((R27-S27+T27)=0,+M26,+M26+1)) -> 19 | N27: =IFERROR(IF(VALUE(LEFT(P27,1))>=6,+R27-S27+T27-SUMIF(B:B,P27,D:D),0),"") -> 0 | O27: =IF(ROUND(N27,0)=0,+O26,+O26+1) -> 0 | P27: 23140000 | R27: 0 | S27: 0 | T27: 0 | U27: =IF(ISNA(VLOOKUP(Z27,'Balance SIEGE'!$C$14:$E$205,3,FALSE))=FALSE,U26,U26+1) -> 0 | W27: =IFERROR(IF(W26+1>MAX(A:A),"",IF(+W26+1<=MAX(M:M),+W26+1,IF(W26=MAX(M:M),$AA$1,+W26+1))),"") -> 12 | X27: =IF(W27<$AA$1,VLOOKUP(W27,M:P,4,FALSE),VLOOKUP(W27,A:B,2,FALSE)) -> 20700000 | Y27: =IF(W27<$AA$1,"",VLOOKUP(W27,A:C,3,FALSE)) | Z27: =CONCATENATE(X27,"_",Y27) -> 20700000_ | AA27: =IF(W27<$AA$1,VLOOKUP(W27,M:Q,5,FALSE),VLOOKUP(W27,A:F,6,FALSE)) -> 0 | AB27: =IF(W27<$AA$1,SUMIF(P:P,$X27,R:R)-SUMIF(P:P,$X27,S:S)+SUMIF(P:P,$X27,T:T),SUMIF(A:A,$W27,D:D)) -> 347888.57 | AC27: =LEFT(X27,1) -> 2 | AD27: =LEFT(Y27,2)
A28: =IF(E28="","",IF(LEFT(E28,1)="-",IF(+VALUE(RIGHT(LEFT(E28,3),1))<6,+A27,+A27+1),+A27)) -> 2019 | B28: =IF(A28=A27,"",IF(LEFT(E28,1)="-",IF(+VALUE(RIGHT(LEFT(E28,3),1))<6,"",VALUE(RIGHT(E28,LEN(E28)-2))),"")) -> 62311100 | C28: =IF(A28="","",IFERROR(VLOOKUP(E28,'[1]Mapping '!$I$2:$J$19,2,FALSE),C27)) -> 4000 | D28: =IF(B28="",0,+K28-L28) -> 1938.75 | E28: --62311100 | G28: -1938.75 | H28: -1938.75 | I28: 1938.75 | J28: 0 | K28: 1938.75 | L28: 0 | M28: =IF(VALUE(LEFT(P28,1))>=6,"",IF((R28-S28+T28)=0,+M27,+M27+1)) -> 20 | N28: =IFERROR(IF(VALUE(LEFT(P28,1))>=6,+R28-S28+T28-SUMIF(B:B,P28,D:D),0),"") -> 0 | O28: =IF(ROUND(N28,0)=0,+O27,+O27+1) -> 0 | P28: 26110000 | R28: 0 | S28: 0 | T28: 807513.72 | U28: =IF(ISNA(VLOOKUP(Z28,'Balance SIEGE'!$C$14:$E$205,3,FALSE))=FALSE,U27,U27+1) -> 0 | W28: =IFERROR(IF(W27+1>MAX(A:A),"",IF(+W27+1<=MAX(M:M),+W27+1,IF(W27=MAX(M:M),$AA$1,+W27+1))),"") -> 13 | X28: =IF(W28<$AA$1,VLOOKUP(W28,M:P,4,FALSE),VLOOKUP(W28,A:B,2,FALSE)) -> 20710000 | Y28: =IF(W28<$AA$1,"",VLOOKUP(W28,A:C,3,FALSE)) | Z28: =CONCATENATE(X28,"_",Y28) -> 20710000_ | AA28: =IF(W28<$AA$1,VLOOKUP(W28,M:Q,5,FALSE),VLOOKUP(W28,A:F,6,FALSE)) -> 0 | AB28: =IF(W28<$AA$1,SUMIF(P:P,$X28,R:R)-SUMIF(P:P,$X28,S:S)+SUMIF(P:P,$X28,T:T),SUMIF(A:A,$W28,D:D)) -> 1028562 | AC28: =LEFT(X28,1) -> 2 | AD28: =LEFT(Y28,2) | AJ28: =SUM(AJ8:AJ27) -> 0
A29: =IF(E29="","",IF(LEFT(E29,1)="-",IF(+VALUE(RIGHT(LEFT(E29,3),1))<6,+A28,+A28+1),+A28)) -> 2020 | B29: =IF(A29=A28,"",IF(LEFT(E29,1)="-",IF(+VALUE(RIGHT(LEFT(E29,3),1))<6,"",VALUE(RIGHT(E29,LEN(E29)-2))),"")) -> 62320000 | C29: =IF(A29="","",IFERROR(VLOOKUP(E29,'[1]Mapping '!$I$2:$J$19,2,FALSE),C28)) -> 4000 | D29: =IF(B29="",0,+K29-L29) -> 13960 | E29: --62320000 | G29: -13960 | H29: -13960 | I29: 13960 | J29: 0 | K29: 13960 | L29: 0 | M29: =IF(VALUE(LEFT(P29,1))>=6,"",IF((R29-S29+T29)=0,+M28,+M28+1)) -> 21 | N29: =IFERROR(IF(VALUE(LEFT(P29,1))>=6,+R29-S29+T29-SUMIF(B:B,P29,D:D),0),"") -> 0 | O29: =IF(ROUND(N29,0)=0,+O28,+O28+1) -> 0 | P29: 26120000 | R29: 0 | S29: 0 | T29: 291228 | U29: =IF(ISNA(VLOOKUP(Z29,'Balance SIEGE'!$C$14:$E$205,3,FALSE))=FALSE,U28,U28+1) -> 0 | W29: =IFERROR(IF(W28+1>MAX(A:A),"",IF(+W28+1<=MAX(M:M),+W28+1,IF(W28=MAX(M:M),$AA$1,+W28+1))),"") -> 14 | X29: =IF(W29<$AA$1,VLOOKUP(W29,M:P,4,FALSE),VLOOKUP(W29,A:B,2,FALSE)) -> 21310000 | Y29: =IF(W29<$AA$1,"",VLOOKUP(W29,A:C,3,FALSE)) | Z29: =CONCATENATE(X29,"_",Y29) -> 21310000_ | AA29: =IF(W29<$AA$1,VLOOKUP(W29,M:Q,5,FALSE),VLOOKUP(W29,A:F,6,FALSE)) -> 0 | AB29: =IF(W29<$AA$1,SUMIF(P:P,$X29,R:R)-SUMIF(P:P,$X29,S:S)+SUMIF(P:P,$X29,T:T),SUMIF(A:A,$W29,D:D)) -> 1909493.9 | AC29: =LEFT(X29,1) -> 2 | AD29: =LEFT(Y29,2)
A30: =IF(E30="","",IF(LEFT(E30,1)="-",IF(+VALUE(RIGHT(LEFT(E30,3),1))<6,+A29,+A29+1),+A29)) -> 2021 | B30: =IF(A30=A29,"",IF(LEFT(E30,1)="-",IF(+VALUE(RIGHT(LEFT(E30,3),1))<6,"",VALUE(RIGHT(E30,LEN(E30)-2))),"")) -> 62333000 | C30: =IF(A30="","",IFERROR(VLOOKUP(E30,'[1]Mapping '!$I$2:$J$19,2,FALSE),C29)) -> 4000 | D30: =IF(B30="",0,+K30-L30) -> 2500 | E30: --62333000 | G30: -2500 | H30: -2500 | I30: 2500 | J30: 0 | K30: 2500 | L30: 0 | M30: =IF(VALUE(LEFT(P30,1))>=6,"",IF((R30-S30+T30)=0,+M29,+M29+1)) -> 22 | N30: =IFERROR(IF(VALUE(LEFT(P30,1))>=6,+R30-S30+T30-SUMIF(B:B,P30,D:D),0),"") -> 0 | O30: =IF(ROUND(N30,0)=0,+O29,+O29+1) -> 0 | P30: 26130000 | R30: 0 | S30: 0 | T30: 1014821.4 | U30: =IF(ISNA(VLOOKUP(Z30,'Balance SIEGE'!$C$14:$E$205,3,FALSE))=FALSE,U29,U29+1) -> 0 | W30: =IFERROR(IF(W29+1>MAX(A:A),"",IF(+W29+1<=MAX(M:M),+W29+1,IF(W29=MAX(M:M),$AA$1,+W29+1))),"") -> 15 | X30: =IF(W30<$AA$1,VLOOKUP(W30,M:P,4,FALSE),VLOOKUP(W30,A:B,2,FALSE)) -> 21551000 | Y30: =IF(W30<$AA$1,"",VLOOKUP(W30,A:C,3,FALSE)) | Z30: =CONCATENATE(X30,"_",Y30) -> 21551000_ | AA30: =IF(W30<$AA$1,VLOOKUP(W30,M:Q,5,FALSE),VLOOKUP(W30,A:F,6,FALSE)) -> 0 | AB30: =IF(W30<$AA$1,SUMIF(P:P,$X30,R:R)-SUMIF(P:P,$X30,S:S)+SUMIF(P:P,$X30,T:T),SUMIF(A:A,$W30,D:D)) -> 93960.75 | AC30: =LEFT(X30,1) -> 2 | AD30: =LEFT(Y30,2)
A31: =IF(E31="","",IF(LEFT(E31,1)="-",IF(+VALUE(RIGHT(LEFT(E31,3),1))<6,+A30,+A30+1),+A30)) -> 2022 | B31: =IF(A31=A30,"",IF(LEFT(E31,1)="-",IF(+VALUE(RIGHT(LEFT(E31,3),1))<6,"",VALUE(RIGHT(E31,LEN(E31)-2))),"")) -> 62411100 | C31: =IF(A31="","",IFERROR(VLOOKUP(E31,'[1]Mapping '!$I$2:$J$19,2,FALSE),C30)) -> 4000 | D31: =IF(B31="",0,+K31-L31) -> 160 | E31: --62411100 | G31: -160 | H31: -160 | I31: 709.13 | J31: 0 | K31: 160 | L31: 0 | M31: =IF(VALUE(LEFT(P31,1))>=6,"",IF((R31-S31+T31)=0,+M30,+M30+1)) -> 23 | N31: =IFERROR(IF(VALUE(LEFT(P31,1))>=6,+R31-S31+T31-SUMIF(B:B,P31,D:D),0),"") -> 0 | O31: =IF(ROUND(N31,0)=0,+O30,+O30+1) -> 0 | P31: 26140000 | R31: 0 | S31: 0 | T31: 330001 | U31: =IF(ISNA(VLOOKUP(Z31,'Balance SIEGE'!$C$14:$E$205,3,FALSE))=FALSE,U30,U30+1) -> 0 | W31: =IFERROR(IF(W30+1>MAX(A:A),"",IF(+W30+1<=MAX(M:M),+W30+1,IF(W30=MAX(M:M),$AA$1,+W30+1))),"") -> 16 | X31: =IF(W31<$AA$1,VLOOKUP(W31,M:P,4,FALSE),VLOOKUP(W31,A:B,2,FALSE)) -> 21811000 | Y31: =IF(W31<$AA$1,"",VLOOKUP(W31,A:C,3,FALSE)) | Z31: =CONCATENATE(X31,"_",Y31) -> 21811000_ | AA31: =IF(W31<$AA$1,VLOOKUP(W31,M:Q,5,FALSE),VLOOKUP(W31,A:F,6,FALSE)) -> 0 | AB31: =IF(W31<$AA$1,SUMIF(P:P,$X31,R:R)-SUMIF(P:P,$X31,S:S)+SUMIF(P:P,$X31,T:T),SUMIF(A:A,$W31,D:D)) -> 1774667.4 | AC31: =LEFT(X31,1) -> 2 | AD31: =LEFT(Y31,2) | AE31: #erreur | AF31: Mapping | AG31: Compte | AH31: Ana | AI31: Compte_ana | AJ31: Libellé | AL31: Montant
A32: =IF(E32="","",IF(LEFT(E32,1)="-",IF(+VALUE(RIGHT(LEFT(E32,3),1))<6,+A31,+A31+1),+A31)) -> 2023 | B32: =IF(A32=A31,"",IF(LEFT(E32,1)="-",IF(+VALUE(RIGHT(LEFT(E32,3),1))<6,"",VALUE(RIGHT(E32,LEN(E32)-2))),"")) -> 62512000 | C32: =IF(A32="","",IFERROR(VLOOKUP(E32,'[1]Mapping '!$I$2:$J$19,2,FALSE),C31)) -> 4000 | D32: =IF(B32="",0,+K32-L32) -> 6079.83 | E32: --62512000 | G32: -6079.83 | H32: -6079.83 | I32: 6187.97 | J32: 0 | K32: 6082.83 | L32: 3 | M32: =IF(VALUE(LEFT(P32,1))>=6,"",IF((R32-S32+T32)=0,+M31,+M31+1)) -> 24 | N32: =IFERROR(IF(VALUE(LEFT(P32,1))>=6,+R32-S32+T32-SUMIF(B:B,P32,D:D),0),"") -> 0 | O32: =IF(ROUND(N32,0)=0,+O31,+O31+1) -> 0 | P32: 26150000 | R32: 0 | S32: 0 | T32: 2295146 | U32: =IF(ISNA(VLOOKUP(Z32,'Balance SIEGE'!$C$14:$E$205,3,FALSE))=FALSE,U31,U31+1) -> 0 | W32: =IFERROR(IF(W31+1>MAX(A:A),"",IF(+W31+1<=MAX(M:M),+W31+1,IF(W31=MAX(M:M),$AA$1,+W31+1))),"") -> 17 | X32: =IF(W32<$AA$1,VLOOKUP(W32,M:P,4,FALSE),VLOOKUP(W32,A:B,2,FALSE)) -> 21830000 | Y32: =IF(W32<$AA$1,"",VLOOKUP(W32,A:C,3,FALSE)) | Z32: =CONCATENATE(X32,"_",Y32) -> 21830000_ | AA32: =IF(W32<$AA$1,VLOOKUP(W32,M:Q,5,FALSE),VLOOKUP(W32,A:F,6,FALSE)) -> 0 | AB32: =IF(W32<$AA$1,SUMIF(P:P,$X32,R:R)-SUMIF(P:P,$X32,S:S)+SUMIF(P:P,$X32,T:T),SUMIF(A:A,$W32,D:D)) -> 27981.07 | AC32: =LEFT(X32,1) -> 2 | AD32: =LEFT(Y32,2) | AE32: Comptes manquants dans la balance
A33: =IF(E33="","",IF(LEFT(E33,1)="-",IF(+VALUE(RIGHT(LEFT(E33,3),1))<6,+A32,+A32+1),+A32)) -> 2024 | B33: =IF(A33=A32,"",IF(LEFT(E33,1)="-",IF(+VALUE(RIGHT(LEFT(E33,3),1))<6,"",VALUE(RIGHT(E33,LEN(E33)-2))),"")) -> 62515000 | C33: =IF(A33="","",IFERROR(VLOOKUP(E33,'[1]Mapping '!$I$2:$J$19,2,FALSE),C32)) -> 4000 | D33: =IF(B33="",0,+K33-L33) -> 52.15 | E33: --62515000 | G33: -52.15 | H33: -52.15 | I33: 521.95 | J33: 0 | K33: 52.15 | L33: 0 | M33: =IF(VALUE(LEFT(P33,1))>=6,"",IF((R33-S33+T33)=0,+M32,+M32+1)) -> 25 | N33: =IFERROR(IF(VALUE(LEFT(P33,1))>=6,+R33-S33+T33-SUMIF(B:B,P33,D:D),0),"") -> 0 | O33: =IF(ROUND(N33,0)=0,+O32,+O32+1) -> 0 | P33: 27210000 | R33: 0 | S33: 0 | T33: 500000 | U33: =IF(ISNA(VLOOKUP(Z33,'Balance SIEGE'!$C$14:$E$205,3,FALSE))=FALSE,U32,U32+1) -> 0 | W33: =IFERROR(IF(W32+1>MAX(A:A),"",IF(+W32+1<=MAX(M:M),+W32+1,IF(W32=MAX(M:M),$AA$1,+W32+1))),"") -> 18 | X33: =IF(W33<$AA$1,VLOOKUP(W33,M:P,4,FALSE),VLOOKUP(W33,A:B,2,FALSE)) -> 21840000 | Y33: =IF(W33<$AA$1,"",VLOOKUP(W33,A:C,3,FALSE)) | Z33: =CONCATENATE(X33,"_",Y33) -> 21840000_ | AA33: =IF(W33<$AA$1,VLOOKUP(W33,M:Q,5,FALSE),VLOOKUP(W33,A:F,6,FALSE)) -> 0 | AB33: =IF(W33<$AA$1,SUMIF(P:P,$X33,R:R)-SUMIF(P:P,$X33,S:S)+SUMIF(P:P,$X33,T:T),SUMIF(A:A,$W33,D:D)) -> 87539.91 | AC33: =LEFT(X33,1) -> 2 | AD33: =LEFT(Y33,2) | AE33: 1 | AF33: =IFERROR(VLOOKUP(VALUE(LEFT(AG33,6)),'[1]Mapping '!A:D,4,TRUE),"") | AG33: =IFERROR(VLOOKUP(AE33,U:Z,4,FALSE),"") -> 58330000 | AH33: =IFERROR(VLOOKUP(AE33,U:Z,5,FALSE),"") | AI33: =IFERROR(VLOOKUP(AE33,U:Z,6,FALSE),"") -> 58330000_ | AJ33: =IFERROR(VLOOKUP(AI33,Z:AA,2,FALSE),"") -> 0 | AL33: =IFERROR(VLOOKUP(AI33,Z:AB,3,FALSE),"") -> 1.3642421e-12
A34: =IF(E34="","",IF(LEFT(E34,1)="-",IF(+VALUE(RIGHT(LEFT(E34,3),1))<6,+A33,+A33+1),+A33)) -> 2025 | B34: =IF(A34=A33,"",IF(LEFT(E34,1)="-",IF(+VALUE(RIGHT(LEFT(E34,3),1))<6,"",VALUE(RIGHT(E34,LEN(E34)-2))),"")) -> 62573000 | C34: =IF(A34="","",IFERROR(VLOOKUP(E34,'[1]Mapping '!$I$2:$J$19,2,FALSE),C33)) -> 4000 | D34: =IF(B34="",0,+K34-L34) -> 1131.5 | E34: --62573000 | G34: -1131.5 | H34: -1131.5 | I34: 1220.28 | J34: 0 | K34: 1259.68 | L34: 128.18 | M34: =IF(VALUE(LEFT(P34,1))>=6,"",IF((R34-S34+T34)=0,+M33,+M33+1)) -> 26 | N34: =IFERROR(IF(VALUE(LEFT(P34,1))>=6,+R34-S34+T34-SUMIF(B:B,P34,D:D),0),"") -> 0 | O34: =IF(ROUND(N34,0)=0,+O33,+O33+1) -> 0 | P34: 27511000 | R34: 64.91 | S34: 0 | T34: 22192.38 | U34: =IF(ISNA(VLOOKUP(Z34,'Balance SIEGE'!$C$14:$E$205,3,FALSE))=FALSE,U33,U33+1) -> 0 | W34: =IFERROR(IF(W33+1>MAX(A:A),"",IF(+W33+1<=MAX(M:M),+W33+1,IF(W33=MAX(M:M),$AA$1,+W33+1))),"") -> 19 | X34: =IF(W34<$AA$1,VLOOKUP(W34,M:P,4,FALSE),VLOOKUP(W34,A:B,2,FALSE)) -> 23130000 | Y34: =IF(W34<$AA$1,"",VLOOKUP(W34,A:C,3,FALSE)) | Z34: =CONCATENATE(X34,"_",Y34) -> 23130000_ | AA34: =IF(W34<$AA$1,VLOOKUP(W34,M:Q,5,FALSE),VLOOKUP(W34,A:F,6,FALSE)) -> 0 | AB34: =IF(W34<$AA$1,SUMIF(P:P,$X34,R:R)-SUMIF(P:P,$X34,S:S)+SUMIF(P:P,$X34,T:T),SUMIF(A:A,$W34,D:D)) -> 25421.39 | AC34: =LEFT(X34,1) -> 2 | AD34: =LEFT(Y34,2) | AE34: =+AE33+1 -> 2 | AF34: =IFERROR(VLOOKUP(VALUE(LEFT(AG34,6)),'[1]Mapping '!A:D,4,TRUE),"") | AG34: =IFERROR(VLOOKUP(AE34,U:Z,4,FALSE),"") -> 65830000 | AH34: =IFERROR(VLOOKUP(AE34,U:Z,5,FALSE),"") -> 4000 | AI34: =IFERROR(VLOOKUP(AE34,U:Z,6,FALSE),"") -> 65830000_4000 | AJ34: =IFERROR(VLOOKUP(AI34,Z:AA,2,FALSE),"") -> 0 | AL34: =IFERROR(VLOOKUP(AI34,Z:AB,3,FALSE),"") -> 0.04
A35: =IF(E35="","",IF(LEFT(E35,1)="-",IF(+VALUE(RIGHT(LEFT(E35,3),1))<6,+A34,+A34+1),+A34)) -> 2026 | B35: =IF(A35=A34,"",IF(LEFT(E35,1)="-",IF(+VALUE(RIGHT(LEFT(E35,3),1))<6,"",VALUE(RIGHT(E35,LEN(E35)-2))),"")) -> 62610010 | C35: =IF(A35="","",IFERROR(VLOOKUP(E35,'[1]Mapping '!$I$2:$J$19,2,FALSE),C34)) -> 4000 | D35: =IF(B35="",0,+K35-L35) -> 434.14 | E35: --62610010 | G35: -434.14 | H35: -434.14 | I35: 4951.22 | J35: 0 | K35: 434.14 | L35: 0 | M35: =IF(VALUE(LEFT(P35,1))>=6,"",IF((R35-S35+T35)=0,+M34,+M34+1)) -> 26 | N35: =IFERROR(IF(VALUE(LEFT(P35,1))>=6,+R35-S35+T35-SUMIF(B:B,P35,D:D),0),"") -> 0 | O35: =IF(ROUND(N35,0)=0,+O34,+O34+1) -> 0 | P35: 28050000 | R35: 0 | S35: 0 | T35: 0 | U35: =IF(ISNA(VLOOKUP(Z35,'Balance SIEGE'!$C$14:$E$205,3,FALSE))=FALSE,U34,U34+1) -> 0 | W35: =IFERROR(IF(W34+1>MAX(A:A),"",IF(+W34+1<=MAX(M:M),+W34+1,IF(W34=MAX(M:M),$AA$1,+W34+1))),"") -> 20 | X35: =IF(W35<$AA$1,VLOOKUP(W35,M:P,4,FALSE),VLOOKUP(W35,A:B,2,FALSE)) -> 26110000 | Y35: =IF(W35<$AA$1,"",VLOOKUP(W35,A:C,3,FALSE)) | Z35: =CONCATENATE(X35,"_",Y35) -> 26110000_ | AA35: =IF(W35<$AA$1,VLOOKUP(W35,M:Q,5,FALSE),VLOOKUP(W35,A:F,6,FALSE)) -> 0 | AB35: =IF(W35<$AA$1,SUMIF(P:P,$X35,R:R)-SUMIF(P:P,$X35,S:S)+SUMIF(P:P,$X35,T:T),SUMIF(A:A,$W35,D:D)) -> 807513.72 | AC35: =LEFT(X35,1) -> 2 | AD35: =LEFT(Y35,2) | AE35: =+AE34+1 -> 3 | AF35: =IFERROR(VLOOKUP(VALUE(LEFT(AG35,6)),'[1]Mapping '!A:D,4,TRUE),"") | AG35: =IFERROR(VLOOKUP(AE35,U:Z,4,FALSE),"") | AH35: =IFERROR(VLOOKUP(AE35,U:Z,5,FALSE),"") | AI35: =IFERROR(VLOOKUP(AE35,U:Z,6,FALSE),"") -> _ | AJ35: =IFERROR(VLOOKUP(AI35,Z:AA,2,FALSE),"") -> 0 | AL35: =IFERROR(VLOOKUP(AI35,Z:AB,3,FALSE),"") -> 0
A36: =IF(E36="","",IF(LEFT(E36,1)="-",IF(+VALUE(RIGHT(LEFT(E36,3),1))<6,+A35,+A35+1),+A35)) -> 2027 | B36: =IF(A36=A35,"",IF(LEFT(E36,1)="-",IF(+VALUE(RIGHT(LEFT(E36,3),1))<6,"",VALUE(RIGHT(E36,LEN(E36)-2))),"")) -> 62783000 | C36: =IF(A36="","",IFERROR(VLOOKUP(E36,'[1]Mapping '!$I$2:$J$19,2,FALSE),C35)) -> 4000 | D36: =IF(B36="",0,+K36-L36) -> 300.86 | E36: --62783000 | G36: -300.86 | H36: -300.86 | I36: 5157.96 | J36: 0 | K36: 300.86 | L36: 0 | M36: =IF(VALUE(LEFT(P36,1))>=6,"",IF((R36-S36+T36)=0,+M35,+M35+1)) -> 27 | N36: =IFERROR(IF(VALUE(LEFT(P36,1))>=6,+R36-S36+T36-SUMIF(B:B,P36,D:D),0),"") -> 0 | O36: =IF(ROUND(N36,0)=0,+O35,+O35+1) -> 0 | P36: 28050100 | R36: 0 | S36: 1383.02 | T36: -5276.28 | U36: =IF(ISNA(VLOOKUP(Z36,'Balance SIEGE'!$C$14:$E$205,3,FALSE))=FALSE,U35,U35+1) -> 0 | W36: =IFERROR(IF(W35+1>MAX(A:A),"",IF(+W35+1<=MAX(M:M),+W35+1,IF(W35=MAX(M:M),$AA$1,+W35+1))),"") -> 21 | X36: =IF(W36<$AA$1,VLOOKUP(W36,M:P,4,FALSE),VLOOKUP(W36,A:B,2,FALSE)) -> 26120000 | Y36: =IF(W36<$AA$1,"",VLOOKUP(W36,A:C,3,FALSE)) | Z36: =CONCATENATE(X36,"_",Y36) -> 26120000_ | AA36: =IF(W36<$AA$1,VLOOKUP(W36,M:Q,5,FALSE),VLOOKUP(W36,A:F,6,FALSE)) -> 0 | AB36: =IF(W36<$AA$1,SUMIF(P:P,$X36,R:R)-SUMIF(P:P,$X36,S:S)+SUMIF(P:P,$X36,T:T),SUMIF(A:A,$W36,D:D)) -> 291228 | AC36: =LEFT(X36,1) -> 2 | AD36: =LEFT(Y36,2) | AE36: =+AE35+1 -> 4 | AF36: =IFERROR(VLOOKUP(VALUE(LEFT(AG36,6)),'[1]Mapping '!A:D,4,TRUE),"") | AG36: =IFERROR(VLOOKUP(AE36,U:Z,4,FALSE),"") | AH36: =IFERROR(VLOOKUP(AE36,U:Z,5,FALSE),"") | AI36: =IFERROR(VLOOKUP(AE36,U:Z,6,FALSE),"") -> _ | AJ36: =IFERROR(VLOOKUP(AI36,Z:AA,2,FALSE),"") -> 0 | AL36: =IFERROR(VLOOKUP(AI36,Z:AB,3,FALSE),"") -> 0
A37: =IF(E37="","",IF(LEFT(E37,1)="-",IF(+VALUE(RIGHT(LEFT(E37,3),1))<6,+A36,+A36+1),+A36)) -> 2028 | B37: =IF(A37=A36,"",IF(LEFT(E37,1)="-",IF(+VALUE(RIGHT(LEFT(E37,3),1))<6,"",VALUE(RIGHT(E37,LEN(E37)-2))),"")) -> 62784000 | C37: =IF(A37="","",IFERROR(VLOOKUP(E37,'[1]Mapping '!$I$2:$J$19,2,FALSE),C36)) -> 4000 | D37: =IF(B37="",0,+K37-L37) -> 1249.61 | E37: --62784000 | G37: -1249.61 | H37: -1249.61 | I37: 2827.89 | J37: 0 | K37: 1249.61 | L37: 0 | M37: =IF(VALUE(LEFT(P37,1))>=6,"",IF((R37-S37+T37)=0,+M36,+M36+1)) -> 28 | N37: =IFERROR(IF(VALUE(LEFT(P37,1))>=6,+R37-S37+T37-SUMIF(B:B,P37,D:D),0),"") -> 0 | O37: =IF(ROUND(N37,0)=0,+O36,+O36+1) -> 0 | P37: 28050200 | R37: 0 | S37: 288.63 | T37: -30.47 | U37: =IF(ISNA(VLOOKUP(Z37,'Balance SIEGE'!$C$14:$E$205,3,FALSE))=FALSE,U36,U36+1) -> 0 | W37: =IFERROR(IF(W36+1>MAX(A:A),"",IF(+W36+1<=MAX(M:M),+W36+1,IF(W36=MAX(M:M),$AA$1,+W36+1))),"") -> 22 | X37: =IF(W37<$AA$1,VLOOKUP(W37,M:P,4,FALSE),VLOOKUP(W37,A:B,2,FALSE)) -> 26130000 | Y37: =IF(W37<$AA$1,"",VLOOKUP(W37,A:C,3,FALSE)) | Z37: =CONCATENATE(X37,"_",Y37) -> 26130000_ | AA37: =IF(W37<$AA$1,VLOOKUP(W37,M:Q,5,FALSE),VLOOKUP(W37,A:F,6,FALSE)) -> 0 | AB37: =IF(W37<$AA$1,SUMIF(P:P,$X37,R:R)-SUMIF(P:P,$X37,S:S)+SUMIF(P:P,$X37,T:T),SUMIF(A:A,$W37,D:D)) -> 1014821.4 | AC37: =LEFT(X37,1) -> 2 | AD37: =LEFT(Y37,2) | AE37: =+AE36+1 -> 5 | AF37: =IFERROR(VLOOKUP(VALUE(LEFT(AG37,6)),'[1]Mapping '!A:D,4,TRUE),"") | AG37: =IFERROR(VLOOKUP(AE37,U:Z,4,FALSE),"") | AH37: =IFERROR(VLOOKUP(AE37,U:Z,5,FALSE),"") | AI37: =IFERROR(VLOOKUP(AE37,U:Z,6,FALSE),"") -> _ | AJ37: =IFERROR(VLOOKUP(AI37,Z:AA,2,FALSE),"") -> 0 | AL37: =IFERROR(VLOOKUP(AI37,Z:AB,3,FALSE),"") -> 0
A38: =IF(E38="","",IF(LEFT(E38,1)="-",IF(+VALUE(RIGHT(LEFT(E38,3),1))<6,+A37,+A37+1),+A37)) -> 2029 | B38: =IF(A38=A37,"",IF(LEFT(E38,1)="-",IF(+VALUE(RIGHT(LEFT(E38,3),1))<6,"",VALUE(RIGHT(E38,LEN(E38)-2))),"")) -> 63121000 | C38: =IF(A38="","",IFERROR(VLOOKUP(E38,'[1]Mapping '!$I$2:$J$19,2,FALSE),C37)) -> 4000 | D38: =IF(B38="",0,+K38-L38) -> 114.99 | E38: --63121000 | G38: -114.99 | H38: -114.99 | I38: 1527.31 | J38: 0 | K38: 114.99 | L38: 0 | M38: =IF(VALUE(LEFT(P38,1))>=6,"",IF((R38-S38+T38)=0,+M37,+M37+1)) -> 29 | N38: =IFERROR(IF(VALUE(LEFT(P38,1))>=6,+R38-S38+T38-SUMIF(B:B,P38,D:D),0),"") -> 0 | O38: =IF(ROUND(N38,0)=0,+O37,+O37+1) -> 0 | P38: 28130000 | R38: 0 | S38: 25111.15 | T38: -190949.38 | U38: =IF(ISNA(VLOOKUP(Z38,'Balance SIEGE'!$C$14:$E$205,3,FALSE))=FALSE,U37,U37+1) -> 0 | W38: =IFERROR(IF(W37+1>MAX(A:A),"",IF(+W37+1<=MAX(M:M),+W37+1,IF(W37=MAX(M:M),$AA$1,+W37+1))),"") -> 23 | X38: =IF(W38<$AA$1,VLOOKUP(W38,M:P,4,FALSE),VLOOKUP(W38,A:B,2,FALSE)) -> 26140000 | Y38: =IF(W38<$AA$1,"",VLOOKUP(W38,A:C,3,FALSE)) | Z38: =CONCATENATE(X38,"_",Y38) -> 26140000_ | AA38: =IF(W38<$AA$1,VLOOKUP(W38,M:Q,5,FALSE),VLOOKUP(W38,A:F,6,FALSE)) -> 0 | AB38: =IF(W38<$AA$1,SUMIF(P:P,$X38,R:R)-SUMIF(P:P,$X38,S:S)+SUMIF(P:P,$X38,T:T),SUMIF(A:A,$W38,D:D)) -> 330001 | AC38: =LEFT(X38,1) -> 2 | AD38: =LEFT(Y38,2) | AE38: =+AE37+1 -> 6 | AF38: =IFERROR(VLOOKUP(VALUE(LEFT(AG38,6)),'[1]Mapping '!A:D,4,TRUE),"") | AG38: =IFERROR(VLOOKUP(AE38,U:Z,4,FALSE),"") | AH38: =IFERROR(VLOOKUP(AE38,U:Z,5,FALSE),"") | AI38: =IFERROR(VLOOKUP(AE38,U:Z,6,FALSE),"") -> _ | AJ38: =IFERROR(VLOOKUP(AI38,Z:AA,2,FALSE),"") -> 0 | AL38: =IFERROR(VLOOKUP(AI38,Z:AB,3,FALSE),"") -> 0
A39: =IF(E39="","",IF(LEFT(E39,1)="-",IF(+VALUE(RIGHT(LEFT(E39,3),1))<6,+A38,+A38+1),+A38)) -> 2030 | B39: =IF(A39=A38,"",IF(LEFT(E39,1)="-",IF(+VALUE(RIGHT(LEFT(E39,3),1))<6,"",VALUE(RIGHT(E39,LEN(E39)-2))),"")) -> 63333000 | C39: =IF(A39="","",IFERROR(VLOOKUP(E39,'[1]Mapping '!$I$2:$J$19,2,FALSE),C38)) -> 4000 | D39: =IF(B39="",0,+K39-L39) -> 270.51 | E39: --63333000 | G39: -270.51 | H39: -270.51 | I39: 3535.86 | J39: 0 | K39: 270.51 | L39: 0 | M39: =IF(VALUE(LEFT(P39,1))>=6,"",IF((R39-S39+T39)=0,+M38,+M38+1)) -> 29 | N39: =IFERROR(IF(VALUE(LEFT(P39,1))>=6,+R39-S39+T39-SUMIF(B:B,P39,D:D),0),"") -> 0 | O39: =IF(ROUND(N39,0)=0,+O38,+O38+1) -> 0 | P39: 28155000 | R39: 0 | S39: 0 | T39: 0 | U39: =IF(ISNA(VLOOKUP(Z39,'Balance SIEGE'!$C$14:$E$205,3,FALSE))=FALSE,U38,U38+1) -> 0 | W39: =IFERROR(IF(W38+1>MAX(A:A),"",IF(+W38+1<=MAX(M:M),+W38+1,IF(W38=MAX(M:M),$AA$1,+W38+1))),"") -> 24 | X39: =IF(W39<$AA$1,VLOOKUP(W39,M:P,4,FALSE),VLOOKUP(W39,A:B,2,FALSE)) -> 26150000 | Y39: =IF(W39<$AA$1,"",VLOOKUP(W39,A:C,3,FALSE)) | Z39: =CONCATENATE(X39,"_",Y39) -> 26150000_ | AA39: =IF(W39<$AA$1,VLOOKUP(W39,M:Q,5,FALSE),VLOOKUP(W39,A:F,6,FALSE)) -> 0 | AB39: =IF(W39<$AA$1,SUMIF(P:P,$X39,R:R)-SUMIF(P:P,$X39,S:S)+SUMIF(P:P,$X39,T:T),SUMIF(A:A,$W39,D:D)) -> 2295146 | AC39: =LEFT(X39,1) -> 2 | AD39: =LEFT(Y39,2) | AE39: =+AE38+1 -> 7 | AF39: =IFERROR(VLOOKUP(VALUE(LEFT(AG39,6)),'[1]Mapping '!A:D,4,TRUE),"") | AG39: =IFERROR(VLOOKUP(AE39,U:Z,4,FALSE),"") | AH39: =IFERROR(VLOOKUP(AE39,U:Z,5,FALSE),"") | AI39: =IFERROR(VLOOKUP(AE39,U:Z,6,FALSE),"") -> _ | AJ39: =IFERROR(VLOOKUP(AI39,Z:AA,2,FALSE),"") -> 0 | AL39: =IFERROR(VLOOKUP(AI39,Z:AB,3,FALSE),"") -> 0
A40: =IF(E40="","",IF(LEFT(E40,1)="-",IF(+VALUE(RIGHT(LEFT(E40,3),1))<6,+A39,+A39+1),+A39)) -> 2031 | B40: =IF(A40=A39,"",IF(LEFT(E40,1)="-",IF(+VALUE(RIGHT(LEFT(E40,3),1))<6,"",VALUE(RIGHT(E40,LEN(E40)-2))),"")) -> 63513000 | C40: =IF(A40="","",IFERROR(VLOOKUP(E40,'[1]Mapping '!$I$2:$J$19,2,FALSE),C39)) -> 4000 | D40: =IF(B40="",0,+K40-L40) -> 280 | E40: --63513000 | G40: -280 | H40: -280 | I40: 280 | J40: 0 | K40: 280 | L40: 0 | M40: =IF(VALUE(LEFT(P40,1))>=6,"",IF((R40-S40+T40)=0,+M39,+M39+1)) -> 30 | N40: =IFERROR(IF(VALUE(LEFT(P40,1))>=6,+R40-S40+T40-SUMIF(B:B,P40,D:D),0),"") -> 0 | O40: =IF(ROUND(N40,0)=0,+O39,+O39+1) -> 0 | P40: 28155100 | R40: 0 | S40: 5787.22 | T40: -43170.89 | U40: =IF(ISNA(VLOOKUP(Z40,'Balance SIEGE'!$C$14:$E$205,3,FALSE))=FALSE,U39,U39+1) -> 0 | W40: =IFERROR(IF(W39+1>MAX(A:A),"",IF(+W39+1<=MAX(M:M),+W39+1,IF(W39=MAX(M:M),$AA$1,+W39+1))),"") -> 25 | X40: =IF(W40<$AA$1,VLOOKUP(W40,M:P,4,FALSE),VLOOKUP(W40,A:B,2,FALSE)) -> 27210000 | Y40: =IF(W40<$AA$1,"",VLOOKUP(W40,A:C,3,FALSE)) | Z40: =CONCATENATE(X40,"_",Y40) -> 27210000_ | AA40: =IF(W40<$AA$1,VLOOKUP(W40,M:Q,5,FALSE),VLOOKUP(W40,A:F,6,FALSE)) -> 0 | AB40: =IF(W40<$AA$1,SUMIF(P:P,$X40,R:R)-SUMIF(P:P,$X40,S:S)+SUMIF(P:P,$X40,T:T),SUMIF(A:A,$W40,D:D)) -> 500000 | AC40: =LEFT(X40,1) -> 2 | AD40: =LEFT(Y40,2) | AE40: =+AE39+1 -> 8 | AF40: =IFERROR(VLOOKUP(VALUE(LEFT(AG40,6)),'[1]Mapping '!A:D,4,TRUE),"") | AG40: =IFERROR(VLOOKUP(AE40,U:Z,4,FALSE),"") | AH40: =IFERROR(VLOOKUP(AE40,U:Z,5,FALSE),"") | AI40: =IFERROR(VLOOKUP(AE40,U:Z,6,FALSE),"") -> _ | AJ40: =IFERROR(VLOOKUP(AI40,Z:AA,2,FALSE),"") -> 0 | AL40: =IFERROR(VLOOKUP(AI40,Z:AB,3,FALSE),"") -> 0
A41: =IF(E41="","",IF(LEFT(E41,1)="-",IF(+VALUE(RIGHT(LEFT(E41,3),1))<6,+A40,+A40+1),+A40)) -> 2032 | B41: =IF(A41=A40,"",IF(LEFT(E41,1)="-",IF(+VALUE(RIGHT(LEFT(E41,3),1))<6,"",VALUE(RIGHT(E41,LEN(E41)-2))),"")) -> 63541000 | C41: =IF(A41="","",IFERROR(VLOOKUP(E41,'[1]Mapping '!$I$2:$J$19,2,FALSE),C40)) -> 4000 | D41: =IF(B41="",0,+K41-L41) -> 2818.16 | E41: --63541000 | G41: -2818.16 | H41: -2818.16 | I41: 2818.16 | J41: 0 | K41: 3339.27 | L41: 521.11 | M41: =IF(VALUE(LEFT(P41,1))>=6,"",IF((R41-S41+T41)=0,+M40,+M40+1)) -> 30 | N41: =IFERROR(IF(VALUE(LEFT(P41,1))>=6,+R41-S41+T41-SUMIF(B:B,P41,D:D),0),"") -> 0 | O41: =IF(ROUND(N41,0)=0,+O40,+O40+1) -> 0 | P41: 28181000 | R41: 0 | S41: 0 | T41: 0 | U41: =IF(ISNA(VLOOKUP(Z41,'Balance SIEGE'!$C$14:$E$205,3,FALSE))=FALSE,U40,U40+1) -> 0 | W41: =IFERROR(IF(W40+1>MAX(A:A),"",IF(+W40+1<=MAX(M:M),+W40+1,IF(W40=MAX(M:M),$AA$1,+W40+1))),"") -> 26 | X41: =IF(W41<$AA$1,VLOOKUP(W41,M:P,4,FALSE),VLOOKUP(W41,A:B,2,FALSE)) -> 27511000 | Y41: =IF(W41<$AA$1,"",VLOOKUP(W41,A:C,3,FALSE)) | Z41: =CONCATENATE(X41,"_",Y41) -> 27511000_ | AA41: =IF(W41<$AA$1,VLOOKUP(W41,M:Q,5,FALSE),VLOOKUP(W41,A:F,6,FALSE)) -> 0 | AB41: =IF(W41<$AA$1,SUMIF(P:P,$X41,R:R)-SUMIF(P:P,$X41,S:S)+SUMIF(P:P,$X41,T:T),SUMIF(A:A,$W41,D:D)) -> 22257.29 | AC41: =LEFT(X41,1) -> 2 | AD41: =LEFT(Y41,2) | AE41: =+AE40+1 -> 9 | AF41: =IFERROR(VLOOKUP(VALUE(LEFT(AG41,6)),'[1]Mapping '!A:D,4,TRUE),"") | AG41: =IFERROR(VLOOKUP(AE41,U:Z,4,FALSE),"") | AH41: =IFERROR(VLOOKUP(AE41,U:Z,5,FALSE),"") | AI41: =IFERROR(VLOOKUP(AE41,U:Z,6,FALSE),"") -> _ | AJ41: =IFERROR(VLOOKUP(AI41,Z:AA,2,FALSE),"") -> 0 | AL41: =IFERROR(VLOOKUP(AI41,Z:AB,3,FALSE),"") -> 0
A42: =IF(E42="","",IF(LEFT(E42,1)="-",IF(+VALUE(RIGHT(LEFT(E42,3),1))<6,+A41,+A41+1),+A41)) -> 2033 | B42: =IF(A42=A41,"",IF(LEFT(E42,1)="-",IF(+VALUE(RIGHT(LEFT(E42,3),1))<6,"",VALUE(RIGHT(E42,LEN(E42)-2))),"")) -> 64111000 | C42: =IF(A42="","",IFERROR(VLOOKUP(E42,'[1]Mapping '!$I$2:$J$19,2,FALSE),C41)) -> 4000 | D42: =IF(B42="",0,+K42-L42) -> 25564.02 | E42: --64111000 | G42: -25564.02 | H42: -25564.02 | I42: 333914.82 | J42: 0 | K42: 29923.28 | L42: 4359.26 | M42: =IF(VALUE(LEFT(P42,1))>=6,"",IF((R42-S42+T42)=0,+M41,+M41+1)) -> 31 | N42: =IFERROR(IF(VALUE(LEFT(P42,1))>=6,+R42-S42+T42-SUMIF(B:B,P42,D:D),0),"") -> 0 | O42: =IF(ROUND(N42,0)=0,+O41,+O41+1) -> 0 | P42: 28181100 | R42: 0 | S42: 63373.01 | T42: -190448.3 | U42: =IF(ISNA(VLOOKUP(Z42,'Balance SIEGE'!$C$14:$E$205,3,FALSE))=FALSE,U41,U41+1) -> 0 | W42: =IFERROR(IF(W41+1>MAX(A:A),"",IF(+W41+1<=MAX(M:M),+W41+1,IF(W41=MAX(M:M),$AA$1,+W41+1))),"") -> 27 | X42: =IF(W42<$AA$1,VLOOKUP(W42,M:P,4,FALSE),VLOOKUP(W42,A:B,2,FALSE)) -> 28050100 | Y42: =IF(W42<$AA$1,"",VLOOKUP(W42,A:C,3,FALSE)) | Z42: =CONCATENATE(X42,"_",Y42) -> 28050100_ | AA42: =IF(W42<$AA$1,VLOOKUP(W42,M:Q,5,FALSE),VLOOKUP(W42,A:F,6,FALSE)) -> 0 | AB42: =IF(W42<$AA$1,SUMIF(P:P,$X42,R:R)-SUMIF(P:P,$X42,S:S)+SUMIF(P:P,$X42,T:T),SUMIF(A:A,$W42,D:D)) -> -6659.3 | AC42: =LEFT(X42,1) -> 2 | AD42: =LEFT(Y42,2) | AE42: =+AE41+1 -> 10 | AF42: =IFERROR(VLOOKUP(VALUE(LEFT(AG42,6)),'[1]Mapping '!A:D,4,TRUE),"") | AG42: =IFERROR(VLOOKUP(AE42,U:Z,4,FALSE),"") | AH42: =IFERROR(VLOOKUP(AE42,U:Z,5,FALSE),"") | AI42: =IFERROR(VLOOKUP(AE42,U:Z,6,FALSE),"") -> _ | AJ42: =IFERROR(VLOOKUP(AI42,Z:AA,2,FALSE),"") -> 0 | AL42: =IFERROR(VLOOKUP(AI42,Z:AB,3,FALSE),"") -> 0
A43: =IF(E43="","",IF(LEFT(E43,1)="-",IF(+VALUE(RIGHT(LEFT(E43,3),1))<6,+A42,+A42+1),+A42)) -> 2034 | B43: =IF(A43=A42,"",IF(LEFT(E43,1)="-",IF(+VALUE(RIGHT(LEFT(E43,3),1))<6,"",VALUE(RIGHT(E43,LEN(E43)-2))),"")) -> 64141000 | C43: =IF(A43="","",IFERROR(VLOOKUP(E43,'[1]Mapping '!$I$2:$J$19,2,FALSE),C42)) -> 4000 | D43: =IF(B43="",0,+K43-L43) -> -192.39 | E43: --64141000 | G43: 192.39 | H43: 192.39 | I43: 13343.72 | J43: 0 | K43: 999.36 | L43: 1191.75 | M43: =IF(VALUE(LEFT(P43,1))>=6,"",IF((R43-S43+T43)=0,+M42,+M42+1)) -> 32 | N43: =IFERROR(IF(VALUE(LEFT(P43,1))>=6,+R43-S43+T43-SUMIF(B:B,P43,D:D),0),"") -> 0 | O43: =IF(ROUND(N43,0)=0,+O42,+O42+1) -> 0 | P43: 28183000 | R43: 0 | S43: 2066.57 | T43: -8890.68 | U43: =IF(ISNA(VLOOKUP(Z43,'Balance SIEGE'!$C$14:$E$205,3,FALSE))=FALSE,U42,U42+1) -> 0 | W43: =IFERROR(IF(W42+1>MAX(A:A),"",IF(+W42+1<=MAX(M:M),+W42+1,IF(W42=MAX(M:M),$AA$1,+W42+1))),"") -> 28 | X43: =IF(W43<$AA$1,VLOOKUP(W43,M:P,4,FALSE),VLOOKUP(W43,A:B,2,FALSE)) -> 28050200 | Y43: =IF(W43<$AA$1,"",VLOOKUP(W43,A:C,3,FALSE)) | Z43: =CONCATENATE(X43,"_",Y43) -> 28050200_ | AA43: =IF(W43<$AA$1,VLOOKUP(W43,M:Q,5,FALSE),VLOOKUP(W43,A:F,6,FALSE)) -> 0 | AB43: =IF(W43<$AA$1,SUMIF(P:P,$X43,R:R)-SUMIF(P:P,$X43,S:S)+SUMIF(P:P,$X43,T:T),SUMIF(A:A,$W43,D:D)) -> -319.1 | AC43: =LEFT(X43,1) -> 2 | AD43: =LEFT(Y43,2) | AE43: =+AE42+1 -> 11 | AF43: =IFERROR(VLOOKUP(VALUE(LEFT(AG43,6)),'[1]Mapping '!A:D,4,TRUE),"") | AG43: =IFERROR(VLOOKUP(AE43,U:Z,4,FALSE),"") | AH43: =IFERROR(VLOOKUP(AE43,U:Z,5,FALSE),"") | AI43: =IFERROR(VLOOKUP(AE43,U:Z,6,FALSE),"") -> _ | AJ43: =IFERROR(VLOOKUP(AI43,Z:AA,2,FALSE),"") -> 0 | AL43: =IFERROR(VLOOKUP(AI43,Z:AB,3,FALSE),"") -> 0
A44: =IF(E44="","",IF(LEFT(E44,1)="-",IF(+VALUE(RIGHT(LEFT(E44,3),1))<6,+A43,+A43+1),+A43)) -> 2035 | B44: =IF(A44=A43,"",IF(LEFT(E44,1)="-",IF(+VALUE(RIGHT(LEFT(E44,3),1))<6,"",VALUE(RIGHT(E44,LEN(E44)-2))),"")) -> 64180000 | C44: =IF(A44="","",IFERROR(VLOOKUP(E44,'[1]Mapping '!$I$2:$J$19,2,FALSE),C43)) -> 4000 | D44: =IF(B44="",0,+K44-L44) -> 2352.9 | E44: --64180000 | G44: -2352.9 | H44: -2352.9 | I44: -1880.88 | J44: 0 | K44: 21531.29 | L44: 19178.39 | M44: =IF(VALUE(LEFT(P44,1))>=6,"",IF((R44-S44+T44)=0,+M43,+M43+1)) -> 33 | N44: =IFERROR(IF(VALUE(LEFT(P44,1))>=6,+R44-S44+T44-SUMIF(B:B,P44,D:D),0),"") -> 0 | O44: =IF(ROUND(N44,0)=0,+O43,+O43+1) -> 0 | P44: 28184000 | R44: 0 | S44: 2746.52 | T44: -2773.29 | U44: =IF(ISNA(VLOOKUP(Z44,'Balance SIEGE'!$C$14:$E$205,3,FALSE))=FALSE,U43,U43+1) -> 0 | W44: =IFERROR(IF(W43+1>MAX(A:A),"",IF(+W43+1<=MAX(M:M),+W43+1,IF(W43=MAX(M:M),$AA$1,+W43+1))),"") -> 29 | X44: =IF(W44<$AA$1,VLOOKUP(W44,M:P,4,FALSE),VLOOKUP(W44,A:B,2,FALSE)) -> 28130000 | Y44: =IF(W44<$AA$1,"",VLOOKUP(W44,A:C,3,FALSE)) | Z44: =CONCATENATE(X44,"_",Y44) -> 28130000_ | AA44: =IF(W44<$AA$1,VLOOKUP(W44,M:Q,5,FALSE),VLOOKUP(W44,A:F,6,FALSE)) -> 0 | AB44: =IF(W44<$AA$1,SUMIF(P:P,$X44,R:R)-SUMIF(P:P,$X44,S:S)+SUMIF(P:P,$X44,T:T),SUMIF(A:A,$W44,D:D)) -> -216060.53 | AC44: =LEFT(X44,1) -> 2 | AD44: =LEFT(Y44,2) | AE44: =+AE43+1 -> 12 | AF44: =IFERROR(VLOOKUP(VALUE(LEFT(AG44,6)),'[1]Mapping '!A:D,4,TRUE),"") | AG44: =IFERROR(VLOOKUP(AE44,U:Z,4,FALSE),"") | AH44: =IFERROR(VLOOKUP(AE44,U:Z,5,FALSE),"") | AI44: =IFERROR(VLOOKUP(AE44,U:Z,6,FALSE),"") -> _ | AJ44: =IFERROR(VLOOKUP(AI44,Z:AA,2,FALSE),"") -> 0 | AL44: =IFERROR(VLOOKUP(AI44,Z:AB,3,FALSE),"") -> 0
A45: =IF(E45="","",IF(LEFT(E45,1)="-",IF(+VALUE(RIGHT(LEFT(E45,3),1))<6,+A44,+A44+1),+A44)) -> 2036 | B45: =IF(A45=A44,"",IF(LEFT(E45,1)="-",IF(+VALUE(RIGHT(LEFT(E45,3),1))<6,"",VALUE(RIGHT(E45,LEN(E45)-2))),"")) -> 64180100 | C45: =IF(A45="","",IFERROR(VLOOKUP(E45,'[1]Mapping '!$I$2:$J$19,2,FALSE),C44)) -> 4000 | D45: =IF(B45="",0,+K45-L45) -> -600.31 | E45: --64180100 | G45: 600.31 | H45: 600.31 | I45: -43.86 | J45: 0 | K45: 91.54 | L45: 691.85 | M45: =IF(VALUE(LEFT(P45,1))>=6,"",IF((R45-S45+T45)=0,+M44,+M44+1)) -> 34 | N45: =IFERROR(IF(VALUE(LEFT(P45,1))>=6,+R45-S45+T45-SUMIF(B:B,P45,D:D),0),"") -> 0 | O45: =IF(ROUND(N45,0)=0,+O44,+O44+1) -> 0 | P45: 29611000 | R45: 0 | S45: 0 | T45: -87341 | U45: =IF(ISNA(VLOOKUP(Z45,'Balance SIEGE'!$C$14:$E$205,3,FALSE))=FALSE,U44,U44+1) -> 0 | W45: =IFERROR(IF(W44+1>MAX(A:A),"",IF(+W44+1<=MAX(M:M),+W44+1,IF(W44=MAX(M:M),$AA$1,+W44+1))),"") -> 30 | X45: =IF(W45<$AA$1,VLOOKUP(W45,M:P,4,FALSE),VLOOKUP(W45,A:B,2,FALSE)) -> 28155100 | Y45: =IF(W45<$AA$1,"",VLOOKUP(W45,A:C,3,FALSE)) | Z45: =CONCATENATE(X45,"_",Y45) -> 28155100_ | AA45: =IF(W45<$AA$1,VLOOKUP(W45,M:Q,5,FALSE),VLOOKUP(W45,A:F,6,FALSE)) -> 0 | AB45: =IF(W45<$AA$1,SUMIF(P:P,$X45,R:R)-SUMIF(P:P,$X45,S:S)+SUMIF(P:P,$X45,T:T),SUMIF(A:A,$W45,D:D)) -> -48958.11 | AC45: =LEFT(X45,1) -> 2 | AD45: =LEFT(Y45,2) | AE45: =+AE44+1 -> 13 | AF45: =IFERROR(VLOOKUP(VALUE(LEFT(AG45,6)),'[1]Mapping '!A:D,4,TRUE),"") | AG45: =IFERROR(VLOOKUP(AE45,U:Z,4,FALSE),"") | AH45: =IFERROR(VLOOKUP(AE45,U:Z,5,FALSE),"") | AI45: =IFERROR(VLOOKUP(AE45,U:Z,6,FALSE),"") -> _ | AJ45: =IFERROR(VLOOKUP(AI45,Z:AA,2,FALSE),"") -> 0 | AL45: =IFERROR(VLOOKUP(AI45,Z:AB,3,FALSE),"") -> 0
... A56: =IF(E56="","",IF(LEFT(E56,1)="-",IF(+VALUE(RIGHT(LEFT(E56,3),1))<6,+A55,+A55+1),+A55)) -> 2047 | B56: =IF(A56=A55,"",IF(LEFT(E56,1)="-",IF(+VALUE(RIGHT(LEFT(E56,3),1))<6,"",VALUE(RIGHT(E56,LEN(E56)-2))),"")) -> 65830000 | C56: =IF(A56="","",IFERROR(VLOOKUP(E56,'[1]Mapping '!$I$2:$J$19,2,FALSE),C55)) -> 4000 | D56: =IF(B56="",0,+K56-L56) -> 0.04 | E56: --65830000 | G56: -0.04 | H56: -0.04 | I56: 221.12 | J56: 0 | K56: 0.04 | L56: 0 | M56: =IF(VALUE(LEFT(P56,1))>=6,"",IF((R56-S56+T56)=0,+M55,+M55+1)) -> 40 | N56: =IFERROR(IF(VALUE(LEFT(P56,1))>=6,+R56-S56+T56-SUMIF(B:B,P56,D:D),0),"") -> 0 | O56: =IF(ROUND(N56,0)=0,+O55,+O55+1) -> 0 | P56: 40300500 | R56: 0 | S56: 0 | T56: 0 | U56: =IF(ISNA(VLOOKUP(Z56,'Balance SIEGE'!$C$14:$E$205,3,FALSE))=FALSE,U55,U55+1) -> 0 | W56: =IFERROR(IF(W55+1>MAX(A:A),"",IF(+W55+1<=MAX(M:M),+W55+1,IF(W55=MAX(M:M),$AA$1,+W55+1))),"") -> 41 | X56: =IF(W56<$AA$1,VLOOKUP(W56,M:P,4,FALSE),VLOOKUP(W56,A:B,2,FALSE)) -> 40810000 | Y56: =IF(W56<$AA$1,"",VLOOKUP(W56,A:C,3,FALSE)) | Z56: =CONCATENATE(X56,"_",Y56) -> 40810000_ | AA56: =IF(W56<$AA$1,VLOOKUP(W56,M:Q,5,FALSE),VLOOKUP(W56,A:F,6,FALSE)) -> 0 | AB56: =IF(W56<$AA$1,SUMIF(P:P,$X56,R:R)-SUMIF(P:P,$X56,S:S)+SUMIF(P:P,$X56,T:T),SUMIF(A:A,$W56,D:D)) -> -12496.98 | AC56: =LEFT(X56,1) -> 4 | AD56: =LEFT(Y56,2) | AE56: =+AE55+1 -> 24 | AF56: =IFERROR(VLOOKUP(VALUE(LEFT(AG56,6)),'[1]Mapping '!A:D,4,TRUE),"") | AG56: =IFERROR(VLOOKUP(AE56,U:Z,4,FALSE),"") | AH56: =IFERROR(VLOOKUP(AE56,U:Z,5,FALSE),"") | AI56: =IFERROR(VLOOKUP(AE56,U:Z,6,FALSE),"") -> _ | AJ56: =IFERROR(VLOOKUP(AI56,Z:AA,2,FALSE),"") -> 0 | AL56: =IFERROR(VLOOKUP(AI56,Z:AB,3,FALSE),"") -> 0
A57: =IF(E57="","",IF(LEFT(E57,1)="-",IF(+VALUE(RIGHT(LEFT(E57,3),1))<6,+A56,+A56+1),+A56)) -> 2048 | B57: =IF(A57=A56,"",IF(LEFT(E57,1)="-",IF(+VALUE(RIGHT(LEFT(E57,3),1))<6,"",VALUE(RIGHT(E57,LEN(E57)-2))),"")) -> 66115000 | C57: =IF(A57="","",IFERROR(VLOOKUP(E57,'[1]Mapping '!$I$2:$J$19,2,FALSE),C56)) -> 4000 | D57: =IF(B57="",0,+K57-L57) -> 26734 | E57: --66115000 | G57: -26734 | H57: -26734 | I57: 26734 | J57: 0 | K57: 26734 | L57: 0 | M57: =IF(VALUE(LEFT(P57,1))>=6,"",IF((R57-S57+T57)=0,+M56,+M56+1)) -> 40 | N57: =IFERROR(IF(VALUE(LEFT(P57,1))>=6,+R57-S57+T57-SUMIF(B:B,P57,D:D),0),"") -> 0 | O57: =IF(ROUND(N57,0)=0,+O56,+O56+1) -> 0 | P57: 40300600 | R57: 0 | S57: 0 | T57: 0 | U57: =IF(ISNA(VLOOKUP(Z57,'Balance SIEGE'!$C$14:$E$205,3,FALSE))=FALSE,U56,U56+1) -> 0 | W57: =IFERROR(IF(W56+1>MAX(A:A),"",IF(+W56+1<=MAX(M:M),+W56+1,IF(W56=MAX(M:M),$AA$1,+W56+1))),"") -> 42 | X57: =IF(W57<$AA$1,VLOOKUP(W57,M:P,4,FALSE),VLOOKUP(W57,A:B,2,FALSE)) -> 40820000 | Y57: =IF(W57<$AA$1,"",VLOOKUP(W57,A:C,3,FALSE)) | Z57: =CONCATENATE(X57,"_",Y57) -> 40820000_ | AA57: =IF(W57<$AA$1,VLOOKUP(W57,M:Q,5,FALSE),VLOOKUP(W57,A:F,6,FALSE)) -> 0 | AB57: =IF(W57<$AA$1,SUMIF(P:P,$X57,R:R)-SUMIF(P:P,$X57,S:S)+SUMIF(P:P,$X57,T:T),SUMIF(A:A,$W57,D:D)) -> -670.2 | AC57: =LEFT(X57,1) -> 4 | AD57: =LEFT(Y57,2)
A58: =IF(E58="","",IF(LEFT(E58,1)="-",IF(+VALUE(RIGHT(LEFT(E58,3),1))<6,+A57,+A57+1),+A57)) -> 2049 | B58: =IF(A58=A57,"",IF(LEFT(E58,1)="-",IF(+VALUE(RIGHT(LEFT(E58,3),1))<6,"",VALUE(RIGHT(E58,LEN(E58)-2))),"")) -> 66115500 | C58: =IF(A58="","",IFERROR(VLOOKUP(E58,'[1]Mapping '!$I$2:$J$19,2,FALSE),C57)) -> 4000 | D58: =IF(B58="",0,+K58-L58) -> 842 | E58: --66115500 | G58: -842 | H58: -842 | I58: 842 | J58: 0 | K58: 842 | L58: 0 | M58: =IF(VALUE(LEFT(P58,1))>=6,"",IF((R58-S58+T58)=0,+M57,+M57+1)) -> 40 | N58: =IFERROR(IF(VALUE(LEFT(P58,1))>=6,+R58-S58+T58-SUMIF(B:B,P58,D:D),0),"") -> 0 | O58: =IF(ROUND(N58,0)=0,+O57,+O57+1) -> 0 | P58: 40300700 | R58: 0 | S58: 0 | T58: 0 | U58: =IF(ISNA(VLOOKUP(Z58,'Balance SIEGE'!$C$14:$E$205,3,FALSE))=FALSE,U57,U57+1) -> 0 | W58: =IFERROR(IF(W57+1>MAX(A:A),"",IF(+W57+1<=MAX(M:M),+W57+1,IF(W57=MAX(M:M),$AA$1,+W57+1))),"") -> 43 | X58: =IF(W58<$AA$1,VLOOKUP(W58,M:P,4,FALSE),VLOOKUP(W58,A:B,2,FALSE)) -> 41100000 | Y58: =IF(W58<$AA$1,"",VLOOKUP(W58,A:C,3,FALSE)) | Z58: =CONCATENATE(X58,"_",Y58) -> 41100000_ | AA58: =IF(W58<$AA$1,VLOOKUP(W58,M:Q,5,FALSE),VLOOKUP(W58,A:F,6,FALSE)) -> 0 | AB58: =IF(W58<$AA$1,SUMIF(P:P,$X58,R:R)-SUMIF(P:P,$X58,S:S)+SUMIF(P:P,$X58,T:T),SUMIF(A:A,$W58,D:D)) -> 158540.84 | AC58: =LEFT(X58,1) -> 4 | AD58: =LEFT(Y58,2)
A59: =IF(E59="","",IF(LEFT(E59,1)="-",IF(+VALUE(RIGHT(LEFT(E59,3),1))<6,+A58,+A58+1),+A58)) -> 2050 | B59: =IF(A59=A58,"",IF(LEFT(E59,1)="-",IF(+VALUE(RIGHT(LEFT(E59,3),1))<6,"",VALUE(RIGHT(E59,LEN(E59)-2))),"")) -> 66116190 | C59: =IF(A59="","",IFERROR(VLOOKUP(E59,'[1]Mapping '!$I$2:$J$19,2,FALSE),C58)) -> 4000 | D59: =IF(B59="",0,+K59-L59) -> 1449 | E59: --66116190 | G59: -1449 | H59: -1449 | I59: 1449 | J59: 0 | K59: 1449 | L59: 0 | M59: =IF(VALUE(LEFT(P59,1))>=6,"",IF((R59-S59+T59)=0,+M58,+M58+1)) -> 40 | N59: =IFERROR(IF(VALUE(LEFT(P59,1))>=6,+R59-S59+T59-SUMIF(B:B,P59,D:D),0),"") -> 0 | O59: =IF(ROUND(N59,0)=0,+O58,+O58+1) -> 0 | P59: 40300800 | R59: 0 | S59: 0 | T59: 0 | U59: =IF(ISNA(VLOOKUP(Z59,'Balance SIEGE'!$C$14:$E$205,3,FALSE))=FALSE,U58,U58+1) -> 0 | W59: =IFERROR(IF(W58+1>MAX(A:A),"",IF(+W58+1<=MAX(M:M),+W58+1,IF(W58=MAX(M:M),$AA$1,+W58+1))),"") -> 44 | X59: =IF(W59<$AA$1,VLOOKUP(W59,M:P,4,FALSE),VLOOKUP(W59,A:B,2,FALSE)) -> 42110000 | Y59: =IF(W59<$AA$1,"",VLOOKUP(W59,A:C,3,FALSE)) | Z59: =CONCATENATE(X59,"_",Y59) -> 42110000_ | AA59: =IF(W59<$AA$1,VLOOKUP(W59,M:Q,5,FALSE),VLOOKUP(W59,A:F,6,FALSE)) -> 0 | AB59: =IF(W59<$AA$1,SUMIF(P:P,$X59,R:R)-SUMIF(P:P,$X59,S:S)+SUMIF(P:P,$X59,T:T),SUMIF(A:A,$W59,D:D)) -> 134.09 | AC59: =LEFT(X59,1) -> 4 | AD59: =LEFT(Y59,2)
A60: =IF(E60="","",IF(LEFT(E60,1)="-",IF(+VALUE(RIGHT(LEFT(E60,3),1))<6,+A59,+A59+1),+A59)) -> 2051 | B60: =IF(A60=A59,"",IF(LEFT(E60,1)="-",IF(+VALUE(RIGHT(LEFT(E60,3),1))<6,"",VALUE(RIGHT(E60,LEN(E60)-2))),"")) -> 68111000 | C60: =IF(A60="","",IFERROR(VLOOKUP(E60,'[1]Mapping '!$I$2:$J$19,2,FALSE),C59)) -> 4000 | D60: =IF(B60="",0,+K60-L60) -> 533.15 | E60: --68111000 | G60: -533.15 | H60: -533.15 | I60: 0 | J60: 0 | K60: 533.15 | L60: 0 | M60: =IF(VALUE(LEFT(P60,1))>=6,"",IF((R60-S60+T60)=0,+M59,+M59+1)) -> 40 | N60: =IFERROR(IF(VALUE(LEFT(P60,1))>=6,+R60-S60+T60-SUMIF(B:B,P60,D:D),0),"") -> 0 | O60: =IF(ROUND(N60,0)=0,+O59,+O59+1) -> 0 | P60: 40310000 | R60: 0 | S60: 0 | T60: 0 | U60: =IF(ISNA(VLOOKUP(Z60,'Balance SIEGE'!$C$14:$E$205,3,FALSE))=FALSE,U59,U59+1) -> 0 | W60: =IFERROR(IF(W59+1>MAX(A:A),"",IF(+W59+1<=MAX(M:M),+W59+1,IF(W59=MAX(M:M),$AA$1,+W59+1))),"") -> 45 | X60: =IF(W60<$AA$1,VLOOKUP(W60,M:P,4,FALSE),VLOOKUP(W60,A:B,2,FALSE)) -> 42700000 | Y60: =IF(W60<$AA$1,"",VLOOKUP(W60,A:C,3,FALSE)) | Z60: =CONCATENATE(X60,"_",Y60) -> 42700000_ | AA60: =IF(W60<$AA$1,VLOOKUP(W60,M:Q,5,FALSE),VLOOKUP(W60,A:F,6,FALSE)) -> 0 | AB60: =IF(W60<$AA$1,SUMIF(P:P,$X60,R:R)-SUMIF(P:P,$X60,S:S)+SUMIF(P:P,$X60,T:T),SUMIF(A:A,$W60,D:D)) -> 2.8421709e-14 | AC60: =LEFT(X60,1) -> 4 | AD60: =LEFT(Y60,2)
A61: =IF(E61="","",IF(LEFT(E61,1)="-",IF(+VALUE(RIGHT(LEFT(E61,3),1))<6,+A60,+A60+1),+A60)) -> 2052 | B61: =IF(A61=A60,"",IF(LEFT(E61,1)="-",IF(+VALUE(RIGHT(LEFT(E61,3),1))<6,"",VALUE(RIGHT(E61,LEN(E61)-2))),"")) -> 68112100 | C61: =IF(A61="","",IFERROR(VLOOKUP(E61,'[1]Mapping '!$I$2:$J$19,2,FALSE),C60)) -> 4000 | D61: =IF(B61="",0,+K61-L61) -> 1216.83 | E61: --68112100 | G61: -1216.83 | H61: -1216.83 | I61: 0 | J61: 0 | K61: 1216.83 | L61: 0 | M61: =IF(VALUE(LEFT(P61,1))>=6,"",IF((R61-S61+T61)=0,+M60,+M60+1)) -> 41 | N61: =IFERROR(IF(VALUE(LEFT(P61,1))>=6,+R61-S61+T61-SUMIF(B:B,P61,D:D),0),"") -> 0 | O61: =IF(ROUND(N61,0)=0,+O60,+O60+1) -> 0 | P61: 40810000 | R61: 44523.44 | S61: 38922.62 | T61: -18097.8 | U61: =IF(ISNA(VLOOKUP(Z61,'Balance SIEGE'!$C$14:$E$205,3,FALSE))=FALSE,U60,U60+1) -> 0 | W61: =IFERROR(IF(W60+1>MAX(A:A),"",IF(+W60+1<=MAX(M:M),+W60+1,IF(W60=MAX(M:M),$AA$1,+W60+1))),"") -> 46 | X61: =IF(W61<$AA$1,VLOOKUP(W61,M:P,4,FALSE),VLOOKUP(W61,A:B,2,FALSE)) -> 42820000 | Y61: =IF(W61<$AA$1,"",VLOOKUP(W61,A:C,3,FALSE)) | Z61: =CONCATENATE(X61,"_",Y61) -> 42820000_ | AA61: =IF(W61<$AA$1,VLOOKUP(W61,M:Q,5,FALSE),VLOOKUP(W61,A:F,6,FALSE)) -> 0 | AB61: =IF(W61<$AA$1,SUMIF(P:P,$X61,R:R)-SUMIF(P:P,$X61,S:S)+SUMIF(P:P,$X61,T:T),SUMIF(A:A,$W61,D:D)) -> -106735.83 | AC61: =LEFT(X61,1) -> 4 | AD61: =LEFT(Y61,2)
A62: =IF(E62="","",IF(LEFT(E62,1)="-",IF(+VALUE(RIGHT(LEFT(E62,3),1))<6,+A61,+A61+1),+A61)) -> 2053 | B62: =IF(A62=A61,"",IF(LEFT(E62,1)="-",IF(+VALUE(RIGHT(LEFT(E62,3),1))<6,"",VALUE(RIGHT(E62,LEN(E62)-2))),"")) -> 70720001 | C62: =IF(A62="","",IFERROR(VLOOKUP(E62,'[1]Mapping '!$I$2:$J$19,2,FALSE),C61)) -> 4000 | D62: =IF(B62="",0,+K62-L62) -> -222.94 | E62: --70720001 | G62: 222.94 | H62: 222.94 | I62: -222.94 | J62: 0 | K62: 222.94 | L62: 445.88 | M62: =IF(VALUE(LEFT(P62,1))>=6,"",IF((R62-S62+T62)=0,+M61,+M61+1)) -> 42 | N62: =IFERROR(IF(VALUE(LEFT(P62,1))>=6,+R62-S62+T62-SUMIF(B:B,P62,D:D),0),"") -> 0 | O62: =IF(ROUND(N62,0)=0,+O61,+O61+1) -> 0 | P62: 40820000 | R62: 20432.82 | S62: 1543.8 | T62: -19559.22 | U62: =IF(ISNA(VLOOKUP(Z62,'Balance SIEGE'!$C$14:$E$205,3,FALSE))=FALSE,U61,U61+1) -> 0 | W62: =IFERROR(IF(W61+1>MAX(A:A),"",IF(+W61+1<=MAX(M:M),+W61+1,IF(W61=MAX(M:M),$AA$1,+W61+1))),"") -> 47 | X62: =IF(W62<$AA$1,VLOOKUP(W62,M:P,4,FALSE),VLOOKUP(W62,A:B,2,FALSE)) -> 42820500 | Y62: =IF(W62<$AA$1,"",VLOOKUP(W62,A:C,3,FALSE)) | Z62: =CONCATENATE(X62,"_",Y62) -> 42820500_ | AA62: =IF(W62<$AA$1,VLOOKUP(W62,M:Q,5,FALSE),VLOOKUP(W62,A:F,6,FALSE)) -> 0 | AB62: =IF(W62<$AA$1,SUMIF(P:P,$X62,R:R)-SUMIF(P:P,$X62,S:S)+SUMIF(P:P,$X62,T:T),SUMIF(A:A,$W62,D:D)) -> -7086.83 | AC62: =LEFT(X62,1) -> 4 | AD62: =LEFT(Y62,2)
A63: =IF(E63="","",IF(LEFT(E63,1)="-",IF(+VALUE(RIGHT(LEFT(E63,3),1))<6,+A62,+A62+1),+A62)) -> 2054 | B63: =IF(A63=A62,"",IF(LEFT(E63,1)="-",IF(+VALUE(RIGHT(LEFT(E63,3),1))<6,"",VALUE(RIGHT(E63,LEN(E63)-2))),"")) -> 70800000 | C63: =IF(A63="","",IFERROR(VLOOKUP(E63,'[1]Mapping '!$I$2:$J$19,2,FALSE),C62)) -> 4000 | D63: =IF(B63="",0,+K63-L63) -> -260079 | E63: --70800000 | G63: 260079 | H63: 260079 | I63: -346772 | J63: 0 | K63: 0 | L63: 260079 | M63: =IF(VALUE(LEFT(P63,1))>=6,"",IF((R63-S63+T63)=0,+M62,+M62+1)) -> 42 | N63: =IFERROR(IF(VALUE(LEFT(P63,1))>=6,+R63-S63+T63-SUMIF(B:B,P63,D:D),0),"") -> 0 | O63: =IF(ROUND(N63,0)=0,+O62,+O62+1) -> 0 | P63: 40830000 | R63: 0 | S63: 0 | T63: 0 | U63: =IF(ISNA(VLOOKUP(Z63,'Balance SIEGE'!$C$14:$E$205,3,FALSE))=FALSE,U62,U62+1) -> 0 | W63: =IFERROR(IF(W62+1>MAX(A:A),"",IF(+W62+1<=MAX(M:M),+W62+1,IF(W62=MAX(M:M),$AA$1,+W62+1))),"") -> 48 | X63: =IF(W63<$AA$1,VLOOKUP(W63,M:P,4,FALSE),VLOOKUP(W63,A:B,2,FALSE)) -> 42830000 | Y63: =IF(W63<$AA$1,"",VLOOKUP(W63,A:C,3,FALSE)) | Z63: =CONCATENATE(X63,"_",Y63) -> 42830000_ | AA63: =IF(W63<$AA$1,VLOOKUP(W63,M:Q,5,FALSE),VLOOKUP(W63,A:F,6,FALSE)) -> 0 | AB63: =IF(W63<$AA$1,SUMIF(P:P,$X63,R:R)-SUMIF(P:P,$X63,S:S)+SUMIF(P:P,$X63,T:T),SUMIF(A:A,$W63,D:D)) -> -647.99 | AC63: =LEFT(X63,1) -> 4 | AD63: =LEFT(Y63,2)
A64: =IF(E64="","",IF(LEFT(E64,1)="-",IF(+VALUE(RIGHT(LEFT(E64,3),1))<6,+A63,+A63+1),+A63)) -> 2055 | B64: =IF(A64=A63,"",IF(LEFT(E64,1)="-",IF(+VALUE(RIGHT(LEFT(E64,3),1))<6,"",VALUE(RIGHT(E64,LEN(E64)-2))),"")) -> 70851000 | C64: =IF(A64="","",IFERROR(VLOOKUP(E64,'[1]Mapping '!$I$2:$J$19,2,FALSE),C63)) -> 4000 | D64: =IF(B64="",0,+K64-L64) -> -521.84 | E64: --70851000 | G64: 521.84 | H64: 521.84 | I64: -12858.51 | J64: 0 | K64: 0 | L64: 521.84 | M64: =IF(VALUE(LEFT(P64,1))>=6,"",IF((R64-S64+T64)=0,+M63,+M63+1)) -> 42 | N64: =IFERROR(IF(VALUE(LEFT(P64,1))>=6,+R64-S64+T64-SUMIF(B:B,P64,D:D),0),"") -> 0 | O64: =IF(ROUND(N64,0)=0,+O63,+O63+1) -> 0 | P64: 40831000 | R64: 0 | S64: 0 | T64: 0 | U64: =IF(ISNA(VLOOKUP(Z64,'Balance SIEGE'!$C$14:$E$205,3,FALSE))=FALSE,U63,U63+1) -> 0 | W64: =IFERROR(IF(W63+1>MAX(A:A),"",IF(+W63+1<=MAX(M:M),+W63+1,IF(W63=MAX(M:M),$AA$1,+W63+1))),"") -> 49 | X64: =IF(W64<$AA$1,VLOOKUP(W64,M:P,4,FALSE),VLOOKUP(W64,A:B,2,FALSE)) -> 43100000 | Y64: =IF(W64<$AA$1,"",VLOOKUP(W64,A:C,3,FALSE)) | Z64: =CONCATENATE(X64,"_",Y64) -> 43100000_ | AA64: =IF(W64<$AA$1,VLOOKUP(W64,M:Q,5,FALSE),VLOOKUP(W64,A:F,6,FALSE)) -> 0 | AB64: =IF(W64<$AA$1,SUMIF(P:P,$X64,R:R)-SUMIF(P:P,$X64,S:S)+SUMIF(P:P,$X64,T:T),SUMIF(A:A,$W64,D:D)) -> -35975.16 | AC64: =LEFT(X64,1) -> 4 | AD64: =LEFT(Y64,2)
A65: =IF(E65="","",IF(LEFT(E65,1)="-",IF(+VALUE(RIGHT(LEFT(E65,3),1))<6,+A64,+A64+1),+A64)) -> 2056 | B65: =IF(A65=A64,"",IF(LEFT(E65,1)="-",IF(+VALUE(RIGHT(LEFT(E65,3),1))<6,"",VALUE(RIGHT(E65,LEN(E65)-2))),"")) -> 74100000 | C65: =IF(A65="","",IFERROR(VLOOKUP(E65,'[1]Mapping '!$I$2:$J$19,2,FALSE),C64)) -> 4000 | D65: =IF(B65="",0,+K65-L65) -> -2497 | E65: --74100000 | G65: 2497 | H65: 2497 | I65: -13386.92 | J65: 0 | K65: 3 | L65: 2500 | M65: =IF(VALUE(LEFT(P65,1))>=6,"",IF((R65-S65+T65)=0,+M64,+M64+1)) -> 42 | N65: =IFERROR(IF(VALUE(LEFT(P65,1))>=6,+R65-S65+T65-SUMIF(B:B,P65,D:D),0),"") -> 0 | O65: =IF(ROUND(N65,0)=0,+O64,+O64+1) -> 0 | P65: 40900000 | R65: 0 | S65: 22760.45 | T65: 22760.45 | U65: =IF(ISNA(VLOOKUP(Z65,'Balance SIEGE'!$C$14:$E$205,3,FALSE))=FALSE,U64,U64+1) -> 0 | W65: =IFERROR(IF(W64+1>MAX(A:A),"",IF(+W64+1<=MAX(M:M),+W64+1,IF(W64=MAX(M:M),$AA$1,+W64+1))),"") -> 50 | X65: =IF(W65<$AA$1,VLOOKUP(W65,M:P,4,FALSE),VLOOKUP(W65,A:B,2,FALSE)) -> 43721000 | Y65: =IF(W65<$AA$1,"",VLOOKUP(W65,A:C,3,FALSE)) | Z65: =CONCATENATE(X65,"_",Y65) -> 43721000_ | AA65: =IF(W65<$AA$1,VLOOKUP(W65,M:Q,5,FALSE),VLOOKUP(W65,A:F,6,FALSE)) -> 0 | AB65: =IF(W65<$AA$1,SUMIF(P:P,$X65,R:R)-SUMIF(P:P,$X65,S:S)+SUMIF(P:P,$X65,T:T),SUMIF(A:A,$W65,D:D)) -> -8583.97 | AC65: =LEFT(X65,1) -> 4 | AD65: =LEFT(Y65,2)
A66: =IF(E66="","",IF(LEFT(E66,1)="-",IF(+VALUE(RIGHT(LEFT(E66,3),1))<6,+A65,+A65+1),+A65)) -> 2057 | B66: =IF(A66=A65,"",IF(LEFT(E66,1)="-",IF(+VALUE(RIGHT(LEFT(E66,3),1))<6,"",VALUE(RIGHT(E66,LEN(E66)-2))),"")) -> 75810000 | C66: =IF(A66="","",IFERROR(VLOOKUP(E66,'[1]Mapping '!$I$2:$J$19,2,FALSE),C65)) -> 4000 | D66: =IF(B66="",0,+K66-L66) -> -4.77 | E66: --75810000 | G66: 4.77 | H66: 4.77 | I66: -159.34 | J66: 0 | K66: 0 | L66: 4.77 | M66: =IF(VALUE(LEFT(P66,1))>=6,"",IF((R66-S66+T66)=0,+M65,+M65+1)) -> 43 | N66: =IFERROR(IF(VALUE(LEFT(P66,1))>=6,+R66-S66+T66-SUMIF(B:B,P66,D:D),0),"") -> 0 | O66: =IF(ROUND(N66,0)=0,+O65,+O65+1) -> 0 | P66: 41100000 | R66: 725406.88 | S66: 552757.96 | T66: -14108.08 | U66: =IF(ISNA(VLOOKUP(Z66,'Balance SIEGE'!$C$14:$E$205,3,FALSE))=FALSE,U65,U65+1) -> 0 | W66: =IFERROR(IF(W65+1>MAX(A:A),"",IF(+W65+1<=MAX(M:M),+W65+1,IF(W65=MAX(M:M),$AA$1,+W65+1))),"") -> 51 | X66: =IF(W66<$AA$1,VLOOKUP(W66,M:P,4,FALSE),VLOOKUP(W66,A:B,2,FALSE)) -> 43730000 | Y66: =IF(W66<$AA$1,"",VLOOKUP(W66,A:C,3,FALSE)) | Z66: =CONCATENATE(X66,"_",Y66) -> 43730000_ | AA66: =IF(W66<$AA$1,VLOOKUP(W66,M:Q,5,FALSE),VLOOKUP(W66,A:F,6,FALSE)) -> 0 | AB66: =IF(W66<$AA$1,SUMIF(P:P,$X66,R:R)-SUMIF(P:P,$X66,S:S)+SUMIF(P:P,$X66,T:T),SUMIF(A:A,$W66,D:D)) -> -2815.89 | AC66: =LEFT(X66,1) -> 4 | AD66: =LEFT(Y66,2)
A67: =IF(E67="","",IF(LEFT(E67,1)="-",IF(+VALUE(RIGHT(LEFT(E67,3),1))<6,+A66,+A66+1),+A66)) -> 2058 | B67: =IF(A67=A66,"",IF(LEFT(E67,1)="-",IF(+VALUE(RIGHT(LEFT(E67,3),1))<6,"",VALUE(RIGHT(E67,LEN(E67)-2))),"")) -> 76880000 | C67: =IF(A67="","",IFERROR(VLOOKUP(E67,'[1]Mapping '!$I$2:$J$19,2,FALSE),C66)) -> 4000 | D67: =IF(B67="",0,+K67-L67) -> -7486 | E67: --76880000 | G67: 7486 | H67: 7486 | I67: -7486 | J67: 0 | K67: 0 | L67: 7486 | M67: =IF(VALUE(LEFT(P67,1))>=6,"",IF((R67-S67+T67)=0,+M66,+M66+1)) -> 43 | N67: =IFERROR(IF(VALUE(LEFT(P67,1))>=6,+R67-S67+T67-SUMIF(B:B,P67,D:D),0),"") -> 0 | O67: =IF(ROUND(N67,0)=0,+O66,+O66+1) -> 0 | P67: 41800000 | R67: 0 | S67: 0 | T67: 0 | U67: =IF(ISNA(VLOOKUP(Z67,'Balance SIEGE'!$C$14:$E$205,3,FALSE))=FALSE,U66,U66+1) -> 0 | W67: =IFERROR(IF(W66+1>MAX(A:A),"",IF(+W66+1<=MAX(M:M),+W66+1,IF(W66=MAX(M:M),$AA$1,+W66+1))),"") -> 52 | X67: =IF(W67<$AA$1,VLOOKUP(W67,M:P,4,FALSE),VLOOKUP(W67,A:B,2,FALSE)) -> 43740000 | Y67: =IF(W67<$AA$1,"",VLOOKUP(W67,A:C,3,FALSE)) | Z67: =CONCATENATE(X67,"_",Y67) -> 43740000_ | AA67: =IF(W67<$AA$1,VLOOKUP(W67,M:Q,5,FALSE),VLOOKUP(W67,A:F,6,FALSE)) -> 0 | AB67: =IF(W67<$AA$1,SUMIF(P:P,$X67,R:R)-SUMIF(P:P,$X67,S:S)+SUMIF(P:P,$X67,T:T),SUMIF(A:A,$W67,D:D)) -> -50.21 | AC67: =LEFT(X67,1) -> 4 | AD67: =LEFT(Y67,2)
A68: =IF(E68="","",IF(LEFT(E68,1)="-",IF(+VALUE(RIGHT(LEFT(E68,3),1))<6,+A67,+A67+1),+A67)) -> 2059 | B68: =IF(A68=A67,"",IF(LEFT(E68,1)="-",IF(+VALUE(RIGHT(LEFT(E68,3),1))<6,"",VALUE(RIGHT(E68,LEN(E68)-2))),"")) -> 76880100 | C68: =IF(A68="","",IFERROR(VLOOKUP(E68,'[1]Mapping '!$I$2:$J$19,2,FALSE),C67)) -> 4000 | D68: =IF(B68="",0,+K68-L68) -> -3551 | E68: --76880100 | G68: 3551 | H68: 3551 | I68: -3551 | J68: 0 | K68: 0 | L68: 3551 | M68: =IF(VALUE(LEFT(P68,1))>=6,"",IF((R68-S68+T68)=0,+M67,+M67+1)) -> 44 | N68: =IFERROR(IF(VALUE(LEFT(P68,1))>=6,+R68-S68+T68-SUMIF(B:B,P68,D:D),0),"") -> 0 | O68: =IF(ROUND(N68,0)=0,+O67,+O67+1) -> 0 | P68: 42110000 | R68: 264240.76 | S68: 255252.37 | T68: -8854.3 | U68: =IF(ISNA(VLOOKUP(Z68,'Balance SIEGE'!$C$14:$E$205,3,FALSE))=FALSE,U67,U67+1) -> 0 | W68: =IFERROR(IF(W67+1>MAX(A:A),"",IF(+W67+1<=MAX(M:M),+W67+1,IF(W67=MAX(M:M),$AA$1,+W67+1))),"") -> 53 | X68: =IF(W68<$AA$1,VLOOKUP(W68,M:P,4,FALSE),VLOOKUP(W68,A:B,2,FALSE)) -> 43751000 | Y68: =IF(W68<$AA$1,"",VLOOKUP(W68,A:C,3,FALSE)) | Z68: =CONCATENATE(X68,"_",Y68) -> 43751000_ | AA68: =IF(W68<$AA$1,VLOOKUP(W68,M:Q,5,FALSE),VLOOKUP(W68,A:F,6,FALSE)) -> 0 | AB68: =IF(W68<$AA$1,SUMIF(P:P,$X68,R:R)-SUMIF(P:P,$X68,S:S)+SUMIF(P:P,$X68,T:T),SUMIF(A:A,$W68,D:D)) -> -302.41 | AC68: =LEFT(X68,1) -> 4 | AD68: =LEFT(Y68,2)
... A198: =IF(E198="","",IF(LEFT(E198,1)="-",IF(+VALUE(RIGHT(LEFT(E198,3),1))<6,+A197,+A197+1),+A197)) -> 2182 | B198: =IF(A198=A197,"",IF(LEFT(E198,1)="-",IF(+VALUE(RIGHT(LEFT(E198,3),1))<6,"",VALUE(RIGHT(E198,LEN(E198)-2))),"")) -> 64111000 | C198: =IF(A198="","",IFERROR(VLOOKUP(E198,'[1]Mapping '!$I$2:$J$19,2,FALSE),C197)) -> 4220 | D198: =IF(B198="",0,+K198-L198) -> 8043.05 | E198: --64111000 | G198: -8043.05 | H198: -8043.05 | I198: 333914.82 | J198: 0 | K198: 9807.37 | L198: 1764.32 | M198: =IF(VALUE(LEFT(P198,1))>=6,"",IF((R198-S198+T198)=0,+M197,+M197+1)) | N198: =IFERROR(IF(VALUE(LEFT(P198,1))>=6,+R198-S198+T198-SUMIF(B:B,P198,D:D),0),"") -> 0 | O198: =IF(ROUND(N198,0)=0,+O197,+O197+1) -> 0 | P198: 60320000 | R198: 4587.94 | S198: 3596.61 | T198: 0 | U198: =IF(ISNA(VLOOKUP(Z198,'Balance SIEGE'!$C$14:$E$205,3,FALSE))=FALSE,U197,U197+1) -> 2 | W198: =IFERROR(IF(W197+1>MAX(A:A),"",IF(+W197+1<=MAX(M:M),+W197+1,IF(W197=MAX(M:M),$AA$1,+W197+1))),"") -> 2075 | X198: =IF(W198<$AA$1,VLOOKUP(W198,M:P,4,FALSE),VLOOKUP(W198,A:B,2,FALSE)) -> 70851000 | Y198: =IF(W198<$AA$1,"",VLOOKUP(W198,A:C,3,FALSE)) -> 4000 | Z198: =CONCATENATE(X198,"_",Y198) -> 70851000_4000 | AA198: =IF(W198<$AA$1,VLOOKUP(W198,M:Q,5,FALSE),VLOOKUP(W198,A:F,6,FALSE)) -> 0 | AB198: =IF(W198<$AA$1,SUMIF(P:P,$X198,R:R)-SUMIF(P:P,$X198,S:S)+SUMIF(P:P,$X198,T:T),SUMIF(A:A,$W198,D:D)) -> -2340.08 | AC198: =LEFT(X198,1) -> 7 | AD198: =LEFT(Y198,2) -> 40
A199: =IF(E199="","",IF(LEFT(E199,1)="-",IF(+VALUE(RIGHT(LEFT(E199,3),1))<6,+A198,+A198+1),+A198)) -> 2183 | B199: =IF(A199=A198,"",IF(LEFT(E199,1)="-",IF(+VALUE(RIGHT(LEFT(E199,3),1))<6,"",VALUE(RIGHT(E199,LEN(E199)-2))),"")) -> 64141000 | C199: =IF(A199="","",IFERROR(VLOOKUP(E199,'[1]Mapping '!$I$2:$J$19,2,FALSE),C198)) -> 4220 | D199: =IF(B199="",0,+K199-L199) -> 71.44 | E199: --64141000 | G199: -71.44 | H199: -71.44 | I199: 13343.72 | J199: 0 | K199: 71.44 | L199: 0 | M199: =IF(VALUE(LEFT(P199,1))>=6,"",IF((R199-S199+T199)=0,+M198,+M198+1)) | N199: =IFERROR(IF(VALUE(LEFT(P199,1))>=6,+R199-S199+T199-SUMIF(B:B,P199,D:D),0),"") -> 0 | O199: =IF(ROUND(N199,0)=0,+O198,+O198+1) -> 0 | P199: 60330000 | R199: 0 | S199: 0 | T199: 0 | U199: =IF(ISNA(VLOOKUP(Z199,'Balance A'!$C$14:$E$163,3,FALSE))=FALSE,U198,U198+1) -> 2 | W199: =IFERROR(IF(W198+1>MAX(A:A),"",IF(+W198+1<=MAX(M:M),+W198+1,IF(W198=MAX(M:M),$AA$1,+W198+1))),"") -> 2076 | X199: =IF(W199<$AA$1,VLOOKUP(W199,M:P,4,FALSE),VLOOKUP(W199,A:B,2,FALSE)) -> 60110000 | Y199: =IF(W199<$AA$1,"",VLOOKUP(W199,A:C,3,FALSE)) -> 4200 | Z199: =CONCATENATE(X199,"_",Y199) -> 60110000_4200 | AA199: =IF(W199<$AA$1,VLOOKUP(W199,M:Q,5,FALSE),VLOOKUP(W199,A:F,6,FALSE)) -> 0 | AB199: =IF(W199<$AA$1,SUMIF(P:P,$X199,R:R)-SUMIF(P:P,$X199,S:S)+SUMIF(P:P,$X199,T:T),SUMIF(A:A,$W199,D:D)) -> 314.58 | AC199: =LEFT(X199,1) -> 6 | AD199: =LEFT(Y199,2) -> 42
A200: =IF(E200="","",IF(LEFT(E200,1)="-",IF(+VALUE(RIGHT(LEFT(E200,3),1))<6,+A199,+A199+1),+A199)) -> 2184 | B200: =IF(A200=A199,"",IF(LEFT(E200,1)="-",IF(+VALUE(RIGHT(LEFT(E200,3),1))<6,"",VALUE(RIGHT(E200,LEN(E200)-2))),"")) -> 64180000 | C200: =IF(A200="","",IFERROR(VLOOKUP(E200,'[1]Mapping '!$I$2:$J$19,2,FALSE),C199)) -> 4220 | D200: =IF(B200="",0,+K200-L200) -> 694.79 | E200: --64180000 | G200: -694.79 | H200: -694.79 | I200: -1880.88 | J200: 0 | K200: 13524.79 | L200: 12830 | M200: =IF(VALUE(LEFT(P200,1))>=6,"",IF((R200-S200+T200)=0,+M199,+M199+1)) | N200: =IFERROR(IF(VALUE(LEFT(P200,1))>=6,+R200-S200+T200-SUMIF(B:B,P200,D:D),0),"") -> 0 | O200: =IF(ROUND(N200,0)=0,+O199,+O199+1) -> 0 | P200: 60360000 | R200: 7724.34 | S200: 14846.69 | T200: 0 | U200: =IF(ISNA(VLOOKUP(Z200,'Balance A'!$C$14:$E$163,3,FALSE))=FALSE,U199,U199+1) -> 2 | W200: =IFERROR(IF(W199+1>MAX(A:A),"",IF(+W199+1<=MAX(M:M),+W199+1,IF(W199=MAX(M:M),$AA$1,+W199+1))),"") -> 2077 | X200: =IF(W200<$AA$1,VLOOKUP(W200,M:P,4,FALSE),VLOOKUP(W200,A:B,2,FALSE)) -> 60120000 | Y200: =IF(W200<$AA$1,"",VLOOKUP(W200,A:C,3,FALSE)) -> 4200 | Z200: =CONCATENATE(X200,"_",Y200) -> 60120000_4200 | AA200: =IF(W200<$AA$1,VLOOKUP(W200,M:Q,5,FALSE),VLOOKUP(W200,A:F,6,FALSE)) -> 0 | AB200: =IF(W200<$AA$1,SUMIF(P:P,$X200,R:R)-SUMIF(P:P,$X200,S:S)+SUMIF(P:P,$X200,T:T),SUMIF(A:A,$W200,D:D)) -> 63793.63 | AC200: =LEFT(X200,1) -> 6 | AD200: =LEFT(Y200,2) -> 42
A201: =IF(E201="","",IF(LEFT(E201,1)="-",IF(+VALUE(RIGHT(LEFT(E201,3),1))<6,+A200,+A200+1),+A200)) -> 2185 | B201: =IF(A201=A200,"",IF(LEFT(E201,1)="-",IF(+VALUE(RIGHT(LEFT(E201,3),1))<6,"",VALUE(RIGHT(E201,LEN(E201)-2))),"")) -> 64511000 | C201: =IF(A201="","",IFERROR(VLOOKUP(E201,'[1]Mapping '!$I$2:$J$19,2,FALSE),C200)) -> 4220 | D201: =IF(B201="",0,+K201-L201) -> 2040.32 | E201: --64511000 | G201: -2040.32 | H201: -2040.32 | I201: 73563.11 | J201: 0 | K201: 2040.32 | L201: 0 | M201: =IF(VALUE(LEFT(P201,1))>=6,"",IF((R201-S201+T201)=0,+M200,+M200+1)) | N201: =IFERROR(IF(VALUE(LEFT(P201,1))>=6,+R201-S201+T201-SUMIF(B:B,P201,D:D),0),"") -> -5.8207661e-11 | O201: =IF(ROUND(N201,0)=0,+O200,+O200+1) -> 0 | P201: 60370000 | R201: 349841.54 | S201: 233966.32 | T201: 0 | U201: =IF(ISNA(VLOOKUP(Z201,'Balance A'!$C$14:$E$163,3,FALSE))=FALSE,U200,U200+1) -> 2 | W201: =IFERROR(IF(W200+1>MAX(A:A),"",IF(+W200+1<=MAX(M:M),+W200+1,IF(W200=MAX(M:M),$AA$1,+W200+1))),"") -> 2078 | X201: =IF(W201<$AA$1,VLOOKUP(W201,M:P,4,FALSE),VLOOKUP(W201,A:B,2,FALSE)) -> 60140000 | Y201: =IF(W201<$AA$1,"",VLOOKUP(W201,A:C,3,FALSE)) -> 4200 | Z201: =CONCATENATE(X201,"_",Y201) -> 60140000_4200 | AA201: =IF(W201<$AA$1,VLOOKUP(W201,M:Q,5,FALSE),VLOOKUP(W201,A:F,6,FALSE)) -> 0 | AB201: =IF(W201<$AA$1,SUMIF(P:P,$X201,R:R)-SUMIF(P:P,$X201,S:S)+SUMIF(P:P,$X201,T:T),SUMIF(A:A,$W201,D:D)) -> 21.49 | AC201: =LEFT(X201,1) -> 6 | AD201: =LEFT(Y201,2) -> 42
A202: =IF(E202="","",IF(LEFT(E202,1)="-",IF(+VALUE(RIGHT(LEFT(E202,3),1))<6,+A201,+A201+1),+A201)) -> 2186 | B202: =IF(A202=A201,"",IF(LEFT(E202,1)="-",IF(+VALUE(RIGHT(LEFT(E202,3),1))<6,"",VALUE(RIGHT(E202,LEN(E202)-2))),"")) -> 64521000 | C202: =IF(A202="","",IFERROR(VLOOKUP(E202,'[1]Mapping '!$I$2:$J$19,2,FALSE),C201)) -> 4220 | D202: =IF(B202="",0,+K202-L202) -> 428.01 | E202: --64521000 | G202: -428.01 | H202: -428.01 | I202: 17087.24 | J202: 0 | K202: 428.01 | L202: 0 | M202: =IF(VALUE(LEFT(P202,1))>=6,"",IF((R202-S202+T202)=0,+M201,+M201+1)) | N202: =IFERROR(IF(VALUE(LEFT(P202,1))>=6,+R202-S202+T202-SUMIF(B:B,P202,D:D),0),"") -> 0 | O202: =IF(ROUND(N202,0)=0,+O201,+O201+1) -> 0 | P202: 60371000 | R202: 43797.79 | S202: 35797.95 | T202: 0 | U202: =IF(ISNA(VLOOKUP(Z202,'Balance A'!$C$14:$E$163,3,FALSE))=FALSE,U201,U201+1) -> 2 | W202: =IFERROR(IF(W201+1>MAX(A:A),"",IF(+W201+1<=MAX(M:M),+W201+1,IF(W201=MAX(M:M),$AA$1,+W201+1))),"") -> 2079 | X202: =IF(W202<$AA$1,VLOOKUP(W202,M:P,4,FALSE),VLOOKUP(W202,A:B,2,FALSE)) -> 60260000 | Y202: =IF(W202<$AA$1,"",VLOOKUP(W202,A:C,3,FALSE)) -> 4200 | Z202: =CONCATENATE(X202,"_",Y202) -> 60260000_4200 | AA202: =IF(W202<$AA$1,VLOOKUP(W202,M:Q,5,FALSE),VLOOKUP(W202,A:F,6,FALSE)) -> 0 | AB202: =IF(W202<$AA$1,SUMIF(P:P,$X202,R:R)-SUMIF(P:P,$X202,S:S)+SUMIF(P:P,$X202,T:T),SUMIF(A:A,$W202,D:D)) -> 5494.35 | AC202: =LEFT(X202,1) -> 6 | AD202: =LEFT(Y202,2) -> 42
A203: =IF(E203="","",IF(LEFT(E203,1)="-",IF(+VALUE(RIGHT(LEFT(E203,3),1))<6,+A202,+A202+1),+A202)) -> 2187 | B203: =IF(A203=A202,"",IF(LEFT(E203,1)="-",IF(+VALUE(RIGHT(LEFT(E203,3),1))<6,"",VALUE(RIGHT(E203,LEN(E203)-2))),"")) -> 64532000 | C203: =IF(A203="","",IFERROR(VLOOKUP(E203,'[1]Mapping '!$I$2:$J$19,2,FALSE),C202)) -> 4220 | D203: =IF(B203="",0,+K203-L203) -> 150.78 | E203: --64532000 | G203: -150.78 | H203: -150.78 | I203: 5968.61 | J203: 0 | K203: 150.78 | L203: 0 | M203: =IF(VALUE(LEFT(P203,1))>=6,"",IF((R203-S203+T203)=0,+M202,+M202+1)) | N203: =IFERROR(IF(VALUE(LEFT(P203,1))>=6,+R203-S203+T203-SUMIF(B:B,P203,D:D),0),"") -> 0 | O203: =IF(ROUND(N203,0)=0,+O202,+O202+1) -> 0 | P203: 60510000 | R203: 1014.9 | S203: 0 | T203: 0 | U203: =IF(ISNA(VLOOKUP(Z203,'Balance A'!$C$14:$E$163,3,FALSE))=FALSE,U202,U202+1) -> 2 | W203: =IFERROR(IF(W202+1>MAX(A:A),"",IF(+W202+1<=MAX(M:M),+W202+1,IF(W202=MAX(M:M),$AA$1,+W202+1))),"") -> 2080 | X203: =IF(W203<$AA$1,VLOOKUP(W203,M:P,4,FALSE),VLOOKUP(W203,A:B,2,FALSE)) -> 60310000 | Y203: =IF(W203<$AA$1,"",VLOOKUP(W203,A:C,3,FALSE)) -> 4200 | Z203: =CONCATENATE(X203,"_",Y203) -> 60310000_4200 | AA203: =IF(W203<$AA$1,VLOOKUP(W203,M:Q,5,FALSE),VLOOKUP(W203,A:F,6,FALSE)) -> 0 | AB203: =IF(W203<$AA$1,SUMIF(P:P,$X203,R:R)-SUMIF(P:P,$X203,S:S)+SUMIF(P:P,$X203,T:T),SUMIF(A:A,$W203,D:D)) -> 1348.21 | AC203: =LEFT(X203,1) -> 6 | AD203: =LEFT(Y203,2) -> 42
A204: =IF(E204="","",IF(LEFT(E204,1)="-",IF(+VALUE(RIGHT(LEFT(E204,3),1))<6,+A203,+A203+1),+A203)) -> 2188 | B204: =IF(A204=A203,"",IF(LEFT(E204,1)="-",IF(+VALUE(RIGHT(LEFT(E204,3),1))<6,"",VALUE(RIGHT(E204,LEN(E204)-2))),"")) -> 64580000 | C204: =IF(A204="","",IFERROR(VLOOKUP(E204,'[1]Mapping '!$I$2:$J$19,2,FALSE),C203)) -> 4220 | D204: =IF(B204="",0,+K204-L204) -> 468.16 | E204: --64580000 | G204: -468.16 | H204: -468.16 | I204: 1200.63 | J204: 0 | K204: 4451.35 | L204: 3983.19 | M204: =IF(VALUE(LEFT(P204,1))>=6,"",IF((R204-S204+T204)=0,+M203,+M203+1)) | N204: =IFERROR(IF(VALUE(LEFT(P204,1))>=6,+R204-S204+T204-SUMIF(B:B,P204,D:D),0),"") -> 0 | O204: =IF(ROUND(N204,0)=0,+O203,+O203+1) -> 0 | P204: 60611100 | R204: 55929.7 | S204: 30184.68 | T204: 0 | U204: =IF(ISNA(VLOOKUP(Z204,'Balance A'!$C$14:$E$163,3,FALSE))=FALSE,U203,U203+1) -> 2 | W204: =IFERROR(IF(W203+1>MAX(A:A),"",IF(+W203+1<=MAX(M:M),+W203+1,IF(W203=MAX(M:M),$AA$1,+W203+1))),"") -> 2081 | X204: =IF(W204<$AA$1,VLOOKUP(W204,M:P,4,FALSE),VLOOKUP(W204,A:B,2,FALSE)) -> 60360000 | Y204: =IF(W204<$AA$1,"",VLOOKUP(W204,A:C,3,FALSE)) -> 4200 | Z204: =CONCATENATE(X204,"_",Y204) -> 60360000_4200 | AA204: =IF(W204<$AA$1,VLOOKUP(W204,M:Q,5,FALSE),VLOOKUP(W204,A:F,6,FALSE)) -> 0 | AB204: =IF(W204<$AA$1,SUMIF(P:P,$X204,R:R)-SUMIF(P:P,$X204,S:S)+SUMIF(P:P,$X204,T:T),SUMIF(A:A,$W204,D:D)) -> -7122.35 | AC204: =LEFT(X204,1) -> 6 | AD204: =LEFT(Y204,2) -> 42
A205: =IF(E205="","",IF(LEFT(E205,1)="-",IF(+VALUE(RIGHT(LEFT(E205,3),1))<6,+A204,+A204+1),+A204)) -> 2189 | B205: =IF(A205=A204,"",IF(LEFT(E205,1)="-",IF(+VALUE(RIGHT(LEFT(E205,3),1))<6,"",VALUE(RIGHT(E205,LEN(E205)-2))),"")) -> 70121000 | C205: =IF(A205="","",IFERROR(VLOOKUP(E205,'[1]Mapping '!$I$2:$J$19,2,FALSE),C204)) -> 4220 | D205: =IF(B205="",0,+K205-L205) -> -172197.98 | E205: --70121000 | G205: 172197.98 | H205: 172197.98 | I205: -172197.98 | J205: 0 | K205: 31 | L205: 172228.98 | M205: =IF(VALUE(LEFT(P205,1))>=6,"",IF((R205-S205+T205)=0,+M204,+M204+1)) | N205: =IFERROR(IF(VALUE(LEFT(P205,1))>=6,+R205-S205+T205-SUMIF(B:B,P205,D:D),0),"") -> 0 | O205: =IF(ROUND(N205,0)=0,+O204,+O204+1) -> 0 | P205: 60611110 | R205: 0 | S205: 0 | T205: 0 | U205: =IF(ISNA(VLOOKUP(Z205,'Balance A'!$C$14:$E$163,3,FALSE))=FALSE,U204,U204+1) -> 2 | W205: =IFERROR(IF(W204+1>MAX(A:A),"",IF(+W204+1<=MAX(M:M),+W204+1,IF(W204=MAX(M:M),$AA$1,+W204+1))),"") -> 2082 | X205: =IF(W205<$AA$1,VLOOKUP(W205,M:P,4,FALSE),VLOOKUP(W205,A:B,2,FALSE)) -> 60370000 | Y205: =IF(W205<$AA$1,"",VLOOKUP(W205,A:C,3,FALSE)) -> 4200 | Z205: =CONCATENATE(X205,"_",Y205) -> 60370000_4200 | AA205: =IF(W205<$AA$1,VLOOKUP(W205,M:Q,5,FALSE),VLOOKUP(W205,A:F,6,FALSE)) -> 0 | AB205: =IF(W205<$AA$1,SUMIF(P:P,$X205,R:R)-SUMIF(P:P,$X205,S:S)+SUMIF(P:P,$X205,T:T),SUMIF(A:A,$W205,D:D)) -> -475.32 | AC205: =LEFT(X205,1) -> 6 | AD205: =LEFT(Y205,2) -> 42
A206: =IF(E206="","",IF(LEFT(E206,1)="-",IF(+VALUE(RIGHT(LEFT(E206,3),1))<6,+A205,+A205+1),+A205)) -> 2190 | B206: =IF(A206=A205,"",IF(LEFT(E206,1)="-",IF(+VALUE(RIGHT(LEFT(E206,3),1))<6,"",VALUE(RIGHT(E206,LEN(E206)-2))),"")) -> 70131000 | C206: =IF(A206="","",IFERROR(VLOOKUP(E206,'[1]Mapping '!$I$2:$J$19,2,FALSE),C205)) -> 4220 | D206: =IF(B206="",0,+K206-L206) -> -1760.11 | E206: --70131000 | G206: 1760.11 | H206: 1760.11 | I206: -1760.11 | J206: 0 | K206: 0 | L206: 1760.11 | M206: =IF(VALUE(LEFT(P206,1))>=6,"",IF((R206-S206+T206)=0,+M205,+M205+1)) | N206: =IFERROR(IF(VALUE(LEFT(P206,1))>=6,+R206-S206+T206-SUMIF(B:B,P206,D:D),0),"") -> 0 | O206: =IF(ROUND(N206,0)=0,+O205,+O205+1) -> 0 | P206: 60612000 | R206: 2703.11 | S206: 2016 | T206: 0 | U206: =IF(ISNA(VLOOKUP(Z206,'Balance A'!$C$14:$E$163,3,FALSE))=FALSE,U205,U205+1) -> 2 | W206: =IFERROR(IF(W205+1>MAX(A:A),"",IF(+W205+1<=MAX(M:M),+W205+1,IF(W205=MAX(M:M),$AA$1,+W205+1))),"") -> 2083 | X206: =IF(W206<$AA$1,VLOOKUP(W206,M:P,4,FALSE),VLOOKUP(W206,A:B,2,FALSE)) -> 60371000 | Y206: =IF(W206<$AA$1,"",VLOOKUP(W206,A:C,3,FALSE)) -> 4200 | Z206: =CONCATENATE(X206,"_",Y206) -> 60371000_4200 | AA206: =IF(W206<$AA$1,VLOOKUP(W206,M:Q,5,FALSE),VLOOKUP(W206,A:F,6,FALSE)) -> 0 | AB206: =IF(W206<$AA$1,SUMIF(P:P,$X206,R:R)-SUMIF(P:P,$X206,S:S)+SUMIF(P:P,$X206,T:T),SUMIF(A:A,$W206,D:D)) -> 6387.34 | AC206: =LEFT(X206,1) -> 6 | AD206: =LEFT(Y206,2) -> 42
A207: =IF(E207="","",IF(LEFT(E207,1)="-",IF(+VALUE(RIGHT(LEFT(E207,3),1))<6,+A206,+A206+1),+A206)) -> 2191 | B207: =IF(A207=A206,"",IF(LEFT(E207,1)="-",IF(+VALUE(RIGHT(LEFT(E207,3),1))<6,"",VALUE(RIGHT(E207,LEN(E207)-2))),"")) -> 70711000 | C207: =IF(A207="","",IFERROR(VLOOKUP(E207,'[1]Mapping '!$I$2:$J$19,2,FALSE),C206)) -> 4220 | D207: =IF(B207="",0,+K207-L207) -> -7371 | E207: --70711000 | G207: 7371 | H207: 7371 | I207: -7371 | J207: 0 | K207: 0 | L207: 7371 | M207: =IF(VALUE(LEFT(P207,1))>=6,"",IF((R207-S207+T207)=0,+M206,+M206+1)) | N207: =IFERROR(IF(VALUE(LEFT(P207,1))>=6,+R207-S207+T207-SUMIF(B:B,P207,D:D),0),"") -> 9.094947e-13 | O207: =IF(ROUND(N207,0)=0,+O206,+O206+1) -> 0 | P207: 60613000 | R207: 7223.14 | S207: 0 | T207: 0 | U207: =IF(ISNA(VLOOKUP(Z207,'Balance A'!$C$14:$E$163,3,FALSE))=FALSE,U206,U206+1) -> 2 | W207: =IFERROR(IF(W206+1>MAX(A:A),"",IF(+W206+1<=MAX(M:M),+W206+1,IF(W206=MAX(M:M),$AA$1,+W206+1))),"") -> 2084 | X207: =IF(W207<$AA$1,VLOOKUP(W207,M:P,4,FALSE),VLOOKUP(W207,A:B,2,FALSE)) -> 60611100 | Y207: =IF(W207<$AA$1,"",VLOOKUP(W207,A:C,3,FALSE)) -> 4200 | Z207: =CONCATENATE(X207,"_",Y207) -> 60611100_4200 | AA207: =IF(W207<$AA$1,VLOOKUP(W207,M:Q,5,FALSE),VLOOKUP(W207,A:F,6,FALSE)) -> 0 | AB207: =IF(W207<$AA$1,SUMIF(P:P,$X207,R:R)-SUMIF(P:P,$X207,S:S)+SUMIF(P:P,$X207,T:T),SUMIF(A:A,$W207,D:D)) -> 10969.32 | AC207: =LEFT(X207,1) -> 6 | AD207: =LEFT(Y207,2) -> 42
A208: =IF(E208="","",IF(LEFT(E208,1)="-",IF(+VALUE(RIGHT(LEFT(E208,3),1))<6,+A207,+A207+1),+A207)) -> 2192 | B208: =IF(A208=A207,"",IF(LEFT(E208,1)="-",IF(+VALUE(RIGHT(LEFT(E208,3),1))<6,"",VALUE(RIGHT(E208,LEN(E208)-2))),"")) -> 70721000 | C208: =IF(A208="","",IFERROR(VLOOKUP(E208,'[1]Mapping '!$I$2:$J$19,2,FALSE),C207)) -> 4220 | D208: =IF(B208="",0,+K208-L208) -> -43708.72 | E208: --70721000 | G208: 43708.72 | H208: 43708.72 | I208: -43708.72 | J208: 0 | K208: 0 | L208: 43708.72 | M208: =IF(VALUE(LEFT(P208,1))>=6,"",IF((R208-S208+T208)=0,+M207,+M207+1)) | N208: =IFERROR(IF(VALUE(LEFT(P208,1))>=6,+R208-S208+T208-SUMIF(B:B,P208,D:D),0),"") -> 1.8189894e-12 | O208: =IF(ROUND(N208,0)=0,+O207,+O207+1) -> 0 | P208: 60630000 | R208: 12325.87 | S208: 221.15 | T208: 0 | U208: =IF(ISNA(VLOOKUP(Z208,'Balance A'!$C$14:$E$163,3,FALSE))=FALSE,U207,U207+1) -> 2 | W208: =IFERROR(IF(W207+1>MAX(A:A),"",IF(+W207+1<=MAX(M:M),+W207+1,IF(W207=MAX(M:M),$AA$1,+W207+1))),"") -> 2085 | X208: =IF(W208<$AA$1,VLOOKUP(W208,M:P,4,FALSE),VLOOKUP(W208,A:B,2,FALSE)) -> 60612000 | Y208: =IF(W208<$AA$1,"",VLOOKUP(W208,A:C,3,FALSE)) -> 4200 | Z208: =CONCATENATE(X208,"_",Y208) -> 60612000_4200 | AA208: =IF(W208<$AA$1,VLOOKUP(W208,M:Q,5,FALSE),VLOOKUP(W208,A:F,6,FALSE)) -> 0 | AB208: =IF(W208<$AA$1,SUMIF(P:P,$X208,R:R)-SUMIF(P:P,$X208,S:S)+SUMIF(P:P,$X208,T:T),SUMIF(A:A,$W208,D:D)) -> -252 | AC208: =LEFT(X208,1) -> 6 | AD208: =LEFT(Y208,2) -> 42
A209: =IF(E209="","",IF(LEFT(E209,1)="-",IF(+VALUE(RIGHT(LEFT(E209,3),1))<6,+A208,+A208+1),+A208)) -> 2193 | B209: =IF(A209=A208,"",IF(LEFT(E209,1)="-",IF(+VALUE(RIGHT(LEFT(E209,3),1))<6,"",VALUE(RIGHT(E209,LEN(E209)-2))),"")) -> 70850000 | C209: =IF(A209="","",IFERROR(VLOOKUP(E209,'[1]Mapping '!$I$2:$J$19,2,FALSE),C208)) -> 4220 | D209: =IF(B209="",0,+K209-L209) -> -341 | E209: --70850000 | G209: 341 | H209: 341 | I209: -341 | J209: 0 | K209: 0 | L209: 341 | M209: =IF(VALUE(LEFT(P209,1))>=6,"",IF((R209-S209+T209)=0,+M208,+M208+1)) | N209: =IFERROR(IF(VALUE(LEFT(P209,1))>=6,+R209-S209+T209-SUMIF(B:B,P209,D:D),0),"") -> 0 | O209: =IF(ROUND(N209,0)=0,+O208,+O208+1) -> 0 | P209: 60631100 | R209: 0 | S209: 0 | T209: 0 | U209: =IF(ISNA(VLOOKUP(Z209,'Balance A'!$C$14:$E$163,3,FALSE))=FALSE,U208,U208+1) -> 2 | W209: =IFERROR(IF(W208+1>MAX(A:A),"",IF(+W208+1<=MAX(M:M),+W208+1,IF(W208=MAX(M:M),$AA$1,+W208+1))),"") -> 2086 | X209: =IF(W209<$AA$1,VLOOKUP(W209,M:P,4,FALSE),VLOOKUP(W209,A:B,2,FALSE)) -> 60613000 | Y209: =IF(W209<$AA$1,"",VLOOKUP(W209,A:C,3,FALSE)) -> 4200 | Z209: =CONCATENATE(X209,"_",Y209) -> 60613000_4200 | AA209: =IF(W209<$AA$1,VLOOKUP(W209,M:Q,5,FALSE),VLOOKUP(W209,A:F,6,FALSE)) -> 0 | AB209: =IF(W209<$AA$1,SUMIF(P:P,$X209,R:R)-SUMIF(P:P,$X209,S:S)+SUMIF(P:P,$X209,T:T),SUMIF(A:A,$W209,D:D)) -> 89.32 | AC209: =LEFT(X209,1) -> 6 | AD209: =LEFT(Y209,2) -> 42
A210: =IF(E210="","",IF(LEFT(E210,1)="-",IF(+VALUE(RIGHT(LEFT(E210,3),1))<6,+A209,+A209+1),+A209)) -> 2194 | B210: =IF(A210=A209,"",IF(LEFT(E210,1)="-",IF(+VALUE(RIGHT(LEFT(E210,3),1))<6,"",VALUE(RIGHT(E210,LEN(E210)-2))),"")) -> 70851000 | C210: =IF(A210="","",IFERROR(VLOOKUP(E210,'[1]Mapping '!$I$2:$J$19,2,FALSE),C209)) -> 4220 | D210: =IF(B210="",0,+K210-L210) -> -71.44 | E210: --70851000 | G210: 71.44 | H210: 71.44 | I210: -12858.51 | J210: 0 | K210: 0 | L210: 71.44 | M210: =IF(VALUE(LEFT(P210,1))>=6,"",IF((R210-S210+T210)=0,+M209,+M209+1)) | N210: =IFERROR(IF(VALUE(LEFT(P210,1))>=6,+R210-S210+T210-SUMIF(B:B,P210,D:D),0),"") -> 4.5474735e-13 | O210: =IF(ROUND(N210,0)=0,+O209,+O209+1) -> 0 | P210: 60640000 | R210: 3689.15 | S210: 0 | T210: 0 | U210: =IF(ISNA(VLOOKUP(Z210,'Balance A'!$C$14:$E$163,3,FALSE))=FALSE,U209,U209+1) -> 2 | W210: =IFERROR(IF(W209+1>MAX(A:A),"",IF(+W209+1<=MAX(M:M),+W209+1,IF(W209=MAX(M:M),$AA$1,+W209+1))),"") -> 2087 | X210: =IF(W210<$AA$1,VLOOKUP(W210,M:P,4,FALSE),VLOOKUP(W210,A:B,2,FALSE)) -> 60630000 | Y210: =IF(W210<$AA$1,"",VLOOKUP(W210,A:C,3,FALSE)) -> 4200 | Z210: =CONCATENATE(X210,"_",Y210) -> 60630000_4200 | AA210: =IF(W210<$AA$1,VLOOKUP(W210,M:Q,5,FALSE),VLOOKUP(W210,A:F,6,FALSE)) -> 0 | AB210: =IF(W210<$AA$1,SUMIF(P:P,$X210,R:R)-SUMIF(P:P,$X210,S:S)+SUMIF(P:P,$X210,T:T),SUMIF(A:A,$W210,D:D)) -> 3272.57 | AC210: =LEFT(X210,1) -> 6 | AD210: =LEFT(Y210,2) -> 42
... A215: =IF(E215="","",IF(LEFT(E215,1)="-",IF(+VALUE(RIGHT(LEFT(E215,3),1))<6,+A214,+A214+1),+A214)) -> 2198 | B215: =IF(A215=A214,"",IF(LEFT(E215,1)="-",IF(+VALUE(RIGHT(LEFT(E215,3),1))<6,"",VALUE(RIGHT(E215,LEN(E215)-2))),"")) -> 63333000 | C215: =IF(A215="","",IFERROR(VLOOKUP(E215,'[1]Mapping '!$I$2:$J$19,2,FALSE),C214)) -> 4220 | D215: =IF(B215="",0,+K215-L215) -> 197.73 | E215: --63333000 | G215: -197.73 | H215: -197.73 | I215: 3535.86 | J215: 0 | K215: 197.73 | L215: 0 | M215: =IF(VALUE(LEFT(P215,1))>=6,"",IF((R215-S215+T215)=0,+M214,+M214+1)) | N215: =IFERROR(IF(VALUE(LEFT(P215,1))>=6,+R215-S215+T215-SUMIF(B:B,P215,D:D),0),"") -> 0 | O215: =IF(ROUND(N215,0)=0,+O214,+O214+1) -> 0 | P215: 60710001 | R215: 0 | S215: 0 | T215: 0 | U215: =IF(ISNA(VLOOKUP(Z215,'Balance A'!$C$14:$E$163,3,FALSE))=FALSE,U214,U214+1) -> 2 | W215: =IFERROR(IF(W214+1>MAX(A:A),"",IF(+W214+1<=MAX(M:M),+W214+1,IF(W214=MAX(M:M),$AA$1,+W214+1))),"") -> 2092 | X215: =IF(W215<$AA$1,VLOOKUP(W215,M:P,4,FALSE),VLOOKUP(W215,A:B,2,FALSE)) -> 60740000 | Y215: =IF(W215<$AA$1,"",VLOOKUP(W215,A:C,3,FALSE)) -> 4200 | Z215: =CONCATENATE(X215,"_",Y215) -> 60740000_4200 | AA215: =IF(W215<$AA$1,VLOOKUP(W215,M:Q,5,FALSE),VLOOKUP(W215,A:F,6,FALSE)) -> 0 | AB215: =IF(W215<$AA$1,SUMIF(P:P,$X215,R:R)-SUMIF(P:P,$X215,S:S)+SUMIF(P:P,$X215,T:T),SUMIF(A:A,$W215,D:D)) -> 6520.97 | AC215: =LEFT(X215,1) -> 6 | AD215: =LEFT(Y215,2) -> 42
A216: =IF(E216="","",IF(LEFT(E216,1)="-",IF(+VALUE(RIGHT(LEFT(E216,3),1))<6,+A215,+A215+1),+A215)) -> 2199 | B216: =IF(A216=A215,"",IF(LEFT(E216,1)="-",IF(+VALUE(RIGHT(LEFT(E216,3),1))<6,"",VALUE(RIGHT(E216,LEN(E216)-2))),"")) -> 64111000 | C216: =IF(A216="","",IFERROR(VLOOKUP(E216,'[1]Mapping '!$I$2:$J$18,2,FALSE),C215)) -> 4220 | D216: =IF(B216="",0,+K216-L216) -> 19654.12 | E216: --64111000 | G216: -19654.12 | H216: -19654.12 | I216: 333914.82 | J216: 0 | K216: 25823.26 | L216: 6169.14 | M216: =IF(VALUE(LEFT(P216,1))>=6,"",IF((R216-S216+T216)=0,+M215,+M215+1)) | N216: =IFERROR(IF(VALUE(LEFT(P216,1))>=6,+R216-S216+T216-SUMIF(B:B,P216,D:D),0),"") -> 0 | O216: =IF(ROUND(N216,0)=0,+O215,+O215+1) -> 0 | P216: 60710002 | R216: 0 | S216: 0 | T216: 0 | U216: =IF(ISNA(VLOOKUP(Z216,'Balance A'!$C$14:$E$163,3,FALSE))=FALSE,U215,U215+1) -> 2 | W216: =IFERROR(IF(W215+1>MAX(A:A),"",IF(+W215+1<=MAX(M:M),+W215+1,IF(W215=MAX(M:M),$AA$1,+W215+1))),"") -> 2093 | X216: =IF(W216<$AA$1,VLOOKUP(W216,M:P,4,FALSE),VLOOKUP(W216,A:B,2,FALSE)) -> 60810000 | Y216: =IF(W216<$AA$1,"",VLOOKUP(W216,A:C,3,FALSE)) -> 4200 | Z216: =CONCATENATE(X216,"_",Y216) -> 60810000_4200 | AA216: =IF(W216<$AA$1,VLOOKUP(W216,M:Q,5,FALSE),VLOOKUP(W216,A:F,6,FALSE)) -> 0 | AB216: =IF(W216<$AA$1,SUMIF(P:P,$X216,R:R)-SUMIF(P:P,$X216,S:S)+SUMIF(P:P,$X216,T:T),SUMIF(A:A,$W216,D:D)) -> 7013.94 | AC216: =LEFT(X216,1) -> 6 | AD216: =LEFT(Y216,2) -> 42
A217: =IF(E217="","",IF(LEFT(E217,1)="-",IF(+VALUE(RIGHT(LEFT(E217,3),1))<6,+A216,+A216+1),+A216)) -> 2200 | B217: =IF(A217=A216,"",IF(LEFT(E217,1)="-",IF(+VALUE(RIGHT(LEFT(E217,3),1))<6,"",VALUE(RIGHT(E217,LEN(E217)-2))),"")) -> 64141000 | C217: =IF(A217="","",IFERROR(VLOOKUP(E217,'[1]Mapping '!$I$2:$J$18,2,FALSE),C216)) -> 4220 | D217: =IF(B217="",0,+K217-L217) -> 210.56 | E217: --64141000 | G217: -210.56 | H217: -210.56 | I217: 13343.72 | J217: 0 | K217: 210.56 | L217: 0 | M217: =IF(VALUE(LEFT(P217,1))>=6,"",IF((R217-S217+T217)=0,+M216,+M216+1)) | N217: =IFERROR(IF(VALUE(LEFT(P217,1))>=6,+R217-S217+T217-SUMIF(B:B,P217,D:D),0),"") -> 0 | O217: =IF(ROUND(N217,0)=0,+O216,+O216+1) -> 0 | P217: 60711000 | R217: 0 | S217: 0 | T217: 0 | U217: =IF(ISNA(VLOOKUP(Z217,'Balance A'!$C$14:$E$163,3,FALSE))=FALSE,U216,U216+1) -> 2 | W217: =IFERROR(IF(W216+1>MAX(A:A),"",IF(+W216+1<=MAX(M:M),+W216+1,IF(W216=MAX(M:M),$AA$1,+W216+1))),"") -> 2094 | X217: =IF(W217<$AA$1,VLOOKUP(W217,M:P,4,FALSE),VLOOKUP(W217,A:B,2,FALSE)) -> 60820000 | Y217: =IF(W217<$AA$1,"",VLOOKUP(W217,A:C,3,FALSE)) -> 4200 | Z217: =CONCATENATE(X217,"_",Y217) -> 60820000_4200 | AA217: =IF(W217<$AA$1,VLOOKUP(W217,M:Q,5,FALSE),VLOOKUP(W217,A:F,6,FALSE)) -> 0 | AB217: =IF(W217<$AA$1,SUMIF(P:P,$X217,R:R)-SUMIF(P:P,$X217,S:S)+SUMIF(P:P,$X217,T:T),SUMIF(A:A,$W217,D:D)) -> 22.3 | AC217: =LEFT(X217,1) -> 6 | AD217: =LEFT(Y217,2) -> 42
A218: =IF(E218="","",IF(LEFT(E218,1)="-",IF(+VALUE(RIGHT(LEFT(E218,3),1))<6,+A217,+A217+1),+A217)) -> 2201 | B218: =IF(A218=A217,"",IF(LEFT(E218,1)="-",IF(+VALUE(RIGHT(LEFT(E218,3),1))<6,"",VALUE(RIGHT(E218,LEN(E218)-2))),"")) -> 64180000 | C218: =IF(A218="","",IFERROR(VLOOKUP(E218,'[1]Mapping '!$I$2:$J$18,2,FALSE),C217)) -> 4220 | D218: =IF(B218="",0,+K218-L218) -> 465.5 | E218: --64180000 | G218: -465.5 | H218: -465.5 | I218: -1880.88 | J218: 0 | K218: 41319.78 | L218: 40854.28 | M218: =IF(VALUE(LEFT(P218,1))>=6,"",IF((R218-S218+T218)=0,+M217,+M217+1)) | N218: =IFERROR(IF(VALUE(LEFT(P218,1))>=6,+R218-S218+T218-SUMIF(B:B,P218,D:D),0),"") -> 0 | O218: =IF(ROUND(N218,0)=0,+O217,+O217+1) -> 0 | P218: 60720000 | R218: 2815.97 | S218: 0 | T218: 0 | U218: =IF(ISNA(VLOOKUP(Z218,'Balance A'!$C$14:$E$163,3,FALSE))=FALSE,U217,U217+1) -> 2 | W218: =IFERROR(IF(W217+1>MAX(A:A),"",IF(+W217+1<=MAX(M:M),+W217+1,IF(W217=MAX(M:M),$AA$1,+W217+1))),"") -> 2095 | X218: =IF(W218<$AA$1,VLOOKUP(W218,M:P,4,FALSE),VLOOKUP(W218,A:B,2,FALSE)) -> 61100000 | Y218: =IF(W218<$AA$1,"",VLOOKUP(W218,A:C,3,FALSE)) -> 4200 | Z218: =CONCATENATE(X218,"_",Y218) -> 61100000_4200 | AA218: =IF(W218<$AA$1,VLOOKUP(W218,M:Q,5,FALSE),VLOOKUP(W218,A:F,6,FALSE)) -> 0 | AB218: =IF(W218<$AA$1,SUMIF(P:P,$X218,R:R)-SUMIF(P:P,$X218,S:S)+SUMIF(P:P,$X218,T:T),SUMIF(A:A,$W218,D:D)) -> 347.38 | AC218: =LEFT(X218,1) -> 6 | AD218: =LEFT(Y218,2) -> 42
A219: =IF(E219="","",IF(LEFT(E219,1)="-",IF(+VALUE(RIGHT(LEFT(E219,3),1))<6,+A218,+A218+1),+A218)) -> 2202 | B219: =IF(A219=A218,"",IF(LEFT(E219,1)="-",IF(+VALUE(RIGHT(LEFT(E219,3),1))<6,"",VALUE(RIGHT(E219,LEN(E219)-2))),"")) -> 64511000 | C219: =IF(A219="","",IFERROR(VLOOKUP(E219,'[1]Mapping '!$I$2:$J$18,2,FALSE),C218)) -> 4220 | D219: =IF(B219="",0,+K219-L219) -> 3721.44 | E219: --64511000 | G219: -3721.44 | H219: -3721.44 | I219: 73563.11 | J219: 0 | K219: 3721.44 | L219: 0 | M219: =IF(VALUE(LEFT(P219,1))>=6,"",IF((R219-S219+T219)=0,+M218,+M218+1)) | N219: =IFERROR(IF(VALUE(LEFT(P219,1))>=6,+R219-S219+T219-SUMIF(B:B,P219,D:D),0),"") -> 0 | O219: =IF(ROUND(N219,0)=0,+O218,+O218+1) -> 0 | P219: 60720001 | R219: 0 | S219: 0 | T219: 0 | U219: =IF(ISNA(VLOOKUP(Z219,'Balance A'!$C$14:$E$163,3,FALSE))=FALSE,U218,U218+1) -> 2 | W219: =IFERROR(IF(W218+1>MAX(A:A),"",IF(+W218+1<=MAX(M:M),+W218+1,IF(W218=MAX(M:M),$AA$1,+W218+1))),"") -> 2096 | X219: =IF(W219<$AA$1,VLOOKUP(W219,M:P,4,FALSE),VLOOKUP(W219,A:B,2,FALSE)) -> 61120000 | Y219: =IF(W219<$AA$1,"",VLOOKUP(W219,A:C,3,FALSE)) -> 4200 | Z219: =CONCATENATE(X219,"_",Y219) -> 61120000_4200 | AA219: =IF(W219<$AA$1,VLOOKUP(W219,M:Q,5,FALSE),VLOOKUP(W219,A:F,6,FALSE)) -> 0 | AB219: =IF(W219<$AA$1,SUMIF(P:P,$X219,R:R)-SUMIF(P:P,$X219,S:S)+SUMIF(P:P,$X219,T:T),SUMIF(A:A,$W219,D:D)) -> 871.27 | AC219: =LEFT(X219,1) -> 6 | AD219: =LEFT(Y219,2) -> 42
A220: =IF(E220="","",IF(LEFT(E220,1)="-",IF(+VALUE(RIGHT(LEFT(E220,3),1))<6,+A219,+A219+1),+A219)) -> 2203 | B220: =IF(A220=A219,"",IF(LEFT(E220,1)="-",IF(+VALUE(RIGHT(LEFT(E220,3),1))<6,"",VALUE(RIGHT(E220,LEN(E220)-2))),"")) -> 64521000 | C220: =IF(A220="","",IFERROR(VLOOKUP(E220,'[1]Mapping '!$I$2:$J$18,2,FALSE),C219)) -> 4220 | D220: =IF(B220="",0,+K220-L220) -> 767.15 | E220: --64521000 | G220: -767.15 | H220: -767.15 | I220: 17087.24 | J220: 0 | K220: 767.15 | L220: 0 | M220: =IF(VALUE(LEFT(P220,1))>=6,"",IF((R220-S220+T220)=0,+M219,+M219+1)) | N220: =IFERROR(IF(VALUE(LEFT(P220,1))>=6,+R220-S220+T220-SUMIF(B:B,P220,D:D),0),"") -> 0 | O220: =IF(ROUND(N220,0)=0,+O219,+O219+1) -> 0 | P220: 60720002 | R220: 0 | S220: 0 | T220: 0 | U220: =IF(ISNA(VLOOKUP(Z220,'Balance A'!$C$14:$E$163,3,FALSE))=FALSE,U219,U219+1) -> 2 | W220: =IFERROR(IF(W219+1>MAX(A:A),"",IF(+W219+1<=MAX(M:M),+W219+1,IF(W219=MAX(M:M),$AA$1,+W219+1))),"") -> 2097 | X220: =IF(W220<$AA$1,VLOOKUP(W220,M:P,4,FALSE),VLOOKUP(W220,A:B,2,FALSE)) -> 61210000 | Y220: =IF(W220<$AA$1,"",VLOOKUP(W220,A:C,3,FALSE)) -> 4200 | Z220: =CONCATENATE(X220,"_",Y220) -> 61210000_4200 | AA220: =IF(W220<$AA$1,VLOOKUP(W220,M:Q,5,FALSE),VLOOKUP(W220,A:F,6,FALSE)) -> 0 | AB220: =IF(W220<$AA$1,SUMIF(P:P,$X220,R:R)-SUMIF(P:P,$X220,S:S)+SUMIF(P:P,$X220,T:T),SUMIF(A:A,$W220,D:D)) -> 1362 | AC220: =LEFT(X220,1) -> 6 | AD220: =LEFT(Y220,2) -> 42
A221: =IF(E221="","",IF(LEFT(E221,1)="-",IF(+VALUE(RIGHT(LEFT(E221,3),1))<6,+A220,+A220+1),+A220)) -> 2204 | B221: =IF(A221=A220,"",IF(LEFT(E221,1)="-",IF(+VALUE(RIGHT(LEFT(E221,3),1))<6,"",VALUE(RIGHT(E221,LEN(E221)-2))),"")) -> 64532000 | C221: =IF(A221="","",IFERROR(VLOOKUP(E221,'[1]Mapping '!$I$2:$J$18,2,FALSE),C220)) -> 4220 | D221: =IF(B221="",0,+K221-L221) -> 435.69 | E221: --64532000 | G221: -435.69 | H221: -435.69 | I221: 5968.61 | J221: 0 | K221: 435.69 | L221: 0 | M221: =IF(VALUE(LEFT(P221,1))>=6,"",IF((R221-S221+T221)=0,+M220,+M220+1)) | N221: =IFERROR(IF(VALUE(LEFT(P221,1))>=6,+R221-S221+T221-SUMIF(B:B,P221,D:D),0),"") -> 0 | O221: =IF(ROUND(N221,0)=0,+O220,+O220+1) -> 0 | P221: 60721000 | R221: 0 | S221: 0 | T221: 0 | U221: =IF(ISNA(VLOOKUP(Z221,'Balance A'!$C$14:$E$163,3,FALSE))=FALSE,U220,U220+1) -> 2 | W221: =IFERROR(IF(W220+1>MAX(A:A),"",IF(+W220+1<=MAX(M:M),+W220+1,IF(W220=MAX(M:M),$AA$1,+W220+1))),"") -> 2098 | X221: =IF(W221<$AA$1,VLOOKUP(W221,M:P,4,FALSE),VLOOKUP(W221,A:B,2,FALSE)) -> 61330000 | Y221: =IF(W221<$AA$1,"",VLOOKUP(W221,A:C,3,FALSE)) -> 4200 | Z221: =CONCATENATE(X221,"_",Y221) -> 61330000_4200 | AA221: =IF(W221<$AA$1,VLOOKUP(W221,M:Q,5,FALSE),VLOOKUP(W221,A:F,6,FALSE)) -> 0 | AB221: =IF(W221<$AA$1,SUMIF(P:P,$X221,R:R)-SUMIF(P:P,$X221,S:S)+SUMIF(P:P,$X221,T:T),SUMIF(A:A,$W221,D:D)) -> 200 | AC221: =LEFT(X221,1) -> 6 | AD221: =LEFT(Y221,2) -> 42
A222: =IF(E222="","",IF(LEFT(E222,1)="-",IF(+VALUE(RIGHT(LEFT(E222,3),1))<6,+A221,+A221+1),+A221)) -> 2205 | B222: =IF(A222=A221,"",IF(LEFT(E222,1)="-",IF(+VALUE(RIGHT(LEFT(E222,3),1))<6,"",VALUE(RIGHT(E222,LEN(E222)-2))),"")) -> 64580000 | C222: =IF(A222="","",IFERROR(VLOOKUP(E222,'[1]Mapping '!$I$2:$J$18,2,FALSE),C221)) -> 4220 | D222: =IF(B222="",0,+K222-L222) -> -109.02 | E222: --64580000 | G222: 109.02 | H222: 109.02 | I222: 1200.63 | J222: 0 | K222: 12930.52 | L222: 13039.54 | M222: =IF(VALUE(LEFT(P222,1))>=6,"",IF((R222-S222+T222)=0,+M221,+M221+1)) | N222: =IFERROR(IF(VALUE(LEFT(P222,1))>=6,+R222-S222+T222-SUMIF(B:B,P222,D:D),0),"") -> 0 | O222: =IF(ROUND(N222,0)=0,+O221,+O221+1) -> 0 | P222: 60730000 | R222: 18953.26 | S222: 122.64 | T222: 0 | U222: =IF(ISNA(VLOOKUP(Z222,'Balance A'!$C$14:$E$163,3,FALSE))=FALSE,U221,U221+1) -> 2 | W222: =IFERROR(IF(W221+1>MAX(A:A),"",IF(+W221+1<=MAX(M:M),+W221+1,IF(W221=MAX(M:M),$AA$1,+W221+1))),"") -> 2099 | X222: =IF(W222<$AA$1,VLOOKUP(W222,M:P,4,FALSE),VLOOKUP(W222,A:B,2,FALSE)) -> 61350000 | Y222: =IF(W222<$AA$1,"",VLOOKUP(W222,A:C,3,FALSE)) -> 4200 | Z222: =CONCATENATE(X222,"_",Y222) -> 61350000_4200 | AA222: =IF(W222<$AA$1,VLOOKUP(W222,M:Q,5,FALSE),VLOOKUP(W222,A:F,6,FALSE)) -> 0 | AB222: =IF(W222<$AA$1,SUMIF(P:P,$X222,R:R)-SUMIF(P:P,$X222,S:S)+SUMIF(P:P,$X222,T:T),SUMIF(A:A,$W222,D:D)) -> 712 | AC222: =LEFT(X222,1) -> 6 | AD222: =LEFT(Y222,2) -> 42
A223: =IF(E223="","",IF(LEFT(E223,1)="-",IF(+VALUE(RIGHT(LEFT(E223,3),1))<6,+A222,+A222+1),+A222)) -> 2206 | B223: =IF(A223=A222,"",IF(LEFT(E223,1)="-",IF(+VALUE(RIGHT(LEFT(E223,3),1))<6,"",VALUE(RIGHT(E223,LEN(E223)-2))),"")) -> 70851000 | C223: =IF(A223="","",IFERROR(VLOOKUP(E223,'[1]Mapping '!$I$2:$J$18,2,FALSE),C222)) -> 4220 | D223: =IF(B223="",0,+K223-L223) -> -210.56 | E223: --70851000 | G223: 210.56 | H223: 210.56 | I223: -12858.51 | J223: 0 | K223: 0 | L223: 210.56 | M223: =IF(VALUE(LEFT(P223,1))>=6,"",IF((R223-S223+T223)=0,+M222,+M222+1)) | N223: =IFERROR(IF(VALUE(LEFT(P223,1))>=6,+R223-S223+T223-SUMIF(B:B,P223,D:D),0),"") -> 0 | O223: =IF(ROUND(N223,0)=0,+O222,+O222+1) -> 0 | P223: 60740000 | R223: 9420.77 | S223: 2591.64 | T223: 0 | U223: =IF(ISNA(VLOOKUP(Z223,'Balance A'!$C$14:$E$163,3,FALSE))=FALSE,U222,U222+1) -> 2 | W223: =IFERROR(IF(W222+1>MAX(A:A),"",IF(+W222+1<=MAX(M:M),+W222+1,IF(W222=MAX(M:M),$AA$1,+W222+1))),"") -> 2100 | X223: =IF(W223<$AA$1,VLOOKUP(W223,M:P,4,FALSE),VLOOKUP(W223,A:B,2,FALSE)) -> 61380000 | Y223: =IF(W223<$AA$1,"",VLOOKUP(W223,A:C,3,FALSE)) -> 4200 | Z223: =CONCATENATE(X223,"_",Y223) -> 61380000_4200 | AA223: =IF(W223<$AA$1,VLOOKUP(W223,M:Q,5,FALSE),VLOOKUP(W223,A:F,6,FALSE)) -> 0 | AB223: =IF(W223<$AA$1,SUMIF(P:P,$X223,R:R)-SUMIF(P:P,$X223,S:S)+SUMIF(P:P,$X223,T:T),SUMIF(A:A,$W223,D:D)) -> 30911.2 | AC223: =LEFT(X223,1) -> 6 | AD223: =LEFT(Y223,2) -> 42
A224: =IF(E224="","",IF(LEFT(E224,1)="-",IF(+VALUE(RIGHT(LEFT(E224,3),1))<6,+A223,+A223+1),+A223)) -> 2206 | B224: =IF(A224=A223,"",IF(LEFT(E224,1)="-",IF(+VALUE(RIGHT(LEFT(E224,3),1))<6,"",VALUE(RIGHT(E224,LEN(E224)-2))),"")) | C224: =IF(A224="","",IFERROR(VLOOKUP(E224,'[1]Mapping '!$I$2:$J$18,2,FALSE),C223)) -> 4300 | D224: =IF(B224="",0,+K224-L224) -> 0 | E224: 4300 | G224: -344313.32 | H224: -344313.32 | I224: 282351.48 | J224: 0 | K224: 651509.61 | L224: 307196.29 | M224: =IF(VALUE(LEFT(P224,1))>=6,"",IF((R224-S224+T224)=0,+M223,+M223+1)) | N224: =IFERROR(IF(VALUE(LEFT(P224,1))>=6,+R224-S224+T224-SUMIF(B:B,P224,D:D),0),"") -> 0 | O224: =IF(ROUND(N224,0)=0,+O223,+O223+1) -> 0 | P224: 60810000 | R224: 7013.94 | S224: 0 | T224: 0 | U224: =IF(ISNA(VLOOKUP(Z224,'Balance A'!$C$14:$E$163,3,FALSE))=FALSE,U223,U223+1) -> 2 | W224: =IFERROR(IF(W223+1>MAX(A:A),"",IF(+W223+1<=MAX(M:M),+W223+1,IF(W223=MAX(M:M),$AA$1,+W223+1))),"") -> 2101 | X224: =IF(W224<$AA$1,VLOOKUP(W224,M:P,4,FALSE),VLOOKUP(W224,A:B,2,FALSE)) -> 61480000 | Y224: =IF(W224<$AA$1,"",VLOOKUP(W224,A:C,3,FALSE)) -> 4200 | Z224: =CONCATENATE(X224,"_",Y224) -> 61480000_4200 | AA224: =IF(W224<$AA$1,VLOOKUP(W224,M:Q,5,FALSE),VLOOKUP(W224,A:F,6,FALSE)) -> 0 | AB224: =IF(W224<$AA$1,SUMIF(P:P,$X224,R:R)-SUMIF(P:P,$X224,S:S)+SUMIF(P:P,$X224,T:T),SUMIF(A:A,$W224,D:D)) -> 2200 | AC224: =LEFT(X224,1) -> 6 | AD224: =LEFT(Y224,2) -> 42
A225: =IF(E225="","",IF(LEFT(E225,1)="-",IF(+VALUE(RIGHT(LEFT(E225,3),1))<6,+A224,+A224+1),+A224)) -> 2207 | B225: =IF(A225=A224,"",IF(LEFT(E225,1)="-",IF(+VALUE(RIGHT(LEFT(E225,3),1))<6,"",VALUE(RIGHT(E225,LEN(E225)-2))),"")) -> 60110000 | C225: =IF(A225="","",IFERROR(VLOOKUP(E225,'[1]Mapping '!$I$2:$J$18,2,FALSE),C224)) -> 4300 | D225: =IF(B225="",0,+K225-L225) -> 1344.1 | E225: --60110000 | G225: -1344.1 | H225: -1344.1 | I225: 1726.2 | J225: 0 | K225: 1344.1 | L225: 0 | M225: =IF(VALUE(LEFT(P225,1))>=6,"",IF((R225-S225+T225)=0,+M224,+M224+1)) | N225: =IFERROR(IF(VALUE(LEFT(P225,1))>=6,+R225-S225+T225-SUMIF(B:B,P225,D:D),0),"") -> 1.7053026e-13 | O225: =IF(ROUND(N225,0)=0,+O224,+O224+1) -> 0 | P225: 60820000 | R225: 1744.5 | S225: 2110.6 | T225: 0 | U225: =IF(ISNA(VLOOKUP(Z225,'Balance A'!$C$14:$E$163,3,FALSE))=FALSE,U224,U224+1) -> 2 | W225: =IFERROR(IF(W224+1>MAX(A:A),"",IF(+W224+1<=MAX(M:M),+W224+1,IF(W224=MAX(M:M),$AA$1,+W224+1))),"") -> 2102 | X225: =IF(W225<$AA$1,VLOOKUP(W225,M:P,4,FALSE),VLOOKUP(W225,A:B,2,FALSE)) -> 61510000 | Y225: =IF(W225<$AA$1,"",VLOOKUP(W225,A:C,3,FALSE)) -> 4200 | Z225: =CONCATENATE(X225,"_",Y225) -> 61510000_4200 | AA225: =IF(W225<$AA$1,VLOOKUP(W225,M:Q,5,FALSE),VLOOKUP(W225,A:F,6,FALSE)) -> 0 | AB225: =IF(W225<$AA$1,SUMIF(P:P,$X225,R:R)-SUMIF(P:P,$X225,S:S)+SUMIF(P:P,$X225,T:T),SUMIF(A:A,$W225,D:D)) -> 2440.07 | AC225: =LEFT(X225,1) -> 6 | AD225: =LEFT(Y225,2) -> 42
A226: =IF(E226="","",IF(LEFT(E226,1)="-",IF(+VALUE(RIGHT(LEFT(E226,3),1))<6,+A225,+A225+1),+A225)) -> 2208 | B226: =IF(A226=A225,"",IF(LEFT(E226,1)="-",IF(+VALUE(RIGHT(LEFT(E226,3),1))<6,"",VALUE(RIGHT(E226,LEN(E226)-2))),"")) -> 60120000 | C226: =IF(A226="","",IFERROR(VLOOKUP(E226,'[1]Mapping '!$I$2:$J$18,2,FALSE),C225)) -> 4300 | D226: =IF(B226="",0,+K226-L226) -> 49265.84 | E226: --60120000 | G226: -49265.84 | H226: -49265.84 | I226: 117468.18 | J226: 0 | K226: 50168.47 | L226: 902.63 | M226: =IF(VALUE(LEFT(P226,1))>=6,"",IF((R226-S226+T226)=0,+M225,+M225+1)) | N226: =IFERROR(IF(VALUE(LEFT(P226,1))>=6,+R226-S226+T226-SUMIF(B:B,P226,D:D),0),"") -> 0 | O226: =IF(ROUND(N226,0)=0,+O225,+O225+1) -> 0 | P226: 60910090 | R226: 0 | S226: 0 | T226: 0 | U226: =IF(ISNA(VLOOKUP(Z226,'Balance A'!$C$14:$E$163,3,FALSE))=FALSE,U225,U225+1) -> 2 | W226: =IFERROR(IF(W225+1>MAX(A:A),"",IF(+W225+1<=MAX(M:M),+W225+1,IF(W225=MAX(M:M),$AA$1,+W225+1))),"") -> 2103 | X226: =IF(W226<$AA$1,VLOOKUP(W226,M:P,4,FALSE),VLOOKUP(W226,A:B,2,FALSE)) -> 61561000 | Y226: =IF(W226<$AA$1,"",VLOOKUP(W226,A:C,3,FALSE)) -> 4200 | Z226: =CONCATENATE(X226,"_",Y226) -> 61561000_4200 | AA226: =IF(W226<$AA$1,VLOOKUP(W226,M:Q,5,FALSE),VLOOKUP(W226,A:F,6,FALSE)) -> 0 | AB226: =IF(W226<$AA$1,SUMIF(P:P,$X226,R:R)-SUMIF(P:P,$X226,S:S)+SUMIF(P:P,$X226,T:T),SUMIF(A:A,$W226,D:D)) -> 1130.86 | AC226: =LEFT(X226,1) -> 6 | AD226: =LEFT(Y226,2) -> 42
A227: =IF(E227="","",IF(LEFT(E227,1)="-",IF(+VALUE(RIGHT(LEFT(E227,3),1))<6,+A226,+A226+1),+A226)) -> 2209 | B227: =IF(A227=A226,"",IF(LEFT(E227,1)="-",IF(+VALUE(RIGHT(LEFT(E227,3),1))<6,"",VALUE(RIGHT(E227,LEN(E227)-2))),"")) -> 60140000 | C227: =IF(A227="","",IFERROR(VLOOKUP(E227,'[1]Mapping '!$I$2:$J$18,2,FALSE),C226)) -> 4300 | D227: =IF(B227="",0,+K227-L227) -> 1101.97 | E227: --60140000 | G227: -1101.97 | H227: -1101.97 | I227: 1123.46 | J227: 0 | K227: 1101.97 | L227: 0 | M227: =IF(VALUE(LEFT(P227,1))>=6,"",IF((R227-S227+T227)=0,+M226,+M226+1)) | N227: =IFERROR(IF(VALUE(LEFT(P227,1))>=6,+R227-S227+T227-SUMIF(B:B,P227,D:D),0),"") -> 0 | O227: =IF(ROUND(N227,0)=0,+O226,+O226+1) -> 0 | P227: 61100000 | R227: 3684.52 | S227: 3300.14 | T227: 0 | U227: =IF(ISNA(VLOOKUP(Z227,'Balance A'!$C$14:$E$163,3,FALSE))=FALSE,U226,U226+1) -> 2 | W227: =IFERROR(IF(W226+1>MAX(A:A),"",IF(+W226+1<=MAX(M:M),+W226+1,IF(W226=MAX(M:M),$AA$1,+W226+1))),"") -> 2104 | X227: =IF(W227<$AA$1,VLOOKUP(W227,M:P,4,FALSE),VLOOKUP(W227,A:B,2,FALSE)) -> 61612000 | Y227: =IF(W227<$AA$1,"",VLOOKUP(W227,A:C,3,FALSE)) -> 4200 | Z227: =CONCATENATE(X227,"_",Y227) -> 61612000_4200 | AA227: =IF(W227<$AA$1,VLOOKUP(W227,M:Q,5,FALSE),VLOOKUP(W227,A:F,6,FALSE)) -> 0 | AB227: =IF(W227<$AA$1,SUMIF(P:P,$X227,R:R)-SUMIF(P:P,$X227,S:S)+SUMIF(P:P,$X227,T:T),SUMIF(A:A,$W227,D:D)) -> -605 | AC227: =LEFT(X227,1) -> 6 | AD227: =LEFT(Y227,2) -> 42
... A329: =IF(E329="","",IF(LEFT(E329,1)="-",IF(+VALUE(RIGHT(LEFT(E329,3),1))<6,+A328,+A328+1),+A328)) -> 2307 | B329: =IF(A329=A328,"",IF(LEFT(E329,1)="-",IF(+VALUE(RIGHT(LEFT(E329,3),1))<6,"",VALUE(RIGHT(E329,LEN(E329)-2))),"")) -> 64511000 | C329: =IF(A329="","",IFERROR(VLOOKUP(E329,'[1]Mapping '!$I$2:$J$18,2,FALSE),C328)) -> 4312 | D329: =IF(B329="",0,+K329-L329) -> 3262.15 | E329: --64511000 | G329: -3262.15 | H329: -3262.15 | I329: 73563.11 | J329: 0 | K329: 3262.15 | L329: 0 | M329: =IF(VALUE(LEFT(P329,1))>=6,"",IF((R329-S329+T329)=0,+M328,+M328+1)) | N329: =IFERROR(IF(VALUE(LEFT(P329,1))>=6,+R329-S329+T329-SUMIF(B:B,P329,D:D),0),"") -> 0 | O329: =IF(ROUND(N329,0)=0,+O328,+O328+1) -> 1 | P329: 64900000 | R329: 0 | S329: 0 | T329: 0 | U329: =IF(ISNA(VLOOKUP(Z329,'Balance A'!$C$14:$E$163,3,FALSE))=FALSE,U328,U328+1) -> 2 | W329: =IFERROR(IF(W328+1>MAX(A:A),"",IF(+W328+1<=MAX(M:M),+W328+1,IF(W328=MAX(M:M),$AA$1,+W328+1))),"") -> 2206 | X329: =IF(W329<$AA$1,VLOOKUP(W329,M:P,4,FALSE),VLOOKUP(W329,A:B,2,FALSE)) -> 70851000 | Y329: =IF(W329<$AA$1,"",VLOOKUP(W329,A:C,3,FALSE)) -> 4220 | Z329: =CONCATENATE(X329,"_",Y329) -> 70851000_4220 | AA329: =IF(W329<$AA$1,VLOOKUP(W329,M:Q,5,FALSE),VLOOKUP(W329,A:F,6,FALSE)) -> 0 | AB329: =IF(W329<$AA$1,SUMIF(P:P,$X329,R:R)-SUMIF(P:P,$X329,S:S)+SUMIF(P:P,$X329,T:T),SUMIF(A:A,$W329,D:D)) -> -210.56 | AC329: =LEFT(X329,1) -> 7 | AD329: =LEFT(Y329,2) -> 42
A330: =IF(E330="","",IF(LEFT(E330,1)="-",IF(+VALUE(RIGHT(LEFT(E330,3),1))<6,+A329,+A329+1),+A329)) -> 2308 | B330: =IF(A330=A329,"",IF(LEFT(E330,1)="-",IF(+VALUE(RIGHT(LEFT(E330,3),1))<6,"",VALUE(RIGHT(E330,LEN(E330)-2))),"")) -> 64511100 | C330: =IF(A330="","",IFERROR(VLOOKUP(E330,'[1]Mapping '!$I$2:$J$18,2,FALSE),C329)) -> 4312 | D330: =IF(B330="",0,+K330-L330) -> 72.6 | E330: --64511100 | G330: -72.6 | H330: -72.6 | I330: 844.87 | J330: 0 | K330: 72.6 | L330: 0 | M330: =IF(VALUE(LEFT(P330,1))>=6,"",IF((R330-S330+T330)=0,+M329,+M329+1)) | N330: =IFERROR(IF(VALUE(LEFT(P330,1))>=6,+R330-S330+T330-SUMIF(B:B,P330,D:D),0),"") -> 0 | O330: =IF(ROUND(N330,0)=0,+O329,+O329+1) -> 1 | P330: 65410000 | R330: 0 | S330: 0 | T330: 0 | U330: =IF(ISNA(VLOOKUP(Z330,'Balance R'!$C$14:$E$181,3,FALSE))=FALSE,U329,U329+1) -> 2 | W330: =IFERROR(IF(W329+1>MAX(A:A),"",IF(+W329+1<=MAX(M:M),+W329+1,IF(W329=MAX(M:M),$AA$1,+W329+1))),"") -> 2207 | X330: =IF(W330<$AA$1,VLOOKUP(W330,M:P,4,FALSE),VLOOKUP(W330,A:B,2,FALSE)) -> 60110000 | Y330: =IF(W330<$AA$1,"",VLOOKUP(W330,A:C,3,FALSE)) -> 4300 | Z330: =CONCATENATE(X330,"_",Y330) -> 60110000_4300 | AA330: =IF(W330<$AA$1,VLOOKUP(W330,M:Q,5,FALSE),VLOOKUP(W330,A:F,6,FALSE)) -> 0 | AB330: =IF(W330<$AA$1,SUMIF(P:P,$X330,R:R)-SUMIF(P:P,$X330,S:S)+SUMIF(P:P,$X330,T:T),SUMIF(A:A,$W330,D:D)) -> 1344.1 | AC330: =LEFT(X330,1) -> 6 | AD330: =LEFT(Y330,2) -> 43
A331: =IF(E331="","",IF(LEFT(E331,1)="-",IF(+VALUE(RIGHT(LEFT(E331,3),1))<6,+A330,+A330+1),+A330)) -> 2309 | B331: =IF(A331=A330,"",IF(LEFT(E331,1)="-",IF(+VALUE(RIGHT(LEFT(E331,3),1))<6,"",VALUE(RIGHT(E331,LEN(E331)-2))),"")) -> 64521000 | C331: =IF(A331="","",IFERROR(VLOOKUP(E331,'[1]Mapping '!$I$2:$J$18,2,FALSE),C330)) -> 4312 | D331: =IF(B331="",0,+K331-L331) -> 711.86 | E331: --64521000 | G331: -711.86 | H331: -711.86 | I331: 17087.24 | J331: 0 | K331: 711.86 | L331: 0 | M331: =IF(VALUE(LEFT(P331,1))>=6,"",IF((R331-S331+T331)=0,+M330,+M330+1)) | N331: =IFERROR(IF(VALUE(LEFT(P331,1))>=6,+R331-S331+T331-SUMIF(B:B,P331,D:D),0),"") -> 0 | O331: =IF(ROUND(N331,0)=0,+O330,+O330+1) -> 1 | P331: 65811000 | R331: 5.11 | S331: 0 | T331: 0 | U331: =IF(ISNA(VLOOKUP(Z331,'Balance R'!$C$14:$E$181,3,FALSE))=FALSE,U330,U330+1) -> 2 | W331: =IFERROR(IF(W330+1>MAX(A:A),"",IF(+W330+1<=MAX(M:M),+W330+1,IF(W330=MAX(M:M),$AA$1,+W330+1))),"") -> 2208 | X331: =IF(W331<$AA$1,VLOOKUP(W331,M:P,4,FALSE),VLOOKUP(W331,A:B,2,FALSE)) -> 60120000 | Y331: =IF(W331<$AA$1,"",VLOOKUP(W331,A:C,3,FALSE)) -> 4300 | Z331: =CONCATENATE(X331,"_",Y331) -> 60120000_4300 | AA331: =IF(W331<$AA$1,VLOOKUP(W331,M:Q,5,FALSE),VLOOKUP(W331,A:F,6,FALSE)) -> 0 | AB331: =IF(W331<$AA$1,SUMIF(P:P,$X331,R:R)-SUMIF(P:P,$X331,S:S)+SUMIF(P:P,$X331,T:T),SUMIF(A:A,$W331,D:D)) -> 49265.84 | AC331: =LEFT(X331,1) -> 6 | AD331: =LEFT(Y331,2) -> 43
A332: =IF(E332="","",IF(LEFT(E332,1)="-",IF(+VALUE(RIGHT(LEFT(E332,3),1))<6,+A331,+A331+1),+A331)) -> 2310 | B332: =IF(A332=A331,"",IF(LEFT(E332,1)="-",IF(+VALUE(RIGHT(LEFT(E332,3),1))<6,"",VALUE(RIGHT(E332,LEN(E332)-2))),"")) -> 64521100 | C332: =IF(A332="","",IFERROR(VLOOKUP(E332,'[1]Mapping '!$I$2:$J$18,2,FALSE),C331)) -> 4312 | D332: =IF(B332="",0,+K332-L332) -> 15.38 | E332: --64521100 | G332: -15.38 | H332: -15.38 | I332: 170.52 | J332: 0 | K332: 15.38 | L332: 0 | M332: =IF(VALUE(LEFT(P332,1))>=6,"",IF((R332-S332+T332)=0,+M331,+M331+1)) | N332: =IFERROR(IF(VALUE(LEFT(P332,1))>=6,+R332-S332+T332-SUMIF(B:B,P332,D:D),0),"") -> 0 | O332: =IF(ROUND(N332,0)=0,+O331,+O331+1) -> 1 | P332: 65830000 | R332: 221.12 | S332: 0 | T332: 0 | U332: =IF(ISNA(VLOOKUP(Z332,'Balance R'!$C$14:$E$181,3,FALSE))=FALSE,U331,U331+1) -> 2 | W332: =IFERROR(IF(W331+1>MAX(A:A),"",IF(+W331+1<=MAX(M:M),+W331+1,IF(W331=MAX(M:M),$AA$1,+W331+1))),"") -> 2209 | X332: =IF(W332<$AA$1,VLOOKUP(W332,M:P,4,FALSE),VLOOKUP(W332,A:B,2,FALSE)) -> 60140000 | Y332: =IF(W332<$AA$1,"",VLOOKUP(W332,A:C,3,FALSE)) -> 4300 | Z332: =CONCATENATE(X332,"_",Y332) -> 60140000_4300 | AA332: =IF(W332<$AA$1,VLOOKUP(W332,M:Q,5,FALSE),VLOOKUP(W332,A:F,6,FALSE)) -> 0 | AB332: =IF(W332<$AA$1,SUMIF(P:P,$X332,R:R)-SUMIF(P:P,$X332,S:S)+SUMIF(P:P,$X332,T:T),SUMIF(A:A,$W332,D:D)) -> 1101.97 | AC332: =LEFT(X332,1) -> 6 | AD332: =LEFT(Y332,2) -> 43
A333: =IF(E333="","",IF(LEFT(E333,1)="-",IF(+VALUE(RIGHT(LEFT(E333,3),1))<6,+A332,+A332+1),+A332)) -> 2311 | B333: =IF(A333=A332,"",IF(LEFT(E333,1)="-",IF(+VALUE(RIGHT(LEFT(E333,3),1))<6,"",VALUE(RIGHT(E333,LEN(E333)-2))),"")) -> 64532000 | C333: =IF(A333="","",IFERROR(VLOOKUP(E333,'[1]Mapping '!$I$2:$J$18,2,FALSE),C332)) -> 4312 | D333: =IF(B333="",0,+K333-L333) -> 239.03 | E333: --64532000 | G333: -239.03 | H333: -239.03 | I333: 5968.61 | J333: 0 | K333: 239.03 | L333: 0 | M333: =IF(VALUE(LEFT(P333,1))>=6,"",IF((R333-S333+T333)=0,+M332,+M332+1)) | N333: =IFERROR(IF(VALUE(LEFT(P333,1))>=6,+R333-S333+T333-SUMIF(B:B,P333,D:D),0),"") -> 0 | O333: =IF(ROUND(N333,0)=0,+O332,+O332+1) -> 1 | P333: 65890000 | R333: 0 | S333: 0 | T333: 0 | U333: =IF(ISNA(VLOOKUP(Z333,'Balance R'!$C$14:$E$181,3,FALSE))=FALSE,U332,U332+1) -> 2 | W333: =IFERROR(IF(W332+1>MAX(A:A),"",IF(+W332+1<=MAX(M:M),+W332+1,IF(W332=MAX(M:M),$AA$1,+W332+1))),"") -> 2210 | X333: =IF(W333<$AA$1,VLOOKUP(W333,M:P,4,FALSE),VLOOKUP(W333,A:B,2,FALSE)) -> 60310000 | Y333: =IF(W333<$AA$1,"",VLOOKUP(W333,A:C,3,FALSE)) -> 4300 | Z333: =CONCATENATE(X333,"_",Y333) -> 60310000_4300 | AA333: =IF(W333<$AA$1,VLOOKUP(W333,M:Q,5,FALSE),VLOOKUP(W333,A:F,6,FALSE)) -> 0 | AB333: =IF(W333<$AA$1,SUMIF(P:P,$X333,R:R)-SUMIF(P:P,$X333,S:S)+SUMIF(P:P,$X333,T:T),SUMIF(A:A,$W333,D:D)) -> 2851.45 | AC333: =LEFT(X333,1) -> 6 | AD333: =LEFT(Y333,2) -> 43
A334: =IF(E334="","",IF(LEFT(E334,1)="-",IF(+VALUE(RIGHT(LEFT(E334,3),1))<6,+A333,+A333+1),+A333)) -> 2312 | B334: =IF(A334=A333,"",IF(LEFT(E334,1)="-",IF(+VALUE(RIGHT(LEFT(E334,3),1))<6,"",VALUE(RIGHT(E334,LEN(E334)-2))),"")) -> 64532100 | C334: =IF(A334="","",IFERROR(VLOOKUP(E334,'[1]Mapping '!$I$2:$J$18,2,FALSE),C333)) -> 4312 | D334: =IF(B334="",0,+K334-L334) -> 1.2 | E334: --64532100 | G334: -1.2 | H334: -1.2 | I334: 42.47 | J334: 0 | K334: 1.2 | L334: 0 | M334: =IF(VALUE(LEFT(P334,1))>=6,"",IF((R334-S334+T334)=0,+M333,+M333+1)) | N334: =IFERROR(IF(VALUE(LEFT(P334,1))>=6,+R334-S334+T334-SUMIF(B:B,P334,D:D),0),"") -> 0 | O334: =IF(ROUND(N334,0)=0,+O333,+O333+1) -> 1 | P334: 66115000 | R334: 26734 | S334: 0 | T334: 0 | U334: =IF(ISNA(VLOOKUP(Z334,'Balance R'!$C$14:$E$181,3,FALSE))=FALSE,U333,U333+1) -> 2 | W334: =IFERROR(IF(W333+1>MAX(A:A),"",IF(+W333+1<=MAX(M:M),+W333+1,IF(W333=MAX(M:M),$AA$1,+W333+1))),"") -> 2211 | X334: =IF(W334<$AA$1,VLOOKUP(W334,M:P,4,FALSE),VLOOKUP(W334,A:B,2,FALSE)) -> 60320000 | Y334: =IF(W334<$AA$1,"",VLOOKUP(W334,A:C,3,FALSE)) -> 4300 | Z334: =CONCATENATE(X334,"_",Y334) -> 60320000_4300 | AA334: =IF(W334<$AA$1,VLOOKUP(W334,M:Q,5,FALSE),VLOOKUP(W334,A:F,6,FALSE)) -> 0 | AB334: =IF(W334<$AA$1,SUMIF(P:P,$X334,R:R)-SUMIF(P:P,$X334,S:S)+SUMIF(P:P,$X334,T:T),SUMIF(A:A,$W334,D:D)) -> 991.33 | AC334: =LEFT(X334,1) -> 6 | AD334: =LEFT(Y334,2) -> 43
A335: =IF(E335="","",IF(LEFT(E335,1)="-",IF(+VALUE(RIGHT(LEFT(E335,3),1))<6,+A334,+A334+1),+A334)) -> 2313 | B335: =IF(A335=A334,"",IF(LEFT(E335,1)="-",IF(+VALUE(RIGHT(LEFT(E335,3),1))<6,"",VALUE(RIGHT(E335,LEN(E335)-2))),"")) -> 64580000 | C335: =IF(A335="","",IFERROR(VLOOKUP(E335,'[1]Mapping '!$I$2:$J$18,2,FALSE),C334)) -> 4312 | D335: =IF(B335="",0,+K335-L335) -> -799.98 | E335: --64580000 | G335: 799.98 | H335: 799.98 | I335: 1200.63 | J335: 0 | K335: 9642.46 | L335: 10442.44 | M335: =IF(VALUE(LEFT(P335,1))>=6,"",IF((R335-S335+T335)=0,+M334,+M334+1)) | N335: =IFERROR(IF(VALUE(LEFT(P335,1))>=6,+R335-S335+T335-SUMIF(B:B,P335,D:D),0),"") -> 0 | O335: =IF(ROUND(N335,0)=0,+O334,+O334+1) -> 1 | P335: 66115500 | R335: 842 | S335: 0 | T335: 0 | U335: =IF(ISNA(VLOOKUP(Z335,'Balance R'!$C$14:$E$181,3,FALSE))=FALSE,U334,U334+1) -> 2 | W335: =IFERROR(IF(W334+1>MAX(A:A),"",IF(+W334+1<=MAX(M:M),+W334+1,IF(W334=MAX(M:M),$AA$1,+W334+1))),"") -> 2212 | X335: =IF(W335<$AA$1,VLOOKUP(W335,M:P,4,FALSE),VLOOKUP(W335,A:B,2,FALSE)) -> 60370000 | Y335: =IF(W335<$AA$1,"",VLOOKUP(W335,A:C,3,FALSE)) -> 4300 | Z335: =CONCATENATE(X335,"_",Y335) -> 60370000_4300 | AA335: =IF(W335<$AA$1,VLOOKUP(W335,M:Q,5,FALSE),VLOOKUP(W335,A:F,6,FALSE)) -> 0 | AB335: =IF(W335<$AA$1,SUMIF(P:P,$X335,R:R)-SUMIF(P:P,$X335,S:S)+SUMIF(P:P,$X335,T:T),SUMIF(A:A,$W335,D:D)) -> 116350.54 | AC335: =LEFT(X335,1) -> 6 | AD335: =LEFT(Y335,2) -> 43
A336: =IF(E336="","",IF(LEFT(E336,1)="-",IF(+VALUE(RIGHT(LEFT(E336,3),1))<6,+A335,+A335+1),+A335)) -> 2314 | B336: =IF(A336=A335,"",IF(LEFT(E336,1)="-",IF(+VALUE(RIGHT(LEFT(E336,3),1))<6,"",VALUE(RIGHT(E336,LEN(E336)-2))),"")) -> 64580500 | C336: =IF(A336="","",IFERROR(VLOOKUP(E336,'[1]Mapping '!$I$2:$J$18,2,FALSE),C335)) -> 4312 | D336: =IF(B336="",0,+K336-L336) -> 156.57 | E336: --64580500 | G336: -156.57 | H336: -156.57 | I336: 1229.14 | J336: 0 | K336: 1011.57 | L336: 855 | M336: =IF(VALUE(LEFT(P336,1))>=6,"",IF((R336-S336+T336)=0,+M335,+M335+1)) | N336: =IFERROR(IF(VALUE(LEFT(P336,1))>=6,+R336-S336+T336-SUMIF(B:B,P336,D:D),0),"") -> 0 | O336: =IF(ROUND(N336,0)=0,+O335,+O335+1) -> 1 | P336: 66116100 | R336: 915.08 | S336: 0 | T336: 0 | U336: =IF(ISNA(VLOOKUP(Z336,'Balance R'!$C$14:$E$181,3,FALSE))=FALSE,U335,U335+1) -> 2 | W336: =IFERROR(IF(W335+1>MAX(A:A),"",IF(+W335+1<=MAX(M:M),+W335+1,IF(W335=MAX(M:M),$AA$1,+W335+1))),"") -> 2213 | X336: =IF(W336<$AA$1,VLOOKUP(W336,M:P,4,FALSE),VLOOKUP(W336,A:B,2,FALSE)) -> 60371000 | Y336: =IF(W336<$AA$1,"",VLOOKUP(W336,A:C,3,FALSE)) -> 4300 | Z336: =CONCATENATE(X336,"_",Y336) -> 60371000_4300 | AA336: =IF(W336<$AA$1,VLOOKUP(W336,M:Q,5,FALSE),VLOOKUP(W336,A:F,6,FALSE)) -> 0 | AB336: =IF(W336<$AA$1,SUMIF(P:P,$X336,R:R)-SUMIF(P:P,$X336,S:S)+SUMIF(P:P,$X336,T:T),SUMIF(A:A,$W336,D:D)) -> 1612.5 | AC336: =LEFT(X336,1) -> 6 | AD336: =LEFT(Y336,2) -> 43
A337: =IF(E337="","",IF(LEFT(E337,1)="-",IF(+VALUE(RIGHT(LEFT(E337,3),1))<6,+A336,+A336+1),+A336)) -> 2315 | B337: =IF(A337=A336,"",IF(LEFT(E337,1)="-",IF(+VALUE(RIGHT(LEFT(E337,3),1))<6,"",VALUE(RIGHT(E337,LEN(E337)-2))),"")) -> 70851000 | C337: =IF(A337="","",IFERROR(VLOOKUP(E337,'[1]Mapping '!$I$2:$J$18,2,FALSE),C336)) -> 4312 | D337: =IF(B337="",0,+K337-L337) -> -1008.38 | E337: --70851000 | G337: 1008.38 | H337: 1008.38 | I337: -12858.51 | J337: 0 | K337: 0 | L337: 1008.38 | M337: =IF(VALUE(LEFT(P337,1))>=6,"",IF((R337-S337+T337)=0,+M336,+M336+1)) | N337: =IFERROR(IF(VALUE(LEFT(P337,1))>=6,+R337-S337+T337-SUMIF(B:B,P337,D:D),0),"") -> 0 | O337: =IF(ROUND(N337,0)=0,+O336,+O336+1) -> 1 | P337: 66116190 | R337: 1449 | S337: 0 | T337: 0 | U337: =IF(ISNA(VLOOKUP(Z337,'Balance R'!$C$14:$E$181,3,FALSE))=FALSE,U336,U336+1) -> 2 | W337: =IFERROR(IF(W336+1>MAX(A:A),"",IF(+W336+1<=MAX(M:M),+W336+1,IF(W336=MAX(M:M),$AA$1,+W336+1))),"") -> 2214 | X337: =IF(W337<$AA$1,VLOOKUP(W337,M:P,4,FALSE),VLOOKUP(W337,A:B,2,FALSE)) -> 60510000 | Y337: =IF(W337<$AA$1,"",VLOOKUP(W337,A:C,3,FALSE)) -> 4300 | Z337: =CONCATENATE(X337,"_",Y337) -> 60510000_4300 | AA337: =IF(W337<$AA$1,VLOOKUP(W337,M:Q,5,FALSE),VLOOKUP(W337,A:F,6,FALSE)) -> 0 | AB337: =IF(W337<$AA$1,SUMIF(P:P,$X337,R:R)-SUMIF(P:P,$X337,S:S)+SUMIF(P:P,$X337,T:T),SUMIF(A:A,$W337,D:D)) -> 1014.9 | AC337: =LEFT(X337,1) -> 6 | AD337: =LEFT(Y337,2) -> 43
A338: =IF(E338="","",IF(LEFT(E338,1)="-",IF(+VALUE(RIGHT(LEFT(E338,3),1))<6,+A337,+A337+1),+A337)) -> 2316 | B338: =IF(A338=A337,"",IF(LEFT(E338,1)="-",IF(+VALUE(RIGHT(LEFT(E338,3),1))<6,"",VALUE(RIGHT(E338,LEN(E338)-2))),"")) -> 70851100 | C338: =IF(A338="","",IFERROR(VLOOKUP(E338,'[1]Mapping '!$I$2:$J$18,2,FALSE),C337)) -> 4312 | D338: =IF(B338="",0,+K338-L338) -> -22.53 | E338: --70851100 | G338: 22.53 | H338: 22.53 | I338: -285.73 | J338: 0 | K338: 0 | L338: 22.53 | M338: =IF(VALUE(LEFT(P338,1))>=6,"",IF((R338-S338+T338)=0,+M337,+M337+1)) | N338: =IFERROR(IF(VALUE(LEFT(P338,1))>=6,+R338-S338+T338-SUMIF(B:B,P338,D:D),0),"") -> 0 | O338: =IF(ROUND(N338,0)=0,+O337,+O337+1) -> 1 | P338: 66116191 | R338: 1191.99 | S338: 0 | T338: 0 | U338: =IF(ISNA(VLOOKUP(Z338,'Balance R'!$C$14:$E$181,3,FALSE))=FALSE,U337,U337+1) -> 2 | W338: =IFERROR(IF(W337+1>MAX(A:A),"",IF(+W337+1<=MAX(M:M),+W337+1,IF(W337=MAX(M:M),$AA$1,+W337+1))),"") -> 2215 | X338: =IF(W338<$AA$1,VLOOKUP(W338,M:P,4,FALSE),VLOOKUP(W338,A:B,2,FALSE)) -> 60611100 | Y338: =IF(W338<$AA$1,"",VLOOKUP(W338,A:C,3,FALSE)) -> 4300 | Z338: =CONCATENATE(X338,"_",Y338) -> 60611100_4300 | AA338: =IF(W338<$AA$1,VLOOKUP(W338,M:Q,5,FALSE),VLOOKUP(W338,A:F,6,FALSE)) -> 0 | AB338: =IF(W338<$AA$1,SUMIF(P:P,$X338,R:R)-SUMIF(P:P,$X338,S:S)+SUMIF(P:P,$X338,T:T),SUMIF(A:A,$W338,D:D)) -> 14775.7 | AC338: =LEFT(X338,1) -> 6 | AD338: =LEFT(Y338,2) -> 43
A339: =IF(E339="","",IF(LEFT(E339,1)="-",IF(+VALUE(RIGHT(LEFT(E339,3),1))<6,+A338,+A338+1),+A338)) -> 2316 | B339: =IF(A339=A338,"",IF(LEFT(E339,1)="-",IF(+VALUE(RIGHT(LEFT(E339,3),1))<6,"",VALUE(RIGHT(E339,LEN(E339)-2))),"")) | C339: =IF(A339="","",IFERROR(VLOOKUP(E339,'[1]Mapping '!$I$2:$J$18,2,FALSE),C338)) -> 4312 | D339: =IF(B339="",0,+K339-L339) -> 0 | E339: 4312 RDP | G339: -75385.57 | H339: -75385.57 | I339: 75385.57 | J339: 0 | K339: 209521.59 | L339: 134136.02 | M339: =IF(VALUE(LEFT(P339,1))>=6,"",IF((R339-S339+T339)=0,+M338,+M338+1)) | N339: =IFERROR(IF(VALUE(LEFT(P339,1))>=6,+R339-S339+T339-SUMIF(B:B,P339,D:D),0),"") -> 0 | O339: =IF(ROUND(N339,0)=0,+O338,+O338+1) -> 1 | P339: 67121000 | R339: 0 | S339: 0 | T339: 0 | U339: =IF(ISNA(VLOOKUP(Z339,'Balance R'!$C$14:$E$181,3,FALSE))=FALSE,U338,U338+1) -> 2 | W339: =IFERROR(IF(W338+1>MAX(A:A),"",IF(+W338+1<=MAX(M:M),+W338+1,IF(W338=MAX(M:M),$AA$1,+W338+1))),"") -> 2216 | X339: =IF(W339<$AA$1,VLOOKUP(W339,M:P,4,FALSE),VLOOKUP(W339,A:B,2,FALSE)) -> 60612000 | Y339: =IF(W339<$AA$1,"",VLOOKUP(W339,A:C,3,FALSE)) -> 4300 | Z339: =CONCATENATE(X339,"_",Y339) -> 60612000_4300 | AA339: =IF(W339<$AA$1,VLOOKUP(W339,M:Q,5,FALSE),VLOOKUP(W339,A:F,6,FALSE)) -> 0 | AB339: =IF(W339<$AA$1,SUMIF(P:P,$X339,R:R)-SUMIF(P:P,$X339,S:S)+SUMIF(P:P,$X339,T:T),SUMIF(A:A,$W339,D:D)) -> 939.11 | AC339: =LEFT(X339,1) -> 6 | AD339: =LEFT(Y339,2) -> 43
A340: =IF(E340="","",IF(LEFT(E340,1)="-",IF(+VALUE(RIGHT(LEFT(E340,3),1))<6,+A339,+A339+1),+A339)) -> 2317 | B340: =IF(A340=A339,"",IF(LEFT(E340,1)="-",IF(+VALUE(RIGHT(LEFT(E340,3),1))<6,"",VALUE(RIGHT(E340,LEN(E340)-2))),"")) -> 63121000 | C340: =IF(A340="","",IFERROR(VLOOKUP(E340,'[1]Mapping '!$I$2:$J$18,2,FALSE),C339)) -> 4312 | D340: =IF(B340="",0,+K340-L340) -> 240.16 | E340: --63121000 | G340: -240.16 | H340: -240.16 | I340: 1527.31 | J340: 0 | K340: 240.16 | L340: 0 | M340: =IF(VALUE(LEFT(P340,1))>=6,"",IF((R340-S340+T340)=0,+M339,+M339+1)) | N340: =IFERROR(IF(VALUE(LEFT(P340,1))>=6,+R340-S340+T340-SUMIF(B:B,P340,D:D),0),"") -> 0 | O340: =IF(ROUND(N340,0)=0,+O339,+O339+1) -> 1 | P340: 67180000 | R340: 0 | S340: 0 | T340: 0 | U340: =IF(ISNA(VLOOKUP(Z340,'Balance R'!$C$14:$E$181,3,FALSE))=FALSE,U339,U339+1) -> 2 | W340: =IFERROR(IF(W339+1>MAX(A:A),"",IF(+W339+1<=MAX(M:M),+W339+1,IF(W339=MAX(M:M),$AA$1,+W339+1))),"") -> 2217 | X340: =IF(W340<$AA$1,VLOOKUP(W340,M:P,4,FALSE),VLOOKUP(W340,A:B,2,FALSE)) -> 60613000 | Y340: =IF(W340<$AA$1,"",VLOOKUP(W340,A:C,3,FALSE)) -> 4300 | Z340: =CONCATENATE(X340,"_",Y340) -> 60613000_4300 | AA340: =IF(W340<$AA$1,VLOOKUP(W340,M:Q,5,FALSE),VLOOKUP(W340,A:F,6,FALSE)) -> 0 | AB340: =IF(W340<$AA$1,SUMIF(P:P,$X340,R:R)-SUMIF(P:P,$X340,S:S)+SUMIF(P:P,$X340,T:T),SUMIF(A:A,$W340,D:D)) -> 6867.11 | AC340: =LEFT(X340,1) -> 6 | AD340: =LEFT(Y340,2) -> 43
A341: =IF(E341="","",IF(LEFT(E341,1)="-",IF(+VALUE(RIGHT(LEFT(E341,3),1))<6,+A340,+A340+1),+A340)) -> 2318 | B341: =IF(A341=A340,"",IF(LEFT(E341,1)="-",IF(+VALUE(RIGHT(LEFT(E341,3),1))<6,"",VALUE(RIGHT(E341,LEN(E341)-2))),"")) -> 63122000 | C341: =IF(A341="","",IFERROR(VLOOKUP(E341,'[1]Mapping '!$I$2:$J$18,2,FALSE),C340)) -> 4312 | D341: =IF(B341="",0,+K341-L341) -> 22.51 | E341: --63122000 | G341: -22.51 | H341: -22.51 | I341: 24.3 | J341: 0 | K341: 22.51 | L341: 0 | M341: =IF(VALUE(LEFT(P341,1))>=6,"",IF((R341-S341+T341)=0,+M340,+M340+1)) | N341: =IFERROR(IF(VALUE(LEFT(P341,1))>=6,+R341-S341+T341-SUMIF(B:B,P341,D:D),0),"") -> 0 | O341: =IF(ROUND(N341,0)=0,+O340,+O340+1) -> 1 | P341: 67500000 | R341: 0 | S341: 0 | T341: 0 | U341: =IF(ISNA(VLOOKUP(Z341,'Balance R'!$C$14:$E$181,3,FALSE))=FALSE,U340,U340+1) -> 2 | W341: =IFERROR(IF(W340+1>MAX(A:A),"",IF(+W340+1<=MAX(M:M),+W340+1,IF(W340=MAX(M:M),$AA$1,+W340+1))),"") -> 2218 | X341: =IF(W341<$AA$1,VLOOKUP(W341,M:P,4,FALSE),VLOOKUP(W341,A:B,2,FALSE)) -> 60630000 | Y341: =IF(W341<$AA$1,"",VLOOKUP(W341,A:C,3,FALSE)) -> 4300 | Z341: =CONCATENATE(X341,"_",Y341) -> 60630000_4300 | AA341: =IF(W341<$AA$1,VLOOKUP(W341,M:Q,5,FALSE),VLOOKUP(W341,A:F,6,FALSE)) -> 0 | AB341: =IF(W341<$AA$1,SUMIF(P:P,$X341,R:R)-SUMIF(P:P,$X341,S:S)+SUMIF(P:P,$X341,T:T),SUMIF(A:A,$W341,D:D)) -> 7174.95 | AC341: =LEFT(X341,1) -> 6 | AD341: =LEFT(Y341,2) -> 43
... A350: =IF(E350="","",IF(LEFT(E350,1)="-",IF(+VALUE(RIGHT(LEFT(E350,3),1))<6,+A349,+A349+1),+A349)) -> 2327 | B350: =IF(A350=A349,"",IF(LEFT(E350,1)="-",IF(+VALUE(RIGHT(LEFT(E350,3),1))<6,"",VALUE(RIGHT(E350,LEN(E350)-2))),"")) -> 64180000 | C350: =IF(A350="","",IFERROR(VLOOKUP(E350,'[1]Mapping '!$I$2:$J$18,2,FALSE),C349)) -> 4312 | D350: =IF(B350="",0,+K350-L350) -> -942.11 | E350: --64180000 | G350: 942.11 | H350: 942.11 | I350: -1880.88 | J350: 0 | K350: 79011.73 | L350: 79953.84 | M350: =IF(VALUE(LEFT(P350,1))>=6,"",IF((R350-S350+T350)=0,+M349,+M349+1)) | N350: =IFERROR(IF(VALUE(LEFT(P350,1))>=6,+R350-S350+T350-SUMIF(B:B,P350,D:D),0),"") -> 0 | O350: =IF(ROUND(N350,0)=0,+O349,+O349+1) -> 1 | P350: 70130000 | R350: 1.82 | S350: 96210.01 | T350: 0 | U350: =IF(ISNA(VLOOKUP(Z350,'Balance R'!$C$14:$E$181,3,FALSE))=FALSE,U349,U349+1) -> 2 | W350: =IFERROR(IF(W349+1>MAX(A:A),"",IF(+W349+1<=MAX(M:M),+W349+1,IF(W349=MAX(M:M),$AA$1,+W349+1))),"") -> 2227 | X350: =IF(W350<$AA$1,VLOOKUP(W350,M:P,4,FALSE),VLOOKUP(W350,A:B,2,FALSE)) -> 61120000 | Y350: =IF(W350<$AA$1,"",VLOOKUP(W350,A:C,3,FALSE)) -> 4300 | Z350: =CONCATENATE(X350,"_",Y350) -> 61120000_4300 | AA350: =IF(W350<$AA$1,VLOOKUP(W350,M:Q,5,FALSE),VLOOKUP(W350,A:F,6,FALSE)) -> 0 | AB350: =IF(W350<$AA$1,SUMIF(P:P,$X350,R:R)-SUMIF(P:P,$X350,S:S)+SUMIF(P:P,$X350,T:T),SUMIF(A:A,$W350,D:D)) -> 7960.75 | AC350: =LEFT(X350,1) -> 6 | AD350: =LEFT(Y350,2) -> 43
A351: =IF(E351="","",IF(LEFT(E351,1)="-",IF(+VALUE(RIGHT(LEFT(E351,3),1))<6,+A350,+A350+1),+A350)) -> 2328 | B351: =IF(A351=A350,"",IF(LEFT(E351,1)="-",IF(+VALUE(RIGHT(LEFT(E351,3),1))<6,"",VALUE(RIGHT(E351,LEN(E351)-2))),"")) -> 64180300 | C351: =IF(A351="","",IFERROR(VLOOKUP(E351,'[1]Mapping '!$I$2:$J$18,2,FALSE),C350)) -> 4312 | D351: =IF(B351="",0,+K351-L351) -> 1006.01 | E351: --64180300 | G351: -1006.01 | H351: -1006.01 | I351: 2853.17 | J351: 0 | K351: 8952.17 | L351: 7946.16 | N351: =IFERROR(IF(VALUE(LEFT(P351,1))>=6,+R351-S351+T351-SUMIF(B:B,P351,D:D),0),"") -> 0 | O351: =IF(ROUND(N351,0)=0,+O350,+O350+1) -> 1 | P351: 70131000 | R351: 0 | S351: 1760.11 | T351: 0 | U351: =IF(ISNA(VLOOKUP(Z351,'Balance R'!$C$14:$E$181,3,FALSE))=FALSE,U350,U350+1) -> 2 | W351: =IFERROR(IF(W350+1>MAX(A:A),"",IF(+W350+1<=MAX(M:M),+W350+1,IF(W350=MAX(M:M),$AA$1,+W350+1))),"") -> 2228 | X351: =IF(W351<$AA$1,VLOOKUP(W351,M:P,4,FALSE),VLOOKUP(W351,A:B,2,FALSE)) -> 61330000 | Y351: =IF(W351<$AA$1,"",VLOOKUP(W351,A:C,3,FALSE)) -> 4300 | Z351: =CONCATENATE(X351,"_",Y351) -> 61330000_4300 | AA351: =IF(W351<$AA$1,VLOOKUP(W351,M:Q,5,FALSE),VLOOKUP(W351,A:F,6,FALSE)) -> 0 | AB351: =IF(W351<$AA$1,SUMIF(P:P,$X351,R:R)-SUMIF(P:P,$X351,S:S)+SUMIF(P:P,$X351,T:T),SUMIF(A:A,$W351,D:D)) -> 105 | AC351: =LEFT(X351,1) -> 6 | AD351: =LEFT(Y351,2) -> 43
A352: =IF(E352="","",IF(LEFT(E352,1)="-",IF(+VALUE(RIGHT(LEFT(E352,3),1))<6,+A351,+A351+1),+A351)) -> 2329 | B352: =IF(A352=A351,"",IF(LEFT(E352,1)="-",IF(+VALUE(RIGHT(LEFT(E352,3),1))<6,"",VALUE(RIGHT(E352,LEN(E352)-2))),"")) -> 64511000 | C352: =IF(A352="","",IFERROR(VLOOKUP(E352,'[1]Mapping '!$I$2:$J$18,2,FALSE),C351)) -> 4312 | D352: =IF(B352="",0,+K352-L352) -> 12245.15 | E352: --64511000 | G352: -12245.15 | H352: -12245.15 | I352: 73563.11 | J352: 0 | K352: 12245.15 | L352: 0 | N352: =IFERROR(IF(VALUE(LEFT(P352,1))>=6,+R352-S352+T352-SUMIF(B:B,P352,D:D),0),"") -> 0 | O352: =IF(ROUND(N352,0)=0,+O351,+O351+1) -> 1 | P352: 70601000 | R352: 0 | S352: 0 | T352: 0 | U352: =IF(ISNA(VLOOKUP(Z352,'Balance R'!$C$14:$E$181,3,FALSE))=FALSE,U351,U351+1) -> 2 | W352: =IFERROR(IF(W351+1>MAX(A:A),"",IF(+W351+1<=MAX(M:M),+W351+1,IF(W351=MAX(M:M),$AA$1,+W351+1))),"") -> 2229 | X352: =IF(W352<$AA$1,VLOOKUP(W352,M:P,4,FALSE),VLOOKUP(W352,A:B,2,FALSE)) -> 61350000 | Y352: =IF(W352<$AA$1,"",VLOOKUP(W352,A:C,3,FALSE)) -> 4300 | Z352: =CONCATENATE(X352,"_",Y352) -> 61350000_4300 | AA352: =IF(W352<$AA$1,VLOOKUP(W352,M:Q,5,FALSE),VLOOKUP(W352,A:F,6,FALSE)) -> 0 | AB352: =IF(W352<$AA$1,SUMIF(P:P,$X352,R:R)-SUMIF(P:P,$X352,S:S)+SUMIF(P:P,$X352,T:T),SUMIF(A:A,$W352,D:D)) -> 396 | AC352: =LEFT(X352,1) -> 6 | AD352: =LEFT(Y352,2) -> 43
...

Sheet Balance A
D2: Résultat BG | E2: =SUM(E14:E163) -> 18902.09 | F2: =SUM(F14:F163) -> 15854.21 | G2: =SUM(G14:G163) -> -96.26 | H2: =SUM(H14:H163) -> 60683.82 | I2: =SUM(I14:I163) -> 60683.82 | J2: =SUM(J14:J163) -> 0 | K2: =SUM(K14:K163) -> 0 | L2: =SUM(L14:L163) -> 0 | ... P2: =SUM(P14:P163) -> 0
D3: Vérif avec export | I3: =ROUND('Export tableur'!$AO$6-I2,0) -> -60684
B5: ='[1]REPORTING Artzner'!A2 -> 44682
D9: Ecart marge réelle vs marge budget | E9: ='[1]REPORTING Artzner'!M13*0.64-'[1]REPORTING Artzner'!M30 -> 165.1572 | F9: ='[1]REPORTING Artzner'!N13*0.64-'[1]REPORTING Artzner'!N30 -> 0.2444 | G9: ='[1]REPORTING Artzner'!O13*0.64-'[1]REPORTING Artzner'!O30 -> 13624.028 | H9: ='[1]REPORTING Artzner'!P13*0.64-'[1]REPORTING Artzner'!P30 -> -2566.8012 | I9: ='[1]REPORTING Artzner'!Q13*0.64-'[1]REPORTING Artzner'!Q30 -> 0 | J9: ='[1]REPORTING Artzner'!R13*0.64-'[1]REPORTING Artzner'!R30 -> -11222.628 | K9: ='[1]REPORTING Artzner'!S13*0.64-'[1]REPORTING Artzner'!S30 -> 0 | L9: ='[1]REPORTING Artzner'!T13*0.64-'[1]REPORTING Artzner'!T30 -> 0 | ... P9: ='[1]REPORTING Artzner'!X13*0.64-'[1]REPORTING Artzner'!X30 -> 0
D11: Total Selection Cumul | E11: =SUBTOTAL(9,E14:E921) -> 18902.09 | F11: =SUBTOTAL(9,F14:F921) -> 15854.21 | G11: =SUBTOTAL(9,G14:G921) -> -96.26 | H11: =SUBTOTAL(9,H14:H921) -> 60683.82 | I11: =SUBTOTAL(9,I14:I921) -> 60683.82 | J11: =SUBTOTAL(9,J14:J921) -> 0 | K11: =SUBTOTAL(9,K14:K921) -> 0 | L11: =SUBTOTAL(9,L14:L921) -> 0 | ... P11: =SUBTOTAL(9,P14:P921) -> 0
D12: Total Sélection mois | E12: =SUBTOTAL(9,E14:E921) -> 18902.09 | F12: =+SUBTOTAL(9,F14:F921)-SUBTOTAL(9,E14:E921) -> -3047.88 | G12: =+SUBTOTAL(9,G14:G921)-SUBTOTAL(9,F14:F921) -> -15950.47 | H12: =+SUBTOTAL(9,H14:H921)-SUBTOTAL(9,G14:G921) -> 60780.08 | I12: =+SUBTOTAL(9,I14:I921)-SUBTOTAL(9,H14:H921) -> 0 | J12: =+SUBTOTAL(9,J14:J921)-SUBTOTAL(9,I14:I921) -> -60683.82 | K12: =+SUBTOTAL(9,K14:K921)-SUBTOTAL(9,J14:J921) -> 0 | L12: =+SUBTOTAL(9,L14:L921)-SUBTOTAL(9,K14:K921) -> 0 | M12: =+SUBTOTAL(9,M14:M921)-SUBTOTAL(9,L14:L921) -> 0 | ... P12: =+SUBTOTAL(9,P14:P921)-SUBTOTAL(9,O14:O921) -> 0
C13: Compte ana BAL | E13: 44562 | F13: 44593 | G13: 44621 | H13: 44652 | I13: 44682 | J13: 44713 | K13: 44743 | L13: 44774 | M13: 44805 | N13: 44835 | O13: 44866 | P13: 44896
C14: 60110000_4200 | E14: 43.62 | F14: 85.61 | G14: 179.81 | H14: 314.58 | I14: =SUMIF('Export tableur'!$Z:$Z,'Balance A'!$C14,'Export tableur'!$AB:$AB) -> 314.58
C15: 60120000_4200 | E15: 15894.63 | F15: 28442.13 | G15: 45736.75 | H15: 63793.63 | I15: =SUMIF('Export tableur'!$Z:$Z,'Balance A'!$C15,'Export tableur'!$AB:$AB) -> 63793.63
C16: 60130000_4200 | E16: 0 | F16: 0 | G16: 0 | H16: 0 | I16: =SUMIF('Export tableur'!$Z:$Z,'Balance A'!$C16,'Export tableur'!$AB:$AB) -> 0
C17: 60140000_4200 | E17: 21.49 | F17: 21.49 | G17: 21.49 | H17: 21.49 | I17: =SUMIF('Export tableur'!$Z:$Z,'Balance A'!$C17,'Export tableur'!$AB:$AB) -> 21.49
C18: 60260000_4200 | E18: 16.85 | F18: 16.85 | G18: 16.85 | H18: 5494.35 | I18: =SUMIF('Export tableur'!$Z:$Z,'Balance A'!$C18,'Export tableur'!$AB:$AB) -> 5494.35
C19: 60310000_4200 | E19: 0 | F19: 0 | G19: -6837.78 | H19: 1348.21 | I19: =SUMIF('Export tableur'!$Z:$Z,'Balance A'!$C19,'Export tableur'!$AB:$AB) -> 1348.21
C20: 60320000_4200 | E20: 0 | F20: 0 | G20: 0 | H20: 0 | I20: =SUMIF('Export tableur'!$Z:$Z,'Balance A'!$C20,'Export tableur'!$AB:$AB) -> 0
C21: 60330000_4200 | E21: 0 | F21: 0 | G21: 0 | H21: 0 | I21: =SUMIF('Export tableur'!$Z:$Z,'Balance A'!$C21,'Export tableur'!$AB:$AB) -> 0
C22: 60360000_4200 | E22: 0 | F22: 0 | G22: -2741.97 | H22: -7122.35 | I22: =SUMIF('Export tableur'!$Z:$Z,'Balance A'!$C22,'Export tableur'!$AB:$AB) -> -7122.35
C23: 60370000_4200 | E23: 0 | F23: 0 | G23: 0 | H23: -475.32 | I23: =SUMIF('Export tableur'!$Z:$Z,'Balance A'!$C23,'Export tableur'!$AB:$AB) -> -475.32
C24: 60371000_4200 | E24: 0 | F24: 0 | G24: -20061.63 | H24: 6387.34 | I24: =SUMIF('Export tableur'!$Z:$Z,'Balance A'!$C24,'Export tableur'!$AB:$AB) -> 6387.34
C25: 60611100_4200 | E25: 3183.78 | F25: 5944.56 | G25: 9811.31 | H25: 10969.32 | I25: =SUMIF('Export tableur'!$Z:$Z,'Balance A'!$C25,'Export tableur'!$AB:$AB) -> 10969.32
... C38: 60810000_4200 | E38: 2480.52 | F38: 4071.11 | G38: 5395.27 | H38: 7013.94 | I38: =SUMIF('Export tableur'!$Z:$Z,'Balance A'!$C38,'Export tableur'!$AB:$AB) -> 7013.94
C39: 60820000_4200 | F39: -27.7 | G39: -7.7 | H39: 22.3 | I39: =SUMIF('Export tableur'!$Z:$Z,'Balance A'!$C39,'Export tableur'!$AB:$AB) -> 22.3
C40: 60910090_4200 | E40: 0 | F40: 0 | G40: 0 | H40: 0 | I40: =SUMIF('Export tableur'!$Z:$Z,'Balance A'!$C40,'Export tableur'!$AB:$AB) -> 0
C41: 61100000_4200 | E41: 86.85 | F41: 173.69 | G41: 260.54 | H41: 347.38 | I41: =SUMIF('Export tableur'!$Z:$Z,'Balance A'!$C41,'Export tableur'!$AB:$AB) -> 347.38
C42: 61111000_4200 | E42: 0 | F42: 0 | G42: 0 | H42: 0 | I42: =SUMIF('Export tableur'!$Z:$Z,'Balance A'!$C42,'Export tableur'!$AB:$AB) -> 0
C43: 61120000_4200 | E43: 278.96 | F43: 481.49 | G43: 676.38 | H43: 871.27 | I43: =SUMIF('Export tableur'!$Z:$Z,'Balance A'!$C43,'Export tableur'!$AB:$AB) -> 871.27
C44: 61210000_4200 | E44: 681 | F44: 681 | G44: 681 | H44: 1362 | I44: =SUMIF('Export tableur'!$Z:$Z,'Balance A'!$C44,'Export tableur'!$AB:$AB) -> 1362
C45: 61330000_4200 | E45: 50 | F45: 200 | G45: 200 | H45: 200 | I45: =SUMIF('Export tableur'!$Z:$Z,'Balance A'!$C45,'Export tableur'!$AB:$AB) -> 200
C46: 61350000_4200 | E46: 178 | F46: 356 | G46: 534 | H46: 712 | I46: =SUMIF('Export tableur'!$Z:$Z,'Balance A'!$C46,'Export tableur'!$AB:$AB) -> 712
C47: 61380000_4200 | E47: 7727.8 | F47: 15455.6 | G47: 23183.4 | H47: 30911.2 | I47: =SUMIF('Export tableur'!$Z:$Z,'Balance A'!$C47,'Export tableur'!$AB:$AB) -> 30911.2
C48: 61480000_4200 | E48: 550 | F48: 1100 | G48: 1650 | H48: 2200 | I48: =SUMIF('Export tableur'!$Z:$Z,'Balance A'!$C48,'Export tableur'!$AB:$AB) -> 2200
C49: 61510000_4200 | E49: 664.56 | F49: 874.17 | G49: 2179.07 | H49: 2440.07 | I49: =SUMIF('Export tableur'!$Z:$Z,'Balance A'!$C49,'Export tableur'!$AB:$AB) -> 2440.07
C50: 61561000_4200 | E50: 20.01 | F50: 615.63 | G50: 873.24 | H50: 1130.86 | I50: =SUMIF('Export tableur'!$Z:$Z,'Balance A'!$C50,'Export tableur'!$AB:$AB) -> 1130.86
C51: 61612000_4200 | E51: 379 | F51: -605 | G51: -605 | H51: -605 | I51: =SUMIF('Export tableur'!$Z:$Z,'Balance A'!$C51,'Export tableur'!$AB:$AB) -> -605
... C158: 79100400_4220 | E158: 0 | F158: 0 | G158: 0 | H158: 0 | I158: =SUMIF('Export tableur'!$Z:$Z,'Balance A'!$C158,'Export tableur'!$AB:$AB) -> 0
C159: 79101000_4200 | F159: -3321.41 | G159: 0 | H159: 0 | I159: =SUMIF('Export tableur'!$Z:$Z,'Balance A'!$C159,'Export tableur'!$AB:$AB) -> 0
C160: 62781000_4200 | G160: 4 | H160: 4 | I160: =SUMIF('Export tableur'!$Z:$Z,'Balance A'!$C160,'Export tableur'!$AB:$AB) -> 4
C161: 66116191_4200 | G161: 910 | H161: 1191.99 | I161: =SUMIF('Export tableur'!$Z:$Z,'Balance A'!$C161,'Export tableur'!$AB:$AB) -> 1191.99

Sheet Balance R
D2: Résultat BG | E2: =SUM(E14:E181) -> 57529.95 | F2: =SUM(F14:F181) -> -54960.27 | G2: =SUM(G14:G181) -> -41207.5 | H2: =SUM(H14:H181) -> 284835.94 | I2: =SUM(I14:I181) -> 284835.94 | J2: =SUM(J14:J181) -> 0 | K2: =SUM(K14:K181) -> 0 | L2: =SUM(L14:L181) -> 0 | ... P2: =SUM(P14:P181) -> 0
D3: Vérif avec export | I3: =ROUND('Export tableur'!$AO$7-I2,0) -> -284836
B5: ='[1]REPORTING RDP'!A2 -> 44682 | D5: Equilibre écritures ajustements | E5: =ROUND(SUM(E182:E413),0) -> 0 | F5: =ROUND(SUM(F182:F413),0) -> 0 | G5: =ROUND(SUM(G182:G413),0) -> 0 | H5: =ROUND(SUM(H182:H413),0) -> 0 | I5: =ROUND(SUM(I182:I413),0) -> 0 | J5: =ROUND(SUM(J182:J413),0) -> 0 | K5: =ROUND(SUM(K182:K413),0) -> 0 | L5: =ROUND(SUM(L182:L413),0) -> 0 | ... P5: =ROUND(SUM(P182:P413),0) -> 0
D9: Ecart marge réelle vs marge budget | E9: ='[1]REPORTING RDP'!M13*0.73-'[1]REPORTING RDP'!M30 -> 856.315 | F9: ='[1]REPORTING RDP'!N13*0.73-'[1]REPORTING RDP'!N30 -> -0.4775 | G9: ='[1]REPORTING RDP'!O13*0.73-'[1]REPORTING RDP'!O30 -> -2932.0218 | H9: ='[1]REPORTING RDP'!P13*0.73-'[1]REPORTING RDP'!P30 -> -204.6446 | I9: ='[1]REPORTING RDP'!Q13*0.73-'[1]REPORTING RDP'!Q30 -> 113373 | J9: ='[1]REPORTING RDP'!R13*0.73-'[1]REPORTING RDP'!R30 -> -111092.17 | K9: ='[1]REPORTING RDP'!S13*0.73-'[1]REPORTING RDP'!S30 -> 0 | L9: ='[1]REPORTING RDP'!T13*0.73-'[1]REPORTING RDP'!T30 -> 0 | ... P9: ='[1]REPORTING RDP'!X13*0.73-'[1]REPORTING RDP'!X30 -> 0
D11: Total Selection Cumul | E11: =SUBTOTAL(9,E14:E901) -> 57529.95 | F11: =SUBTOTAL(9,F14:F901) -> -54960.27 | G11: =SUBTOTAL(9,G14:G901) -> -41207.5 | H11: =SUBTOTAL(9,H14:H901) -> 284835.94 | I11: =SUBTOTAL(9,I14:I901) -> 284835.94 | J11: =SUBTOTAL(9,J14:J901) -> 0 | K11: =SUBTOTAL(9,K14:K901) -> 0 | L11: =SUBTOTAL(9,L14:L901) -> 0 | ... P11: =SUBTOTAL(9,P14:P901) -> 0
D12: Total Sélection mois | E12: =SUBTOTAL(9,E14:E901) -> 57529.95 | F12: =+SUBTOTAL(9,F14:F901)-SUBTOTAL(9,E14:E901) -> -112490.22 | G12: =+SUBTOTAL(9,G14:G901)-SUBTOTAL(9,F14:F901) -> 13752.77 | H12: =+SUBTOTAL(9,H14:H901)-SUBTOTAL(9,G14:G901) -> 326043.44 | I12: =+SUBTOTAL(9,I14:I901)-SUBTOTAL(9,H14:H901) -> 0 | J12: =+SUBTOTAL(9,J14:J901)-SUBTOTAL(9,I14:I901) -> -284835.94 | K12: =+SUBTOTAL(9,K14:K901)-SUBTOTAL(9,J14:J901) -> 0 | L12: =+SUBTOTAL(9,L14:L901)-SUBTOTAL(9,K14:K901) -> 0 | M12: =+SUBTOTAL(9,M14:M901)-SUBTOTAL(9,L14:L901) -> 0 | ... P12: =+SUBTOTAL(9,P14:P901)-SUBTOTAL(9,O14:O901) -> 0
C13: Compte ana BAL | D13: Libellé compta | E13: 44562 | F13: 44593 | G13: 44621 | H13: 44652 | I13: 44682 | J13: 44713 | K13: 44743 | L13: 44774 | M13: 44805 | N13: 44835 | O13: 44866 | P13: 44896
C14: 60110000_4300 | E14: 672.48 | F14: 860 | G14: 1051.88 | H14: 1344.1 | I14: =SUMIF('Export tableur'!$Z:$Z,$C14,'Export tableur'!$AB:$AB) -> 1344.1
C15: 60120000_4300 | E15: 6218.83 | F15: 18037.12 | G15: 33695.73 | H15: 49265.84 | I15: =SUMIF('Export tableur'!$Z:$Z,$C15,'Export tableur'!$AB:$AB) -> 49265.84
C16: 60130000_4300 | E16: 0 | F16: 0 | G16: 0 | H16: 0 | I16: =SUMIF('Export tableur'!$Z:$Z,$C16,'Export tableur'!$AB:$AB) -> 0
C17: 60140000_4300 | E17: 297.97 | F17: 894.97 | G17: 1101.97 | H17: 1101.97 | I17: =SUMIF('Export tableur'!$Z:$Z,$C17,'Export tableur'!$AB:$AB) -> 1101.97
C18: 60310000_4300 | E18: 0 | F18: -4938.99 | G18: -7078.82 | H18: 2851.45 | I18: =SUMIF('Export tableur'!$Z:$Z,$C18,'Export tableur'!$AB:$AB) -> 2851.45
C19: 60320000_4300 | E19: 0 | F19: -1102.15 | G19: -2494.46 | H19: 991.33 | I19: =SUMIF('Export tableur'!$Z:$Z,$C19,'Export tableur'!$AB:$AB) -> 991.33
C20: 60330000_4300 | E20: 0 | F20: 0 | G20: 0 | H20: 0 | I20: =SUMIF('Export tableur'!$Z:$Z,$C20,'Export tableur'!$AB:$AB) -> 0
C21: 60370000_4300 | E21: 0 | F21: -117521.76 | G21: -113260.1 | H21: 116350.54 | I21: =SUMIF('Export tableur'!$Z:$Z,$C21,'Export tableur'!$AB:$AB) -> 116350.54
C22: 60371000_4300 | E22: 0 | F22: -2217.75 | G22: -2814.63 | H22: 1612.5 | I22: =SUMIF('Export tableur'!$Z:$Z,$C22,'Export tableur'!$AB:$AB) -> 1612.5
C23: 60510000_4300 | E23: 0 | F23: 0 | G23: 247.68 | H23: 1014.9 | I23: =SUMIF('Export tableur'!$Z:$Z,$C23,'Export tableur'!$AB:$AB) -> 1014.9
C24: 60611100_4300 | E24: 4796.52 | F24: 9512.23 | G24: 13737.22 | H24: 14775.7 | I24: =SUMIF('Export tableur'!$Z:$Z,$C24,'Export tableur'!$AB:$AB) -> 14775.7
C25: 60612000_4300 | E25: 210 | F25: 420 | G25: 729.11 | H25: 939.11 | I25: =SUMIF('Export tableur'!$Z:$Z,$C25,'Export tableur'!$AB:$AB) -> 939.11
... C45: 61610000_4300 | E45: 1117 | F45: 2234 | G45: 3351 | H45: 4468 | I45: =SUMIF('Export tableur'!$Z:$Z,$C45,'Export tableur'!$AB:$AB) -> 4468
C46: 62110000_4300 | F46: 576.9 | G46: 576.9 | H46: 2233.28 | I46: =SUMIF('Export tableur'!$Z:$Z,$C46,'Export tableur'!$AB:$AB) -> 2233.28
C47: 62112000_4300 | E47: 0 | F47: 0 | G47: 0 | H47: 0 | I47: =SUMIF('Export tableur'!$Z:$Z,$C47,'Export tableur'!$AB:$AB) -> 0
C48: 62210000_4300 | E48: 179 | F48: 358 | G48: 537 | H48: 537 | I48: =SUMIF('Export tableur'!$Z:$Z,$C48,'Export tableur'!$AB:$AB) -> 537
C49: 62220000_4300 | E49: 681.14 | F49: 1622.53 | G49: 2012.55 | H49: 3703.11 | I49: =SUMIF('Export tableur'!$Z:$Z,$C49,'Export tableur'!$AB:$AB) -> 3703.11
C50: 62230000_4300 | E50: 0 | F50: 297.5 | G50: 297.5 | H50: 446.25 | I50: =SUMIF('Export tableur'!$Z:$Z,$C50,'Export tableur'!$AB:$AB) -> 446.25
C51: 62261000_4300 | E51: 0 | F51: 0 | G51: 0 | H51: 0 | I51: =SUMIF('Export tableur'!$Z:$Z,$C51,'Export tableur'!$AB:$AB) -> 0
C52: 62261300_4300 | E52: 0 | F52: 0 | G52: 0 | H52: 0 | I52: =SUMIF('Export tableur'!$Z:$Z,$C52,'Export tableur'!$AB:$AB) -> 0
C53: 62320000_4300 | E53: 0 | F53: 0 | G53: 0 | H53: 0 | I53: =SUMIF('Export tableur'!$Z:$Z,$C53,'Export tableur'!$AB:$AB) -> 0
C54: 62333300_4300 | E54: 453.3 | F54: 1374.97 | G54: 2793.93 | H54: 2793.93 | I54: =SUMIF('Export tableur'!$Z:$Z,$C54,'Export tableur'!$AB:$AB) -> 2793.93
C55: 62350000_4300 | E55: 247.33 | F55: 494.66 | G55: 741.99 | H55: 989.33 | I55: =SUMIF('Export tableur'!$Z:$Z,$C55,'Export tableur'!$AB:$AB) -> 989.33
C56: 62361000_4300 | E56: 0 | F56: 323 | G56: 388 | H56: 388 | I56: =SUMIF('Export tableur'!$Z:$Z,$C56,'Export tableur'!$AB:$AB) -> 388
C57: 62411100_4300 | E57: 52.5 | F57: 101.5 | G57: 234 | H57: 389.63 | I57: =SUMIF('Export tableur'!$Z:$Z,$C57,'Export tableur'!$AB:$AB) -> 389.63
C58: 62512000_4300 | E58: 0 | F58: 20.1 | G58: 20.1 | H58: 56.46 | I58: =SUMIF('Export tableur'!$Z:$Z,$C58,'Export tableur'!$AB:$AB) -> 56.46
... C172: 62782000_4300 | E172: 374.48 | F172: 385.86 | G172: 567.6 | H172: 631.32 | I172: =SUMIF('Export tableur'!$Z:$Z,$C172,'Export tableur'!$AB:$AB) -> 631.32
C173: 79100000_4300 | F173: -3.06 | G173: -4.81 | H173: -23.82 | I173: =SUMIF('Export tableur'!$Z:$Z,$C173,'Export tableur'!$AB:$AB) -> -23.82
C174: 60700000_4300 | H174: 171 | I174: =SUMIF('Export tableur'!$Z:$Z,$C174,'Export tableur'!$AB:$AB) -> 171
C175: 60740000_4300 | H175: 308.16 | I175: =SUMIF('Export tableur'!$Z:$Z,$C175,'Export tableur'!$AB:$AB) -> 308.16
C176: 70611000_4310 | H176: -37615.34 | I176: =SUMIF('Export tableur'!$Z:$Z,$C176,'Export tableur'!$AB:$AB) -> -37615.34
C177: 70621000_4310 | H177: -13634.67 | I177: =SUMIF('Export tableur'!$Z:$Z,$C177,'Export tableur'!$AB:$AB) -> -13634.67
C178: 64120000_4312 | H178: 145.01 | I178: =SUMIF('Export tableur'!$Z:$Z,$C178,'Export tableur'!$AB:$AB) -> 145.01
C179: 64130000_4312 | H179: 20.04 | I179: =SUMIF('Export tableur'!$Z:$Z,$C179,'Export tableur'!$AB:$AB) -> 20.04

Sheet Balance SIEGE
D2: Résultat BG | E2: =SUMIF($C$13:$C$206,"6*",E$14:E$206)+SUMIF($C$13:$C$206,"7*",E$14:E$206) -> 126737.65 | F2: =SUMIF($C$13:$C$206,"6*",F$14:F$206)+SUMIF($C$13:$C$206,"7*",F$14:F$206) -> 226532.76 | G2: =SUMIF($C$13:$C$206,"6*",G$14:G$206)+SUMIF($C$13:$C$206,"7*",G$14:G$206) -> 361576.52 | H2: =SUMIF($C$13:$C$206,"6*",H$14:H$206)+SUMIF($C$13:$C$206,"7*",H$14:H$206) -> 232876.93 | I2: =SUMIF($C$13:$C$206,"6*",I$14:I$206)+SUMIF($C$13:$C$206,"7*",I$14:I$206) -> 232876.93 | J2: =SUMIF($C$13:$C$206,"6*",J$14:J$206)+SUMIF($C$13:$C$206,"7*",J$14:J$206) -> 0 | K2: =SUMIF($C$13:$C$206,"6*",K$14:K$206)+SUMIF($C$13:$C$206,"7*",K$14:K$206) -> 0 | L2: =SUMIF($C$13:$C$206,"6*",L$14:L$206)+SUMIF($C$13:$C$206,"7*",L$14:L$206) -> 0 | ... P2: =SUMIF($C$13:$C$206,"6*",P$14:P$206)+SUMIF($C$13:$C$206,"7*",P$14:P$206) -> 0
I3: =ROUND('Export tableur'!$AO$5-I2,0) -> -232877
I4: =ROUND((SUM(I$133:I$206)+'Balance R'!I2+'Balance A'!I2)-'Export tableur'!$AO$10,0) -> 578677
B5: ='[1]REPORTING SIEGE'!A2 -> 44682
D11: Total Selection Cumul | E11: =SUBTOTAL(9,E14:E921) -> -76432.04 | F11: =SUBTOTAL(9,F14:F921) -> 39057.06 | G11: =SUBTOTAL(9,G14:G921) -> 41303.76 | H11: =SUBTOTAL(9,H14:H921) -> -345571.48 | I11: =SUBTOTAL(9,I14:I921) -> -345571.48 | J11: =SUBTOTAL(9,J14:J921) -> 0 | K11: =SUBTOTAL(9,K14:K921) -> 0 | L11: =SUBTOTAL(9,L14:L921) -> 0 | ... P11: =SUBTOTAL(9,P14:P921) -> 0
D12: Total Sélection mois | E12: =SUBTOTAL(9,E14:E921) -> -76432.04 | F12: =+SUBTOTAL(9,F14:F921)-SUBTOTAL(9,E14:E921) -> 115489.1 | G12: =+SUBTOTAL(9,G14:G921)-SUBTOTAL(9,F14:F921) -> 2246.7 | H12: =+SUBTOTAL(9,H14:H921)-SUBTOTAL(9,G14:G921) -> -386875.24 | I12: =+SUBTOTAL(9,I14:I921)-SUBTOTAL(9,H14:H921) -> 0 | J12: =+SUBTOTAL(9,J14:J921)-SUBTOTAL(9,I14:I921) -> 345571.48 | K12: =+SUBTOTAL(9,K14:K921)-SUBTOTAL(9,J14:J921) -> 0 | L12: =+SUBTOTAL(9,L14:L921)-SUBTOTAL(9,K14:K921) -> 0 | M12: =+SUBTOTAL(9,M14:M921)-SUBTOTAL(9,L14:L921) -> 0 | ... P12: =+SUBTOTAL(9,P14:P921)-SUBTOTAL(9,O14:O921) -> 0
C13: Compte ana BAL | E13: 44562 | F13: 44593 | G13: 44621 | H13: 44652 | I13: 44682 | J13: 44713 | K13: 44743 | L13: 44774 | M13: 44805 | N13: 44835 | O13: 44866 | P13: 44896
C14: 10100000_ | E14: -505000 | F14: -505000 | G14: -505000 | H14: -4120480 | I14: =SUMIF('Export tableur'!$Z:$Z,$C14,'Export tableur'!$AB:$AB) -> -4120480
C15: 10610000_ | E15: -14101.54 | F15: -14101.54 | G15: -14101.54 | H15: 0 | I15: =SUMIF('Export tableur'!$Z:$Z,$C15,'Export tableur'!$AB:$AB) -> 0
C16: 10680000_ | E16: -267929.23 | F16: -267929.23 | G16: -267929.23 | H16: 0 | I16: =SUMIF('Export tableur'!$Z:$Z,$C16,'Export tableur'!$AB:$AB) -> 0
C17: 11910000_ | E17: 625132.5 | F17: 625132.5 | G17: 625132.5 | H17: 0 | I17: =SUMIF('Export tableur'!$Z:$Z,$C17,'Export tableur'!$AB:$AB) -> 0
C18: 12900000_ | E18: 1108049.2 | F18: 1108054.3 | G18: 1108054.3 | H18: 0 | I18: =SUMIF('Export tableur'!$Z:$Z,$C18,'Export tableur'!$AB:$AB) -> 0
C19: 13110000_ | E19: -12079 | F19: -12079 | G19: -12079 | H19: -12079 | I19: =SUMIF('Export tableur'!$Z:$Z,$C19,'Export tableur'!$AB:$AB) -> -12079
C20: 13910000_ | E20: 1092.07 | F20: 1092.07 | G20: 1092.07 | H20: 1092.07 | I20: =SUMIF('Export tableur'!$Z:$Z,$C20,'Export tableur'!$AB:$AB) -> 1092.07
C21: 16410000_ | E21: -263809.89 | F21: -259099.59 | G21: -254385.17 | H21: -249666.63 | I21: =SUMIF('Export tableur'!$Z:$Z,$C21,'Export tableur'!$AB:$AB) -> -249666.63
C22: 16419000_ | E22: -414000 | F22: -414000 | G22: -414000 | H22: -414000 | I22: =SUMIF('Export tableur'!$Z:$Z,$C22,'Export tableur'!$AB:$AB) -> -414000
C23: 16419100_ | E23: -364000 | F23: -364000 | G23: -331750 | H23: -331750 | I23: =SUMIF('Export tableur'!$Z:$Z,$C23,'Export tableur'!$AB:$AB) -> -331750
C24: 16710000_ | E24: -9900000 | F24: -9900000 | G24: -9900000 | H24: -9900000 | I24: =SUMIF('Export tableur'!$Z:$Z,$C24,'Export tableur'!$AB:$AB) -> -9900000
C25: 16810000_ | E25: -600000 | F25: -480000 | G25: -480000 | H25: -480000 | I25: =SUMIF('Export tableur'!$Z:$Z,$C25,'Export tableur'!$AB:$AB) -> -480000
... C100: 45560000_ | E100: 40000 | F100: 120000 | G100: 112000 | H100: 112000 | I100: =SUMIF('Export tableur'!$Z:$Z,$C100,'Export tableur'!$AB:$AB) -> 112000
C101: 45570000_ | G101: 11000 | H101: 11000 | I101: =SUMIF('Export tableur'!$Z:$Z,$C101,'Export tableur'!$AB:$AB) -> 11000
C102: 45581000_ | E102: 0 | F102: -12710 | G102: -19908 | H102: -26734 | I102: =SUMIF('Export tableur'!$Z:$Z,$C102,'Export tableur'!$AB:$AB) -> -26734
C103: 45582000_ | E103: 0 | F103: 3670 | G103: 5605 | H103: 7486 | I103: =SUMIF('Export tableur'!$Z:$Z,$C103,'Export tableur'!$AB:$AB) -> 7486
C104: 45583000_ | E104: 0 | F104: 1871 | G104: 2777 | H104: 3539 | I104: =SUMIF('Export tableur'!$Z:$Z,$C104,'Export tableur'!$AB:$AB) -> 3539
C105: 45584000_ | E105: 25545 | F105: 25545 | G105: 25545 | H105: 25545 | I105: =SUMIF('Export tableur'!$Z:$Z,$C105,'Export tableur'!$AB:$AB) -> 25545
C106: 45585000_ | E106: 0 | F106: -454 | G106: -658 | H106: -842 | I106: =SUMIF('Export tableur'!$Z:$Z,$C106,'Export tableur'!$AB:$AB) -> -842
C107: 45586000_ | F107: 54 | G107: 167 | H107: 275 | I107: =SUMIF('Export tableur'!$Z:$Z,$C107,'Export tableur'!$AB:$AB) -> 275
C108: 46711000_ | E108: -730.13 | F108: -109.4 | G108: 223.55 | H108: -612.3 | I108: =SUMIF('Export tableur'!$Z:$Z,$C108,'Export tableur'!$AB:$AB) -> -612.3
C109: 46870000_ | E109: 4646 | F109: 4646 | G109: 1324.59 | H109: 1324.59 | I109: =SUMIF('Export tableur'!$Z:$Z,$C109,'Export tableur'!$AB:$AB) -> 1324.59
C110: 47100000_ | E110: -67.25 | F110: -132.98 | G110: -285.99 | H110: -285.99 | I110: =SUMIF('Export tableur'!$Z:$Z,$C110,'Export tableur'!$AB:$AB) -> -285.99
C111: 48600000_ | E111: 11698.75 | F111: 9798.16 | G111: 12481.03 | H111: 8998.92 | I111: =SUMIF('Export tableur'!$Z:$Z,$C111,'Export tableur'!$AB:$AB) -> 8998.92
C112: 48700000_ | E112: 0 | F112: 0 | G112: 0 | H112: 0 | I112: =SUMIF('Export tableur'!$Z:$Z,$C112,'Export tableur'!$AB:$AB) -> 0
C113: 51181000_ | E113: 738.54 | F113: 1173.77 | G113: 720.87 | H113: 698.29 | I113: =SUMIF('Export tableur'!$Z:$Z,$C113,'Export tableur'!$AB:$AB) -> 698.29
C114: 51210000_ | E114: 35572.14 | F114: 29758.84 | G114: 31246.67 | H114: 369644.17 | I114: =SUMIF('Export tableur'!$Z:$Z,$C114,'Export tableur'!$AB:$AB) -> 369644.17
C115: 51260000_ | E115: 14703.29 | F115: 12241.87 | G115: 338.42 | H115: -26372.13 | I115: =SUMIF('Export tableur'!$Z:$Z,$C115,'Export tableur'!$AB:$AB) -> -26372.13
C116: 51270000_ | E116: 14679.79 | F116: 23272.55 | G116: 5288.17 | H116: 26597.56 | I116: =SUMIF('Export tableur'!$Z:$Z,$C116,'Export tableur'!$AB:$AB) -> 26597.56
C117: 51800000_ | E117: -2896.35 | F117: -2896.35 | G117: -2896.35 | H117: -2896.35 | I117: =SUMIF('Export tableur'!$Z:$Z,$C117,'Export tableur'!$AB:$AB) -> -2896.35
C118: 53110000_ | E118: 3168.22 | F118: 3168.22 | G118: 1882.85 | H118: 3353.21 | I118: =SUMIF('Export tableur'!$Z:$Z,$C118,'Export tableur'!$AB:$AB) -> 3353.21
C119: 53120000_ | E119: 100 | F119: 100 | G119: 100 | H119: 100 | I119: =SUMIF('Export tableur'!$Z:$Z,$C119,'Export tableur'!$AB:$AB) -> 100
... C130: 58730000_ | E130: 0 | F130: 100 | G130: 0 | H130: 560 | I130: =SUMIF('Export tableur'!$Z:$Z,$C130,'Export tableur'!$AB:$AB) -> 560
C131: 58110000_ | F131: 3251.69 | G131: 0 | H131: 0 | I131: =SUMIF('Export tableur'!$Z:$Z,$C131,'Export tableur'!$AB:$AB) -> 0
C132: 58810000_ | E132: 0 | F132: 0 | G132: 0 | H132: 0 | I132: =SUMIF('Export tableur'!$Z:$Z,$C132,'Export tableur'!$AB:$AB) -> 0
C133: 60120000_4000 | E133: 0 | F133: 0 | G133: 0 | H133: 0 | I133: =SUMIF('Export tableur'!$Z:$Z,$C133,'Export tableur'!$AB:$AB) -> 0
C134: 60310000_4000 | E134: 0 | F134: 0 | G134: 0 | H134: 0 | I134: =SUMIF('Export tableur'!$Z:$Z,$C134,'Export tableur'!$AB:$AB) -> 0
C135: 60370000_4000 | E135: 0 | F135: 0 | G135: 0 | H135: 0 | I135: =SUMIF('Export tableur'!$Z:$Z,$C135,'Export tableur'!$AB:$AB) -> 0
C136: 60371000_4000 | E136: 0 | F136: 0 | G136: 0 | H136: 0 | I136: =SUMIF('Export tableur'!$Z:$Z,$C136,'Export tableur'!$AB:$AB) -> 0
C137: 60611100_4000 | E137: 0 | F137: 0 | G137: 0 | H137: 0 | I137: =SUMIF('Export tableur'!$Z:$Z,$C137,'Export tableur'!$AB:$AB) -> 0
C138: 60613000_4000 | E138: 0 | F138: 0 | G138: 0 | H138: 266.71 | I138: =SUMIF('Export tableur'!$Z:$Z,$C138,'Export tableur'!$AB:$AB) -> 266.71
C139: 60630000_4000 | E139: 0 | F139: 262.28 | G139: 1378.27 | H139: 1657.2 | I139: =SUMIF('Export tableur'!$Z:$Z,$C139,'Export tableur'!$AB:$AB) -> 1657.2
C140: 60640000_4000 | E140: 169.18 | F140: 413.81 | G140: 1274.07 | H140: 1274.07 | I140: =SUMIF('Export tableur'!$Z:$Z,$C140,'Export tableur'!$AB:$AB) -> 1274.07
C141: 60641000_4000 | E141: 9.17 | F141: 9.17 | G141: 9.17 | H141: 9.17 | I141: =SUMIF('Export tableur'!$Z:$Z,$C141,'Export tableur'!$AB:$AB) -> 9.17
C142: 60710000_4000 | E142: 0 | F142: 0 | G142: 840 | H142: 840 | I142: =SUMIF('Export tableur'!$Z:$Z,$C142,'Export tableur'!$AB:$AB) -> 840
C143: 61100000_4000 | E143: 37 | F143: 37 | G143: 37 | H143: 37 | I143: =SUMIF('Export tableur'!$Z:$Z,$C143,'Export tableur'!$AB:$AB) -> 37
... C156: 62320000_4000 | E156: 4490 | F156: 8980 | G156: 13470 | H156: 13960 | I156: =SUMIF('Export tableur'!$Z:$Z,$C156,'Export tableur'!$AB:$AB) -> 13960
C157: 62333000_4000 | G157: 2500 | H157: 2500 | I157: =SUMIF('Export tableur'!$Z:$Z,$C157,'Export tableur'!$AB:$AB) -> 2500
C158: 62411100_4000 | E158: 0 | F158: 0 | G158: 160 | H158: 160 | I158: =SUMIF('Export tableur'!$Z:$Z,$C158,'Export tableur'!$AB:$AB) -> 160
C159: 62512000_4000 | E159: 1048.97 | F159: 1392.54 | G159: 5539.92 | H159: 6079.83 | I159: =SUMIF('Export tableur'!$Z:$Z,$C159,'Export tableur'!$AB:$AB) -> 6079.83
C160: 62515000_4000 | E160: 52.15 | F160: 52.15 | G160: 78.4 | H160: 104.65 | I160: =SUMIF('Export tableur'!$Z:$Z,$C160,'Export tableur'!$AB:$AB) -> 104.65
C161: 62573000_4000 | E161: 67 | F161: 963.18 | G161: 1033.59 | H161: 1131.5 | I161: =SUMIF('Export tableur'!$Z:$Z,$C161,'Export tableur'!$AB:$AB) -> 1131.5
C162: 62610010_4000 | E162: 144.16 | F162: 280.82 | G162: 400.82 | H162: 434.14 | I162: =SUMIF('Export tableur'!$Z:$Z,$C162,'Export tableur'!$AB:$AB) -> 434.14
C163: 62783000_4000 | E163: 0 | F163: 0 | G163: 0 | H163: 300.86 | I163: =SUMIF('Export tableur'!$Z:$Z,$C163,'Export tableur'!$AB:$AB) -> 300.86
C164: 62784000_4000 | E164: 831.78 | F164: 1129.71 | G164: 1249.61 | H164: 1249.61 | I164: =SUMIF('Export tableur'!$Z:$Z,$C164,'Export tableur'!$AB:$AB) -> 1249.61
C165: 62811000_4000 | E165: 0 | F165: 0 | G165: 0 | H165: 0 | I165: =SUMIF('Export tableur'!$Z:$Z,$C165,'Export tableur'!$AB:$AB) -> 0
C166: 63121000_4000 | E166: 114.99 | F166: 212.05 | G166: 296.31 | H166: 404.35 | I166: =SUMIF('Export tableur'!$Z:$Z,$C166,'Export tableur'!$AB:$AB) -> 404.35
C167: 63333000_4000 | E167: 270.51 | F167: 504.73 | G167: 718.22 | H167: 983.79 | I167: =SUMIF('Export tableur'!$Z:$Z,$C167,'Export tableur'!$AB:$AB) -> 983.79
C168: 63541000_4000 | E168: 0 | F168: 0 | G168: 2818.16 | H168: 2818.16 | I168: =SUMIF('Export tableur'!$Z:$Z,$C168,'Export tableur'!$AB:$AB) -> 2818.16
C169: 64111000_4000 | E169: 25564.02 | F169: 46784.55 | G169: 65019.44 | H169: 88595 | I169: =SUMIF('Export tableur'!$Z:$Z,$C169,'Export tableur'!$AB:$AB) -> 88595
... C182: 64751000_4000 | E182: 0 | F182: 134.75 | G182: 365.75 | H182: 500.5 | I182: =SUMIF('Export tableur'!$Z:$Z,$C182,'Export tableur'!$AB:$AB) -> 500.5
C183: 64800000_4000 | F183: 901.8 | G183: 901.8 | H183: 901.8 | I183: =SUMIF('Export tableur'!$Z:$Z,$C183,'Export tableur'!$AB:$AB) -> 901.8
C184: 65811000_4000 | E184: 0.64 | F184: 2.2 | G184: 4.3 | H184: 4.3 | I184: =SUMIF('Export tableur'!$Z:$Z,$C184,'Export tableur'!$AB:$AB) -> 4.3
C185: 66115000_4000 | E185: 0 | F185: 12710 | G185: 19908 | H185: 26734 | I185: =SUMIF('Export tableur'!$Z:$Z,$C185,'Export tableur'!$AB:$AB) -> 26734
C186: 66115500_4000 | E186: 0 | F186: 454 | G186: 658 | H186: 842 | I186: =SUMIF('Export tableur'!$Z:$Z,$C186,'Export tableur'!$AB:$AB) -> 842
C187: 66116190_4000 | E187: 362.25 | F187: 724.5 | G187: 1086.75 | H187: 1449 | I187: =SUMIF('Export tableur'!$Z:$Z,$C187,'Export tableur'!$AB:$AB) -> 1449
C188: 68111000_4000 | E188: 0 | F188: 0 | G188: 0 | H188: 533.15 | I188: =SUMIF('Export tableur'!$Z:$Z,$C188,'Export tableur'!$AB:$AB) -> 533.15
C189: 68112100_4000 | E189: 0 | F189: 0 | G189: 0 | H189: 1216.83 | I189: =SUMIF('Export tableur'!$Z:$Z,$C189,'Export tableur'!$AB:$AB) -> 1216.83
C190: 70623010_4000 | E190: 0 | F190: 0 | G190: 0 | H190: 0 | I190: =SUMIF('Export tableur'!$Z:$Z,$C190,'Export tableur'!$AB:$AB) -> 0
C191: 70623110_4000 | E191: 0 | F191: 0 | G191: 0 | H191: 0 | I191: =SUMIF('Export tableur'!$Z:$Z,$C191,'Export tableur'!$AB:$AB) -> 0
C192: 70851000_4000 | E192: -521.84 | F192: -1291.84 | G192: -2043.04 | H192: -2861.92 | I192: =SUMIF('Export tableur'!$Z:$Z,$C192,'Export tableur'!$AB:$AB) -> -2861.92
C193: 74100000_4000 | E193: 0 | F193: -2500 | G193: -2497 | H193: -2497 | I193: =SUMIF('Export tableur'!$Z:$Z,$C193,'Export tableur'!$AB:$AB) -> -2497
C194: 75810000_4000 | E194: -1.44 | F194: -2.24 | G194: -2.99 | H194: -4.77 | I194: =SUMIF('Export tableur'!$Z:$Z,$C194,'Export tableur'!$AB:$AB) -> -4.77
C195: 76880000_4000 | E195: 0 | F195: -3670 | G195: -5605 | H195: -7486 | I195: =SUMIF('Export tableur'!$Z:$Z,$C195,'Export tableur'!$AB:$AB) -> -7486
... C197: 76880200_4000 | E197: 0 | F197: 0 | G197: 0 | H197: 0 | I197: =SUMIF('Export tableur'!$Z:$Z,$C197,'Export tableur'!$AB:$AB) -> 0
C198: 76880300_4000 | F198: -54 | G198: -167 | H198: -275 | I198: =SUMIF('Export tableur'!$Z:$Z,$C198,'Export tableur'!$AB:$AB) -> -275
C199: 79100000_4000 | E199: 0 | F199: 0 | G199: 0 | H199: 0 | I199: =SUMIF('Export tableur'!$Z:$Z,$C199,'Export tableur'!$AB:$AB) -> 0
C200: 79100200_4000 | E200: 0 | F200: 0 | G200: 0 | H200: 0 | I200: =SUMIF('Export tableur'!$Z:$Z,$C200,'Export tableur'!$AB:$AB) -> 0
C201: 45587000_ | H201: 12 | I201: =SUMIF('Export tableur'!$Z:$Z,$C201,'Export tableur'!$AB:$AB) -> 12
C202: 63513000_4000 | H202: 280 | I202: =SUMIF('Export tableur'!$Z:$Z,$C202,'Export tableur'!$AB:$AB) -> 280
C203: 70720001_4000 | H203: -222.94 | I203: =SUMIF('Export tableur'!$Z:$Z,$C203,'Export tableur'!$AB:$AB) -> -222.94
C204: 70800000_4000 | H204: -260079 | I204: =SUMIF('Export tableur'!$Z:$Z,$C204,'Export tableur'!$AB:$AB) -> -260079
C205: 79100400_4000 | E205: 0 | F205: 0 | G205: 0 | H205: 0 | I205: =SUMIF('Export tableur'!$Z:$Z,$C205,'Export tableur'!$AB:$AB) -> 0
