Workbook

Sheet Export tableur
A1: Compteur Analytique | B1: Compte anal | C1: Section | D1: Solde | E1: Interrogation Analytique | I1: Exercice début | J1: 44562 | M1: =IF((R1-S1+T1)=0,0,1) -> 1 | N1: Ecart géné/ana | O1: Compteur d'écart | P1: 10100000 | R1: 1451156 | S1: 5066636 | T1: -505000 | W1: Max de comptes en camptabilité générale | AA1: 2000
A2: =+AA1-1 -> 1999 | B2: =IF(A2=A1,"",IF(LEFT(E2,1)="-",IF(+VALUE(RIGHT(LEFT(E2,3),1))<6,"",RIGHT(E2,LEN(E2)-2)),"")) | C2: =IF(A2="","",IFERROR(VLOOKUP(E2,'[1]Mapping '!$I$2:$J$19,2,FALSE),C1)) -> Section | D2: =IF(B2="",0,+K2-L2) -> 0 | I2: Période début | J2: 44562 | M2: =IF(VALUE(LEFT(P2,1))>=6,"",IF((R2-S2+T2)=0,+M1,+M1+1)) -> 1 | N2: =IFERROR(IF(VALUE(LEFT(P2,1))>=6,+R2-S2+T2-SUMIF(B:B,P2,D:D),0),"") -> 0 | O2: 0 | P2: 10610000 | R2: 14101.54 | S2: 0 | T2: -14101.54
A3: =IF(LEFT(E3,1)="-",IF(+VALUE(RIGHT(LEFT(E3,3),1))<6,+A2,+A2+1),+A2) -> 1999 | B3: =IF(A3=A2,"",IF(LEFT(E3,1)="-",IF(+VALUE(RIGHT(LEFT(E3,3),1))<6,"",RIGHT(E3,LEN(E3)-2)),"")) | C3: =IF(A3="","",IFERROR(VLOOKUP(E3,'[1]Mapping '!$I$2:$J$19,2,FALSE),C2)) -> Section | D3: =IF(B3="",0,+K3-L3) -> 0 | I3: Période fin | J3: 44681 | M3: =IF(VALUE(LEFT(P3,1))>=6,"",IF((R3-S3+T3)=0,+M2,+M2+1)) -> 1 | N3: =IFERROR(IF(VALUE(LEFT(P3,1))>=6,+R3-S3+T3-SUMIF(B:B,P3,D:D),0),"") -> 0 | O3: =IF(ROUND(N3,0)=0,+O2,+O2+1) -> 0 | P3: 10680000 | R3: 267929.23 | S3: 0 | T3: -267929.23
A4: =IF(LEFT(E4,1)="-",IF(+VALUE(RIGHT(LEFT(E4,3),1))<6,+A3,+A3+1),+A3) -> 1999 | B4: =IF(A4=A3,"",IF(LEFT(E4,1)="-",IF(+VALUE(RIGHT(LEFT(E4,3),1))<6,"",RIGHT(E4,LEN(E4)-2)),"")) | C4: =IF(A4="","",IFERROR(VLOOKUP(E4,'[1]Mapping '!$I$2:$J$19,2,FALSE),C3)) -> Section | D4: =IF(B4="",0,+K4-L4) -> 0 | M4: =IF(VALUE(LEFT(P4,1))>=6,"",IF((R4-S4+T4)=0,+M3,+M3+1)) -> 1 | N4: =IFERROR(IF(VALUE(LEFT(P4,1))>=6,+R4-S4+T4-SUMIF(B:B,P4,D:D),0),"") -> 0 | O4: =IF(ROUND(N4,0)=0,+O3,+O3+1) -> 0 | P4: 11910000 | R4: 1108054.3 | S4: 1733186.8 | T4: 625132.5
A5: =IF(LEFT(E5,1)="-",IF(+VALUE(RIGHT(LEFT(E5,3),1))<6,+A4,+A4+1),+A4) -> 1999 | B5: =IF(A5=A4,"",IF(LEFT(E5,1)="-",IF(+VALUE(RIGHT(LEFT(E5,3),1))<6,"",RIGHT(E5,LEN(E5)-2)),"")) | C5: =IF(A5="","",IFERROR(VLOOKUP(E5,'[1]Mapping '!$I$2:$J$19,2,FALSE),C4)) -> Section | D5: =IF(B5="",0,+K5-L5) -> 0 | G5: Solde période EUR | H5: Solde exercice EUR | I5: Solde saisi EUR | J5: Début période EUR | K5: Débit période EUR | L5: Crédit période EUR | M5: =IF(VALUE(LEFT(P5,1))>=6,"",IF((R5-S5+T5)=0,+M4,+M4+1)) -> 1 | N5: =IFERROR(IF(VALUE(LEFT(P5,1))>=6,+R5-S5+T5-SUMIF(B:B,P5,D:D),0),"") -> 0 | O5: =IF(ROUND(N5,0)=0,+O4,+O4+1) -> 0 | P5: 12000000 | R5: 0 | S5: 0 | T5: 0
A6: =IF(LEFT(E6,1)="-",IF(+VALUE(RIGHT(LEFT(E6,3),1))<6,+A5,+A5+1),+A5) -> 1999 | B6: =IF(A6=A5,"",IF(LEFT(E6,1)="-",IF(+VALUE(RIGHT(LEFT(E6,3),1))<6,"",RIGHT(E6,LEN(E6)-2)),"")) | C6: =IF(A6="","",IFERROR(VLOOKUP(E6,'[1]Mapping '!$I$2:$J$19,2,FALSE),C5)) -> 4000 | D6: =IF(B6="",0,+K6-L6) -> 0 | E6: 4000 | G6: -1255.42 | H6: -1255.42 | I6: -7853.58 | J6: 0 | K6: 1255.42 | L6: 0 | M6: =IF(VALUE(LEFT(P6,1))>=6,"",IF((R6-S6+T6)=0,+M5,+M5+1)) -> 1 | N6: =IFERROR(IF(VALUE(LEFT(P6,1))>=6,+R6-S6+T6-SUMIF(B:B,P6,D:D),0),"") -> 0 | O6: =IF(ROUND(N6,0)=0,+O5,+O5+1) -> 0 | P6: 12900000 | R6: 0 | S6: 1108054.3 | T6: 1108054.3
A7: =IF(LEFT(E7,1)="-",IF(+VALUE(RIGHT(LEFT(E7,3),1))<6,+A6,+A6+1),+A6) -> 2000 | B7: =IF(A7=A6,"",IF(LEFT(E7,1)="-",IF(+VALUE(RIGHT(LEFT(E7,3),1))<6,"",VALUE(RIGHT(E7,LEN(E7)-2))),"")) -> 62261300 | C7: =IF(A7="","",IFERROR(VLOOKUP(E7,'[1]Mapping '!$I$2:$J$19,2,FALSE),C6)) -> 4000 | D7: =IF(B7="",0,+K7-L7) -> 1255.42 | E7: --62261300 | G7: -1255.42 | H7: -1255.42 | I7: 179920.39 | J7: 0 | K7: 1255.42 | L7: 0 | M7: =IF(VALUE(LEFT(P7,1))>=6,"",IF((R7-S7+T7)=0,+M6,+M6+1)) -> 2 | N7: =IFERROR(IF(VALUE(LEFT(P7,1))>=6,+R7-S7+T7-SUMIF(B:B,P7,D:D),0),"") -> 0 | O7: =IF(ROUND(N7,0)=0,+O6,+O6+1) -> 0 | P7: 13110000 | R7: 0 | S7: 0 | T7: -12079
A8: =IF(LEFT(E8,1)="-",IF(+VALUE(RIGHT(LEFT(E8,3),1))<6,+A7,+A7+1),+A7) -> 2000 | B8: =IF(A8=A7,"",IF(LEFT(E8,1)="-",IF(+VALUE(RIGHT(LEFT(E8,3),1))<6,"",VALUE(RIGHT(E8,LEN(E8)-2))),"")) | C8: =IF(A8="","",IFERROR(VLOOKUP(E8,'[1]Mapping '!$I$2:$J$19,2,FALSE),C7)) -> 4000 | D8: =IF(B8="",0,+K8-L8) -> 0 | E8: 4000 | G8: -402 | H8: -402 | I8: -3339 | J8: 0 | K8: 402 | L8: 0 | M8: =IF(VALUE(LEFT(P8,1))>=6,"",IF((R8-S8+T8)=0,+M7,+M7+1)) -> 3 | N8: =IFERROR(IF(VALUE(LEFT(P8,1))>=6,+R8-S8+T8-SUMIF(B:B,P8,D:D),0),"") -> 0 | O8: =IF(ROUND(N8,0)=0,+O7,+O7+1) -> 0 | P8: 13910000 | R8: 0 | S8: 0 | T8: 1092.07
A9: =IF(E9="","",IF(LEFT(E9,1)="-",IF(+VALUE(RIGHT(LEFT(E9,3),1))<6,+A8,+A8+1),+A8)) -> 2001 | B9: =IF(A9=A8,"",IF(LEFT(E9,1)="-",IF(+VALUE(RIGHT(LEFT(E9,3),1))<6,"",VALUE(RIGHT(E9,LEN(E9)-2))),"")) -> 60630000 | C9: =IF(A9="","",IFERROR(VLOOKUP(E9,'[1]Mapping '!$I$2:$J$19,2,FALSE),C8)) -> 4000 | D9: =IF(B9="",0,+K9-L9) -> 7.58 | E9: --60630000 | G9: -7.58 | H9: -7.58 | I9: 12483.04 | J9: 0 | K9: 7.58 | L9: 0 | M9: =IF(VALUE(LEFT(P9,1))>=6,"",IF((R9-S9+T9)=0,+M8,+M8+1)) -> 4 | N9: =IFERROR(IF(VALUE(LEFT(P9,1))>=6,+R9-S9+T9-SUMIF(B:B,P9,D:D),0),"") -> 0 | O9: =IF(ROUND(N9,0)=0,+O8,+O8+1) -> 0 | P9: 16410000 | R9: 18849.44 | S9: 0 | T9: -268516.07
A10: =IF(E10="","",IF(LEFT(E10,1)="-",IF(+VALUE(RIGHT(LEFT(E10,3),1))<6,+A9,+A9+1),+A9)) -> 2002 | B10: =IF(A10=A9,"",IF(LEFT(E10,1)="-",IF(+VALUE(RIGHT(LEFT(E10,3),1))<6,"",VALUE(RIGHT(E10,LEN(E10)-2))),"")) -> 62261300 | C10: =IF(A10="","",IFERROR(VLOOKUP(E10,'[1]Mapping '!$I$2:$J$19,2,FALSE),C9)) -> 4000 | D10: =IF(B10="",0,+K10-L10) -> 394.42 | E10: --62261300 | G10: -394.42 | H10: -394.42 | I10: 179920.39 | J10: 0 | K10: 394.42 | L10: 0 | M10: =IF(VALUE(LEFT(P10,1))>=6,"",IF((R10-S10+T10)=0,+M9,+M9+1)) -> 5 | N10: =IFERROR(IF(VALUE(LEFT(P10,1))>=6,+R10-S10+T10-SUMIF(B:B,P10,D:D),0),"") -> 0 | O10: =IF(ROUND(N10,0)=0,+O9,+O9+1) -> 0 | P10: 16419000 | R10: 0 | S10: 0 | T10: -414000
A11: =IF(E11="","",IF(LEFT(E11,1)="-",IF(+VALUE(RIGHT(LEFT(E11,3),1))<6,+A10,+A10+1),+A10)) -> 2002 | B11: =IF(A11=A10,"",IF(LEFT(E11,1)="-",IF(+VALUE(RIGHT(LEFT(E11,3),1))<6,"",VALUE(RIGHT(E11,LEN(E11)-2))),"")) | C11: =IF(A11="","",IFERROR(VLOOKUP(E11,'[1]Mapping '!$I$2:$J$19,2,FALSE),C10)) -> 4000 | D11: =IF(B11="",0,+K11-L11) -> 0 | E11: 4000 | G11: -137102.31 | H11: -137102.31 | I11: 138681.68 | J11: 0 | K11: 552760.16 | L11: 415657.85 | M11: =IF(VALUE(LEFT(P11,1))>=6,"",IF((R11-S11+T11)=0,+M10,+M10+1)) -> 6 | N11: =IFERROR(IF(VALUE(LEFT(P11,1))>=6,+R11-S11+T11-SUMIF(B:B,P11,D:D),0),"") -> 0 | O11: =IF(ROUND(N11,0)=0,+O10,+O10+1) -> 0 | P11: 16419100 | R11: 32250 | S11: 0 | T11: -364000
A12: =IF(E12="","",IF(LEFT(E12,1)="-",IF(+VALUE(RIGHT(LEFT(E12,3),1))<6,+A11,+A11+1),+A11)) -> 2003 | B12: =IF(A12=A11,"",IF(LEFT(E12,1)="-",IF(+VALUE(RIGHT(LEFT(E12,3),1))<6,"",VALUE(RIGHT(E12,LEN(E12)-2))),"")) -> 60613000 | C12: =IF(A12="","",IFERROR(VLOOKUP(E12,'[1]Mapping '!$I$2:$J$19,2,FALSE),C11)) -> 4000 | D12: =IF(B12="",0,+K12-L12) -> 266.71 | E12: --60613000 | G12: -266.71 | H12: -266.71 | I12: 7223.14 | J12: 0 | K12: 266.71 | L12: 0 | M12: =IF(VALUE(LEFT(P12,1))>=6,"",IF((R12-S12+T12)=0,+M11,+M11+1)) -> 7 | N12: =IFERROR(IF(VALUE(LEFT(P12,1))>=6,+R12-S12+T12-SUMIF(B:B,P12,D:D),0),"") -> 0 | O12: =IF(ROUND(N12,0)=0,+O11,+O11+1) -> 0 | P12: 16710000 | R12: 0 | S12: 0 | T12: -9900000
A13: =IF(E13="","",IF(LEFT(E13,1)="-",IF(+VALUE(RIGHT(LEFT(E13,3),1))<6,+A12,+A12+1),+A12)) -> 2004 | B13: =IF(A13=A12,"",IF(LEFT(E13,1)="-",IF(+VALUE(RIGHT(LEFT(E13,3),1))<6,"",VALUE(RIGHT(E13,LEN(E13)-2))),"")) -> 60630000 | C13: =IF(A13="","",IFERROR(VLOOKUP(E13,'[1]Mapping '!$I$2:$J$19,2,FALSE),C12)) -> 4000 | D13: =IF(B13="",0,+K13-L13) -> 1316.47 | E13: --60630000 | G13: -1316.47 | H13: -1316.47 | I13: 12483.04 | J13: 0 | K13: 1480.47 | L13: 164 | M13: =IF(VALUE(LEFT(P13,1))>=6,"",IF((R13-S13+T13)=0,+M12,+M12+1)) -> 8 | N13: =IFERROR(IF(VALUE(LEFT(P13,1))>=6,+R13-S13+T13-SUMIF(B:B,P13,D:D),0),"") -> 0 | O13: =IF(ROUND(N13,0)=0,+O12,+O12+1) -> 0 | P13: 16810000 | R13: 120000 | S13: 0 | T13: -600000
A14: =IF(E14="","",IF(LEFT(E14,1)="-",IF(+VALUE(RIGHT(LEFT(E14,3),1))<6,+A13,+A13+1),+A13)) -> 2005 | B14: =IF(A14=A13,"",IF(LEFT(E14,1)="-",IF(+VALUE(RIGHT(LEFT(E14,3),1))<6,"",VALUE(RIGHT(E14,LEN(E14)-2))),"")) -> 60640000 | C14: =IF(A14="","",IFERROR(VLOOKUP(E14,'[1]Mapping '!$I$2:$J$19,2,FALSE),C13)) -> 4000 | D14: =IF(B14="",0,+K14-L14) -> 1274.07 | E14: --60640000 | G14: -1274.07 | H14: -1274.07 | I14: 3689.15 | J14: 0 | K14: 1274.07 | L14: 0 | M14: =IF(VALUE(LEFT(P14,1))>=6,"",IF((R14-S14+T14)=0,+M13,+M13+1)) -> 9 | N14: =IFERROR(IF(VALUE(LEFT(P14,1))>=6,+R14-S14+T14-SUMIF(B:B,P14,D:D),0),"") -> 0 | O14: =IF(ROUND(N14,0)=0,+O13,+O13+1) -> 0 | P14: 16820000 | R14: 0 | S14: 0 | T14: -220000
A15: =IF(E15="","",IF(LEFT(E15,1)="-",IF(+VALUE(RIGHT(LEFT(E15,3),1))<6,+A14,+A14+1),+A14)) -> 2006 | B15: =IF(A15=A14,"",IF(LEFT(E15,1)="-",IF(+VALUE(RIGHT(LEFT(E15,3),1))<6,"",VALUE(RIGHT(E15,LEN(E15)-2))),"")) -> 60641000 | C15: =IF(A15="","",IFERROR(VLOOKUP(E15,'[1]Mapping '!$I$2:$J$19,2,FALSE),C14)) -> 4000 | D15: =IF(B15="",0,+K15-L15) -> 9.17 | E15: --60641000 | G15: -9.17 | H15: -9.17 | I15: 68.91 | J15: 0 | K15: 9.17 | L15: 0 | M15: =IF(VALUE(LEFT(P15,1))>=6,"",IF((R15-S15+T15)=0,+M14,+M14+1)) -> 9 | N15: =IFERROR(IF(VALUE(LEFT(P15,1))>=6,+R15-S15+T15-SUMIF(B:B,P15,D:D),0),"") -> 0 | O15: =IF(ROUND(N15,0)=0,+O14,+O14+1) -> 0 | P15: 16884100 | R15: 0 | S15: 0 | T15: 0 | W15: Compteur | X15: Compte | Y15: Analytique | Z15: CG+CA | AA15: Libellé | AB15: Montant (+/-)
A16: =IF(E16="","",IF(LEFT(E16,1)="-",IF(+VALUE(RIGHT(LEFT(E16,3),1))<6,+A15,+A15+1),+A15)) -> 2007 | B16: =IF(A16=A15,"",IF(LEFT(E16,1)="-",IF(+VALUE(RIGHT(LEFT(E16,3),1))<6,"",VALUE(RIGHT(E16,LEN(E16)-2))),"")) -> 60710000 | C16: =IF(A16="","",IFERROR(VLOOKUP(E16,'[1]Mapping '!$I$2:$J$19,2,FALSE),C15)) -> 4000 | D16: =IF(B16="",0,+K16-L16) -> 840 | E16: --60710000 | G16: -840 | H16: -840 | I16: 11890.73 | J16: 0 | K16: 840 | L16: 0 | M16: =IF(VALUE(LEFT(P16,1))>=6,"",IF((R16-S16+T16)=0,+M15,+M15+1)) -> 10 | N16: =IFERROR(IF(VALUE(LEFT(P16,1))>=6,+R16-S16+T16-SUMIF(B:B,P16,D:D),0),"") -> 0 | O16: =IF(ROUND(N16,0)=0,+O15,+O15+1) -> 0 | P16: 20501000 | R16: 0 | S16: 0 | T16: 15042.88 | U16: =IF(ISNA(VLOOKUP(Z16,'Balance SIEGE'!$C$14:$E$205,3,FALSE))=FALSE,U15,U15+1) -> 0 | W16: 1 | X16: =IF(W16<$AA$1,VLOOKUP(W16,M:P,4,FALSE),VLOOKUP(W16,A:B,2,FALSE)) -> 10100000 | Y16: =IF(W16<$AA$1,"",VLOOKUP(W16,A:C,3,FALSE)) | Z16: =CONCATENATE(X16,"_",Y16) -> 10100000_ | AA16: =IF(W16<$AA$1,VLOOKUP(W16,M:Q,5,FALSE),VLOOKUP(W16,A:F,6,FALSE)) -> 0 | AB16: =IF(W16<$AA$1,SUMIF(P:P,$X16,R:R)-SUMIF(P:P,$X16,S:S)+SUMIF(P:P,$X16,T:T),SUMIF(A:A,$W16,D:D)) -> -4120480 | AC16: =LEFT(X16,1) -> 1 | AD16: =LEFT(Y16,2)
A17: =IF(E17="","",IF(LEFT(E17,1)="-",IF(+VALUE(RIGHT(LEFT(E17,3),1))<6,+A16,+A16+1),+A16)) -> 2008 | B17: =IF(A17=A16,"",IF(LEFT(E17,1)="-",IF(+VALUE(RIGHT(LEFT(E17,3),1))<6,"",VALUE(RIGHT(E17,LEN(E17)-2))),"")) -> 61100000 | C17: =IF(A17="","",IFERROR(VLOOKUP(E17,'[1]Mapping '!$I$2:$J$19,2,FALSE),C16)) -> 4000 | D17: =IF(B17="",0,+K17-L17) -> 37 | E17: --61100000 | G17: -37 | H17: -37 | I17: 1079.15 | J17: 0 | K17: 37 | L17: 0 | M17: =IF(VALUE(LEFT(P17,1))>=6,"",IF((R17-S17+T17)=0,+M16,+M16+1)) -> 11 | N17: =IFERROR(IF(VALUE(LEFT(P17,1))>=6,+R17-S17+T17-SUMIF(B:B,P17,D:D),0),"") -> 0 | O17: =IF(ROUND(N17,0)=0,+O16,+O16+1) -> 0 | P17: 20502000 | R17: 2868 | S17: 0 | T17: 1199.76 | U17: =IF(ISNA(VLOOKUP(Z17,'Balance SIEGE'!$C$14:$E$205,3,FALSE))=FALSE,U16,U16+1) -> 0 | W17: =IFERROR(IF(W16+1>MAX(A:A),"",IF(+W16+1<=MAX(M:M),+W16+1,IF(W16=MAX(M:M),$AA$1,+W16+1))),"") -> 2 | X17: =IF(W17<$AA$1,VLOOKUP(W17,M:P,4,FALSE),VLOOKUP(W17,A:B,2,FALSE)) -> 13110000 | Y17: =IF(W17<$AA$1,"",VLOOKUP(W17,A:C,3,FALSE)) | Z17: =CONCATENATE(X17,"_",Y17) -> 13110000_ | AA17: =IF(W17<$AA$1,VLOOKUP(W17,M:Q,5,FALSE),VLOOKUP(W17,A:F,6,FALSE)) -> 0 | AB17: =IF(W17<$AA$1,SUMIF(P:P,$X17,R:R)-SUMIF(P:P,$X17,S:S)+SUMIF(P:P,$X17,T:T),SUMIF(A:A,$W17,D:D)) -> -12079 | AC17: =LEFT(X17,1) -> 1 | AD17: =LEFT(Y17,2)
A18: =IF(E18="","",IF(LEFT(E18,1)="-",IF(+VALUE(RIGHT(LEFT(E18,3),1))<6,+A17,+A17+1),+A17)) -> 2009 | B18: =IF(A18=A17,"",IF(LEFT(E18,1)="-",IF(+VALUE(RIGHT(LEFT(E18,3),1))<6,"",VALUE(RIGHT(E18,LEN(E18)-2))),"")) -> 61320000 | C18: =IF(A18="","",IFERROR(VLOOKUP(E18,'[1]Mapping '!$I$2:$J$19,2,FALSE),C17)) -> 4000 | D18: =IF(B18="",0,+K18-L18) -> 4732.31 | E18: --61320000 | G18: -4732.31 | H18: -4732.31 | I18: 7098.46 | J18: 0 | K18: 10647.69 | L18: 5915.38 | M18: =IF(VALUE(LEFT(P18,1))>=6,"",IF((R18-S18+T18)=0,+M17,+M17+1)) -> 12 | N18: =IFERROR(IF(VALUE(LEFT(P18,1))>=6,+R18-S18+T18-SUMIF(B:B,P18,D:D),0),"") -> 0 | O18: =IF(ROUND(N18,0)=0,+O17,+O17+1) -> 0 | P18: 20700000 | R18: 0 | S18: 0 | T18: 347888.57 | U18: =IF(ISNA(VLOOKUP(Z18,'Balance SIEGE'!$C$14:$E$205,3,FALSE))=FALSE,U17,U17+1) -> 0 | W18: =IFERROR(IF(W17+1>MAX(A:A),"",IF(+W17+1<=MAX(M:M),+W17+1,IF(W17=MAX(M:M),$AA$1,+W17+1))),"") -> 3 | X18: =IF(W18<$AA$1,VLOOKUP(W18,M:P,4,FALSE),VLOOKUP(W18,A:B,2,FALSE)) -> 13910000 | Y18: =IF(W18<$AA$1,"",VLOOKUP(W18,A:C,3,FALSE)) | Z18: =CONCATENATE(X18,"_",Y18) -> 13910000_ | AA18: =IF(W18<$AA$1,VLOOKUP(W18,M:Q,5,FALSE),VLOOKUP(W18,A:F,6,FALSE)) -> 0 | AB18: =IF(W18<$AA$1,SUMIF(P:P,$X18,R:R)-SUMIF(P:P,$X18,S:S)+SUMIF(P:P,$X18,T:T),SUMIF(A:A,$W18,D:D)) -> 1092.07 | AC18: =LEFT(X18,1) -> 1 | AD18: =LEFT(Y18,2)
A19: =IF(E19="","",IF(LEFT(E19,1)="-",IF(+VALUE(RIGHT(LEFT(E19,3),1))<6,+A18,+A18+1),+A18)) -> 2010 | B19: =IF(A19=A18,"",IF(LEFT(E19,1)="-",IF(+VALUE(RIGHT(LEFT(E19,3),1))<6,"",VALUE(RIGHT(E19,LEN(E19)-2))),"")) -> 61400000 | C19: =IF(A19="","",IFERROR(VLOOKUP(E19,'[1]Mapping '!$I$2:$J$19,2,FALSE),C18)) -> 4000 | D19: =IF(B19="",0,+K19-L19) -> 2085.33 | E19: --61400000 | G19: -2085.33 | H19: -2085.33 | I19: 3128 | J19: 0 | K19: 4692 | L19: 2606.67 | M19: =IF(VALUE(LEFT(P19,1))>=6,"",IF((R19-S19+T19)=0,+M18,+M18+1)) -> 13 | N19: =IFERROR(IF(VALUE(LEFT(P19,1))>=6,+R19-S19+T19-SUMIF(B:B,P19,D:D),0),"") -> 0 | O19: =IF(ROUND(N19,0)=0,+O18,+O18+1) -> 0 | P19: 20710000 | R19: 0 | S19: 0 | T19: 1028562 | U19: =IF(ISNA(VLOOKUP(Z19,'Balance SIEGE'!$C$14:$E$205,3,FALSE))=FALSE,U18,U18+1) -> 0 | W19: =IFERROR(IF(W18+1>MAX(A:A),"",IF(+W18+1<=MAX(M:M),+W18+1,IF(W18=MAX(M:M),$AA$1,+W18+1))),"") -> 4 | X19: =IF(W19<$AA$1,VLOOKUP(W19,M:P,4,FALSE),VLOOKUP(W19,A:B,2,FALSE)) -> 16410000 | Y19: =IF(W19<$AA$1,"",VLOOKUP(W19,A:C,3,FALSE)) | Z19: =CONCATENATE(X19,"_",Y19) -> 16410000_ | AA19: =IF(W19<$AA$1,VLOOKUP(W19,M:Q,5,FALSE),VLOOKUP(W19,A:F,6,FALSE)) -> 0 | AB19: =IF(W19<$AA$1,SUMIF(P:P,$X19,R:R)-SUMIF(P:P,$X19,S:S)+SUMIF(P:P,$X19,T:T),SUMIF(A:A,$W19,D:D)) -> -249666.63 | AC19: =LEFT(X19,1) -> 1 | AD19: =LEFT(Y19,2)
A20: =IF(E20="","",IF(LEFT(E20,1)="-",IF(+VALUE(RIGHT(LEFT(E20,3),1))<6,+A19,+A19+1),+A19)) -> 2011 | B20: =IF(A20=A19,"",IF(LEFT(E20,1)="-",IF(+VALUE(RIGHT(LEFT(E20,3),1))<6,"",VALUE(RIGHT(E20,LEN(E20)-2))),"")) -> 61510000 | C20: =IF(A20="","",IFERROR(VLOOKUP(E20,'[1]Mapping '!$I$2:$J$19,2,FALSE),C19)) -> 4000 | D20: =IF(B20="",0,+K20-L20) -> 2547.66 | E20: --61510000 | G20: -2547.66 | H20: -2547.66 | I20: 9904.95 | J20: 0 | K20: 3901.66 | L20: 1354 | M20: =IF(VALUE(LEFT(P20,1))>=6,"",IF((R20-S20+T20)=0,+M19,+M19+1)) -> 13 | N20: =IFERROR(IF(VALUE(LEFT(P20,1))>=6,+R20-S20+T20-SUMIF(B:B,P20,D:D),0),"") -> 0 | O20: =IF(ROUND(N20,0)=0,+O19,+O19+1) -> 0 | P20: 20720000 | R20: 0 | S20: 0 | T20: 0 | U20: =IF(ISNA(VLOOKUP(Z20,'Balance SIEGE'!$C$14:$E$205,3,FALSE))=FALSE,U19,U19+1) -> 0 | W20: =IFERROR(IF(W19+1>MAX(A:A),"",IF(+W19+1<=MAX(M:M),+W19+1,IF(W19=MAX(M:M),$AA$1,+W19+1))),"") -> 5 | X20: =IF(W20<$AA$1,VLOOKUP(W20,M:P,4,FALSE),VLOOKUP(W20,A:B,2,FALSE)) -> 16419000 | Y20: =IF(W20<$AA$1,"",VLOOKUP(W20,A:C,3,FALSE)) | Z20: =CONCATENATE(X20,"_",Y20) -> 16419000_ | AA20: =IF(W20<$AA$1,VLOOKUP(W20,M:Q,5,FALSE),VLOOKUP(W20,A:F,6,FALSE)) -> 0 | AB20: =IF(W20<$AA$1,SUMIF(P:P,$X20,R:R)-SUMIF(P:P,$X20,S:S)+SUMIF(P:P,$X20,T:T),SUMIF(A:A,$W20,D:D)) -> -414000 | AC20: =LEFT(X20,1) -> 1 | AD20: =LEFT(Y20,2)
A21: =IF(E21="","",IF(LEFT(E21,1)="-",IF(+VALUE(RIGHT(LEFT(E21,3),1))<6,+A20,+A20+1),+A20)) -> 2012 | B21: =IF(A21=A20,"",IF(LEFT(E21,1)="-",IF(+VALUE(RIGHT(LEFT(E21,3),1))<6,"",VALUE(RIGHT(E21,LEN(E21)-2))),"")) -> 61561000 | C21: =IF(A21="","",IFERROR(VLOOKUP(E21,'[1]Mapping '!$I$2:$J$19,2,FALSE),C20)) -> 4000 | D21: =IF(B21="",0,+K21-L21) -> 1124.06 | E21: --61561000 | G21: -1124.06 | H21: -1124.06 | I21: 6936.79 | J21: 0 | K21: 2650.49 | L21: 1526.43 | M21: =IF(VALUE(LEFT(P21,1))>=6,"",IF((R21-S21+T21)=0,+M20,+M20+1)) -> 14 | N21: =IFERROR(IF(VALUE(LEFT(P21,1))>=6,+R21-S21+T21-SUMIF(B:B,P21,D:D),0),"") -> 0 | O21: =IF(ROUND(N21,0)=0,+O20,+O20+1) -> 0 | P21: 21310000 | R21: 0 | S21: 0 | T21: 1909493.9 | U21: =IF(ISNA(VLOOKUP(Z21,'Balance SIEGE'!$C$14:$E$205,3,FALSE))=FALSE,U20,U20+1) -> 0 | W21: =IFERROR(IF(W20+1>MAX(A:A),"",IF(+W20+1<=MAX(M:M),+W20+1,IF(W20=MAX(M:M),$AA$1,+W20+1))),"") -> 6 | X21: =IF(W21<$AA$1,VLOOKUP(W21,M:P,4,FALSE),VLOOKUP(W21,A:B,2,FALSE)) -> 16419100 | Y21: =IF(W21<$AA$1,"",VLOOKUP(W21,A:C,3,FALSE)) | Z21: =CONCATENATE(X21,"_",Y21) -> 16419100_ | AA21: =IF(W21<$AA$1,VLOOKUP(W21,M:Q,5,FALSE),VLOOKUP(W21,A:F,6,FALSE)) -> 0 | AB21: =IF(W21<$AA$1,SUMIF(P:P,$X21,R:R)-SUMIF(P:P,$X21,S:S)+SUMIF(P:P,$X21,T:T),SUMIF(A:A,$W21,D:D)) -> -331750 | AC21: =LEFT(X21,1) -> 1 | AD21: =LEFT(Y21,2)
A22: =IF(E22="","",IF(LEFT(E22,1)="-",IF(+VALUE(RIGHT(LEFT(E22,3),1))<6,+A21,+A21+1),+A21)) -> 2013 | B22: =IF(A22=A21,"",IF(LEFT(E22,1)="-",IF(+VALUE(RIGHT(LEFT(E22,3),1))<6,"",VALUE(RIGHT(E22,LEN(E22)-2))),"")) -> 61610000 | C22: =IF(A22="","",IFERROR(VLOOKUP(E22,'[1]Mapping '!$I$2:$J$19,2,FALSE),C21)) -> 4000 | D22: =IF(B22="",0,+K22-L22) -> 585.37 | E22: --61610000 | G22: -585.37 | H22: -585.37 | I22: 20215.25 | J22: 0 | K22: 585.37 | L22: 0 | M22: =IF(VALUE(LEFT(P22,1))>=6,"",IF((R22-S22+T22)=0,+M21,+M21+1)) -> 15 | N22: =IFERROR(IF(VALUE(LEFT(P22,1))>=6,+R22-S22+T22-SUMIF(B:B,P22,D:D),0),"") -> 0 | O22: =IF(ROUND(N22,0)=0,+O21,+O21+1) -> 0 | P22: 21551000 | R22: 2744 | S22: 0 | T22: 91216.75 | U22: =IF(ISNA(VLOOKUP(Z22,'Balance SIEGE'!$C$14:$E$205,3,FALSE))=FALSE,U21,U21+1) -> 0 | W22: =IFERROR(IF(W21+1>MAX(A:A),"",IF(+W21+1<=MAX(M:M),+W21+1,IF(W21=MAX(M:M),$AA$1,+W21+1))),"") -> 7 | X22: =IF(W22<$AA$1,VLOOKUP(W22,M:P,4,FALSE),VLOOKUP(W22,A:B,2,FALSE)) -> 16710000 | Y22: =IF(W22<$AA$1,"",VLOOKUP(W22,A:C,3,FALSE)) | Z22: =CONCATENATE(X22,"_",Y22) -> 16710000_ | AA22: =IF(W22<$AA$1,VLOOKUP(W22,M:Q,5,FALSE),VLOOKUP(W22,A:F,6,FALSE)) -> 0 | AB22: =IF(W22<$AA$1,SUMIF(P:P,$X22,R:R)-SUMIF(P:P,$X22,S:S)+SUMIF(P:P,$X22,T:T),SUMIF(A:A,$W22,D:D)) -> -9900000 | AC22: =LEFT(X22,1) -> 1 | AD22: =LEFT(Y22,2)
A23: =IF(E23="","",IF(LEFT(E23,1)="-",IF(+VALUE(RIGHT(LEFT(E23,3),1))<6,+A22,+A22+1),+A22)) -> 2014 | B23: =IF(A23=A22,"",IF(LEFT(E23,1)="-",IF(+VALUE(RIGHT(LEFT(E23,3),1))<6,"",VALUE(RIGHT(E23,LEN(E23)-2))),"")) -> 61612000 | C23: =IF(A23="","",IFERROR(VLOOKUP(E23,'[1]Mapping '!$I$2:$J$19,2,FALSE),C22)) -> 4000 | D23: =IF(B23="",0,+K23-L23) -> 540 | E23: --61612000 | G23: -540 | H23: -540 | I23: 205 | J23: 0 | K23: 1822.5 | L23: 1282.5 | M23: =IF(VALUE(LEFT(P23,1))>=6,"",IF((R23-S23+T23)=0,+M22,+M22+1)) -> 16 | N23: =IFERROR(IF(VALUE(LEFT(P23,1))>=6,+R23-S23+T23-SUMIF(B:B,P23,D:D),0),"") -> 0 | O23: =IF(ROUND(N23,0)=0,+O22,+O22+1) -> 0 | P23: 21811000 | R23: 5894.98 | S23: 0 | T23: 1768772.5 | U23: =IF(ISNA(VLOOKUP(Z23,'Balance SIEGE'!$C$14:$E$205,3,FALSE))=FALSE,U22,U22+1) -> 0 | W23: =IFERROR(IF(W22+1>MAX(A:A),"",IF(+W22+1<=MAX(M:M),+W22+1,IF(W22=MAX(M:M),$AA$1,+W22+1))),"") -> 8 | X23: =IF(W23<$AA$1,VLOOKUP(W23,M:P,4,FALSE),VLOOKUP(W23,A:B,2,FALSE)) -> 16810000 | Y23: =IF(W23<$AA$1,"",VLOOKUP(W23,A:C,3,FALSE)) | Z23: =CONCATENATE(X23,"_",Y23) -> 16810000_ | AA23: =IF(W23<$AA$1,VLOOKUP(W23,M:Q,5,FALSE),VLOOKUP(W23,A:F,6,FALSE)) -> 0 | AB23: =IF(W23<$AA$1,SUMIF(P:P,$X23,R:R)-SUMIF(P:P,$X23,S:S)+SUMIF(P:P,$X23,T:T),SUMIF(A:A,$W23,D:D)) -> -480000 | AC23: =LEFT(X23,1) -> 1 | AD23: =LEFT(Y23,2)
A24: =IF(E24="","",IF(LEFT(E24,1)="-",IF(+VALUE(RIGHT(LEFT(E24,3),1))<6,+A23,+A23+1),+A23)) -> 2015 | B24: =IF(A24=A23,"",IF(LEFT(E24,1)="-",IF(+VALUE(RIGHT(LEFT(E24,3),1))<6,"",VALUE(RIGHT(E24,LEN(E24)-2))),"")) -> 62261000 | C24: =IF(A24="","",IFERROR(VLOOKUP(E24,'[1]Mapping '!$I$2:$J$19,2,FALSE),C23)) -> 4000 | D24: =IF(B24="",0,+K24-L24) -> 46949.5 | E24: --62261000 | G24: -46949.5 | H24: -46949.5 | I24: 46949.5 | J24: 0 | K24: 53558.78 | L24: 6609.28 | M24: =IF(VALUE(LEFT(P24,1))>=6,"",IF((R24-S24+T24)=0,+M23,+M23+1)) -> 17 | N24: =IFERROR(IF(VALUE(LEFT(P24,1))>=6,+R24-S24+T24-SUMIF(B:B,P24,D:D),0),"") -> 0 | O24: =IF(ROUND(N24,0)=0,+O23,+O23+1) -> 0 | P24: 21830000 | R24: 1278.17 | S24: 0 | T24: 26702.9 | U24: =IF(ISNA(VLOOKUP(Z24,'Balance SIEGE'!$C$14:$E$205,3,FALSE))=FALSE,U23,U23+1) -> 0 | W24: =IFERROR(IF(W23+1>MAX(A:A),"",IF(+W23+1<=MAX(M:M),+W23+1,IF(W23=MAX(M:M),$AA$1,+W23+1))),"") -> 9 | X24: =IF(W24<$AA$1,VLOOKUP(W24,M:P,4,FALSE),VLOOKUP(W24,A:B,2,FALSE)) -> 16820000 | Y24: =IF(W24<$AA$1,"",VLOOKUP(W24,A:C,3,FALSE)) | Z24: =CONCATENATE(X24,"_",Y24) -> 16820000_ | AA24: =IF(W24<$AA$1,VLOOKUP(W24,M:Q,5,FALSE),VLOOKUP(W24,A:F,6,FALSE)) -> 0 | AB24: =IF(W24<$AA$1,SUMIF(P:P,$X24,R:R)-SUMIF(P:P,$X24,S:S)+SUMIF(P:P,$X24,T:T),SUMIF(A:A,$W24,D:D)) -> -220000 | AC24: =LEFT(X24,1) -> 1 | AD24: =LEFT(Y24,2)
A25: =IF(E25="","",IF(LEFT(E25,1)="-",IF(+VALUE(RIGHT(LEFT(E25,3),1))<6,+A24,+A24+1),+A24)) -> 2016 | B25: =IF(A25=A24,"",IF(LEFT(E25,1)="-",IF(+VALUE(RIGHT(LEFT(E25,3),1))<6,"",VALUE(RIGHT(E25,LEN(E25)-2))),"")) -> 62261300 | C25: =IF(A25="","",IFERROR(VLOOKUP(E25,'[1]Mapping '!$I$2:$J$19,2,FALSE),C24)) -> 4000 | D25: =IF(B25="",0,+K25-L25) -> 173687.57 | E25: --62261300 | G25: -173687.57 | H25: -173687.57 | I25: 179920.39 | J25: 0 | K25: 257972.56 | L25: 84284.99 | M25: =IF(VALUE(LEFT(P25,1))>=6,"",IF((R25-S25+T25)=0,+M24,+M24+1)) -> 18 | N25: =IFERROR(IF(VALUE(LEFT(P25,1))>=6,+R25-S25+T25-SUMIF(B:B,P25,D:D),0),"") -> 0 | O25: =IF(ROUND(N25,0)=0,+O24,+O24+1) -> 0 | P25: 21840000 | R25: 0 | S25: 0 | T25: 87539.91 | U25: =IF(ISNA(VLOOKUP(Z25,'Balance SIEGE'!$C$14:$E$205,3,FALSE))=FALSE,U24,U24+1) -> 0 | W25: =IFERROR(IF(W24+1>MAX(A:A),"",IF(+W24+1<=MAX(M:M),+W24+1,IF(W24=MAX(M:M),$AA$1,+W24+1))),"") -> 10 | X25: =IF(W25<$AA$1,VLOOKUP(W25,M:P,4,FALSE),VLOOKUP(W25,A:B,2,FALSE)) -> 20501000 | Y25: =IF(W25<$AA$1,"",VLOOKUP(W25,A:C,3,FALSE)) | Z25: =CONCATENATE(X25,"_",Y25) -> 20501000_ | AA25: =IF(W25<$AA$1,VLOOKUP(W25,M:Q,5,FALSE),VLOOKUP(W25,A:F,6,FALSE)) -> 0 | AB25: =IF(W25<$AA$1,SUMIF(P:P,$X25,R:R)-SUMIF(P:P,$X25,S:S)+SUMIF(P:P,$X25,T:T),SUMIF(A:A,$W25,D:D)) -> 15042.88 | AC25: =LEFT(X25,1) -> 2 | AD25: =LEFT(Y25,2)
A26: =IF(E26="","",IF(LEFT(E26,1)="-",IF(+VALUE(RIGHT(LEFT(E26,3),1))<6,+A25,+A25+1),+A25)) -> 2017 | B26: =IF(A26=A25,"",IF(LEFT(E26,1)="-",IF(+VALUE(RIGHT(LEFT(E26,3),1))<6,"",VALUE(RIGHT(E26,LEN(E26)-2))),"")) -> 62261400 | C26: =IF(A26="","",IFERROR(VLOOKUP(E26,'[1]Mapping '!$I$2:$J$19,2,FALSE),C25)) -> 4000 | D26: =IF(B26="",0,+K26-L26) -> 76000 | E26: --62261400 | G26: -76000 | H26: -76000 | I26: 76000 | J26: 0 | K26: 76000 | L26: 0 | M26: =IF(VALUE(LEFT(P26,1))>=6,"",IF((R26-S26+T26)=0,+M25,+M25+1)) -> 19 | N26: =IFERROR(IF(VALUE(LEFT(P26,1))>=6,+R26-S26+T26-SUMIF(B:B,P26,D:D),0),"") -> 0 | O26: =IF(ROUND(N26,0)=0,+O25,+O25+1) -> 0 | P26: 23130000 | R26: 51928.03 | S26: 44370.25 | T26: 17863.61 | U26: =IF(ISNA(VLOOKUP(Z26,'Balance SIEGE'!$C$14:$E$205,3,FALSE))=FALSE,U25,U25+1) -> 0 | W26: =IFERROR(IF(W25+1>MAX(A:A),"",IF(+W25+1<=MAX(M:M),+W25+1,IF(W25=MAX(M:M),$AA$1,+W25+1))),"") -> 11 | X26: =IF(W26<$AA$1,VLOOKUP(W26,M:P,4,FALSE),VLOOKUP(W26,A:B,2,FALSE)) -> 20502000 | Y26: =IF(W26<$AA$1,"",VLOOKUP(W26,A:C,3,FALSE)) | Z26: =CONCATENATE(X26,"_",Y26) -> 20502000_ | AA26: =IF(W26<$AA$1,VLOOKUP(W26,M:Q,5,FALSE),VLOOKUP(W26,A:F,6,FALSE)) -> 0 | AB26: =IF(W26<$AA$1,SUMIF(P:P,$X26,R:R)-SUMIF(P:P,$X26,S:S)+SUMIF(P:P,$X26,T:T),SUMIF(A:A,$W26,D:D)) -> 4067.76 | AC26: =LEFT(X26,1) -> 2 | AD26: =LEFT(Y26,2)
A27: =IF(E27="","",IF(LEFT(E27,1)="-",IF(+VALUE(RIGHT(LEFT(E27,3),1))<6,+A26,+A26+1),+A26)) -> 2018 | B27: =IF(A27=A26,"",IF(LEFT(E27,1)="-",IF(+VALUE(RIGHT(LEFT(E27,3),1))<6,"",VALUE(RIGHT(E27,LEN(E27)-2))),"")) -> 62311000 | C27: =IF(A27="","",IFERROR(VLOOKUP(E27,'[1]Mapping '!$I$2:$J$19,2,FALSE),C26)) -> 4000 | D27: =IF(B27="",0,+K27-L27) -> 480 | E27: --62311000 | G27: -480 | H27: -480 | I27: 480 | J27: 0 | K27: 480 | L27: 0 | M27: =IF(VALUE(LEFT(P27,1))>=6,"",IF((R27-S27+T27)=0,+M26,+M26+1)) -> 19 | N27: =IFERROR(IF(VALUE(LEFT(P27,1))>=6,+R27-S27+T27-SUMIF(B:B,P27,D:D),0),"") -> 0 | O27: =IF(ROUND(N27,0)=0,+O26,+O26+1) -> 0 | P27: 23140000 | R27: 0 | S27: 0 | T27: 0 | U27: =IF(ISNA(VLOOKUP(Z27,'Balance SIEGE'!$C$14:$E$205,3,FALSE))=FALSE,U26,U26+1) -> 0 | W27: =IFERROR(IF(W26+1>MAX(A:A),"",IF(+W26+1<=MAX(M:M),+W26+1,IF(W26=MAX(M:M),$AA$1,+W26+1))),"") -> 12 | X27: =IF(W27<$AA$1,VLOOKUP(W27,M:P,4,FALSE),VLOOKUP(W27,A:B,2,FALSE)) -> 20700000 | Y27: =IF(W27<$AA$1,"",VLOOKUP(W27,A:C,3,FALSE)) | Z27: =CONCATENATE(X27,"_",Y27) -> 20700000_ | AA27: =IF(W27<$AA$1,VLOOKUP(W27,M:Q,5,FALSE),VLOOKUP(W27,A:F,6,FALSE)) -> 0 | AB27: =IF(W27<$AA$1,SUMIF(P:P,$X27,R:R)-SUMIF(P:P,$X27,S:S)+SUMIF(P:P,$X27,T:T),SUMIF(A:A,$W27,D:D)) -> 347888.57 | AC27: =LEFT(X27,1) -> 2 | AD27: =LEFT(Y27,2)
A28: =IF(E28="","",IF(LEFT(E28,1)="-",IF(+VALUE(RIGHT(LEFT(E28,3),1))<6,+A27,+A27+1),+A27)) -> 2019 | B28: =IF(A28=A27,"",IF(LEFT(E28,1)="-",IF(+VALUE(RIGHT(LEFT(E28,3),1))<6,"",VALUE(RIGHT(E28,LEN(E28)-2))),"")) -> 62311100 | C28: =IF(A28="","",IFERROR(VLOOKUP(E28,'[1]Mapping '!$I$2:$J$19,2,FALSE),C27)) -> 4000 | D28: =IF(B28="",0,+K28-L28) -> 1938.75 | E28: --62311100 | G28: -1938.75 | H28: -1938.75 | I28: 1938.75 | J28: 0 | K28: 1938.75 | L28: 0 | M28: =IF(VALUE(LEFT(P28,1))>=6,"",IF((R28-S28+T28)=0,+M27,+M27+1)) -> 20 | N28: =IFERROR(IF(VALUE(LEFT(P28,1))>=6,+R28-S28+T28-SUMIF(B:B,P28,D:D),0),"") -> 0 | O28: =IF(ROUND(N28,0)=0,+O27,+O27+1) -> 0 | P28: 26110000 | R28: 0 | S28: 0 | T28: 807513.72 | U28: =IF(ISNA(VLOOKUP(Z28,'Balance SIEGE'!$C$14:$E$205,3,FALSE))=FALSE,U27,U27+1) -> 0 | W28: =IFERROR(IF(W27+1>MAX(A:A),"",IF(+W27+1<=MAX(M:M),+W27+1,IF(W27=MAX(M:M),$AA$1,+W27+1))),"") -> 13 | X28: =IF(W28<$AA$1,VLOOKUP(W28,M:P,4,FALSE),VLOOKUP(W28,A:B,2,FALSE)) -> 20710000 | Y28: =IF(W28<$AA$1,"",VLOOKUP(W28,A:C,3,FALSE)) | Z28: =CONCATENATE(X28,"_",Y28) -> 20710000_ | AA28: =IF(W28<$AA$1,VLOOKUP(W28,M:Q,5,FALSE),VLOOKUP(W28,A:F,6,FALSE)) -> 0 | AB28: =IF(W28<$AA$1,SUMIF(P:P,$X28,R:R)-SUMIF(P:P,$X28,S:S)+SUMIF(P:P,$X28,T:T),SUMIF(A:A,$W28,D:D)) -> 1028562 | AC28: =LEFT(X28,1) -> 2 | AD28: =LEFT(Y28,2) | AJ28: =SUM(AJ8:AJ27) -> 0
A29: =IF(E29="","",IF(LEFT(E29,1)="-",IF(+VALUE(RIGHT(LEFT(E29,3),1))<6,+A28,+A28+1),+A28)) -> 2020 | B29: =IF(A29=A28,"",IF(LEFT(E29,1)="-",IF(+VALUE(RIGHT(LEFT(E29,3),1))<6,"",VALUE(RIGHT(E29,LEN(E29)-2))),"")) -> 62320000 | C29: =IF(A29="","",IFERROR(VLOOKUP(E29,'[1]Mapping '!$I$2:$J$19,2,FALSE),C28)) -> 4000 | D29: =IF(B29="",0,+K29-L29) -> 13960 | E29: --62320000 | G29: -13960 | H29: -13960 | I29: 13960 | J29: 0 | K29: 13960 | L29: 0 | M29: =IF(VALUE(LEFT(P29,1))>=6,"",IF((R29-S29+T29)=0,+M28,+M28+1)) -> 21 | N29: =IFERROR(IF(VALUE(LEFT(P29,1))>=6,+R29-S29+T29-SUMIF(B:B,P29,D:D),0),"") -> 0 | O29: =IF(ROUND(N29,0)=0,+O28,+O28+1) -> 0 | P29: 26120000 | R29: 0 | S29: 0 | T29: 291228 | U29: =IF(ISNA(VLOOKUP(Z29,'Balance SIEGE'!$C$14:$E$205,3,FALSE))=FALSE,U28,U28+1) -> 0 | W29: =IFERROR(IF(W28+1>MAX(A:A),"",IF(+W28+1<=MAX(M:M),+W28+1,IF(W28=MAX(M:M),$AA$1,+W28+1))),"") -> 14 | X29: =IF(W29<$AA$1,VLOOKUP(W29,M:P,4,FALSE),VLOOKUP(W29,A:B,2,FALSE)) -> 21310000 | Y29: =IF(W29<$AA$1,"",VLOOKUP(W29,A:C,3,FALSE)) | Z29: =CONCATENATE(X29,"_",Y29) -> 21310000_ | AA29: =IF(W29<$AA$1,VLOOKUP(W29,M:Q,5,FALSE),VLOOKUP(W29,A:F,6,FALSE)) -> 0 | AB29: =IF(W29<$AA$1,SUMIF(P:P,$X29,R:R)-SUMIF(P:P,$X29,S:S)+SUMIF(P:P,$X29,T:T),SUMIF(A:A,$W29,D:D)) -> 1909493.9 | AC29: =LEFT(X29,1) -> 2 | AD29: =LEFT(Y29,2)
A30: =IF(E30="","",IF(LEFT(E30,1)="-",IF(+VALUE(RIGHT(LEFT(E30,3),1))<6,+A29,+A29+1),+A29)) -> 2021 | B30: =IF(A30=A29,"",IF(LEFT(E30,1)="-",IF(+VALUE(RIGHT(LEFT(E30,3),1))<6,"",VALUE(RIGHT(E30,LEN(E30)-2))),"")) -> 62333000 | C30: =IF(A30="","",IFERROR(VLOOKUP(E30,'[1]Mapping '!$I$2:$J$19,2,FALSE),C29)) -> 4000 | D30: =IF(B30="",0,+K30-L30) -> 2500 | E30: --62333000 | G30: -2500 | H30: -2500 | I30: 2500 | J30: 0 | K30: 2500 | L30: 0 | M30: =IF(VALUE(LEFT(P30,1))>=6,"",IF((R30-S30+T30)=0,+M29,+M29+1)) -> 22 | N30: =IFERROR(IF(VALUE(LEFT(P30,1))>=6,+R30-S30+T30-SUMIF(B:B,P30,D:D),0),"") -> 0 | O30: =IF(ROUND(N30,0)=0,+O29,+O29+1) -> 0 | P30: 26130000 | R30: 0 | S30: 0 | T30: 1014821.4 | U30: =IF(ISNA(VLOOKUP(Z30,'Balance SIEGE'!$C$14:$E$205,3,FALSE))=FALSE,U29,U29+1) -> 0 | W30: =IFERROR(IF(W29+1>MAX(A:A),"",IF(+W29+1<=MAX(M:M),+W29+1,IF(W29=MAX(M:M),$AA$1,+W29+1))),"") -> 15 | X30: =IF(W30<$AA$1,VLOOKUP(W30,M:P,4,FALSE),VLOOKUP(W30,A:B,2,FALSE)) -> 21551000 | Y30: =IF(W30<$AA$1,"",VLOOKUP(W30,A:C,3,FALSE)) | Z30: =CONCATENATE(X30,"_",Y30) -> 21551000_ | AA30: =IF(W30<$AA$1,VLOOKUP(W30,M:Q,5,FALSE),VLOOKUP(W30,A:F,6,FALSE)) -> 0 | AB30: =IF(W30<$AA$1,SUMIF(P:P,$X30,R:R)-SUMIF(P:P,$X30,S:S)+SUMIF(P:P,$X30,T:T),SUMIF(A:A,$W30,D:D)) -> 93960.75 | AC30: =LEFT(X30,1) -> 2 | AD30: =LEFT(Y30,2)
A31: =IF(E31="","",IF(LEFT(E31,1)="-",IF(+VALUE(RIGHT(LEFT(E31,3),1))<6,+A30,+A30+1),+A30)) -> 2022 | B31: =IF(A31=A30,"",IF(LEFT(E31,1)="-",IF(+VALUE(RIGHT(LEFT(E31,3),1))<6,"",VALUE(RIGHT(E31,LEN(E31)-2))),"")) -> 62411100 | C31: =IF(A31="","",IFERROR(VLOOKUP(E31,'[1]Mapping '!$I$2:$J$19,2,FALSE),C30)) -> 4000 | D31: =IF(B31="",0,+K31-L31) -> 160 | E31: --62411100 | G31: -160 | H31: -160 | I31: 709.13 | J31: 0 | K31: 160 | L31: 0 | M31: =IF(VALUE(LEFT(P31,1))>=6,"",IF((R31-S31+T31)=0,+M30,+M30+1)) -> 23 | N31: =IFERROR(IF(VALUE(LEFT(P31,1))>=6,+R31-S31+T31-SUMIF(B:B,P31,D:D),0),"") -> 0 | O31: =IF(ROUND(N31,0)=0,+O30,+O30+1) -> 0 | P31: 26140000 | R31: 0 | S31: 0 | T31: 330001 | U31: =IF(ISNA(VLOOKUP(Z31,'Balance SIEGE'!$C$14:$E$205,3,FALSE))=FALSE,U30,U30+1) -> 0 | W31: =IFERROR(IF(W30+1>MAX(A:A),"",IF(+W30+1<=MAX(M:M),+W30+1,IF(W30=MAX(M:M),$AA$1,+W30+1))),"") -> 16 | X31: =IF(W31<$AA$1,VLOOKUP(W31,M:P,4,FALSE),VLOOKUP(W31,A:B,2,FALSE)) -> 21811000 | Y31: =IF(W31<$AA$1,"",VLOOKUP(W31,A:C,3,FALSE)) | Z31: =CONCATENATE(X31,"_",Y31) -> 21811000_ | AA31: =IF(W31<$AA$1,VLOOKUP(W31,M:Q,5,FALSE),VLOOKUP(W31,A:F,6,FALSE)) -> 0 | AB31: =IF(W31<$AA$1,SUMIF(P:P,$X31,R:R)-SUMIF(P:P,$X31,S:S)+SUMIF(P:P,$X31,T:T),SUMIF(A:A,$W31,D:D)) -> 1774667.4 | AC31: =LEFT(X31,1) -> 2 | AD31: =LEFT(Y31,2) | AE31: #erreur | AF31: Mapping | AG31: Compte | AH31: Ana | AI31: Compte_ana | AJ31: Libellé | AL31: Montant
A32: =IF(E32="","",IF(LEFT(E32,1)="-",IF(+VALUE(RIGHT(LEFT(E32,3),1))<6,+A31,+A31+1),+A31)) -> 2023 | B32: =IF(A32=A31,"",IF(LEFT(E32,1)="-",IF(+VALUE(RIGHT(LEFT(E32,3),1))<6,"",VALUE(RIGHT(E32,LEN(E32)-2))),"")) -> 62512000 | C32: =IF(A32="","",IFERROR(VLOOKUP(E32,'[1]Mapping '!$I$2:$J$19,2,FALSE),C31)) -> 4000 | D32: =IF(B32="",0,+K32-L32) -> 6079.83 | E32: --62512000 | G32: -6079.83 | H32: -6079.83 | I32: 6187.97 | J32: 0 | K32: 6082.83 | L32: 3 | M32: =IF(VALUE(LEFT(P32,1))>=6,"",IF((R32-S32+T32)=0,+M31,+M31+1)) -> 24 | N32: =IFERROR(IF(VALUE(LEFT(P32,1))>=6,+R32-S32+T32-SUMIF(B:B,P32,D:D),0),"") -> 0 | O32: =IF(ROUND(N32,0)=0,+O31,+O31+1) -> 0 | P32: 26150000 | R32: 0 | S32: 0 | T32: 2295146 | U32: =IF(ISNA(VLOOKUP(Z32,'Balance SIEGE'!$C$14:$E$205,3,FALSE))=FALSE,U31,U31+1) -> 0 | W32: =IFERROR(IF(W31+1>MAX(A:A),"",IF(+W31+1<=MAX(M:M),+W31+1,IF(W31=MAX(M:M),$AA$1,+W31+1))),"") -> 17 | X32: =IF(W32<$AA$1,VLOOKUP(W32,M:P,4,FALSE),VLOOKUP(W32,A:B,2,FALSE)) -> 21830000 | Y32: =IF(W32<$AA$1,"",VLOOKUP(W32,A:C,3,FALSE)) | Z32: =CONCATENATE(X32,"_",Y32) -> 21830000_ | AA32: =IF(W32<$AA$1,VLOOKUP(W32,M:Q,5,FALSE),VLOOKUP(W32,A:F,6,FALSE)) -> 0 | AB32: =IF(W32<$AA$1,SUMIF(P:P,$X32,R:R)-SUMIF(P:P,$X32,S:S)+SUMIF(P:P,$X32,T:T),SUMIF(A:A,$W32,D:D)) -> 27981.07 | AC32: =LEFT(X32,1) -> 2 | AD32: =LEFT(Y32,2) | AE32: Comptes manquants dans la balance
A33: =IF(E33="","",IF(LEFT(E33,1)="-",IF(+VALUE(RIGHT(LEFT(E33,3),1))<6,+A32,+A32+1),+A32)) -> 2024 | B33: =IF(A33=A32,"",IF(LEFT(E33,1)="-",IF(+VALUE(RIGHT(LEFT(E33,3),1))<6,"",VALUE(RIGHT(E33,LEN(E33)-2))),"")) -> 62515000 | C33: =IF(A33="","",IFERROR(VLOOKUP(E33,'[1]Mapping '!$I$2:$J$19,2,FALSE),C32)) -> 4000 | D33: =IF(B33="",0,+K33-L33) -> 52.15 | E33: --62515000 | G33: -52.15 | H33: -52.15 | I33: 521.95 | J33: 0 | K33: 52.15 | L33: 0 | M33: =IF(VALUE(LEFT(P33,1))>=6,"",IF((R33-S33+T33)=0,+M32,+M32+1)) -> 25 | N33: =IFERROR(IF(VALUE(LEFT(P33,1))>=6,+R33-S33+T33-SUMIF(B:B,P33,D:D),0),"") -> 0 | O33: =IF(ROUND(N33,0)=0,+O32,+O32+1) -> 0 | P33: 27210000 | R33: 0 | S33: 0 | T33: 500000 | U33: =IF(ISNA(VLOOKUP(Z33,'Balance SIEGE'!$C$14:$E$205,3,FALSE))=FALSE,U32,U32+1) -> 0 | W33: =IFERROR(IF(W32+1>MAX(A:A),"",IF(+W32+1<=MAX(M:M),+W32+1,IF(W32=MAX(M:M),$AA$1,+W32+1))),"") -> 18 | X33: =IF(W33<$AA$1,VLOOKUP(W33,M:P,4,FALSE),VLOOKUP(W33,A:B,2,FALSE)) -> 21840000 | Y33: =IF(W33<$AA$1,"",VLOOKUP(W33,A:C,3,FALSE)) | Z33: =CONCATENATE(X33,"_",Y33) -> 21840000_ | AA33: =IF(W33<$AA$1,VLOOKUP(W33,M:Q,5,FALSE),VLOOKUP(W33,A:F,6,FALSE)) -> 0 | AB33: =IF(W33<$AA$1,SUMIF(P:P,$X33,R:R)-SUMIF(P:P,$X33,S:S)+SUMIF(P:P,$X33,T:T),SUMIF(A:A,$W33,D:D)) -> 87539.91 | AC33: =LEFT(X33,1) -> 2 | AD33: =LEFT(Y33,2) | AE33: 1 | AF33: =IFERROR(VLOOKUP(VALUE(LEFT(AG33,6)),'[1]Mapping '!A:D,4,TRUE),"") | AG33: =IFERROR(VLOOKUP(AE33,U:Z,4,FALSE),"") -> 58330000 | AH33: =IFERROR(VLOOKUP(AE33,U:Z,5,FALSE),"") | AI33: =IFERROR(VLOOKUP(AE33,U:Z,6,FALSE),"") -> 58330000_ | AJ33: =IFERROR(VLOOKUP(AI33,Z:AA,2,FALSE),"") -> 0 | AL33: =IFERROR(VLOOKUP(AI33,Z:AB,3,FALSE),"") -> 1.3642421e-12
A34: =IF(E34="","",IF(LEFT(E34,1)="-",IF(+VALUE(RIGHT(LEFT(E34,3),1))<6,+A33,+A33+1),+A33)) -> 2025 | B34: =IF(A34=A33,"",IF(LEFT(E34,1)="-",IF(+VALUE(RIGHT(LEFT(E34,3),1))<6,"",VALUE(RIGHT(E34,LEN(E34)-2))),"")) -> 62573000 | C34: =IF(A34="","",IFERROR(VLOOKUP(E34,'[1]Mapping '!$I$2:$J$19,2,FALSE),C33)) -> 4000 | D34: =IF(B34="",0,+K34-L34) -> 1131.5 | E34: --62573000 | G34: -1131.5 | H34: -1131.5 | I34: 1220.28 | J34: 0 | K34: 1259.68 | L34: 128.18 | M34: =IF(VALUE(LEFT(P34,1))>=6,"",IF((R34-S34+T34)=0,+M33,+M33+1)) -> 26 | N34: =IFERROR(IF(VALUE(LEFT(P34,1))>=6,+R34-S34+T34-SUMIF(B:B,P34,D:D),0),"") -> 0 | O34: =IF(ROUND(N34,0)=0,+O33,+O33+1) -> 0 | P34: 27511000 | R34: 64.91 | S34: 0 | T34: 22192.38 | U34: =IF(ISNA(VLOOKUP(Z34,'Balance SIEGE'!$C$14:$E$205,3,FALSE))=FALSE,U33,U33+1) -> 0 | W34: =IFERROR(IF(W33+1>MAX(A:A),"",IF(+W33+1<=MAX(M:M),+W33+1,IF(W33=MAX(M:M),$AA$1,+W33+1))),"") -> 19 | X34: =IF(W34<$AA$1,VLOOKUP(W34,M:P,4,FALSE),VLOOKUP(W34,A:B,2,FALSE)) -> 23130000 | Y34: =IF(W34<$AA$1,"",VLOOKUP(W34,A:C,3,FALSE)) | Z34: =CONCATENATE(X34,"_",Y34) -> 23130000_ | AA34: =IF(W34<$AA$1,VLOOKUP(W34,M:Q,5,FALSE),VLOOKUP(W34,A:F,6,FALSE)) -> 0 | AB34: =IF(W34<$AA$1,SUMIF(P:P,$X34,R:R)-SUMIF(P:P,$X34,S:S)+SUMIF(P:P,$X34,T:T),SUMIF(A:A,$W34,D:D)) -> 25421.39 | AC34: =LEFT(X34,1) -> 2 | AD34: =LEFT(Y34,2) | AE34: =+AE33+1 -> 2 | AF34: =IFERROR(VLOOKUP(VALUE(LEFT(AG34,6)),'[1]Mapping '!A:D,4,TRUE),"") | AG34: =IFERROR(VLOOKUP(AE34,U:Z,4,FALSE),"") -> 65830000 | AH34: =IFERROR(VLOOKUP(AE34,U:Z,5,FALSE),"") -> 4000 | AI34: =IFERROR(VLOOKUP(AE34,U:Z,6,FALSE),"") -> 65830000_4000 | AJ34: =IFERROR(VLOOKUP(AI34,Z:AA,2,FALSE),"") -> 0 | AL34: =IFERROR(VLOOKUP(AI34,Z:AB,3,FALSE),"") -> 0.04
A35: =IF(E35="","",IF(LEFT(E35,1)="-",IF(+VALUE(RIGHT(LEFT(E35,3),1))<6,+A34,+A34+1),+A34)) -> 2026 | B35: =IF(A35=A34,"",IF(LEFT(E35,1)="-",IF(+VALUE(RIGHT(LEFT(E35,3),1))<6,"",VALUE(RIGHT(E35,LEN(E35)-2))),"")) -> 62610010 | C35: =IF(A35="","",IFERROR(VLOOKUP(E35,'[1]Mapping '!$I$2:$J$19,2,FALSE),C34)) -> 4000 | D35: =IF(B35="",0,+K35-L35) -> 434.14 | E35: --62610010 | G35: -434.14 | H35: -434.14 | I35: 4951.22 | J35: 0 | K35: 434.14 | L35: 0 | M35: =IF(VALUE(LEFT(P35,1))>=6,"",IF((R35-S35+T35)=0,+M34,+M34+1)) -> 26 | N35: =IFERROR(IF(VALUE(LEFT(P35,1))>=6,+R35-S35+T35-SUMIF(B:B,P35,D:D),0),"") -> 0 | O35: =IF(ROUND(N35,0)=0,+O34,+O34+1) -> 0 | P35: 28050000 | R35: 0 | S35: 0 | T35: 0 | U35: =IF(ISNA(VLOOKUP(Z35,'Balance SIEGE'!$C$14:$E$205,3,FALSE))=FALSE,U34,U34+1) -> 0 | W35: =IFERROR(IF(W34+1>MAX(A:A),"",IF(+W34+1<=MAX(M:M),+W34+1,IF(W34=MAX(M:M),$AA$1,+W34+1))),"") -> 20 | X35: =IF(W35<$AA$1,VLOOKUP(W35,M:P,4,FALSE),VLOOKUP(W35,A:B,2,FALSE)) -> 26110000 | Y35: =IF(W35<$AA$1,"",VLOOKUP(W35,A:C,3,FALSE)) | Z35: =CONCATENATE(X35,"_",Y35) -> 26110000_ | AA35: =IF(W35<$AA$1,VLOOKUP(W35,M:Q,5,FALSE),VLOOKUP(W35,A:F,6,FALSE)) -> 0 | AB35: =IF(W35<$AA$1,SUMIF(P:P,$X35,R:R)-SUMIF(P:P,$X35,S:S)+SUMIF(P:P,$X35,T:T),SUMIF(A:A,$W35,D:D)) -> 807513.72 | AC35: =LEFT(X35,1) -> 2 | AD35: =LEFT(Y35,2) | AE35: =+AE34+1 -> 3 | AF35: =IFERROR(VLOOKUP(VALUE(LEFT(AG35,6)),'[1]Mapping '!A:D,4,TRUE),"") | AG35: =IFERROR(VLOOKUP(AE35,U:Z,4,FALSE),"") | AH35: =IFERROR(VLOOKUP(AE35,U:Z,5,FALSE),"") | AI35: =IFERROR(VLOOKUP(AE35,U:Z,6,FALSE),"") -> _ | AJ35: =IFERROR(VLOOKUP(AI35,Z:AA,2,FALSE),"") -> 0 | AL35: =IFERROR(VLOOKUP(AI35,Z:AB,3,FALSE),"") -> 0
A36: =IF(E36="","",IF(LEFT(E36,1)="-",IF(+VALUE(RIGHT(LEFT(E36,3),1))<6,+A35,+A35+1),+A35)) -> 2027 | B36: =IF(A36=A35,"",IF(LEFT(E36,1)="-",IF(+VALUE(RIGHT(LEFT(E36,3),1))<6,"",VALUE(RIGHT(E36,LEN(E36)-2))),"")) -> 62783000 | C36: =IF(A36="","",IFERROR(VLOOKUP(E36,'[1]Mapping '!$I$2:$J$19,2,FALSE),C35)) -> 4000 | D36: =IF(B36="",0,+K36-L36) -> 300.86 | E36: --62783000 | G36: -300.86 | H36: -300.86 | I36: 5157.96 | J36: 0 | K36: 300.86 | L36: 0 | M36: =IF(VALUE(LEFT(P36,1))>=6,"",IF((R36-S36+T36)=0,+M35,+M35+1)) -> 27 | N36: =IFERROR(IF(VALUE(LEFT(P36,1))>=6,+R36-S36+T36-SUMIF(B:B,P36,D:D),0),"") -> 0 | O36: =IF(ROUND(N36,0)=0,+O35,+O35+1) -> 0 | P36: 28050100 | R36: 0 | S36: 1383.02 | T36: -5276.28 | U36: =IF(ISNA(VLOOKUP(Z36,'Balance SIEGE'!$C$14:$E$205,3,FALSE))=FALSE,U35,U35+1) -> 0 | W36: =IFERROR(IF(W35+1>MAX(A:A),"",IF(+W35+1<=MAX(M:M),+W35+1,IF(W35=MAX(M:M),$AA$1,+W35+1))),"") -> 21 | X36: =IF(W36<$AA$1,VLOOKUP(W36,M:P,4,FALSE),VLOOKUP(W36,A:B,2,FALSE)) -> 26120000 | Y36: =IF(W36<$AA$1,"",VLOOKUP(W36,A:C,3,FALSE)) | Z36: =CONCATENATE(X36,"_",Y36) -> 26120000_ | AA36: =IF(W36<$AA$1,VLOOKUP(W36,M:Q,5,FALSE),VLOOKUP(W36,A:F,6,FALSE)) -> 0 | AB36: =IF(W36<$AA$1,SUMIF(P:P,$X36,R:R)-SUMIF(P:P,$X36,S:S)+SUMIF(P:P,$X36,T:T),SUMIF(A:A,$W36,D:D)) -> 291228 | AC36: =LEFT(X36,1) -> 2 | AD36: =LEFT(Y36,2) | AE36: =+AE35+1 -> 4 | AF36: =IFERROR(VLOOKUP(VALUE(LEFT(AG36,6)),'[1]Mapping '!A:D,4,TRUE),"") | AG36: =IFERROR(VLOOKUP(AE36,U:Z,4,FALSE),"") | AH36: =IFERROR(VLOOKUP(AE36,U:Z,5,FALSE),"") | AI36: =IFERROR(VLOOKUP(AE36,U:Z,6,FALSE),"") -> _ | AJ36: =IFERROR(VLOOKUP(AI36,Z:AA,2,FALSE),"") -> 0 | AL36: =IFERROR(VLOOKUP(AI36,Z:AB,3,FALSE),"") -> 0
A37: =IF(E37="","",IF(LEFT(E37,1)="-",IF(+VALUE(RIGHT(LEFT(E37,3),1))<6,+A36,+A36+1),+A36)) -> 2028 | B37: =IF(A37=A36,"",IF(LEFT(E37,1)="-",IF(+VALUE(RIGHT(LEFT(E37,3),1))<6,"",VALUE(RIGHT(E37,LEN(E37)-2))),"")) -> 62784000 | C37: =IF(A37="","",IFERROR(VLOOKUP(E37,'[1]Mapping '!$I$2:$J$19,2,FALSE),C36)) -> 4000 | D37: =IF(B37="",0,+K37-L37) -> 1249.61 | E37: --62784000 | G37: -1249.61 | H37: -1249.61 | I37: 2827.89 | J37: 0 | K37: 1249.61 | L37: 0 | M37: =IF(VALUE(LEFT(P37,1))>=6,"",IF((R37-S37+T37)=0,+M36,+M36+1)) -> 28 | N37: =IFERROR(IF(VALUE(LEFT(P37,1))>=6,+R37-S37+T37-SUMIF(B:B,P37,D:D),0),"") -> 0 | O37: =IF(ROUND(N37,0)=0,+O36,+O36+1) -> 0 | P37: 28050200 | R37: 0 | S37: 288.63 | T37: -30.47 | U37: =IF(ISNA(VLOOKUP(Z37,'Balance SIEGE'!$C$14:$E$205,3,FALSE))=FALSE,U36,U36+1) -> 0 | W37: =IFERROR(IF(W36+1>MAX(A:A),"",IF(+W36+1<=MAX(M:M),+W36+1,IF(W36=MAX(M:M),$AA$1,+W36+1))),"") -> 22 | X37: =IF(W37<$AA$1,VLOOKUP(W37,M:P,4,FALSE),VLOOKUP(W37,A:B,2,FALSE)) -> 26130000 | Y37: =IF(W37<$AA$1,"",VLOOKUP(W37,A:C,3,FALSE)) | Z37: =CONCATENATE(X37,"_",Y37) -> 26130000_ | AA37: =IF(W37<$AA$1,VLOOKUP(W37,M:Q,5,FALSE),VLOOKUP(W37,A:F,6,FALSE)) -> 0 | AB37: =IF(W37<$AA$1,SUMIF(P:P,$X37,R:R)-SUMIF(P:P,$X37,S:S)+SUMIF(P:P,$X37,T:T),SUMIF(A:A,$W37,D:D)) -> 1014821.4 | AC37: =LEFT(X37,1) -> 2 | AD37: =LEFT(Y37,2) | AE37: =+AE36+1 -> 5 | AF37: =IFERROR(VLOOKUP(VALUE(LEFT(AG37,6)),'[1]Mapping '!A:D,4,TRUE),"") | AG37: =IFERROR(VLOOKUP(AE37,U:Z,4,FALSE),"") | AH37: =IFERROR(VLOOKUP(AE37,U:Z,5,FALSE),"") | AI37: =IFERROR(VLOOKUP(AE37,U:Z,6,FALSE),"") -> _ | AJ37: =IFERROR(VLOOKUP(AI37,Z:AA,2,FALSE),"") -> 0 | AL37: =IFERROR(VLOOKUP(AI37,Z:AB,3,FALSE),"") -> 0
A38: =IF(E38="","",IF(LEFT(E38,1)="-",IF(+VALUE(RIGHT(LEFT(E38,3),1))<6,+A37,+A37+1),+A37)) -> 2029 | B38: =IF(A38=A37,"",IF(LEFT(E38,1)="-",IF(+VALUE(RIGHT(LEFT(E38,3),1))<6,"",VALUE(RIGHT(E38,LEN(E38)-2))),"")) -> 63121000 | C38: =IF(A38="","",IFERROR(VLOOKUP(E38,'[1]Mapping '!$I$2:$J$19,2,FALSE),C37)) -> 4000 | D38: =IF(B38="",0,+K38-L38) -> 114.99 | E38: --63121000 | G38: -114.99 | H38: -114.99 | I38: 1527.31 | J38: 0 | K38: 114.99 | L38: 0 | M38: =IF(VALUE(LEFT(P38,1))>=6,"",IF((R38-S38+T38)=0,+M37,+M37+1)) -> 29 | N38: =IFERROR(IF(VALUE(LEFT(P38,1))>=6,+R38-S38+T38-SUMIF(B:B,P38,D:D),0),"") -> 0 | O38: =IF(ROUND(N38,0)=0,+O37,+O37+1) -> 0 | P38: 28130000 | R38: 0 | S38: 25111.15 | T38: -190949.38 | U38: =IF(ISNA(VLOOKUP(Z38,'Balance SIEGE'!$C$14:$E$205,3,FALSE))=FALSE,U37,U37+1) -> 0 | W38: =IFERROR(IF(W37+1>MAX(A:A),"",IF(+W37+1<=MAX(M:M),+W37+1,IF(W37=MAX(M:M),$AA$1,+W37+1))),"") -> 23 | X38: =IF(W38<$AA$1,VLOOKUP(W38,M:P,4,FALSE),VLOOKUP(W38,A:B,2,FALSE)) -> 26140000 | Y38: =IF(W38<$AA$1,"",VLOOKUP(W38,A:C,3,FALSE)) | Z38: =CONCATENATE(X38,"_",Y38) -> 26140000_ | AA38: =IF(W38<$AA$1,VLOOKUP(W38,M:Q,5,FALSE),VLOOKUP(W38,A:F,6,FALSE)) -> 0 | AB38: =IF(W38<$AA$1,SUMIF(P:P,$X38,R:R)-SUMIF(P:P,$X38,S:S)+SUMIF(P:P,$X38,T:T),SUMIF(A:A,$W38,D:D)) -> 330001 | AC38: =LEFT(X38,1) -> 2 | AD38: =LEFT(Y38,2) | AE38: =+AE37+1 -> 6 | AF38: =IFERROR(VLOOKUP(VALUE(LEFT(AG38,6)),'[1]Mapping '!A:D,4,TRUE),"") | AG38: =IFERROR(VLOOKUP(AE38,U:Z,4,FALSE),"") | AH38: =IFERROR(VLOOKUP(AE38,U:Z,5,FALSE),"") | AI38: =IFERROR(VLOOKUP(AE38,U:Z,6,FALSE),"") -> _ | AJ38: =IFERROR(VLOOKUP(AI38,Z:AA,2,FALSE),"") -> 0 | AL38: =IFERROR(VLOOKUP(AI38,Z:AB,3,FALSE),"") -> 0
A39: =IF(E39="","",IF(LEFT(E39,1)="-",IF(+VALUE(RIGHT(LEFT(E39,3),1))<6,+A38,+A38+1),+A38)) -> 2030 | B39: =IF(A39=A38,"",IF(LEFT(E39,1)="-",IF(+VALUE(RIGHT(LEFT(E39,3),1))<6,"",VALUE(RIGHT(E39,LEN(E39)-2))),"")) -> 63333000 | C39: =IF(A39="","",IFERROR(VLOOKUP(E39,'[1]Mapping '!$I$2:$J$19,2,FALSE),C38)) -> 4000 | D39: =IF(B39="",0,+K39-L39) -> 270.51 | E39: --63333000 | G39: -270.51 | H39: -270.51 | I39: 3535.86 | J39: 0 | K39: 270.51 | L39: 0 | M39: =IF(VALUE(LEFT(P39,1))>=6,"",IF((R39-S39+T39)=0,+M38,+M38+1)) -> 29 | N39: =IFERROR(IF(VALUE(LEFT(P39,1))>=6,+R39-S39+T39-SUMIF(B:B,P39,D:D),0),"") -> 0 | O39: =IF(ROUND(N39,0)=0,+O38,+O38+1) -> 0 | P39: 28155000 | R39: 0 | S39: 0 | T39: 0 | U39: =IF(ISNA(VLOOKUP(Z39,'Balance SIEGE'!$C$14:$E$205,3,FALSE))=FALSE,U38,U38+1) -> 0 | W39: =IFERROR(IF(W38+1>MAX(A:A),"",IF(+W38+1<=MAX(M:M),+W38+1,IF(W38=MAX(M:M),$AA$1,+W38+1))),"") -> 24 | X39: =IF(W39<$AA$1,VLOOKUP(W39,M:P,4,FALSE),VLOOKUP(W39,A:B,2,FALSE)) -> 26150000 | Y39: =IF(W39<$AA$1,"",VLOOKUP(W39,A:C,3,FALSE)) | Z39: =CONCATENATE(X39,"_",Y39) -> 26150000_ | AA39: =IF(W39<$AA$1,VLOOKUP(W39,M:Q,5,FALSE),VLOOKUP(W39,A:F,6,FALSE)) -> 0 | AB39: =IF(W39<$AA$1,SUMIF(P:P,$X39,R:R)-SUMIF(P:P,$X39,S:S)+SUMIF(P:P,$X39,T:T),SUMIF(A:A,$W39,D:D)) -> 2295146 | AC39: =LEFT(X39,1) -> 2 | AD39: =LEFT(Y39,2) | AE39: =+AE38+1 -> 7 | AF39: =IFERROR(VLOOKUP(VALUE(LEFT(AG39,6)),'[1]Mapping '!A:D,4,TRUE),"") | AG39: =IFERROR(VLOOKUP(AE39,U:Z,4,FALSE),"") | AH39: =IFERROR(VLOOKUP(AE39,U:Z,5,FALSE),"") | AI39: =IFERROR(VLOOKUP(AE39,U:Z,6,FALSE),"") -> _ | AJ39: =IFERROR(VLOOKUP(AI39,Z:AA,2,FALSE),"") -> 0 | AL39: =IFERROR(VLOOKUP(AI39,Z:AB,3,FALSE),"") -> 0
A40: =IF(E40="","",IF(LEFT(E40,1)="-",IF(+VALUE(RIGHT(LEFT(E40,3),1))<6,+A39,+A39+1),+A39)) -> 2031 | B40: =IF(A40=A39,"",IF(LEFT(E40,1)="-",IF(+VALUE(RIGHT(LEFT(E40,3),1))<6,"",VALUE(RIGHT(E40,LEN(E40)-2))),"")) -> 63513000 | C40: =IF(A40="","",IFERROR(VLOOKUP(E40,'[1]Mapping '!$I$2:$J$19,2,FALSE),C39)) -> 4000 | D40: =IF(B40="",0,+K40-L40) -> 280 | E40: --63513000 | G40: -280 | H40: -280 | I40: 280 | J40: 0 | K40: 280 | L40: 0 | M40: =IF(VALUE(LEFT(P40,1))>=6,"",IF((R40-S40+T40)=0,+M39,+M39+1)) -> 30 | N40: =IFERROR(IF(VALUE(LEFT(P40,1))>=6,+R40-S40+T40-SUMIF(B:B,P40,D:D),0),"") -> 0 | O40: =IF(ROUND(N40,0)=0,+O39,+O39+1) -> 0 | P40: 28155100 | R40: 0 | S40: 5787.22 | T40: -43170.89 | U40: =IF(ISNA(VLOOKUP(Z40,'Balance SIEGE'!$C$14:$E$205,3,FALSE))=FALSE,U39,U39+1) -> 0 | W40: =IFERROR(IF(W39+1>MAX(A:A),"",IF(+W39+1<=MAX(M:M),+W39+1,IF(W39=MAX(M:M),$AA$1,+W39+1))),"") -> 25 | X40: =IF(W40<$AA$1,VLOOKUP(W40,M:P,4,FALSE),VLOOKUP(W40,A:B,2,FALSE)) -> 27210000 | Y40: =IF(W40<$AA$1,"",VLOOKUP(W40,A:C,3,FALSE)) | Z40: =CONCATENATE(X40,"_",Y40) -> 27210000_ | AA40: =IF(W40<$AA$1,VLOOKUP(W40,M:Q,5,FALSE),VLOOKUP(W40,A:F,6,FALSE)) -> 0 | AB40: =IF(W40<$AA$1,SUMIF(P:P,$X40,R:R)-SUMIF(P:P,$X40,S:S)+SUMIF(P:P,$X40,T:T),SUMIF(A:A,$W40,D:D)) -> 500000 | AC40: =LEFT(X40,1) -> 2 | AD40: =LEFT(Y40,2) | AE40: =+AE39+1 -> 8 | AF40: =IFERROR(VLOOKUP(VALUE(LEFT(AG40,6)),'[1]Mapping '!A:D,4,TRUE),"") | AG40: =IFERROR(VLOOKUP(AE40,U:Z,4,FALSE),"") | AH40: =IFERROR(VLOOKUP(AE40,U:Z,5,FALSE),"") | AI40: =IFERROR(VLOOKUP(AE40,U:Z,6,FALSE),"") -> _ | AJ40: =IFERROR(VLOOKUP(AI40,Z:AA,2,FALSE),"") -> 0 | AL40: =IFERROR(VLOOKUP(AI40,Z:AB,3,FALSE),"") -> 0
...

Sheet Balance A
D2: Résultat BG | E2: =SUM(E14:E163) -> 18902.09 | F2: =SUM(F14:F163) -> 15854.21 | G2: =SUM(G14:G163) -> -96.26 | H2: =SUM(H14:H163) -> 60683.82 | I2: =SUM(I14:I163) -> 60683.82 | J2: =SUM(J14:J163) -> 0 | K2: =SUM(K14:K163) -> 0 | L2: =SUM(L14:L163) -> 0 | ... P2: =SUM(P14:P163) -> 0
D3: Vérif avec export | I3: =ROUND('Export tableur'!$AO$6-I2,0) -> -60684
B5: ='[1]REPORTING Artzner'!A2 -> 44682
D9: Ecart marge réelle vs marge budget | E9: ='[1]REPORTING Artzner'!M13*0.64-'[1]REPORTING Artzner'!M30 -> 165.1572 | F9: ='[1]REPORTING Artzner'!N13*0.64-'[1]REPORTING Artzner'!N30 -> 0.2444 | G9: ='[1]REPORTING Artzner'!O13*0.64-'[1]REPORTING Artzner'!O30 -> 13624.028 | H9: ='[1]REPORTING Artzner'!P13*0.64-'[1]REPORTING Artzner'!P30 -> -2566.8012 | I9: ='[1]REPORTING Artzner'!Q13*0.64-'[1]REPORTING Artzner'!Q30 -> 0 | J9: ='[1]REPORTING Artzner'!R13*0.64-'[1]REPORTING Artzner'!R30 -> -11222.628 | K9: ='[1]REPORTING Artzner'!S13*0.64-'[1]REPORTING Artzner'!S30 -> 0 | L9: ='[1]REPORTING Artzner'!T13*0.64-'[1]REPORTING Artzner'!T30 -> 0 | ... P9: ='[1]REPORTING Artzner'!X13*0.64-'[1]REPORTING Artzner'!X30 -> 0
D11: Total Selection Cumul | E11: =SUBTOTAL(9,E14:E921) -> 18902.09 | F11: =SUBTOTAL(9,F14:F921) -> 15854.21 | G11: =SUBTOTAL(9,G14:G921) -> -96.26 | H11: =SUBTOTAL(9,H14:H921) -> 60683.82 | I11: =SUBTOTAL(9,I14:I921) -> 60683.82 | J11: =SUBTOTAL(9,J14:J921) -> 0 | K11: =SUBTOTAL(9,K14:K921) -> 0 | L11: =SUBTOTAL(9,L14:L921) -> 0 | ... P11: =SUBTOTAL(9,P14:P921) -> 0
D12: Total Sélection mois | E12: =SUBTOTAL(9,E14:E921) -> 18902.09 | F12: =+SUBTOTAL(9,F14:F921)-SUBTOTAL(9,E14:E921) -> -3047.88 | G12: =+SUBTOTAL(9,G14:G921)-SUBTOTAL(9,F14:F921) -> -15950.47 | H12: =+SUBTOTAL(9,H14:H921)-SUBTOTAL(9,G14:G921) -> 60780.08 | I12: =+SUBTOTAL(9,I14:I921)-SUBTOTAL(9,H14:H921) -> 0 | J12: =+SUBTOTAL(9,J14:J921)-SUBTOTAL(9,I14:I921) -> -60683.82 | K12: =+SUBTOTAL(9,K14:K921)-SUBTOTAL(9,J14:J921) -> 0 | L12: =+SUBTOTAL(9,L14:L921)-SUBTOTAL(9,K14:K921) -> 0 | M12: =+SUBTOTAL(9,M14:M921)-SUBTOTAL(9,L14:L921) -> 0 | ... P12: =+SUBTOTAL(9,P14:P921)-SUBTOTAL(9,O14:O921) -> 0
C13: Compte ana BAL | E13: 44562 | F13: 44593 | G13: 44621 | H13: 44652 | I13: 44682 | J13: 44713 | K13: 44743 | L13: 44774 | M13: 44805 | N13: 44835 | O13: 44866 | P13: 44896
C14: 60110000_4200 | E14: 43.62 | F14: 85.61 | G14: 179.81 | H14: 314.58 | I14: =SUMIF('Export tableur'!$Z:$Z,'Balance A'!$C14,'Export tableur'!$AB:$AB) -> 314.58
C15: 60120000_4200 | E15: 15894.63 | F15: 28442.13 | G15: 45736.75 | H15: 63793.63 | I15: =SUMIF('Export tableur'!$Z:$Z,'Balance A'!$C15,'Export tableur'!$AB:$AB) -> 63793.63
C16: 60130000_4200 | E16: 0 | F16: 0 | G16: 0 | H16: 0 | I16: =SUMIF('Export tableur'!$Z:$Z,'Balance A'!$C16,'Export tableur'!$AB:$AB) -> 0
C17: 60140000_4200 | E17: 21.49 | F17: 21.49 | G17: 21.49 | H17: 21.49 | I17: =SUMIF('Export tableur'!$Z:$Z,'Balance A'!$C17,'Export tableur'!$AB:$AB) -> 21.49
C18: 60260000_4200 | E18: 16.85 | F18: 16.85 | G18: 16.85 | H18: 5494.35 | I18: =SUMIF('Export tableur'!$Z:$Z,'Balance A'!$C18,'Export tableur'!$AB:$AB) -> 5494.35
C19: 60310000_4200 | E19: 0 | F19: 0 | G19: -6837.78 | H19: 1348.21 | I19: =SUMIF('Export tableur'!$Z:$Z,'Balance A'!$C19,'Export tableur'!$AB:$AB) -> 1348.21
C20: 60320000_4200 | E20: 0 | F20: 0 | G20: 0 | H20: 0 | I20: =SUMIF('Export tableur'!$Z:$Z,'Balance A'!$C20,'Export tableur'!$AB:$AB) -> 0
C21: 60330000_4200 | E21: 0 | F21: 0 | G21: 0 | H21: 0 | I21: =SUMIF('Export tableur'!$Z:$Z,'Balance A'!$C21,'Export tableur'!$AB:$AB) -> 0
C22: 60360000_4200 | E22: 0 | F22: 0 | G22: -2741.97 | H22: -7122.35 | I22: =SUMIF('Export tableur'!$Z:$Z,'Balance A'!$C22,'Export tableur'!$AB:$AB) -> -7122.35
C23: 60370000_4200 | E23: 0 | F23: 0 | G23: 0 | H23: -475.32 | I23: =SUMIF('Export tableur'!$Z:$Z,'Balance A'!$C23,'Export tableur'!$AB:$AB) -> -475.32
C24: 60371000_4200 | E24: 0 | F24: 0 | G24: -20061.63 | H24: 6387.34 | I24: =SUMIF('Export tableur'!$Z:$Z,'Balance A'!$C24,'Export tableur'!$AB:$AB) -> 6387.34
C25: 60611100_4200 | E25: 3183.78 | F25: 5944.56 | G25: 9811.31 | H25: 10969.32 | I25: =SUMIF('Export tableur'!$Z:$Z,'Balance A'!$C25,'Export tableur'!$AB:$AB) -> 10969.32
... C38: 60810000_4200 | E38: 2480.52 | F38: 4071.11 | G38: 5395.27 | H38: 7013.94 | I38: =SUMIF('Export tableur'!$Z:$Z,'Balance A'!$C38,'Export tableur'!$AB:$AB) -> 7013.94
C39: 60820000_4200 | F39: -27.7 | G39: -7.7 | H39: 22.3 | I39: =SUMIF('Export tableur'!$Z:$Z,'Balance A'!$C39,'Export tableur'!$AB:$AB) -> 22.3
C40: 60910090_4200 | E40: 0 | F40: 0 | G40: 0 | H40: 0 | I40: =SUMIF('Export tableur'!$Z:$Z,'Balance A'!$C40,'Export tableur'!$AB:$AB) -> 0
C41: 61100000_4200 | E41: 86.85 | F41: 173.69 | G41: 260.54 | H41: 347.38 | I41: =SUMIF('Export tableur'!$Z:$Z,'Balance A'!$C41,'Export tableur'!$AB:$AB) -> 347.38
C42: 61111000_4200 | E42: 0 | F42: 0 | G42: 0 | H42: 0 | I42: =SUMIF('Export tableur'!$Z:$Z,'Balance A'!$C42,'Export tableur'!$AB:$AB) -> 0
C43: 61120000_4200 | E43: 278.96 | F43: 481.49 | G43: 676.38 | H43: 871.27 | I43: =SUMIF('Export tableur'!$Z:$Z,'Balance A'!$C43,'Export tableur'!$AB:$AB) -> 871.27
C44: 61210000_4200 | E44: 681 | F44: 681 | G44: 681 | H44: 1362 | I44: =SUMIF('Export tableur'!$Z:$Z,'Balance A'!$C44,'Export tableur'!$AB:$AB) -> 1362
C45: 61330000_4200 | E45: 50 | F45: 200 | G45: 200 | H45: 200 | I45: =SUMIF('Export tableur'!$Z:$Z,'Balance A'!$C45,'Export tableur'!$AB:$AB) -> 200
C46: 61350000_4200 | E46: 178 | F46: 356 | G46: 534 | H46: 712 | I46: =SUMIF('Export tableur'!$Z:$Z,'Balance A'!$C46,'Export tableur'!$AB:$AB) -> 712
C47: 61380000_4200 | E47: 7727.8 | F47: 15455.6 | G47: 23183.4 | H47: 30911.2 | I47: =SUMIF('Export tableur'!$Z:$Z,'Balance A'!$C47,'Export tableur'!$AB:$AB) -> 30911.2
C48: 61480000_4200 | E48: 550 | F48: 1100 | G48: 1650 | H48: 2200 | I48: =SUMIF('Export tableur'!$Z:$Z,'Balance A'!$C48,'Export tableur'!$AB:$AB) -> 2200
C49: 61510000_4200 | E49: 664.56 | F49: 874.17 | G49: 2179.07 | H49: 2440.07 | I49: =SUMIF('Export tableur'!$Z:$Z,'Balance A'!$C49,'Export tableur'!$AB:$AB) -> 2440.07
C50: 61561000_4200 | E50: 20.01 | F50: 615.63 | G50: 873.24 | H50: 1130.86 | I50: =SUMIF('Export tableur'!$Z:$Z,'Balance A'!$C50,'Export tableur'!$AB:$AB) -> 1130.86
C51: 61612000_4200 | E51: 379 | F51: -605 | G51: -605 | H51: -605 | I51: =SUMIF('Export tableur'!$Z:$Z,'Balance A'!$C51,'Export tableur'!$AB:$AB) -> -605
... C158: 79100400_4220 | E158: 0 | F158: 0 | G158: 0 | H158: 0 | I158: =SUMIF('Export tableur'!$Z:$Z,'Balance A'!$C158,'Export tableur'!$AB:$AB) -> 0
C159: 79101000_4200 | F159: -3321.41 | G159: 0 | H159: 0 | I159: =SUMIF('Export tableur'!$Z:$Z,'Balance A'!$C159,'Export tableur'!$AB:$AB) -> 0
C160: 62781000_4200 | G160: 4 | H160: 4 | I160: =SUMIF('Export tableur'!$Z:$Z,'Balance A'!$C160,'Export tableur'!$AB:$AB) -> 4
C161: 66116191_4200 | G161: 910 | H161: 1191.99 | I161: =SUMIF('Export tableur'!$Z:$Z,'Balance A'!$C161,'Export tableur'!$AB:$AB) -> 1191.99

Sheet Balance R
D2: Résultat BG | E2: =SUM(E14:E181) -> 57529.95 | F2: =SUM(F14:F181) -> -54960.27 | G2: =SUM(G14:G181) -> -41207.5 | H2: =SUM(H14:H181) -> 284835.94 | I2: =SUM(I14:I181) -> 284835.94 | J2: =SUM(J14:J181) -> 0 | K2: =SUM(K14:K181) -> 0 | L2: =SUM(L14:L181) -> 0 | ... P2: =SUM(P14:P181) -> 0
D3: Vérif avec export | I3: =ROUND('Export tableur'!$AO$7-I2,0) -> -284836
B5: ='[1]REPORTING RDP'!A2 -> 44682 | D5: Equilibre écritures ajustements | E5: =ROUND(SUM(E182:E413),0) -> 0 | F5: =ROUND(SUM(F182:F413),0) -> 0 | G5: =ROUND(SUM(G182:G413),0) -> 0 | H5: =ROUND(SUM(H182:H413),0) -> 0 | I5: =ROUND(SUM(I182:I413),0) -> 0 | J5: =ROUND(SUM(J182:J413),0) -> 0 | K5: =ROUND(SUM(K182:K413),0) -> 0 | L5: =ROUND(SUM(L182:L413),0) -> 0 | ... P5: =ROUND(SUM(P182:P413),0) -> 0
D9: Ecart marge réelle vs marge budget | E9: ='[1]REPORTING RDP'!M13*0.73-'[1]REPORTING RDP'!M30 -> 856.315 | F9: ='[1]REPORTING RDP'!N13*0.73-'[1]REPORTING RDP'!N30 -> -0.4775 | G9: ='[1]REPORTING RDP'!O13*0.73-'[1]REPORTING RDP'!O30 -> -2932.0218 | H9: ='[1]REPORTING RDP'!P13*0.73-'[1]REPORTING RDP'!P30 -> -204.6446 | I9: ='[1]REPORTING RDP'!Q13*0.73-'[1]REPORTING RDP'!Q30 -> 113373 | J9: ='[1]REPORTING RDP'!R13*0.73-'[1]REPORTING RDP'!R30 -> -111092.17 | K9: ='[1]REPORTING RDP'!S13*0.73-'[1]REPORTING RDP'!S30 -> 0 | L9: ='[1]REPORTING RDP'!T13*0.73-'[1]REPORTING RDP'!T30 -> 0 | ... P9: ='[1]REPORTING RDP'!X13*0.73-'[1]REPORTING RDP'!X30 -> 0
D11: Total Selection Cumul | E11: =SUBTOTAL(9,E14:E901) -> 57529.95 | F11: =SUBTOTAL(9,F14:F901) -> -54960.27 | G11: =SUBTOTAL(9,G14:G901) -> -41207.5 | H11: =SUBTOTAL(9,H14:H901) -> 284835.94 | I11: =SUBTOTAL(9,I14:I901) -> 284835.94 | J11: =SUBTOTAL(9,J14:J901) -> 0 | K11: =SUBTOTAL(9,K14:K901) -> 0 | L11: =SUBTOTAL(9,L14:L901) -> 0 | ... P11: =SUBTOTAL(9,P14:P901) -> 0
D12: Total Sélection mois | E12: =SUBTOTAL(9,E14:E901) -> 57529.95 | F12: =+SUBTOTAL(9,F14:F901)-SUBTOTAL(9,E14:E901) -> -112490.22 | G12: =+SUBTOTAL(9,G14:G901)-SUBTOTAL(9,F14:F901) -> 13752.77 | H12: =+SUBTOTAL(9,H14:H901)-SUBTOTAL(9,G14:G901) -> 326043.44 | I12: =+SUBTOTAL(9,I14:I901)-SUBTOTAL(9,H14:H901) -> 0 | J12: =+SUBTOTAL(9,J14:J901)-SUBTOTAL(9,I14:I901) -> -284835.94 | K12: =+SUBTOTAL(9,K14:K901)-SUBTOTAL(9,J14:J901) -> 0 | L12: =+SUBTOTAL(9,L14:L901)-SUBTOTAL(9,K14:K901) -> 0 | M12: =+SUBTOTAL(9,M14:M901)-SUBTOTAL(9,L14:L901) -> 0 | ... P12: =+SUBTOTAL(9,P14:P901)-SUBTOTAL(9,O14:O901) -> 0
C13: Compte ana BAL | D13: Libellé compta | E13: 44562 | F13: 44593 | G13: 44621 | H13: 44652 | I13: 44682 | J13: 44713 | K13: 44743 | L13: 44774 | M13: 44805 | N13: 44835 | O13: 44866 | P13: 44896
C14: 60110000_4300 | E14: 672.48 | F14: 860 | G14: 1051.88 | H14: 1344.1 | I14: =SUMIF('Export tableur'!$Z:$Z,$C14,'Export tableur'!$AB:$AB) -> 1344.1
C15: 60120000_4300 | E15: 6218.83 | F15: 18037.12 | G15: 33695.73 | H15: 49265.84 | I15: =SUMIF('Export tableur'!$Z:$Z,$C15,'Export tableur'!$AB:$AB) -> 49265.84
C16: 60130000_4300 | E16: 0 | F16: 0 | G16: 0 | H16: 0 | I16: =SUMIF('Export tableur'!$Z:$Z,$C16,'Export tableur'!$AB:$AB) -> 0
C17: 60140000_4300 | E17: 297.97 | F17: 894.97 | G17: 1101.97 | H17: 1101.97 | I17: =SUMIF('Export tableur'!$Z:$Z,$C17,'Export tableur'!$AB:$AB) -> 1101.97
C18: 60310000_4300 | E18: 0 | F18: -4938.99 | G18: -7078.82 | H18: 2851.45 | I18: =SUMIF('Export tableur'!$Z:$Z,$C18,'Export tableur'!$AB:$AB) -> 2851.45
C19: 60320000_4300 | E19: 0 | F19: -1102.15 | G19: -2494.46 | H19: 991.33 | I19: =SUMIF('Export tableur'!$Z:$Z,$C19,'Export tableur'!$AB:$AB) -> 991.33
C20: 60330000_4300 | E20: 0 | F20: 0 | G20: 0 | H20: 0 | I20: =SUMIF('Export tableur'!$Z:$Z,$C20,'Export tableur'!$AB:$AB) -> 0
C21: 60370000_4300 | E21: 0 | F21: -117521.76 | G21: -113260.1 | H21: 116350.54 | I21: =SUMIF('Export tableur'!$Z:$Z,$C21,'Export tableur'!$AB:$AB) -> 116350.54
C22: 60371000_4300 | E22: 0 | F22: -2217.75 | G22: -2814.63 | H22: 1612.5 | I22: =SUMIF('Export tableur'!$Z:$Z,$C22,'Export tableur'!$AB:$AB) -> 1612.5
C23: 60510000_4300 | E23: 0 | F23: 0 | G23: 247.68 | H23: 1014.9 | I23: =SUMIF('Export tableur'!$Z:$Z,$C23,'Export tableur'!$AB:$AB) -> 1014.9
C24: 60611100_4300 | E24: 4796.52 | F24: 9512.23 | G24: 13737.22 | H24: 14775.7 | I24: =SUMIF('Export tableur'!$Z:$Z,$C24,'Export tableur'!$AB:$AB) -> 14775.7
C25: 60612000_4300 | E25: 210 | F25: 420 | G25: 729.11 | H25: 939.11 | I25: =SUMIF('Export tableur'!$Z:$Z,$C25,'Export tableur'!$AB:$AB) -> 939.11
... C45: 61610000_4300 | E45: 1117 | F45: 2234 | G45: 3351 | H45: 4468 | I45: =SUMIF('Export tableur'!$Z:$Z,$C45,'Export tableur'!$AB:$AB) -> 4468
C46: 62110000_4300 | F46: 576.9 | G46: 576.9 | H46: 2233.28 | I46: =SUMIF('Export tableur'!$Z:$Z,$C46,'Export tableur'!$AB:$AB) -> 2233.28
C47: 62112000_4300 | E47: 0 | F47: 0 | G47: 0 | H47: 0 | I47: =SUMIF('Export tableur'!$Z:$Z,$C47,'Export tableur'!$AB:$AB) -> 0
C48: 62210000_4300 | E48: 179 | F48: 358 | G48: 537 | H48: 537 | I48: =SUMIF('Export tableur'!$Z:$Z,$C48,'Export tableur'!$AB:$AB) -> 537
C49: 62220000_4300 | E49: 681.14 | F49: 1622.53 | G49: 2012.55 | H49: 3703.11 | I49: =SUMIF('Export tableur'!$Z:$Z,$C49,'Export tableur'!$AB:$AB) -> 3703.11
C50: 62230000_4300 | E50: 0 | F50: 297.5 | G50: 297.5 | H50: 446.25 | I50: =SUMIF('Export tableur'!$Z:$Z,$C50,'Export tableur'!$AB:$AB) -> 446.25
C51: 62261000_4300 | E51: 0 | F51: 0 | G51: 0 | H51: 0 | I51: =SUMIF('Export tableur'!$Z:$Z,$C51,'Export tableur'!$AB:$AB) -> 0
C52: 62261300_4300 | E52: 0 | F52: 0 | G52: 0 | H52: 0 | I52: =SUMIF('Export tableur'!$Z:$Z,$C52,'Export tableur'!$AB:$AB) -> 0
C53: 62320000_4300 | E53: 0 | F53: 0 | G53: 0 | H53: 0 | I53: =SUMIF('Export tableur'!$Z:$Z,$C53,'Export tableur'!$AB:$AB) -> 0
C54: 62333300_4300 | E54: 453.3 | F54: 1374.97 | G54: 2793.93 | H54: 2793.93 | I54: =SUMIF('Export tableur'!$Z:$Z,$C54,'Export tableur'!$AB:$AB) -> 2793.93
C55: 62350000_4300 | E55: 247.33 | F55: 494.66 | G55: 741.99 | H55: 989.33 | I55: =SUMIF('Export tableur'!$Z:$Z,$C55,'Export tableur'!$AB:$AB) -> 989.33
C56: 62361000_4300 | E56: 0 | F56: 323 | G56: 388 | H56: 388 | I56: =SUMIF('Export tableur'!$Z:$Z,$C56,'Export tableur'!$AB:$AB) -> 388
C57: 62411100_4300 | E57: 52.5 | F57: 101.5 | G57: 234 | H57: 389.63 | I57: =SUMIF('Export tableur'!$Z:$Z,$C57,'Export tableur'!$AB:$AB) -> 389.63
C58: 62512000_4300 | E58: 0 | F58: 20.1 | G58: 20.1 | H58: 56.46 | I58: =SUMIF('Export tableur'!$Z:$Z,$C58,'Export tableur'!$AB:$AB) -> 56.46
... C172: 62782000_4300 | E172: 374.48 | F172: 385.86 | G172: 567.6 | H172: 631.32 | I172: =SUMIF('Export tableur'!$Z:$Z,$C172,'Export tableur'!$AB:$AB) -> 631.32
C173: 79100000_4300 | F173: -3.06 | G173: -4.81 | H173: -23.82 | I173: =SUMIF('Export tableur'!$Z:$Z,$C173,'Export tableur'!$AB:$AB) -> -23.82
C174: 60700000_4300 | H174: 171 | I174: =SUMIF('Export tableur'!$Z:$Z,$C174,'Export tableur'!$AB:$AB) -> 171
C175: 60740000_4300 | H175: 308.16 | I175: =SUMIF('Export tableur'!$Z:$Z,$C175,'Export tableur'!$AB:$AB) -> 308.16
C176: 70611000_4310 | H176: -37615.34 | I176: =SUMIF('Export tableur'!$Z:$Z,$C176,'Export tableur'!$AB:$AB) -> -37615.34
C177: 70621000_4310 | H177: -13634.67 | I177: =SUMIF('Export tableur'!$Z:$Z,$C177,'Export tableur'!$AB:$AB) -> -13634.67
C178: 64120000_4312 | H178: 145.01 | I178: =SUMIF('Export tableur'!$Z:$Z,$C178,'Export tableur'!$AB:$AB) -> 145.01
...

Sheet Balance SIEGE
