Workbook
Name AB_RAQUETTES_A_NEIGE: BdD!$CK$47:$CK$63
Name ABR_1: BdD!$CG$47:$CG$63
Name ABR_2: BdD!$CI$47:$CI$63
Name ACCOMPAGNEMENT_STAGIAIRE_ALTERNANCE: BdD!$CU$47:$CU$48
Name ACCOMPAGNEMENT_VAE_BP: BdD!$AO$47:$AO$63
Name ACCOMPAGNEMENT_VAE_CQP: BdD!$AM$47:$AM$63
Name APA: BdD!$CA$47:$CA$63
Name ATELIER_EQUILIBRE: BdD!$BW$47:$BW$63
Name AUTRE: BdD!$AI$9:$AI$14
Name AUTRE_FORMATIONS: BdD!$CQ$47:$CQ$63
Name AUTRES: BdD!$W$92
Name AUTRES_FORMATIONS: BdD!$CQ$47
Name AVRIL: #REF!
Name BIEN_VIEILLIR: BdD!$BS$47:$BS$63
Name BIEN_VIEILLIR_EQ: BdD!$BU$47:$BU$63
Name BP_AF_ADPS_CO_T: BdD!$Q$47:$Q$63
Name BP_AF_ADPS_SOUS_T: BdD!$S$47:$S$63
Name BP_APT_ADPS_CO_T: BdD!$M$47:$M$63
Name BP_APT_ADPS_SOUS_T: BdD!$O$47:$O$63
Name BP_APT_GUC: BdD!$Y$47:$Y$63
Name BP_JEPS_TSF: BdD!$W$47:$W$63
Name BP_LTP_INFA: BdD!$U$47:$U$63
Name CERTIFICATIONS_BP: BdD!$CW$47
Name CERTIFICATIONS_CQP_ALS: BdD!$CS$47:$CS$51
Name COMMUNICATION: BdD!$K$87:$K$88
Name CPRI: BdD!$AC$92
Name CQP_ALS_AGEE_AFMS_ST_ET: BdD!$AI$47:$AI$63
Name CQP_ALS_AGEE_GUC: BdD!$AE$47:$AE$63
Name CQP_ALS_AGEE_LYON: BdD!$AC$47:$AC$63
Name CQP_ALS_AGEE_TSF: BdD!$AG$47:$AG$63
Name CQP_ALS_AGEE_VOIRON: BdD!$AA$47:$AA$63
Name CQP_ALS_JSJO_ADPS_CLERMONT: BdD!$AK$47:$AK$63
Name CSS: BdD!$BA$47:$BA$63
Name CTEFM: BdD!$K$26:$K$30
Name CTF: BdD!$G$41:$G$60
Name CTFM: BdD!$K$26:$K$30
Name CTSS: BdD!$AU$47:$AU$63
Name DETAIL: #REF!
Name Dev: Tableau101[Dev]
Name DEVELOPPEMENT: BdD!$K$9:$K$20
Name DEVELOPPEMENT_COM: BdD!$M$75:$M$80
Name DOMAINES: BdD!$I$9:$I$14
Name Données_Aout: #REF!
Name Données_Avr: #REF!
Name Données_Dec: #REF!
Name Données_Feb: #REF!
Name Données_Jan: #REF!
Name Données_Juil: #REF!
Name Données_Juin: #REF!
Name Données_Mai: #REF!
Name Données_Mar: #REF!
Name Données_Nov: #REF!
Name Données_Oct: #REF!
Name Données_Sept: 'Sept 18'!$C$5:$J$94
Name E_LEARNING: BdD!$CY$47:$CY$48
Name ENFANTS_7_A_12ANS: BdD!$CE$47:$CE$63
Name ENFANTS_9MOIS_6ANS: BdD!$CC$47:$CC$63
Name ENTRETIENS_INDIVIDUELS: BdD!$M$92
Name EVALUATEUR: BdD!$AS$47:$AS$63
Name ff: BdD!$S$9:$S$14

Sheet BdD
B3: COLONNE 1 | D3: COLONNE 2 | E3: COLONNE 3
B4: Domaines d'Actions | D4: Liste des actions - Missions | E4: Liste des Tâches
B7: DEVELOPPEMENT | D7: REF_ENFANTS | E7: Suivi_Admin_Compte_Rendu
D8: REF_AP_TENDANCE | E8: Etat_des_Lieux_CTFEM | I8: DOMAINES | K8: DEVELOPPEMENT | M8: REF_ENFANTS | O8: REF_AP_TENDANCE | Q8: REF_SENIOR_AUTONOME | S8: REF_AP_EXT | U8: REF_SPORT_EN_ENTREPRISE | W8: REF_PERS_SITUA_HANDI | Y8: REF_MILIEU_CARCERAL | AA8: REF_SENIOR_EN_ETABLISSEMENTS | AC8: REF_GAC | AE8: REF_MULTI_PATHOLOGIES | AG8: REF_PUBLICS_VULNERABLES | AI8: AUTRE
D9: REF_SENIOR_AUTONOME | E9: Accompagnement_CODEP | I9: DEVELOPPEMENT | K9: REF_ENFANTS | M9: Suivi_Admin_Compte_Rendu | O9: Suivi_Admin_Compte_Rendu | Q9: Suivi_Admin_Compte_Rendu | S9: Suivi_Admin_Compte_Rendu | U9: Suivi_Admin_Compte_Rendu | W9: Suivi_Admin_Compte_Rendu | Y9: Suivi_Admin_Compte_Rendu | AA9: Suivi_Admin_Compte_Rendu | AC9: Suivi_Admin_Compte_Rendu | AE9: Suivi_Admin_Compte_Rendu | AG9: Suivi_Admin_Compte_Rendu | AI9: Suivi_Admin_Compte_Rendu
D10: REF_AP_ EXT | E10: Partenariat_Renforcer_Développer_Réunions | I10: CTEFM | K10: REF_AP_TENDANCE | M10: Etat_des_Lieux_CTFEM | O10: Etat_des_Lieux_CTFEM | Q10: Etat_des_Lieux_CTFEM | S10: Etat_des_Lieux_CTFEM | U10: Etat_des_Lieux_CTFEM | W10: Etat_des_Lieux_CTFEM | Y10: Etat_des_Lieux_CTFEM | AA10: Etat_des_Lieux_CTFEM | AC10: Etat_des_Lieux_CTFEM | AE10: Etat_des_Lieux_CTFEM | AG10: Etat_des_Lieux_CTFEM | AI10: Etat_des_Lieux_CTFEM
D11: REF_SPORT_EN_ENTREPRISE | E11: Coordination_ARSEPT_Auvergne | I11: FORMATION | K11: REF_SENIOR_AUTONOME | M11: Accompagnement_CODEP | O11: Accompagnement_CODEP | Q11: Accompagnement_CODEP | S11: Accompagnement_CODEP | U11: Accompagnement_CODEP | W11: Accompagnement_CODEP | Y11: Accompagnement_CODEP | AA11: Accompagnement_CODEP | AC11: Accompagnement_CODEP | AE11: Accompagnement_CODEP | AG11: Accompagnement_CODEP | AI11: Accompagnement_CODEP
D12: REF_PERSONNES_EN_SITUA_DE_HANDI | E12: Soutien_au_Dossier | I12: COMMUNICATION | K12: REF_AP_ EXT | M12: Partenariat_Renforcer_Développer_Réunions | O12: Partenariat_Renforcer_Développer_Réunions | Q12: Partenariat_Renforcer_Développer_Réunions | S12: Partenariat_Renforcer_Développer_Réunions | U12: Partenariat_Renforcer_Développer_Réunions | W12: Partenariat_Renforcer_Développer_Réunions | Y12: Partenariat_Renforcer_Développer_Réunions | AA12: Partenariat_Renforcer_Développer_Réunions | AC12: Partenariat_Renforcer_Développer_Réunions | AE12: Partenariat_Renforcer_Développer_Réunions | AG12: Partenariat_Renforcer_Développer_Réunions | AI12: Partenariat_Renforcer_Développer_Réunions
D13: REF_MILIEU_CARCERAL | I13: VIE_FEDERALE | K13: REF_SPORT_EN_ENTREPRISE | M13: Coordination_ARSEPT_Auvergne | O13: Coordination_ARSEPT_Auvergne | Q13: Coordination_ARSEPT_Auvergne | S13: Coordination_ARSEPT_Auvergne | U13: Coordination_ARSEPT_Auvergne | W13: Coordination_ARSEPT_Auvergne | Y13: Coordination_ARSEPT_Auvergne | AA13: Coordination_ARSEPT_Auvergne | AC13: Coordination_ARSEPT_Auvergne | AE13: Coordination_ARSEPT_Auvergne | AG13: Coordination_ARSEPT_Auvergne | AI13: Coordination_ARSEPT_Auvergne
D14: REF_SENIOR_EN_ETABLISSEMENTS | I14: FPC | K14: REF_PERSONNES_EN_SITUA_DE_HANDI | M14: Soutien_au_Dossier | O14: Soutien_au_Dossier | Q14: Soutien_au_Dossier | S14: Soutien_au_Dossier | U14: Soutien_au_Dossier | W14: Soutien_au_Dossier | Y14: Soutien_au_Dossier | AA14: Soutien_au_Dossier | AC14: Soutien_au_Dossier | AE14: Soutien_au_Dossier | AG14: Soutien_au_Dossier | AI14: Soutien_au_Dossier
D15: REF_GAC | K15: REF_MILIEU_CARCERAL
D16: REF_MULTI_PATHOLOGIE | K16: REF_SENIOR_EN_ETABLISSEMENTS
D17: REF_PUBLICS_VULNERABLES | G17: Dev | K17: REF_GAC
D18: AUTRE | G18: REF_ENFANTS | K18: REF_MULTI_PATHOLOGIE
B19: CTFEM | D19: SUIVI_DE_COHORTES | E19: Suivi_Fichier_Animateurs | G19: REF_AP_TENDANCE | I19: Lieux | K19: REF_PUBLICS_VULNERABLES
D20: SENSIBILISATION_FC_ANIMATEURS | E20: Admin_Formation_Continue_Des_Animateurs | G20: REF_SENIOR_AUTONOME | I20: Domicile | K20: AUTRE
E21: Faf_Formation_Continue_Des_Animateurs | G21: REF_AP_ EXT | I21: Antenne
E22: Compte_Rendu_Formation_Continue_Des_Animateurs | G22: REF_SPORT_EN_ENTREPRISE | I22: Siège du COREG
E23: Autre_Formation_Continue_Des_Animateurs | G23: REF_PERSONNES_EN_SITUA_DE_HANDI | I23: Autre
D24: PROFESSIONNALISATION | E24: Construction_Des_Emplois | G24: REF_MILIEU_CARCERAL
E25: Aide_Aux_Contrats_De_Travail | G25: REF_SENIOR_EN_ETABLISSEMENTS | K25: CTEFM | M25: SUIVI_DE_COHORTES | O25: SENSIBILISATION_FC_ANIMATEURS | Q25: PROFESSIONNALISATION | S25: RECRUTEMENT_CLUBS_CODEP | U25: RECRUTEMENT_STAGIAIRES_FORMATION
E26: Accompagnement_Clubs_Codep_Mutualisation_Emploi_GE | G26: REF_GAC | K26: SUIVI_DE_COHORTES | M26: Suivi_Fichier_Animateurs | O26: Admin_Formation_Continue_Des_Animateurs | Q26: Construction_Des_Emplois | S26: Suivi_Admin_Compte_Rendu | U26: Admin_Informations_Formation
E27: Veille_Juridique | G27: REF_MULTI_PATHOLOGIE | K27: SENSIBILISATION_FC_ANIMATEURS | O27: Faf_Formation_Continue_Des_Animateurs | Q27: Aide_Aux_Contrats_De_Travail | S27: Recherche_Démarchage
E28: Suivi_Admin_Compte_Rendu | G28: REF_PUBLICS_VULNERABLES | K28: PROFESSIONNALISATION | O28: Compte_Rendu_Formation_Continue_Des_Animateurs | Q28: Accompagnement_Clubs_Codep_Mutualisation_Emploi_GE
E29: Autre | G29: AUTRE | K29: RECRUTEMENT_CLUBS_CODEP | O29: Autre_Formation_Continue_Des_Animateurs | Q29: Veille_Juridique
D30: RECRUTEMENT_CLUBS_CODEP | E30: Suivi_Admin_Compte_Rendu | K30: RECRUTEMENT_STAGIAIRES_FORMATION | Q30: Suivi_Admin_Compte_Rendu
E31: Recherche_Démarchage | G31: Suivi_Admin_Compte_Rendu | Q31: Autre
D32: RECRUTEMENT_STAGIAIRES_FORMATION | E32: Admin_Informations_Formation | G32: Etat_des_Lieux_CTFEM
B33: FORMATION | C33: Formation aux métiers du sport ET Formations Fédérales | D33: BP_APT_ADPS_CO_T | E33: Préparation_Contenus_Formations | G33: Accompagnement_CODEP
D34: BP_APT_ADPS_ SOUS_T | E34: Faf_Formations | G34: Partenariat_Renforcer_Développer_Réunions
D35: BP_AF_ADPS_CO_T | E35: Suivi_Pédagogique_Stagiaire | G35: Coordination_ARSEPT_Auvergne | K35: FORMATION
D36: BP AF_ADPS_SOUS_T | E36: Admin_Formation | G36: Soutien_au_Dossier | K36: BP_APT_ADPS_CO_T
D37: BP_LTP_INFA | E37: Positionnement_Stagiaire_Amont_Formation_Fédérale | K37: BP_APT_ADPS_SOUS_T
D38: BP_JEPS_TSF | K38: BP_AF_ADPS_CO_T
D39: BP_APT_GUC | K39: BP_AF_ADPS_SOUS_T
D40: CQP_ALS_AGEE_VOIRON | G40: CTF | K40: BP_LTP_INFA
D41: CQP_ALS_AGEE_LYON | G41: SUIVI_DE_COHORTES | K41: BP_JEPS_TSF
D42: CQP_ALS_AGEE_ GUC | G42: SENSIBILISATION_FC_ANIMATEURS | K42: BP_APT_GUC
D43: CQP_ALS_AGEE_TSF | G43: PROFESSIONNALISATION | K43: CQP_ALS_AGEE_VOIRON
D44: CQP_ALS_AGEE_AFMS_ST_ET | G44: RECRUTEMENT_CLUBS_CODEP | K44: CQP_ALS_AGEE_LYON
D45: CQP_ALS_JSJO_ADPS_CLERMONT | G45: RECRUTEMENT_STAGIAIRES_FORMATION | K45: CQP_ALS_AGEE_GUC
D46: ACCOMPAGNEMENT_VAE_CQP | K46: CQP_ALS_AGEE_TSF | M46: BP_APT_ADPS_CO_T | O46: BP_APT_ADPS_SOUS_T | Q46: BP_AF_ADPS_CO_T | S46: BP_AF_ADPS_SOUS_T | U46: BP_LTP_INFA | W46: BP_JEPS_TSF | Y46: BP_APT_GUC | AA46: CQP_ALS_AGEE_VOIRON | AC46: CQP_ALS_AGEE_LYON | AE46: CQP_ALS_AGEE_GUC | AG46: CQP_ALS_AGEE_TSF | AI46: CQP_ALS_AGEE_AFMS_ST_ET | AK46: CQP_ALS_JSJO_ADPS_CLERMONT | AM46: ACCOMPAGNEMENT_VAE_CQP | AO46: ACCOMPAGNEMENT_VAE_BP | AQ46: TUTEUR_ACCOMPAGNATEUR | AS46: EVALUATEUR | AU46: CTSS | AW46: MASS | AY46: MNSS | BA46: CSS | BC46: TENDANCE_BT | BE46: TENDANCE_PILATES | BG46: TENDANCE_FITBALL | BI46: TENDANCE_BZ | BK46: TENDANCE_DANCE_MOVE | BM46: TENDANCE_BOXING_ENERGY | BO46: TENDANCE_STRETCHING | BQ46: TENDANCE_FITWORK | BS46: BIEN_VIEILLIR | BU46: BIEN_VIEILLIR_EQ | BW46: ATELIER_EQUILIBRE | BY46: PROGRAMME_GYMMEMOIRE | CA46: APA | CC46: ENFANTS_9MOIS_6ANS | CE46: ENFANTS_7_A_12ANS | CG46: ABR_1 | CI46: ABR_2 | CK46: AB_RAQUETTES_A_NEIGE | CM46: ROB | CO46: POSITIONNEMENT_CQP | CQ46: AUTRES_FORMATIONS | CS46: CERTIFICATIONS_CQP_ALS | CU46: ACCOMPAGNEMENT_STAGIAIRE_ALTERNANCE | CW46: CERTIFICATIONS_BP | CY46: E_LEARNING
D47: ACCOMPAGNEMENT_VAE_BP | G47: Suivi_Fichier_Animateurs | K47: CQP_ALS_AGEE_AFMS_ST_ET | M47: Préparation_Contenus_Formations | O47: Préparation_Contenus_Formations | Q47: Préparation_Contenus_Formations | S47: Préparation_Contenus_Formations | U47: Préparation_Contenus_Formations | W47: Préparation_Contenus_Formations | Y47: Préparation_Contenus_Formations | AA47: Préparation_Contenus_Formations | AC47: Préparation_Contenus_Formations | AE47: Préparation_Contenus_Formations | AG47: Préparation_Contenus_Formations | AI47: Préparation_Contenus_Formations | AK47: Préparation_Contenus_Formations | AM47: Préparation_Contenus_Formations | AO47: Préparation_Contenus_Formations | AQ47: Préparation_Contenus_Formations | AS47: Préparation_Contenus_Formations | AU47: Préparation_Contenus_Formations | AW47: Préparation_Contenus_Formations | AY47: Préparation_Contenus_Formations | BA47: Préparation_Contenus_Formations | BC47: Préparation_Contenus_Formations | BE47: Préparation_Contenus_Formations | BG47: Préparation_Contenus_Formations | BI47: Préparation_Contenus_Formations | BK47: Préparation_Contenus_Formations | BM47: Préparation_Contenus_Formations | BO47: Préparation_Contenus_Formations | BQ47: Préparation_Contenus_Formations | BS47: Préparation_Contenus_Formations | BU47: Préparation_Contenus_Formations | BW47: Préparation_Contenus_Formations | BY47: Préparation_Contenus_Formations | CA47: Préparation_Contenus_Formations | CC47: Préparation_Contenus_Formations | CE47: Préparation_Contenus_Formations | CG47: Préparation_Contenus_Formations | CI47: Préparation_Contenus_Formations | CK47: Préparation_Contenus_Formations | CM47: Préparation_Contenus_Formations | CO47: Faf_Positionnement | CQ47: Préparation_Contenus_Formations | CS47: Lecture_Dossier_UC1 | CU47: Tutorat | CW47: Participation_Expert | CY47: Faf_Stagiaire
D48: TUTEUR_ACCOMPAGNATEUR | G48: Admin_Formation_Continue_Des_Animateurs | K48: CQP_ALS_JSJO_ADPS_CLERMONT | M48: Faf_Formations | O48: Faf_Formations | Q48: Faf_Formations | S48: Faf_Formations | U48: Faf_Formations | W48: Faf_Formations | Y48: Faf_Formations | AA48: Faf_Formations | AC48: Faf_Formations | AE48: Faf_Formations | AG48: Faf_Formations | AI48: Faf_Formations | AK48: Faf_Formations | AM48: Faf_Formations | AO48: Faf_Formations | AQ48: Faf_Formations | AS48: Faf_Formations | AU48: Faf_Formations | AW48: Faf_Formations | AY48: Faf_Formations | BA48: Faf_Formations | BC48: Faf_Formations | BE48: Faf_Formations | BG48: Faf_Formations | BI48: Faf_Formations | BK48: Faf_Formations | BM48: Faf_Formations | BO48: Faf_Formations | BQ48: Faf_Formations | BS48: Faf_Formations | BU48: Faf_Formations | BW48: Faf_Formations | BY48: Faf_Formations | CA48: Faf_Formations | CC48: Faf_Formations | CE48: Faf_Formations | CG48: Faf_Formations | CI48: Faf_Formations | CK48: Faf_Formations | CM48: Faf_Formations | CO48: Admin_Positionnement | CQ48: Faf_Formations | CS48: Faf_Jury | CU48: Visite_Pédagogique_Structure_Et_CR | CY48: Admin_Formation
D49: EVALUATEUR | G49: Faf_Formation_Continue_Des_Animateurs | K49: ACCOMPAGNEMENT_VAE_CQP | M49: Suivi_Pédagogique_Stagiaire | O49: Suivi_Pédagogique_Stagiaire | Q49: Suivi_Pédagogique_Stagiaire | S49: Suivi_Pédagogique_Stagiaire | U49: Suivi_Pédagogique_Stagiaire | W49: Suivi_Pédagogique_Stagiaire | Y49: Suivi_Pédagogique_Stagiaire | AA49: Suivi_Pédagogique_Stagiaire | AC49: Suivi_Pédagogique_Stagiaire | AE49: Suivi_Pédagogique_Stagiaire | AG49: Suivi_Pédagogique_Stagiaire | AI49: Suivi_Pédagogique_Stagiaire | AK49: Suivi_Pédagogique_Stagiaire | AM49: Suivi_Pédagogique_Stagiaire | AO49: Suivi_Pédagogique_Stagiaire | AQ49: Suivi_Pédagogique_Stagiaire | AS49: Suivi_Pédagogique_Stagiaire | AU49: Suivi_Pédagogique_Stagiaire | AW49: Suivi_Pédagogique_Stagiaire | AY49: Suivi_Pédagogique_Stagiaire | BA49: Suivi_Pédagogique_Stagiaire | BC49: Suivi_Pédagogique_Stagiaire | BE49: Suivi_Pédagogique_Stagiaire | BG49: Suivi_Pédagogique_Stagiaire | BI49: Suivi_Pédagogique_Stagiaire | BK49: Suivi_Pédagogique_Stagiaire | BM49: Suivi_Pédagogique_Stagiaire | BO49: Suivi_Pédagogique_Stagiaire | BQ49: Suivi_Pédagogique_Stagiaire | BS49: Suivi_Pédagogique_Stagiaire | BU49: Suivi_Pédagogique_Stagiaire | BW49: Suivi_Pédagogique_Stagiaire | BY49: Suivi_Pédagogique_Stagiaire | CA49: Suivi_Pédagogique_Stagiaire | CC49: Suivi_Pédagogique_Stagiaire | CE49: Suivi_Pédagogique_Stagiaire | CG49: Suivi_Pédagogique_Stagiaire | CI49: Suivi_Pédagogique_Stagiaire | CK49: Suivi_Pédagogique_Stagiaire | CM49: Suivi_Pédagogique_Stagiaire | CQ49: Suivi_Pédagogique_Stagiaire | CS49: Organisation_Certifications
D50: CTSS | G50: Compte_Rendu_Formation_Continue_Des_Animateurs | K50: ACCOMPAGNEMENT_VAE_BP | M50: Admin_Formation | O50: Admin_Formation | Q50: Admin_Formation | S50: Admin_Formation | U50: Admin_Formation | W50: Admin_Formation | Y50: Admin_Formation | AA50: Admin_Formation | AC50: Admin_Formation | AE50: Admin_Formation | AG50: Admin_Formation | AI50: Admin_Formation | AK50: Admin_Formation | AM50: Admin_Formation | AO50: Admin_Formation | AQ50: Admin_Formation | AS50: Admin_Formation | AU50: Admin_Formation | AW50: Admin_Formation | AY50: Admin_Formation | BA50: Admin_Formation | BC50: Admin_Formation | BE50: Admin_Formation | BG50: Admin_Formation | BI50: Admin_Formation | BK50: Admin_Formation | BM50: Admin_Formation | BO50: Admin_Formation | BQ50: Admin_Formation | BS50: Admin_Formation | BU50: Admin_Formation | BW50: Admin_Formation | BY50: Admin_Formation | CA50: Admin_Formation | CC50: Admin_Formation | CE50: Admin_Formation | CG50: Admin_Formation | CI50: Admin_Formation | CK50: Admin_Formation | CM50: Admin_Formation | CQ50: Admin_Formation | CS50: Organisation_Commission_de_Jury
D51: MASS | G51: Autre_Formation_Continue_Des_Animateurs | K51: TUTEUR_ACCOMPAGNATEUR | M51: Positionnement_Stagiaire_Amont_Formation_Fédérale | O51: Positionnement_Stagiaire_Amont_Formation_Fédérale | Q51: Positionnement_Stagiaire_Amont_Formation_Fédérale | S51: Positionnement_Stagiaire_Amont_Formation_Fédérale | U51: Positionnement_Stagiaire_Amont_Formation_Fédérale | W51: Positionnement_Stagiaire_Amont_Formation_Fédérale | Y51: Positionnement_Stagiaire_Amont_Formation_Fédérale | AA51: Positionnement_Stagiaire_Amont_Formation_Fédérale | AC51: Positionnement_Stagiaire_Amont_Formation_Fédérale | AE51: Positionnement_Stagiaire_Amont_Formation_Fédérale | AG51: Positionnement_Stagiaire_Amont_Formation_Fédérale | AI51: Positionnement_Stagiaire_Amont_Formation_Fédérale | AK51: Positionnement_Stagiaire_Amont_Formation_Fédérale | AM51: Positionnement_Stagiaire_Amont_Formation_Fédérale | AO51: Positionnement_Stagiaire_Amont_Formation_Fédérale | AQ51: Positionnement_Stagiaire_Amont_Formation_Fédérale | AS51: Positionnement_Stagiaire_Amont_Formation_Fédérale | AU51: Positionnement_Stagiaire_Amont_Formation_Fédérale | AW51: Positionnement_Stagiaire_Amont_Formation_Fédérale | AY51: Positionnement_Stagiaire_Amont_Formation_Fédérale | BA51: Positionnement_Stagiaire_Amont_Formation_Fédérale | BC51: Positionnement_Stagiaire_Amont_Formation_Fédérale | BE51: Positionnement_Stagiaire_Amont_Formation_Fédérale | BG51: Positionnement_Stagiaire_Amont_Formation_Fédérale | BI51: Positionnement_Stagiaire_Amont_Formation_Fédérale | BK51: Positionnement_Stagiaire_Amont_Formation_Fédérale | BM51: Positionnement_Stagiaire_Amont_Formation_Fédérale | BO51: Positionnement_Stagiaire_Amont_Formation_Fédérale | BQ51: Positionnement_Stagiaire_Amont_Formation_Fédérale | BS51: Positionnement_Stagiaire_Amont_Formation_Fédérale | BU51: Positionnement_Stagiaire_Amont_Formation_Fédérale | BW51: Positionnement_Stagiaire_Amont_Formation_Fédérale | BY51: Positionnement_Stagiaire_Amont_Formation_Fédérale | CA51: Positionnement_Stagiaire_Amont_Formation_Fédérale | CC51: Positionnement_Stagiaire_Amont_Formation_Fédérale | CE51: Positionnement_Stagiaire_Amont_Formation_Fédérale | CG51: Positionnement_Stagiaire_Amont_Formation_Fédérale | CI51: Positionnement_Stagiaire_Amont_Formation_Fédérale | CK51: Positionnement_Stagiaire_Amont_Formation_Fédérale | CM51: Positionnement_Stagiaire_Amont_Formation_Fédérale | CQ51: Positionnement_Stagiaire_Amont_Formation_Fédérale | CS51: Compte_Rendu
D52: MNSS | G52: Construction_Des_Emplois | K52: EVALUATEUR
D53: CSS | G53: Aide_Aux_Contrats_De_Travail | K53: CTSS
D54: TENDANCE_BT | G54: Accompagnement_Clubs_Codep_Mutualisation_Emploi_GE | K54: MASS
D55: TENDANCE_PILATES | G55: Veille_Juridique | K55: MNSS
D56: TENDANCE_FIT'BALL | G56: Suivi_Admin_Compte_Rendu | K56: CSS
D57: TENDANCE_BZ | G57: Autre | K57: TENDANCE_BT
D58: TENDANCE_DANCE_MOVE | G58: Recherche_Démarchage | K58: TENDANCE_PILATES
D59: TENDANCE_BOXING_ENERGY | G59: Admin_Informations_Formation | K59: TENDANCE_FITBALL
D60: TENDANCE_STRETCHING | K60: TENDANCE_BZ
D61: TENDANCE_FIT'WORK | K61: TENDANCE_DANCE_MOVE
D62: BIEN_VIEILLIR | G62: For | K62: TENDANCE_BOXING_ENERGY
D63: BIEN_VIEILLIR_EQ | G63: BP_APT_ADPS_CO_T | K63: TENDANCE_STRETCHING
D64: ATELIER_EQUILIBRE | G64: BP_APT_ADPS_ SOUS_T | K64: TENDANCE_FITWORK
D65: PROGRAMME_GYM_MEMOIRE | G65: BP_AF_ADPS_CO_T | K65: BIEN_VIEILLIR
D66: APA | G66: BP AF_ADPS_SOUS_T | K66: BIEN_VIEILLIR_EQ
D67: ENFANTS_9MOIS_6ANS | G67: BP_LTP_INFA | K67: ATELIER_EQUILIBRE
D68: ENFANTS_7_12ANS | G68: BP_JEPS_TSF | K68: PROGRAMME_GYMMEMOIRE
D69: ABR1 | G69: BP_APT_GUC | K69: APA
D70: ABR2 | G70: CQP_ALS_AGEE_VOIRON | K70: ENFANTS_9MOIS_6ANS
D71: AB_RAQUETTES_A_NEIGE | G71: CQP_ALS_AGEE_LYON | K71: ENFANTS_7_A_12ANS
D72: ROB | G72: CQP_ALS_AGEE_ GUC | K72: ABR_1
D73: AUTRES_FORMATIONS | G73: CQP_ALS_AGEE_TSF | K73: ABR_2
D74: E_LEARNING | E74: Faf_Stagiaire | G74: CQP_ALS_AGEE_AFMS_ST_ET | K74: AB_RAQUETTES_A_NEIGE | M74: DEVELOPPEMENT_COM | O74: FORMATION_COM
E75: Admin_Formation | G75: CQP_ALS_JSJO_ADPS_CLERMONT | K75: ROB | M75: Conception_Outils_Développement | O75: Conception_Outils_Formation
D76: POSITIONNEMENT_CQP | E76: Faf_Positionnement | G76: ACCOMPAGNEMENT_VAE_CQP | K76: E_LEARNING | M76: Organisation_Salons_Forums_Evènements_Portes_Ouvertes | O76: Participation_Evènements_Forum_Portes_Ouvertes_Salons
E77: Admin_Positionnement | G77: ACCOMPAGNEMENT_VAE_BP | K77: POSITIONNEMENT_CQP | M77: Participation_Evènements_Forums_Portes_Ouvertes_Salons | O77: Admin_Préparation_CR
D78: CERTIFICATIONS_CQP_ALS | E78: Lecture_Dossier_UC1 | G78: TUTEUR_ACCOMPAGNATEUR | K78: AUTRES_FORMATIONS | M78: Admin_Préparation_Compte_Rendu
E79: Faf_Jury | G79: EVALUATEUR | K79: CERTIFICATIONS_CQP_ALS | M79: Animation_Facebook
E80: Organisation_Certifications | G80: CTSS | K80: ACCOMPAGNEMENT_STAGIAIRE_ALTERNANCE | M80: Animation_Site_Internet
E81: Organisation_Commission_De_Jury | G81: MASS | K81: CERTIFICATIONS_BP
E82: Compte_Rendu | G82: MNSS
D83: ACCOMPAGNEMENT_STAGIAIRE_ALTERNANCE | E83: Tutorat | G83: CSS
E84: Visite_Pédagogique_Structure_Et_CR | G84: TENDANCE_BT
D85: CERTIFICATIONS_BP | E85: Participation_Expert | G85: TENDANCE_PILATES
B86: COMMUNICATION | C86: Au service du développement Au service de la communication | D86: DÉVELOPPEMENT | E86: Conception_Outils_Développement | G86: TENDANCE_FIT'BALL | K86: COMMUNICATION
E87: Organisation_Salons_Forums_Evènements_Portes_Ouvertes | G87: TENDANCE_BZ | K87: DEVELOPPEMENT_COM
E88: Participation_Evènements_Forums_Portes_Ouvertes_Salons | G88: TENDANCE_DANCE_MOVE | K88: FORMATION_COM
E89: Admin_Préparation_Compte_Rendu | G89: TENDANCE_BOXING_ENERGY
E90: Animation_Facebook | G90: TENDANCE_STRETCHING
E91: Animation_Site_Internet | G91: TENDANCE_FIT'WORK | M91: ENTRETIENS_INDIVIDUELS | O91: ETR | Q91: REUNIONS_COREG | S91: SUIVI_ADMIN | U91: PARTICIPATIONS_CELLULES | W91: AUTRES | Y91: MATERIEL_PEDA | AA91: DOCUMENTS_DIVERS | AC91: CPRI
G92: BIEN_VIEILLIR | M92: Participation | O92: Réunion | Q92: Participation | S92: Décompte_Mensuel | U92: CTFEM | W92: Congé_Special_Déménagement_Mariage… | Y92: Gestion | AA92: Lecture_Et_Prise_De_Connaissance | AC92: Participation
D93: FORMATION | E93: Conception_Outils_Formation | G93: BIEN_VIEILLIR_EQ | K93: VIE_FEDERALE | O93: Séminaire | S93: Frais_Mensuels | U93: CEDEV
E94: Participation_Evènements_Forum_Portes_Ouvertes_Salons | G94: ATELIER_EQUILIBRE | K94: ENTRETIENS_INDIVIDUELS | S94: Compte_Rendu_Mensuel_D'Action | U94: CECOM
E95: Admin_Préparation_CR | G95: PROGRAMME_GYM_MEMOIRE | K95: ETR | U95: CEMED
G96: APA | K96: REUNIONS_COREG
G97: ENFANTS_9MOIS_6ANS | K97: SUIVI_ADMIN
B98: VIE FÉDÉRALE | D98: ENTRETIENS_INDIVIDUELS | E98: Participation | G98: ENFANTS_7_12ANS | K98: PARTICIPATION_CELLULES
D99: ETR | E99: Réunion | G99: ABR1 | K99: AUTRES
E100: Séminaire | G100: ABR2 | K100: MATERIEL_PEDA
D101: REUNIONS_COREG | E101: Participation | G101: AB_RAQUETTES_A_NEIGE | K101: DOCUMENTS_DIVERS
D102: SUIVI_ADMIN | E102: Décompte_Mensuel | G102: ROB | K102: CPRI
E103: Frais_Mensuels | G103: AUTRES_FORMATIONS
E104: Compte_Rendu_Mensuel_D'Action | G104: E_LEARNING
...

Sheet Calcul
D3: 41882
B5: Étiquettes de lignes | C5: Somme de Heures effec fant | F5: Valeurs
B6: (vide) | C6: 0 | E6: Étiquettes de lignes | F6: Somme de Heures dep fant | G6: Somme de Km
B7: (vide) | C7: 0 | E7: CTEFM | F7: 0.75 | G7: 43
B8: (vide) | C8: 0 | E8: DEVELOPPEMENT | F8: 1.4166667 | G8: 75
B9: DEVELOPPEMENT | C9: 7.5 | E9: FORMATION | F9: 3.1666667 | G9: 316
B10: REF_AP_TENDANCE | C10: 7.5 | E10: (vide) | F10: 0
B11: Accompagnement_CODEP | C11: 1.5 | E11: Total général | F11: 5.3333333 | G11: 434
B12: Suivi_Admin_Compte_Rendu | C12: 2
B13: Partenariat_Renforcer_Développer_Réunions | C13: 4
B14: FORMATION | C14: 33.5
B15: CERTIFICATIONS_CQP_ALS | C15: 7
B16: Faf_Jury | C16: 3
B17: Lecture_Dossier_UC1 | C17: 4
B18: CQP_ALS_AGEE_LYON | C18: 21.5 | F18: =GETPIVOTDATA("Somme de Heures dep fant",F7)/24 -> 0.22222222
B19: Faf_Formations | C19: 7
B20: Suivi_Pédagogique_Stagiaire | C20: 6.5
B21: Préparation_Contenus_Formations | C21: 5
B22: Admin_Formation | C22: 3
B23: ACCOMPAGNEMENT_STAGIAIRE_ALTERNANCE | C23: 5
B24: Organisation_salon_Forum_Evènement | C24: 5
B25: CTEFM | C25: 3.5
B26: REF_AP_TENDANCE | C26: 3.5
B27: Etat_des_Lieux_CTFEM | C27: 3.5
B28: Total général | C28: 44.5

Sheet Répartition Heures
B3: Suivi de Missions des membres
B8: NOM : | C8: PRÉNOM : | D8: FONCTION :
B11: Domaines d'activité | C11: Missions-Actions | D11: Nombre d'heures annuelles | F11: Mois | G11: Nombre d'heures | H11: Temps de déplacement | I11: Total du mois | K11: Temps récup pris en heures | L11: CP en jour Pris | M11: km effectués
B12: DÉVELOPPEMENT Publics et des Pratiques | C12: Référent Dossier, Autre | D12: 2.0416667 | F12: Septembre | G12: =GETPIVOTDATA("Heures effec fant",Calcul!$B$5)/24 -> 1.8541667 | H12: =GETPIVOTDATA("Somme de Heures dep fant",Calcul!$E$5)/24 -> 0.22222222 | I12: =G12+H12 -> 2.0763889 | M12: =GETPIVOTDATA("Somme de Km",Calcul!$E$5) -> 434 | Q12: =D12 -> 2.0416667
F13: Octobre | G13: =GETPIVOTDATA("Heures effec fant",Calcul!$I$5)/24 -> #REF! | H13: =GETPIVOTDATA("Somme de Heures dep fant",Calcul!$L$5)/24 -> #REF! | I13: =G13+H13 -> #REF! | M13: =GETPIVOTDATA("Somme de Km",Calcul!$L$5) -> #REF! | Q13: =D26 -> 23.333333
F14: Novembre | G14: =GETPIVOTDATA("Heures effec fant",Calcul!$P$5)/24 -> #REF! | H14: =GETPIVOTDATA("Somme de Heures dep fant",Calcul!$S$5)/24 -> #REF! | I14: =G14+H14 -> #REF! | M14: =GETPIVOTDATA("Somme de Km",Calcul!$S$5) -> #REF! | Q14: =D42 -> 0
F15: Décembre | G15: =GETPIVOTDATA("Heures effec fant",Calcul!$W$5)/24 -> #REF! | H15: =GETPIVOTDATA("Somme de Heures dep fant",Calcul!$Z$5)/24 -> #REF! | I15: =G15+H15 -> #REF! | M15: =GETPIVOTDATA("Somme de Km",Calcul!$Z$5) -> #REF! | Q15: =D50 -> 0
F16: Janvier | G16: =GETPIVOTDATA("Heures effec fant",Calcul!$AD$5)/24 -> #REF! | H16: =GETPIVOTDATA("Somme de Heures dep fant",Calcul!$AG$5)/24 -> #REF! | I16: =G16+H16 -> #REF! | M16: =GETPIVOTDATA("Somme de Km",Calcul!$AG$5) -> #REF! | Q16: =D56 -> 2.0416667
F17: Février | G17: =GETPIVOTDATA("Heures effec fant",Calcul!$AK$5)/24 -> #REF! | H17: =GETPIVOTDATA("Somme de Heures dep fant",Calcul!$AN$5)/24 -> #REF! | I17: =G17+H17 -> #REF! | M17: =GETPIVOTDATA("Somme de Km",Calcul!$AN$5) -> #REF! | Q17: =D62 -> 2.75
F18: Mars | G18: =GETPIVOTDATA("Heures effec fant",Calcul!$AR$5)/24 -> #REF! | H18: =GETPIVOTDATA("Somme de Heures dep fant",Calcul!$AU$5)/24 -> #REF! | I18: =G18+H18 -> #REF! | M18: =GETPIVOTDATA("Somme de Km",Calcul!$AU$5) -> #REF! | Q18: =D73 -> 0.66666667
F19: Avril | G19: =GETPIVOTDATA("Heures effec fant",Calcul!$AY$5)/24 -> #REF! | H19: =GETPIVOTDATA("Somme de Heures dep fant",Calcul!$BB$5)/24 -> #REF! | I19: =G19+H19 -> #REF! | M19: =GETPIVOTDATA("Somme de Km",Calcul!$BB$5) -> #REF! | Q19: =D76 -> 2.0833333
F20: Mai | G20: =GETPIVOTDATA("Heures effec fant",Calcul!$BF$5)/24 -> #REF! | H20: =GETPIVOTDATA("Somme de Heures dep fant",Calcul!$BI$5)/24 -> #REF! | I20: =G20+H20 -> #REF! | M20: =GETPIVOTDATA("Somme de Km",Calcul!$BI$5) -> #REF!
F21: Juin | G21: =GETPIVOTDATA("Heures effec fant",Calcul!$BM$5)/24 -> #REF! | H21: =GETPIVOTDATA("Somme de Heures dep fant",Calcul!$BP$5)/24 -> #REF! | I21: =G21+H21 -> #REF! | M21: =GETPIVOTDATA("Somme de Km",Calcul!$BP$5) -> #REF!
F22: Juillet | G22: =GETPIVOTDATA("Heures effec fant",Calcul!$BT$5)/24 -> #REF! | H22: =GETPIVOTDATA("Somme de Heures dep fant",Calcul!$BW$5)/24 -> #REF! | I22: =G22+H22 -> #REF! | M22: =GETPIVOTDATA("Somme de Km",Calcul!$BW$5) -> #REF!
F23: Août | G23: =GETPIVOTDATA("Heures effec fant",Calcul!$CA$5)/24 -> #REF! | H23: =GETPIVOTDATA("Somme de Heures dep fant",Calcul!$CD$5)/24 -> #REF! | I23: =G23+H23 -> #REF! | M23: =GETPIVOTDATA("Somme de Km",Calcul!$CD$5) -> #REF!
G24: =SUM(G12:G23) -> #REF! | H24: =SUM(H12:H23) -> #REF! | I24: =SUM(I12:I23) -> #REF! | K24: =SUM(K12:K23) -> 0 | L24: =SUM(L12:L23) -> 0 | M24: =SUM(M12:M23) -> #REF!
B26: FORMATIONS Métiers du Sport et Fédérales | C26: Formations aux Métiers du Sport ( BP JEPS, CQP ALS, VAE ) Formations fédérales (Tendance-BV-ABR...) | D26: 23.333333 | F26: Nombre d'heures restantes | I26: =D78-I24 -> #REF!
B42: Communication | C42: au service du DÉVELOPPEMENT | D42: 0
C50: au service de la FORMATION | D50: 0
B56: CTFEM | C56: Suivi de cohortes, F°C Animateurs, Professionnalisation, Recrutement | D56: 2.0416667
B62: VIE FÉDÉRALE | C62: COREG / ETR | D62: 2.75
B73: FPC | C73: Formations fédérales, autres | D73: 0.66666667
B76: DEPLACEMENTS | D76: 2.0833333
B78: Total heures annuelles | D78: =SUM(D12:D76) -> 32.916667

Sheet Décompte par missions
A3: DOMAINES | C3: Nbre heures | D3: LISTE MISSIONS / Taches | E3: Nbre heures | F3: Total | G3: Sept 18 | H3: Heures totales effectuées | I3: Total | J3: Heures totales restantes
A4: DEVELOPPEMENT | B4: Référent Dossier et Autre | C4: ='Répartition Heures'!Q12 -> 2.0416667 | D4: REF_AP_TENDANCE | E4: =SUM(E5:E8) -> 2.0416667 | F4: =SUM(E4:E18)/2 -> 2.0416667 | H4: =SUM(G4:G4) -> 0 | I4: =SUM(H4:H18) -> 0 | J4: =C4-SUM(H4:H18) -> 2.0416667
D5: Suivi_Admin_Compte_Rendu | E5: 0.16666667 | H5: =SUM(G5:G5) -> 0
D6: Etat_des_Lieux_CTFEM | E6: 0.29166667 | H6: =SUM(G6:G6) -> 0
D7: Accompagnement_CODEP | E7: 1.4583333 | H7: =SUM(G7:G7) -> 0
D8: Partenariat_Renforcer_Développer_Réunions | E8: 0.125 | H8: =SUM(G8:G8) -> 0
H9: =SUM(G9:G9) -> 0
H10: =SUM(G10:G10) -> 0
H11: =SUM(G11:G11) -> 0
H12: =SUM(G12:G12) -> 0
H13: =SUM(G13:G13) -> 0
H14: =SUM(G14:G14) -> 0
H15: =SUM(G15:G15) -> 0
H16: =SUM(G16:G16) -> 0
H17: =SUM(G17:G17) -> 0
H18: =SUM(G18:G18) -> 0
A19: FORMATIONS | B19: Formations aux Métiers du Sport - Formations fédérales - | C19: ='Répartition Heures'!Q13 -> 23.333333 | D19: CQP_ALS_AGEE_LYON | E19: =SUM(E20:E23) -> 4.375 | F19: =SUM(E19:E118)/2 -> 23.333333 | H19: =SUM(G19:G19) -> 0 | I19: =SUM(H19:H118) -> 0 | J19: =C19-SUM(H19:H118) -> 23.333333
D20: Préparation_Contenus_Formations | E20: 1.1666667 | H20: =SUM(G20:G20) -> 0
D21: FAF_Formations | E21: 2.3333333 | H21: =SUM(G21:G21) -> 0
D22: Suivi_Pédagogique_Stagiaire | E22: 0.41666667 | H22: =SUM(G22:G22) -> 0
D23: Admin_Formation | E23: 0.45833333 | H23: =SUM(G23:G23) -> 0
D24: ACCOMPAGNEMENT_STAGIAIRE_ALTERNANCE | E24: =SUM(E25:E26) -> 0.625 | H24: =SUM(G24:G24) -> 0
D25: Faf_Stagiaire | E25: 0.625 | H25: =SUM(G25:G25) -> 0
H26: =SUM(G26:G26) -> 0
D27: POSITIONNEMENT_CQP | E27: =E28 -> 0.875 | H27: =SUM(G27:G27) -> 0
D28: Faf_Positionnement | E28: 0.875 | H28: =SUM(G28:G28) -> 0
D29: CERTIFICATIONS_CQP_ALS | E29: =SUM(E30:E32) -> 1.75 | H29: =SUM(G29:G29) -> 0
D30: Lecture_Dossier_UC1 | E30: 0.29166667 | H30: =SUM(G30:G30) -> 0
D31: Faf_Jury | E31: 1.4583333 | H31: =SUM(G31:G31) -> 0
H32: =SUM(G32:G32) -> 0
D33: TENDANCE_BT | E33: =SUM(E34:E36) -> 3.7916667 | H33: =SUM(G33:G33) -> 0
D34: Préparation_Contenus_Formations | E34: 1.1666667 | H34: =SUM(G34:G34) -> 0
D35: FAF_Formations | E35: 2.3333333 | H35: =SUM(G35:G35) -> 0
D36: Admin_Formation | E36: 0.29166667 | H36: =SUM(G36:G36) -> 0
D37: TENDANCE_PILATES | E37: =SUM(E38:E40) -> 2.0416667 | H37: =SUM(G37:G37) -> 0
D38: Préparation_Contenus_Formations | E38: 0.58333333 | H38: =SUM(G38:G38) -> 0
D39: FAF_Formations | E39: 1.1666667 | H39: =SUM(G39:G39) -> 0
D40: Admin_Formation | E40: 0.29166667 | H40: =SUM(G40:G40) -> 0
D41: TENDANCE_FITBALL | E41: =SUM(E42:E44) -> 1.0208333 | H41: =SUM(G41:G41) -> 0
D42: Préparation_Contenus_Formations | E42: 0.29166667 | H42: =SUM(G42:G42) -> 0
D43: FAF_Formations | E43: 0.58333333 | H43: =SUM(G43:G43) -> 0
D44: Admin_Formation | E44: 0.14583333 | H44: =SUM(G44:G44) -> 0
D45: TENDANCE_BZ | E45: =SUM(E46:E48) -> 1.0208333 | H45: =SUM(G45:G45) -> 0
D46: Préparation_Contenus_Formations | E46: 0.29166667 | H46: =SUM(G46:G46) -> 0
D47: FAF_Formations | E47: 0.58333333 | H47: =SUM(G47:G47) -> 0
D48: Admin_Formation | E48: 0.14583333 | H48: =SUM(G48:G48) -> 0
D49: TENDANCE_DANCE_MOVE | E49: =SUM(E50:E52) -> 1.0208333 | H49: =SUM(G49:G49) -> 0
D50: Préparation_Contenus_Formations | E50: 0.29166667 | H50: =SUM(G50:G50) -> 0
D51: FAF_Formations | E51: 0.58333333 | H51: =SUM(G51:G51) -> 0
D52: Admin_Formation | E52: 0.14583333 | H52: =SUM(G52:G52) -> 0
D53: TENDANCE_BOXING_ENERGY | E53: =SUM(E54:E56) -> 1.0208333 | H53: =SUM(G53:G53) -> 0
D54: Préparation_Contenus_Formations | E54: 0.29166667 | H54: =SUM(G54:G54) -> 0
D55: FAF_Formations | E55: 0.58333333 | H55: =SUM(G55:G55) -> 0
D56: Admin_Formation | E56: 0.14583333 | H56: =SUM(G56:G56) -> 0
D57: TENDANCE_STRETCHING | E57: =SUM(E58:E60) -> 1.0208333 | H57: =SUM(G57:G57) -> 0
D58: Préparation_Contenus_Formations | E58: 0.29166667 | H58: =SUM(G58:G58) -> 0
D59: FAF_Formations | E59: 0.58333333 | H59: =SUM(G59:G59) -> 0
D60: Admin_Formation | E60: 0.14583333 | H60: =SUM(G60:G60) -> 0
D61: TENDANCE_FITWORK | E61: =SUM(E62:E64) -> 1.0208333 | H61: =SUM(G61:G61) -> 0
D62: Préparation_Contenus_Formations | E62: 0.29166667 | H62: =SUM(G62:G62) -> 0
D63: FAF_Formations | E63: 0.58333333 | H63: =SUM(G63:G63) -> 0
D64: Admin_Formation | E64: 0.14583333 | H64: =SUM(G64:G64) -> 0
H65: =SUM(G65:G65) -> 0
D66: TUTEUR_ACCOMPAGNATEUR | E66: =SUM(E67:E69) -> 1.3333333 | H66: =SUM(G66:G66) -> 0
D67: Préparation_Contenus_Formations | E67: 0.29166667 | H67: =SUM(G67:G67) -> 0
D68: FAF_Formations | E68: 0.875 | H68: =SUM(G68:G68) -> 0
D69: Admin_Formation | E69: 0.16666667 | H69: =SUM(G69:G69) -> 0
D70: EVALUATEUR | E70: =SUM(E71:E73) -> 0.58333333 | H70: =SUM(G70:G70) -> 0
D71: Préparation_Contenus_Formations | E71: 0.16666667 | H71: =SUM(G71:G71) -> 0
D72: FAF_Formations | E72: 0.29166667 | H72: =SUM(G72:G72) -> 0
D73: Admin_Formation | E73: 0.125 | H73: =SUM(G73:G73) -> 0
D74: CTSS | E74: =SUM(E75:E77) -> 1 | H74: =SUM(G74:G74) -> 0
D75: Préparation_Contenus_Formations | E75: 0.29166667 | H75: =SUM(G75:G75) -> 0
D76: FAF_Formations | E76: 0.58333333 | H76: =SUM(G76:G76) -> 0
D77: Admin_Formation | E77: 0.125 | H77: =SUM(G77:G77) -> 0
H78: =SUM(G78:G78) -> 0
D79: ACCOMPAGNEMENT_VAE_BP | E79: =E80 -> 0.83333333 | H79: =SUM(G79:G79) -> 0
D80: Faf_stagiaire | E80: 0.83333333 | H80: =SUM(G80:G80) -> 0
H81: =SUM(G81:G81) -> 0
H82: =SUM(G82:G82) -> 0
H83: =SUM(G83:G83) -> 0
H84: =SUM(G84:G84) -> 0
H85: =SUM(G85:G85) -> 0
H86: =SUM(G86:G86) -> 0
H87: =SUM(G87:G87) -> 0
H88: =SUM(G88:G88) -> 0
H89: =SUM(G89:G89) -> 0
H90: =SUM(G90:G90) -> 0
H91: =SUM(G91:G91) -> 0
H92: =SUM(G92:G92) -> 0
... H118: =SUM(G118:G118) -> 0
A119: CTFEM | B119: Suivi cohortes, F°C Animateurs, Professionnalisat°, Recrutement | C119: ='Répartition Heures'!Q16 -> 2.0416667 | D119: SUIVI_DE_COHORTES | E119: =E120 -> 0.16666667 | F119: =SUM(E119:E136)/2 -> 2.0416667 | H119: =SUM(G119:G119) -> 0 | I119: =SUM(H119:H136) -> 0 | J119: =C119-SUM(H119:H136) -> 2.0416667
D120: Suivi_Admin_Compte_Rendu | E120: 0.16666667 | H120: =SUM(G120:G120) -> 0
H121: =SUM(G121:G121) -> 0
D122: SENSIBILISATION_FC_ANIMATEURS | E122: =SUM(E123:E125) -> 1.75 | H122: =SUM(G122:G122) -> 0
D123: Admin_Formation_Continue_des_Animateurs | E123: 0.41666667 | H123: =SUM(G123:G123) -> 0
D124: Faf_Formation_Continue_des_Animateurs | E124: 1.1666667 | H124: =SUM(G124:G124) -> 0
D125: Compte_rendu_Formation_Continue_des_Animateurs | E125: 0.16666667 | H125: =SUM(G125:G125) -> 0
H126: =SUM(G126:G126) -> 0
D127: RECRUTEMENT_STAGIAIRES_FORMATION | E127: =E128 -> 0.125 | H127: =SUM(G127:G127) -> 0
...

Sheet Sept 18
B2: Mois de Septembre 2018
C3: COLONNE 1 | D3: COLONNE 2 | E3: COLONNE 3 | F3: COLONNE 4 | G3: COLONNE 5 | H3: COLONNE 6 | I3: COLONNE 7 | J3: COLONNE 8
B4: Jour | C4: DOMAINES D'ACTION | D4: MISSIONS / ACTIONS | E4: TACHES | F4: Observations - Complément | G4: Lieu de l'action | H4: Heures effectives de travail | I4: Temps de déplacement | J4: Km | K4: Heures effec fant | L4: Heures dep fant
B5: 41882 | C5: DEVELOPPEMENT | D5: REF_AP_TENDANCE | E5: Suivi_Admin_Compte_Rendu | H5: 0.083333333 | I5: 0.041666667 | J5: 56 | K5: =H5*24 -> 2 | L5: =I5*24 -> 1
B6: 41882 | C6: DEVELOPPEMENT | D6: REF_AP_TENDANCE | E6: Accompagnement_CODEP | H6: 0.0625 | K6: =H6*24 -> 1.5 | L6: =I6*24 -> 0
B7: 41882 | C7: CTEFM | D7: REF_AP_TENDANCE | E7: Etat_des_Lieux_CTFEM | H7: 0.14583333 | I7: 0.03125 | J7: 43 | K7: =H7*24 -> 3.5 | L7: =I7*24 -> 0.75
B8: 41883 | C8: DEVELOPPEMENT | D8: REF_AP_TENDANCE | E8: Partenariat_Renforcer_Développer_Réunions | H8: 0.16666667 | I8: 0.017361111 | J8: 19 | K8: =H8*24 -> 4 | L8: =I8*24 -> 0.41666667
B9: 41883 | K9: =H9*24 -> 0 | L9: =I9*24 -> 0
B10: 41883 | C10: FORMATION | D10: CERTIFICATIONS_CQP_ALS | E10: Faf_Jury | H10: 0.125 | K10: =H10*24 -> 3 | L10: =I10*24 -> 0
B11: 41884 | C11: FORMATION | D11: CERTIFICATIONS_CQP_ALS | E11: Lecture_Dossier_UC1 | H11: 0.16666667 | K11: =H11*24 -> 4 | L11: =I11*24 -> 0
B12: 41884 | C12: FORMATION | D12: CQP_ALS_AGEE_LYON | E12: Préparation_Contenus_Formations | H12: 0.20833333 | K12: =H12*24 -> 5 | L12: =I12*24 -> 0
B13: 41884 | C13: FORMATION | D13: CQP_ALS_AGEE_LYON | E13: Faf_Formations | H13: 0.29166667 | I13: 0.069444444 | J13: 156 | K13: =H13*24 -> 7 | L13: =I13*24 -> 1.6666667
B14: 41885 | C14: FORMATION | D14: CQP_ALS_AGEE_LYON | E14: Suivi_Pédagogique_Stagiaire | H14: 0.27083333 | K14: =H14*24 -> 6.5 | L14: =I14*24 -> 0
B15: 41885 | C15: FORMATION | D15: CQP_ALS_AGEE_LYON | E15: Admin_Formation | H15: 0.125 | K15: =H15*24 -> 3 | L15: =I15*24 -> 0
B16: 41885 | C16: FORMATION | D16: ACCOMPAGNEMENT_STAGIAIRE_ALTERNANCE | E16: Organisation_salon_Forum_Evènement | H16: 0.20833333 | I16: 0.0625 | J16: 160 | K16: =H16*24 -> 5 | L16: =I16*24 -> 1.5
B17: 41886 | K17: =H17*24 -> 0 | L17: =I17*24 -> 0
B18: 41886 | K18: =H18*24 -> 0 | L18: =I18*24 -> 0
B19: 41886 | K19: =H19*24 -> 0 | L19: =I19*24 -> 0
B20: 41887 | K20: =H20*24 -> 0 | L20: =I20*24 -> 0
B21: 41887 | K21: =H21*24 -> 0 | L21: =I21*24 -> 0
B22: 41887 | K22: =H22*24 -> 0 | L22: =I22*24 -> 0
B23: 41888 | K23: =H23*24 -> 0 | L23: =I23*24 -> 0
B24: 41888 | K24: =H24*24 -> 0 | L24: =I24*24 -> 0
B25: 41888 | K25: =H25*24 -> 0 | L25: =I25*24 -> 0
B26: 41889 | K26: =H26*24 -> 0 | L26: =I26*24 -> 0
B27: 41889 | K27: =H27*24 -> 0 | L27: =I27*24 -> 0
B28: 41889 | K28: =H28*24 -> 0 | L28: =I28*24 -> 0
... B94: 41911 | K94: =H94*24 -> 0 | L94: =I94*24 -> 0
G95: TOTAL | H95: =K95/24 -> 1.8541667 | I95: =L95/24 -> 0.22222222 | J95: =SUM(J5:J94) -> 434 | K95: =SUM(K5:K94) -> 44.5 | L95: =SUM(L5:L94) -> 5.3333333
H96: =H95+I95 -> 2.0763889
F98: Nombre d'heures restantes | G98: ='Répartition Heures'!I26 -> #REF!

Sheet Feuil3
A3: Années | B3: Mois | C3: DOMAINES D'ACTION | D3: MISSIONS / ACTIONS | E3: TACHES | F3: Somme de Heures effec fant | G3: Somme de Heures dep fant
A4: 2018
B5: sept | F5: 44.5 | G5: 5.3333333
C6: CTEFM | F6: 3.5 | G6: 0.75
D7: REF_AP_TENDANCE | F7: 3.5 | G7: 0.75
E8: Etat_des_Lieux_CTFEM | F8: 3.5 | G8: 0.75
C9: DEVELOPPEMENT | F9: 7.5 | G9: 1.4166667
D10: REF_AP_TENDANCE | F10: 7.5 | G10: 1.4166667
E11: Accompagnement_CODEP | F11: 1.5 | G11: 0
E12: Partenariat_Renforcer_Développer_Réunions | F12: 4 | G12: 0.41666667
E13: Suivi_Admin_Compte_Rendu | F13: 2 | G13: 1
C14: FORMATION | F14: 33.5 | G14: 3.1666667
D15: ACCOMPAGNEMENT_STAGIAIRE_ALTERNANCE | F15: 5 | G15: 1.5
E16: Organisation_salon_Forum_Evènement | F16: 5 | G16: 1.5
D17: CERTIFICATIONS_CQP_ALS | F17: 7 | G17: 0
E18: Faf_Jury | F18: 3 | G18: 0
E19: Lecture_Dossier_UC1 | F19: 4 | G19: 0
D20: CQP_ALS_AGEE_LYON | F20: 21.5 | G20: 1.6666667
E21: Admin_Formation | F21: 3 | G21: 0
E22: Faf_Formations | F22: 7 | G22: 1.6666667
E23: Préparation_Contenus_Formations | F23: 5 | G23: 0
E24: Suivi_Pédagogique_Stagiaire | F24: 6.5 | G24: 0
C25: (vide) | F25: 0 | G25: 0
D26: (vide) | F26: 0 | G26: 0
E27: (vide) | F27: 0 | G27: 0
A28: Total général | F28: 44.5 | G28: 5.3333333
