Workbook

Sheet Formules
A2: SI(OU('2017'!A2="-";'2017'!A2="";'2017'!A2="0");"-";('2017'!A2*A$9/'2017'!A$9))
A4: SI(OU('2017'!A4="-";'2017'!A4="";'2017'!A4="0";A$9="");"-";('2017'!A4*A$9/'2017'!A$9))

Sheet Appartements
C2: Position G/D/F | E2: Prix Loyer Base
A3: Batiment | B3: Etage | D3: Numéro | F3: Charges | G3: Total | H3: Indice de Départ
A5: Meulan - 34 Av Gambetta - Pollux
A6: 1 | B6: 1 | C6: 0 | D6: 110 | E6: 690 | F6: 120 | G6: =IF((E6+F6)>0,(E6+F6),"-") -> 810 | H6: 125.9
A7: 1 | B7: 2 | C7: 0 | D7: 120 | E7: 890 | F7: 120 | G7: =IF((E7+F7)>0,(E7+F7),"-") -> 1010 | H7: 125.9
A8: 2 | B8: 0 | C8: 0 | D8: 200 | G8: =IF((E8+F8)>0,(E8+F8),"-") -> -
A9: 2 | B9: 1 | C9: 0 | D9: 210 | G9: =IF((E9+F9)>0,(E9+F9),"-") -> -
A10: 2 | B10: 2 | C10: 0 | D10: 220 | G10: =IF((E10+F10)>0,(E10+F10),"-") -> -
A11: 3 | B11: 0 | C11: 0 | D11: 300 | G11: =IF((E11+F11)>0,(E11+F11),"-") -> -
A12: Maisons-Laffitte - 12 Av Lesage
A13: 1 | B13: 0 | C13: 0 | D13: 100 | E13: 920 | F13: 30 | G13: =IF((E13+F13)>0,(E13+F13),"-") -> 950 | H13: 125.5
A14: 1 | B14: 1 | C14: 0 | D14: 110 | G14: =IF((E14+F14)>0,(E14+F14),"-") -> -
A15: Maisons-Laffitte - 14 Rue Des Plantes - Sarine
A16: 1 | B16: 1 | C16: 1 | D16: 111 | E16: 1070 | F16: 120 | G16: =IF((E16+F16)>0,(E16+F16),"-") -> 1190 | H16: 125.24
A17: 1 | B17: 1 | C17: 2 | D17: 112 | E17: 650 | F17: 70 | G17: =IF((E17+F17)>0,(E17+F17),"-") -> 720 | H17: 125.26
A18: Montesson - 14 Rue Pierre Louis Guyard
A19: 1 | B19: 0 | C19: 1 | D19: 101 | G19: =IF((E19+F19)>0,(E19+F19),"-") -> -
A20: 1 | B20: 0 | C20: 2 | D20: 102 | G20: =IF((E20+F20)>0,(E20+F20),"-") -> -
A21: 1 | B21: 1 | C21: 1 | D21: 111 | G21: =IF((E21+F21)>0,(E21+F21),"-") -> -
A22: 1 | B22: 1 | C22: 2 | D22: 112 | G22: =IF((E22+F22)>0,(E22+F22),"-") -> -
A23: 1 | B23: 2 | C23: 1 | D23: 121 | G23: =IF((E23+F23)>0,(E23+F23),"-") -> -
A24: 1 | B24: 2 | C24: 2 | D24: 122 | G24: =IF((E24+F24)>0,(E24+F24),"-") -> -

Sheet Eau
A2: Relevé Compteurs d'Eau
A5: Locataires | B5: N° Appartement | C5: 2017 | D5: 2018 | E5: 2019 | F5: 2020 | G5: 2021 | H5: 2022 | I5: 2023 | J5: 2024 | K5: 2025 | L5: 2026 | M5: 2027 | N5: 2028
A8: =Appartements!A5 -> Meulan - 34 Av Gambetta - Pollux
A10: SAUGEZ | B10: 110
A11: LE TOHIC | B11: 120
A12: X | B12: 200
A13: X | B13: 210
A14: X | B14: 220
A15: X | B15: 300
A16: =Appartements!A12 -> Maisons-Laffitte - 12 Av Lesage
B18: 100
B19: 110
A20: =Appartements!A15 -> Maisons-Laffitte - 14 Rue Des Plantes - Sarine
A22: OUABBI | B22: 111
A23: LEVY-KERBOULL | B23: 112
A24: =Appartements!A18 -> Montesson - 14 Rue Pierre Louis Guyard
B26: 101
B27: 102
B28: 111
B29: 112
B30: 121
B31: 122

Sheet Electricité
A2: Relevé Compteurs Eléctrique
A5: Locataires | B5: N° Appartement | C5: 2017 | D5: 2018 | E5: 2019 | F5: 2020 | G5: 2021 | H5: 2022 | I5: 2023 | J5: 2024 | K5: 2025 | L5: 2026 | M5: 2027 | N5: 2028
A8: =Appartements!A5 -> Meulan - 34 Av Gambetta - Pollux
A10: SAUGEZ | B10: 110
A11: LE TOHIC | B11: 120
A12: X | B12: 200
A13: X | B13: 210
A14: X | B14: 220
A15: X | B15: 300
A16: =Appartements!A12 -> Maisons-Laffitte - 12 Av Lesage
B18: 100
B19: 110
A20: =Appartements!A15 -> Maisons-Laffitte - 14 Rue Des Plantes - Sarine
A22: OUABBI | B22: 111
A23: LEVY-KERBOULL | B23: 112
A24: =Appartements!A18 -> Montesson - 14 Rue Pierre Louis Guyard
B26: 101
B27: 102
B28: 111
B29: 112
B30: 121
B31: 122

Sheet 2017
A2: ="Révision des Loyers "&RIGHT(CELL("filename",A1),LEN(CELL("filename",A1))-SEARCH("]",CELL("filename",A1))) -> Révision des Loyers 2017
A5: Locataires | B5: N° Appartement | C5: Date de Révision
D6: Janv | E6: Févr | F6: Mars | G6: Avr | H6: Mai | I6: Juin | J6: Juil | K6: Août | L6: Sept | M6: Oct | N6: Nov | O6: Déc | P6: TOTAL N | Q6: N-1 | R6: Ecart
A8: Trimestre | D8: 3 T | E8: 4 T | F8: 4 T | G8: 4 T | H8: 4T | I8: 1 T | J8: 1 T | K8: 1T | L8: 1T | M8: 1T | N8: 1T | O8: 3 T
A9: Indices | D9: 125.33 | E9: 125.5 | F9: 125.5 | G9: 125.5 | H9: 125.5 | I9: 125.9 | J9: 125.9 | K9: 125.9 | L9: 125.9 | M9: 125.9 | N9: 125.9 | O9: 126.46
A10: =Appartements!A5 -> Meulan - 34 Av Gambetta - Pollux
A11: SAUGEZ | B11: 110 | C11: 43040 | N11: 690 | P11: =SUM(D11:O11) -> 690 | Q11: ='2017'!P11 -> 690 | R11: =P11-Q11 -> 0
A12: LE TOHIC | B12: 120 | C12: 43009 | M12: 890 | P12: =SUM(D12:O12) -> 890 | Q12: ='2017'!P12 -> 890 | R12: =P12-Q12 -> 0
A13: X | B13: 200 | P13: =SUM(D13:O13) -> 0 | Q13: ='2017'!P13 -> 0 | R13: =P13-Q13 -> 0
A14: X | B14: 210 | P14: =SUM(D14:O14) -> 0 | Q14: ='2017'!P14 -> 0 | R14: =P14-Q14 -> 0
A15: X | B15: 220 | P15: =SUM(D15:O15) -> 0 | Q15: ='2017'!P15 -> 0 | R15: =P15-Q15 -> 0
A16: X | B16: 300 | P16: =SUM(D16:O16) -> 0 | Q16: ='2017'!P16 -> 0 | R16: =P16-Q16 -> 0
A17: =Appartements!A12 -> Maisons-Laffitte - 12 Av Lesage
A18: GENTZBURGER/ROMAIN | B18: 100 | C18: 42853 | H18: 920 | P18: =SUM(D18:O18) -> 920 | Q18: ='2017'!P18 -> 920 | R18: =P18-Q18 -> 0
B19: 110 | P19: =SUM(D19:O19) -> 0 | Q19: ='2017'!P19 -> 0 | R19: =P19-Q19 -> 0
A20: =Appartements!A15 -> Maisons-Laffitte - 14 Rue Des Plantes - Sarine
A21: OUABBI | B21: 111 | C21: 42370 | D21: 1070 | P21: =SUM(D21:O21) -> 1070 | Q21: ='2017'!P21 -> 1070 | R21: =P21-Q21 -> 0
A22: LEVY-KERBOULL | B22: 112 | C22: 42370 | D22: 650 | P22: =SUM(D22:O22) -> 650 | Q22: ='2017'!P22 -> 650 | R22: =P22-Q22 -> 0
A23: =Appartements!A18 -> Montesson - 14 Rue Pierre Louis Guyard
B24: 101 | C24: 42767 | P24: =SUM(D24:O24) -> 0 | Q24: ='2017'!P24 -> 0 | R24: =P24-Q24 -> 0
B25: 102 | C25: 42979 | P25: =SUM(D25:O25) -> 0 | Q25: ='2017'!P25 -> 0 | R25: =P25-Q25 -> 0
B26: 111 | C26: 43009 | P26: =SUM(D26:O26) -> 0 | Q26: ='2017'!P26 -> 0 | R26: =P26-Q26 -> 0
B27: 112 | C27: 43040 | P27: =SUM(D27:O27) -> 0 | Q27: ='2017'!P27 -> 0 | R27: =P27-Q27 -> 0
B28: 121 | C28: 43070 | P28: =SUM(D28:O28) -> 0 | Q28: ='2017'!P28 -> 0 | R28: =P28-Q28 -> 0
B29: 122 | C29: 42917 | P29: =SUM(D29:O29) -> 0 | Q29: ='2017'!P29 -> 0 | R29: =P29-Q29 -> 0
D31: =SUM(D11:D29) -> 1720 | E31: =SUM(E11:E29) -> 0 | F31: =SUM(F11:F29) -> 0 | G31: =SUM(G11:G29) -> 0 | H31: =SUM(H11:H29) -> 920 | I31: =SUM(I11:I29) -> 0 | J31: =SUM(J11:J29) -> 0 | K31: =SUM(K11:K29) -> 0 | ... O31: =SUM(O11:O29) -> 0 | P31: =SUM(D31:O31) -> 4220 | Q31: ='2017'!P31 -> 4220 | R31: =P31-Q31 -> 0

Sheet 2018
A2: ="Révision des Loyers "&RIGHT(CELL("filename",A1),LEN(CELL("filename",A1))-SEARCH("]",CELL("filename",A1))) -> Révision des Loyers 2018
A5: Locataires | B5: N° Appartement | C5: Date de Révision
D6: Janv | E6: Févr | F6: Mars | G6: Avr | H6: Mai | I6: Juin | J6: Juil | K6: Août | L6: Sept | M6: Oct | N6: Nov | O6: Déc | P6: TOTAL N | Q6: N-1 | R6: Ecart
A8: Trimestre | D8: 3 T | E8: 4 T | F8: 4 T | G8: 4 T | H8: 4T | I8: 1 T | J8: 1 T | K8: 1T | L8: 1T | M8: 1T | N8: 1T | O8: 3 T
A9: Indices | D9: 126.46 | E9: 126.82 | F9: 126.82 | G9: 126.82 | H9: 126.82
A10: =Appartements!A5 -> Meulan - 34 Av Gambetta - Pollux
A11: SAUGEZ | B11: 110 | C11: 43040 | D11: =IF(OR('2017'!D11="-",'2017'!D11="",'2017'!D11="0",D$9=""),"-",('2017'!D11*D$9/'2017'!D$9)) -> - | E11: =IF(OR('2017'!E11="-",'2017'!E11="",'2017'!E11="0",E$9=""),"-",('2017'!E11*E$9/'2017'!E$9)) -> - | F11: =IF(OR('2017'!F11="-",'2017'!F11="",'2017'!F11="0",F$9=""),"-",('2017'!F11*F$9/'2017'!F$9)) -> - | G11: =IF(OR('2017'!G11="-",'2017'!G11="",'2017'!G11="0",G$9=""),"-",('2017'!G11*G$9/'2017'!G$9)) -> - | H11: =IF(OR('2017'!H11="-",'2017'!H11="",'2017'!H11="0",H$9=""),"-",('2017'!H11*H$9/'2017'!H$9)) -> - | I11: =IF(OR('2017'!I11="-",'2017'!I11="",'2017'!I11="0",I$9=""),"-",('2017'!I11*I$9/'2017'!I$9)) -> - | J11: =IF(OR('2017'!J11="-",'2017'!J11="",'2017'!J11="0",J$9=""),"-",('2017'!J11*J$9/'2017'!J$9)) -> - | K11: =IF(OR('2017'!K11="-",'2017'!K11="",'2017'!K11="0",K$9=""),"-",('2017'!K11*K$9/'2017'!K$9)) -> - | ... O11: =IF(OR('2017'!O11="-",'2017'!O11="",'2017'!O11="0",O$9=""),"-",('2017'!O11*O$9/'2017'!O$9)) -> - | P11: =SUM(D11:O11) -> 0 | Q11: ='2017'!P11 -> 690 | R11: =P11-Q11 -> -690
A12: LE TOHIC | B12: 120 | C12: 43009 | D12: =IF(OR('2017'!D12="-",'2017'!D12="",'2017'!D12="0",D$9=""),"-",('2017'!D12*D$9/'2017'!D$9)) -> - | E12: =IF(OR('2017'!E12="-",'2017'!E12="",'2017'!E12="0",E$9=""),"-",('2017'!E12*E$9/'2017'!E$9)) -> - | F12: =IF(OR('2017'!F12="-",'2017'!F12="",'2017'!F12="0",F$9=""),"-",('2017'!F12*F$9/'2017'!F$9)) -> - | G12: =IF(OR('2017'!G12="-",'2017'!G12="",'2017'!G12="0",G$9=""),"-",('2017'!G12*G$9/'2017'!G$9)) -> - | H12: =IF(OR('2017'!H12="-",'2017'!H12="",'2017'!H12="0",H$9=""),"-",('2017'!H12*H$9/'2017'!H$9)) -> - | I12: =IF(OR('2017'!I12="-",'2017'!I12="",'2017'!I12="0",I$9=""),"-",('2017'!I12*I$9/'2017'!I$9)) -> - | J12: =IF(OR('2017'!J12="-",'2017'!J12="",'2017'!J12="0",J$9=""),"-",('2017'!J12*J$9/'2017'!J$9)) -> - | K12: =IF(OR('2017'!K12="-",'2017'!K12="",'2017'!K12="0",K$9=""),"-",('2017'!K12*K$9/'2017'!K$9)) -> - | ... O12: =IF(OR('2017'!O12="-",'2017'!O12="",'2017'!O12="0",O$9=""),"-",('2017'!O12*O$9/'2017'!O$9)) -> - | P12: =SUM(D12:O12) -> 0 | Q12: ='2017'!P12 -> 890 | R12: =P12-Q12 -> -890
A13: X | B13: 200 | D13: =IF(OR('2017'!D13="-",'2017'!D13="",'2017'!D13="0",D$9=""),"-",('2017'!D13*D$9/'2017'!D$9)) -> - | E13: =IF(OR('2017'!E13="-",'2017'!E13="",'2017'!E13="0",E$9=""),"-",('2017'!E13*E$9/'2017'!E$9)) -> - | F13: =IF(OR('2017'!F13="-",'2017'!F13="",'2017'!F13="0",F$9=""),"-",('2017'!F13*F$9/'2017'!F$9)) -> - | G13: =IF(OR('2017'!G13="-",'2017'!G13="",'2017'!G13="0",G$9=""),"-",('2017'!G13*G$9/'2017'!G$9)) -> - | H13: =IF(OR('2017'!H13="-",'2017'!H13="",'2017'!H13="0",H$9=""),"-",('2017'!H13*H$9/'2017'!H$9)) -> - | I13: =IF(OR('2017'!I13="-",'2017'!I13="",'2017'!I13="0",I$9=""),"-",('2017'!I13*I$9/'2017'!I$9)) -> - | J13: =IF(OR('2017'!J13="-",'2017'!J13="",'2017'!J13="0",J$9=""),"-",('2017'!J13*J$9/'2017'!J$9)) -> - | K13: =IF(OR('2017'!K13="-",'2017'!K13="",'2017'!K13="0",K$9=""),"-",('2017'!K13*K$9/'2017'!K$9)) -> - | ... O13: =IF(OR('2017'!O13="-",'2017'!O13="",'2017'!O13="0",O$9=""),"-",('2017'!O13*O$9/'2017'!O$9)) -> - | P13: =SUM(D13:O13) -> 0 | Q13: ='2017'!P13 -> 0 | R13: =P13-Q13 -> 0
A14: X | B14: 210 | D14: =IF(OR('2017'!D14="-",'2017'!D14="",'2017'!D14="0",D$9=""),"-",('2017'!D14*D$9/'2017'!D$9)) -> - | E14: =IF(OR('2017'!E14="-",'2017'!E14="",'2017'!E14="0",E$9=""),"-",('2017'!E14*E$9/'2017'!E$9)) -> - | F14: =IF(OR('2017'!F14="-",'2017'!F14="",'2017'!F14="0",F$9=""),"-",('2017'!F14*F$9/'2017'!F$9)) -> - | G14: =IF(OR('2017'!G14="-",'2017'!G14="",'2017'!G14="0",G$9=""),"-",('2017'!G14*G$9/'2017'!G$9)) -> - | H14: =IF(OR('2017'!H14="-",'2017'!H14="",'2017'!H14="0",H$9=""),"-",('2017'!H14*H$9/'2017'!H$9)) -> - | I14: =IF(OR('2017'!I14="-",'2017'!I14="",'2017'!I14="0",I$9=""),"-",('2017'!I14*I$9/'2017'!I$9)) -> - | J14: =IF(OR('2017'!J14="-",'2017'!J14="",'2017'!J14="0",J$9=""),"-",('2017'!J14*J$9/'2017'!J$9)) -> - | K14: =IF(OR('2017'!K14="-",'2017'!K14="",'2017'!K14="0",K$9=""),"-",('2017'!K14*K$9/'2017'!K$9)) -> - | ... O14: =IF(OR('2017'!O14="-",'2017'!O14="",'2017'!O14="0",O$9=""),"-",('2017'!O14*O$9/'2017'!O$9)) -> - | P14: =SUM(D14:O14) -> 0 | Q14: ='2017'!P14 -> 0 | R14: =P14-Q14 -> 0
A15: X | B15: 220 | D15: =IF(OR('2017'!D15="-",'2017'!D15="",'2017'!D15="0",D$9=""),"-",('2017'!D15*D$9/'2017'!D$9)) -> - | E15: =IF(OR('2017'!E15="-",'2017'!E15="",'2017'!E15="0",E$9=""),"-",('2017'!E15*E$9/'2017'!E$9)) -> - | F15: =IF(OR('2017'!F15="-",'2017'!F15="",'2017'!F15="0",F$9=""),"-",('2017'!F15*F$9/'2017'!F$9)) -> - | G15: =IF(OR('2017'!G15="-",'2017'!G15="",'2017'!G15="0",G$9=""),"-",('2017'!G15*G$9/'2017'!G$9)) -> - | H15: =IF(OR('2017'!H15="-",'2017'!H15="",'2017'!H15="0",H$9=""),"-",('2017'!H15*H$9/'2017'!H$9)) -> - | I15: =IF(OR('2017'!I15="-",'2017'!I15="",'2017'!I15="0",I$9=""),"-",('2017'!I15*I$9/'2017'!I$9)) -> - | J15: =IF(OR('2017'!J15="-",'2017'!J15="",'2017'!J15="0",J$9=""),"-",('2017'!J15*J$9/'2017'!J$9)) -> - | K15: =IF(OR('2017'!K15="-",'2017'!K15="",'2017'!K15="0",K$9=""),"-",('2017'!K15*K$9/'2017'!K$9)) -> - | ... O15: =IF(OR('2017'!O15="-",'2017'!O15="",'2017'!O15="0",O$9=""),"-",('2017'!O15*O$9/'2017'!O$9)) -> - | P15: =SUM(D15:O15) -> 0 | Q15: ='2017'!P15 -> 0 | R15: =P15-Q15 -> 0
A16: X | B16: 300 | D16: =IF(OR('2017'!D16="-",'2017'!D16="",'2017'!D16="0",D$9=""),"-",('2017'!D16*D$9/'2017'!D$9)) -> - | E16: =IF(OR('2017'!E16="-",'2017'!E16="",'2017'!E16="0",E$9=""),"-",('2017'!E16*E$9/'2017'!E$9)) -> - | F16: =IF(OR('2017'!F16="-",'2017'!F16="",'2017'!F16="0",F$9=""),"-",('2017'!F16*F$9/'2017'!F$9)) -> - | G16: =IF(OR('2017'!G16="-",'2017'!G16="",'2017'!G16="0",G$9=""),"-",('2017'!G16*G$9/'2017'!G$9)) -> - | H16: =IF(OR('2017'!H16="-",'2017'!H16="",'2017'!H16="0",H$9=""),"-",('2017'!H16*H$9/'2017'!H$9)) -> - | I16: =IF(OR('2017'!I16="-",'2017'!I16="",'2017'!I16="0",I$9=""),"-",('2017'!I16*I$9/'2017'!I$9)) -> - | J16: =IF(OR('2017'!J16="-",'2017'!J16="",'2017'!J16="0",J$9=""),"-",('2017'!J16*J$9/'2017'!J$9)) -> - | K16: =IF(OR('2017'!K16="-",'2017'!K16="",'2017'!K16="0",K$9=""),"-",('2017'!K16*K$9/'2017'!K$9)) -> - | ... O16: =IF(OR('2017'!O16="-",'2017'!O16="",'2017'!O16="0",O$9=""),"-",('2017'!O16*O$9/'2017'!O$9)) -> - | P16: =SUM(D16:O16) -> 0 | Q16: ='2017'!P16 -> 0 | R16: =P16-Q16 -> 0
A17: =Appartements!A12 -> Maisons-Laffitte - 12 Av Lesage
A18: GENTZBURGER/ROMAIN | B18: 100 | C18: 42853 | D18: =IF(OR('2017'!D18="-",'2017'!D18="",'2017'!D18="0",D$9=""),"-",('2017'!D18*D$9/'2017'!D$9)) -> - | E18: =IF(OR('2017'!E18="-",'2017'!E18="",'2017'!E18="0",E$9=""),"-",('2017'!E18*E$9/'2017'!E$9)) -> - | F18: =IF(OR('2017'!F18="-",'2017'!F18="",'2017'!F18="0",F$9=""),"-",('2017'!F18*F$9/'2017'!F$9)) -> - | G18: =IF(OR('2017'!G18="-",'2017'!G18="",'2017'!G18="0",G$9=""),"-",('2017'!G18*G$9/'2017'!G$9)) -> - | H18: =IF(OR('2017'!H18="-",'2017'!H18="",'2017'!H18="0",H$9=""),"-",('2017'!H18*H$9/'2017'!H$9)) -> 929.67649 | I18: =IF(OR('2017'!I18="-",'2017'!I18="",'2017'!I18="0",I$9=""),"-",('2017'!I18*I$9/'2017'!I$9)) -> - | J18: =IF(OR('2017'!J18="-",'2017'!J18="",'2017'!J18="0",J$9=""),"-",('2017'!J18*J$9/'2017'!J$9)) -> - | K18: =IF(OR('2017'!K18="-",'2017'!K18="",'2017'!K18="0",K$9=""),"-",('2017'!K18*K$9/'2017'!K$9)) -> - | ... O18: =IF(OR('2017'!O18="-",'2017'!O18="",'2017'!O18="0",O$9=""),"-",('2017'!O18*O$9/'2017'!O$9)) -> - | P18: =SUM(D18:O18) -> 929.67649 | Q18: ='2017'!P18 -> 920 | R18: =P18-Q18 -> 9.676494
B19: 110 | D19: =IF(OR('2017'!D19="-",'2017'!D19="",'2017'!D19="0",D$9=""),"-",('2017'!D19*D$9/'2017'!D$9)) -> - | E19: =IF(OR('2017'!E19="-",'2017'!E19="",'2017'!E19="0",E$9=""),"-",('2017'!E19*E$9/'2017'!E$9)) -> - | F19: =IF(OR('2017'!F19="-",'2017'!F19="",'2017'!F19="0",F$9=""),"-",('2017'!F19*F$9/'2017'!F$9)) -> - | G19: =IF(OR('2017'!G19="-",'2017'!G19="",'2017'!G19="0",G$9=""),"-",('2017'!G19*G$9/'2017'!G$9)) -> - | H19: =IF(OR('2017'!H19="-",'2017'!H19="",'2017'!H19="0",H$9=""),"-",('2017'!H19*H$9/'2017'!H$9)) -> - | I19: =IF(OR('2017'!I19="-",'2017'!I19="",'2017'!I19="0",I$9=""),"-",('2017'!I19*I$9/'2017'!I$9)) -> - | J19: =IF(OR('2017'!J19="-",'2017'!J19="",'2017'!J19="0",J$9=""),"-",('2017'!J19*J$9/'2017'!J$9)) -> - | K19: =IF(OR('2017'!K19="-",'2017'!K19="",'2017'!K19="0",K$9=""),"-",('2017'!K19*K$9/'2017'!K$9)) -> - | ... O19: =IF(OR('2017'!O19="-",'2017'!O19="",'2017'!O19="0",O$9=""),"-",('2017'!O19*O$9/'2017'!O$9)) -> - | P19: =SUM(D19:O19) -> 0 | Q19: ='2017'!P19 -> 0 | R19: =P19-Q19 -> 0
A20: =Appartements!A15 -> Maisons-Laffitte - 14 Rue Des Plantes - Sarine
A21: OUABBI | B21: 111 | C21: 42370 | D21: =IF(OR('2017'!D21="-",'2017'!D21="",'2017'!D21="0",D$9=""),"-",('2017'!D21*D$9/'2017'!D$9)) -> 1079.6473 | E21: =IF(OR('2017'!E21="-",'2017'!E21="",'2017'!E21="0",E$9=""),"-",('2017'!E21*E$9/'2017'!E$9)) -> - | F21: =IF(OR('2017'!F21="-",'2017'!F21="",'2017'!F21="0",F$9=""),"-",('2017'!F21*F$9/'2017'!F$9)) -> - | G21: =IF(OR('2017'!G21="-",'2017'!G21="",'2017'!G21="0",G$9=""),"-",('2017'!G21*G$9/'2017'!G$9)) -> - | H21: =IF(OR('2017'!H21="-",'2017'!H21="",'2017'!H21="0",H$9=""),"-",('2017'!H21*H$9/'2017'!H$9)) -> - | I21: =IF(OR('2017'!I21="-",'2017'!I21="",'2017'!I21="0",I$9=""),"-",('2017'!I21*I$9/'2017'!I$9)) -> - | J21: =IF(OR('2017'!J21="-",'2017'!J21="",'2017'!J21="0",J$9=""),"-",('2017'!J21*J$9/'2017'!J$9)) -> - | K21: =IF(OR('2017'!K21="-",'2017'!K21="",'2017'!K21="0",K$9=""),"-",('2017'!K21*K$9/'2017'!K$9)) -> - | ... O21: =IF(OR('2017'!O21="-",'2017'!O21="",'2017'!O21="0",O$9=""),"-",('2017'!O21*O$9/'2017'!O$9)) -> - | P21: =SUM(D21:O21) -> 1079.6473 | Q21: ='2017'!P21 -> 1070 | R21: =P21-Q21 -> 9.647331
A22: LEVY-KERBOULL | B22: 112 | C22: 42370 | D22: =IF(OR('2017'!D22="-",'2017'!D22="",'2017'!D22="0",D$9=""),"-",('2017'!D22*D$9/'2017'!D$9)) -> 655.86053 | E22: =IF(OR('2017'!E22="-",'2017'!E22="",'2017'!E22="0",E$9=""),"-",('2017'!E22*E$9/'2017'!E$9)) -> - | F22: =IF(OR('2017'!F22="-",'2017'!F22="",'2017'!F22="0",F$9=""),"-",('2017'!F22*F$9/'2017'!F$9)) -> - | G22: =IF(OR('2017'!G22="-",'2017'!G22="",'2017'!G22="0",G$9=""),"-",('2017'!G22*G$9/'2017'!G$9)) -> - | H22: =IF(OR('2017'!H22="-",'2017'!H22="",'2017'!H22="0",H$9=""),"-",('2017'!H22*H$9/'2017'!H$9)) -> - | I22: =IF(OR('2017'!I22="-",'2017'!I22="",'2017'!I22="0",I$9=""),"-",('2017'!I22*I$9/'2017'!I$9)) -> - | J22: =IF(OR('2017'!J22="-",'2017'!J22="",'2017'!J22="0",J$9=""),"-",('2017'!J22*J$9/'2017'!J$9)) -> - | K22: =IF(OR('2017'!K22="-",'2017'!K22="",'2017'!K22="0",K$9=""),"-",('2017'!K22*K$9/'2017'!K$9)) -> - | ... O22: =IF(OR('2017'!O22="-",'2017'!O22="",'2017'!O22="0",O$9=""),"-",('2017'!O22*O$9/'2017'!O$9)) -> - | P22: =SUM(D22:O22) -> 655.86053 | Q22: ='2017'!P22 -> 650 | R22: =P22-Q22 -> 5.8605282
A23: =Appartements!A18 -> Montesson - 14 Rue Pierre Louis Guyard
B24: 101 | C24: 42767 | D24: =IF(OR('2017'!D24="-",'2017'!D24="",'2017'!D24="0",D$9=""),"-",('2017'!D24*D$9/'2017'!D$9)) -> - | E24: =IF(OR('2017'!E24="-",'2017'!E24="",'2017'!E24="0",E$9=""),"-",('2017'!E24*E$9/'2017'!E$9)) -> - | F24: =IF(OR('2017'!F24="-",'2017'!F24="",'2017'!F24="0",F$9=""),"-",('2017'!F24*F$9/'2017'!F$9)) -> - | G24: =IF(OR('2017'!G24="-",'2017'!G24="",'2017'!G24="0",G$9=""),"-",('2017'!G24*G$9/'2017'!G$9)) -> - | H24: =IF(OR('2017'!H24="-",'2017'!H24="",'2017'!H24="0",H$9=""),"-",('2017'!H24*H$9/'2017'!H$9)) -> - | I24: =IF(OR('2017'!I24="-",'2017'!I24="",'2017'!I24="0",I$9=""),"-",('2017'!I24*I$9/'2017'!I$9)) -> - | J24: =IF(OR('2017'!J24="-",'2017'!J24="",'2017'!J24="0",J$9=""),"-",('2017'!J24*J$9/'2017'!J$9)) -> - | K24: =IF(OR('2017'!K24="-",'2017'!K24="",'2017'!K24="0",K$9=""),"-",('2017'!K24*K$9/'2017'!K$9)) -> - | ... O24: =IF(OR('2017'!O24="-",'2017'!O24="",'2017'!O24="0",O$9=""),"-",('2017'!O24*O$9/'2017'!O$9)) -> - | P24: =SUM(D24:O24) -> 0 | Q24: ='2017'!P24 -> 0 | R24: =P24-Q24 -> 0
B25: 102 | C25: 42979 | D25: =IF(OR('2017'!D25="-",'2017'!D25="",'2017'!D25="0",D$9=""),"-",('2017'!D25*D$9/'2017'!D$9)) -> - | E25: =IF(OR('2017'!E25="-",'2017'!E25="",'2017'!E25="0",E$9=""),"-",('2017'!E25*E$9/'2017'!E$9)) -> - | F25: =IF(OR('2017'!F25="-",'2017'!F25="",'2017'!F25="0",F$9=""),"-",('2017'!F25*F$9/'2017'!F$9)) -> - | G25: =IF(OR('2017'!G25="-",'2017'!G25="",'2017'!G25="0",G$9=""),"-",('2017'!G25*G$9/'2017'!G$9)) -> - | H25: =IF(OR('2017'!H25="-",'2017'!H25="",'2017'!H25="0",H$9=""),"-",('2017'!H25*H$9/'2017'!H$9)) -> - | I25: =IF(OR('2017'!I25="-",'2017'!I25="",'2017'!I25="0",I$9=""),"-",('2017'!I25*I$9/'2017'!I$9)) -> - | J25: =IF(OR('2017'!J25="-",'2017'!J25="",'2017'!J25="0",J$9=""),"-",('2017'!J25*J$9/'2017'!J$9)) -> - | K25: =IF(OR('2017'!K25="-",'2017'!K25="",'2017'!K25="0",K$9=""),"-",('2017'!K25*K$9/'2017'!K$9)) -> - | ... O25: =IF(OR('2017'!O25="-",'2017'!O25="",'2017'!O25="0",O$9=""),"-",('2017'!O25*O$9/'2017'!O$9)) -> - | P25: =SUM(D25:O25) -> 0 | Q25: ='2017'!P25 -> 0 | R25: =P25-Q25 -> 0
B26: 111 | C26: 43009 | D26: =IF(OR('2017'!D26="-",'2017'!D26="",'2017'!D26="0",D$9=""),"-",('2017'!D26*D$9/'2017'!D$9)) -> - | E26: =IF(OR('2017'!E26="-",'2017'!E26="",'2017'!E26="0",E$9=""),"-",('2017'!E26*E$9/'2017'!E$9)) -> - | F26: =IF(OR('2017'!F26="-",'2017'!F26="",'2017'!F26="0",F$9=""),"-",('2017'!F26*F$9/'2017'!F$9)) -> - | G26: =IF(OR('2017'!G26="-",'2017'!G26="",'2017'!G26="0",G$9=""),"-",('2017'!G26*G$9/'2017'!G$9)) -> - | H26: =IF(OR('2017'!H26="-",'2017'!H26="",'2017'!H26="0",H$9=""),"-",('2017'!H26*H$9/'2017'!H$9)) -> - | I26: =IF(OR('2017'!I26="-",'2017'!I26="",'2017'!I26="0",I$9=""),"-",('2017'!I26*I$9/'2017'!I$9)) -> - | J26: =IF(OR('2017'!J26="-",'2017'!J26="",'2017'!J26="0",J$9=""),"-",('2017'!J26*J$9/'2017'!J$9)) -> - | K26: =IF(OR('2017'!K26="-",'2017'!K26="",'2017'!K26="0",K$9=""),"-",('2017'!K26*K$9/'2017'!K$9)) -> - | ... O26: =IF(OR('2017'!O26="-",'2017'!O26="",'2017'!O26="0",O$9=""),"-",('2017'!O26*O$9/'2017'!O$9)) -> - | P26: =SUM(D26:O26) -> 0 | Q26: ='2017'!P26 -> 0 | R26: =P26-Q26 -> 0
B27: 112 | C27: 43040 | D27: =IF(OR('2017'!D27="-",'2017'!D27="",'2017'!D27="0",D$9=""),"-",('2017'!D27*D$9/'2017'!D$9)) -> - | E27: =IF(OR('2017'!E27="-",'2017'!E27="",'2017'!E27="0",E$9=""),"-",('2017'!E27*E$9/'2017'!E$9)) -> - | F27: =IF(OR('2017'!F27="-",'2017'!F27="",'2017'!F27="0",F$9=""),"-",('2017'!F27*F$9/'2017'!F$9)) -> - | G27: =IF(OR('2017'!G27="-",'2017'!G27="",'2017'!G27="0",G$9=""),"-",('2017'!G27*G$9/'2017'!G$9)) -> - | H27: =IF(OR('2017'!H27="-",'2017'!H27="",'2017'!H27="0",H$9=""),"-",('2017'!H27*H$9/'2017'!H$9)) -> - | I27: =IF(OR('2017'!I27="-",'2017'!I27="",'2017'!I27="0",I$9=""),"-",('2017'!I27*I$9/'2017'!I$9)) -> - | J27: =IF(OR('2017'!J27="-",'2017'!J27="",'2017'!J27="0",J$9=""),"-",('2017'!J27*J$9/'2017'!J$9)) -> - | K27: =IF(OR('2017'!K27="-",'2017'!K27="",'2017'!K27="0",K$9=""),"-",('2017'!K27*K$9/'2017'!K$9)) -> - | ... O27: =IF(OR('2017'!O27="-",'2017'!O27="",'2017'!O27="0",O$9=""),"-",('2017'!O27*O$9/'2017'!O$9)) -> - | P27: =SUM(D27:O27) -> 0 | Q27: ='2017'!P27 -> 0 | R27: =P27-Q27 -> 0
B28: 121 | C28: 43070 | D28: =IF(OR('2017'!D28="-",'2017'!D28="",'2017'!D28="0",D$9=""),"-",('2017'!D28*D$9/'2017'!D$9)) -> - | E28: =IF(OR('2017'!E28="-",'2017'!E28="",'2017'!E28="0",E$9=""),"-",('2017'!E28*E$9/'2017'!E$9)) -> - | F28: =IF(OR('2017'!F28="-",'2017'!F28="",'2017'!F28="0",F$9=""),"-",('2017'!F28*F$9/'2017'!F$9)) -> - | G28: =IF(OR('2017'!G28="-",'2017'!G28="",'2017'!G28="0",G$9=""),"-",('2017'!G28*G$9/'2017'!G$9)) -> - | H28: =IF(OR('2017'!H28="-",'2017'!H28="",'2017'!H28="0",H$9=""),"-",('2017'!H28*H$9/'2017'!H$9)) -> - | I28: =IF(OR('2017'!I28="-",'2017'!I28="",'2017'!I28="0",I$9=""),"-",('2017'!I28*I$9/'2017'!I$9)) -> - | J28: =IF(OR('2017'!J28="-",'2017'!J28="",'2017'!J28="0",J$9=""),"-",('2017'!J28*J$9/'2017'!J$9)) -> - | K28: =IF(OR('2017'!K28="-",'2017'!K28="",'2017'!K28="0",K$9=""),"-",('2017'!K28*K$9/'2017'!K$9)) -> - | ... O28: =IF(OR('2017'!O28="-",'2017'!O28="",'2017'!O28="0",O$9=""),"-",('2017'!O28*O$9/'2017'!O$9)) -> - | P28: =SUM(D28:O28) -> 0 | Q28: ='2017'!P28 -> 0 | R28: =P28-Q28 -> 0
B29: 122 | C29: 42917 | D29: =IF(OR('2017'!D29="-",'2017'!D29="",'2017'!D29="0",D$9=""),"-",('2017'!D29*D$9/'2017'!D$9)) -> - | E29: =IF(OR('2017'!E29="-",'2017'!E29="",'2017'!E29="0",E$9=""),"-",('2017'!E29*E$9/'2017'!E$9)) -> - | F29: =IF(OR('2017'!F29="-",'2017'!F29="",'2017'!F29="0",F$9=""),"-",('2017'!F29*F$9/'2017'!F$9)) -> - | G29: =IF(OR('2017'!G29="-",'2017'!G29="",'2017'!G29="0",G$9=""),"-",('2017'!G29*G$9/'2017'!G$9)) -> - | H29: =IF(OR('2017'!H29="-",'2017'!H29="",'2017'!H29="0",H$9=""),"-",('2017'!H29*H$9/'2017'!H$9)) -> - | I29: =IF(OR('2017'!I29="-",'2017'!I29="",'2017'!I29="0",I$9=""),"-",('2017'!I29*I$9/'2017'!I$9)) -> - | J29: =IF(OR('2017'!J29="-",'2017'!J29="",'2017'!J29="0",J$9=""),"-",('2017'!J29*J$9/'2017'!J$9)) -> - | K29: =IF(OR('2017'!K29="-",'2017'!K29="",'2017'!K29="0",K$9=""),"-",('2017'!K29*K$9/'2017'!K$9)) -> - | ... O29: =IF(OR('2017'!O29="-",'2017'!O29="",'2017'!O29="0",O$9=""),"-",('2017'!O29*O$9/'2017'!O$9)) -> - | P29: =SUM(D29:O29) -> 0 | Q29: ='2017'!P29 -> 0 | R29: =P29-Q29 -> 0
D31: =SUM(D11:D29) -> 1735.5079 | E31: =SUM(E11:E29) -> 0 | F31: =SUM(F11:F29) -> 0 | G31: =SUM(G11:G29) -> 0 | H31: =SUM(H11:H29) -> 929.67649 | I31: =SUM(I11:I29) -> 0 | J31: =SUM(J11:J29) -> 0 | K31: =SUM(K11:K29) -> 0 | ... O31: =SUM(O11:O29) -> 0 | P31: =SUM(D31:O31) -> 2665.1844 | Q31: ='2017'!P31 -> 4220 | R31: =P31-Q31 -> -1554.8156

Sheet 2019
A2: ="Révision des Loyers "&RIGHT(CELL("filename",A1),LEN(CELL("filename",A1))-SEARCH("]",CELL("filename",A1))) -> Révision des Loyers 2019
A5: Locataires | B5: N° Appartement | C5: Date de Révision
D6: Janv | E6: Févr | F6: Mars | G6: Avr | H6: Mai | I6: Juin | J6: Juil | K6: Août | L6: Sept | M6: Oct | N6: Nov | O6: Déc | P6: TOTAL N | Q6: N-1 | R6: Ecart
A8: Trimestre | D8: 3 T | E8: 4 T | F8: 4 T | G8: 4 T | H8: 4T | I8: 1 T | J8: 1 T | K8: 1T | L8: 1T | M8: 1T | N8: 1T | O8: 3 T
A9: Indices
A10: =Appartements!A5 -> Meulan - 34 Av Gambetta - Pollux
A11: SAUGEZ | B11: 110 | C11: 43040 | D11: =IF(OR('2017'!D11="-",'2017'!D11="",'2017'!D11="0",D$9=""),"-",('2017'!D11*D$9/'2017'!D$9)) -> - | E11: =IF(OR('2017'!E11="-",'2017'!E11="",'2017'!E11="0",E$9=""),"-",('2017'!E11*E$9/'2017'!E$9)) -> - | F11: =IF(OR('2017'!F11="-",'2017'!F11="",'2017'!F11="0",F$9=""),"-",('2017'!F11*F$9/'2017'!F$9)) -> - | G11: =IF(OR('2017'!G11="-",'2017'!G11="",'2017'!G11="0",G$9=""),"-",('2017'!G11*G$9/'2017'!G$9)) -> - | H11: =IF(OR('2017'!H11="-",'2017'!H11="",'2017'!H11="0",H$9=""),"-",('2017'!H11*H$9/'2017'!H$9)) -> - | I11: =IF(OR('2017'!I11="-",'2017'!I11="",'2017'!I11="0",I$9=""),"-",('2017'!I11*I$9/'2017'!I$9)) -> - | J11: =IF(OR('2017'!J11="-",'2017'!J11="",'2017'!J11="0",J$9=""),"-",('2017'!J11*J$9/'2017'!J$9)) -> - | K11: =IF(OR('2017'!K11="-",'2017'!K11="",'2017'!K11="0",K$9=""),"-",('2017'!K11*K$9/'2017'!K$9)) -> - | ... O11: =IF(OR('2017'!O11="-",'2017'!O11="",'2017'!O11="0",O$9=""),"-",('2017'!O11*O$9/'2017'!O$9)) -> - | P11: =SUM(D11:O11) -> 0 | Q11: ='2017'!P11 -> 690 | R11: =P11-Q11 -> -690
A12: LE TOHIC | B12: 120 | C12: 43009 | D12: =IF(OR('2017'!D12="-",'2017'!D12="",'2017'!D12="0",D$9=""),"-",('2017'!D12*D$9/'2017'!D$9)) -> - | E12: =IF(OR('2017'!E12="-",'2017'!E12="",'2017'!E12="0",E$9=""),"-",('2017'!E12*E$9/'2017'!E$9)) -> - | F12: =IF(OR('2017'!F12="-",'2017'!F12="",'2017'!F12="0",F$9=""),"-",('2017'!F12*F$9/'2017'!F$9)) -> - | G12: =IF(OR('2017'!G12="-",'2017'!G12="",'2017'!G12="0",G$9=""),"-",('2017'!G12*G$9/'2017'!G$9)) -> - | H12: =IF(OR('2017'!H12="-",'2017'!H12="",'2017'!H12="0",H$9=""),"-",('2017'!H12*H$9/'2017'!H$9)) -> - | I12: =IF(OR('2017'!I12="-",'2017'!I12="",'2017'!I12="0",I$9=""),"-",('2017'!I12*I$9/'2017'!I$9)) -> - | J12: =IF(OR('2017'!J12="-",'2017'!J12="",'2017'!J12="0",J$9=""),"-",('2017'!J12*J$9/'2017'!J$9)) -> - | K12: =IF(OR('2017'!K12="-",'2017'!K12="",'2017'!K12="0",K$9=""),"-",('2017'!K12*K$9/'2017'!K$9)) -> - | ... O12: =IF(OR('2017'!O12="-",'2017'!O12="",'2017'!O12="0",O$9=""),"-",('2017'!O12*O$9/'2017'!O$9)) -> - | P12: =SUM(D12:O12) -> 0 | Q12: ='2017'!P12 -> 890 | R12: =P12-Q12 -> -890
A13: X | B13: 200 | D13: =IF(OR('2017'!D13="-",'2017'!D13="",'2017'!D13="0",D$9=""),"-",('2017'!D13*D$9/'2017'!D$9)) -> - | E13: =IF(OR('2017'!E13="-",'2017'!E13="",'2017'!E13="0",E$9=""),"-",('2017'!E13*E$9/'2017'!E$9)) -> - | F13: =IF(OR('2017'!F13="-",'2017'!F13="",'2017'!F13="0",F$9=""),"-",('2017'!F13*F$9/'2017'!F$9)) -> - | G13: =IF(OR('2017'!G13="-",'2017'!G13="",'2017'!G13="0",G$9=""),"-",('2017'!G13*G$9/'2017'!G$9)) -> - | H13: =IF(OR('2017'!H13="-",'2017'!H13="",'2017'!H13="0",H$9=""),"-",('2017'!H13*H$9/'2017'!H$9)) -> - | I13: =IF(OR('2017'!I13="-",'2017'!I13="",'2017'!I13="0",I$9=""),"-",('2017'!I13*I$9/'2017'!I$9)) -> - | J13: =IF(OR('2017'!J13="-",'2017'!J13="",'2017'!J13="0",J$9=""),"-",('2017'!J13*J$9/'2017'!J$9)) -> - | K13: =IF(OR('2017'!K13="-",'2017'!K13="",'2017'!K13="0",K$9=""),"-",('2017'!K13*K$9/'2017'!K$9)) -> - | ... O13: =IF(OR('2017'!O13="-",'2017'!O13="",'2017'!O13="0",O$9=""),"-",('2017'!O13*O$9/'2017'!O$9)) -> - | P13: =SUM(D13:O13) -> 0 | Q13: ='2017'!P13 -> 0 | R13: =P13-Q13 -> 0
A14: X | B14: 210 | D14: =IF(OR('2017'!D14="-",'2017'!D14="",'2017'!D14="0",D$9=""),"-",('2017'!D14*D$9/'2017'!D$9)) -> - | E14: =IF(OR('2017'!E14="-",'2017'!E14="",'2017'!E14="0",E$9=""),"-",('2017'!E14*E$9/'2017'!E$9)) -> - | F14: =IF(OR('2017'!F14="-",'2017'!F14="",'2017'!F14="0",F$9=""),"-",('2017'!F14*F$9/'2017'!F$9)) -> - | G14: =IF(OR('2017'!G14="-",'2017'!G14="",'2017'!G14="0",G$9=""),"-",('2017'!G14*G$9/'2017'!G$9)) -> - | H14: =IF(OR('2017'!H14="-",'2017'!H14="",'2017'!H14="0",H$9=""),"-",('2017'!H14*H$9/'2017'!H$9)) -> - | I14: =IF(OR('2017'!I14="-",'2017'!I14="",'2017'!I14="0",I$9=""),"-",('2017'!I14*I$9/'2017'!I$9)) -> - | J14: =IF(OR('2017'!J14="-",'2017'!J14="",'2017'!J14="0",J$9=""),"-",('2017'!J14*J$9/'2017'!J$9)) -> - | K14: =IF(OR('2017'!K14="-",'2017'!K14="",'2017'!K14="0",K$9=""),"-",('2017'!K14*K$9/'2017'!K$9)) -> - | ... O14: =IF(OR('2017'!O14="-",'2017'!O14="",'2017'!O14="0",O$9=""),"-",('2017'!O14*O$9/'2017'!O$9)) -> - | P14: =SUM(D14:O14) -> 0 | Q14: ='2017'!P14 -> 0 | R14: =P14-Q14 -> 0
A15: X | B15: 220 | D15: =IF(OR('2017'!D15="-",'2017'!D15="",'2017'!D15="0",D$9=""),"-",('2017'!D15*D$9/'2017'!D$9)) -> - | E15: =IF(OR('2017'!E15="-",'2017'!E15="",'2017'!E15="0",E$9=""),"-",('2017'!E15*E$9/'2017'!E$9)) -> - | F15: =IF(OR('2017'!F15="-",'2017'!F15="",'2017'!F15="0",F$9=""),"-",('2017'!F15*F$9/'2017'!F$9)) -> - | G15: =IF(OR('2017'!G15="-",'2017'!G15="",'2017'!G15="0",G$9=""),"-",('2017'!G15*G$9/'2017'!G$9)) -> - | H15: =IF(OR('2017'!H15="-",'2017'!H15="",'2017'!H15="0",H$9=""),"-",('2017'!H15*H$9/'2017'!H$9)) -> - | I15: =IF(OR('2017'!I15="-",'2017'!I15="",'2017'!I15="0",I$9=""),"-",('2017'!I15*I$9/'2017'!I$9)) -> - | J15: =IF(OR('2017'!J15="-",'2017'!J15="",'2017'!J15="0",J$9=""),"-",('2017'!J15*J$9/'2017'!J$9)) -> - | K15: =IF(OR('2017'!K15="-",'2017'!K15="",'2017'!K15="0",K$9=""),"-",('2017'!K15*K$9/'2017'!K$9)) -> - | ... O15: =IF(OR('2017'!O15="-",'2017'!O15="",'2017'!O15="0",O$9=""),"-",('2017'!O15*O$9/'2017'!O$9)) -> - | P15: =SUM(D15:O15) -> 0 | Q15: ='2017'!P15 -> 0 | R15: =P15-Q15 -> 0
A16: X | B16: 300 | D16: =IF(OR('2017'!D16="-",'2017'!D16="",'2017'!D16="0",D$9=""),"-",('2017'!D16*D$9/'2017'!D$9)) -> - | E16: =IF(OR('2017'!E16="-",'2017'!E16="",'2017'!E16="0",E$9=""),"-",('2017'!E16*E$9/'2017'!E$9)) -> - | F16: =IF(OR('2017'!F16="-",'2017'!F16="",'2017'!F16="0",F$9=""),"-",('2017'!F16*F$9/'2017'!F$9)) -> - | G16: =IF(OR('2017'!G16="-",'2017'!G16="",'2017'!G16="0",G$9=""),"-",('2017'!G16*G$9/'2017'!G$9)) -> - | H16: =IF(OR('2017'!H16="-",'2017'!H16="",'2017'!H16="0",H$9=""),"-",('2017'!H16*H$9/'2017'!H$9)) -> - | I16: =IF(OR('2017'!I16="-",'2017'!I16="",'2017'!I16="0",I$9=""),"-",('2017'!I16*I$9/'2017'!I$9)) -> - | J16: =IF(OR('2017'!J16="-",'2017'!J16="",'2017'!J16="0",J$9=""),"-",('2017'!J16*J$9/'2017'!J$9)) -> - | K16: =IF(OR('2017'!K16="-",'2017'!K16="",'2017'!K16="0",K$9=""),"-",('2017'!K16*K$9/'2017'!K$9)) -> - | ... O16: =IF(OR('2017'!O16="-",'2017'!O16="",'2017'!O16="0",O$9=""),"-",('2017'!O16*O$9/'2017'!O$9)) -> - | P16: =SUM(D16:O16) -> 0 | Q16: ='2017'!P16 -> 0 | R16: =P16-Q16 -> 0
A17: =Appartements!A12 -> Maisons-Laffitte - 12 Av Lesage
A18: GENTZBURGER/ROMAIN | B18: 100 | C18: 42853 | D18: =IF(OR('2017'!D18="-",'2017'!D18="",'2017'!D18="0",D$9=""),"-",('2017'!D18*D$9/'2017'!D$9)) -> - | E18: =IF(OR('2017'!E18="-",'2017'!E18="",'2017'!E18="0",E$9=""),"-",('2017'!E18*E$9/'2017'!E$9)) -> - | F18: =IF(OR('2017'!F18="-",'2017'!F18="",'2017'!F18="0",F$9=""),"-",('2017'!F18*F$9/'2017'!F$9)) -> - | G18: =IF(OR('2017'!G18="-",'2017'!G18="",'2017'!G18="0",G$9=""),"-",('2017'!G18*G$9/'2017'!G$9)) -> - | H18: =IF(OR('2017'!H18="-",'2017'!H18="",'2017'!H18="0",H$9=""),"-",('2017'!H18*H$9/'2017'!H$9)) -> - | I18: =IF(OR('2017'!I18="-",'2017'!I18="",'2017'!I18="0",I$9=""),"-",('2017'!I18*I$9/'2017'!I$9)) -> - | J18: =IF(OR('2017'!J18="-",'2017'!J18="",'2017'!J18="0",J$9=""),"-",('2017'!J18*J$9/'2017'!J$9)) -> - | K18: =IF(OR('2017'!K18="-",'2017'!K18="",'2017'!K18="0",K$9=""),"-",('2017'!K18*K$9/'2017'!K$9)) -> - | ... O18: =IF(OR('2017'!O18="-",'2017'!O18="",'2017'!O18="0",O$9=""),"-",('2017'!O18*O$9/'2017'!O$9)) -> - | P18: =SUM(D18:O18) -> 0 | Q18: ='2017'!P18 -> 920 | R18: =P18-Q18 -> -920
B19: 110 | D19: =IF(OR('2017'!D19="-",'2017'!D19="",'2017'!D19="0",D$9=""),"-",('2017'!D19*D$9/'2017'!D$9)) -> - | E19: =IF(OR('2017'!E19="-",'2017'!E19="",'2017'!E19="0",E$9=""),"-",('2017'!E19*E$9/'2017'!E$9)) -> - | F19: =IF(OR('2017'!F19="-",'2017'!F19="",'2017'!F19="0",F$9=""),"-",('2017'!F19*F$9/'2017'!F$9)) -> - | G19: =IF(OR('2017'!G19="-",'2017'!G19="",'2017'!G19="0",G$9=""),"-",('2017'!G19*G$9/'2017'!G$9)) -> - | H19: =IF(OR('2017'!H19="-",'2017'!H19="",'2017'!H19="0",H$9=""),"-",('2017'!H19*H$9/'2017'!H$9)) -> - | I19: =IF(OR('2017'!I19="-",'2017'!I19="",'2017'!I19="0",I$9=""),"-",('2017'!I19*I$9/'2017'!I$9)) -> - | J19: =IF(OR('2017'!J19="-",'2017'!J19="",'2017'!J19="0",J$9=""),"-",('2017'!J19*J$9/'2017'!J$9)) -> - | K19: =IF(OR('2017'!K19="-",'2017'!K19="",'2017'!K19="0",K$9=""),"-",('2017'!K19*K$9/'2017'!K$9)) -> - | ... O19: =IF(OR('2017'!O19="-",'2017'!O19="",'2017'!O19="0",O$9=""),"-",('2017'!O19*O$9/'2017'!O$9)) -> - | P19: =SUM(D19:O19) -> 0 | Q19: ='2017'!P19 -> 0 | R19: =P19-Q19 -> 0
A20: =Appartements!A15 -> Maisons-Laffitte - 14 Rue Des Plantes - Sarine
A21: OUABBI | B21: 111 | C21: 42370 | D21: =IF(OR('2017'!D21="-",'2017'!D21="",'2017'!D21="0",D$9=""),"-",('2017'!D21*D$9/'2017'!D$9)) -> - | E21: =IF(OR('2017'!E21="-",'2017'!E21="",'2017'!E21="0",E$9=""),"-",('2017'!E21*E$9/'2017'!E$9)) -> - | F21: =IF(OR('2017'!F21="-",'2017'!F21="",'2017'!F21="0",F$9=""),"-",('2017'!F21*F$9/'2017'!F$9)) -> - | G21: =IF(OR('2017'!G21="-",'2017'!G21="",'2017'!G21="0",G$9=""),"-",('2017'!G21*G$9/'2017'!G$9)) -> - | H21: =IF(OR('2017'!H21="-",'2017'!H21="",'2017'!H21="0",H$9=""),"-",('2017'!H21*H$9/'2017'!H$9)) -> - | I21: =IF(OR('2017'!I21="-",'2017'!I21="",'2017'!I21="0",I$9=""),"-",('2017'!I21*I$9/'2017'!I$9)) -> - | J21: =IF(OR('2017'!J21="-",'2017'!J21="",'2017'!J21="0",J$9=""),"-",('2017'!J21*J$9/'2017'!J$9)) -> - | K21: =IF(OR('2017'!K21="-",'2017'!K21="",'2017'!K21="0",K$9=""),"-",('2017'!K21*K$9/'2017'!K$9)) -> - | ... O21: =IF(OR('2017'!O21="-",'2017'!O21="",'2017'!O21="0",O$9=""),"-",('2017'!O21*O$9/'2017'!O$9)) -> - | P21: =SUM(D21:O21) -> 0 | Q21: ='2017'!P21 -> 1070 | R21: =P21-Q21 -> -1070
A22: LEVY-KERBOULL | B22: 112 | C22: 42370 | D22: =IF(OR('2017'!D22="-",'2017'!D22="",'2017'!D22="0",D$9=""),"-",('2017'!D22*D$9/'2017'!D$9)) -> - | E22: =IF(OR('2017'!E22="-",'2017'!E22="",'2017'!E22="0",E$9=""),"-",('2017'!E22*E$9/'2017'!E$9)) -> - | F22: =IF(OR('2017'!F22="-",'2017'!F22="",'2017'!F22="0",F$9=""),"-",('2017'!F22*F$9/'2017'!F$9)) -> - | G22: =IF(OR('2017'!G22="-",'2017'!G22="",'2017'!G22="0",G$9=""),"-",('2017'!G22*G$9/'2017'!G$9)) -> - | H22: =IF(OR('2017'!H22="-",'2017'!H22="",'2017'!H22="0",H$9=""),"-",('2017'!H22*H$9/'2017'!H$9)) -> - | I22: =IF(OR('2017'!I22="-",'2017'!I22="",'2017'!I22="0",I$9=""),"-",('2017'!I22*I$9/'2017'!I$9)) -> - | J22: =IF(OR('2017'!J22="-",'2017'!J22="",'2017'!J22="0",J$9=""),"-",('2017'!J22*J$9/'2017'!J$9)) -> - | K22: =IF(OR('2017'!K22="-",'2017'!K22="",'2017'!K22="0",K$9=""),"-",('2017'!K22*K$9/'2017'!K$9)) -> - | ... O22: =IF(OR('2017'!O22="-",'2017'!O22="",'2017'!O22="0",O$9=""),"-",('2017'!O22*O$9/'2017'!O$9)) -> - | P22: =SUM(D22:O22) -> 0 | Q22: ='2017'!P22 -> 650 | R22: =P22-Q22 -> -650
A23: =Appartements!A18 -> Montesson - 14 Rue Pierre Louis Guyard
B24: 101 | C24: 42767 | D24: =IF(OR('2017'!D24="-",'2017'!D24="",'2017'!D24="0",D$9=""),"-",('2017'!D24*D$9/'2017'!D$9)) -> - | E24: =IF(OR('2017'!E24="-",'2017'!E24="",'2017'!E24="0",E$9=""),"-",('2017'!E24*E$9/'2017'!E$9)) -> - | F24: =IF(OR('2017'!F24="-",'2017'!F24="",'2017'!F24="0",F$9=""),"-",('2017'!F24*F$9/'2017'!F$9)) -> - | G24: =IF(OR('2017'!G24="-",'2017'!G24="",'2017'!G24="0",G$9=""),"-",('2017'!G24*G$9/'2017'!G$9)) -> - | H24: =IF(OR('2017'!H24="-",'2017'!H24="",'2017'!H24="0",H$9=""),"-",('2017'!H24*H$9/'2017'!H$9)) -> - | I24: =IF(OR('2017'!I24="-",'2017'!I24="",'2017'!I24="0",I$9=""),"-",('2017'!I24*I$9/'2017'!I$9)) -> - | J24: =IF(OR('2017'!J24="-",'2017'!J24="",'2017'!J24="0",J$9=""),"-",('2017'!J24*J$9/'2017'!J$9)) -> - | K24: =IF(OR('2017'!K24="-",'2017'!K24="",'2017'!K24="0",K$9=""),"-",('2017'!K24*K$9/'2017'!K$9)) -> - | ... O24: =IF(OR('2017'!O24="-",'2017'!O24="",'2017'!O24="0",O$9=""),"-",('2017'!O24*O$9/'2017'!O$9)) -> - | P24: =SUM(D24:O24) -> 0 | Q24: ='2017'!P24 -> 0 | R24: =P24-Q24 -> 0
B25: 102 | C25: 42979 | D25: =IF(OR('2017'!D25="-",'2017'!D25="",'2017'!D25="0",D$9=""),"-",('2017'!D25*D$9/'2017'!D$9)) -> - | E25: =IF(OR('2017'!E25="-",'2017'!E25="",'2017'!E25="0",E$9=""),"-",('2017'!E25*E$9/'2017'!E$9)) -> - | F25: =IF(OR('2017'!F25="-",'2017'!F25="",'2017'!F25="0",F$9=""),"-",('2017'!F25*F$9/'2017'!F$9)) -> - | G25: =IF(OR('2017'!G25="-",'2017'!G25="",'2017'!G25="0",G$9=""),"-",('2017'!G25*G$9/'2017'!G$9)) -> - | H25: =IF(OR('2017'!H25="-",'2017'!H25="",'2017'!H25="0",H$9=""),"-",('2017'!H25*H$9/'2017'!H$9)) -> - | I25: =IF(OR('2017'!I25="-",'2017'!I25="",'2017'!I25="0",I$9=""),"-",('2017'!I25*I$9/'2017'!I$9)) -> - | J25: =IF(OR('2017'!J25="-",'2017'!J25="",'2017'!J25="0",J$9=""),"-",('2017'!J25*J$9/'2017'!J$9)) -> - | K25: =IF(OR('2017'!K25="-",'2017'!K25="",'2017'!K25="0",K$9=""),"-",('2017'!K25*K$9/'2017'!K$9)) -> - | ... O25: =IF(OR('2017'!O25="-",'2017'!O25="",'2017'!O25="0",O$9=""),"-",('2017'!O25*O$9/'2017'!O$9)) -> - | P25: =SUM(D25:O25) -> 0 | Q25: ='2017'!P25 -> 0 | R25: =P25-Q25 -> 0
B26: 111 | C26: 43009 | D26: =IF(OR('2017'!D26="-",'2017'!D26="",'2017'!D26="0",D$9=""),"-",('2017'!D26*D$9/'2017'!D$9)) -> - | E26: =IF(OR('2017'!E26="-",'2017'!E26="",'2017'!E26="0",E$9=""),"-",('2017'!E26*E$9/'2017'!E$9)) -> - | F26: =IF(OR('2017'!F26="-",'2017'!F26="",'2017'!F26="0",F$9=""),"-",('2017'!F26*F$9/'2017'!F$9)) -> - | G26: =IF(OR('2017'!G26="-",'2017'!G26="",'2017'!G26="0",G$9=""),"-",('2017'!G26*G$9/'2017'!G$9)) -> - | H26: =IF(OR('2017'!H26="-",'2017'!H26="",'2017'!H26="0",H$9=""),"-",('2017'!H26*H$9/'2017'!H$9)) -> - | I26: =IF(OR('2017'!I26="-",'2017'!I26="",'2017'!I26="0",I$9=""),"-",('2017'!I26*I$9/'2017'!I$9)) -> - | J26: =IF(OR('2017'!J26="-",'2017'!J26="",'2017'!J26="0",J$9=""),"-",('2017'!J26*J$9/'2017'!J$9)) -> - | K26: =IF(OR('2017'!K26="-",'2017'!K26="",'2017'!K26="0",K$9=""),"-",('2017'!K26*K$9/'2017'!K$9)) -> - | ... O26: =IF(OR('2017'!O26="-",'2017'!O26="",'2017'!O26="0",O$9=""),"-",('2017'!O26*O$9/'2017'!O$9)) -> - | P26: =SUM(D26:O26) -> 0 | Q26: ='2017'!P26 -> 0 | R26: =P26-Q26 -> 0
B27: 112 | C27: 43040 | D27: =IF(OR('2017'!D27="-",'2017'!D27="",'2017'!D27="0",D$9=""),"-",('2017'!D27*D$9/'2017'!D$9)) -> - | E27: =IF(OR('2017'!E27="-",'2017'!E27="",'2017'!E27="0",E$9=""),"-",('2017'!E27*E$9/'2017'!E$9)) -> - | F27: =IF(OR('2017'!F27="-",'2017'!F27="",'2017'!F27="0",F$9=""),"-",('2017'!F27*F$9/'2017'!F$9)) -> - | G27: =IF(OR('2017'!G27="-",'2017'!G27="",'2017'!G27="0",G$9=""),"-",('2017'!G27*G$9/'2017'!G$9)) -> - | H27: =IF(OR('2017'!H27="-",'2017'!H27="",'2017'!H27="0",H$9=""),"-",('2017'!H27*H$9/'2017'!H$9)) -> - | I27: =IF(OR('2017'!I27="-",'2017'!I27="",'2017'!I27="0",I$9=""),"-",('2017'!I27*I$9/'2017'!I$9)) -> - | J27: =IF(OR('2017'!J27="-",'2017'!J27="",'2017'!J27="0",J$9=""),"-",('2017'!J27*J$9/'2017'!J$9)) -> - | K27: =IF(OR('2017'!K27="-",'2017'!K27="",'2017'!K27="0",K$9=""),"-",('2017'!K27*K$9/'2017'!K$9)) -> - | ... O27: =IF(OR('2017'!O27="-",'2017'!O27="",'2017'!O27="0",O$9=""),"-",('2017'!O27*O$9/'2017'!O$9)) -> - | P27: =SUM(D27:O27) -> 0 | Q27: ='2017'!P27 -> 0 | R27: =P27-Q27 -> 0
B28: 121 | C28: 43070 | D28: =IF(OR('2017'!D28="-",'2017'!D28="",'2017'!D28="0",D$9=""),"-",('2017'!D28*D$9/'2017'!D$9)) -> - | E28: =IF(OR('2017'!E28="-",'2017'!E28="",'2017'!E28="0",E$9=""),"-",('2017'!E28*E$9/'2017'!E$9)) -> - | F28: =IF(OR('2017'!F28="-",'2017'!F28="",'2017'!F28="0",F$9=""),"-",('2017'!F28*F$9/'2017'!F$9)) -> - | G28: =IF(OR('2017'!G28="-",'2017'!G28="",'2017'!G28="0",G$9=""),"-",('2017'!G28*G$9/'2017'!G$9)) -> - | H28: =IF(OR('2017'!H28="-",'2017'!H28="",'2017'!H28="0",H$9=""),"-",('2017'!H28*H$9/'2017'!H$9)) -> - | I28: =IF(OR('2017'!I28="-",'2017'!I28="",'2017'!I28="0",I$9=""),"-",('2017'!I28*I$9/'2017'!I$9)) -> - | J28: =IF(OR('2017'!J28="-",'2017'!J28="",'2017'!J28="0",J$9=""),"-",('2017'!J28*J$9/'2017'!J$9)) -> - | K28: =IF(OR('2017'!K28="-",'2017'!K28="",'2017'!K28="0",K$9=""),"-",('2017'!K28*K$9/'2017'!K$9)) -> - | ... O28: =IF(OR('2017'!O28="-",'2017'!O28="",'2017'!O28="0",O$9=""),"-",('2017'!O28*O$9/'2017'!O$9)) -> - | P28: =SUM(D28:O28) -> 0 | Q28: ='2017'!P28 -> 0 | R28: =P28-Q28 -> 0
B29: 122 | C29: 42917 | D29: =IF(OR('2017'!D29="-",'2017'!D29="",'2017'!D29="0",D$9=""),"-",('2017'!D29*D$9/'2017'!D$9)) -> - | E29: =IF(OR('2017'!E29="-",'2017'!E29="",'2017'!E29="0",E$9=""),"-",('2017'!E29*E$9/'2017'!E$9)) -> - | F29: =IF(OR('2017'!F29="-",'2017'!F29="",'2017'!F29="0",F$9=""),"-",('2017'!F29*F$9/'2017'!F$9)) -> - | G29: =IF(OR('2017'!G29="-",'2017'!G29="",'2017'!G29="0",G$9=""),"-",('2017'!G29*G$9/'2017'!G$9)) -> - | H29: =IF(OR('2017'!H29="-",'2017'!H29="",'2017'!H29="0",H$9=""),"-",('2017'!H29*H$9/'2017'!H$9)) -> - | I29: =IF(OR('2017'!I29="-",'2017'!I29="",'2017'!I29="0",I$9=""),"-",('2017'!I29*I$9/'2017'!I$9)) -> - | J29: =IF(OR('2017'!J29="-",'2017'!J29="",'2017'!J29="0",J$9=""),"-",('2017'!J29*J$9/'2017'!J$9)) -> - | K29: =IF(OR('2017'!K29="-",'2017'!K29="",'2017'!K29="0",K$9=""),"-",('2017'!K29*K$9/'2017'!K$9)) -> - | ... O29: =IF(OR('2017'!O29="-",'2017'!O29="",'2017'!O29="0",O$9=""),"-",('2017'!O29*O$9/'2017'!O$9)) -> - | P29: =SUM(D29:O29) -> 0 | Q29: ='2017'!P29 -> 0 | R29: =P29-Q29 -> 0
D31: =SUM(D11:D29) -> 0 | E31: =SUM(E11:E29) -> 0 | F31: =SUM(F11:F29) -> 0 | G31: =SUM(G11:G29) -> 0 | H31: =SUM(H11:H29) -> 0 | I31: =SUM(I11:I29) -> 0 | J31: =SUM(J11:J29) -> 0 | K31: =SUM(K11:K29) -> 0 | ... O31: =SUM(O11:O29) -> 0 | P31: =SUM(D31:O31) -> 0 | Q31: ='2017'!P31 -> 4220 | R31: =P31-Q31 -> -4220
