Workbook

Sheet Feuil1
A1: week | B1: poste | C1: équipe | D1: Item | E1: N° | F1: description | J1: week | K1: poste | L1: équipe | M1: Item | N1: N° | O1: description | P1: _ | Q1: _
H2: wf134 | P2: _ | Q2: _
H3: Item | J3: =IFERROR(INDEX(INDIRECT("$A" & IF($Q2="_",4,$Q2)):$F$37,MATCH($H$2,INDIRECT("$D" & IF($Q2="_",4,$Q2)):$D$37,0),COLUMN(I7)-8),"") -> P1W1 | K3: =IFERROR(INDEX(INDIRECT("$A" & IF($Q2="_",4,$Q2)):$F$37,MATCH($H$2,INDIRECT("$D" & IF($Q2="_",4,$Q2)):$D$37,0),COLUMN(J7)-8),"") -> mardi aprem | L3: =IFERROR(INDEX(INDIRECT("$A" & IF($Q2="_",4,$Q2)):$F$37,MATCH($H$2,INDIRECT("$D" & IF($Q2="_",4,$Q2)):$D$37,0),COLUMN(K7)-8),"") -> Bleu | M3: =IFERROR(INDEX(INDIRECT("$A" & IF($Q2="_",4,$Q2)):$F$37,MATCH($H$2,INDIRECT("$D" & IF($Q2="_",4,$Q2)):$D$37,0),COLUMN(L7)-8),"") -> wf134 | N3: =IFERROR(INDEX(INDIRECT("$A" & IF($Q2="_",4,$Q2)):$F$37,MATCH($H$2,INDIRECT("$D" & IF($Q2="_",4,$Q2)):$D$37,0),COLUMN(M7)-8),"") -> 2 | O3: =IFERROR(INDEX(INDIRECT("$A" & IF($Q2="_",4,$Q2)):$F$37,MATCH($H$2,INDIRECT("$D" & IF($Q2="_",4,$Q2)):$D$37,0),COLUMN(N7)-8),"") -> UB long grain | P3: =IFERROR(MATCH($H$2,INDIRECT("$D" & IF($Q2="_",4,$Q2)):$D$37,0),"") -> 2 | Q3: =IFERROR(IF($Q2="_",4,$Q2)+P3,"") -> 6
A4: P1W1 | B4: mardi aprem | C4: =INDEX(calendrier!$C$3:$BC$23,MATCH(B4,calendrier!$B$3:$B$23,0),MATCH(A4,calendrier!$C$2:$BC$2,0)) -> Bleu | D4: kh128 | E4: 1 | F4: =VLOOKUP(D4,référence!$A:$C,3,FALSE) -> UB long grain | H4: AA90E | J4: =IFERROR(INDEX(INDIRECT("$A" & IF($Q3="_",4,$Q3)):$F$37,MATCH($H$2,INDIRECT("$D" & IF($Q3="_",4,$Q3)):$D$37,0),COLUMN(I8)-8),"") -> P1W1 | K4: =IFERROR(INDEX(INDIRECT("$A" & IF($Q3="_",4,$Q3)):$F$37,MATCH($H$2,INDIRECT("$D" & IF($Q3="_",4,$Q3)):$D$37,0),COLUMN(J8)-8),"") -> mercredi matin | L4: =IFERROR(INDEX(INDIRECT("$A" & IF($Q3="_",4,$Q3)):$F$37,MATCH($H$2,INDIRECT("$D" & IF($Q3="_",4,$Q3)):$D$37,0),COLUMN(K8)-8),"") -> Rouge | M4: =IFERROR(INDEX(INDIRECT("$A" & IF($Q3="_",4,$Q3)):$F$37,MATCH($H$2,INDIRECT("$D" & IF($Q3="_",4,$Q3)):$D$37,0),COLUMN(L8)-8),"") -> wf134 | N4: =IFERROR(INDEX(INDIRECT("$A" & IF($Q3="_",4,$Q3)):$F$37,MATCH($H$2,INDIRECT("$D" & IF($Q3="_",4,$Q3)):$D$37,0),COLUMN(M8)-8),"") -> 10 | O4: =IFERROR(INDEX(INDIRECT("$A" & IF($Q3="_",4,$Q3)):$F$37,MATCH($H$2,INDIRECT("$D" & IF($Q3="_",4,$Q3)):$D$37,0),COLUMN(N8)-8),"") -> UB long grain | P4: =IFERROR(MATCH($H$2,INDIRECT("$D" & IF($Q3="_",4,$Q3)):$D$37,0),"") -> 10 | Q4: =IFERROR(IF($Q3="_",4,$Q3)+P4,"") -> 16
A5: P1W1 | B5: mardi aprem | C5: =INDEX(calendrier!$C$3:$BC$23,MATCH(B5,calendrier!$B$3:$B$23,0),MATCH(A5,calendrier!$C$2:$BC$2,0)) -> Bleu | D5: wf134 | E5: 2 | F5: =VLOOKUP(D5,référence!$A:$C,3,FALSE) -> UB long grain | H5: AM68C | J5: =IFERROR(INDEX(INDIRECT("$A" & IF($Q4="_",4,$Q4)):$F$37,MATCH($H$2,INDIRECT("$D" & IF($Q4="_",4,$Q4)):$D$37,0),COLUMN(I9)-8),"") -> P1W1 | K5: =IFERROR(INDEX(INDIRECT("$A" & IF($Q4="_",4,$Q4)):$F$37,MATCH($H$2,INDIRECT("$D" & IF($Q4="_",4,$Q4)):$D$37,0),COLUMN(J9)-8),"") -> jeudi nuit | L5: =IFERROR(INDEX(INDIRECT("$A" & IF($Q4="_",4,$Q4)):$F$37,MATCH($H$2,INDIRECT("$D" & IF($Q4="_",4,$Q4)):$D$37,0),COLUMN(K9)-8),"") -> Orange | M5: =IFERROR(INDEX(INDIRECT("$A" & IF($Q4="_",4,$Q4)):$F$37,MATCH($H$2,INDIRECT("$D" & IF($Q4="_",4,$Q4)):$D$37,0),COLUMN(L9)-8),"") -> WF134 | N5: =IFERROR(INDEX(INDIRECT("$A" & IF($Q4="_",4,$Q4)):$F$37,MATCH($H$2,INDIRECT("$D" & IF($Q4="_",4,$Q4)):$D$37,0),COLUMN(M9)-8),"") -> 22 | O5: =IFERROR(INDEX(INDIRECT("$A" & IF($Q4="_",4,$Q4)):$F$37,MATCH($H$2,INDIRECT("$D" & IF($Q4="_",4,$Q4)):$D$37,0),COLUMN(N9)-8),"") -> UB long grain | P5: =IFERROR(MATCH($H$2,INDIRECT("$D" & IF($Q4="_",4,$Q4)):$D$37,0),"") -> 16 | Q5: =IFERROR(IF($Q4="_",4,$Q4)+P5,"") -> 32
A6: P1W1 | B6: mardi aprem | C6: =INDEX(calendrier!$C$3:$BC$23,MATCH(B6,calendrier!$B$3:$B$23,0),MATCH(A6,calendrier!$C$2:$BC$2,0)) -> Bleu | D6: ef358 | E6: 3 | F6: =VLOOKUP(D6,référence!$A:$C,3,FALSE) -> UB long grain | H6: ANC64 | J6: =IFERROR(INDEX(INDIRECT("$A" & IF($Q5="_",4,$Q5)):$F$37,MATCH($H$2,INDIRECT("$D" & IF($Q5="_",4,$Q5)):$D$37,0),COLUMN(I10)-8),"") -> P1W1 | K6: =IFERROR(INDEX(INDIRECT("$A" & IF($Q5="_",4,$Q5)):$F$37,MATCH($H$2,INDIRECT("$D" & IF($Q5="_",4,$Q5)):$D$37,0),COLUMN(J10)-8),"") -> vendredi matin | L6: =IFERROR(INDEX(INDIRECT("$A" & IF($Q5="_",4,$Q5)):$F$37,MATCH($H$2,INDIRECT("$D" & IF($Q5="_",4,$Q5)):$D$37,0),COLUMN(K10)-8),"") -> Vert | M6: =IFERROR(INDEX(INDIRECT("$A" & IF($Q5="_",4,$Q5)):$F$37,MATCH($H$2,INDIRECT("$D" & IF($Q5="_",4,$Q5)):$D$37,0),COLUMN(L10)-8),"") -> wf134 | N6: =IFERROR(INDEX(INDIRECT("$A" & IF($Q5="_",4,$Q5)):$F$37,MATCH($H$2,INDIRECT("$D" & IF($Q5="_",4,$Q5)):$D$37,0),COLUMN(M10)-8),"") -> 24 | O6: =IFERROR(INDEX(INDIRECT("$A" & IF($Q5="_",4,$Q5)):$F$37,MATCH($H$2,INDIRECT("$D" & IF($Q5="_",4,$Q5)):$D$37,0),COLUMN(N10)-8),"") -> UB long grain | P6: =IFERROR(MATCH($H$2,INDIRECT("$D" & IF($Q5="_",4,$Q5)):$D$37,0),"") -> 3 | Q6: =IFERROR(IF($Q5="_",4,$Q5)+P6,"") -> 35
A7: P1W1 | B7: mardi aprem | C7: =INDEX(calendrier!$C$3:$BC$23,MATCH(B7,calendrier!$B$3:$B$23,0),MATCH(A7,calendrier!$C$2:$BC$2,0)) -> Bleu | D7: mg551 | E7: 4 | F7: =VLOOKUP(D7,référence!$A:$C,3,FALSE) -> UB paella | H7: as55m | J7: =IFERROR(INDEX(INDIRECT("$A" & IF($Q6="_",4,$Q6)):$F$37,MATCH($H$2,INDIRECT("$D" & IF($Q6="_",4,$Q6)):$D$37,0),COLUMN(I11)-8),"") | K7: =IFERROR(INDEX(INDIRECT("$A" & IF($Q6="_",4,$Q6)):$F$37,MATCH($H$2,INDIRECT("$D" & IF($Q6="_",4,$Q6)):$D$37,0),COLUMN(J11)-8),"") | L7: =IFERROR(INDEX(INDIRECT("$A" & IF($Q6="_",4,$Q6)):$F$37,MATCH($H$2,INDIRECT("$D" & IF($Q6="_",4,$Q6)):$D$37,0),COLUMN(K11)-8),"") | M7: =IFERROR(INDEX(INDIRECT("$A" & IF($Q6="_",4,$Q6)):$F$37,MATCH($H$2,INDIRECT("$D" & IF($Q6="_",4,$Q6)):$D$37,0),COLUMN(L11)-8),"") | N7: =IFERROR(INDEX(INDIRECT("$A" & IF($Q6="_",4,$Q6)):$F$37,MATCH($H$2,INDIRECT("$D" & IF($Q6="_",4,$Q6)):$D$37,0),COLUMN(M11)-8),"") | O7: =IFERROR(INDEX(INDIRECT("$A" & IF($Q6="_",4,$Q6)):$F$37,MATCH($H$2,INDIRECT("$D" & IF($Q6="_",4,$Q6)):$D$37,0),COLUMN(N11)-8),"") | P7: =IFERROR(MATCH($H$2,INDIRECT("$D" & IF($Q6="_",4,$Q6)):$D$37,0),"") | Q7: =IFERROR(IF($Q6="_",4,$Q6)+P7,"")
A8: P1W1 | B8: mardi aprem | C8: =INDEX(calendrier!$C$3:$BC$23,MATCH(B8,calendrier!$B$3:$B$23,0),MATCH(A8,calendrier!$C$2:$BC$2,0)) -> Bleu | D8: AX01H | E8: 5 | F8: =VLOOKUP(D8,référence!$A:$C,3,FALSE) -> UB paella | H8: av28g | J8: =IFERROR(INDEX(INDIRECT("$A" & IF($Q7="_",4,$Q7)):$F$37,MATCH($H$2,INDIRECT("$D" & IF($Q7="_",4,$Q7)):$D$37,0),COLUMN(I12)-8),"") | K8: =IFERROR(INDEX(INDIRECT("$A" & IF($Q7="_",4,$Q7)):$F$37,MATCH($H$2,INDIRECT("$D" & IF($Q7="_",4,$Q7)):$D$37,0),COLUMN(J12)-8),"") | L8: =IFERROR(INDEX(INDIRECT("$A" & IF($Q7="_",4,$Q7)):$F$37,MATCH($H$2,INDIRECT("$D" & IF($Q7="_",4,$Q7)):$D$37,0),COLUMN(K12)-8),"") | M8: =IFERROR(INDEX(INDIRECT("$A" & IF($Q7="_",4,$Q7)):$F$37,MATCH($H$2,INDIRECT("$D" & IF($Q7="_",4,$Q7)):$D$37,0),COLUMN(L12)-8),"") | N8: =IFERROR(INDEX(INDIRECT("$A" & IF($Q7="_",4,$Q7)):$F$37,MATCH($H$2,INDIRECT("$D" & IF($Q7="_",4,$Q7)):$D$37,0),COLUMN(M12)-8),"") | O8: =IFERROR(INDEX(INDIRECT("$A" & IF($Q7="_",4,$Q7)):$F$37,MATCH($H$2,INDIRECT("$D" & IF($Q7="_",4,$Q7)):$D$37,0),COLUMN(N12)-8),"") | P8: =IFERROR(MATCH($H$2,INDIRECT("$D" & IF($Q7="_",4,$Q7)):$D$37,0),"") | Q8: =IFERROR(IF($Q7="_",4,$Q7)+P8,"")
A9: P1W1 | B9: mardi nuit | C9: =INDEX(calendrier!$C$3:$BC$23,MATCH(B9,calendrier!$B$3:$B$23,0),MATCH(A9,calendrier!$C$2:$BC$2,0)) -> Vert | D9: AX01H | E9: 5 | F9: =VLOOKUP(D9,référence!$A:$C,3,FALSE) -> UB paella | H9: AX01H | J9: =IFERROR(INDEX(INDIRECT("$A" & IF($Q8="_",4,$Q8)):$F$37,MATCH($H$2,INDIRECT("$D" & IF($Q8="_",4,$Q8)):$D$37,0),COLUMN(I13)-8),"") | K9: =IFERROR(INDEX(INDIRECT("$A" & IF($Q8="_",4,$Q8)):$F$37,MATCH($H$2,INDIRECT("$D" & IF($Q8="_",4,$Q8)):$D$37,0),COLUMN(J13)-8),"") | L9: =IFERROR(INDEX(INDIRECT("$A" & IF($Q8="_",4,$Q8)):$F$37,MATCH($H$2,INDIRECT("$D" & IF($Q8="_",4,$Q8)):$D$37,0),COLUMN(K13)-8),"") | M9: =IFERROR(INDEX(INDIRECT("$A" & IF($Q8="_",4,$Q8)):$F$37,MATCH($H$2,INDIRECT("$D" & IF($Q8="_",4,$Q8)):$D$37,0),COLUMN(L13)-8),"") | N9: =IFERROR(INDEX(INDIRECT("$A" & IF($Q8="_",4,$Q8)):$F$37,MATCH($H$2,INDIRECT("$D" & IF($Q8="_",4,$Q8)):$D$37,0),COLUMN(M13)-8),"") | O9: =IFERROR(INDEX(INDIRECT("$A" & IF($Q8="_",4,$Q8)):$F$37,MATCH($H$2,INDIRECT("$D" & IF($Q8="_",4,$Q8)):$D$37,0),COLUMN(N13)-8),"") | P9: =IFERROR(MATCH($H$2,INDIRECT("$D" & IF($Q8="_",4,$Q8)):$D$37,0),"") | Q9: =IFERROR(IF($Q8="_",4,$Q8)+P9,"")
A10: P1W1 | B10: mardi nuit | C10: =INDEX(calendrier!$C$3:$BC$23,MATCH(B10,calendrier!$B$3:$B$23,0),MATCH(A10,calendrier!$C$2:$BC$2,0)) -> Vert | D10: AM68C | E10: 6 | F10: =VLOOKUP(D10,référence!$A:$C,3,FALSE) -> UB paella | H10: AX433
A11: P1W1 | B11: mardi nuit | C11: =INDEX(calendrier!$C$3:$BC$23,MATCH(B11,calendrier!$B$3:$B$23,0),MATCH(A11,calendrier!$C$2:$BC$2,0)) -> Vert | D11: AA90E | E11: 7 | F11: =VLOOKUP(D11,référence!$A:$C,3,FALSE) -> UB tex mex | H11: AX442
A12: P1W1 | B12: mercredi matin | C12: =INDEX(calendrier!$C$3:$BC$23,MATCH(B12,calendrier!$B$3:$B$23,0),MATCH(A12,calendrier!$C$2:$BC$2,0)) -> Rouge | D12: AA90E | E12: 7 | F12: =VLOOKUP(D12,référence!$A:$C,3,FALSE) -> UB tex mex | H12: BK58D
A13: P1W1 | B13: mercredi matin | C13: =INDEX(calendrier!$C$3:$BC$23,MATCH(B13,calendrier!$B$3:$B$23,0),MATCH(A13,calendrier!$C$2:$BC$2,0)) -> Rouge | D13: LR743 | E13: 8 | F13: =VLOOKUP(D13,référence!$A:$C,3,FALSE) -> UB risi bisi | H13: BM79T
A14: P1W1 | B14: mercredi matin | C14: =INDEX(calendrier!$C$3:$BC$23,MATCH(B14,calendrier!$B$3:$B$23,0),MATCH(A14,calendrier!$C$2:$BC$2,0)) -> Rouge | D14: JM169 | E14: 9 | F14: =VLOOKUP(D14,référence!$A:$C,3,FALSE) -> UB risi bisi | H14: ef358
A15: P1W1 | B15: mercredi matin | C15: =INDEX(calendrier!$C$3:$BC$23,MATCH(B15,calendrier!$B$3:$B$23,0),MATCH(A15,calendrier!$C$2:$BC$2,0)) -> Rouge | D15: wf134 | E15: 10 | F15: =VLOOKUP(D15,référence!$A:$C,3,FALSE) -> UB long grain | H15: JM169
A16: P1W1 | B16: mercredi matin | C16: =INDEX(calendrier!$C$3:$BC$23,MATCH(B16,calendrier!$B$3:$B$23,0),MATCH(A16,calendrier!$C$2:$BC$2,0)) -> Rouge | D16: AX442 | E16: 11 | F16: =VLOOKUP(D16,référence!$A:$C,3,FALSE) -> UB méditerranien | H16: kh128
A17: P1W1 | B17: mercredi aprem | C17: =INDEX(calendrier!$C$3:$BC$23,MATCH(B17,calendrier!$B$3:$B$23,0),MATCH(A17,calendrier!$C$2:$BC$2,0)) -> Bleu | D17: AX442 | E17: 11 | F17: =VLOOKUP(D17,référence!$A:$C,3,FALSE) -> UB méditerranien | H17: KH217
A18: P1W1 | B18: mercredi aprem | C18: =INDEX(calendrier!$C$3:$BC$23,MATCH(B18,calendrier!$B$3:$B$23,0),MATCH(A18,calendrier!$C$2:$BC$2,0)) -> Bleu | D18: KH217 | E18: 12 | F18: =VLOOKUP(D18,référence!$A:$C,3,FALSE) -> UB méditerranien | H18: LR743
A19: P1W1 | B19: mercredi aprem | C19: =INDEX(calendrier!$C$3:$BC$23,MATCH(B19,calendrier!$B$3:$B$23,0),MATCH(A19,calendrier!$C$2:$BC$2,0)) -> Bleu | D19: kh128 | E19: 13 | F19: =VLOOKUP(D19,référence!$A:$C,3,FALSE) -> UB long grain | H19: mg551
A20: P1W1 | B20: vendredi nuit | C20: =INDEX(calendrier!$C$3:$BC$23,MATCH(B20,calendrier!$B$3:$B$23,0),MATCH(A20,calendrier!$C$2:$BC$2,0)) -> Orange | D20: BM79T | E20: 13 | F20: =VLOOKUP(D20,référence!$A:$C,3,FALSE) -> UB méditerranien | H20: TN903
A21: P1W1 | B21: jeudi matin | C21: =INDEX(calendrier!$C$3:$BC$23,MATCH(B21,calendrier!$B$3:$B$23,0),MATCH(A21,calendrier!$C$2:$BC$2,0)) -> Rouge | D21: BM79T | E21: 13 | F21: =VLOOKUP(D21,référence!$A:$C,3,FALSE) -> UB méditerranien | H21: TW709
... A26: P1W1 | B26: jeudi aprem | C26: =INDEX(calendrier!$C$3:$BC$23,MATCH(B26,calendrier!$B$3:$B$23,0),MATCH(A26,calendrier!$C$2:$BC$2,0)) -> Bleu | D26: XD080 | E26: 18 | F26: =VLOOKUP(D26,référence!$A:$C,3,FALSE) -> UB italian herbe | H26: XD083
A27: P1W1 | B27: jeudi aprem | C27: =INDEX(calendrier!$C$3:$BC$23,MATCH(B27,calendrier!$B$3:$B$23,0),MATCH(A27,calendrier!$C$2:$BC$2,0)) -> Bleu | D27: WM942 | E27: 19 | F27: =VLOOKUP(D27,référence!$A:$C,3,FALSE) -> UB italian herbe
A28: P1W1 | B28: jeudi aprem | C28: =INDEX(calendrier!$C$3:$BC$23,MATCH(B28,calendrier!$B$3:$B$23,0),MATCH(A28,calendrier!$C$2:$BC$2,0)) -> Bleu | D28: ANC64 | E28: 20 | F28: =VLOOKUP(D28,référence!$A:$C,3,FALSE) -> UB italian herbe
A29: P1W1 | B29: jeudi aprem | C29: =INDEX(calendrier!$C$3:$BC$23,MATCH(B29,calendrier!$B$3:$B$23,0),MATCH(A29,calendrier!$C$2:$BC$2,0)) -> Bleu | D29: AX433 | E29: 21 | F29: =VLOOKUP(D29,référence!$A:$C,3,FALSE) -> UB long grain
A30: P1W1 | B30: jeudi nuit | C30: =INDEX(calendrier!$C$3:$BC$23,MATCH(B30,calendrier!$B$3:$B$23,0),MATCH(A30,calendrier!$C$2:$BC$2,0)) -> Orange | D30: kh128 | E30: 21 | F30: =VLOOKUP(D30,référence!$A:$C,3,FALSE) -> UB long grain
A31: P1W1 | B31: jeudi nuit | C31: =INDEX(calendrier!$C$3:$BC$23,MATCH(B31,calendrier!$B$3:$B$23,0),MATCH(A31,calendrier!$C$2:$BC$2,0)) -> Orange | D31: WF134 | E31: 22 | F31: =VLOOKUP(D31,référence!$A:$C,3,FALSE) -> UB long grain
A32: P1W1 | B32: jeudi nuit | C32: =INDEX(calendrier!$C$3:$BC$23,MATCH(B32,calendrier!$B$3:$B$23,0),MATCH(A32,calendrier!$C$2:$BC$2,0)) -> Orange | D32: WF163 | E32: 23 | F32: =VLOOKUP(D32,référence!$A:$C,3,FALSE) -> UB mushroom
A33: P1W1 | B33: vendredi matin | C33: =INDEX(calendrier!$C$3:$BC$23,MATCH(B33,calendrier!$B$3:$B$23,0),MATCH(A33,calendrier!$C$2:$BC$2,0)) -> Vert | D33: wf163 | E33: 23 | F33: =VLOOKUP(D33,référence!$A:$C,3,FALSE) -> UB mushroom
A34: P1W1 | B34: vendredi matin | C34: =INDEX(calendrier!$C$3:$BC$23,MATCH(B34,calendrier!$B$3:$B$23,0),MATCH(A34,calendrier!$C$2:$BC$2,0)) -> Vert | D34: wf134 | E34: 24 | F34: =VLOOKUP(D34,référence!$A:$C,3,FALSE) -> UB long grain
A35: P1W1 | B35: vendredi matin | C35: =INDEX(calendrier!$C$3:$BC$23,MATCH(B35,calendrier!$B$3:$B$23,0),MATCH(A35,calendrier!$C$2:$BC$2,0)) -> Vert | D35: as55m | E35: 25 | F35: =VLOOKUP(D35,référence!$A:$C,3,FALSE) -> UB veg pilau
A36: P1W1 | B36: vendredi matin | C36: =INDEX(calendrier!$C$3:$BC$23,MATCH(B36,calendrier!$B$3:$B$23,0),MATCH(A36,calendrier!$C$2:$BC$2,0)) -> Vert | D36: av28g | E36: 26 | F36: =VLOOKUP(D36,référence!$A:$C,3,FALSE) -> UB veg pilau
A37: P1W1 | B37: vendredi aprem | C37: =INDEX(calendrier!$C$3:$BC$23,MATCH(B37,calendrier!$B$3:$B$23,0),MATCH(A37,calendrier!$C$2:$BC$2,0)) -> Rouge | D37: AV28G | E37: 26 | F37: =VLOOKUP(D37,référence!$A:$C,3,FALSE) -> UB veg pilau

Sheet Sheet1
A1: week | B1: poste | C1: équipe | D1: Item | E1: N° | F1: description | G1: fait | J1: week | K1: Item | L1: N° | M1: fait
A4: P1W1 | B4: mardi aprem | C4: =INDEX(calendrier!$C$3:$BC$23,MATCH(B4,calendrier!$B$3:$B$23,0),MATCH(A4,calendrier!$C$2:$BC$2,0)) -> Bleu | D4: kh128 | E4: 1 | F4: =VLOOKUP(D4,référence!$A:$C,3,FALSE) -> UB long grain | G4: 563 | J4: P1W1 | K4: kh128 | L4: 1 | M4: 563
A5: P1W1 | B5: mardi aprem | C5: =INDEX(calendrier!$C$3:$BC$23,MATCH(B5,calendrier!$B$3:$B$23,0),MATCH(A5,calendrier!$C$2:$BC$2,0)) -> Bleu | D5: wf134 | E5: 2 | F5: =VLOOKUP(D5,référence!$A:$C,3,FALSE) -> UB long grain | G5: 654 | J5: P1W1 | K5: wf134 | L5: 2 | M5: 654
A6: P1W1 | B6: mardi aprem | C6: =INDEX(calendrier!$C$3:$BC$23,MATCH(B6,calendrier!$B$3:$B$23,0),MATCH(A6,calendrier!$C$2:$BC$2,0)) -> Bleu | D6: ef358 | E6: 3 | F6: =VLOOKUP(D6,référence!$A:$C,3,FALSE) -> UB long grain | G6: 36416 | J6: P1W1 | K6: ef358 | L6: 3 | M6: 36416
A7: P1W1 | B7: mardi aprem | C7: =INDEX(calendrier!$C$3:$BC$23,MATCH(B7,calendrier!$B$3:$B$23,0),MATCH(A7,calendrier!$C$2:$BC$2,0)) -> Bleu | D7: mg551 | E7: 4 | F7: =VLOOKUP(D7,référence!$A:$C,3,FALSE) -> UB paella | G7: 1648 | J7: P1W1 | K7: mg551 | L7: 4 | M7: 1648
A8: P1W1 | B8: mardi aprem | C8: =INDEX(calendrier!$C$3:$BC$23,MATCH(B8,calendrier!$B$3:$B$23,0),MATCH(A8,calendrier!$C$2:$BC$2,0)) -> Bleu | D8: AX01H | E8: 5 | F8: =VLOOKUP(D8,référence!$A:$C,3,FALSE) -> UB paella | G8: 165 | J8: P1W1 | K8: AX01H | L8: 5 | M8: =G8+G9 -> 165062
A9: P1W1 | B9: mardi nuit | C9: =INDEX(calendrier!$C$3:$BC$23,MATCH(B9,calendrier!$B$3:$B$23,0),MATCH(A9,calendrier!$C$2:$BC$2,0)) -> Vert | D9: AX01H | E9: 5 | F9: =VLOOKUP(D9,référence!$A:$C,3,FALSE) -> UB paella | G9: 164897 | J9: P1W1 | K9: AM68C | L9: 6 | M9: 6974
A10: P1W1 | B10: mardi nuit | C10: =INDEX(calendrier!$C$3:$BC$23,MATCH(B10,calendrier!$B$3:$B$23,0),MATCH(A10,calendrier!$C$2:$BC$2,0)) -> Vert | D10: AM68C | E10: 6 | F10: =VLOOKUP(D10,référence!$A:$C,3,FALSE) -> UB paella | G10: 6974 | J10: P1W1 | K10: AA90E | L10: 7 | M10: =G11+G12 -> 7195
A11: P1W1 | B11: mardi nuit | C11: =INDEX(calendrier!$C$3:$BC$23,MATCH(B11,calendrier!$B$3:$B$23,0),MATCH(A11,calendrier!$C$2:$BC$2,0)) -> Vert | D11: AA90E | E11: 7 | F11: =VLOOKUP(D11,référence!$A:$C,3,FALSE) -> UB tex mex | G11: 654 | J11: P1W1 | K11: LR743 | L11: 8 | M11: 4684
A12: P1W1 | B12: mercredi matin | C12: =INDEX(calendrier!$C$3:$BC$23,MATCH(B12,calendrier!$B$3:$B$23,0),MATCH(A12,calendrier!$C$2:$BC$2,0)) -> Rouge | D12: AA90E | E12: 7 | F12: =VLOOKUP(D12,référence!$A:$C,3,FALSE) -> UB tex mex | G12: 6541 | J12: P1W1 | K12: JM169 | L12: 9 | M12: 45
A13: P1W1 | B13: mercredi matin | C13: =INDEX(calendrier!$C$3:$BC$23,MATCH(B13,calendrier!$B$3:$B$23,0),MATCH(A13,calendrier!$C$2:$BC$2,0)) -> Rouge | D13: LR743 | E13: 8 | F13: =VLOOKUP(D13,référence!$A:$C,3,FALSE) -> UB risi bisi | G13: 4684 | J13: P1W1 | K13: wf134 | L13: 10 | M13: 4654
A14: P1W1 | B14: mercredi matin | C14: =INDEX(calendrier!$C$3:$BC$23,MATCH(B14,calendrier!$B$3:$B$23,0),MATCH(A14,calendrier!$C$2:$BC$2,0)) -> Rouge | D14: JM169 | E14: 9 | F14: =VLOOKUP(D14,référence!$A:$C,3,FALSE) -> UB risi bisi | G14: 45 | J14: P1W1 | K14: AX442 | L14: 11 | M14: =G16+G17 -> 47112
A15: P1W1 | B15: mercredi matin | C15: =INDEX(calendrier!$C$3:$BC$23,MATCH(B15,calendrier!$B$3:$B$23,0),MATCH(A15,calendrier!$C$2:$BC$2,0)) -> Rouge | D15: wf134 | E15: 10 | F15: =VLOOKUP(D15,référence!$A:$C,3,FALSE) -> UB long grain | G15: 4654 | J15: P1W1 | K15: KH217 | L15: 12 | M15: 4674
A16: P1W1 | B16: mercredi matin | C16: =INDEX(calendrier!$C$3:$BC$23,MATCH(B16,calendrier!$B$3:$B$23,0),MATCH(A16,calendrier!$C$2:$BC$2,0)) -> Rouge | D16: AX442 | E16: 11 | F16: =VLOOKUP(D16,référence!$A:$C,3,FALSE) -> UB méditerranien | G16: 5464 | J16: P1W1 | K16: kh128 | L16: 13 | M16: 4648
A17: P1W1 | B17: mercredi aprem | C17: =INDEX(calendrier!$C$3:$BC$23,MATCH(B17,calendrier!$B$3:$B$23,0),MATCH(A17,calendrier!$C$2:$BC$2,0)) -> Bleu | D17: AX442 | E17: 11 | F17: =VLOOKUP(D17,référence!$A:$C,3,FALSE) -> UB méditerranien | G17: 41648 | J17: P1W1 | K17: BM79T | L17: 14 | M17: =G20+G21 -> 9295
A18: P1W1 | B18: mercredi aprem | C18: =INDEX(calendrier!$C$3:$BC$23,MATCH(B18,calendrier!$B$3:$B$23,0),MATCH(A18,calendrier!$C$2:$BC$2,0)) -> Bleu | D18: KH217 | E18: 12 | F18: =VLOOKUP(D18,référence!$A:$C,3,FALSE) -> UB méditerranien | G18: 4674 | J18: P1W2 | K18: TW709 | L18: 1 | M18: =G22 -> 48679
A19: P1W1 | B19: mercredi aprem | C19: =INDEX(calendrier!$C$3:$BC$23,MATCH(B19,calendrier!$B$3:$B$23,0),MATCH(A19,calendrier!$C$2:$BC$2,0)) -> Bleu | D19: kh128 | E19: 13 | F19: =VLOOKUP(D19,référence!$A:$C,3,FALSE) -> UB long grain | G19: 4648 | J19: P1W2 | K19: TN903 | L19: 2 | M19: =G23 -> 94131
A20: P1W1 | B20: vendredi nuit | C20: =INDEX(calendrier!$C$3:$BC$23,MATCH(B20,calendrier!$B$3:$B$23,0),MATCH(A20,calendrier!$C$2:$BC$2,0)) -> Orange | D20: BM79T | E20: 14 | F20: =VLOOKUP(D20,référence!$A:$C,3,FALSE) -> UB méditerranien | G20: 4647 | J20: P1W2 | K20: XD083 | L20: 3 | M20: =G24 -> 68
A21: P1W1 | B21: jeudi matin | C21: =INDEX(calendrier!$C$3:$BC$23,MATCH(B21,calendrier!$B$3:$B$23,0),MATCH(A21,calendrier!$C$2:$BC$2,0)) -> Rouge | D21: BM79T | E21: 14 | F21: =VLOOKUP(D21,référence!$A:$C,3,FALSE) -> UB méditerranien | G21: 4648 | J21: P1W2 | K21: BK58D | L21: 4 | M21: =G25 -> 46
A22: P1W2 | B22: jeudi matin | C22: =INDEX(calendrier!$C$3:$BC$23,MATCH(B22,calendrier!$B$3:$B$23,0),MATCH(A22,calendrier!$C$2:$BC$2,0)) -> Orange | D22: TW709 | E22: 1 | F22: =VLOOKUP(D22,référence!$A:$C,3,FALSE) -> UB rissoto mushroom | G22: 48679 | J22: P1W2 | K22: XD080 | L22: 5 | M22: =G26 -> 6469
A23: P1W2 | B23: jeudi matin | C23: =INDEX(calendrier!$C$3:$BC$23,MATCH(B23,calendrier!$B$3:$B$23,0),MATCH(A23,calendrier!$C$2:$BC$2,0)) -> Orange | D23: TN903 | E23: 2 | F23: =VLOOKUP(D23,référence!$A:$C,3,FALSE) -> UB rissoto mushroom | G23: 94131 | J23: P1W2 | K23: WM942 | L23: 6 | M23: =G27 -> 5989
A24: P1W2 | B24: jeudi matin | C24: =INDEX(calendrier!$C$3:$BC$23,MATCH(B24,calendrier!$B$3:$B$23,0),MATCH(A24,calendrier!$C$2:$BC$2,0)) -> Orange | D24: XD083 | E24: 3 | F24: =VLOOKUP(D24,référence!$A:$C,3,FALSE) -> UB rissoto mushroom | G24: 68 | J24: P1W2 | K24: ANC64 | L24: 7 | M24: =G28 -> 5479
A25: P1W2 | B25: jeudi matin | C25: =INDEX(calendrier!$C$3:$BC$23,MATCH(B25,calendrier!$B$3:$B$23,0),MATCH(A25,calendrier!$C$2:$BC$2,0)) -> Orange | D25: BK58D | E25: 4 | F25: =VLOOKUP(D25,référence!$A:$C,3,FALSE) -> UB rissoto mushroom | G25: 46 | J25: P1W2 | K25: AX433 | L25: 8 | M25: =G29 -> 46
A26: P1W2 | B26: jeudi aprem | C26: =INDEX(calendrier!$C$3:$BC$23,MATCH(B26,calendrier!$B$3:$B$23,0),MATCH(A26,calendrier!$C$2:$BC$2,0)) -> Vert | D26: XD080 | E26: 5 | F26: =VLOOKUP(D26,référence!$A:$C,3,FALSE) -> UB italian herbe | G26: 6469 | J26: P1W2 | K26: kh128 | L26: 9 | M26: =G30 -> 4698
A27: P1W2 | B27: jeudi aprem | C27: =INDEX(calendrier!$C$3:$BC$23,MATCH(B27,calendrier!$B$3:$B$23,0),MATCH(A27,calendrier!$C$2:$BC$2,0)) -> Vert | D27: WM942 | E27: 6 | F27: =VLOOKUP(D27,référence!$A:$C,3,FALSE) -> UB italian herbe | G27: 5989 | J27: P1W2 | K27: WF134 | L27: 10 | M27: =G31+G33 -> 517
A28: P1W2 | B28: jeudi aprem | C28: =INDEX(calendrier!$C$3:$BC$23,MATCH(B28,calendrier!$B$3:$B$23,0),MATCH(A28,calendrier!$C$2:$BC$2,0)) -> Vert | D28: ANC64 | E28: 7 | F28: =VLOOKUP(D28,référence!$A:$C,3,FALSE) -> UB italian herbe | G28: 5479 | J28: P1W2 | K28: WF163 | L28: 11 | M28: =G32+G34 -> 5167
A29: P1W2 | B29: jeudi aprem | C29: =INDEX(calendrier!$C$3:$BC$23,MATCH(B29,calendrier!$B$3:$B$23,0),MATCH(A29,calendrier!$C$2:$BC$2,0)) -> Vert | D29: AX433 | E29: 8 | F29: =VLOOKUP(D29,référence!$A:$C,3,FALSE) -> UB long grain | G29: 46 | J29: P1W2 | K29: as55m | L29: 12 | M29: =G35 -> 46978
A30: P1W2 | B30: jeudi nuit | C30: =INDEX(calendrier!$C$3:$BC$23,MATCH(B30,calendrier!$B$3:$B$23,0),MATCH(A30,calendrier!$C$2:$BC$2,0)) -> Bleu | D30: kh128 | E30: 9 | F30: =VLOOKUP(D30,référence!$A:$C,3,FALSE) -> UB long grain | G30: 4698 | J30: P1W2 | K30: av28g | L30: 13 | M30: =G36+G37 -> 4747
A31: P1W2 | B31: jeudi nuit | C31: =INDEX(calendrier!$C$3:$BC$23,MATCH(B31,calendrier!$B$3:$B$23,0),MATCH(A31,calendrier!$C$2:$BC$2,0)) -> Bleu | D31: WF134 | E31: 10 | F31: =VLOOKUP(D31,référence!$A:$C,3,FALSE) -> UB long grain | G31: 49
A32: P1W2 | B32: jeudi nuit | C32: =INDEX(calendrier!$C$3:$BC$23,MATCH(B32,calendrier!$B$3:$B$23,0),MATCH(A32,calendrier!$C$2:$BC$2,0)) -> Bleu | D32: WF163 | E32: 11 | F32: =VLOOKUP(D32,référence!$A:$C,3,FALSE) -> UB mushroom | G32: 469
A33: P1W2 | B33: vendredi matin | C33: =INDEX(calendrier!$C$3:$BC$23,MATCH(B33,calendrier!$B$3:$B$23,0),MATCH(A33,calendrier!$C$2:$BC$2,0)) -> Rouge | D33: WF134 | E33: 10 | F33: =VLOOKUP(D33,référence!$A:$C,3,FALSE) -> UB long grain | G33: 468
A34: P1W2 | B34: vendredi matin | C34: =INDEX(calendrier!$C$3:$BC$23,MATCH(B34,calendrier!$B$3:$B$23,0),MATCH(A34,calendrier!$C$2:$BC$2,0)) -> Rouge | D34: wf163 | E34: 11 | F34: =VLOOKUP(D34,référence!$A:$C,3,FALSE) -> UB mushroom | G34: 4698
A35: P1W2 | B35: vendredi matin | C35: =INDEX(calendrier!$C$3:$BC$23,MATCH(B35,calendrier!$B$3:$B$23,0),MATCH(A35,calendrier!$C$2:$BC$2,0)) -> Rouge | D35: as55m | E35: 12 | F35: =VLOOKUP(D35,référence!$A:$C,3,FALSE) -> UB veg pilau | G35: 46978
A36: P1W2 | B36: vendredi matin | C36: =INDEX(calendrier!$C$3:$BC$23,MATCH(B36,calendrier!$B$3:$B$23,0),MATCH(A36,calendrier!$C$2:$BC$2,0)) -> Rouge | D36: av28g | E36: 13 | F36: =VLOOKUP(D36,référence!$A:$C,3,FALSE) -> UB veg pilau | G36: 4698
A37: P1W2 | B37: vendredi aprem | C37: =INDEX(calendrier!$C$3:$BC$23,MATCH(B37,calendrier!$B$3:$B$23,0),MATCH(A37,calendrier!$C$2:$BC$2,0)) -> Orange | D37: AV28G | E37: 13 | F37: =VLOOKUP(D37,référence!$A:$C,3,FALSE) -> UB veg pilau | G37: 49

Sheet pertes TT9
A1: Perte TT9 Perte TT9 Perte TT9 Perte TT9 Perte TT9
A3: Saisies Saisies Saisies Saisies Saisies Saisies Saisies Saisies Saisies
A4: week | B4: poste | C4: équipe | D4: Item | E4: N° | F4: description | G4: PDM | H4: CLP | I4: weekplan | L4: TT9 - 1 | P4: TT9 - 2 | T4: TT9 - 3 | X4: rejet safeline | Y4: fin de recette | AA4: commentaires
I5: plan | J5: fait | K5: reste à produire | L5: prise TT9 | M5: perte TT9 | N5: garvens | O5: % perte | P5: prise TT9 | Q5: perte TT9 | R5: garvens | S5: % perte | T5: prise TT9 | U5: perte TT9 | V5: garvens | W5: % perte | Y5: compteur dose riz / blé | Z5: Nb de batch
O6: 0.007 | S6: =O6 -> 0.007 | W6: =S6 -> 0.007
A7: P1W1 | B7: mardi aprem | C7: =INDEX(calendrier!$C$3:$BC$23,MATCH(B7,calendrier!$B$3:$B$23,0),MATCH(A7,calendrier!$C$2:$BC$2,0)) -> Bleu | D7: kh128 | E7: 1 | F7: =VLOOKUP(D7,référence!$A:$C,3,FALSE) -> UB long grain | I7: 10752 | J7: =SUM(N7,R7,V7) -> 9477 | K7: =I7-J7 -> 1275 | L7: 5075 | M7: 163 | N7: 4985 | O7: =IFERROR(((L7-N7)/L7),"0") -> 0.01773399 | P7: 1474 | Q7: 131 | R7: 1260 | S7: =IFERROR(((P7-R7)/P7),"") -> 0.14518318 | T7: 3437 | U7: 145 | V7: 3232 | W7: =IFERROR(((T7-V7)/T7),"") -> 0.059645039 | X7: 0
A8: P1W1 | B8: mardi aprem | C8: =INDEX(calendrier!$C$3:$BC$23,MATCH(B8,calendrier!$B$3:$B$23,0),MATCH(A8,calendrier!$C$2:$BC$2,0)) -> Bleu | D8: wf134 | E8: 2 | F8: =VLOOKUP(D8,référence!$A:$C,3,FALSE) -> UB long grain | I8: 17664 | J8: =SUM(N8,R8,V8) -> 17174 | K8: =I8-J8 -> 490 | L8: 5900 | M8: 453 | N8: 5848 | O8: =IFERROR(((L8-N8)/L8),"") -> 0.0088135593 | P8: 8052 | Q8: 72 | R8: 7892 | S8: =IFERROR(((P8-R8)/P8),"") -> 0.01987084 | T8: 3517 | U8: 95 | V8: 3434 | W8: =IFERROR(((T8-V8)/T8),"") -> 0.023599659 | X8: 0
A9: P1W1 | B9: mardi aprem | C9: =INDEX(calendrier!$C$3:$BC$23,MATCH(B9,calendrier!$B$3:$B$23,0),MATCH(A9,calendrier!$C$2:$BC$2,0)) -> Bleu | D9: ef358 | E9: 3 | F9: =VLOOKUP(D9,référence!$A:$C,3,FALSE) -> UB long grain | I9: 27648 | J9: =SUM(N9,R9,V9) -> 31633 | K9: =I9-J9 -> -3985 | L9: 9864 | M9: 28 | N9: 9841 | O9: =IFERROR(((L9-N9)/L9),"") -> 0.0023317113 | P9: 9250 | Q9: 61 | R9: 9117 | S9: =IFERROR(((P9-R9)/P9),"") -> 0.014378378 | T9: 12724 | U9: 37 | V9: 12675 | W9: =IFERROR(((T9-V9)/T9),"") -> 0.0038509903 | X9: 0 | Y9: 59133 | Z9: 9
A10: P1W1 | B10: mardi aprem | C10: =INDEX(calendrier!$C$3:$BC$23,MATCH(B10,calendrier!$B$3:$B$23,0),MATCH(A10,calendrier!$C$2:$BC$2,0)) -> Bleu | D10: mg551 | E10: 4 | F10: =VLOOKUP(D10,référence!$A:$C,3,FALSE) -> UB paella | I10: 6144 | J10: =SUM(N10,R10,V10) -> 7049 | K10: =I10-J10 -> -905 | L10: 4069 | M10: 14 | N10: 3918 | O10: =IFERROR(((L10-N10)/L10),"") -> 0.037109855 | P10: 3340 | Q10: 35 | R10: 3131 | S10: =IFERROR(((P10-R10)/P10),"") -> 0.06257485 | T10: 0 | U10: 0 | V10: 0 | W10: =IFERROR(((T10-V10)/T10),"") | X10: 0
A11: P1W1 | B11: mardi aprem | C11: =INDEX(calendrier!$C$3:$BC$23,MATCH(B11,calendrier!$B$3:$B$23,0),MATCH(A11,calendrier!$C$2:$BC$2,0)) -> Bleu | D11: AX01H | E11: 5 | F11: =VLOOKUP(D11,référence!$A:$C,3,FALSE) -> UB paella | I11: 34560 | J11: =SUM(N11,R11,V11) -> 11291 | K11: =I11-J11 -> 23269 | L11: 2021 | M11: 19 | N11: 1966 | O11: =IFERROR(((L11-N11)/L11),"") -> 0.02721425 | P11: 2260 | Q11: 4 | R11: 2245 | S11: =IFERROR(((P11-R11)/P11),"") -> 0.0066371681 | T11: 7295 | U11: 29 | V11: 7080 | W11: =IFERROR(((T11-V11)/T11),"") -> 0.029472241 | X11: 0
A12: P1W1 | B12: mardi nuit | C12: =INDEX(calendrier!$C$3:$BC$23,MATCH(B12,calendrier!$B$3:$B$23,0),MATCH(A12,calendrier!$C$2:$BC$2,0)) -> Vert | D12: AX01H | E12: 5 | F12: =VLOOKUP(D12,référence!$A:$C,3,FALSE) -> UB paella | I12: 23269 | J12: =SUM(N12,R12,V12) -> 24078 | K12: =I12-J12 -> -809 | L12: 8969 | M12: 29 | N12: 8872 | O12: =IFERROR(((L12-N12)/L12),"") -> 0.01081503 | P12: 8448 | Q12: 47 | R12: 8212 | S12: =IFERROR(((P12-R12)/P12),"") -> 0.027935606 | T12: 7147 | U12: 34 | V12: 6994 | W12: =IFERROR(((T12-V12)/T12),"") -> 0.021407584 | X12: 0
A13: P1W1 | B13: mardi nuit | C13: =INDEX(calendrier!$C$3:$BC$23,MATCH(B13,calendrier!$B$3:$B$23,0),MATCH(A13,calendrier!$C$2:$BC$2,0)) -> Vert | D13: AM68C | E13: 6 | F13: =VLOOKUP(D13,référence!$A:$C,3,FALSE) -> UB paella | I13: 19968 | J13: =SUM(N13,R13,V13) -> 15861 | K13: =I13-J13 -> 4107 | L13: 4776 | M13: 52 | N13: 4684 | O13: =IFERROR(((L13-N13)/L13),"") -> 0.019262982 | P13: 4673 | Q13: 38 | R13: 4565 | S13: =IFERROR(((P13-R13)/P13),"") -> 0.023111492 | T13: 6757 | U13: 63 | V13: 6612 | W13: =IFERROR(((T13-V13)/T13),"") -> 0.021459227 | X13: 0 | Y13: 59607 | Z13: 6
A14: P1W1 | B14: mardi nuit | C14: =INDEX(calendrier!$C$3:$BC$23,MATCH(B14,calendrier!$B$3:$B$23,0),MATCH(A14,calendrier!$C$2:$BC$2,0)) -> Vert | D14: AA90E | E14: 7 | F14: =VLOOKUP(D14,référence!$A:$C,3,FALSE) -> UB tex mex | I14: 43008 | J14: =SUM(N14,R14,V14) -> 29886 | K14: =I14-J14 -> 13122 | L14: 9399 | M14: 50 | N14: 9236 | O14: =IFERROR(((L14-N14)/L14),"") -> 0.01734227 | P14: 8741 | Q14: 50 | R14: 8613 | S14: =IFERROR(((P14-R14)/P14),"") -> 0.014643633 | T14: 12253 | U14: 24 | V14: 12037 | W14: =IFERROR(((T14-V14)/T14),"") -> 0.017628336 | X14: 0
A15: P1W1 | B15: mercredi matin | C15: =INDEX(calendrier!$C$3:$BC$23,MATCH(B15,calendrier!$B$3:$B$23,0),MATCH(A15,calendrier!$C$2:$BC$2,0)) -> Rouge | D15: AA90E | E15: 7 | F15: =VLOOKUP(D15,référence!$A:$C,3,FALSE) -> UB tex mex | I15: 13122 | J15: =SUM(N15,R15,V15) -> 10499 | K15: =I15-J15 -> 2623 | L15: 5289 | M15: 0 | N15: 5239 | O15: =IFERROR(((L15-N15)/L15),"") -> 0.0094535829 | P15: 1674 | Q15: 14 | R15: 1589 | S15: =IFERROR(((P15-R15)/P15),"") -> 0.050776583 | T15: 3757 | U15: 26 | V15: 3671 | W15: =IFERROR(((T15-V15)/T15),"") -> 0.022890604 | X15: 0 | Y15: 42569 | Z15: 4
A16: P1W1 | B16: mercredi matin | C16: =INDEX(calendrier!$C$3:$BC$23,MATCH(B16,calendrier!$B$3:$B$23,0),MATCH(A16,calendrier!$C$2:$BC$2,0)) -> Rouge | D16: LR743 | E16: 8 | F16: =VLOOKUP(D16,référence!$A:$C,3,FALSE) -> UB risi bisi | I16: 12288 | J16: =SUM(N16,R16,V16) -> 12499 | K16: =I16-J16 -> -211 | L16: 3271 | M16: 12 | N16: 3134 | O16: =IFERROR(((L16-N16)/L16),"") -> 0.041883216 | P16: 3938 | Q16: 26 | R16: 3832 | S16: =IFERROR(((P16-R16)/P16),"") -> 0.026917217 | T16: 5772 | U16: 21 | V16: 5533 | W16: =IFERROR(((T16-V16)/T16),"") -> 0.041406791 | X16: 0
A17: P1W1 | B17: mercredi matin | C17: =INDEX(calendrier!$C$3:$BC$23,MATCH(B17,calendrier!$B$3:$B$23,0),MATCH(A17,calendrier!$C$2:$BC$2,0)) -> Rouge | D17: JM169 | E17: 9 | F17: =VLOOKUP(D17,référence!$A:$C,3,FALSE) -> UB risi bisi | I17: 39168 | J17: =SUM(N17,R17,V17) -> 35160 | K17: =I17-J17 -> 4008 | L17: 13021 | M17: 36 | N17: 12905 | O17: =IFERROR(((L17-N17)/L17),"") -> 0.008908686 | P17: 12915 | Q17: 117 | R17: 12797 | S17: =IFERROR(((P17-R17)/P17),"") -> 0.0091366628 | T17: 9727 | U17: 84 | V17: 9458 | W17: =IFERROR(((T17-V17)/T17),"") -> 0.027654981 | X17: 0 | Y17: 48566 | Z17: 3
A18: P1W1 | B18: mercredi matin | C18: =INDEX(calendrier!$C$3:$BC$23,MATCH(B18,calendrier!$B$3:$B$23,0),MATCH(A18,calendrier!$C$2:$BC$2,0)) -> Rouge | D18: FM392 | E18: 10 | F18: =VLOOKUP(D18,référence!$A:$C,3,FALSE) -> UB méditerranien | I18: 4608 | J18: =SUM(N18,R18,V18) -> 4663 | K18: =I18-J18 -> -55 | L18: 2333 | M18: 1 | N18: 2282 | O18: =IFERROR(((L18-N18)/L18),"") -> 0.021860266 | P18: 2489 | Q18: 33 | R18: 2381 | S18: =IFERROR(((P18-R18)/P18),"") -> 0.04339092 | T18: 0 | U18: 0 | V18: 0 | W18: =IFERROR(((T18-V18)/T18),"") | X18: 0
A19: P1W1 | B19: mercredi matin | C19: =INDEX(calendrier!$C$3:$BC$23,MATCH(B19,calendrier!$B$3:$B$23,0),MATCH(A19,calendrier!$C$2:$BC$2,0)) -> Rouge | D19: AX442 | E19: 11 | F19: =VLOOKUP(D19,référence!$A:$C,3,FALSE) -> UB méditerranien | I19: 50688 | J19: =SUM(N19,R19,V19) -> 9971 | K19: =I19-J19 -> 40717 | L19: 2364 | M19: 21 | N19: 2339 | O19: =IFERROR(((L19-N19)/L19),"") -> 0.010575296 | P19: 2385 | Q19: 16 | R19: 2369 | S19: =IFERROR(((P19-R19)/P19),"") -> 0.0067085954 | T19: 5399 | U19: 67 | V19: 5263 | W19: =IFERROR(((T19-V19)/T19),"") -> 0.02518985 | X19: 0
A20: P1W1 | B20: mercredi aprem | C20: =INDEX(calendrier!$C$3:$BC$23,MATCH(B20,calendrier!$B$3:$B$23,0),MATCH(A20,calendrier!$C$2:$BC$2,0)) -> Bleu | D20: AX442 | E20: 11 | F20: =VLOOKUP(D20,référence!$A:$C,3,FALSE) -> UB méditerranien | I20: 40717 | J20: =SUM(N20,R20,V20) -> 39705 | K20: =I20-J20 -> 1012 | L20: 13681 | M20: 73 | N20: 13596 | O20: =IFERROR(((L20-N20)/L20),"") -> 0.0062129961 | P20: 13783 | Q20: 113 | R20: 13674 | S20: =IFERROR(((P20-R20)/P20),"") -> 0.0079082928 | T20: 12496 | U20: 92 | V20: 12435 | W20: =IFERROR(((T20-V20)/T20),"") -> 0.0048815621 | X20: 0
A21: P1W1 | B21: mercredi aprem | C21: =INDEX(calendrier!$C$3:$BC$23,MATCH(B21,calendrier!$B$3:$B$23,0),MATCH(A21,calendrier!$C$2:$BC$2,0)) -> Bleu | D21: KH217 | E21: 12 | F21: =VLOOKUP(D21,référence!$A:$C,3,FALSE) -> UB méditerranien | I21: 30720 | J21: =SUM(N21,R21,V21) -> 31869 | K21: =I21-J21 -> -1149 | L21: 10608 | M21: 76 | N21: 10487 | O21: =IFERROR(((L21-N21)/L21),"") -> 0.011406486 | P21: 10727 | Q21: 33 | R21: 10674 | S21: =IFERROR(((P21-R21)/P21),"") -> 0.0049408036 | T21: 10740 | U21: 30 | V21: 10708 | W21: =IFERROR(((T21-V21)/T21),"") -> 0.0029795158 | X21: 0
A22: P1W1 | B22: mercredi aprem | C22: =INDEX(calendrier!$C$3:$BC$23,MATCH(B22,calendrier!$B$3:$B$23,0),MATCH(A22,calendrier!$C$2:$BC$2,0)) -> Bleu | D22: BM79T | E22: 13 | F22: =VLOOKUP(D22,référence!$A:$C,3,FALSE) -> UB méditerranien | I22: 126720 | J22: =SUM(N22,R22,V22) -> 4159 | K22: =I22-J22 -> 122561 | L22: 568 | M22: 12 | N22: 553 | O22: =IFERROR(((L22-N22)/L22),"") -> 0.026408451 | P22: 831 | Q22: 1 | R22: 829 | S22: =IFERROR(((P22-R22)/P22),"") -> 0.0024067389 | T22: 2792 | U22: 1 | V22: 2777 | W22: =IFERROR(((T22-V22)/T22),"") -> 0.0053724928 | X22: 0
A23: P1W1 | B23: vendredi nuit | C23: =INDEX(calendrier!$C$3:$BC$23,MATCH(B23,calendrier!$B$3:$B$23,0),MATCH(A23,calendrier!$C$2:$BC$2,0)) -> Orange | D23: BM79T | E23: 13 | F23: =VLOOKUP(D23,référence!$A:$C,3,FALSE) -> UB méditerranien | I23: 122561 | J23: =SUM(N23,R23,V23) -> 90400 | K23: =I23-J23 -> 32161 | L23: 27984 | M23: 134 | N23: 27697 | O23: =IFERROR(((L23-N23)/L23),"") -> 0.01025586 | P23: 29624 | Q23: 187 | R23: 29359 | S23: =IFERROR(((P23-R23)/P23),"") -> 0.0089454496 | T23: 33579 | U23: 320 | V23: 33344 | W23: =IFERROR(((T23-V23)/T23),"") -> 0.0069984216 | X23: 3
A24: P1W1 | B24: jeudi matin | C24: =INDEX(calendrier!$C$3:$BC$23,MATCH(B24,calendrier!$B$3:$B$23,0),MATCH(A24,calendrier!$C$2:$BC$2,0)) -> Rouge | D24: BM79T | E24: 13 | F24: =VLOOKUP(D24,référence!$A:$C,3,FALSE) -> UB méditerranien | I24: 32161 | J24: =SUM(N24,R24,V24) -> 26243 | K24: =I24-J24 -> 5918 | L24: 8636 | M24: 53 | N24: 8589 | O24: =IFERROR(((L24-N24)/L24),"") -> 0.0054423344 | P24: 8480 | Q24: 66 | R24: 8393 | S24: =IFERROR(((P24-R24)/P24),"") -> 0.010259434 | T24: 9416 | U24: 23 | V24: 9261 | W24: =IFERROR(((T24-V24)/T24),"") -> 0.016461342 | X24: 0 | Y24: 208758 | Z24: 17
A25: P1W1 | B25: jeudi matin | C25: =INDEX(calendrier!$C$3:$BC$23,MATCH(B25,calendrier!$B$3:$B$23,0),MATCH(A25,calendrier!$C$2:$BC$2,0)) -> Rouge | D25: TW709 | E25: 14 | F25: =VLOOKUP(D25,référence!$A:$C,3,FALSE) -> UB rissoto mushroom | I25: 7680 | J25: =SUM(N25,R25,V25) -> 6942 | K25: =I25-J25 -> 738 | L25: 3560 | M25: 24 | N25: 3483 | O25: =IFERROR(((L25-N25)/L25),"") -> 0.021629213 | P25: 3554 | Q25: 39 | R25: 3459 | S25: =IFERROR(((P25-R25)/P25),"") -> 0.026730445 | T25: 0 | U25: 0 | V25: 0 | W25: =IFERROR(((T25-V25)/T25),"") | X25: 0
A26: P1W1 | B26: jeudi matin | C26: =INDEX(calendrier!$C$3:$BC$23,MATCH(B26,calendrier!$B$3:$B$23,0),MATCH(A26,calendrier!$C$2:$BC$2,0)) -> Rouge | D26: TN903 | E26: 15 | F26: =VLOOKUP(D26,référence!$A:$C,3,FALSE) -> UB rissoto mushroom | I26: 18432 | J26: =SUM(N26,R26,V26) -> 17675 | K26: =I26-J26 -> 757 | L26: 3402 | M26: 19 | N26: 3378 | O26: =IFERROR(((L26-N26)/L26),"") -> 0.0070546737 | P26: 3671 | Q26: 25 | R26: 3649 | S26: =IFERROR(((P26-R26)/P26),"") -> 0.0059929175 | T26: 10865 | U26: 37 | V26: 10648 | W26: =IFERROR(((T26-V26)/T26),"") -> 0.019972388 | X26: 0
A27: P1W1 | B27: jeudi matin | C27: =INDEX(calendrier!$C$3:$BC$23,MATCH(B27,calendrier!$B$3:$B$23,0),MATCH(A27,calendrier!$C$2:$BC$2,0)) -> Rouge | D27: XD083 | E27: 16 | F27: =VLOOKUP(D27,référence!$A:$C,3,FALSE) -> UB rissoto mushroom | I27: 3840 | J27: =SUM(N27,R27,V27) -> 2893 | K27: =I27-J27 -> 947 | L27: 1234 | M27: 8 | N27: 1175 | O27: =IFERROR(((L27-N27)/L27),"") -> 0.047811994 | P27: 1770 | Q27: 12 | R27: 1718 | S27: =IFERROR(((P27-R27)/P27),"") -> 0.029378531 | T27: 0 | U27: 0 | V27: 0 | W27: =IFERROR(((T27-V27)/T27),"") | X27: 0
A28: P1W1 | B28: jeudi matin | C28: =INDEX(calendrier!$C$3:$BC$23,MATCH(B28,calendrier!$B$3:$B$23,0),MATCH(A28,calendrier!$C$2:$BC$2,0)) -> Rouge | D28: BK58D | E28: 17 | F28: =VLOOKUP(D28,référence!$A:$C,3,FALSE) -> UB rissoto mushroom | I28: 19200 | J28: =SUM(N28,R28,V28) -> 20423 | K28: =I28-J28 -> -1223 | L28: 6845 | M28: 37 | N28: 6729 | O28: =IFERROR(((L28-N28)/L28),"") -> 0.016946676 | P28: 6906 | Q28: 59 | R28: 6771 | S28: =IFERROR(((P28-R28)/P28),"") -> 0.019548219 | T28: 7029 | U28: 96 | V28: 6923 | W28: =IFERROR(((T28-V28)/T28),"") -> 0.015080381 | X28: 0 | Y28: 48810 | Z28: 4
A29: P1W1 | B29: jeudi aprem | C29: =INDEX(calendrier!$C$3:$BC$23,MATCH(B29,calendrier!$B$3:$B$23,0),MATCH(A29,calendrier!$C$2:$BC$2,0)) -> Bleu | D29: XD080 | E29: 18 | F29: =VLOOKUP(D29,référence!$A:$C,3,FALSE) -> UB italian herbe | I29: 6912 | J29: =SUM(N29,R29,V29) -> 6876 | K29: =I29-J29 -> 36 | L29: 3474 | M29: 120 | N29: 3363 | O29: =IFERROR(((L29-N29)/L29),"") -> 0.031951641 | P29: 3633 | Q29: 51 | R29: 3513 | S29: =IFERROR(((P29-R29)/P29),"") -> 0.033030553 | T29: 0 | U29: 0 | V29: 0 | W29: =IFERROR(((T29-V29)/T29),"") | X29: 0
A30: P1W1 | B30: jeudi aprem | C30: =INDEX(calendrier!$C$3:$BC$23,MATCH(B30,calendrier!$B$3:$B$23,0),MATCH(A30,calendrier!$C$2:$BC$2,0)) -> Bleu | D30: WM942 | E30: 19 | F30: =VLOOKUP(D30,référence!$A:$C,3,FALSE) -> UB italian herbe | I30: 4608 | J30: =SUM(N30,R30,V30) -> 6830 | K30: =I30-J30 -> -2222 | L30: 0 | M30: 0 | N30: 0 | O30: =IFERROR(((L30-N30)/L30),"") | P30: 0 | Q30: 0 | R30: 0 | S30: =IFERROR(((P30-R30)/P30),"") | T30: 6944 | U30: 219 | V30: 6830 | W30: =IFERROR(((T30-V30)/T30),"") -> 0.016417051 | X30: 0
A31: P1W1 | B31: jeudi aprem | C31: =INDEX(calendrier!$C$3:$BC$23,MATCH(B31,calendrier!$B$3:$B$23,0),MATCH(A31,calendrier!$C$2:$BC$2,0)) -> Bleu | D31: ANC64 | E31: 20 | F31: =VLOOKUP(D31,référence!$A:$C,3,FALSE) -> UB italian herbe | I31: 29952 | J31: =SUM(N31,R31,V31) -> 25551 | K31: =I31-J31 -> 4401 | L31: 9308 | M31: 88 | N31: 9118 | O31: =IFERROR(((L31-N31)/L31),"") -> 0.020412548 | P31: 8031 | Q31: 157 | R31: 7997 | S31: =IFERROR(((P31-R31)/P31),"") -> 0.0042335948 | T31: 8646 | U31: 47 | V31: 8436 | W31: =IFERROR(((T31-V31)/T31),"") -> 0.024288688 | X31: 0 | Y31: 39980 | Z31: 4
A32: P1W1 | B32: jeudi aprem | C32: =INDEX(calendrier!$C$3:$BC$23,MATCH(B32,calendrier!$B$3:$B$23,0),MATCH(A32,calendrier!$C$2:$BC$2,0)) -> Bleu | D32: AX433 | E32: 21 | F32: =VLOOKUP(D32,référence!$A:$C,3,FALSE) -> UB long grain | I32: 24576 | J32: =SUM(N32,R32,V32) -> 21545 | K32: =I32-J32 -> 3031 | L32: 5960 | M32: 101 | N32: 5849 | O32: =IFERROR(((L32-N32)/L32),"") -> 0.018624161 | P32: 7787 | Q32: 111 | R32: 7633 | S32: =IFERROR(((P32-R32)/P32),"") -> 0.019776551 | T32: 8149 | U32: 71 | V32: 8063 | W32: =IFERROR(((T32-V32)/T32),"") -> 0.010553442 | X32: 0
A33: P1W1 | B33: jeudi nuit | C33: =INDEX(calendrier!$C$3:$BC$23,MATCH(B33,calendrier!$B$3:$B$23,0),MATCH(A33,calendrier!$C$2:$BC$2,0)) -> Orange | D33: AX433 | E33: 21 | F33: =VLOOKUP(D33,référence!$A:$C,3,FALSE) -> UB long grain | I33: 3031 | J33: =SUM(N33,R33,V33) -> 2822 | K33: =I33-J33 -> 209 | L33: 822 | M33: 35 | N33: 797 | O33: =IFERROR(((L33-N33)/L33),"") -> 0.030413625 | P33: 906 | Q33: 54 | R33: 899 | S33: =IFERROR(((P33-R33)/P33),"") -> 0.0077262693 | T33: 1139 | U33: 44 | V33: 1126 | W33: =IFERROR(((T33-V33)/T33),"") -> 0.011413521 | X33: 0
A34: P1W1 | B34: jeudi nuit | C34: =INDEX(calendrier!$C$3:$BC$23,MATCH(B34,calendrier!$B$3:$B$23,0),MATCH(A34,calendrier!$C$2:$BC$2,0)) -> Orange | D34: WF134 | E34: 22 | F34: =VLOOKUP(D34,référence!$A:$C,3,FALSE) -> UB long grain | I34: 30720 | J34: =SUM(N34,R34,V34) -> 28534 | K34: =I34-J34 -> 2186 | L34: 9846 | M34: 25 | N34: 9786 | O34: =IFERROR(((L34-N34)/L34),"") -> 0.0060938452 | P34: 9826 | Q34: 59 | R34: 9799 | S34: =IFERROR(((P34-R34)/P34),"") -> 0.0027478119 | T34: 9013 | U34: 26 | V34: 8949 | W34: =IFERROR(((T34-V34)/T34),"") -> 0.0071008543 | X34: 0 | Y34: 53303 | Z34: 8
A35: P1W1 | B35: jeudi nuit | C35: =INDEX(calendrier!$C$3:$BC$23,MATCH(B35,calendrier!$B$3:$B$23,0),MATCH(A35,calendrier!$C$2:$BC$2,0)) -> Orange | D35: WF163 | E35: 23 | F35: =VLOOKUP(D35,référence!$A:$C,3,FALSE) -> UB mushroom | I35: 84480 | J35: =SUM(N35,R35,V35) -> 49295 | K35: =I35-J35 -> 35185 | L35: 20818 | M35: 49 | N35: 20611 | O35: =IFERROR(((L35-N35)/L35),"") -> 0.0099433183 | P35: 20347 | Q35: 217 | R35: 20115 | S35: =IFERROR(((P35-R35)/P35),"") -> 0.011402172 | T35: 8894 | U35: 50 | V35: 8569 | W35: =IFERROR(((T35-V35)/T35),"") -> 0.036541489 | X35: 0
A36: P1W1 | B36: vendredi matin | C36: =INDEX(calendrier!$C$3:$BC$23,MATCH(B36,calendrier!$B$3:$B$23,0),MATCH(A36,calendrier!$C$2:$BC$2,0)) -> Vert | D36: wf163 | E36: 23 | F36: =VLOOKUP(D36,référence!$A:$C,3,FALSE) -> UB mushroom | I36: 35185 | J36: =SUM(N36,R36,V36) -> 32575 | K36: =I36-J36 -> 2610 | L36: 11097 | M36: 59 | N36: 10995 | O36: =IFERROR(((L36-N36)/L36),"") -> 0.0091916734 | P36: 10635 | Q36: 179 | R36: 10571 | S36: =IFERROR(((P36-R36)/P36),"") -> 0.0060178655 | T36: 11167 | U36: 19 | V36: 11009 | W36: =IFERROR(((T36-V36)/T36),"") -> 0.014148831 | X36: 0 | Y36: 82857 | Z36: 6
A37: P1W1 | B37: vendredi matin | C37: =INDEX(calendrier!$C$3:$BC$23,MATCH(B37,calendrier!$B$3:$B$23,0),MATCH(A37,calendrier!$C$2:$BC$2,0)) -> Vert | D37: ef352 | E37: 24 | F37: =VLOOKUP(D37,référence!$A:$C,3,FALSE) -> UB veg pilau | I37: 10752 | J37: =SUM(N37,R37,V37) -> 10348 | K37: =I37-J37 -> 404 | L37: 7007 | M37: 74 | N37: 6807 | O37: =IFERROR(((L37-N37)/L37),"") -> 0.028542886 | P37: 3686 | Q37: 163 | R37: 3541 | S37: =IFERROR(((P37-R37)/P37),"") -> 0.039338036 | T37: 0 | U37: 0 | V37: 0 | W37: =IFERROR(((T37-V37)/T37),"") | X37: 0
A38: P1W1 | B38: vendredi matin | C38: =INDEX(calendrier!$C$3:$BC$23,MATCH(B38,calendrier!$B$3:$B$23,0),MATCH(A38,calendrier!$C$2:$BC$2,0)) -> Vert | D38: as55m | E38: 25 | F38: =VLOOKUP(D38,référence!$A:$C,3,FALSE) -> UB veg pilau | I38: 39936 | J38: =SUM(N38,R38,V38) -> 41526 | K38: =I38-J38 -> -1590 | L38: 13257 | M38: 97 | N38: 13092 | O38: =IFERROR(((L38-N38)/L38),"") -> 0.012446255 | P38: 10755 | Q38: 221 | R38: 10642 | S38: =IFERROR(((P38-R38)/P38),"") -> 0.010506741 | T38: 18045 | U38: 64 | V38: 17792 | W38: =IFERROR(((T38-V38)/T38),"") -> 0.014020504 | X38: 2
A39: P1W1 | B39: vendredi matin | C39: =INDEX(calendrier!$C$3:$BC$23,MATCH(B39,calendrier!$B$3:$B$23,0),MATCH(A39,calendrier!$C$2:$BC$2,0)) -> Vert | D39: av28g | E39: 26 | F39: =VLOOKUP(D39,référence!$A:$C,3,FALSE) -> UB veg pilau | I39: 71424 | J39: =SUM(N39,R39,V39) -> 1352 | K39: =I39-J39 -> 70072 | L39: 0 | M39: 0 | N39: 0 | O39: =IFERROR(((L39-N39)/L39),"") | P39: 0 | Q39: 0 | R39: 0 | S39: =IFERROR(((P39-R39)/P39),"") | T39: 1352 | U39: 0 | V39: 1352 | W39: =IFERROR(((T39-V39)/T39),"") -> 0 | X39: 0
A40: P1W1 | B40: vendredi aprem | C40: =INDEX(calendrier!$C$3:$BC$23,MATCH(B40,calendrier!$B$3:$B$23,0),MATCH(A40,calendrier!$C$2:$BC$2,0)) -> Rouge | D40: AV28G | E40: 26 | F40: =VLOOKUP(D40,référence!$A:$C,3,FALSE) -> UB veg pilau | I40: 70072 | J40: =SUM(N40,R40,V40) -> 66624 | K40: =I40-J40 -> 3448 | L40: 22339 | M40: 105 | N40: 22155 | O40: =IFERROR(((L40-N40)/L40),"") -> 0.0082367161 | P40: 21744 | Q40: 279 | R40: 21609 | S40: =IFERROR(((P40-R40)/P40),"") -> 0.0062086093 | T40: 22998 | U40: 21 | V40: 22860 | W40: =IFERROR(((T40-V40)/T40),"") -> 0.0060005218 | X40: 0 | Y40: 121086 | Z40: 10
A41: P1W1 | B41: vendredi aprem | C41: =INDEX(calendrier!$C$3:$BC$23,MATCH(B41,calendrier!$B$3:$B$23,0),MATCH(A41,calendrier!$C$2:$BC$2,0)) -> Rouge | D41: MP262 | E41: 27 | F41: =VLOOKUP(D41,référence!$A:$C,3,FALSE) -> UB mexicain | I41: 3072 | J41: =SUM(N41,R41,V41) -> 3408 | K41: =I41-J41 -> -336 | L41: 0 | M41: 0 | N41: 0 | O41: =IFERROR(((L41-N41)/L41),"") | P41: 0 | Q41: 0 | R41: 0 | S41: =IFERROR(((P41-R41)/P41),"") | T41: 3504 | U41: 11 | V41: 3408 | W41: =IFERROR(((T41-V41)/T41),"") -> 0.02739726 | X41: 0
...

Sheet calendrier
C1: 1 | D1: 2 | E1: 3 | F1: 4 | G1: 5 | H1: 6 | I1: 7 | J1: 8 | K1: 9 | L1: 10 | M1: 11 | N1: 12 | O1: 13 | P1: 14 | Q1: 15 | R1: 16 | S1: 17 | T1: 18 | U1: 19 | V1: 20 | W1: 21 | X1: 22 | Y1: 23 | Z1: 24 | AA1: 25 | AB1: 26 | AC1: 27 | AD1: 28 | AE1: 29 | AF1: 30 | AG1: 31 | AH1: 32 | AI1: 33 | AJ1: 34 | AK1: 35 | AL1: 36 | AM1: 37 | AN1: 38 | AO1: 39 | AP1: 40 | AQ1: 41 | AR1: 42 | AS1: 43 | AT1: 44 | AU1: 45 | AV1: 46 | AW1: 47 | AX1: 48 | AY1: 49 | AZ1: 50 | BA1: 51 | BB1: 52 | BC1: 53
C2: P1W1 | D2: P1W2 | E2: P1W3 | F2: P1W4 | G2: P2W1 | H2: P2W2 | I2: P2W3 | J2: P2W4 | K2: P3W1 | L2: P3W2 | M2: P3W3 | N2: P3W4 | O2: P4W1 | P2: P4W2 | Q2: P4W3 | R2: P4W4 | S2: P5W1 | T2: P5W2 | U2: P5W3 | V2: P5W4 | W2: P6W1 | X2: P6W2 | Y2: P6W3 | Z2: P6W4 | AA2: P7W1 | AB2: P7W2 | AC2: P7W3 | AD2: P7W4 | AE2: P8W1 | AF2: P8W2 | AG2: P8W3 | AH2: P8W4 | AI2: P9W1 | AJ2: P9W2 | AK2: P9W3 | AL2: P9W4 | AM2: P10W1 | AN2: P10W2 | AO2: P10W3 | AP2: P10W4 | AQ2: P11W1 | AR2: P11W2 | AS2: P11W3 | AT2: P11W4 | AU2: P12W1 | AV2: P12W2 | AW2: P12W3 | AX2: P12W4 | AY2: P13W1 | AZ2: P13W2 | BA2: P13W3 | BB2: P13W4 | BC2: P13W5
A3: 1 | B3: Dimanche nuit | C3: Vert | D3: Rouge | E3: Orange | F3: Bleu | G3: Vert | H3: Rouge | I3: Orange | J3: Bleu | K3: Vert | L3: Rouge | M3: Orange | N3: Bleu | O3: Vert | P3: Rouge | Q3: Orange | R3: Bleu | S3: Vert | T3: Rouge | U3: Orange | V3: Bleu | W3: Vert | X3: Rouge | Y3: Orange | Z3: Bleu | AA3: Vert | AB3: Rouge | AC3: Orange | AD3: Bleu | AE3: Vert | AF3: Rouge | AG3: Orange | AH3: Bleu | AI3: Vert | AJ3: Rouge | AK3: Orange | AL3: Bleu | AM3: Vert | AN3: Rouge | AO3: Orange | AP3: Bleu | AQ3: Vert | AR3: Rouge | AS3: Orange | AT3: Bleu | AU3: Vert | AV3: Rouge | AW3: Orange | AX3: Bleu | AY3: Vert | AZ3: Rouge | BA3: Orange | BB3: Bleu | BC3: Vert
A4: 2 | B4: lundi matin | C4: Orange | D4: Bleu | E4: Vert | F4: Rouge | G4: Orange | H4: Bleu | I4: Vert | J4: Rouge | K4: Orange | L4: Bleu | M4: Vert | N4: Rouge | O4: Orange | P4: Bleu | Q4: Vert | R4: Rouge | S4: Orange | T4: Bleu | U4: Vert | V4: Rouge | W4: Orange | X4: Bleu | Y4: Vert | Z4: Rouge | AA4: Orange | AB4: Bleu | AC4: Vert | AD4: Rouge | AE4: Orange | AF4: Bleu | AG4: Vert | AH4: Rouge | AI4: Orange | AJ4: Bleu | AK4: Vert | AL4: Rouge | AM4: Orange | AN4: Bleu | AO4: Vert | AP4: Rouge | AQ4: Orange | AR4: Bleu | AS4: Vert | AT4: Rouge | AU4: Orange | AV4: Bleu | AW4: Vert | AX4: Rouge | AY4: Orange | AZ4: Bleu | BA4: Vert | BB4: Rouge | BC4: Orange
A5: 3 | B5: lundi aprem | C5: Bleu | D5: Vert | E5: Rouge | F5: Orange | G5: Bleu | H5: Vert | I5: Rouge | J5: Orange | K5: Bleu | L5: Vert | M5: Rouge | N5: Orange | O5: Bleu | P5: Vert | Q5: Rouge | R5: Orange | S5: Bleu | T5: Vert | U5: Rouge | V5: Orange | W5: Bleu | X5: Vert | Y5: Rouge | Z5: Orange | AA5: Bleu | AB5: Vert | AC5: Rouge | AD5: Orange | AE5: Bleu | AF5: Vert | AG5: Rouge | AH5: Orange | AI5: Bleu | AJ5: Vert | AK5: Rouge | AL5: Orange | AM5: Bleu | AN5: Vert | AO5: Rouge | AP5: Orange | AQ5: Bleu | AR5: Vert | AS5: Rouge | AT5: Orange | AU5: Bleu | AV5: Vert | AW5: Rouge | AX5: Orange | AY5: Bleu | AZ5: Vert | BA5: Rouge | BB5: Orange | BC5: Bleu
A6: 4 | B6: lundi nuit | C6: Vert | D6: Rouge | E6: Orange | F6: Bleu | G6: Vert | H6: Rouge | I6: Orange | J6: Bleu | K6: Vert | L6: Rouge | M6: Orange | N6: Bleu | O6: Vert | P6: Rouge | Q6: Orange | R6: Bleu | S6: Vert | T6: Rouge | U6: Orange | V6: Bleu | W6: Vert | X6: Rouge | Y6: Orange | Z6: Bleu | AA6: Vert | AB6: Rouge | AC6: Orange | AD6: Bleu | AE6: Vert | AF6: Rouge | AG6: Orange | AH6: Bleu | AI6: Vert | AJ6: Rouge | AK6: Orange | AL6: Bleu | AM6: Vert | AN6: Rouge | AO6: Orange | AP6: Bleu | AQ6: Vert | AR6: Rouge | AS6: Orange | AT6: Bleu | AU6: Vert | AV6: Rouge | AW6: Orange | AX6: Bleu | AY6: Vert | AZ6: Rouge | BA6: Orange | BB6: Bleu | BC6: Vert
A7: 5 | B7: mardi matin | C7: Orange | D7: Bleu | E7: Vert | F7: Rouge | G7: Orange | H7: Bleu | I7: Vert | J7: Rouge | K7: Orange | L7: Bleu | M7: Vert | N7: Rouge | O7: Orange | P7: Bleu | Q7: Vert | R7: Rouge | S7: Orange | T7: Bleu | U7: Vert | V7: Rouge | W7: Orange | X7: Bleu | Y7: Vert | Z7: Rouge | AA7: Orange | AB7: Bleu | AC7: Vert | AD7: Rouge | AE7: Orange | AF7: Bleu | AG7: Vert | AH7: Rouge | AI7: Orange | AJ7: Bleu | AK7: Vert | AL7: Rouge | AM7: Orange | AN7: Bleu | AO7: Vert | AP7: Rouge | AQ7: Orange | AR7: Bleu | AS7: Vert | AT7: Rouge | AU7: Orange | AV7: Bleu | AW7: Vert | AX7: Rouge | AY7: Orange | AZ7: Bleu | BA7: Vert | BB7: Rouge | BC7: Orange
A8: 6 | B8: mardi aprem | C8: Bleu | D8: Vert | E8: Rouge | F8: Orange | G8: Bleu | H8: Vert | I8: Rouge | J8: Orange | K8: Bleu | L8: Vert | M8: Rouge | N8: Orange | O8: Bleu | P8: Vert | Q8: Rouge | R8: Orange | S8: Bleu | T8: Vert | U8: Rouge | V8: Orange | W8: Bleu | X8: Vert | Y8: Rouge | Z8: Orange | AA8: Bleu | AB8: Vert | AC8: Rouge | AD8: Orange | AE8: Bleu | AF8: Vert | AG8: Rouge | AH8: Orange | AI8: Bleu | AJ8: Vert | AK8: Rouge | AL8: Orange | AM8: Bleu | AN8: Vert | AO8: Rouge | AP8: Orange | AQ8: Bleu | AR8: Vert | AS8: Rouge | AT8: Orange | AU8: Bleu | AV8: Vert | AW8: Rouge | AX8: Orange | AY8: Bleu | AZ8: Vert | BA8: Rouge | BB8: Orange | BC8: Bleu
A9: 7 | B9: mardi nuit | C9: Vert | D9: Rouge | E9: Orange | F9: Bleu | G9: Vert | H9: Rouge | I9: Orange | J9: Bleu | K9: Vert | L9: Rouge | M9: Orange | N9: Bleu | O9: Vert | P9: Rouge | Q9: Orange | R9: Bleu | S9: Vert | T9: Rouge | U9: Orange | V9: Bleu | W9: Vert | X9: Rouge | Y9: Orange | Z9: Bleu | AA9: Vert | AB9: Rouge | AC9: Orange | AD9: Bleu | AE9: Vert | AF9: Rouge | AG9: Orange | AH9: Bleu | AI9: Vert | AJ9: Rouge | AK9: Orange | AL9: Bleu | AM9: Vert | AN9: Rouge | AO9: Orange | AP9: Bleu | AQ9: Vert | AR9: Rouge | AS9: Orange | AT9: Bleu | AU9: Vert | AV9: Rouge | AW9: Orange | AX9: Bleu | AY9: Vert | AZ9: Rouge | BA9: Orange | BB9: Bleu | BC9: Vert
A10: 8 | B10: mercredi matin | C10: Rouge | D10: Orange | E10: Bleu | F10: Vert | G10: Rouge | H10: Orange | I10: Bleu | J10: Vert | K10: Rouge | L10: Orange | M10: Bleu | N10: Vert | O10: Rouge | P10: Orange | Q10: Bleu | R10: Vert | S10: Rouge | T10: Orange | U10: Bleu | V10: Vert | W10: Rouge | X10: Orange | Y10: Bleu | Z10: Vert | AA10: Rouge | AB10: Orange | AC10: Bleu | AD10: Vert | AE10: Rouge | AF10: Orange | AG10: Bleu | AH10: Vert | AI10: Rouge | AJ10: Orange | AK10: Bleu | AL10: Vert | AM10: Rouge | AN10: Orange | AO10: Bleu | AP10: Vert | AQ10: Rouge | AR10: Orange | AS10: Bleu | AT10: Vert | AU10: Rouge | AV10: Orange | AW10: Bleu | AX10: Vert | AY10: Rouge | AZ10: Orange | BA10: Bleu | BB10: Vert | BC10: Rouge
A11: 9 | B11: mercredi aprem | C11: Bleu | D11: Vert | E11: Rouge | F11: Orange | G11: Bleu | H11: Vert | I11: Rouge | J11: Orange | K11: Bleu | L11: Vert | M11: Rouge | N11: Orange | O11: Bleu | P11: Vert | Q11: Rouge | R11: Orange | S11: Bleu | T11: Vert | U11: Rouge | V11: Orange | W11: Bleu | X11: Vert | Y11: Rouge | Z11: Orange | AA11: Bleu | AB11: Vert | AC11: Rouge | AD11: Orange | AE11: Bleu | AF11: Vert | AG11: Rouge | AH11: Orange | AI11: Bleu | AJ11: Vert | AK11: Rouge | AL11: Orange | AM11: Bleu | AN11: Vert | AO11: Rouge | AP11: Orange | AQ11: Bleu | AR11: Vert | AS11: Rouge | AT11: Orange | AU11: Bleu | AV11: Vert | AW11: Rouge | AX11: Orange | AY11: Bleu | AZ11: Vert | BA11: Rouge | BB11: Orange | BC11: Bleu
A12: 10 | B12: mercredi nuit | C12: Orange | D12: Bleu | E12: Vert | F12: Rouge | G12: Orange | H12: Bleu | I12: Vert | J12: Rouge | K12: Orange | L12: Bleu | M12: Vert | N12: Rouge | O12: Orange | P12: Bleu | Q12: Vert | R12: Rouge | S12: Orange | T12: Bleu | U12: Vert | V12: Rouge | W12: Orange | X12: Bleu | Y12: Vert | Z12: Rouge | AA12: Orange | AB12: Bleu | AC12: Vert | AD12: Rouge | AE12: Orange | AF12: Bleu | AG12: Vert | AH12: Rouge | AI12: Orange | AJ12: Bleu | AK12: Vert | AL12: Rouge | AM12: Orange | AN12: Bleu | AO12: Vert | AP12: Rouge | AQ12: Orange | AR12: Bleu | AS12: Vert | AT12: Rouge | AU12: Orange | AV12: Bleu | AW12: Vert | AX12: Rouge | AY12: Orange | AZ12: Bleu | BA12: Vert | BB12: Rouge | BC12: Orange
A13: 11 | B13: jeudi matin | C13: Rouge | D13: Orange | E13: Bleu | F13: Vert | G13: Rouge | H13: Orange | I13: Bleu | J13: Vert | K13: Rouge | L13: Orange | M13: Bleu | N13: Vert | O13: Rouge | P13: Orange | Q13: Bleu | R13: Vert | S13: Rouge | T13: Orange | U13: Bleu | V13: Vert | W13: Rouge | X13: Orange | Y13: Bleu | Z13: Vert | AA13: Rouge | AB13: Orange | AC13: Bleu | AD13: Vert | AE13: Rouge | AF13: Orange | AG13: Bleu | AH13: Vert | AI13: Rouge | AJ13: Orange | AK13: Bleu | AL13: Vert | AM13: Rouge | AN13: Orange | AO13: Bleu | AP13: Vert | AQ13: Rouge | AR13: Orange | AS13: Bleu | AT13: Vert | AU13: Rouge | AV13: Orange | AW13: Bleu | AX13: Vert | AY13: Rouge | AZ13: Orange | BA13: Bleu | BB13: Vert | BC13: Rouge
A14: 12 | B14: jeudi aprem | C14: Bleu | D14: Vert | E14: Rouge | F14: Orange | G14: Bleu | H14: Vert | I14: Rouge | J14: Orange | K14: Bleu | L14: Vert | M14: Rouge | N14: Orange | O14: Bleu | P14: Vert | Q14: Rouge | R14: Orange | S14: Bleu | T14: Vert | U14: Rouge | V14: Orange | W14: Bleu | X14: Vert | Y14: Rouge | Z14: Orange | AA14: Bleu | AB14: Vert | AC14: Rouge | AD14: Orange | AE14: Bleu | AF14: Vert | AG14: Rouge | AH14: Orange | AI14: Bleu | AJ14: Vert | AK14: Rouge | AL14: Orange | AM14: Bleu | AN14: Vert | AO14: Rouge | AP14: Orange | AQ14: Bleu | AR14: Vert | AS14: Rouge | AT14: Orange | AU14: Bleu | AV14: Vert | AW14: Rouge | AX14: Orange | AY14: Bleu | AZ14: Vert | BA14: Rouge | BB14: Orange | BC14: Bleu
... A23: 21 | B23: dimanche aprem | C23: Extra | D23: Extra | E23: Extra | F23: Extra | G23: Extra | H23: Extra | I23: Extra | J23: Extra | K23: Extra | L23: Extra | M23: Extra | N23: Extra | O23: Extra | P23: Extra | Q23: Extra | R23: Extra | S23: Extra | T23: Extra | U23: Extra | V23: Extra | W23: Extra | X23: Extra | Y23: Extra | Z23: Extra | AA23: Extra | AB23: Extra | AC23: Extra | AD23: Extra | AE23: Extra | AF23: Extra | AG23: Extra | AH23: Extra | AI23: Extra | AJ23: Extra | AK23: Extra | AL23: Extra | AM23: Extra | AN23: Extra | AO23: Extra | AP23: Extra | AQ23: Extra | AR23: Extra | AS23: Extra | AT23: Extra | AU23: Extra | AV23: Extra | AW23: Extra | AX23: Extra | AY23: Extra | AZ23: Extra | BA23: Extra | BB23: Extra | BC23: Extra

Sheet référence
A1: code article | B1: liste item.recette | C1: désignation | D1: sauce.recette | E1: poids sauce | F1: Poids batch | G1: Nb de pochons / batch | H1: Poids Riz | N1: code sauce | O1: désignation | P1: blé/rice | Q1: sauce concentrate | R1: batch en KG | W1: week | Y1: poste | AA1: PDM/CLP
A2: AA48V | B2: UBric 6*250g Milk rice DE | C2: =VLOOKUP(Table1[[#This Row],[sauce.recette]],Table2[#All],2,FALSE) -> #N/A | D2: RMC | E2: 148 | F2: 1041.9 | G2: 7039.8649 | H2: 104 | N2: BAT | O2: UB basmati jasmin | P2: 116 | Q2: 131.5 | R2: 1040 | W2: P1W1 | X2: 73 | Y2: Dimanche nuit | Z2: =X2 -> 73
A3: AA49A | B3: UBric 6*250g Milk rice Vanilla DE | C3: =VLOOKUP(Table1[[#This Row],[sauce.recette]],Table2[#All],2,FALSE) -> #N/A | D3: RMV | E3: 57 | F3: 700.3 | G3: 12285.965 | H3: 104 | N3: RB2 | O3: UB basmati 130g | P3: 53.5 | Q3: 76.5 | R3: 1037 | W3: P1W2 | X3: 11 | Y3: lundi matin | Z3: =X3 -> 11 | AA3: X
A4: AA54N | B4: UBric 6*250g Lgrain prom ris DE | C4: =VLOOKUP(Table1[[#This Row],[sauce.recette]],Table2[#All],2,FALSE) -> UB long grain | D4: RLG | E4: 151 | F4: 1042 | G4: 6993 | H4: 100 | N4: RBI | O4: UB basmati | P4: 130 | Q4: 145.5 | R4: 1037 | W4: P1W3 | X4: 12 | Y4: lundi aprem | Z4: =X4 -> 12
A5: AA54R | B5: UBric 6*250g Basmati promo ris DE | C5: =VLOOKUP(Table1[[#This Row],[sauce.recette]],Table2[#All],2,FALSE) -> UB basmati | D5: RBI | E5: 146 | F5: 1037 | G5: 7102 | H5: 103 | N5: RBS | O5: UB basmati 130g UK | P5: 54 | Q5: 76 | R5: 1035 | W5: P1W4 | X5: 13 | Y5: lundi nuit | Z5: =X5 -> 13
A6: AA54T | B6: UBric 6*250g Tom&Basil promo ris DE | C6: =VLOOKUP(Table1[[#This Row],[sauce.recette]],Table2[#All],2,FALSE) -> UB méditerranien | D6: RMD | E6: 87 | F6: 1078.952 | G6: 12401 | H6: 93 | N6: RBT | O6: UB basmati FR | P6: 102.5 | Q6: 146 | R6: 1037 | W6: P2W1 | X6: 21 | Y6: mardi matin | Z6: =X6 -> 21
A7: AA66H | B7: UBric 130g Long grain pouch UK | C7: =VLOOKUP(Table1[[#This Row],[sauce.recette]],Table2[#All],2,FALSE) -> UB long grain 130g | D7: RLO | E7: 79 | F7: 1042 | G7: 13173 | H7: 52.5 | N7: RCA | O7: UB cantonais | P7: 86 | Q7: 86 | R7: 1011.34 | W7: P2W2 | X7: 22 | Y7: mardi aprem | Z7: =X7 -> 22
A8: AA66K | B8: UBric 130g Basmati pouch UK | C8: =VLOOKUP(Table1[[#This Row],[sauce.recette]],Table2[#All],2,FALSE) -> UB basmati 130g UK | D8: RBS | E8: 76 | F8: 1035 | G8: 13580 | H8: 54 | N8: RCM | O8: UB rissoto mushroom | P8: 100 | Q8: 87 | R8: 1068.466 | W8: P2W3 | X8: 23 | Y8: mardi nuit | Z8: =X8 -> 23
A9: AA66M | B9: UBric 130g Wholegrain pouch UK | C9: =VLOOKUP(Table1[[#This Row],[sauce.recette]],Table2[#All],2,FALSE) -> UB wholegrain 130g | D9: RWH | E9: 72.5 | F9: 1034.91 | G9: 14213 | H9: 57.5 | N9: RDJ | O9: UB djuvec | P9: 86 | Q9: 91 | R9: 1012.738 | W9: P2W4 | X9: 31 | Y9: mercredi matin | Z9: =X9 -> 31
A10: AA66P | B10: UBric 130g Pilau UK | C10: =VLOOKUP(Table1[[#This Row],[sauce.recette]],Table2[#All],2,FALSE) -> UB pilau 130g | D10: RPL | E10: 42 | F10: 749.907 | G10: 17852 | H10: 50 | N10: RLG | O10: UB long grain | P10: 100 | Q10: 151 | R10: 1042 | W10: P3W1 | X10: 32 | Y10: mercredi aprem | Z10: =X10 -> 32
A11: AA90E | B11: UBric 6*250g TexMex DE | C11: =VLOOKUP(Table1[[#This Row],[sauce.recette]],Table2[#All],2,FALSE) -> UB tex mex | D11: RTM | E11: 98 | F11: 1024.49 | G11: 10409 | H11: 80 | N11: RLO | O11: UB long grain 130g | P11: 52.5 | Q11: 79 | R11: 1042 | W11: P3W2 | X11: 33 | Y11: mercredi nuit | Z11: =X11 -> 33
A12: AC09B | B12: UBric 12*250g Med Pouch DE | C12: =VLOOKUP(Table1[[#This Row],[sauce.recette]],Table2[#All],2,FALSE) -> UB méditerranien | D12: RMD | E12: 87 | F12: 1078.952 | G12: 12401 | H12: 93 | N12: RMD | O12: UB méditerranien | P12: 93 | Q12: 87 | R12: 1078.952 | W12: P3W3 | X12: 41 | Y12: jeudi matin | Z12: =X12 -> 41
A13: AC09D | B13: UB Nature/ Lg | C13: =VLOOKUP(Table1[[#This Row],[sauce.recette]],Table2[#All],2,FALSE) -> #N/A | D13: UB Nature/ Long grain | E13: 151 | F13: 1042 | G13: 6993 | H13: 100 | N13: RME | O13: UB mexicain | P13: 93 | Q13: 78 | R13: 959 | W13: P3W4 | X13: 42 | Y13: jeudi aprem | Z13: =X13 -> 42
A14: AC09E | B14: UB Basmati | C14: =VLOOKUP(Table1[[#This Row],[sauce.recette]],Table2[#All],2,FALSE) -> #N/A | D14: UB Basmati | E14: 146 | F14: 1037 | G14: 7102 | H14: 103 | N14: RMU | O14: UB mushroom | P14: 92 | Q14: 70 | R14: 981.79 | W14: P4W1 | X14: 43 | Y14: jeudi nuit | Z14: =X14 -> 43
A15: ACT51 | B15: UBric 12*250g Med PM F | C15: =VLOOKUP(Table1[[#This Row],[sauce.recette]],Table2[#All],2,FALSE) -> UB méditerranien | D15: RMD | E15: 87 | F15: 1078.952 | G15: 12401 | H15: 93 | N15: RRB | O15: UB risi bisi | P15: 90 | Q15: 62 | R15: 1059 | W15: P4W2 | X15: 51 | Y15: vendredi matin | Z15: =X15 -> 51
... A19: ACT71 | B19: UBric 12*250g Tom&Olive PM F | C19: =VLOOKUP(Table1[[#This Row],[sauce.recette]],Table2[#All],2,FALSE) -> UB tomate olive | D19: RTO | E19: 95 | F19: 1048 | G19: 11026 | H19: 88 | N19: RWH | O19: UB wholegrain 130g | P19: 57.5 | Q19: 72.5 | R19: 1034.91 | W19: P5W2 | X19: 62 | Y19: samedi aprem | Z19: =X19 -> 62
A20: ACT77 | B20: EBLY 12*220G Tom&B PM F | C20: =VLOOKUP(Table1[[#This Row],[sauce.recette]],Table2[#All],2,FALSE) -> EB tomate basilic | D20: WTN | E20: 91 | F20: 956.429 | G20: 10510 | H20: 71 | N20: WTN | O20: EB tomate basilic | P20: 71 | Q20: 91 | R20: 956.429 | W20: P5W3 | X20: 63 | Y20: samedi nuit | Z20: =X20 -> 63
