Workbook

Sheet Feuil1
A1: week | B1: poste | C1: équipe | D1: Item | E1: N° | F1: description | J1: week | K1: poste | L1: équipe | M1: Item | N1: N° | O1: description | P1: _ | Q1: _
H2: wf134 | P2: _ | Q2: _
H3: Item | J3: =IFERROR(INDEX(INDIRECT("$A" & IF($Q2="_",4,$Q2)):$F$37,MATCH($H$2,INDIRECT("$D" & IF($Q2="_",4,$Q2)):$D$37,0),COLUMN(I7)-8),"") -> P1W1 | K3: =IFERROR(INDEX(INDIRECT("$A" & IF($Q2="_",4,$Q2)):$F$37,MATCH($H$2,INDIRECT("$D" & IF($Q2="_",4,$Q2)):$D$37,0),COLUMN(J7)-8),"") -> mardi aprem | L3: =IFERROR(INDEX(INDIRECT("$A" & IF($Q2="_",4,$Q2)):$F$37,MATCH($H$2,INDIRECT("$D" & IF($Q2="_",4,$Q2)):$D$37,0),COLUMN(K7)-8),"") -> Bleu | M3: =IFERROR(INDEX(INDIRECT("$A" & IF($Q2="_",4,$Q2)):$F$37,MATCH($H$2,INDIRECT("$D" & IF($Q2="_",4,$Q2)):$D$37,0),COLUMN(L7)-8),"") -> wf134 | N3: =IFERROR(INDEX(INDIRECT("$A" & IF($Q2="_",4,$Q2)):$F$37,MATCH($H$2,INDIRECT("$D" & IF($Q2="_",4,$Q2)):$D$37,0),COLUMN(M7)-8),"") -> 2 | O3: =IFERROR(INDEX(INDIRECT("$A" & IF($Q2="_",4,$Q2)):$F$37,MATCH($H$2,INDIRECT("$D" & IF($Q2="_",4,$Q2)):$D$37,0),COLUMN(N7)-8),"") -> UB long grain | P3: =IFERROR(MATCH($H$2,INDIRECT("$D" & IF($Q2="_",4,$Q2)):$D$37,0),"") -> 2 | Q3: =IFERROR(IF($Q2="_",4,$Q2)+P3,"") -> 6
A4: P1W1 | B4: mardi aprem | C4: =INDEX(calendrier!$C$3:$BC$23,MATCH(B4,calendrier!$B$3:$B$23,0),MATCH(A4,calendrier!$C$2:$BC$2,0)) -> Bleu | D4: kh128 | E4: 1 | F4: =VLOOKUP(D4,référence!$A:$C,3,FALSE) -> UB long grain | H4: AA90E | J4: =IFERROR(INDEX(INDIRECT("$A" & IF($Q3="_",4,$Q3)):$F$37,MATCH($H$2,INDIRECT("$D" & IF($Q3="_",4,$Q3)):$D$37,0),COLUMN(I8)-8),"") -> P1W1 | K4: =IFERROR(INDEX(INDIRECT("$A" & IF($Q3="_",4,$Q3)):$F$37,MATCH($H$2,INDIRECT("$D" & IF($Q3="_",4,$Q3)):$D$37,0),COLUMN(J8)-8),"") -> mercredi matin | L4: =IFERROR(INDEX(INDIRECT("$A" & IF($Q3="_",4,$Q3)):$F$37,MATCH($H$2,INDIRECT("$D" & IF($Q3="_",4,$Q3)):$D$37,0),COLUMN(K8)-8),"") -> Rouge | M4: =IFERROR(INDEX(INDIRECT("$A" & IF($Q3="_",4,$Q3)):$F$37,MATCH($H$2,INDIRECT("$D" & IF($Q3="_",4,$Q3)):$D$37,0),COLUMN(L8)-8),"") -> wf134 | N4: =IFERROR(INDEX(INDIRECT("$A" & IF($Q3="_",4,$Q3)):$F$37,MATCH($H$2,INDIRECT("$D" & IF($Q3="_",4,$Q3)):$D$37,0),COLUMN(M8)-8),"") -> 10 | O4: =IFERROR(INDEX(INDIRECT("$A" & IF($Q3="_",4,$Q3)):$F$37,MATCH($H$2,INDIRECT("$D" & IF($Q3="_",4,$Q3)):$D$37,0),COLUMN(N8)-8),"") -> UB long grain | P4: =IFERROR(MATCH($H$2,INDIRECT("$D" & IF($Q3="_",4,$Q3)):$D$37,0),"") -> 10 | Q4: =IFERROR(IF($Q3="_",4,$Q3)+P4,"") -> 16
A5: P1W1 | B5: mardi aprem | C5: =INDEX(calendrier!$C$3:$BC$23,MATCH(B5,calendrier!$B$3:$B$23,0),MATCH(A5,calendrier!$C$2:$BC$2,0)) -> Bleu | D5: wf134 | E5: 2 | F5: =VLOOKUP(D5,référence!$A:$C,3,FALSE) -> UB long grain | H5: AM68C | J5: =IFERROR(INDEX(INDIRECT("$A" & IF($Q4="_",4,$Q4)):$F$37,MATCH($H$2,INDIRECT("$D" & IF($Q4="_",4,$Q4)):$D$37,0),COLUMN(I9)-8),"") -> P1W1 | K5: =IFERROR(INDEX(INDIRECT("$A" & IF($Q4="_",4,$Q4)):$F$37,MATCH($H$2,INDIRECT("$D" & IF($Q4="_",4,$Q4)):$D$37,0),COLUMN(J9)-8),"") -> jeudi nuit | L5: =IFERROR(INDEX(INDIRECT("$A" & IF($Q4="_",4,$Q4)):$F$37,MATCH($H$2,INDIRECT("$D" & IF($Q4="_",4,$Q4)):$D$37,0),COLUMN(K9)-8),"") -> Orange | M5: =IFERROR(INDEX(INDIRECT("$A" & IF($Q4="_",4,$Q4)):$F$37,MATCH($H$2,INDIRECT("$D" & IF($Q4="_",4,$Q4)):$D$37,0),COLUMN(L9)-8),"") -> WF134 | N5: =IFERROR(INDEX(INDIRECT("$A" & IF($Q4="_",4,$Q4)):$F$37,MATCH($H$2,INDIRECT("$D" & IF($Q4="_",4,$Q4)):$D$37,0),COLUMN(M9)-8),"") -> 22 | O5: =IFERROR(INDEX(INDIRECT("$A" & IF($Q4="_",4,$Q4)):$F$37,MATCH($H$2,INDIRECT("$D" & IF($Q4="_",4,$Q4)):$D$37,0),COLUMN(N9)-8),"") -> UB long grain | P5: =IFERROR(MATCH($H$2,INDIRECT("$D" & IF($Q4="_",4,$Q4)):$D$37,0),"") -> 16 | Q5: =IFERROR(IF($Q4="_",4,$Q4)+P5,"") -> 32
A6: P1W1 | B6: mardi aprem | C6: =INDEX(calendrier!$C$3:$BC$23,MATCH(B6,calendrier!$B$3:$B$23,0),MATCH(A6,calendrier!$C$2:$BC$2,0)) -> Bleu | D6: ef358 | E6: 3 | F6: =VLOOKUP(D6,référence!$A:$C,3,FALSE) -> UB long grain | H6: ANC64 | J6: =IFERROR(INDEX(INDIRECT("$A" & IF($Q5="_",4,$Q5)):$F$37,MATCH($H$2,INDIRECT("$D" & IF($Q5="_",4,$Q5)):$D$37,0),COLUMN(I10)-8),"") -> P1W1 | K6: =IFERROR(INDEX(INDIRECT("$A" & IF($Q5="_",4,$Q5)):$F$37,MATCH($H$2,INDIRECT("$D" & IF($Q5="_",4,$Q5)):$D$37,0),COLUMN(J10)-8),"") -> vendredi matin | L6: =IFERROR(INDEX(INDIRECT("$A" & IF($Q5="_",4,$Q5)):$F$37,MATCH($H$2,INDIRECT("$D" & IF($Q5="_",4,$Q5)):$D$37,0),COLUMN(K10)-8),"") -> Vert | M6: =IFERROR(INDEX(INDIRECT("$A" & IF($Q5="_",4,$Q5)):$F$37,MATCH($H$2,INDIRECT("$D" & IF($Q5="_",4,$Q5)):$D$37,0),COLUMN(L10)-8),"") -> wf134 | N6: =IFERROR(INDEX(INDIRECT("$A" & IF($Q5="_",4,$Q5)):$F$37,MATCH($H$2,INDIRECT("$D" & IF($Q5="_",4,$Q5)):$D$37,0),COLUMN(M10)-8),"") -> 24 | O6: =IFERROR(INDEX(INDIRECT("$A" & IF($Q5="_",4,$Q5)):$F$37,MATCH($H$2,INDIRECT("$D" & IF($Q5="_",4,$Q5)):$D$37,0),COLUMN(N10)-8),"") -> UB long grain | P6: =IFERROR(MATCH($H$2,INDIRECT("$D" & IF($Q5="_",4,$Q5)):$D$37,0),"") -> 3 | Q6: =IFERROR(IF($Q5="_",4,$Q5)+P6,"") -> 35
A7: P1W1 | B7: mardi aprem | C7: =INDEX(calendrier!$C$3:$BC$23,MATCH(B7,calendrier!$B$3:$B$23,0),MATCH(A7,calendrier!$C$2:$BC$2,0)) -> Bleu | D7: mg551 | E7: 4 | F7: =VLOOKUP(D7,référence!$A:$C,3,FALSE) -> UB paella | H7: as55m | J7: =IFERROR(INDEX(INDIRECT("$A" & IF($Q6="_",4,$Q6)):$F$37,MATCH($H$2,INDIRECT("$D" & IF($Q6="_",4,$Q6)):$D$37,0),COLUMN(I11)-8),"") | K7: =IFERROR(INDEX(INDIRECT("$A" & IF($Q6="_",4,$Q6)):$F$37,MATCH($H$2,INDIRECT("$D" & IF($Q6="_",4,$Q6)):$D$37,0),COLUMN(J11)-8),"") | L7: =IFERROR(INDEX(INDIRECT("$A" & IF($Q6="_",4,$Q6)):$F$37,MATCH($H$2,INDIRECT("$D" & IF($Q6="_",4,$Q6)):$D$37,0),COLUMN(K11)-8),"") | M7: =IFERROR(INDEX(INDIRECT("$A" & IF($Q6="_",4,$Q6)):$F$37,MATCH($H$2,INDIRECT("$D" & IF($Q6="_",4,$Q6)):$D$37,0),COLUMN(L11)-8),"") | N7: =IFERROR(INDEX(INDIRECT("$A" & IF($Q6="_",4,$Q6)):$F$37,MATCH($H$2,INDIRECT("$D" & IF($Q6="_",4,$Q6)):$D$37,0),COLUMN(M11)-8),"") | O7: =IFERROR(INDEX(INDIRECT("$A" & IF($Q6="_",4,$Q6)):$F$37,MATCH($H$2,INDIRECT("$D" & IF($Q6="_",4,$Q6)):$D$37,0),COLUMN(N11)-8),"") | P7: =IFERROR(MATCH($H$2,INDIRECT("$D" & IF($Q6="_",4,$Q6)):$D$37,0),"") | Q7: =IFERROR(IF($Q6="_",4,$Q6)+P7,"")
A8: P1W1 | B8: mardi aprem | C8: =INDEX(calendrier!$C$3:$BC$23,MATCH(B8,calendrier!$B$3:$B$23,0),MATCH(A8,calendrier!$C$2:$BC$2,0)) -> Bleu | D8: AX01H | E8: 5 | F8: =VLOOKUP(D8,référence!$A:$C,3,FALSE) -> UB paella | H8: av28g | J8: =IFERROR(INDEX(INDIRECT("$A" & IF($Q7="_",4,$Q7)):$F$37,MATCH($H$2,INDIRECT("$D" & IF($Q7="_",4,$Q7)):$D$37,0),COLUMN(I12)-8),"") | K8: =IFERROR(INDEX(INDIRECT("$A" & IF($Q7="_",4,$Q7)):$F$37,MATCH($H$2,INDIRECT("$D" & IF($Q7="_",4,$Q7)):$D$37,0),COLUMN(J12)-8),"") | L8: =IFERROR(INDEX(INDIRECT("$A" & IF($Q7="_",4,$Q7)):$F$37,MATCH($H$2,INDIRECT("$D" & IF($Q7="_",4,$Q7)):$D$37,0),COLUMN(K12)-8),"") | M8: =IFERROR(INDEX(INDIRECT("$A" & IF($Q7="_",4,$Q7)):$F$37,MATCH($H$2,INDIRECT("$D" & IF($Q7="_",4,$Q7)):$D$37,0),COLUMN(L12)-8),"") | N8: =IFERROR(INDEX(INDIRECT("$A" & IF($Q7="_",4,$Q7)):$F$37,MATCH($H$2,INDIRECT("$D" & IF($Q7="_",4,$Q7)):$D$37,0),COLUMN(M12)-8),"") | O8: =IFERROR(INDEX(INDIRECT("$A" & IF($Q7="_",4,$Q7)):$F$37,MATCH($H$2,INDIRECT("$D" & IF($Q7="_",4,$Q7)):$D$37,0),COLUMN(N12)-8),"") | P8: =IFERROR(MATCH($H$2,INDIRECT("$D" & IF($Q7="_",4,$Q7)):$D$37,0),"") | Q8: =IFERROR(IF($Q7="_",4,$Q7)+P8,"")
A9: P1W1 | B9: mardi nuit | C9: =INDEX(calendrier!$C$3:$BC$23,MATCH(B9,calendrier!$B$3:$B$23,0),MATCH(A9,calendrier!$C$2:$BC$2,0)) -> Vert | D9: AX01H | E9: 5 | F9: =VLOOKUP(D9,référence!$A:$C,3,FALSE) -> UB paella | H9: AX01H | J9: =IFERROR(INDEX(INDIRECT("$A" & IF($Q8="_",4,$Q8)):$F$37,MATCH($H$2,INDIRECT("$D" & IF($Q8="_",4,$Q8)):$D$37,0),COLUMN(I13)-8),"") | K9: =IFERROR(INDEX(INDIRECT("$A" & IF($Q8="_",4,$Q8)):$F$37,MATCH($H$2,INDIRECT("$D" & IF($Q8="_",4,$Q8)):$D$37,0),COLUMN(J13)-8),"") | L9: =IFERROR(INDEX(INDIRECT("$A" & IF($Q8="_",4,$Q8)):$F$37,MATCH($H$2,INDIRECT("$D" & IF($Q8="_",4,$Q8)):$D$37,0),COLUMN(K13)-8),"") | M9: =IFERROR(INDEX(INDIRECT("$A" & IF($Q8="_",4,$Q8)):$F$37,MATCH($H$2,INDIRECT("$D" & IF($Q8="_",4,$Q8)):$D$37,0),COLUMN(L13)-8),"") | N9: =IFERROR(INDEX(INDIRECT("$A" & IF($Q8="_",4,$Q8)):$F$37,MATCH($H$2,INDIRECT("$D" & IF($Q8="_",4,$Q8)):$D$37,0),COLUMN(M13)-8),"") | O9: =IFERROR(INDEX(INDIRECT("$A" & IF($Q8="_",4,$Q8)):$F$37,MATCH($H$2,INDIRECT("$D" & IF($Q8="_",4,$Q8)):$D$37,0),COLUMN(N13)-8),"") | P9: =IFERROR(MATCH($H$2,INDIRECT("$D" & IF($Q8="_",4,$Q8)):$D$37,0),"") | Q9: =IFERROR(IF($Q8="_",4,$Q8)+P9,"")
A10: P1W1 | B10: mardi nuit | C10: =INDEX(calendrier!$C$3:$BC$23,MATCH(B10,calendrier!$B$3:$B$23,0),MATCH(A10,calendrier!$C$2:$BC$2,0)) -> Vert | D10: AM68C | E10: 6 | F10: =VLOOKUP(D10,référence!$A:$C,3,FALSE) -> UB paella | H10: AX433
A11: P1W1 | B11: mardi nuit | C11: =INDEX(calendrier!$C$3:$BC$23,MATCH(B11,calendrier!$B$3:$B$23,0),MATCH(A11,calendrier!$C$2:$BC$2,0)) -> Vert | D11: AA90E | E11: 7 | F11: =VLOOKUP(D11,référence!$A:$C,3,FALSE) -> UB tex mex | H11: AX442
A12: P1W1 | B12: mercredi matin | C12: =INDEX(calendrier!$C$3:$BC$23,MATCH(B12,calendrier!$B$3:$B$23,0),MATCH(A12,calendrier!$C$2:$BC$2,0)) -> Rouge | D12: AA90E | E12: 7 | F12: =VLOOKUP(D12,référence!$A:$C,3,FALSE) -> UB tex mex | H12: BK58D
A13: P1W1 | B13: mercredi matin | C13: =INDEX(calendrier!$C$3:$BC$23,MATCH(B13,calendrier!$B$3:$B$23,0),MATCH(A13,calendrier!$C$2:$BC$2,0)) -> Rouge | D13: LR743 | E13: 8 | F13: =VLOOKUP(D13,référence!$A:$C,3,FALSE) -> UB risi bisi | H13: BM79T
A14: P1W1 | B14: mercredi matin | C14: =INDEX(calendrier!$C$3:$BC$23,MATCH(B14,calendrier!$B$3:$B$23,0),MATCH(A14,calendrier!$C$2:$BC$2,0)) -> Rouge | D14: JM169 | E14: 9 | F14: =VLOOKUP(D14,référence!$A:$C,3,FALSE) -> UB risi bisi | H14: ef358
A15: P1W1 | B15: mercredi matin | C15: =INDEX(calendrier!$C$3:$BC$23,MATCH(B15,calendrier!$B$3:$B$23,0),MATCH(A15,calendrier!$C$2:$BC$2,0)) -> Rouge | D15: wf134 | E15: 10 | F15: =VLOOKUP(D15,référence!$A:$C,3,FALSE) -> UB long grain | H15: JM169
A16: P1W1 | B16: mercredi matin | C16: =INDEX(calendrier!$C$3:$BC$23,MATCH(B16,calendrier!$B$3:$B$23,0),MATCH(A16,calendrier!$C$2:$BC$2,0)) -> Rouge | D16: AX442 | E16: 11 | F16: =VLOOKUP(D16,référence!$A:$C,3,FALSE) -> UB méditerranien | H16: kh128
A17: P1W1 | B17: mercredi aprem | C17: =INDEX(calendrier!$C$3:$BC$23,MATCH(B17,calendrier!$B$3:$B$23,0),MATCH(A17,calendrier!$C$2:$BC$2,0)) -> Bleu | D17: AX442 | E17: 11 | F17: =VLOOKUP(D17,référence!$A:$C,3,FALSE) -> UB méditerranien | H17: KH217
A18: P1W1 | B18: mercredi aprem | C18: =INDEX(calendrier!$C$3:$BC$23,MATCH(B18,calendrier!$B$3:$B$23,0),MATCH(A18,calendrier!$C$2:$BC$2,0)) -> Bleu | D18: KH217 | E18: 12 | F18: =VLOOKUP(D18,référence!$A:$C,3,FALSE) -> UB méditerranien | H18: LR743
A19: P1W1 | B19: mercredi aprem | C19: =INDEX(calendrier!$C$3:$BC$23,MATCH(B19,calendrier!$B$3:$B$23,0),MATCH(A19,calendrier!$C$2:$BC$2,0)) -> Bleu | D19: kh128 | E19: 13 | F19: =VLOOKUP(D19,référence!$A:$C,3,FALSE) -> UB long grain | H19: mg551
A20: P1W1 | B20: vendredi nuit | C20: =INDEX(calendrier!$C$3:$BC$23,MATCH(B20,calendrier!$B$3:$B$23,0),MATCH(A20,calendrier!$C$2:$BC$2,0)) -> Orange | D20: BM79T | E20: 13 | F20: =VLOOKUP(D20,référence!$A:$C,3,FALSE) -> UB méditerranien | H20: TN903
A21: P1W1 | B21: jeudi matin | C21: =INDEX(calendrier!$C$3:$BC$23,MATCH(B21,calendrier!$B$3:$B$23,0),MATCH(A21,calendrier!$C$2:$BC$2,0)) -> Rouge | D21: BM79T | E21: 13 | F21: =VLOOKUP(D21,référence!$A:$C,3,FALSE) -> UB méditerranien | H21: TW709
... A26: P1W1 | B26: jeudi aprem | C26: =INDEX(calendrier!$C$3:$BC$23,MATCH(B26,calendrier!$B$3:$B$23,0),MATCH(A26,calendrier!$C$2:$BC$2,0)) -> Bleu | D26: XD080 | E26: 18 | F26: =VLOOKUP(D26,référence!$A:$C,3,FALSE) -> UB italian herbe | H26: XD083
A27: P1W1 | B27: jeudi aprem | C27: =INDEX(calendrier!$C$3:$BC$23,MATCH(B27,calendrier!$B$3:$B$23,0),MATCH(A27,calendrier!$C$2:$BC$2,0)) -> Bleu | D27: WM942 | E27: 19 | F27: =VLOOKUP(D27,référence!$A:$C,3,FALSE) -> UB italian herbe
A28: P1W1 | B28: jeudi aprem | C28: =INDEX(calendrier!$C$3:$BC$23,MATCH(B28,calendrier!$B$3:$B$23,0),MATCH(A28,calendrier!$C$2:$BC$2,0)) -> Bleu | D28: ANC64 | E28: 20 | F28: =VLOOKUP(D28,référence!$A:$C,3,FALSE) -> UB italian herbe
A29: P1W1 | B29: jeudi aprem | C29: =INDEX(calendrier!$C$3:$BC$23,MATCH(B29,calendrier!$B$3:$B$23,0),MATCH(A29,calendrier!$C$2:$BC$2,0)) -> Bleu | D29: AX433 | E29: 21 | F29: =VLOOKUP(D29,référence!$A:$C,3,FALSE) -> UB long grain
A30: P1W1 | B30: jeudi nuit | C30: =INDEX(calendrier!$C$3:$BC$23,MATCH(B30,calendrier!$B$3:$B$23,0),MATCH(A30,calendrier!$C$2:$BC$2,0)) -> Orange | D30: kh128 | E30: 21 | F30: =VLOOKUP(D30,référence!$A:$C,3,FALSE) -> UB long grain
A31: P1W1 | B31: jeudi nuit | C31: =INDEX(calendrier!$C$3:$BC$23,MATCH(B31,calendrier!$B$3:$B$23,0),MATCH(A31,calendrier!$C$2:$BC$2,0)) -> Orange | D31: WF134 | E31: 22 | F31: =VLOOKUP(D31,référence!$A:$C,3,FALSE) -> UB long grain
A32: P1W1 | B32: jeudi nuit | C32: =INDEX(calendrier!$C$3:$BC$23,MATCH(B32,calendrier!$B$3:$B$23,0),MATCH(A32,calendrier!$C$2:$BC$2,0)) -> Orange | D32: WF163 | E32: 23 | F32: =VLOOKUP(D32,référence!$A:$C,3,FALSE) -> UB mushroom
A33: P1W1 | B33: vendredi matin | C33: =INDEX(calendrier!$C$3:$BC$23,MATCH(B33,calendrier!$B$3:$B$23,0),MATCH(A33,calendrier!$C$2:$BC$2,0)) -> Vert | D33: wf163 | E33: 23 | F33: =VLOOKUP(D33,référence!$A:$C,3,FALSE) -> UB mushroom
A34: P1W1 | B34: vendredi matin | C34: =INDEX(calendrier!$C$3:$BC$23,MATCH(B34,calendrier!$B$3:$B$23,0),MATCH(A34,calendrier!$C$2:$BC$2,0)) -> Vert | D34: wf134 | E34: 24 | F34: =VLOOKUP(D34,référence!$A:$C,3,FALSE) -> UB long grain
A35: P1W1 | B35: vendredi matin | C35: =INDEX(calendrier!$C$3:$BC$23,MATCH(B35,calendrier!$B$3:$B$23,0),MATCH(A35,calendrier!$C$2:$BC$2,0)) -> Vert | D35: as55m | E35: 25 | F35: =VLOOKUP(D35,référence!$A:$C,3,FALSE) -> UB veg pilau
A36: P1W1 | B36: vendredi matin | C36: =INDEX(calendrier!$C$3:$BC$23,MATCH(B36,calendrier!$B$3:$B$23,0),MATCH(A36,calendrier!$C$2:$BC$2,0)) -> Vert | D36: av28g | E36: 26 | F36: =VLOOKUP(D36,référence!$A:$C,3,FALSE) -> UB veg pilau
A37: P1W1 | B37: vendredi aprem | C37: =INDEX(calendrier!$C$3:$BC$23,MATCH(B37,calendrier!$B$3:$B$23,0),MATCH(A37,calendrier!$C$2:$BC$2,0)) -> Rouge | D37: AV28G | E37: 26 | F37: =VLOOKUP(D37,référence!$A:$C,3,FALSE) -> UB veg pilau

Sheet Sheet1
A1: week | B1: poste | C1: équipe | D1: Item | E1: N° | F1: description | G1: fait | J1: week | K1: Item | L1: N° | M1: fait
A4: P1W1 | B4: mardi aprem | C4: =INDEX(calendrier!$C$3:$BC$23,MATCH(B4,calendrier!$B$3:$B$23,0),MATCH(A4,calendrier!$C$2:$BC$2,0)) -> Bleu | D4: kh128 | E4: 1 | F4: =VLOOKUP(D4,référence!$A:$C,3,FALSE) -> UB long grain | G4: 563 | J4: P1W1 | K4: kh128 | L4: 1 | M4: 563
A5: P1W1 | B5: mardi aprem | C5: =INDEX(calendrier!$C$3:$BC$23,MATCH(B5,calendrier!$B$3:$B$23,0),MATCH(A5,calendrier!$C$2:$BC$2,0)) -> Bleu | D5: wf134 | E5: 2 | F5: =VLOOKUP(D5,référence!$A:$C,3,FALSE) -> UB long grain | G5: 654 | J5: P1W1 | K5: wf134 | L5: 2 | M5: 654
A6: P1W1 | B6: mardi aprem | C6: =INDEX(calendrier!$C$3:$BC$23,MATCH(B6,calendrier!$B$3:$B$23,0),MATCH(A6,calendrier!$C$2:$BC$2,0)) -> Bleu | D6: ef358 | E6: 3 | F6: =VLOOKUP(D6,référence!$A:$C,3,FALSE) -> UB long grain | G6: 36416 | J6: P1W1 | K6: ef358 | L6: 3 | M6: 36416
A7: P1W1 | B7: mardi aprem | C7: =INDEX(calendrier!$C$3:$BC$23,MATCH(B7,calendrier!$B$3:$B$23,0),MATCH(A7,calendrier!$C$2:$BC$2,0)) -> Bleu | D7: mg551 | E7: 4 | F7: =VLOOKUP(D7,référence!$A:$C,3,FALSE) -> UB paella | G7: 1648 | J7: P1W1 | K7: mg551 | L7: 4 | M7: 1648
A8: P1W1 | B8: mardi aprem | C8: =INDEX(calendrier!$C$3:$BC$23,MATCH(B8,calendrier!$B$3:$B$23,0),MATCH(A8,calendrier!$C$2:$BC$2,0)) -> Bleu | D8: AX01H | E8: 5 | F8: =VLOOKUP(D8,référence!$A:$C,3,FALSE) -> UB paella | G8: 165 | J8: P1W1 | K8: AX01H | L8: 5 | M8: =G8+G9 -> 165062
A9: P1W1 | B9: mardi nuit | C9: =INDEX(calendrier!$C$3:$BC$23,MATCH(B9,calendrier!$B$3:$B$23,0),MATCH(A9,calendrier!$C$2:$BC$2,0)) -> Vert | D9: AX01H | E9: 5 | F9: =VLOOKUP(D9,référence!$A:$C,3,FALSE) -> UB paella | G9: 164897 | J9: P1W1 | K9: AM68C | L9: 6 | M9: 6974
A10: P1W1 | B10: mardi nuit | C10: =INDEX(calendrier!$C$3:$BC$23,MATCH(B10,calendrier!$B$3:$B$23,0),MATCH(A10,calendrier!$C$2:$BC$2,0)) -> Vert | D10: AM68C | E10: 6 | F10: =VLOOKUP(D10,référence!$A:$C,3,FALSE) -> UB paella | G10: 6974 | J10: P1W1 | K10: AA90E | L10: 7 | M10: =G11+G12 -> 7195
A11: P1W1 | B11: mardi nuit | C11: =INDEX(calendrier!$C$3:$BC$23,MATCH(B11,calendrier!$B$3:$B$23,0),MATCH(A11,calendrier!$C$2:$BC$2,0)) -> Vert | D11: AA90E | E11: 7 | F11: =VLOOKUP(D11,référence!$A:$C,3,FALSE) -> UB tex mex | G11: 654 | J11: P1W1 | K11: LR743 | L11: 8 | M11: 4684
A12: P1W1 | B12: mercredi matin | C12: =INDEX(calendrier!$C$3:$BC$23,MATCH(B12,calendrier!$B$3:$B$23,0),MATCH(A12,calendrier!$C$2:$BC$2,0)) -> Rouge | D12: AA90E | E12: 7 | F12: =VLOOKUP(D12,référence!$A:$C,3,FALSE) -> UB tex mex | G12: 6541 | J12: P1W1 | K12: JM169 | L12: 9 | M12: 45
A13: P1W1 | B13: mercredi matin | C13: =INDEX(calendrier!$C$3:$BC$23,MATCH(B13,calendrier!$B$3:$B$23,0),MATCH(A13,calendrier!$C$2:$BC$2,0)) -> Rouge | D13: LR743 | E13: 8 | F13: =VLOOKUP(D13,référence!$A:$C,3,FALSE) -> UB risi bisi | G13: 4684 | J13: P1W1 | K13: wf134 | L13: 10 | M13: 4654
A14: P1W1 | B14: mercredi matin | C14: =INDEX(calendrier!$C$3:$BC$23,MATCH(B14,calendrier!$B$3:$B$23,0),MATCH(A14,calendrier!$C$2:$BC$2,0)) -> Rouge | D14: JM169 | E14: 9 | F14: =VLOOKUP(D14,référence!$A:$C,3,FALSE) -> UB risi bisi | G14: 45 | J14: P1W1 | K14: AX442 | L14: 11 | M14: =G16+G17 -> 47112
A15: P1W1 | B15: mercredi matin | C15: =INDEX(calendrier!$C$3:$BC$23,MATCH(B15,calendrier!$B$3:$B$23,0),MATCH(A15,calendrier!$C$2:$BC$2,0)) -> Rouge | D15: wf134 | E15: 10 | F15: =VLOOKUP(D15,référence!$A:$C,3,FALSE) -> UB long grain | G15: 4654 | J15: P1W1 | K15: KH217 | L15: 12 | M15: 4674
A16: P1W1 | B16: mercredi matin | C16: =INDEX(calendrier!$C$3:$BC$23,MATCH(B16,calendrier!$B$3:$B$23,0),MATCH(A16,calendrier!$C$2:$BC$2,0)) -> Rouge | D16: AX442 | E16: 11 | F16: =VLOOKUP(D16,référence!$A:$C,3,FALSE) -> UB méditerranien | G16: 5464 | J16: P1W1 | K16: kh128 | L16: 13 | M16: 4648
A17: P1W1 | B17: mercredi aprem | C17: =INDEX(calendrier!$C$3:$BC$23,MATCH(B17,calendrier!$B$3:$B$23,0),MATCH(A17,calendrier!$C$2:$BC$2,0)) -> Bleu | D17: AX442 | E17: 11 | F17: =VLOOKUP(D17,référence!$A:$C,3,FALSE) -> UB méditerranien | G17: 41648 | J17: P1W1 | K17: BM79T | L17: 14 | M17: =G20+G21 -> 9295
A18: P1W1 | B18: mercredi aprem | C18: =INDEX(calendrier!$C$3:$BC$23,MATCH(B18,calendrier!$B$3:$B$23,0),MATCH(A18,calendrier!$C$2:$BC$2,0)) -> Bleu | D18: KH217 | E18: 12 | F18: =VLOOKUP(D18,référence!$A:$C,3,FALSE) -> UB méditerranien | G18: 4674 | J18: P1W2 | K18: TW709 | L18: 1 | M18: =G22 -> 48679
A19: P1W1 | B19: mercredi aprem | C19: =INDEX(calendrier!$C$3:$BC$23,MATCH(B19,calendrier!$B$3:$B$23,0),MATCH(A19,calendrier!$C$2:$BC$2,0)) -> Bleu | D19: kh128 | E19: 13 | F19: =VLOOKUP(D19,référence!$A:$C,3,FALSE) -> UB long grain | G19: 4648 | J19: P1W2 | K19: TN903 | L19: 2 | M19: =G23 -> 94131
A20: P1W1 | B20: vendredi nuit | C20: =INDEX(calendrier!$C$3:$BC$23,MATCH(B20,calendrier!$B$3:$B$23,0),MATCH(A20,calendrier!$C$2:$BC$2,0)) -> Orange | D20: BM79T | E20: 14 | F20: =VLOOKUP(D20,référence!$A:$C,3,FALSE) -> UB méditerranien | G20: 4647 | J20: P1W2 | K20: XD083 | L20: 3 | M20: =G24 -> 68
A21: P1W1 | B21: jeudi matin | C21: =INDEX(calendrier!$C$3:$BC$23,MATCH(B21,calendrier!$B$3:$B$23,0),MATCH(A21,calendrier!$C$2:$BC$2,0)) -> Rouge | D21: BM79T | E21: 14 | F21: =VLOOKUP(D21,référence!$A:$C,3,FALSE) -> UB méditerranien | G21: 4648 | J21: P1W2 | K21: BK58D | L21: 4 | M21: =G25 -> 46
A22: P1W2 | B22: jeudi matin | C22: =INDEX(calendrier!$C$3:$BC$23,MATCH(B22,calendrier!$B$3:$B$23,0),MATCH(A22,calendrier!$C$2:$BC$2,0)) -> Orange | D22: TW709 | E22: 1 | F22: =VLOOKUP(D22,référence!$A:$C,3,FALSE) -> UB rissoto mushroom | G22: 48679 | J22: P1W2 | K22: XD080 | L22: 5 | M22: =G26 -> 6469
A23: P1W2 | B23: jeudi matin | C23: =INDEX(calendrier!$C$3:$BC$23,MATCH(B23,calendrier!$B$3:$B$23,0),MATCH(A23,calendrier!$C$2:$BC$2,0)) -> Orange | D23: TN903 | E23: 2 | F23: =VLOOKUP(D23,référence!$A:$C,3,FALSE) -> UB rissoto mushroom | G23: 94131 | J23: P1W2 | K23: WM942 | L23: 6 | M23: =G27 -> 5989
A24: P1W2 | B24: jeudi matin | C24: =INDEX(calendrier!$C$3:$BC$23,MATCH(B24,calendrier!$B$3:$B$23,0),MATCH(A24,calendrier!$C$2:$BC$2,0)) -> Orange | D24: XD083 | E24: 3 | F24: =VLOOKUP(D24,référence!$A:$C,3,FALSE) -> UB rissoto mushroom | G24: 68 | J24: P1W2 | K24: ANC64 | L24: 7 | M24: =G28 -> 5479
A25: P1W2 | B25: jeudi matin | C25: =INDEX(calendrier!$C$3:$BC$23,MATCH(B25,calendrier!$B$3:$B$23,0),MATCH(A25,calendrier!$C$2:$BC$2,0)) -> Orange | D25: BK58D | E25: 4 | F25: =VLOOKUP(D25,référence!$A:$C,3,FALSE) -> UB rissoto mushroom | G25: 46 | J25: P1W2 | K25: AX433 | L25: 8 | M25: =G29 -> 46
A26: P1W2 | B26: jeudi aprem | C26: =INDEX(calendrier!$C$3:$BC$23,MATCH(B26,calendrier!$B$3:$B$23,0),MATCH(A26,calendrier!$C$2:$BC$2,0)) -> Vert | D26: XD080 | E26: 5 | F26: =VLOOKUP(D26,référence!$A:$C,3,FALSE) -> UB italian herbe | G26: 6469 | J26: P1W2 | K26: kh128 | L26: 9 | M26: =G30 -> 4698
A27: P1W2 | B27: jeudi aprem | C27: =INDEX(calendrier!$C$3:$BC$23,MATCH(B27,calendrier!$B$3:$B$23,0),MATCH(A27,calendrier!$C$2:$BC$2,0)) -> Vert | D27: WM942 | E27: 6 | F27: =VLOOKUP(D27,référence!$A:$C,3,FALSE) -> UB italian herbe | G27: 5989 | J27: P1W2 | K27: WF134 | L27: 10 | M27: =G31+G33 -> 517
A28: P1W2 | B28: jeudi aprem | C28: =INDEX(calendrier!$C$3:$BC$23,MATCH(B28,calendrier!$B$3:$B$23,0),MATCH(A28,calendrier!$C$2:$BC$2,0)) -> Vert | D28: ANC64 | E28: 7 | F28: =VLOOKUP(D28,référence!$A:$C,3,FALSE) -> UB italian herbe | G28: 5479 | J28: P1W2 | K28: WF163 | L28: 11 | M28: =G32+G34 -> 5167
A29: P1W2 | B29: jeudi aprem | C29: =INDEX(calendrier!$C$3:$BC$23,MATCH(B29,calendrier!$B$3:$B$23,0),MATCH(A29,calendrier!$C$2:$BC$2,0)) -> Vert | D29: AX433 | E29: 8 | F29: =VLOOKUP(D29,référence!$A:$C,3,FALSE) -> UB long grain | G29: 46 | J29: P1W2 | K29: as55m | L29: 12 | M29: =G35 -> 46978
A30: P1W2 | B30: jeudi nuit | C30: =INDEX(calendrier!$C$3:$BC$23,MATCH(B30,calendrier!$B$3:$B$23,0),MATCH(A30,calendrier!$C$2:$BC$2,0)) -> Bleu | D30: kh128 | E30: 9 | F30: =VLOOKUP(D30,référence!$A:$C,3,FALSE) -> UB long grain | G30: 4698 | J30: P1W2 | K30: av28g | L30: 13 | M30: =G36+G37 -> 4747
A31: P1W2 | B31: jeudi nuit | C31: =INDEX(calendrier!$C$3:$BC$23,MATCH(B31,calendrier!$B$3:$B$23,0),MATCH(A31,calendrier!$C$2:$BC$2,0)) -> Bleu | D31: WF134 | E31: 10 | F31: =VLOOKUP(D31,référence!$A:$C,3,FALSE) -> UB long grain | G31: 49
A32: P1W2 | B32: jeudi nuit | C32: =INDEX(calendrier!$C$3:$BC$23,MATCH(B32,calendrier!$B$3:$B$23,0),MATCH(A32,calendrier!$C$2:$BC$2,0)) -> Bleu | D32: WF163 | E32: 11 | F32: =VLOOKUP(D32,référence!$A:$C,3,FALSE) -> UB mushroom | G32: 469
A33: P1W2 | B33: vendredi matin | C33: =INDEX(calendrier!$C$3:$BC$23,MATCH(B33,calendrier!$B$3:$B$23,0),MATCH(A33,calendrier!$C$2:$BC$2,0)) -> Rouge | D33: WF134 | E33: 10 | F33: =VLOOKUP(D33,référence!$A:$C,3,FALSE) -> UB long grain | G33: 468
A34: P1W2 | B34: vendredi matin | C34: =INDEX(calendrier!$C$3:$BC$23,MATCH(B34,calendrier!$B$3:$B$23,0),MATCH(A34,calendrier!$C$2:$BC$2,0)) -> Rouge | D34: wf163 | E34: 11 | F34: =VLOOKUP(D34,référence!$A:$C,3,FALSE) -> UB mushroom | G34: 4698
A35: P1W2 | B35: vendredi matin | C35: =INDEX(calendrier!$C$3:$BC$23,MATCH(B35,calendrier!$B$3:$B$23,0),MATCH(A35,calendrier!$C$2:$BC$2,0)) -> Rouge | D35: as55m | E35: 12 | F35: =VLOOKUP(D35,référence!$A:$C,3,FALSE) -> UB veg pilau | G35: 46978
A36: P1W2 | B36: vendredi matin | C36: =INDEX(calendrier!$C$3:$BC$23,MATCH(B36,calendrier!$B$3:$B$23,0),MATCH(A36,calendrier!$C$2:$BC$2,0)) -> Rouge | D36: av28g | E36: 13 | F36: =VLOOKUP(D36,référence!$A:$C,3,FALSE) -> UB veg pilau | G36: 4698
A37: P1W2 | B37: vendredi aprem | C37: =INDEX(calendrier!$C$3:$BC$23,MATCH(B37,calendrier!$B$3:$B$23,0),MATCH(A37,calendrier!$C$2:$BC$2,0)) -> Orange | D37: AV28G | E37: 13 | F37: =VLOOKUP(D37,référence!$A:$C,3,FALSE) -> UB veg pilau | G37: 49

Sheet pertes TT9
A1: Perte TT9 Perte TT9 Perte TT9 Perte TT9 Perte TT9
A3: Saisies Saisies Saisies Saisies Saisies Saisies Saisies Saisies Saisies
A4: week | B4: poste | C4: équipe | D4: Item | E4: N° | F4: description | G4: PDM | H4: CLP | I4: weekplan | L4: TT9 - 1 | P4: TT9 - 2 | T4: TT9 - 3 | X4: rejet safeline | Y4: fin de recette | AA4: commentaires
I5: plan | J5: fait | K5: reste à produire | L5: prise TT9 | M5: perte TT9 | N5: garvens | O5: % perte | P5: prise TT9 | Q5: perte TT9 | R5: garvens | S5: % perte | T5: prise TT9 | U5: perte TT9 | V5: garvens | W5: % perte | Y5: compteur dose riz / blé | Z5: Nb de batch
O6: 0.007 | S6: =O6 -> 0.007 | W6: =S6 -> 0.007
A7: P1W1 | B7: mardi aprem | C7: =INDEX(calendrier!$C$3:$BC$23,MATCH(B7,calendrier!$B$3:$B$23,0),MATCH(A7,calendrier!$C$2:$BC$2,0)) -> Bleu | D7: kh128 | E7: 1 | F7: =VLOOKUP(D7,référence!$A:$C,3,FALSE) -> UB long grain | I7: 10752 | J7: =SUM(N7,R7,V7) -> 9477 | K7: =I7-J7 -> 1275 | L7: 5075 | M7: 163 | N7: 4985 | O7: =IFERROR(((L7-N7)/L7),"0") -> 0.01773399 | P7: 1474 | Q7: 131 | R7: 1260 | S7: =IFERROR(((P7-R7)/P7),"") -> 0.14518318 | T7: 3437 | U7: 145 | V7: 3232 | W7: =IFERROR(((T7-V7)/T7),"") -> 0.059645039 | X7: 0
A8: P1W1 | B8: mardi aprem | C8: =INDEX(calendrier!$C$3:$BC$23,MATCH(B8,calendrier!$B$3:$B$23,0),MATCH(A8,calendrier!$C$2:$BC$2,0)) -> Bleu | D8: wf134 | E8: 2 | F8: =VLOOKUP(D8,référence!$A:$C,3,FALSE) -> UB long grain | I8: 17664 | J8: =SUM(N8,R8,V8) -> 17174 | K8: =I8-J8 -> 490 | L8: 5900 | M8: 453 | N8: 5848 | O8: =IFERROR(((L8-N8)/L8),"") -> 0.0088135593 | P8: 8052 | Q8: 72 | R8: 7892 | S8: =IFERROR(((P8-R8)/P8),"") -> 0.01987084 | T8: 3517 | U8: 95 | V8: 3434 | W8: =IFERROR(((T8-V8)/T8),"") -> 0.023599659 | X8: 0
A9: P1W1 | B9: mardi aprem | C9: =INDEX(calendrier!$C$3:$BC$23,MATCH(B9,calendrier!$B$3:$B$23,0),MATCH(A9,calendrier!$C$2:$BC$2,0)) -> Bleu | D9: ef358 | E9: 3 | F9: =VLOOKUP(D9,référence!$A:$C,3,FALSE) -> UB long grain | I9: 27648 | J9: =SUM(N9,R9,V9) -> 31633 | K9: =I9-J9 -> -3985 | L9: 9864 | M9: 28 | N9: 9841 | O9: =IFERROR(((L9-N9)/L9),"") -> 0.0023317113 | P9: 9250 | Q9: 61 | R9: 9117 | S9: =IFERROR(((P9-R9)/P9),"") -> 0.014378378 | T9: 12724 | U9: 37 | V9: 12675 | W9: =IFERROR(((T9-V9)/T9),"") -> 0.0038509903 | X9: 0 | Y9: 59133 | Z9: 9
A10: P1W1 | B10: mardi aprem | C10: =INDEX(calendrier!$C$3:$BC$23,MATCH(B10,calendrier!$B$3:$B$23,0),MATCH(A10,calendrier!$C$2:$BC$2,0)) -> Bleu | D10: mg551 | E10: 4 | F10: =VLOOKUP(D10,référence!$A:$C,3,FALSE) -> UB paella | I10: 6144 | J10: =SUM(N10,R10,V10) -> 7049 | K10: =I10-J10 -> -905 | L10: 4069 | M10: 14 | N10: 3918 | O10: =IFERROR(((L10-N10)/L10),"") -> 0.037109855 | P10: 3340 | Q10: 35 | R10: 3131 | S10: =IFERROR(((P10-R10)/P10),"") -> 0.06257485 | T10: 0 | U10: 0 | V10: 0 | W10: =IFERROR(((T10-V10)/T10),"") | X10: 0
A11: P1W1 | B11: mardi aprem | C11: =INDEX(calendrier!$C$3:$BC$23,MATCH(B11,calendrier!$B$3:$B$23,0),MATCH(A11,calendrier!$C$2:$BC$2,0)) -> Bleu | D11: AX01H | E11: 5 | F11: =VLOOKUP(D11,référence!$A:$C,3,FALSE) -> UB paella | I11: 34560 | J11: =SUM(N11,R11,V11) -> 11291 | K11: =I11-J11 -> 23269 | L11: 2021 | M11: 19 | N11: 1966 | O11: =IFERROR(((L11-N11)/L11),"") -> 0.02721425 | P11: 2260 | Q11: 4 | R11: 2245 | S11: =IFERROR(((P11-R11)/P11),"") -> 0.0066371681 | T11: 7295 | U11: 29 | V11: 7080 | W11: =IFERROR(((T11-V11)/T11),"") -> 0.029472241 | X11: 0
A12: P1W1 | B12: mardi nuit | C12: =INDEX(calendrier!$C$3:$BC$23,MATCH(B12,calendrier!$B$3:$B$23,0),MATCH(A12,calendrier!$C$2:$BC$2,0)) -> Vert | D12: AX01H | E12: 5 | F12: =VLOOKUP(D12,référence!$A:$C,3,FALSE) -> UB paella | I12: 23269 | J12: =SUM(N12,R12,V12) -> 24078 | K12: =I12-J12 -> -809 | L12: 8969 | M12: 29 | N12: 8872 | O12: =IFERROR(((L12-N12)/L12),"") -> 0.01081503 | P12: 8448 | Q12: 47 | R12: 8212 | S12: =IFERROR(((P12-R12)/P12),"") -> 0.027935606 | T12: 7147 | U12: 34 | V12: 6994 | W12: =IFERROR(((T12-V12)/T12),"") -> 0.021407584 | X12: 0
A13: P1W1 | B13: mardi nuit | C13: =INDEX(calendrier!$C$3:$BC$23,MATCH(B13,calendrier!$B$3:$B$23,0),MATCH(A13,calendrier!$C$2:$BC$2,0)) -> Vert | D13: AM68C | E13: 6 | F13: =VLOOKUP(D13,référence!$A:$C,3,FALSE) -> UB paella | I13: 19968 | J13: =SUM(N13,R13,V13) -> 15861 | K13: =I13-J13 -> 4107 | L13: 4776 | M13: 52 | N13: 4684 | O13: =IFERROR(((L13-N13)/L13),"") -> 0.019262982 | P13: 4673 | Q13: 38 | R13: 4565 | S13: =IFERROR(((P13-R13)/P13),"") -> 0.023111492 | T13: 6757 | U13: 63 | V13: 6612 | W13: =IFERROR(((T13-V13)/T13),"") -> 0.021459227 | X13: 0 | Y13: 59607 | Z13: 6
A14: P1W1 | B14: mardi nuit | C14: =INDEX(calendrier!$C$3:$BC$23,MATCH(B14,calendrier!$B$3:$B$23,0),MATCH(A14,calendrier!$C$2:$BC$2,0)) -> Vert | D14: AA90E | E14: 7 | F14: =VLOOKUP(D14,référence!$A:$C,3,FALSE) -> UB tex mex | I14: 43008 | J14: =SUM(N14,R14,V14) -> 29886 | K14: =I14-J14 -> 13122 | L14: 9399 | M14: 50 | N14: 9236 | O14: =IFERROR(((L14-N14)/L14),"") -> 0.01734227 | P14: 8741 | Q14: 50 | R14: 8613 | S14: =IFERROR(((P14-R14)/P14),"") -> 0.014643633 | T14: 12253 | U14: 24 | V14: 12037 | W14: =IFERROR(((T14-V14)/T14),"") -> 0.017628336 | X14: 0
A15: P1W1 | B15: mercredi matin | C15: =INDEX(calendrier!$C$3:$BC$23,MATCH(B15,calendrier!$B$3:$B$23,0),MATCH(A15,calendrier!$C$2:$BC$2,0)) -> Rouge | D15: AA90E | E15: 7 | F15: =VLOOKUP(D15,référence!$A:$C,3,FALSE) -> UB tex mex | I15: 13122 | J15: =SUM(N15,R15,V15) -> 10499 | K15: =I15-J15 -> 2623 | L15: 5289 | M15: 0 | N15: 5239 | O15: =IFERROR(((L15-N15)/L15),"") -> 0.0094535829 | P15: 1674 | Q15: 14 | R15: 1589 | S15: =IFERROR(((P15-R15)/P15),"") -> 0.050776583 | T15: 3757 | U15: 26 | V15: 3671 | W15: =IFERROR(((T15-V15)/T15),"") -> 0.022890604 | X15: 0 | Y15: 42569 | Z15: 4
A16: P1W1 | B16: mercredi matin | C16: =INDEX(calendrier!$C$3:$BC$23,MATCH(B16,calendrier!$B$3:$B$23,0),MATCH(A16,calendrier!$C$2:$BC$2,0)) -> Rouge | D16: LR743 | E16: 8 | F16: =VLOOKUP(D16,référence!$A:$C,3,FALSE) -> UB risi bisi | I16: 12288 | J16: =SUM(N16,R16,V16) -> 12499 | K16: =I16-J16 -> -211 | L16: 3271 | M16: 12 | N16: 3134 | O16: =IFERROR(((L16-N16)/L16),"") -> 0.041883216 | P16: 3938 | Q16: 26 | R16: 3832 | S16: =IFERROR(((P16-R16)/P16),"") -> 0.026917217 | T16: 5772 | U16: 21 | V16: 5533 | W16: =IFERROR(((T16-V16)/T16),"") -> 0.041406791 | X16: 0
A17: P1W1 | B17: mercredi matin | C17: =INDEX(calendrier!$C$3:$BC$23,MATCH(B17,calendrier!$B$3:$B$23,0),MATCH(A17,calendrier!$C$2:$BC$2,0)) -> Rouge | D17: JM169 | E17: 9 | F17: =VLOOKUP(D17,référence!$A:$C,3,FALSE) -> UB risi bisi | I17: 39168 | J17: =SUM(N17,R17,V17) -> 35160 | K17: =I17-J17 -> 4008 | L17: 13021 | M17: 36 | N17: 12905 | O17: =IFERROR(((L17-N17)/L17),"") -> 0.008908686 | P17: 12915 | Q17: 117 | R17: 12797 | S17: =IFERROR(((P17-R17)/P17),"") -> 0.0091366628 | T17: 9727 | U17: 84 | V17: 9458 | W17: =IFERROR(((T17-V17)/T17),"") -> 0.027654981 | X17: 0 | Y17: 48566 | Z17: 3
A18: P1W1 | B18: mercredi matin | C18: =INDEX(calendrier!$C$3:$BC$23,MATCH(B18,calendrier!$B$3:$B$23,0),MATCH(A18,calendrier!$C$2:$BC$2,0)) -> Rouge | D18: FM392 | E18: 10 | F18: =VLOOKUP(D18,référence!$A:$C,3,FALSE) -> UB méditerranien | I18: 4608 | J18: =SUM(N18,R18,V18) -> 4663 | K18: =I18-J18 -> -55 | L18: 2333 | M18: 1 | N18: 2282 | O18: =IFERROR(((L18-N18)/L18),"") -> 0.021860266 | P18: 2489 | Q18: 33 | R18: 2381 | S18: =IFERROR(((P18-R18)/P18),"") -> 0.04339092 | T18: 0 | U18: 0 | V18: 0 | W18: =IFERROR(((T18-V18)/T18),"") | X18: 0
A19: P1W1 | B19: mercredi matin | C19: =INDEX(calendrier!$C$3:$BC$23,MATCH(B19,calendrier!$B$3:$B$23,0),MATCH(A19,calendrier!$C$2:$BC$2,0)) -> Rouge | D19: AX442 | E19: 11 | F19: =VLOOKUP(D19,référence!$A:$C,3,FALSE) -> UB méditerranien | I19: 50688 | J19: =SUM(N19,R19,V19) -> 9971 | K19: =I19-J19 -> 40717 | L19: 2364 | M19: 21 | N19: 2339 | O19: =IFERROR(((L19-N19)/L19),"") -> 0.010575296 | P19: 2385 | Q19: 16 | R19: 2369 | S19: =IFERROR(((P19-R19)/P19),"") -> 0.0067085954 | T19: 5399 | U19: 67 | V19: 5263 | W19: =IFERROR(((T19-V19)/T19),"") -> 0.02518985 | X19: 0
A20: P1W1 | B20: mercredi aprem | C20: =INDEX(calendrier!$C$3:$BC$23,MATCH(B20,calendrier!$B$3:$B$23,0),MATCH(A20,calendrier!$C$2:$BC$2,0)) -> Bleu | D20: AX442 | E20: 11 | F20: =VLOOKUP(D20,référence!$A:$C,3,FALSE) -> UB méditerranien | I20: 40717 | J20: =SUM(N20,R20,V20) -> 39705 | K20: =I20-J20 -> 1012 | L20: 13681 | M20: 73 | N20: 13596 | O20: =IFERROR(((L20-N20)/L20),"") -> 0.0062129961 | P20: 13783 | Q20: 113 | R20: 13674 | S20: =IFERROR(((P20-R20)/P20),"") -> 0.0079082928 | T20: 12496 | U20: 92 | V20: 12435 | W20: =IFERROR(((T20-V20)/T20),"") -> 0.0048815621 | X20: 0
A21: P1W1 | B21: mercredi aprem | C21: =INDEX(calendrier!$C$3:$BC$23,MATCH(B21,calendrier!$B$3:$B$23,0),MATCH(A21,calendrier!$C$2:$BC$2,0)) -> Bleu | D21: KH217 | E21: 12 | F21: =VLOOKUP(D21,référence!$A:$C,3,FALSE) -> UB méditerranien | I21: 30720 | J21: =SUM(N21,R21,V21) -> 31869 | K21: =I21-J21 -> -1149 | L21: 10608 | M21: 76 | N21: 10487 | O21: =IFERROR(((L21-N21)/L21),"") -> 0.011406486 | P21: 10727 | Q21: 33 | R21: 10674 | S21: =IFERROR(((P21-R21)/P21),"") -> 0.0049408036 | T21: 10740 | U21: 30 | V21: 10708 | W21: =IFERROR(((T21-V21)/T21),"") -> 0.0029795158 | X21: 0
A22: P1W1 | B22: mercredi aprem | C22: =INDEX(calendrier!$C$3:$BC$23,MATCH(B22,calendrier!$B$3:$B$23,0),MATCH(A22,calendrier!$C$2:$BC$2,0)) -> Bleu | D22: BM79T | E22: 13 | F22: =VLOOKUP(D22,référence!$A:$C,3,FALSE) -> UB méditerranien | I22: 126720 | J22: =SUM(N22,R22,V22) -> 4159 | K22: =I22-J22 -> 122561 | L22: 568 | M22: 12 | N22: 553 | O22: =IFERROR(((L22-N22)/L22),"") -> 0.026408451 | P22: 831 | Q22: 1 | R22: 829 | S22: =IFERROR(((P22-R22)/P22),"") -> 0.0024067389 | T22: 2792 | U22: 1 | V22: 2777 | W22: =IFERROR(((T22-V22)/T22),"") -> 0.0053724928 | X22: 0
A23: P1W1 | B23: vendredi nuit | C23: =INDEX(calendrier!$C$3:$BC$23,MATCH(B23,calendrier!$B$3:$B$23,0),MATCH(A23,calendrier!$C$2:$BC$2,0)) -> Orange | D23: BM79T | E23: 13 | F23: =VLOOKUP(D23,référence!$A:$C,3,FALSE) -> UB méditerranien | I23: 122561 | J23: =SUM(N23,R23,V23) -> 90400 | K23: =I23-J23 -> 32161 | L23: 27984 | M23: 134 | N23: 27697 | O23: =IFERROR(((L23-N23)/L23),"") -> 0.01025586 | P23: 29624 | Q23: 187 | R23: 29359 | S23: =IFERROR(((P23-R23)/P23),"") -> 0.0089454496 | T23: 33579 | U23: 320 | V23: 33344 | W23: =IFERROR(((T23-V23)/T23),"") -> 0.0069984216 | X23: 3
A24: P1W1 | B24: jeudi matin | C24: =INDEX(calendrier!$C$3:$BC$23,MATCH(B24,calendrier!$B$3:$B$23,0),MATCH(A24,calendrier!$C$2:$BC$2,0)) -> Rouge | D24: BM79T | E24: 13 | F24: =VLOOKUP(D24,référence!$A:$C,3,FALSE) -> UB méditerranien | I24: 32161 | J24: =SUM(N24,R24,V24) -> 26243 | K24: =I24-J24 -> 5918 | L24: 8636 | M24: 53 | N24: 8589 | O24: =IFERROR(((L24-N24)/L24),"") -> 0.0054423344 | P24: 8480 | Q24: 66 | R24: 8393 | S24: =IFERROR(((P24-R24)/P24),"") -> 0.010259434 | T24: 9416 | U24: 23 | V24: 9261 | W24: =IFERROR(((T24-V24)/T24),"") -> 0.016461342 | X24: 0 | Y24: 208758 | Z24: 17
A25: P1W1 | B25: jeudi matin | C25: =INDEX(calendrier!$C$3:$BC$23,MATCH(B25,calendrier!$B$3:$B$23,0),MATCH(A25,calendrier!$C$2:$BC$2,0)) -> Rouge | D25: TW709 | E25: 14 | F25: =VLOOKUP(D25,référence!$A:$C,3,FALSE) -> UB rissoto mushroom | I25: 7680 | J25: =SUM(N25,R25,V25) -> 6942 | K25: =I25-J25 -> 738 | L25: 3560 | M25: 24 | N25: 3483 | O25: =IFERROR(((L25-N25)/L25),"") -> 0.021629213 | P25: 3554 | Q25: 39 | R25: 3459 | S25: =IFERROR(((P25-R25)/P25),"") -> 0.026730445 | T25: 0 | U25: 0 | V25: 0 | W25: =IFERROR(((T25-V25)/T25),"") | X25: 0
A26: P1W1 | B26: jeudi matin | C26: =INDEX(calendrier!$C$3:$BC$23,MATCH(B26,calendrier!$B$3:$B$23,0),MATCH(A26,calendrier!$C$2:$BC$2,0)) -> Rouge | D26: TN903 | E26: 15 | F26: =VLOOKUP(D26,référence!$A:$C,3,FALSE) -> UB rissoto mushroom | I26: 18432 | J26: =SUM(N26,R26,V26) -> 17675 | K26: =I26-J26 -> 757 | L26: 3402 | M26: 19 | N26: 3378 | O26: =IFERROR(((L26-N26)/L26),"") -> 0.0070546737 | P26: 3671 | Q26: 25 | R26: 3649 | S26: =IFERROR(((P26-R26)/P26),"") -> 0.0059929175 | T26: 10865 | U26: 37 | V26: 10648 | W26: =IFERROR(((T26-V26)/T26),"") -> 0.019972388 | X26: 0
A27: P1W1 | B27: jeudi matin | C27: =INDEX(calendrier!$C$3:$BC$23,MATCH(B27,calendrier!$B$3:$B$23,0),MATCH(A27,calendrier!$C$2:$BC$2,0)) -> Rouge | D27: XD083 | E27: 16 | F27: =VLOOKUP(D27,référence!$A:$C,3,FALSE) -> UB rissoto mushroom | I27: 3840 | J27: =SUM(N27,R27,V27) -> 2893 | K27: =I27-J27 -> 947 | L27: 1234 | M27: 8 | N27: 1175 | O27: =IFERROR(((L27-N27)/L27),"") -> 0.047811994 | P27: 1770 | Q27: 12 | R27: 1718 | S27: =IFERROR(((P27-R27)/P27),"") -> 0.029378531 | T27: 0 | U27: 0 | V27: 0 | W27: =IFERROR(((T27-V27)/T27),"") | X27: 0
A28: P1W1 | B28: jeudi matin | C28: =INDEX(calendrier!$C$3:$BC$23,MATCH(B28,calendrier!$B$3:$B$23,0),MATCH(A28,calendrier!$C$2:$BC$2,0)) -> Rouge | D28: BK58D | E28: 17 | F28: =VLOOKUP(D28,référence!$A:$C,3,FALSE) -> UB rissoto mushroom | I28: 19200 | J28: =SUM(N28,R28,V28) -> 20423 | K28: =I28-J28 -> -1223 | L28: 6845 | M28: 37 | N28: 6729 | O28: =IFERROR(((L28-N28)/L28),"") -> 0.016946676 | P28: 6906 | Q28: 59 | R28: 6771 | S28: =IFERROR(((P28-R28)/P28),"") -> 0.019548219 | T28: 7029 | U28: 96 | V28: 6923 | W28: =IFERROR(((T28-V28)/T28),"") -> 0.015080381 | X28: 0 | Y28: 48810 | Z28: 4
A29: P1W1 | B29: jeudi aprem | C29: =INDEX(calendrier!$C$3:$BC$23,MATCH(B29,calendrier!$B$3:$B$23,0),MATCH(A29,calendrier!$C$2:$BC$2,0)) -> Bleu | D29: XD080 | E29: 18 | F29: =VLOOKUP(D29,référence!$A:$C,3,FALSE) -> UB italian herbe | I29: 6912 | J29: =SUM(N29,R29,V29) -> 6876 | K29: =I29-J29 -> 36 | L29: 3474 | M29: 120 | N29: 3363 | O29: =IFERROR(((L29-N29)/L29),"") -> 0.031951641 | P29: 3633 | Q29: 51 | R29: 3513 | S29: =IFERROR(((P29-R29)/P29),"") -> 0.033030553 | T29: 0 | U29: 0 | V29: 0 | W29: =IFERROR(((T29-V29)/T29),"") | X29: 0
A30: P1W1 | B30: jeudi aprem | C30: =INDEX(calendrier!$C$3:$BC$23,MATCH(B30,calendrier!$B$3:$B$23,0),MATCH(A30,calendrier!$C$2:$BC$2,0)) -> Bleu | D30: WM942 | E30: 19 | F30: =VLOOKUP(D30,référence!$A:$C,3,FALSE) -> UB italian herbe | I30: 4608 | J30: =SUM(N30,R30,V30) -> 6830 | K30: =I30-J30 -> -2222 | L30: 0 | M30: 0 | N30: 0 | O30: =IFERROR(((L30-N30)/L30),"") | P30: 0 | Q30: 0 | R30: 0 | S30: =IFERROR(((P30-R30)/P30),"") | T30: 6944 | U30: 219 | V30: 6830 | W30: =IFERROR(((T30-V30)/T30),"") -> 0.016417051 | X30: 0
A31: P1W1 | B31: jeudi aprem | C31: =INDEX(calendrier!$C$3:$BC$23,MATCH(B31,calendrier!$B$3:$B$23,0),MATCH(A31,calendrier!$C$2:$BC$2,0)) -> Bleu | D31: ANC64 | E31: 20 | F31: =VLOOKUP(D31,référence!$A:$C,3,FALSE) -> UB italian herbe | I31: 29952 | J31: =SUM(N31,R31,V31) -> 25551 | K31: =I31-J31 -> 4401 | L31: 9308 | M31: 88 | N31: 9118 | O31: =IFERROR(((L31-N31)/L31),"") -> 0.020412548 | P31: 8031 | Q31: 157 | R31: 7997 | S31: =IFERROR(((P31-R31)/P31),"") -> 0.0042335948 | T31: 8646 | U31: 47 | V31: 8436 | W31: =IFERROR(((T31-V31)/T31),"") -> 0.024288688 | X31: 0 | Y31: 39980 | Z31: 4
A32: P1W1 | B32: jeudi aprem | C32: =INDEX(calendrier!$C$3:$BC$23,MATCH(B32,calendrier!$B$3:$B$23,0),MATCH(A32,calendrier!$C$2:$BC$2,0)) -> Bleu | D32: AX433 | E32: 21 | F32: =VLOOKUP(D32,référence!$A:$C,3,FALSE) -> UB long grain | I32: 24576 | J32: =SUM(N32,R32,V32) -> 21545 | K32: =I32-J32 -> 3031 | L32: 5960 | M32: 101 | N32: 5849 | O32: =IFERROR(((L32-N32)/L32),"") -> 0.018624161 | P32: 7787 | Q32: 111 | R32: 7633 | S32: =IFERROR(((P32-R32)/P32),"") -> 0.019776551 | T32: 8149 | U32: 71 | V32: 8063 | W32: =IFERROR(((T32-V32)/T32),"") -> 0.010553442 | X32: 0
A33: P1W1 | B33: jeudi nuit | C33: =INDEX(calendrier!$C$3:$BC$23,MATCH(B33,calendrier!$B$3:$B$23,0),MATCH(A33,calendrier!$C$2:$BC$2,0)) -> Orange | D33: AX433 | E33: 21 | F33: =VLOOKUP(D33,référence!$A:$C,3,FALSE) -> UB long grain | I33: 3031 | J33: =SUM(N33,R33,V33) -> 2822 | K33: =I33-J33 -> 209 | L33: 822 | M33: 35 | N33: 797 | O33: =IFERROR(((L33-N33)/L33),"") -> 0.030413625 | P33: 906 | Q33: 54 | R33: 899 | S33: =IFERROR(((P33-R33)/P33),"") -> 0.0077262693 | T33: 1139 | U33: 44 | V33: 1126 | W33: =IFERROR(((T33-V33)/T33),"") -> 0.011413521 | X33: 0
A34: P1W1 | B34: jeudi nuit | C34: =INDEX(calendrier!$C$3:$BC$23,MATCH(B34,calendrier!$B$3:$B$23,0),MATCH(A34,calendrier!$C$2:$BC$2,0)) -> Orange | D34: WF134 | E34: 22 | F34: =VLOOKUP(D34,référence!$A:$C,3,FALSE) -> UB long grain | I34: 30720 | J34: =SUM(N34,R34,V34) -> 28534 | K34: =I34-J34 -> 2186 | L34: 9846 | M34: 25 | N34: 9786 | O34: =IFERROR(((L34-N34)/L34),"") -> 0.0060938452 | P34: 9826 | Q34: 59 | R34: 9799 | S34: =IFERROR(((P34-R34)/P34),"") -> 0.0027478119 | T34: 9013 | U34: 26 | V34: 8949 | W34: =IFERROR(((T34-V34)/T34),"") -> 0.0071008543 | X34: 0 | Y34: 53303 | Z34: 8
A35: P1W1 | B35: jeudi nuit | C35: =INDEX(calendrier!$C$3:$BC$23,MATCH(B35,calendrier!$B$3:$B$23,0),MATCH(A35,calendrier!$C$2:$BC$2,0)) -> Orange | D35: WF163 | E35: 23 | F35: =VLOOKUP(D35,référence!$A:$C,3,FALSE) -> UB mushroom | I35: 84480 | J35: =SUM(N35,R35,V35) -> 49295 | K35: =I35-J35 -> 35185 | L35: 20818 | M35: 49 | N35: 20611 | O35: =IFERROR(((L35-N35)/L35),"") -> 0.0099433183 | P35: 20347 | Q35: 217 | R35: 20115 | S35: =IFERROR(((P35-R35)/P35),"") -> 0.011402172 | T35: 8894 | U35: 50 | V35: 8569 | W35: =IFERROR(((T35-V35)/T35),"") -> 0.036541489 | X35: 0
A36: P1W1 | B36: vendredi matin | C36: =INDEX(calendrier!$C$3:$BC$23,MATCH(B36,calendrier!$B$3:$B$23,0),MATCH(A36,calendrier!$C$2:$BC$2,0)) -> Vert | D36: wf163 | E36: 23 | F36: =VLOOKUP(D36,référence!$A:$C,3,FALSE) -> UB mushroom | I36: 35185 | J36: =SUM(N36,R36,V36) -> 32575 | K36: =I36-J36 -> 2610 | L36: 11097 | M36: 59 | N36: 10995 | O36: =IFERROR(((L36-N36)/L36),"") -> 0.0091916734 | P36: 10635 | Q36: 179 | R36: 10571 | S36: =IFERROR(((P36-R36)/P36),"") -> 0.0060178655 | T36: 11167 | U36: 19 | V36: 11009 | W36: =IFERROR(((T36-V36)/T36),"") -> 0.014148831 | X36: 0 | Y36: 82857 | Z36: 6
A37: P1W1 | B37: vendredi matin | C37: =INDEX(calendrier!$C$3:$BC$23,MATCH(B37,calendrier!$B$3:$B$23,0),MATCH(A37,calendrier!$C$2:$BC$2,0)) -> Vert | D37: ef352 | E37: 24 | F37: =VLOOKUP(D37,référence!$A:$C,3,FALSE) -> UB veg pilau | I37: 10752 | J37: =SUM(N37,R37,V37) -> 10348 | K37: =I37-J37 -> 404 | L37: 7007 | M37: 74 | N37: 6807 | O37: =IFERROR(((L37-N37)/L37),"") -> 0.028542886 | P37: 3686 | Q37: 163 | R37: 3541 | S37: =IFERROR(((P37-R37)/P37),"") -> 0.039338036 | T37: 0 | U37: 0 | V37: 0 | W37: =IFERROR(((T37-V37)/T37),"") | X37: 0
A38: P1W1 | B38: vendredi matin | C38: =INDEX(calendrier!$C$3:$BC$23,MATCH(B38,calendrier!$B$3:$B$23,0),MATCH(A38,calendrier!$C$2:$BC$2,0)) -> Vert | D38: as55m | E38: 25 | F38: =VLOOKUP(D38,référence!$A:$C,3,FALSE) -> UB veg pilau | I38: 39936 | J38: =SUM(N38,R38,V38) -> 41526 | K38: =I38-J38 -> -1590 | L38: 13257 | M38: 97 | N38: 13092 | O38: =IFERROR(((L38-N38)/L38),"") -> 0.012446255 | P38: 10755 | Q38: 221 | R38: 10642 | S38: =IFERROR(((P38-R38)/P38),"") -> 0.010506741 | T38: 18045 | U38: 64 | V38: 17792 | W38: =IFERROR(((T38-V38)/T38),"") -> 0.014020504 | X38: 2
A39: P1W1 | B39: vendredi matin | C39: =INDEX(calendrier!$C$3:$BC$23,MATCH(B39,calendrier!$B$3:$B$23,0),MATCH(A39,calendrier!$C$2:$BC$2,0)) -> Vert | D39: av28g | E39: 26 | F39: =VLOOKUP(D39,référence!$A:$C,3,FALSE) -> UB veg pilau | I39: 71424 | J39: =SUM(N39,R39,V39) -> 1352 | K39: =I39-J39 -> 70072 | L39: 0 | M39: 0 | N39: 0 | O39: =IFERROR(((L39-N39)/L39),"") | P39: 0 | Q39: 0 | R39: 0 | S39: =IFERROR(((P39-R39)/P39),"") | T39: 1352 | U39: 0 | V39: 1352 | W39: =IFERROR(((T39-V39)/T39),"") -> 0 | X39: 0
A40: P1W1 | B40: vendredi aprem | C40: =INDEX(calendrier!$C$3:$BC$23,MATCH(B40,calendrier!$B$3:$B$23,0),MATCH(A40,calendrier!$C$2:$BC$2,0)) -> Rouge | D40: AV28G | E40: 26 | F40: =VLOOKUP(D40,référence!$A:$C,3,FALSE) -> UB veg pilau | I40: 70072 | J40: =SUM(N40,R40,V40) -> 66624 | K40: =I40-J40 -> 3448 | L40: 22339 | M40: 105 | N40: 22155 | O40: =IFERROR(((L40-N40)/L40),"") -> 0.0082367161 | P40: 21744 | Q40: 279 | R40: 21609 | S40: =IFERROR(((P40-R40)/P40),"") -> 0.0062086093 | T40: 22998 | U40: 21 | V40: 22860 | W40: =IFERROR(((T40-V40)/T40),"") -> 0.0060005218 | X40: 0 | Y40: 121086 | Z40: 10
A41: P1W1 | B41: vendredi aprem | C41: =INDEX(calendrier!$C$3:$BC$23,MATCH(B41,calendrier!$B$3:$B$23,0),MATCH(A41,calendrier!$C$2:$BC$2,0)) -> Rouge | D41: MP262 | E41: 27 | F41: =VLOOKUP(D41,référence!$A:$C,3,FALSE) -> UB mexicain | I41: 3072 | J41: =SUM(N41,R41,V41) -> 3408 | K41: =I41-J41 -> -336 | L41: 0 | M41: 0 | N41: 0 | O41: =IFERROR(((L41-N41)/L41),"") | P41: 0 | Q41: 0 | R41: 0 | S41: =IFERROR(((P41-R41)/P41),"") | T41: 3504 | U41: 11 | V41: 3408 | W41: =IFERROR(((T41-V41)/T41),"") -> 0.02739726 | X41: 0
A42: P1W1 | B42: vendredi aprem | C42: =INDEX(calendrier!$C$3:$BC$23,MATCH(B42,calendrier!$B$3:$B$23,0),MATCH(A42,calendrier!$C$2:$BC$2,0)) -> Rouge | D42: LR742 | E42: 28 | F42: =VLOOKUP(D42,référence!$A:$C,3,FALSE) -> UB mexicain | I42: 3072 | J42: =SUM(N42,R42,V42) -> 3444 | K42: =I42-J42 -> -372 | L42: 1716 | M42: 10 | N42: 1660 | O42: =IFERROR(((L42-N42)/L42),"") -> 0.032634033 | P42: 1840 | Q42: 34 | R42: 1784 | S42: =IFERROR(((P42-R42)/P42),"") -> 0.030434783 | T42: 0 | U42: 0 | V42: 0 | W42: =IFERROR(((T42-V42)/T42),"") | X42: 0
A43: P1W1 | B43: vendredi aprem | C43: =INDEX(calendrier!$C$3:$BC$23,MATCH(B43,calendrier!$B$3:$B$23,0),MATCH(A43,calendrier!$C$2:$BC$2,0)) -> Rouge | D43: JM168 | E43: 29 | F43: =VLOOKUP(D43,référence!$A:$C,3,FALSE) -> UB mexicain | I43: 44544 | J43: =SUM(N43,R43,V43) -> 14419 | K43: =I43-J43 -> 30125 | L43: 4845 | M43: 33 | N43: 4764 | O43: =IFERROR(((L43-N43)/L43),"") -> 0.016718266 | P43: 5153 | Q43: 64 | R43: 5085 | S43: =IFERROR(((P43-R43)/P43),"") -> 0.013196196 | T43: 4601 | U43: 8 | V43: 4570 | W43: =IFERROR(((T43-V43)/T43),"") -> 0.0067376657 | X43: 0
A44: P1W1 | B44: vendredi nuit | C44: =INDEX(calendrier!$C$3:$BC$23,MATCH(B44,calendrier!$B$3:$B$23,0),MATCH(A44,calendrier!$C$2:$BC$2,0)) -> Orange | D44: JM168 | E44: 29 | F44: =VLOOKUP(D44,référence!$A:$C,3,FALSE) -> UB mexicain | I44: 30125 | J44: =SUM(N44,R44,V44) -> 24275 | K44: =I44-J44 -> 5850 | L44: 8132 | M44: 35 | N44: 8007 | O44: =IFERROR(((L44-N44)/L44),"") -> 0.015371372 | P44: 8086 | Q44: 106 | R44: 8015 | S44: =IFERROR(((P44-R44)/P44),"") -> 0.0087806085 | T44: 8354 | U44: 20 | V44: 8253 | W44: =IFERROR(((T44-V44)/T44),"") -> 0.012090017 | X44: 0 | Y44: 46175 | Z44: 4
A45: P1W1 | B45: vendredi nuit | C45: =INDEX(calendrier!$C$3:$BC$23,MATCH(B45,calendrier!$B$3:$B$23,0),MATCH(A45,calendrier!$C$2:$BC$2,0)) -> Orange | D45: AD17V | E45: 30 | F45: =VLOOKUP(D45,référence!$A:$C,3,FALSE) -> UB basmati 130g | I45: 68000 | J45: =SUM(N45,R45,V45) -> 67789 | K45: =I45-J45 -> 211 | L45: 23318 | M45: 126 | N45: 23307 | O45: =IFERROR(((L45-N45)/L45),"") -> 0.00047173857 | P45: 21552 | Q45: 260 | R45: 21052 | S45: =IFERROR(((P45-R45)/P45),"") -> 0.023199703 | T45: 23739 | U45: 135 | V45: 23430 | W45: =IFERROR(((T45-V45)/T45),"") -> 0.013016555 | X45: 0 | Y45: 68750 | Z45: 6
A46: P1W1 | B46: samedi matin | C46: =INDEX(calendrier!$C$3:$BC$23,MATCH(B46,calendrier!$B$3:$B$23,0),MATCH(A46,calendrier!$C$2:$BC$2,0)) -> Vert | D46: ef356 | E46: 31 | F46: =VLOOKUP(D46,référence!$A:$C,3,FALSE) -> UB basmati | I46: 9216 | J46: =SUM(N46,R46,V46) -> 10388 | K46: =I46-J46 -> -1172 | L46: 3971 | M46: 11 | N46: 3931 | O46: =IFERROR(((L46-N46)/L46),"") -> 0.010073029 | P46: 3112 | Q46: 122 | R46: 3013 | S46: =IFERROR(((P46-R46)/P46),"") -> 0.031812339 | T46: 3614 | U46: 31 | V46: 3444 | W46: =IFERROR(((T46-V46)/T46),"") -> 0.047039292 | X46: 2
A47: P1W1 | B47: samedi matin | C47: =INDEX(calendrier!$C$3:$BC$23,MATCH(B47,calendrier!$B$3:$B$23,0),MATCH(A47,calendrier!$C$2:$BC$2,0)) -> Vert | D47: ad42d | E47: 32 | F47: =VLOOKUP(D47,référence!$A:$C,3,FALSE) -> UB basmati | I47: 13056 | J47: =SUM(N47,R47,V47) -> 16892 | K47: =I47-J47 -> -3836 | L47: 5717 | M47: 9 | N47: 5711 | O47: =IFERROR(((L47-N47)/L47),"") -> 0.0010495015 | P47: 5680 | Q47: 55 | R47: 5648 | S47: =IFERROR(((P47-R47)/P47),"") -> 0.0056338028 | T47: 5541 | U47: 40 | V47: 5533 | W47: =IFERROR(((T47-V47)/T47),"") -> 0.0014437827 | X47: 0 | Y47: 27577 | Z47: 5
A48: P1W1 | B48: samedi matin | C48: =INDEX(calendrier!$C$3:$BC$23,MATCH(B48,calendrier!$B$3:$B$23,0),MATCH(A48,calendrier!$C$2:$BC$2,0)) -> Vert | D48: kh154 | E48: 33 | F48: =VLOOKUP(D48,référence!$A:$C,3,FALSE) -> UB basmati FR | I48: 19968 | J48: =SUM(N48,R48,V48) -> 20999 | K48: =I48-J48 -> -1031 | L48: 7128 | M48: 10 | N48: 7066 | O48: =IFERROR(((L48-N48)/L48),"") -> 0.008698092 | P48: 7002 | Q48: 59 | R48: 6971 | S48: =IFERROR(((P48-R48)/P48),"") -> 0.0044273065 | T48: 7028 | U48: 39 | V48: 6962 | W48: =IFERROR(((T48-V48)/T48),"") -> 0.0093910074 | X48: 0
A49: P1W1 | B49: samedi matin | C49: =INDEX(calendrier!$C$3:$BC$23,MATCH(B49,calendrier!$B$3:$B$23,0),MATCH(A49,calendrier!$C$2:$BC$2,0)) -> Vert | D49: bm79m | E49: 34 | F49: =VLOOKUP(D49,référence!$A:$C,3,FALSE) -> UB basmati FR | I49: 80640 | J49: =SUM(N49,R49,V49) -> 34964 | K49: =I49-J49 -> 45676 | L49: 12390 | M49: 50 | N49: 12297 | O49: =IFERROR(((L49-N49)/L49),"") -> 0.0075060533 | P49: 11526 | Q49: 45 | R49: 11488 | S49: =IFERROR(((P49-R49)/P49),"") -> 0.003296894 | T49: 11288 | U49: 71 | V49: 11179 | W49: =IFERROR(((T49-V49)/T49),"") -> 0.0096562721 | X49: 0
A50: P1W1 | B50: samedi aprem | C50: =INDEX(calendrier!$C$3:$BC$23,MATCH(B50,calendrier!$B$3:$B$23,0),MATCH(A50,calendrier!$C$2:$BC$2,0)) -> Rouge | D50: bm79m | E50: 34 | F50: =VLOOKUP(D50,référence!$A:$C,3,FALSE) -> UB basmati FR | I50: 45676 | J50: =SUM(N50,R50,V50) -> 41335 | K50: =I50-J50 -> 4341 | L50: 13953 | M50: 57 | N50: 13808 | O50: =IFERROR(((L50-N50)/L50),"") -> 0.01039203 | P50: 14804 | Q50: 107 | R50: 14549 | S50: =IFERROR(((P50-R50)/P50),"") -> 0.017225074 | T50: 13224 | U50: 167 | V50: 12978 | W50: =IFERROR(((T50-V50)/T50),"") -> 0.018602541 | X50: 0 | Y50: 107362 | Z50: 15
A51: P1W2 | B51: Dimanche nuit | C51: =INDEX(calendrier!$C$3:$BC$23,MATCH(B51,calendrier!$B$3:$B$23,0),MATCH(A51,calendrier!$C$2:$BC$2,0)) -> Rouge | D51: ty181 | E51: 1 | F51: =VLOOKUP(D51,référence!$A:$C,3,FALSE) -> UB long grain & Wild | I51: 3072 | J51: =SUM(N51,R51,V51) -> 3615 | K51: =I51-J51 -> -543 | L51: 0 | M51: 0 | N51: 0 | O51: =IFERROR(((L51-N51)/L51),"") | P51: 0 | Q51: 0 | R51: 0 | S51: =IFERROR(((P51-R51)/P51),"") | T51: 3667 | U51: 15 | V51: 3615 | W51: =IFERROR(((T51-V51)/T51),"") -> 0.014180529 | X51: 2
A52: P1W2 | B52: Dimanche nuit | C52: =INDEX(calendrier!$C$3:$BC$23,MATCH(B52,calendrier!$B$3:$B$23,0),MATCH(A52,calendrier!$C$2:$BC$2,0)) -> Rouge | D52: mg562 | E52: 2 | F52: =VLOOKUP(D52,référence!$A:$C,3,FALSE) -> UB long grain & Wild | I52: 85248 | J52: =SUM(N52,R52,V52) -> 83322 | K52: =I52-J52 -> 1926 | L52: 22762 | M52: 192 | N52: 22207 | O52: =IFERROR(((L52-N52)/L52),"") -> 0.024382743 | P52: 31207 | Q52: 392 | R52: 30701 | S52: =IFERROR(((P52-R52)/P52),"") -> 0.016214311 | T52: 30632 | U52: 91 | V52: 30414 | W52: =IFERROR(((T52-V52)/T52),"") -> 0.0071167407 | X52: 4 | Y52: 88180 | Z52: 13
A53: P1W2 | B53: lundi matin | C53: =INDEX(calendrier!$C$3:$BC$23,MATCH(B53,calendrier!$B$3:$B$23,0),MATCH(A53,calendrier!$C$2:$BC$2,0)) -> Bleu | D53: AC09B | E53: 3 | F53: =VLOOKUP(D53,référence!$A:$C,3,FALSE) -> UB méditerranien | I53: 145920 | J53: =SUM(N53,R53,V53) -> 97382 | K53: =I53-J53 -> 48538 | L53: 32986 | M53: 223 | N53: 32738 | O53: =IFERROR(((L53-N53)/L53),"") -> 0.0075183411 | P53: 32952 | Q53: 302 | R53: 32619 | S53: =IFERROR(((P53-R53)/P53),"") -> 0.010105608 | T53: 32282 | U53: 204 | V53: 32025 | W53: =IFERROR(((T53-V53)/T53),"") -> 0.0079610929 | X53: 0
A54: P1W2 | B54: lundi aprem | C54: =INDEX(calendrier!$C$3:$BC$23,MATCH(B54,calendrier!$B$3:$B$23,0),MATCH(A54,calendrier!$C$2:$BC$2,0)) -> Vert | D54: AC09B | E54: 3 | F54: =VLOOKUP(D54,référence!$A:$C,3,FALSE) -> UB méditerranien | I54: 48538 | J54: =SUM(N54,R54,V54) -> 48075 | K54: =I54-J54 -> 463 | L54: 16737 | M54: 172 | N54: 16625 | O54: =IFERROR(((L54-N54)/L54),"") -> 0.0066917608 | P54: 17295 | Q54: 110 | R54: 17203 | S54: =IFERROR(((P54-R54)/P54),"") -> 0.0053194565 | T54: 14453 | U54: 244 | V54: 14247 | W54: =IFERROR(((T54-V54)/T54),"") -> 0.014253096 | X54: 6
A55: P1W2 | B55: lundi aprem | C55: =INDEX(calendrier!$C$3:$BC$23,MATCH(B55,calendrier!$B$3:$B$23,0),MATCH(A55,calendrier!$C$2:$BC$2,0)) -> Vert | D55: kh217 | E55: 4 | F55: =VLOOKUP(D55,référence!$A:$C,3,FALSE) -> UB méditerranien | I55: 33792 | J55: =SUM(N55,R55,V55) -> 35058 | K55: =I55-J55 -> -1266 | L55: 12687 | M55: 92 | N55: 12587 | O55: =IFERROR(((L55-N55)/L55),"") -> 0.007882084 | P55: 12110 | Q55: 137 | R55: 12009 | S55: =IFERROR(((P55-R55)/P55),"") -> 0.0083402147 | T55: 10624 | U55: 174 | V55: 10462 | W55: =IFERROR(((T55-V55)/T55),"") -> 0.015248494 | X55: 0
A56: P1W2 | B56: lundi aprem | C56: =INDEX(calendrier!$C$3:$BC$23,MATCH(B56,calendrier!$B$3:$B$23,0),MATCH(A56,calendrier!$C$2:$BC$2,0)) -> Vert | D56: bm79t | E56: 5 | F56: =VLOOKUP(D56,référence!$A:$C,3,FALSE) -> UB méditerranien | I56: 27648 | J56: =SUM(N56,R56,V56) -> 8734 | K56: =I56-J56 -> 18914 | L56: 2643 | M56: 18 | N56: 2562 | O56: =IFERROR(((L56-N56)/L56),"") -> 0.030646992 | P56: 2784 | Q56: 24 | R56: 2756 | S56: =IFERROR(((P56-R56)/P56),"") -> 0.010057471 | T56: 3450 | U56: 55 | V56: 3416 | W56: =IFERROR(((T56-V56)/T56),"") -> 0.0098550725 | X56: 0
A57: P1W2 | B57: lundi aprem | C57: =INDEX(calendrier!$C$3:$BC$23,MATCH(B57,calendrier!$B$3:$B$23,0),MATCH(A57,calendrier!$C$2:$BC$2,0)) -> Vert | D57: fm392 | E57: 6 | F57: =VLOOKUP(D57,référence!$A:$C,3,FALSE) -> UB méditerranien | I57: 4608 | J57: =SUM(N57,R57,V57) -> 1088 | K57: =I57-J57 -> 3520 | L57: 0 | M57: 0 | N57: 0 | O57: =IFERROR(((L57-N57)/L57),"") | P57: 0 | Q57: 0 | R57: 0 | S57: =IFERROR(((P57-R57)/P57),"") | T57: 1092 | U57: 4 | V57: 1088 | W57: =IFERROR(((T57-V57)/T57),"") -> 0.0036630037 | X57: 0
A58: P1W2 | B58: lundi nuit | C58: =INDEX(calendrier!$C$3:$BC$23,MATCH(B58,calendrier!$B$3:$B$23,0),MATCH(A58,calendrier!$C$2:$BC$2,0)) -> Rouge | D58: bm79t | E58: 5 | F58: =VLOOKUP(D58,référence!$A:$C,3,FALSE) -> UB méditerranien | I58: 18914 | J58: =SUM(N58,R58,V58) -> 11396 | K58: =I58-J58 -> 7518 | L58: 5966 | M58: 8 | N58: 5898 | O58: =IFERROR(((L58-N58)/L58),"") -> 0.011397922 | P58: 5662 | Q58: 25 | R58: 5498 | S58: =IFERROR(((P58-R58)/P58),"") -> 0.02896503 | T58: 0 | U58: 0 | V58: 0 | W58: =IFERROR(((T58-V58)/T58),"") | X58: 0
A59: P1W2 | B59: lundi nuit | C59: =INDEX(calendrier!$C$3:$BC$23,MATCH(B59,calendrier!$B$3:$B$23,0),MATCH(A59,calendrier!$C$2:$BC$2,0)) -> Rouge | D59: FM392 | E59: 6 | F59: =VLOOKUP(D59,référence!$A:$C,3,FALSE) -> UB méditerranien | I59: 3520 | J59: =SUM(N59,R59,V59) -> 5916 | K59: =I59-J59 -> -2396 | L59: 0 | M59: 0 | N59: 0 | O59: =IFERROR(((L59-N59)/L59),"") | P59: 0 | Q59: 0 | R59: 0 | S59: =IFERROR(((P59-R59)/P59),"") | T59: 5949 | U59: 31 | V59: 5916 | W59: =IFERROR(((T59-V59)/T59),"") -> 0.0055471508 | X59: 0 | Y59: 209430 | Z59: 17
A60: P1W2 | B60: lundi nuit | C60: =INDEX(calendrier!$C$3:$BC$23,MATCH(B60,calendrier!$B$3:$B$23,0),MATCH(A60,calendrier!$C$2:$BC$2,0)) -> Rouge | D60: WR097 | E60: 9 | F60: =VLOOKUP(D60,référence!$A:$C,3,FALSE) -> UB tomate olive | I60: 21504 | J60: =SUM(N60,R60,V60) -> 21021 | K60: =I60-J60 -> 483 | L60: 7021 | M60: 8 | N60: 6954 | O60: =IFERROR(((L60-N60)/L60),"") -> 0.0095428002 | P60: 7211 | Q60: 71 | R60: 7080 | S60: =IFERROR(((P60-R60)/P60),"") -> 0.01816669 | T60: 7074 | U60: 87 | V60: 6987 | W60: =IFERROR(((T60-V60)/T60),"") -> 0.012298558 | X60: 0
A61: P1W2 | B61: lundi nuit | C61: =INDEX(calendrier!$C$3:$BC$23,MATCH(B61,calendrier!$B$3:$B$23,0),MATCH(A61,calendrier!$C$2:$BC$2,0)) -> Rouge | D61: WK851 | E61: 10 | F61: =VLOOKUP(D61,référence!$A:$C,3,FALSE) -> UB tomate olive | I61: 6912 | J61: =SUM(N61,R61,V61) -> 6979 | K61: =I61-J61 -> -67 | L61: 793 | M61: 2 | N61: 768 | O61: =IFERROR(((L61-N61)/L61),"") -> 0.031525851 | P61: 6242 | Q61: 29 | R61: 6211 | S61: =IFERROR(((P61-R61)/P61),"") -> 0.0049663569 | T61: 0 | U61: 0 | V61: 0 | W61: =IFERROR(((T61-V61)/T61),"") | X61: 0
A62: P1W2 | B62: lundi nuit | C62: =INDEX(calendrier!$C$3:$BC$23,MATCH(B62,calendrier!$B$3:$B$23,0),MATCH(A62,calendrier!$C$2:$BC$2,0)) -> Rouge | D62: LB104 | E62: 11 | F62: =VLOOKUP(D62,référence!$A:$C,3,FALSE) -> UB tomate olive | I62: 3072 | J62: =SUM(N62,R62,V62) -> 3387 | K62: =I62-J62 -> -315 | L62: 0 | M62: 0 | N62: 0 | O62: =IFERROR(((L62-N62)/L62),"") | P62: 0 | Q62: 0 | R62: 0 | S62: =IFERROR(((P62-R62)/P62),"") | T62: 3438 | U62: 18 | V62: 3387 | W62: =IFERROR(((T62-V62)/T62),"") -> 0.014834206 | X62: 0
A63: P1W2 | B63: lundi nuit | C63: =INDEX(calendrier!$C$3:$BC$23,MATCH(B63,calendrier!$B$3:$B$23,0),MATCH(A63,calendrier!$C$2:$BC$2,0)) -> Rouge | D63: WF068 | E63: 12 | F63: =VLOOKUP(D63,référence!$A:$C,3,FALSE) -> UB tomate olive | I63: 102144 | J63: =SUM(N63,R63,V63) -> 29767 | K63: =I63-J63 -> 72377 | L63: 9995 | M63: 69 | N63: 9927 | O63: =IFERROR(((L63-N63)/L63),"") -> 0.0068034017 | P63: 4573 | Q63: 32 | R63: 4536 | S63: =IFERROR(((P63-R63)/P63),"") -> 0.0080909687 | T63: 15360 | U63: 131 | V63: 15304 | W63: =IFERROR(((T63-V63)/T63),"") -> 0.0036458333 | X63: 0
A64: P1W2 | B64: mardi matin | C64: =INDEX(calendrier!$C$3:$BC$23,MATCH(B64,calendrier!$B$3:$B$23,0),MATCH(A64,calendrier!$C$2:$BC$2,0)) -> Bleu | D64: WF068 | E64: 12 | F64: =VLOOKUP(D64,référence!$A:$C,3,FALSE) -> UB tomate olive | I64: 102144 | J64: =SUM(N64,R64,V64) -> 67993 | K64: =I64-J64 -> 34151 | L64: 18544 | M64: 82 | N64: 18388 | O64: =IFERROR(((L64-N64)/L64),"") -> 0.0084124245 | P64: 17606 | Q64: 82 | R64: 17420 | S64: =IFERROR(((P64-R64)/P64),"") -> 0.01056458 | T64: 32343 | U64: 220 | V64: 32185 | W64: =IFERROR(((T64-V64)/T64),"") -> 0.0048851374 | X64: 0 | Y64: 130096 | Z64: 12
A65: P1W2 | B65: mardi aprem | C65: =INDEX(calendrier!$C$3:$BC$23,MATCH(B65,calendrier!$B$3:$B$23,0),MATCH(A65,calendrier!$C$2:$BC$2,0)) -> Vert | D65: AX05E | E65: 13 | F65: =VLOOKUP(D65,référence!$A:$C,3,FALSE) -> UB paella | I65: 4608 | J65: =SUM(N65,R65,V65) -> 7030 | K65: =I65-J65 -> -2422 | L65: 0 | M65: 0 | N65: 0 | O65: =IFERROR(((L65-N65)/L65),"") | P65: 0 | Q65: 0 | R65: 0 | S65: =IFERROR(((P65-R65)/P65),"") | T65: 7167 | U65: 38 | V65: 7030 | W65: =IFERROR(((T65-V65)/T65),"") -> 0.01911539 | X65: 2
A66: P1W2 | B66: mardi aprem | C66: =INDEX(calendrier!$C$3:$BC$23,MATCH(B66,calendrier!$B$3:$B$23,0),MATCH(A66,calendrier!$C$2:$BC$2,0)) -> Vert | D66: am68c | E66: 14 | F66: =VLOOKUP(D66,référence!$A:$C,3,FALSE) -> UB paella | I66: 17664 | J66: =SUM(N66,R66,V66) -> 17736 | K66: =I66-J66 -> -72 | L66: 8709 | M66: 86 | N66: 8494 | O66: =IFERROR(((L66-N66)/L66),"") -> 0.024687105 | P66: 9453 | Q66: 81 | R66: 9242 | S66: =IFERROR(((P66-R66)/P66),"") -> 0.022320956 | T66: 0 | U66: 0 | V66: 0 | W66: =IFERROR(((T66-V66)/T66),"") | X66: 0
A67: P1W2 | B67: mardi aprem | C67: =INDEX(calendrier!$C$3:$BC$23,MATCH(B67,calendrier!$B$3:$B$23,0),MATCH(A67,calendrier!$C$2:$BC$2,0)) -> Vert | D67: mg551 | E67: 15 | F67: =VLOOKUP(D67,référence!$A:$C,3,FALSE) -> UB paella | I67: 18432 | J67: =SUM(N67,R67,V67) -> 20653 | K67: =I67-J67 -> -2221 | L67: 6761 | M67: 168 | N67: 6553 | O67: =IFERROR(((L67-N67)/L67),"") -> 0.03076468 | P67: 7310 | Q67: 157 | R67: 7123 | S67: =IFERROR(((P67-R67)/P67),"") -> 0.025581395 | T67: 7048 | U67: 34 | V67: 6977 | W67: =IFERROR(((T67-V67)/T67),"") -> 0.01007378 | X67: 0
A68: P1W2 | B68: mardi aprem | C68: =INDEX(calendrier!$C$3:$BC$23,MATCH(B68,calendrier!$B$3:$B$23,0),MATCH(A68,calendrier!$C$2:$BC$2,0)) -> Vert | D68: ax01h | E68: 16 | F68: =VLOOKUP(D68,référence!$A:$C,3,FALSE) -> UB paella | I68: 80640 | J68: =SUM(N68,R68,V68) -> 49288 | K68: =I68-J68 -> 31352 | L68: 14299 | M68: 244 | N68: 14018 | O68: =IFERROR(((L68-N68)/L68),"") -> 0.019651724 | P68: 15506 | Q68: 128 | R68: 15352 | S68: =IFERROR(((P68-R68)/P68),"") -> 0.0099316394 | T68: 20156 | U68: 117 | V68: 19918 | W68: =IFERROR(((T68-V68)/T68),"") -> 0.011807898 | X68: 0
A69: P1W2 | B69: mardi nuit | C69: =INDEX(calendrier!$C$3:$BC$23,MATCH(B69,calendrier!$B$3:$B$23,0),MATCH(A69,calendrier!$C$2:$BC$2,0)) -> Rouge | D69: ax01h | E69: 16 | F69: =VLOOKUP(D69,référence!$A:$C,3,FALSE) -> UB paella | I69: 31352 | J69: =SUM(N69,R69,V69) -> 22527 | K69: =I69-J69 -> 8825 | L69: 7280 | M69: 49 | N69: 7190 | O69: =IFERROR(((L69-N69)/L69),"") -> 0.012362637 | P69: 7615 | Q69: 53 | R69: 7529 | S69: =IFERROR(((P69-R69)/P69),"") -> 0.0112935 | T69: 7880 | U69: 19 | V69: 7808 | W69: =IFERROR(((T69-V69)/T69),"") -> 0.0091370558 | X69: 0 | Y69: 119025 | Z69: 12
A70: P1W2 | B70: mardi nuit | C70: =INDEX(calendrier!$C$3:$BC$23,MATCH(B70,calendrier!$B$3:$B$23,0),MATCH(A70,calendrier!$C$2:$BC$2,0)) -> Rouge | D70: kh128 | E70: 17 | F70: =VLOOKUP(D70,référence!$A:$C,3,FALSE) -> UB long grain | I70: 23040 | J70: =SUM(N70,R70,V70) -> 24529 | K70: =I70-J70 -> -1489 | L70: 8799 | M70: 28 | N70: 8699 | O70: =IFERROR(((L70-N70)/L70),"") -> 0.011364928 | P70: 8881 | Q70: 93 | R70: 8776 | S70: =IFERROR(((P70-R70)/P70),"") -> 0.011822993 | T70: 7098 | U70: 51 | V70: 7054 | W70: =IFERROR(((T70-V70)/T70),"") -> 0.0061989293 | X70: 0
A71: P1W2 | B71: mardi nuit | C71: =INDEX(calendrier!$C$3:$BC$23,MATCH(B71,calendrier!$B$3:$B$23,0),MATCH(A71,calendrier!$C$2:$BC$2,0)) -> Rouge | D71: ef358 | E71: 18 | F71: =VLOOKUP(D71,référence!$A:$C,3,FALSE) -> UB long grain | I71: 19968 | J71: =SUM(N71,R71,V71) -> 20181 | K71: =I71-J71 -> -213 | L71: 4482 | M71: 41 | N71: 4425 | O71: =IFERROR(((L71-N71)/L71),"") -> 0.012717537 | P71: 5481 | Q71: 11 | R71: 5466 | S71: =IFERROR(((P71-R71)/P71),"") -> 0.0027367269 | T71: 10327 | U71: 49 | V71: 10290 | W71: =IFERROR(((T71-V71)/T71),"") -> 0.0035828411 | X71: 0
A72: P1W2 | B72: mardi nuit | C72: =INDEX(calendrier!$C$3:$BC$23,MATCH(B72,calendrier!$B$3:$B$23,0),MATCH(A72,calendrier!$C$2:$BC$2,0)) -> Rouge | D72: ad42c | E72: 19 | F72: =VLOOKUP(D72,référence!$A:$C,3,FALSE) -> UB long grain | I72: 19968 | J72: =SUM(N72,R72,V72) -> 17311 | K72: =I72-J72 -> 2657 | L72: 5719 | M72: 26 | N72: 5574 | O72: =IFERROR(((L72-N72)/L72),"") -> 0.025354083 | P72: 5805 | Q72: 31 | R72: 5761 | S72: =IFERROR(((P72-R72)/P72),"") -> 0.0075796727 | T72: 6080 | U72: 58 | V72: 5976 | W72: =IFERROR(((T72-V72)/T72),"") -> 0.017105263 | X72: 0
A73: P1W2 | B73: mercredi matin | C73: =INDEX(calendrier!$C$3:$BC$23,MATCH(B73,calendrier!$B$3:$B$23,0),MATCH(A73,calendrier!$C$2:$BC$2,0)) -> Orange | D73: AD42C | E73: 19 | F73: =VLOOKUP(D73,référence!$A:$C,3,FALSE) -> UB long grain | I73: 2657 | J73: =SUM(N73,R73,V73) -> 3278 | K73: =I73-J73 -> -621 | L73: 1159 | M73: 63 | N73: 1119 | O73: =IFERROR(((L73-N73)/L73),"") -> 0.034512511 | P73: 1137 | Q73: 7 | R73: 1130 | S73: =IFERROR(((P73-R73)/P73),"") -> 0.0061565523 | T73: 1042 | U73: 14 | V73: 1029 | W73: =IFERROR(((T73-V73)/T73),"") -> 0.012476008 | X73: 0
A74: P1W2 | B74: mercredi matin | C74: =INDEX(calendrier!$C$3:$BC$23,MATCH(B74,calendrier!$B$3:$B$23,0),MATCH(A74,calendrier!$C$2:$BC$2,0)) -> Orange | D74: AX433 | E74: 20 | F74: =VLOOKUP(D74,référence!$A:$C,3,FALSE) -> UB long grain | I74: 55296 | J74: =SUM(N74,R74,V74) -> 52817 | K74: =I74-J74 -> 2479 | L74: 18101 | M74: 57 | N74: 17908 | O74: =IFERROR(((L74-N74)/L74),"") -> 0.010662394 | P74: 17189 | Q74: 44 | R74: 17110 | S74: =IFERROR(((P74-R74)/P74),"") -> 0.0045959625 | T74: 17888 | U74: 129 | V74: 17799 | W74: =IFERROR(((T74-V74)/T74),"") -> 0.0049754025 | X74: 0
A75: P1W2 | B75: mercredi matin | C75: =INDEX(calendrier!$C$3:$BC$23,MATCH(B75,calendrier!$B$3:$B$23,0),MATCH(A75,calendrier!$C$2:$BC$2,0)) -> Orange | D75: wf134 | E75: 21 | F75: =VLOOKUP(D75,référence!$A:$C,3,FALSE) -> UB long grain | I75: 49152 | J75: =SUM(N75,R75,V75) -> 27540 | K75: =I75-J75 -> 21612 | L75: 5016 | M75: 83 | N75: 4896 | O75: =IFERROR(((L75-N75)/L75),"") -> 0.023923445 | P75: 7691 | Q75: 89 | R75: 7603 | S75: =IFERROR(((P75-R75)/P75),"") -> 0.011441945 | T75: 15120 | U75: 47 | V75: 15041 | W75: =IFERROR(((T75-V75)/T75),"") -> 0.0052248677 | X75: 0
A76: P1W2 | B76: mercredi aprem | C76: =INDEX(calendrier!$C$3:$BC$23,MATCH(B76,calendrier!$B$3:$B$23,0),MATCH(A76,calendrier!$C$2:$BC$2,0)) -> Vert | D76: WF134 | E76: 21 | F76: =VLOOKUP(D76,référence!$A:$C,3,FALSE) -> UB long grain | I76: 21612 | J76: =SUM(N76,R76,V76) -> 26820 | K76: =I76-J76 -> -5208 | L76: 8532 | M76: 36 | N76: 8452 | O76: =IFERROR(((L76-N76)/L76),"") -> 0.0093764651 | P76: 8596 | Q76: 34 | R76: 8575 | S76: =IFERROR(((P76-R76)/P76),"") -> 0.0024429967 | T76: 9857 | U76: 29 | V76: 9793 | W76: =IFERROR(((T76-V76)/T76),"") -> 0.0064928477 | X76: 0 | Y76: 173857 | Z76: 26
A77: P1W2 | B77: mercredi aprem | C77: =INDEX(calendrier!$C$3:$BC$23,MATCH(B77,calendrier!$B$3:$B$23,0),MATCH(A77,calendrier!$C$2:$BC$2,0)) -> Vert | D77: JM168 | E77: 22 | F77: =VLOOKUP(D77,référence!$A:$C,3,FALSE) -> UB mexicain | I77: 99072 | J77: =SUM(N77,R77,V77) -> 66142 | K77: =I77-J77 -> 32930 | L77: 21462 | M77: 469 | N77: 21134 | O77: =IFERROR(((L77-N77)/L77),"") -> 0.015282825 | P77: 21858 | Q77: 128 | R77: 21672 | S77: =IFERROR(((P77-R77)/P77),"") -> 0.0085094702 | T77: 23630 | U77: 18 | V77: 23336 | W77: =IFERROR(((T77-V77)/T77),"") -> 0.012441811 | X77: 0
A78: P1W2 | B78: mercredi nuit | C78: =INDEX(calendrier!$C$3:$BC$23,MATCH(B78,calendrier!$B$3:$B$23,0),MATCH(A78,calendrier!$C$2:$BC$2,0)) -> Bleu | D78: JM168 | E78: 22 | F78: =VLOOKUP(D78,référence!$A:$C,3,FALSE) -> UB mexicain | I78: 32930 | J78: =SUM(N78,R78,V78) -> 30691 | K78: =I78-J78 -> 2239 | L78: 10011 | M78: 10 | N78: 9864 | O78: =IFERROR(((L78-N78)/L78),"") -> 0.014683848 | P78: 9749 | Q78: 96 | R78: 9656 | S78: =IFERROR(((P78-R78)/P78),"") -> 0.0095394399 | T78: 11235 | U78: 18 | V78: 11171 | W78: =IFERROR(((T78-V78)/T78),"") -> 0.0056964842 | X78: 0 | Y78: 97699 | Z78: 8
A79: P1W2 | B79: mercredi nuit | C79: =INDEX(calendrier!$C$3:$BC$23,MATCH(B79,calendrier!$B$3:$B$23,0),MATCH(A79,calendrier!$C$2:$BC$2,0)) -> Bleu | D79: LR743 | E79: 23 | F79: =VLOOKUP(D79,référence!$A:$C,3,FALSE) -> UB risi bisi | I79: 9200 | J79: =SUM(N79,R79,V79) -> 10363 | K79: =I79-J79 -> -1163 | L79: 5234 | M79: 34 | N79: 5117 | O79: =IFERROR(((L79-N79)/L79),"") -> 0.02235384 | P79: 5305 | Q79: 49 | R79: 5246 | S79: =IFERROR(((P79-R79)/P79),"") -> 0.011121583 | T79: 0 | U79: 0 | V79: 0 | W79: =IFERROR(((T79-V79)/T79),"") | X79: 0
A80: P1W2 | B80: mercredi nuit | C80: =INDEX(calendrier!$C$3:$BC$23,MATCH(B80,calendrier!$B$3:$B$23,0),MATCH(A80,calendrier!$C$2:$BC$2,0)) -> Bleu | D80: JM169 | E80: 24 | F80: =VLOOKUP(D80,référence!$A:$C,3,FALSE) -> UB risi bisi | I80: 94464 | J80: =SUM(N80,R80,V80) -> 46141 | K80: =I80-J80 -> 48323 | L80: 14041 | M80: 55 | N80: 13613 | O80: =IFERROR(((L80-N80)/L80),"") -> 0.030482159 | P80: 15021 | Q80: 135 | R80: 14916 | S80: =IFERROR(((P80-R80)/P80),"") -> 0.0069902137 | T80: 17917 | U80: 205 | V80: 17612 | W80: =IFERROR(((T80-V80)/T80),"") -> 0.017022939 | X80: 0
A81: P1W2 | B81: jeudi matin | C81: =INDEX(calendrier!$C$3:$BC$23,MATCH(B81,calendrier!$B$3:$B$23,0),MATCH(A81,calendrier!$C$2:$BC$2,0)) -> Orange | D81: JM169 | E81: 24 | F81: =VLOOKUP(D81,référence!$A:$C,3,FALSE) -> UB risi bisi | I81: 48323 | J81: =SUM(N81,R81,V81) -> 42508 | K81: =I81-J81 -> 5815 | L81: 16245 | M81: 54 | N81: 16049 | O81: =IFERROR(((L81-N81)/L81),"") -> 0.012065251 | P81: 14447 | Q81: 165 | R81: 14184 | S81: =IFERROR(((P81-R81)/P81),"") -> 0.018204472 | T81: 12469 | U81: 148 | V81: 12275 | W81: =IFERROR(((T81-V81)/T81),"") -> 0.015558585 | X81: 0 | Y81: 100625 | Z81: 6
A82: P1W2 | B82: jeudi matin | C82: =INDEX(calendrier!$C$3:$BC$23,MATCH(B82,calendrier!$B$3:$B$23,0),MATCH(A82,calendrier!$C$2:$BC$2,0)) -> Orange | D82: BD71R | E82: 25 | F82: =VLOOKUP(D82,référence!$A:$C,3,FALSE) -> UB basmati jasmin | I82: 5376 | J82: =SUM(N82,R82,V82) -> 6815 | K82: =I82-J82 -> -1439 | L82: 2750 | M82: 10 | N82: 2643 | O82: =IFERROR(((L82-N82)/L82),"") -> 0.038909091 | P82: 4321 | Q82: 18 | R82: 4172 | S82: =IFERROR(((P82-R82)/P82),"") -> 0.034482759 | T82: 0 | U82: 0 | V82: 0 | W82: =IFERROR(((T82-V82)/T82),"") | X82: 0
A83: P1W2 | B83: jeudi matin | C83: =INDEX(calendrier!$C$3:$BC$23,MATCH(B83,calendrier!$B$3:$B$23,0),MATCH(A83,calendrier!$C$2:$BC$2,0)) -> Orange | D83: AG82J | E83: 26 | F83: =VLOOKUP(D83,référence!$A:$C,3,FALSE) -> UB basmati jasmin | I83: 58368 | J83: =SUM(N83,R83,V83) -> 39677 | K83: =I83-J83 -> 18691 | L83: 11725 | M83: 22 | N83: 11646 | O83: =IFERROR(((L83-N83)/L83),"") -> 0.0067377399 | P83: 11721 | Q83: 93 | R83: 11643 | S83: =IFERROR(((P83-R83)/P83),"") -> 0.0066547223 | T83: 16652 | U83: 27 | V83: 16388 | W83: =IFERROR(((T83-V83)/T83),"") -> 0.015853951 | X83: 0
A84: P1W2 | B84: jeudi aprem | C84: =INDEX(calendrier!$C$3:$BC$23,MATCH(B84,calendrier!$B$3:$B$23,0),MATCH(A84,calendrier!$C$2:$BC$2,0)) -> Vert | D84: ag82j | E84: 26 | F84: =VLOOKUP(D84,référence!$A:$C,3,FALSE) -> UB basmati jasmin | I84: 18691 | J84: =SUM(N84,R84,V84) -> 16771 | K84: =I84-J84 -> 1920 | L84: 5255 | M84: 12 | N84: 5213 | O84: =IFERROR(((L84-N84)/L84),"") -> 0.0079923882 | P84: 5972 | Q84: 29 | R84: 5923 | S84: =IFERROR(((P84-R84)/P84),"") -> 0.0082049565 | T84: 5710 | U84: 147 | V84: 5635 | W84: =IFERROR(((T84-V84)/T84),"") -> 0.013134851 | X84: 0 | Y84: 63858 | Z84: 9
A85: P1W2 | B85: jeudi aprem | C85: =INDEX(calendrier!$C$3:$BC$23,MATCH(B85,calendrier!$B$3:$B$23,0),MATCH(A85,calendrier!$C$2:$BC$2,0)) -> Vert | D85: xj000 | E85: 27 | F85: =VLOOKUP(D85,référence!$A:$C,3,FALSE) -> UB djuvec | I85: 156672 | J85: =SUM(N85,R85,V85) -> 78007 | K85: =I85-J85 -> 78665 | L85: 27340 | M85: 98 | N85: 27068 | O85: =IFERROR(((L85-N85)/L85),"") -> 0.009948793 | P85: 27013 | Q85: 219 | R85: 26717 | S85: =IFERROR(((P85-R85)/P85),"") -> 0.010957687 | T85: 24536 | U85: 145 | V85: 24222 | W85: =IFERROR(((T85-V85)/T85),"") -> 0.012797522 | X85: 2
A86: P1W2 | B86: jeudi nuit | C86: =INDEX(calendrier!$C$3:$BC$23,MATCH(B86,calendrier!$B$3:$B$23,0),MATCH(A86,calendrier!$C$2:$BC$2,0)) -> Bleu | D86: XJ000 | E86: 27 | F86: =VLOOKUP(D86,référence!$A:$C,3,FALSE) -> UB djuvec | I86: 156672 | J86: =SUM(N86,R86,V86) -> 76432 | K86: =I86-J86 -> 80240 | L86: 23807 | M86: 154 | N86: 23626 | O86: =IFERROR(((L86-N86)/L86),"") -> 0.0076028059 | P86: 23557 | Q86: 237 | R86: 23201 | S86: =IFERROR(((P86-R86)/P86),"") -> 0.015112281 | T86: 29866 | U86: 211 | V86: 29605 | W86: =IFERROR(((T86-V86)/T86),"") -> 0.0087390344 | X86: 2 | Y86: 155870 | Z86: 14
A87: P1W2 | B87: jeudi nuit | C87: =INDEX(calendrier!$C$3:$BC$23,MATCH(B87,calendrier!$B$3:$B$23,0),MATCH(A87,calendrier!$C$2:$BC$2,0)) -> Bleu | D87: AX439 | E87: 28 | F87: =VLOOKUP(D87,référence!$A:$C,3,FALSE) -> UB basmati | I87: 5376 | J87: =SUM(N87,R87,V87) -> 1560 | K87: =I87-J87 -> 3816 | L87: 685 | M87: 22 | N87: 609 | O87: =IFERROR(((L87-N87)/L87),"") -> 0.11094891 | P87: 1019 | Q87: 28 | R87: 951 | S87: =IFERROR(((P87-R87)/P87),"") -> 0.06673209 | T87: 0 | U87: 0 | V87: 0 | W87: =IFERROR(((T87-V87)/T87),"") | X87: 0
A88: P1W2 | B88: vendredi matin | C88: =INDEX(calendrier!$C$3:$BC$23,MATCH(B88,calendrier!$B$3:$B$23,0),MATCH(A88,calendrier!$C$2:$BC$2,0)) -> Rouge | D88: AX439 | E88: 28 | F88: =VLOOKUP(D88,référence!$A:$C,3,FALSE) -> UB basmati | I88: 3816 | J88: =SUM(N88,R88,V88) -> 4749 | K88: =I88-J88 -> -933 | L88: 1045 | M88: 20 | N88: 1001 | O88: =IFERROR(((L88-N88)/L88),"") -> 0.042105263 | P88: 3783 | Q88: 39 | R88: 3748 | S88: =IFERROR(((P88-R88)/P88),"") -> 0.0092519165 | T88: 0 | U88: 0 | V88: 0 | W88: =IFERROR(((T88-V88)/T88),"") | X88: 0
A89: P1W2 | B89: jeudi nuit | C89: =INDEX(calendrier!$C$3:$BC$23,MATCH(B89,calendrier!$B$3:$B$23,0),MATCH(A89,calendrier!$C$2:$BC$2,0)) -> Bleu | D89: EF356 | E89: 29 | F89: =VLOOKUP(D89,référence!$A:$C,3,FALSE) -> UB basmati | I89: 10752 | J89: =SUM(N89,R89,V89) -> 2091 | K89: =I89-J89 -> 8661 | L89: 0 | M89: 0 | N89: 0 | O89: =IFERROR(((L89-N89)/L89),"") | P89: 0 | Q89: 0 | R89: 0 | S89: =IFERROR(((P89-R89)/P89),"") | T89: 2127 | U89: 9 | V89: 2091 | W89: =IFERROR(((T89-V89)/T89),"") -> 0.016925247 | X89: 0
A90: P1W2 | B90: vendredi matin | C90: =INDEX(calendrier!$C$3:$BC$23,MATCH(B90,calendrier!$B$3:$B$23,0),MATCH(A90,calendrier!$C$2:$BC$2,0)) -> Rouge | D90: EF356 | E90: 29 | F90: =VLOOKUP(D90,référence!$A:$C,3,FALSE) -> UB basmati | I90: 8661 | J90: =SUM(N90,R90,V90) -> 8148 | K90: =I90-J90 -> 513 | L90: 3168 | M90: 34 | N90: 3135 | O90: =IFERROR(((L90-N90)/L90),"") -> 0.010416667 | P90: 3680 | Q90: 26 | R90: 3665 | S90: =IFERROR(((P90-R90)/P90),"") -> 0.004076087 | T90: 1355 | U90: 0 | V90: 1348 | W90: =IFERROR(((T90-V90)/T90),"") -> 0.0051660517 | X90: 0
A91: P1W2 | B91: vendredi matin | C91: =INDEX(calendrier!$C$3:$BC$23,MATCH(B91,calendrier!$B$3:$B$23,0),MATCH(A91,calendrier!$C$2:$BC$2,0)) -> Rouge | D91: AD42D | E91: 30 | F91: =VLOOKUP(D91,référence!$A:$C,3,FALSE) -> UB basmati | I91: 12288 | J91: =SUM(N91,R91,V91) -> 16054 | K91: =I91-J91 -> -3766 | L91: 2968 | M91: 8 | N91: 2966 | O91: =IFERROR(((L91-N91)/L91),"") -> 0.00067385445 | P91: 3165 | Q91: 10 | R91: 3163 | S91: =IFERROR(((P91-R91)/P91),"") -> 0.00063191153 | T91: 9969 | U91: 19 | V91: 9925 | W91: =IFERROR(((T91-V91)/T91),"") -> 0.0044136824 | X91: 3 | Y91: 32871 | Z91: 5
A92: P1W2 | B92: vendredi matin | C92: =INDEX(calendrier!$C$3:$BC$23,MATCH(B92,calendrier!$B$3:$B$23,0),MATCH(A92,calendrier!$C$2:$BC$2,0)) -> Rouge | D92: KH154 | E92: 31 | F92: =VLOOKUP(D92,référence!$A:$C,3,FALSE) -> UB basmati FR | I92: 35328 | J92: =SUM(N92,R92,V92) -> 33773 | K92: =I92-J92 -> 1555 | L92: 12013 | M92: 179 | N92: 11564 | O92: =IFERROR(((L92-N92)/L92),"") -> 0.037376176 | P92: 12011 | Q92: 128 | R92: 11664 | S92: =IFERROR(((P92-R92)/P92),"") -> 0.028890184 | T92: 10742 | U92: 86 | V92: 10545 | W92: =IFERROR(((T92-V92)/T92),"") -> 0.018339229 | X92: 2
A93: P1W2 | B93: vendredi matin | C93: =INDEX(calendrier!$C$3:$BC$23,MATCH(B93,calendrier!$B$3:$B$23,0),MATCH(A93,calendrier!$C$2:$BC$2,0)) -> Rouge | D93: BM79M | E93: 32 | F93: =VLOOKUP(D93,référence!$A:$C,3,FALSE) -> UB basmati FR | I93: 65280 | J93: =SUM(N93,R93,V93) -> 27248 | K93: =I93-J93 -> 38032 | L93: 8742 | M93: 61 | N93: 8655 | O93: =IFERROR(((L93-N93)/L93),"") -> 0.0099519561 | P93: 7950 | Q93: 188 | R93: 7864 | S93: =IFERROR(((P93-R93)/P93),"") -> 0.01081761 | T93: 11078 | U93: 121 | V93: 10729 | W93: =IFERROR(((T93-V93)/T93),"") -> 0.031503882 | X93: 0
A94: P1W2 | B94: vendredi aprem | C94: =INDEX(calendrier!$C$3:$BC$23,MATCH(B94,calendrier!$B$3:$B$23,0),MATCH(A94,calendrier!$C$2:$BC$2,0)) -> Orange | D94: BM79M | E94: 32 | F94: =VLOOKUP(D94,référence!$A:$C,3,FALSE) -> UB basmati FR | I94: 38032 | J94: =SUM(N94,R94,V94) -> 31856 | K94: =I94-J94 -> 6176 | L94: 10647 | M94: 68 | N94: 10503 | O94: =IFERROR(((L94-N94)/L94),"") -> 0.013524937 | P94: 10270 | Q94: 217 | R94: 10159 | S94: =IFERROR(((P94-R94)/P94),"") -> 0.010808179 | T94: 11334 | U94: 26 | V94: 11194 | W94: =IFERROR(((T94-V94)/T94),"") -> 0.012352215 | X94: 0 | Y94: 94729 | Z94: 14
A95: P1W2 | B95: vendredi aprem | C95: =INDEX(calendrier!$C$3:$BC$23,MATCH(B95,calendrier!$B$3:$B$23,0),MATCH(A95,calendrier!$C$2:$BC$2,0)) -> Orange | D95: WF163 | E95: 33 | F95: =VLOOKUP(D95,référence!$A:$C,3,FALSE) -> UB mushroom | I95: 42240 | J95: =SUM(N95,R95,V95) -> 40311 | K95: =I95-J95 -> 1929 | L95: 13559 | M95: 41 | N95: 13413 | O95: =IFERROR(((L95-N95)/L95),"") -> 0.010767756 | P95: 13511 | Q95: 136 | R95: 13388 | S95: =IFERROR(((P95-R95)/P95),"") -> 0.0091036933 | T95: 13613 | U95: 41 | V95: 13510 | W95: =IFERROR(((T95-V95)/T95),"") -> 0.0075662969 | X95: 0 | Y95: 40614 | Z95: 3
A96: P1W2 | B96: vendredi aprem | C96: =INDEX(calendrier!$C$3:$BC$23,MATCH(B96,calendrier!$B$3:$B$23,0),MATCH(A96,calendrier!$C$2:$BC$2,0)) -> Orange | D96: BM79T | E96: 34 | F96: =VLOOKUP(D96,référence!$A:$C,3,FALSE) -> UB méditerranien | I96: 16896 | J96: =SUM(N96,R96,V96) -> 6064 | K96: =I96-J96 -> 10832 | L96: 1766 | M96: 50 | N96: 1658 | O96: =IFERROR(((L96-N96)/L96),"") -> 0.061155153 | P96: 1829 | Q96: 47 | R96: 1735 | S96: =IFERROR(((P96-R96)/P96),"") -> 0.051394204 | T96: 2744 | U96: 29 | V96: 2671 | W96: =IFERROR(((T96-V96)/T96),"") -> 0.026603499 | X96: 0
A97: P1W2 | B97: vendredi nuit | C97: =INDEX(calendrier!$C$3:$BC$23,MATCH(B97,calendrier!$B$3:$B$23,0),MATCH(A97,calendrier!$C$2:$BC$2,0)) -> Bleu | D97: BM79T | E97: 34 | F97: =VLOOKUP(D97,référence!$A:$C,3,FALSE) -> UB méditerranien | I97: 10832 | J97: =SUM(N97,R97,V97) -> 11356 | K97: =I97-J97 -> -524 | L97: 3642 | M97: 10 | N97: 3621 | O97: =IFERROR(((L97-N97)/L97),"") -> 0.0057660626 | P97: 3491 | Q97: 24 | R97: 3430 | S97: =IFERROR(((P97-R97)/P97),"") -> 0.017473503 | T97: 4426 | U97: 58 | V97: 4305 | W97: =IFERROR(((T97-V97)/T97),"") -> 0.027338455 | X97: 2
A98: P1W2 | B98: vendredi nuit | C98: =INDEX(calendrier!$C$3:$BC$23,MATCH(B98,calendrier!$B$3:$B$23,0),MATCH(A98,calendrier!$C$2:$BC$2,0)) -> Bleu | D98: AX442 | E98: 35 | F98: =VLOOKUP(D98,référence!$A:$C,3,FALSE) -> UB méditerranien | I98: 58368 | J98: =SUM(N98,R98,V98) -> 56166 | K98: =I98-J98 -> 2202 | L98: 18266 | M98: 146 | N98: 18136 | O98: =IFERROR(((L98-N98)/L98),"") -> 0.0071170481 | P98: 19231 | Q98: 179 | R98: 19123 | S98: =IFERROR(((P98-R98)/P98),"") -> 0.0056159326 | T98: 19007 | U98: 52 | V98: 18907 | W98: =IFERROR(((T98-V98)/T98),"") -> 0.0052612196 | X98: 0 | Y98: 74264 | Z98: 6
A99: P1W2 | B99: vendredi nuit | C99: =INDEX(calendrier!$C$3:$BC$23,MATCH(B99,calendrier!$B$3:$B$23,0),MATCH(A99,calendrier!$C$2:$BC$2,0)) -> Bleu | D99: lb062 | E99: 36 | F99: =VLOOKUP(D99,référence!$A:$C,3,FALSE) -> UB cantonais | I99: 21508 | J99: =SUM(N99,R99,V99) -> 21108 | K99: =I99-J99 -> 400 | L99: 7290 | M99: 64 | N99: 7206 | O99: =IFERROR(((L99-N99)/L99),"") -> 0.011522634 | P99: 6870 | Q99: 98 | R99: 6792 | S99: =IFERROR(((P99-R99)/P99),"") -> 0.011353712 | T99: 7149 | U99: 40 | V99: 7110 | W99: =IFERROR(((T99-V99)/T99),"") -> 0.0054553084 | X99: 0
A100: P1W2 | B100: vendredi nuit | C100: =INDEX(calendrier!$C$3:$BC$23,MATCH(B100,calendrier!$B$3:$B$23,0),MATCH(A100,calendrier!$C$2:$BC$2,0)) -> Bleu | D100: Bm79R | E100: 37 | F100: =VLOOKUP(D100,référence!$A:$C,3,FALSE) -> UB cantonais | I100: 108288 | J100: =SUM(N100,R100,V100) -> 2174 | K100: =I100-J100 -> 106114 | L100: 0 | M100: 0 | N100: 0 | O100: =IFERROR(((L100-N100)/L100),"") | P100: 0 | Q100: 0 | R100: 0 | S100: =IFERROR(((P100-R100)/P100),"") | T100: 2196 | U100: 7 | V100: 2174 | W100: =IFERROR(((T100-V100)/T100),"") -> 0.010018215 | X100: 0
A101: P1W2 | B101: samedi matin | C101: =INDEX(calendrier!$C$3:$BC$23,MATCH(B101,calendrier!$B$3:$B$23,0),MATCH(A101,calendrier!$C$2:$BC$2,0)) -> Rouge | D101: Bm79R | E101: 37 | F101: =VLOOKUP(D101,référence!$A:$C,3,FALSE) -> UB cantonais | I101: 106114 | J101: =SUM(N101,R101,V101) -> 100552 | K101: =I101-J101 -> 5562 | L101: 31792 | M101: 320 | N101: 31411 | O101: =IFERROR(((L101-N101)/L101),"") -> 0.011984147 | P101: 33852 | Q101: 277 | R101: 33667 | S101: =IFERROR(((P101-R101)/P101),"") -> 0.0054649651 | T101: 35670 | U101: 238 | V101: 35474 | W101: =IFERROR(((T101-V101)/T101),"") -> 0.0054948136 | X101: 2
...

Sheet calendrier
C1: 1 | D1: 2 | E1: 3 | F1: 4 | G1: 5 | H1: 6 | I1: 7 | J1: 8 | K1: 9 | L1: 10 | M1: 11 | N1: 12 | O1: 13 | P1: 14 | Q1: 15 | R1: 16 | S1: 17 | T1: 18 | U1: 19 | V1: 20 | W1: 21 | X1: 22 | Y1: 23 | Z1: 24 | AA1: 25 | AB1: 26 | AC1: 27 | AD1: 28 | AE1: 29 | AF1: 30 | AG1: 31 | AH1: 32 | AI1: 33 | AJ1: 34 | AK1: 35 | AL1: 36 | AM1: 37 | AN1: 38 | AO1: 39 | AP1: 40 | AQ1: 41 | AR1: 42 | AS1: 43 | AT1: 44 | AU1: 45 | AV1: 46 | AW1: 47 | AX1: 48 | AY1: 49 | AZ1: 50 | BA1: 51 | BB1: 52 | BC1: 53
C2: P1W1 | D2: P1W2 | E2: P1W3 | F2: P1W4 | G2: P2W1 | H2: P2W2 | I2: P2W3 | J2: P2W4 | K2: P3W1 | L2: P3W2 | M2: P3W3 | N2: P3W4 | O2: P4W1 | P2: P4W2 | Q2: P4W3 | R2: P4W4 | S2: P5W1 | T2: P5W2 | U2: P5W3 | V2: P5W4 | W2: P6W1 | X2: P6W2 | Y2: P6W3 | Z2: P6W4 | AA2: P7W1 | AB2: P7W2 | AC2: P7W3 | AD2: P7W4 | AE2: P8W1 | AF2: P8W2 | AG2: P8W3 | AH2: P8W4 | AI2: P9W1 | AJ2: P9W2 | AK2: P9W3 | AL2: P9W4 | AM2: P10W1 | AN2: P10W2 | AO2: P10W3 | AP2: P10W4 | AQ2: P11W1 | AR2: P11W2 | AS2: P11W3 | AT2: P11W4 | AU2: P12W1 | AV2: P12W2 | AW2: P12W3 | AX2: P12W4 | AY2: P13W1 | AZ2: P13W2 | BA2: P13W3 | BB2: P13W4 | BC2: P13W5
A3: 1 | B3: Dimanche nuit | C3: Vert | D3: Rouge | E3: Orange | F3: Bleu | G3: Vert | H3: Rouge | I3: Orange | J3: Bleu | K3: Vert | L3: Rouge | M3: Orange | N3: Bleu | O3: Vert | P3: Rouge | Q3: Orange | R3: Bleu | S3: Vert | T3: Rouge | U3: Orange | V3: Bleu | W3: Vert | X3: Rouge | Y3: Orange | Z3: Bleu | AA3: Vert | AB3: Rouge | AC3: Orange | AD3: Bleu | AE3: Vert | AF3: Rouge | AG3: Orange | AH3: Bleu | AI3: Vert | AJ3: Rouge | AK3: Orange | AL3: Bleu | AM3: Vert | AN3: Rouge | AO3: Orange | AP3: Bleu | AQ3: Vert | AR3: Rouge | AS3: Orange | AT3: Bleu | AU3: Vert | AV3: Rouge | AW3: Orange | AX3: Bleu | AY3: Vert | AZ3: Rouge | BA3: Orange | BB3: Bleu | BC3: Vert
A4: 2 | B4: lundi matin | C4: Orange | D4: Bleu | E4: Vert | F4: Rouge | G4: Orange | H4: Bleu | I4: Vert | J4: Rouge | K4: Orange | L4: Bleu | M4: Vert | N4: Rouge | O4: Orange | P4: Bleu | Q4: Vert | R4: Rouge | S4: Orange | T4: Bleu | U4: Vert | V4: Rouge | W4: Orange | X4: Bleu | Y4: Vert | Z4: Rouge | AA4: Orange | AB4: Bleu | AC4: Vert | AD4: Rouge | AE4: Orange | AF4: Bleu | AG4: Vert | AH4: Rouge | AI4: Orange | AJ4: Bleu | AK4: Vert | AL4: Rouge | AM4: Orange | AN4: Bleu | AO4: Vert | AP4: Rouge | AQ4: Orange | AR4: Bleu | AS4: Vert | AT4: Rouge | AU4: Orange | AV4: Bleu | AW4: Vert | AX4: Rouge | AY4: Orange | AZ4: Bleu | BA4: Vert | BB4: Rouge | BC4: Orange
A5: 3 | B5: lundi aprem | C5: Bleu | D5: Vert | E5: Rouge | F5: Orange | G5: Bleu | H5: Vert | I5: Rouge | J5: Orange | K5: Bleu | L5: Vert | M5: Rouge | N5: Orange | O5: Bleu | P5: Vert | Q5: Rouge | R5: Orange | S5: Bleu | T5: Vert | U5: Rouge | V5: Orange | W5: Bleu | X5: Vert | Y5: Rouge | Z5: Orange | AA5: Bleu | AB5: Vert | AC5: Rouge | AD5: Orange | AE5: Bleu | AF5: Vert | AG5: Rouge | AH5: Orange | AI5: Bleu | AJ5: Vert | AK5: Rouge | AL5: Orange | AM5: Bleu | AN5: Vert | AO5: Rouge | AP5: Orange | AQ5: Bleu | AR5: Vert | AS5: Rouge | AT5: Orange | AU5: Bleu | AV5: Vert | AW5: Rouge | AX5: Orange | AY5: Bleu | AZ5: Vert | BA5: Rouge | BB5: Orange | BC5: Bleu
A6: 4 | B6: lundi nuit | C6: Vert | D6: Rouge | E6: Orange | F6: Bleu | G6: Vert | H6: Rouge | I6: Orange | J6: Bleu | K6: Vert | L6: Rouge | M6: Orange | N6: Bleu | O6: Vert | P6: Rouge | Q6: Orange | R6: Bleu | S6: Vert | T6: Rouge | U6: Orange | V6: Bleu | W6: Vert | X6: Rouge | Y6: Orange | Z6: Bleu | AA6: Vert | AB6: Rouge | AC6: Orange | AD6: Bleu | AE6: Vert | AF6: Rouge | AG6: Orange | AH6: Bleu | AI6: Vert | AJ6: Rouge | AK6: Orange | AL6: Bleu | AM6: Vert | AN6: Rouge | AO6: Orange | AP6: Bleu | AQ6: Vert | AR6: Rouge | AS6: Orange | AT6: Bleu | AU6: Vert | AV6: Rouge | AW6: Orange | AX6: Bleu | AY6: Vert | AZ6: Rouge | BA6: Orange | BB6: Bleu | BC6: Vert
A7: 5 | B7: mardi matin | C7: Orange | D7: Bleu | E7: Vert | F7: Rouge | G7: Orange | H7: Bleu | I7: Vert | J7: Rouge | K7: Orange | L7: Bleu | M7: Vert | N7: Rouge | O7: Orange | P7: Bleu | Q7: Vert | R7: Rouge | S7: Orange | T7: Bleu | U7: Vert | V7: Rouge | W7: Orange | X7: Bleu | Y7: Vert | Z7: Rouge | AA7: Orange | AB7: Bleu | AC7: Vert | AD7: Rouge | AE7: Orange | AF7: Bleu | AG7: Vert | AH7: Rouge | AI7: Orange | AJ7: Bleu | AK7: Vert | AL7: Rouge | AM7: Orange | AN7: Bleu | AO7: Vert | AP7: Rouge | AQ7: Orange | AR7: Bleu | AS7: Vert | AT7: Rouge | AU7: Orange | AV7: Bleu | AW7: Vert | AX7: Rouge | AY7: Orange | AZ7: Bleu | BA7: Vert | BB7: Rouge | BC7: Orange
A8: 6 | B8: mardi aprem | C8: Bleu | D8: Vert | E8: Rouge | F8: Orange | G8: Bleu | H8: Vert | I8: Rouge | J8: Orange | K8: Bleu | L8: Vert | M8: Rouge | N8: Orange | O8: Bleu | P8: Vert | Q8: Rouge | R8: Orange | S8: Bleu | T8: Vert | U8: Rouge | V8: Orange | W8: Bleu | X8: Vert | Y8: Rouge | Z8: Orange | AA8: Bleu | AB8: Vert | AC8: Rouge | AD8: Orange | AE8: Bleu | AF8: Vert | AG8: Rouge | AH8: Orange | AI8: Bleu | AJ8: Vert | AK8: Rouge | AL8: Orange | AM8: Bleu | AN8: Vert | AO8: Rouge | AP8: Orange | AQ8: Bleu | AR8: Vert | AS8: Rouge | AT8: Orange | AU8: Bleu | AV8: Vert | AW8: Rouge | AX8: Orange | AY8: Bleu | AZ8: Vert | BA8: Rouge | BB8: Orange | BC8: Bleu
A9: 7 | B9: mardi nuit | C9: Vert | D9: Rouge | E9: Orange | F9: Bleu | G9: Vert | H9: Rouge | I9: Orange | J9: Bleu | K9: Vert | L9: Rouge | M9: Orange | N9: Bleu | O9: Vert | P9: Rouge | Q9: Orange | R9: Bleu | S9: Vert | T9: Rouge | U9: Orange | V9: Bleu | W9: Vert | X9: Rouge | Y9: Orange | Z9: Bleu | AA9: Vert | AB9: Rouge | AC9: Orange | AD9: Bleu | AE9: Vert | AF9: Rouge | AG9: Orange | AH9: Bleu | AI9: Vert | AJ9: Rouge | AK9: Orange | AL9: Bleu | AM9: Vert | AN9: Rouge | AO9: Orange | AP9: Bleu | AQ9: Vert | AR9: Rouge | AS9: Orange | AT9: Bleu | AU9: Vert | AV9: Rouge | AW9: Orange | AX9: Bleu | AY9: Vert | AZ9: Rouge | BA9: Orange | BB9: Bleu | BC9: Vert
A10: 8 | B10: mercredi matin | C10: Rouge | D10: Orange | E10: Bleu | F10: Vert | G10: Rouge | H10: Orange | I10: Bleu | J10: Vert | K10: Rouge | L10: Orange | M10: Bleu | N10: Vert | O10: Rouge | P10: Orange | Q10: Bleu | R10: Vert | S10: Rouge | T10: Orange | U10: Bleu | V10: Vert | W10: Rouge | X10: Orange | Y10: Bleu | Z10: Vert | AA10: Rouge | AB10: Orange | AC10: Bleu | AD10: Vert | AE10: Rouge | AF10: Orange | AG10: Bleu | AH10: Vert | AI10: Rouge | AJ10: Orange | AK10: Bleu | AL10: Vert | AM10: Rouge | AN10: Orange | AO10: Bleu | AP10: Vert | AQ10: Rouge | AR10: Orange | AS10: Bleu | AT10: Vert | AU10: Rouge | AV10: Orange | AW10: Bleu | AX10: Vert | AY10: Rouge | AZ10: Orange | BA10: Bleu | BB10: Vert | BC10: Rouge
A11: 9 | B11: mercredi aprem | C11: Bleu | D11: Vert | E11: Rouge | F11: Orange | G11: Bleu | H11: Vert | I11: Rouge | J11: Orange | K11: Bleu | L11: Vert | M11: Rouge | N11: Orange | O11: Bleu | P11: Vert | Q11: Rouge | R11: Orange | S11: Bleu | T11: Vert | U11: Rouge | V11: Orange | W11: Bleu | X11: Vert | Y11: Rouge | Z11: Orange | AA11: Bleu | AB11: Vert | AC11: Rouge | AD11: Orange | AE11: Bleu | AF11: Vert | AG11: Rouge | AH11: Orange | AI11: Bleu | AJ11: Vert | AK11: Rouge | AL11: Orange | AM11: Bleu | AN11: Vert | AO11: Rouge | AP11: Orange | AQ11: Bleu | AR11: Vert | AS11: Rouge | AT11: Orange | AU11: Bleu | AV11: Vert | AW11: Rouge | AX11: Orange | AY11: Bleu | AZ11: Vert | BA11: Rouge | BB11: Orange | BC11: Bleu
A12: 10 | B12: mercredi nuit | C12: Orange | D12: Bleu | E12: Vert | F12: Rouge | G12: Orange | H12: Bleu | I12: Vert | J12: Rouge | K12: Orange | L12: Bleu | M12: Vert | N12: Rouge | O12: Orange | P12: Bleu | Q12: Vert | R12: Rouge | S12: Orange | T12: Bleu | U12: Vert | V12: Rouge | W12: Orange | X12: Bleu | Y12: Vert | Z12: Rouge | AA12: Orange | AB12: Bleu | AC12: Vert | AD12: Rouge | AE12: Orange | AF12: Bleu | AG12: Vert | AH12: Rouge | AI12: Orange | AJ12: Bleu | AK12: Vert | AL12: Rouge | AM12: Orange | AN12: Bleu | AO12: Vert | AP12: Rouge | AQ12: Orange | AR12: Bleu | AS12: Vert | AT12: Rouge | AU12: Orange | AV12: Bleu | AW12: Vert | AX12: Rouge | AY12: Orange | AZ12: Bleu | BA12: Vert | BB12: Rouge | BC12: Orange
A13: 11 | B13: jeudi matin | C13: Rouge | D13: Orange | E13: Bleu | F13: Vert | G13: Rouge | H13: Orange | I13: Bleu | J13: Vert | K13: Rouge | L13: Orange | M13: Bleu | N13: Vert | O13: Rouge | P13: Orange | Q13: Bleu | R13: Vert | S13: Rouge | T13: Orange | U13: Bleu | V13: Vert | W13: Rouge | X13: Orange | Y13: Bleu | Z13: Vert | AA13: Rouge | AB13: Orange | AC13: Bleu | AD13: Vert | AE13: Rouge | AF13: Orange | AG13: Bleu | AH13: Vert | AI13: Rouge | AJ13: Orange | AK13: Bleu | AL13: Vert | AM13: Rouge | AN13: Orange | AO13: Bleu | AP13: Vert | AQ13: Rouge | AR13: Orange | AS13: Bleu | AT13: Vert | AU13: Rouge | AV13: Orange | AW13: Bleu | AX13: Vert | AY13: Rouge | AZ13: Orange | BA13: Bleu | BB13: Vert | BC13: Rouge
A14: 12 | B14: jeudi aprem | C14: Bleu | D14: Vert | E14: Rouge | F14: Orange | G14: Bleu | H14: Vert | I14: Rouge | J14: Orange | K14: Bleu | L14: Vert | M14: Rouge | N14: Orange | O14: Bleu | P14: Vert | Q14: Rouge | R14: Orange | S14: Bleu | T14: Vert | U14: Rouge | V14: Orange | W14: Bleu | X14: Vert | Y14: Rouge | Z14: Orange | AA14: Bleu | AB14: Vert | AC14: Rouge | AD14: Orange | AE14: Bleu | AF14: Vert | AG14: Rouge | AH14: Orange | AI14: Bleu | AJ14: Vert | AK14: Rouge | AL14: Orange | AM14: Bleu | AN14: Vert | AO14: Rouge | AP14: Orange | AQ14: Bleu | AR14: Vert | AS14: Rouge | AT14: Orange | AU14: Bleu | AV14: Vert | AW14: Rouge | AX14: Orange | AY14: Bleu | AZ14: Vert | BA14: Rouge | BB14: Orange | BC14: Bleu
... A23: 21 | B23: dimanche aprem | C23: Extra | D23: Extra | E23: Extra | F23: Extra | G23: Extra | H23: Extra | I23: Extra | J23: Extra | K23: Extra | L23: Extra | M23: Extra | N23: Extra | O23: Extra | P23: Extra | Q23: Extra | R23: Extra | S23: Extra | T23: Extra | U23: Extra | V23: Extra | W23: Extra | X23: Extra | Y23: Extra | Z23: Extra | AA23: Extra | AB23: Extra | AC23: Extra | AD23: Extra | AE23: Extra | AF23: Extra | AG23: Extra | AH23: Extra | AI23: Extra | AJ23: Extra | AK23: Extra | AL23: Extra | AM23: Extra | AN23: Extra | AO23: Extra | AP23: Extra | AQ23: Extra | AR23: Extra | AS23: Extra | AT23: Extra | AU23: Extra | AV23: Extra | AW23: Extra | AX23: Extra | AY23: Extra | AZ23: Extra | BA23: Extra | BB23: Extra | BC23: Extra

Sheet référence
A1: code article | B1: liste item.recette | C1: désignation | D1: sauce.recette | E1: poids sauce | F1: Poids batch | G1: Nb de pochons / batch | H1: Poids Riz | N1: code sauce | O1: désignation | P1: blé/rice | Q1: sauce concentrate | R1: batch en KG | W1: week | Y1: poste | AA1: PDM/CLP
A2: AA48V | B2: UBric 6*250g Milk rice DE | C2: =VLOOKUP(Table1[[#This Row],[sauce.recette]],Table2[#All],2,FALSE) -> #N/A | D2: RMC | E2: 148 | F2: 1041.9 | G2: 7039.8649 | H2: 104 | N2: BAT | O2: UB basmati jasmin | P2: 116 | Q2: 131.5 | R2: 1040 | W2: P1W1 | X2: 73 | Y2: Dimanche nuit | Z2: =X2 -> 73
A3: AA49A | B3: UBric 6*250g Milk rice Vanilla DE | C3: =VLOOKUP(Table1[[#This Row],[sauce.recette]],Table2[#All],2,FALSE) -> #N/A | D3: RMV | E3: 57 | F3: 700.3 | G3: 12285.965 | H3: 104 | N3: RB2 | O3: UB basmati 130g | P3: 53.5 | Q3: 76.5 | R3: 1037 | W3: P1W2 | X3: 11 | Y3: lundi matin | Z3: =X3 -> 11 | AA3: X
A4: AA54N | B4: UBric 6*250g Lgrain prom ris DE | C4: =VLOOKUP(Table1[[#This Row],[sauce.recette]],Table2[#All],2,FALSE) -> UB long grain | D4: RLG | E4: 151 | F4: 1042 | G4: 6993 | H4: 100 | N4: RBI | O4: UB basmati | P4: 130 | Q4: 145.5 | R4: 1037 | W4: P1W3 | X4: 12 | Y4: lundi aprem | Z4: =X4 -> 12
A5: AA54R | B5: UBric 6*250g Basmati promo ris DE | C5: =VLOOKUP(Table1[[#This Row],[sauce.recette]],Table2[#All],2,FALSE) -> UB basmati | D5: RBI | E5: 146 | F5: 1037 | G5: 7102 | H5: 103 | N5: RBS | O5: UB basmati 130g UK | P5: 54 | Q5: 76 | R5: 1035 | W5: P1W4 | X5: 13 | Y5: lundi nuit | Z5: =X5 -> 13
A6: AA54T | B6: UBric 6*250g Tom&Basil promo ris DE | C6: =VLOOKUP(Table1[[#This Row],[sauce.recette]],Table2[#All],2,FALSE) -> UB méditerranien | D6: RMD | E6: 87 | F6: 1078.952 | G6: 12401 | H6: 93 | N6: RBT | O6: UB basmati FR | P6: 102.5 | Q6: 146 | R6: 1037 | W6: P2W1 | X6: 21 | Y6: mardi matin | Z6: =X6 -> 21
A7: AA66H | B7: UBric 130g Long grain pouch UK | C7: =VLOOKUP(Table1[[#This Row],[sauce.recette]],Table2[#All],2,FALSE) -> UB long grain 130g | D7: RLO | E7: 79 | F7: 1042 | G7: 13173 | H7: 52.5 | N7: RCA | O7: UB cantonais | P7: 86 | Q7: 86 | R7: 1011.34 | W7: P2W2 | X7: 22 | Y7: mardi aprem | Z7: =X7 -> 22
A8: AA66K | B8: UBric 130g Basmati pouch UK | C8: =VLOOKUP(Table1[[#This Row],[sauce.recette]],Table2[#All],2,FALSE) -> UB basmati 130g UK | D8: RBS | E8: 76 | F8: 1035 | G8: 13580 | H8: 54 | N8: RCM | O8: UB rissoto mushroom | P8: 100 | Q8: 87 | R8: 1068.466 | W8: P2W3 | X8: 23 | Y8: mardi nuit | Z8: =X8 -> 23
A9: AA66M | B9: UBric 130g Wholegrain pouch UK | C9: =VLOOKUP(Table1[[#This Row],[sauce.recette]],Table2[#All],2,FALSE) -> UB wholegrain 130g | D9: RWH | E9: 72.5 | F9: 1034.91 | G9: 14213 | H9: 57.5 | N9: RDJ | O9: UB djuvec | P9: 86 | Q9: 91 | R9: 1012.738 | W9: P2W4 | X9: 31 | Y9: mercredi matin | Z9: =X9 -> 31
A10: AA66P | B10: UBric 130g Pilau UK | C10: =VLOOKUP(Table1[[#This Row],[sauce.recette]],Table2[#All],2,FALSE) -> UB pilau 130g | D10: RPL | E10: 42 | F10: 749.907 | G10: 17852 | H10: 50 | N10: RLG | O10: UB long grain | P10: 100 | Q10: 151 | R10: 1042 | W10: P3W1 | X10: 32 | Y10: mercredi aprem | Z10: =X10 -> 32
A11: AA90E | B11: UBric 6*250g TexMex DE | C11: =VLOOKUP(Table1[[#This Row],[sauce.recette]],Table2[#All],2,FALSE) -> UB tex mex | D11: RTM | E11: 98 | F11: 1024.49 | G11: 10409 | H11: 80 | N11: RLO | O11: UB long grain 130g | P11: 52.5 | Q11: 79 | R11: 1042 | W11: P3W2 | X11: 33 | Y11: mercredi nuit | Z11: =X11 -> 33
A12: AC09B | B12: UBric 12*250g Med Pouch DE | C12: =VLOOKUP(Table1[[#This Row],[sauce.recette]],Table2[#All],2,FALSE) -> UB méditerranien | D12: RMD | E12: 87 | F12: 1078.952 | G12: 12401 | H12: 93 | N12: RMD | O12: UB méditerranien | P12: 93 | Q12: 87 | R12: 1078.952 | W12: P3W3 | X12: 41 | Y12: jeudi matin | Z12: =X12 -> 41
A13: AC09D | B13: UB Nature/ Lg | C13: =VLOOKUP(Table1[[#This Row],[sauce.recette]],Table2[#All],2,FALSE) -> #N/A | D13: UB Nature/ Long grain | E13: 151 | F13: 1042 | G13: 6993 | H13: 100 | N13: RME | O13: UB mexicain | P13: 93 | Q13: 78 | R13: 959 | W13: P3W4 | X13: 42 | Y13: jeudi aprem | Z13: =X13 -> 42
A14: AC09E | B14: UB Basmati | C14: =VLOOKUP(Table1[[#This Row],[sauce.recette]],Table2[#All],2,FALSE) -> #N/A | D14: UB Basmati | E14: 146 | F14: 1037 | G14: 7102 | H14: 103 | N14: RMU | O14: UB mushroom | P14: 92 | Q14: 70 | R14: 981.79 | W14: P4W1 | X14: 43 | Y14: jeudi nuit | Z14: =X14 -> 43
A15: ACT51 | B15: UBric 12*250g Med PM F | C15: =VLOOKUP(Table1[[#This Row],[sauce.recette]],Table2[#All],2,FALSE) -> UB méditerranien | D15: RMD | E15: 87 | F15: 1078.952 | G15: 12401 | H15: 93 | N15: RRB | O15: UB risi bisi | P15: 90 | Q15: 62 | R15: 1059 | W15: P4W2 | X15: 51 | Y15: vendredi matin | Z15: =X15 -> 51
... A19: ACT71 | B19: UBric 12*250g Tom&Olive PM F | C19: =VLOOKUP(Table1[[#This Row],[sauce.recette]],Table2[#All],2,FALSE) -> UB tomate olive | D19: RTO | E19: 95 | F19: 1048 | G19: 11026 | H19: 88 | N19: RWH | O19: UB wholegrain 130g | P19: 57.5 | Q19: 72.5 | R19: 1034.91 | W19: P5W2 | X19: 62 | Y19: samedi aprem | Z19: =X19 -> 62
A20: ACT77 | B20: EBLY 12*220G Tom&B PM F | C20: =VLOOKUP(Table1[[#This Row],[sauce.recette]],Table2[#All],2,FALSE) -> EB tomate basilic | D20: WTN | E20: 91 | F20: 956.429 | G20: 10510 | H20: 71 | N20: WTN | O20: EB tomate basilic | P20: 71 | Q20: 91 | R20: 956.429 | W20: P5W3 | X20: 63 | Y20: samedi nuit | Z20: =X20 -> 63
A21: AD17V | B21: UBric 130g Basmati pouch FR | C21: =VLOOKUP(Table1[[#This Row],[sauce.recette]],Table2[#All],2,FALSE) -> UB basmati 130g | D21: RB2 | E21: 76.5 | F21: 1037 | G21: 13555.556 | H21: 53.5 | N21: WN | O21: EB nature | P21: 86 | Q21: 132 | R21: 1061 | W21: P5W4 | X21: 71 | Y21: dimanche matin | Z21: =X21 -> 71
A22: AD17W | B22: UBric 130g Mediter. pouch FR | C22: =VLOOKUP(Table1[[#This Row],[sauce.recette]],Table2[#All],2,FALSE) -> #N/A | D22: RMS | E22: 45 | F22: 1079 | G22: 23977.778 | H22: 49 | N22: RID | O22: UB pilau | P22: 96 | Q22: 66 | R22: 926.35982 | W22: P6W1 | X22: 72 | Y22: dimanche aprem | Z22: =X22 -> 72
A23: AD42C | B23: UBric Express LGrain 6*250g AU | C23: =VLOOKUP(Table1[[#This Row],[sauce.recette]],Table2[#All],2,FALSE) -> UB long grain | D23: RLG | E23: 151 | F23: 1042 | G23: 6993 | H23: 100 | N23: RTO | O23: UB tomate olive | P23: 88 | Q23: 95 | R23: 1047.706 | W23: P6W2
A24: AD42D | B24: UBric Basmati 6*250g Pouch AU | C24: =VLOOKUP(Table1[[#This Row],[sauce.recette]],Table2[#All],2,FALSE) -> UB basmati | D24: RBI | E24: 146 | F24: 1037 | G24: 7102 | H24: 103 | N24: RCH | O24: UB chinois | P24: 96 | Q24: 61 | R24: 1020.1975 | W24: P6W3
A25: AD53A | B25: UB LGrain JO Promo 6*250g GB | C25: =VLOOKUP(Table1[[#This Row],[sauce.recette]],Table2[#All],2,FALSE) -> UB long grain | D25: RLG | E25: 151 | F25: 1042 | G25: 6993 | H25: 100 | N25: RLR | O25: UB Lemon | P25: 100 | Q25: 55 | R25: 600.09823 | W25: P6W4
A26: AD68N | B26: UBric 6*250g 3 cheese AU | C26: =VLOOKUP(Table1[[#This Row],[sauce.recette]],Table2[#All],2,FALSE) -> UB 3 cheese | D26: R3F | E26: 72 | F26: 720 | G26: 10000 | H26: 98 | N26: RPA | O26: UB paella | P26: 82 | Q26: 96 | R26: 960.02161 | W26: P7W1
A27: ADJ45 | B27: UBric 12*250g Cantonais lidl F | C27: =VLOOKUP(Table1[[#This Row],[sauce.recette]],Table2[#All],2,FALSE) -> UB cantonais | D27: RCA | E27: 86 | F27: 1011.34 | G27: 11759 | H27: 86 | N27: R3F | O27: UB 3 cheese | P27: 98 | Q27: 72 | R27: 720 | W27: P7W2
A28: ADJ51 | B28: UBric 12*250g Lemon lidl Pouch F | C28: =VLOOKUP(Table1[[#This Row],[sauce.recette]],Table2[#All],2,FALSE) -> UB Lemon | D28: RLR | E28: 55 | F28: 600.098 | G28: 10910.873 | H28: 100 | N28: RLW | O28: UB long grain & Wild | P28: 102 | Q28: 148 | R28: 1085 | W28: P7W3
A29: ADJ55 | B29: UBric 12*250g Med lidl Pouch F | C29: =VLOOKUP(Table1[[#This Row],[sauce.recette]],Table2[#All],2,FALSE) -> UB méditerranien | D29: RMD | E29: 87 | F29: 1078.952 | G29: 12401 | H29: 93 | N29: RSM | O29: UB spicy mexicain | P29: 80 | Q29: 101 | R29: 1011.507 | W29: P7W4
A30: AE58B | B30: UBric Express Basmati 250g BULK | C30: =VLOOKUP(Table1[[#This Row],[sauce.recette]],Table2[#All],2,FALSE) -> UB basmati | D30: RBI | E30: 145.5 | F30: 1037 | G30: 7113 | H30: 103 | N30: RPL | O30: UB pilau 130g | P30: 50 | Q30: 42 | R30: 749.90716 | W30: P8W1
A31: AE58N | B31: UBric 250g Long grain DE BULK | C31: =VLOOKUP(Table1[[#This Row],[sauce.recette]],Table2[#All],2,FALSE) -> UB long grain | D31: RLG | E31: 151 | F31: 1042 | G31: 6993 | H31: 100 | N31: RTM | O31: UB tex mex | P31: 80 | Q31: 98 | R31: 1024.4897 | W31: P8W2
A32: AE58V | B32: UBric 250g Mexican DE BULK | C32: =VLOOKUP(Table1[[#This Row],[sauce.recette]],Table2[#All],2,FALSE) -> UB mexicain | D32: RME | E32: 78 | F32: 959 | G32: 12294 | H32: 93 | W32: P8W3
A33: AE59A | B33: UBRic 250gr Mediter. DE BULK | C33: =VLOOKUP(Table1[[#This Row],[sauce.recette]],Table2[#All],2,FALSE) -> UB méditerranien | D33: RMD | E33: 87 | F33: 1078.952 | G33: 12401 | H33: 93 | W33: P8W4
A34: AFD48 | B34: UBric 6*250g Cant 33% F | C34: =VLOOKUP(Table1[[#This Row],[sauce.recette]],Table2[#All],2,FALSE) -> UB cantonais | D34: RCA | E34: 86 | F34: 1011.34 | G34: 11759 | H34: 86 | W34: P9W1
A35: AFD57 | B35: UBric 6*250g Med 33% F | C35: =VLOOKUP(Table1[[#This Row],[sauce.recette]],Table2[#All],2,FALSE) -> UB méditerranien | D35: RMD | E35: 87 | F35: 1078.952 | G35: 12401 | H35: 93 | W35: P9W2
A36: AFP03 | B36: UBric 12*250g Canto 33% FR | C36: =VLOOKUP(Table1[[#This Row],[sauce.recette]],Table2[#All],2,FALSE) -> UB cantonais | D36: RCA | E36: 86 | F36: 1011.34 | G36: 11759 | H36: 86 | W36: P9W3
A37: AFP11 | B37: UBric 12*250g Med 33% FR | C37: =VLOOKUP(Table1[[#This Row],[sauce.recette]],Table2[#All],2,FALSE) -> UB méditerranien | D37: RMD | E37: 87 | F37: 1078.952 | G37: 12401 | H37: 93 | W37: P9W4
A38: AG82J | B38: UBRIC Basmati & Jasmin 6*250g DE | C38: =VLOOKUP(Table1[[#This Row],[sauce.recette]],Table2[#All],2,FALSE) -> UB basmati jasmin | D38: BAT | E38: 131.5 | F38: 1040 | G38: 7908.7452 | H38: 116 | W38: P10W1
A39: AGK03 | B39: UBRIC 6*165G Long grain UK | C39: =VLOOKUP(Table1[[#This Row],[sauce.recette]],Table2[#All],2,FALSE) -> #N/A | D39: RSL | E39: 100.3 | F39: 1042 | G39: 10388 | H39: 66 | W39: P10W2
A40: AGK07 | B40: UBRIC 6*165G Pilau UK | C40: =VLOOKUP(Table1[[#This Row],[sauce.recette]],Table2[#All],2,FALSE) -> #N/A | D40: RAP | E40: 37 | F40: 597.831 | G40: 16135 | H40: 63 | W40: P10W3
A41: AGK10 | B41: UBRIC 6*165G Mexicain UK | C41: =VLOOKUP(Table1[[#This Row],[sauce.recette]],Table2[#All],2,FALSE) -> #N/A | D41: RAM | E41: 48 | F41: 650.404 | G41: 13550 | H41: 62 | W41: P10W4
A42: AGK20 | B42: UB Egg Fried 165g | C42: =VLOOKUP(Table1[[#This Row],[sauce.recette]],Table2[#All],2,FALSE) -> #N/A | D42: UB Egg Fried 165g | E42: 56 | F42: 647.688 | G42: 11565 | H42: 61 | W42: P11W1
A43: AJ83P | B43: UB Basmati Rice PROMO 6*250g GB | C43: =VLOOKUP(Table1[[#This Row],[sauce.recette]],Table2[#All],2,FALSE) -> UB basmati | D43: RBI | E43: 146 | F43: 1037 | G43: 7102 | H43: 103 | W43: P11W2
... A54: AN381 | B54: UBric 6*250G Basmati Pouch F | C54: =VLOOKUP(Table1[[#This Row],[sauce.recette]],Table2[#All],2,FALSE) -> UB basmati FR | D54: RBT | E54: 146 | F54: 1037 | G54: 7102 | H54: 103 | W54: P13W5
A55: AN75Y | B55: UBric 12*250g Wholegrain Pouch F | C55: =VLOOKUP(Table1[[#This Row],[sauce.recette]],Table2[#All],2,FALSE) -> UB wholegrain | D55: RWG | E55: 139 | F55: 1035 | G55: 7446.0432 | H55: 110
A56: ANC64 | B56: UBric 6*250g TOM&ITLN RIS D | C56: =VLOOKUP(Table1[[#This Row],[sauce.recette]],Table2[#All],2,FALSE) -> UB italian herbe | D56: RRT | E56: 95 | F56: 975.926 | G56: 10272.905 | H56: 94
A57: APK25 | B57: UB Mushroom 33% 12*250g FR | C57: =VLOOKUP(Table1[[#This Row],[sauce.recette]],Table2[#All],2,FALSE) -> UB mushroom | D57: RMU | E57: 70 | F57: 981.79 | G57: 14014 | H57: 92
A58: APK28 | B58: UBric Tom&Olive 33% 12*250g FR | C58: =VLOOKUP(Table1[[#This Row],[sauce.recette]],Table2[#All],2,FALSE) -> UB tomate olive | D58: RTO | E58: 95 | F58: 1048 | G58: 11026 | H58: 88
A59: APW85 | B59: UB Basmati Taragon | C59: =VLOOKUP(Table1[[#This Row],[sauce.recette]],Table2[#All],2,FALSE) -> #N/A | D59: UB Basmati Taragon | E59: 72 | F59: 724.96 | G59: 10069 | H59: 100
A60: AS55M | B60: UBric 6*250g LG Curry DE AU | C60: =VLOOKUP(Table1[[#This Row],[sauce.recette]],Table2[#All],2,FALSE) -> UB veg pilau | D60: RVP | E60: 83 | F60: 1007.18 | G60: 12135 | H60: 96
A61: AV08A | B61: Milk Rice Classic | C61: =VLOOKUP(Table1[[#This Row],[sauce.recette]],Table2[#All],2,FALSE) -> #N/A | D61: Milk Rice Classic | E61: 148 | F61: 1041.9 | G61: 7039.8649 | H61: 104
A62: AV09Y | B62: Milk Rice Vanilla | C62: =VLOOKUP(Table1[[#This Row],[sauce.recette]],Table2[#All],2,FALSE) -> #N/A | D62: Milk Rice Vanilla | E62: 57 | F62: 700.3 | G62: 12285.965 | H62: 104
A63: AV10B | B63: UB Tex Mex (Chili) | C63: =VLOOKUP(Table1[[#This Row],[sauce.recette]],Table2[#All],2,FALSE) -> #N/A | D63: UB Tex Mex (Chili) | E63: 98 | F63: 1024.49 | G63: 10409 | H63: 80
A64: AV10D | B64: UB 3 Cheese | C64: =VLOOKUP(Table1[[#This Row],[sauce.recette]],Table2[#All],2,FALSE) -> #N/A | D64: UB 3 Cheese | E64: 72 | F64: 720 | G64: 10000 | H64: 98
A65: AV10F | B65: UB Chicken & Mushroom | C65: =VLOOKUP(Table1[[#This Row],[sauce.recette]],Table2[#All],2,FALSE) -> #N/A | D65: UB Chicken & Mushroom | E65: 87 | F65: 1068.466 | G65: 12281.218 | H65: 100
A66: AV12G | B66: UB Risotto Tomato & Italian Herbs | C66: =VLOOKUP(Table1[[#This Row],[sauce.recette]],Table2[#All],2,FALSE) -> #N/A | D66: UB Risotto Tomato & Italian Herbs | E66: 95 | F66: 975.926 | G66: 10272.905 | H66: 94
... A123: BM79T | B123: UBric 12*250g Med Pouch FR | C123: =VLOOKUP(Table1[[#This Row],[sauce.recette]],Table2[#All],2,FALSE) -> UB méditerranien | D123: RMD | E123: 87 | F123: 1078.952 | G123: 12401 | H123: 93
A124: BREAK | B124: Arret planifié entre 2 runs | C124: =VLOOKUP(Table1[[#This Row],[sauce.recette]],Table2[#All],2,FALSE) -> #N/A | D124: STP
A125: DC634 | B125: EBL 6*220G Curry Pouch DEU AUT | C125: =VLOOKUP(Table1[[#This Row],[sauce.recette]],Table2[#All],2,FALSE) -> #N/A | D125: WCU
A126: DC709 | B126: EBL 6*220G Tom Bas DEU AUT | C126: =VLOOKUP(Table1[[#This Row],[sauce.recette]],Table2[#All],2,FALSE) -> #N/A | D126: WTB | E126: 91 | F126: 956.431 | G126: 10510 | H126: 71
A127: DH776 | B127: EBL 6*220G Original DEU AUT | C127: =VLOOKUP(Table1[[#This Row],[sauce.recette]],Table2[#All],2,FALSE) -> EB nature | D127: WN | E127: 132 | F127: 1061 | G127: 8037.8788 | H127: 86
A128: DX959 | B128: UBric Basmati 6*250g UK | C128: =VLOOKUP(Table1[[#This Row],[sauce.recette]],Table2[#All],2,FALSE) -> UB basmati | D128: RBI | E128: 146 | F128: 1037 | G128: 7102 | H128: 103
A129: DX960 | B129: Ubric Chinese Style 6*250g GB | C129: =VLOOKUP(Table1[[#This Row],[sauce.recette]],Table2[#All],2,FALSE) -> #N/A | D129: RHC | E129: 151 | F129: 1042 | G129: 6993 | H129: 100
A130: DX962 | B130: UB Egg Fried | C130: =VLOOKUP(Table1[[#This Row],[sauce.recette]],Table2[#All],2,FALSE) -> #N/A | D130: UB Egg Fried | E130: 85 | G130: 12623 | H130: 92
A131: DX964 | B131: UB Long grain 6*250g UK | C131: =VLOOKUP(Table1[[#This Row],[sauce.recette]],Table2[#All],2,FALSE) -> UB long grain | D131: RLG | E131: 151 | F131: 1042 | G131: 6993 | H131: 100
A132: EF352 | B132: UBric 6*250g Veg Pilau CH | C132: =VLOOKUP(Table1[[#This Row],[sauce.recette]],Table2[#All],2,FALSE) -> UB veg pilau | D132: RVP | E132: 83 | F132: 1007.18 | G132: 12135 | H132: 96
A133: EF356 | B133: UBric 6*250g basmati pouch CH | C133: =VLOOKUP(Table1[[#This Row],[sauce.recette]],Table2[#All],2,FALSE) -> UB basmati | D133: RBI | E133: 146 | F133: 1037 | G133: 7102 | H133: 103
A134: EF358 | B134: UBric 6*250g Langkorn LGrain Pch CH | C134: =VLOOKUP(Table1[[#This Row],[sauce.recette]],Table2[#All],2,FALSE) -> UB long grain | D134: RLG | E134: 151 | F134: 1042 | G134: 6993 | H134: 100
A135: EG154 | B135: SWric Cantonaise 6*250g Pou FR | C135: =VLOOKUP(Table1[[#This Row],[sauce.recette]],Table2[#All],2,FALSE) -> #N/A | D135: SWC | E135: 74 | F135: 994.3 | G135: 13436.486 | H135: 90
A136: EG159 | B136: SW Thaï | C136: =VLOOKUP(Table1[[#This Row],[sauce.recette]],Table2[#All],2,FALSE) -> #N/A | D136: SW Thaï | E136: 54 | F136: 607.27 | G136: 11245.741 | H136: 90
A137: FJ005 | B137: SW Thaï | C137: =VLOOKUP(Table1[[#This Row],[sauce.recette]],Table2[#All],2,FALSE) -> #N/A | D137: SW Thaï | E137: 54 | F137: 607.27 | G137: 11245.741 | H137: 90
A138: FJ007 | B138: SWric Cantonaise 6*250g Pou B | C138: =VLOOKUP(Table1[[#This Row],[sauce.recette]],Table2[#All],2,FALSE) -> #N/A | D138: SWC | E138: 74 | F138: 994.3 | G138: 13436.486 | H138: 90
A139: FM392 | B139: UBric medit 6*250g CH | C139: =VLOOKUP(Table1[[#This Row],[sauce.recette]],Table2[#All],2,FALSE) -> UB méditerranien | D139: RMD | E139: 87 | F139: 1078.952 | G139: 12401 | H139: 93
A140: GB456 | B140: UBric Tomato&Basil GB IRL | C140: =VLOOKUP(Table1[[#This Row],[sauce.recette]],Table2[#All],2,FALSE) -> UB méditerranien | D140: RMD | E140: 87 | F140: 1078.952 | G140: 12401 | H140: 93
A141: GR694 | B141: UBric 6*250G Indian Pilau D Au | C141: =VLOOKUP(Table1[[#This Row],[sauce.recette]],Table2[#All],2,FALSE) -> UB pilau | D141: RID | E141: 66 | F141: 926.36 | G141: 14035 | H141: 96
A142: HC752 | B142: SWric Cantonaise 6*250g Pou CHE | C142: =VLOOKUP(Table1[[#This Row],[sauce.recette]],Table2[#All],2,FALSE) -> #N/A | D142: SWC | E142: 74 | F142: 994.3 | G142: 13436.486 | H142: 90
... A152: KH222 | B152: UBric 12*250G Indian/Pilau F B | C152: =VLOOKUP(Table1[[#This Row],[sauce.recette]],Table2[#All],2,FALSE) -> UB pilau | D152: RID | E152: 66 | F152: 926.36 | G152: 14035 | H152: 96
A153: KM968 | B153: EBL 6*220G Pouch Mexican A D | C153: =VLOOKUP(Table1[[#This Row],[sauce.recette]],Table2[#All],2,FALSE) -> #N/A | D153: WME
A154: KN200 | B154: EBL 6*220G Pouch Provencal A D | C154: =VLOOKUP(Table1[[#This Row],[sauce.recette]],Table2[#All],2,FALSE) -> #N/A | D154: WPR
A155: KW680 | B155: EBL 6*220G Natur Pouch Other CH | C155: =VLOOKUP(Table1[[#This Row],[sauce.recette]],Table2[#All],2,FALSE) -> EB nature | D155: WN | E155: 132 | F155: 1061 | G155: 8037.8788 | H155: 86
A156: KW685 | B156: EBL 6*220G Tomato&B Pouch other CH | C156: =VLOOKUP(Table1[[#This Row],[sauce.recette]],Table2[#All],2,FALSE) -> #N/A | D156: WTB | E156: 91 | F156: 956.422 | G156: 10510 | H156: 71
A157: KW694 | B157: EBL 6*220G Provencal Pouch Other CH | C157: =VLOOKUP(Table1[[#This Row],[sauce.recette]],Table2[#All],2,FALSE) -> #N/A | D157: WPR
A158: KX461 | B158: EBL 12*220G Nature Pouch F B | C158: =VLOOKUP(Table1[[#This Row],[sauce.recette]],Table2[#All],2,FALSE) -> EB nature | D158: WN | E158: 132 | F158: 1061 | G158: 8037.8788 | H158: 86
A159: KX474 | B159: EBL 12*220G Tomate & Basil F B | C159: =VLOOKUP(Table1[[#This Row],[sauce.recette]],Table2[#All],2,FALSE) -> #N/A | D159: WTB | E159: 91 | F159: 956.430 | G159: 10510 | H159: 71
A160: KX496 | B160: EBL 12*220G Mexican Pouch F B | C160: =VLOOKUP(Table1[[#This Row],[sauce.recette]],Table2[#All],2,FALSE) -> #N/A | D160: WME
A161: LB062 | B161: UBric 12*250G Cantonais Pouch F B | C161: =VLOOKUP(Table1[[#This Row],[sauce.recette]],Table2[#All],2,FALSE) -> UB cantonais | D161: RCA | E161: 86 | F161: 1011.34 | G161: 11759 | H161: 86
A162: LB104 | B162: UBric 12*250G Tomate&Olive Pou F B | C162: =VLOOKUP(Table1[[#This Row],[sauce.recette]],Table2[#All],2,FALSE) -> UB tomate olive | D162: RTO | E162: 95 | F162: 1048 | G162: 11026 | H162: 88
A163: LL785 | B163: EBL 6*220G Nature Pou MIGROS CH | C163: =VLOOKUP(Table1[[#This Row],[sauce.recette]],Table2[#All],2,FALSE) -> EB nature | D163: WN | E163: 132 | F163: 1061 | G163: 8037.8788 | H163: 86
A164: LR742 | B164: UBric 6*250g MEXICAN CH | C164: =VLOOKUP(Table1[[#This Row],[sauce.recette]],Table2[#All],2,FALSE) -> UB mexicain | D164: RME | E164: 78 | F164: 959 | G164: 12294 | H164: 93
A165: LR743 | B165: UBric 6*250g RISI BISI CH | C165: =VLOOKUP(Table1[[#This Row],[sauce.recette]],Table2[#All],2,FALSE) -> UB risi bisi | D165: RRB | E165: 62 | F165: 1059 | G165: 17092 | H165: 90
A166: MG551 | B166: UBric 12*250g Paella Pouch F B | C166: =VLOOKUP(Table1[[#This Row],[sauce.recette]],Table2[#All],2,FALSE) -> UB paella | D166: RPA | E166: 96 | F166: 960.022 | G166: 10000 | H166: 82
A167: MG556 | B167: EBL 12*220G Mushroom Pouch F | C167: =VLOOKUP(Table1[[#This Row],[sauce.recette]],Table2[#All],2,FALSE) -> #N/A | D167: WMU | E167: 71 | F167: 996.4 | G167: 14033.803 | H167: 90
A168: MG562 | B168: UBric 6*250g Rice Longgrain & wild | C168: =VLOOKUP(Table1[[#This Row],[sauce.recette]],Table2[#All],2,FALSE) -> UB long grain & Wild | D168: RLW | E168: 148 | F168: 1085 | G168: 7331 | H168: 102
A169: MG579 | B169: UB Campagnard | C169: =VLOOKUP(Table1[[#This Row],[sauce.recette]],Table2[#All],2,FALSE) -> #N/A | D169: UB Campag. | E169: 75 | F169: 1000.73 | G169: 13343.067 | H169: 90
A170: MG582 | B170: UB Savoured Chiken UK | C170: =VLOOKUP(Table1[[#This Row],[sauce.recette]],Table2[#All],2,FALSE) -> #N/A | D170: UB Savoured Chiken UK | E170: 77 | F170: 983.7 | G170: 12775.325 | H170: 90
A171: MG584 | B171: UBric WholeGrain 6*250g UK | C171: =VLOOKUP(Table1[[#This Row],[sauce.recette]],Table2[#All],2,FALSE) -> UB wholegrain | D171: RWG | E171: 139 | F171: 1082 | G171: 7784.1727 | H171: 90
A172: MH914 | B172: EBL 6*220G Nature PrixChoc F | C172: =VLOOKUP(Table1[[#This Row],[sauce.recette]],Table2[#All],2,FALSE) -> EB nature | D172: WN | E172: 132 | F172: 1061 | G172: 8037.8788 | H172: 86
A173: MJ100 | B173: EBL 6*220G Tom&Basil PrixChoc F | C173: =VLOOKUP(Table1[[#This Row],[sauce.recette]],Table2[#All],2,FALSE) -> #N/A | D173: WTB | E173: 91 | F173: 956.434 | G173: 10510 | H173: 71
A174: MJ108 | B174: UBric 6*250g Med PrixChoc F | C174: =VLOOKUP(Table1[[#This Row],[sauce.recette]],Table2[#All],2,FALSE) -> UB méditerranien | D174: RMD | E174: 87 | F174: 1078.952 | G174: 12401 | H174: 93
A175: MJ113 | B175: UBric 6*250g Basmati PrixChoc F | C175: =VLOOKUP(Table1[[#This Row],[sauce.recette]],Table2[#All],2,FALSE) -> UB basmati FR | D175: RBT | E175: 146 | F175: 1037 | G175: 7102 | H175: 103
A176: MJ115 | B176: UBric 6*250g Lg PrixChoc F | C176: =VLOOKUP(Table1[[#This Row],[sauce.recette]],Table2[#All],2,FALSE) -> UB long grain | D176: RLG | E176: 151 | F176: 1042 | G176: 6993 | H176: 100
A177: MP262 | B177: UB Riz Mexicaine 12*250G | C177: =VLOOKUP(Table1[[#This Row],[sauce.recette]],Table2[#All],2,FALSE) -> UB mexicain | D177: RME | E177: 78 | F177: 959 | G177: 12294 | H177: 93
A178: NF969 | B178: UBric 6*250G Mushroom F | C178: =VLOOKUP(Table1[[#This Row],[sauce.recette]],Table2[#All],2,FALSE) -> UB mushroom | D178: RMU | E178: 70 | F178: 981.79 | G178: 14014 | H178: 92
...
