Workbook
Name \a01: #REF!
Name \a02: #REF!
Name \a03: #REF!
Name \a04: #REF!
Name \a05: #REF!
Name \a06: #REF!
Name \a07: #REF!
Name \a08: #REF!
Name \a09: #REF!
Name \A1: #REF!
Name \a10: #REF!
Name \a11: #REF!
Name \a12: #REF!
Name \a13: #REF!
Name \a14: #REF!
Name \a15: #REF!
Name \a16: #REF!
Name \a17: #REF!
Name \a18: #REF!
Name \a19: #REF!
Name \a20: #REF!
Name __p21: #REF!
Name __p22: #REF!
Name __p25: #REF!
Name _p21: #REF!
Name _p22: #REF!
Name _p23: #REF!
Name _p24: #REF!
Name _p25: #REF!
Name CHEMIN_GEN: [2]DONNEES!$C$6
Name CHOIX_CABLE: [2]SUPPORTS!$C$2:$C$28
Name CHOIX_CHAINE: [2]SUPPORTS!$R$2:$R$42
Name CODE_LIT: [2]DONNEES!$C$5
Name DATA_CABLES: #REF!
Name DATA_CANTON: [2]SUPPORTS!$A$1:$I$1
Name DATA_CHAINE: [2]SUPPORTS!$Q$1:$W$1
Name DATA_DONNEES: [2]DONNEES!$A$9:$V$9
Name DATA_NAPPE: [2]SUPPORTS!$J$1:$L$1
Name DATA_SUPPORTS: [2]SUPPORTS!$A$59:$AB$59
Name DATA_TERRAIN: [2]TERRAIN!$A$1:$B$1
Name dist1: '[3]Réglages importants'!$R$23
Name dist2: '[3]Réglages importants'!$R$24
Name dist3: '[3]Réglages importants'!$R$25
Name FICHIER_ELIANE: [2]DONNEES!$C$4
Name Flèche: #REF!
Name Flèche_4: #REF!
Name GABARIT: [2]DONNEES!$L$1
Name gé1: '[4]Portée (1)'!$E$31
Name gé101: #REF!
Name gé102: #REF!
Name gé103: #REF!
Name gé104: #REF!
Name gé105: #REF!
Name gé106: #REF!
Name gé107: #REF!
Name gé108: #REF!
Name gé109: #REF!
Name gé110: #REF!
Name gé111: #REF!
Name gé112: #REF!

Sheet Formalisme RTE
G2: Support Gauche | H2: 37 | I2: Support droit | J2: 3N
B4: =CONCATENATE("Etude Ligne ",'[1]TABLEAU DE BORD'!D1," KV ",'[1]TABLEAU DE BORD'!L1) -> Etude Ligne 63 KV FRONTENAUD - GRAND CHENE
B5: Fichier : C:\APPLIRTE\ | BF5: 50 dégré en radians
B6: =CONCATENATE("Portée comprise entre le pylône n° ",H2," et le pylône n° ",J2,"") -> Portée comprise entre le pylône n° 37 et le pylône n° 3N | BF6: =RADIANS(50) -> 0.87266463 | BV6: Cable | BW6: =INDEX('[1]TABLEAU DE BORD'!B13:P5000,MATCH('Formalisme RTE'!H2,'[1]TABLEAU DE BORD'!B13:B5000,0),13) -> crocus147.1
B7: Tension de la ligne | D7: ='[1]TABLEAU DE BORD'!D1 -> 63 | E7: kV | BF7: sin(50) | BG7: =SIN(BF6) -> 0.76604444 | BM7: GABARIT AT
B8: Zone de vent | D8: =INDEX('[1]TABLEAU DE BORD'!B13:R2000,MATCH('Formalisme RTE'!H2,'[1]TABLEAU DE BORD'!B13:B2000,0),16) -> 240 Pa : ZVN zone normale | BL8: TENSION | BM8: 63 | BN8: 2 | BO8: 2 | BQ8: Balancement 50°
B9: Paramètre à 15 °C vent réduit | D9: =INDEX('[1]TABLEAU DE BORD'!B13:R2000,MATCH('Formalisme RTE'!H2,'[1]TABLEAU DE BORD'!B13:B2000,0),14) -> 1099.18 | E9: m | BM9: 90 | BN9: 2 | BO9: 2 | BQ9: L | BR9: B | BU9: Valeur caché | BW9: Diamètre | BY9: Masse au mètre | CA9: Flèche répart | CC9: Altitude cable répartition | CD9: Altitude corde | CF9: Hauteur Sous Pince Gauche | CI9: Hauteur Sous Pince Droit
B10: Paramètre à température répartition | D10: =INDEX('[1]TABLEAU DE BORD'!B13:R2000,MATCH('Formalisme RTE'!H2,'[1]TABLEAU DE BORD'!B13:B2000,0),15) -> 890.52 | E10: m | P10: CCG LA | AC10: AT 2001 | AO10: Cône 50°C | BM10: 150 | BN10: 2 | BO10: 2.1
B11: =CONCATENATE("Distance axe support n° ",H2," / accrochage") -> Distance axe support n° 37 / accrochage | D11: =INDEX('[1]TABLEAU DE BORD'!B13:R2000,MATCH('Formalisme RTE'!H2,'[1]TABLEAU DE BORD'!B13:B2000,0),5) -> 2.7040063 | E11: m | O11: ='[1]TABLEAU DE BORD'!U7 -> 15 | P11: Pas de calcul (m) : | Q11: 50 | S11: OU | T11: division de la portée : 1/ | V11: 8 | AB11: ='[1]TABLEAU DE BORD'!U7 -> 15 | AC11: Pas de calcul (m) : | AD11: =Q11 -> 50 | AF11: OU | AG11: division de la portée : 1/ | AI11: ='[1]TABLEAU DE BORD'!U6 -> 0 | AN11: ='[1]TABLEAU DE BORD'!U7 -> 15 | AO11: Pas de calcul (m) : | AP11: ='[1]TABLEAU DE BORD'!U7 -> 15 | AR11: OU | AS11: division de la portée : 1/ | AU11: ='[1]TABLEAU DE BORD'!U6 -> 0 | BM11: 225 | BN11: 2 | BO11: 2.7
B12: =CONCATENATE("Distance axe support n° ",J2," / accrochage") -> Distance axe support n° 3N / accrochage | D12: =INDEX('[1]TABLEAU DE BORD'!B13:R2000,MATCH('Formalisme RTE'!H2,'[1]TABLEAU DE BORD'!B13:B2000,0),11) -> 4.1963222 | E12: m | P12: =CONCATENATE("RESULTATS PORTEE ",#REF!,"-",#REF!) -> #REF! | U12: =IF(T10="","","f2+G3 conditione la tranchée :") | AC12: =CONCATENATE("RESULTATS PORTEE ",#REF!,"-",#REF!) -> #REF! | AH12: =IF(AG10="","","f2+G3 conditione la tranchée :") | AO12: =CONCATENATE("RESULTATS PORTEE ",#REF!,"-",#REF!) -> #REF! | AT12: =IF(AS10="","","f2+G3 conditione la tranchée :") | BM12: 400 | BN12: 2 | BO12: 4
B13: Option zone rouge | D13: NON | H13: =IF(D17="0.125","1/8","") | P13: Matricule | Q13: Distance / | S13: Demi largeur | U13: Z sol (axe) | V13: Hauteur d'arbre | W13: Hauteur libre | X13: CP | Y13: Hauteur libre | Z13: Hauteur libre | AC13: Matricule | AD13: Distance / | AF13: Demi largeur | AH13: Z sol (axe) | AI13: Hauteur d'arbre | AJ13: Hauteur libre | AK13: CP | AL13: Hauteur libre | AM13: Hauteur libre | AO13: Matricule | AP13: Distance / | AR13: Demi largeur | AT13: Z sol (axe) | AU13: Hauteur d'arbre | AV13: Hauteur libre | AW13: CP | AX13: Hauteur libre | AY13: Hauteur libre
B14: Flèche médiane F1 (m) | D14: =BB30 -> 5.0672564 | E14: m | P14: Point | Q14: =CONCATENATE("Pylône ",#REF!) -> #REF! | S14: de tranchée | U14: (m) | V14: à maturité | W14: (axe) | X14: (m/m) | Y14: (gauche) | Z14: (droite) | AC14: Point | AD14: =CONCATENATE("Pylône ",#REF!) -> #REF! | AF14: de tranchée | AH14: (m) | AI14: à maturité | AJ14: (axe) | AK14: (m/m) | AL14: (gauche) | AM14: (droite) | AO14: Point | AP14: =CONCATENATE("Pylône ",#REF!) -> #REF! | AR14: de tranchée | AT14: (m) | AU14: à maturité | AV14: (axe) | AW14: (m/m) | AX14: (gauche) | AY14: (droite)
P15: =IF(OR(Q15="",$M$18=""),"",CONCATENATE($C$17,"-",R15)) -> 37-1 | Q15: 0 | R15: 1 | S15: =BQ15+BR15+$BG$21+5 -> 11.204006 | W15: =IF(ISERROR(#REF!)=TRUE,"",IF(#REF!-(U15+V15)<=0,"Arbre à abattre",#REF!-(U15+V15))) | Y15: =IF(X15="","",IF(W15-(S15*X15)<=0,"A Abattre",W15-(S15*X15))) | Z15: =IF(X15="","",IF(W15+(S15*X15)<=0,"A Abattre",W15+(S15*X15))) | AC15: =IF(OR(AD15="",$M$18=""),"",CONCATENATE($C$17,"-",AE15)) -> 37-1 | AD15: 0 | AE15: 1 | AF15: =BQ15+BR15+'[1]TABLEAU DE BORD'!$O$6 -> 4.7040063 | AJ15: =IF(ISERROR(#REF!)=TRUE,"",IF(#REF!-(AH15+AI15)<=0,"Arbre à abattre",#REF!-(AH15+AI15))) | AL15: =IF(AK15="","",IF(AJ15-(AF15*AK15)<=0,"A Abattre",AJ15-(AF15*AK15))) | AM15: =IF(AK15="","",IF(AJ15+(AF15*AK15)<=0,"A Abattre",AJ15+(AF15*AK15))) | AO15: =IF(OR(AP15="",$M$18=""),"",CONCATENATE($C$17,"-",AQ15)) -> 37-1 | AP15: 0 | AQ15: 1 | AR15: =BQ15+$BG$7*CA15 -> 2.7040063 | AV15: =IF(ISERROR(#REF!)=TRUE,"",IF(#REF!-(AT15+AU15)<=0,"Arbre à abattre",#REF!-(AT15+AU15))) | AX15: =IF(AW15="","",IF(AV15-(AR15*AW15)<=0,"A Abattre",AV15-(AR15*AW15))) | AY15: =IF(AW15="","",IF(AV15+(AR15*AW15)<=0,"A Abattre",AV15+(AR15*AW15))) | BQ15: =INDEX('[1]TABLEAU DE BORD'!$B$13:$R$2000,MATCH('Formalisme RTE'!$H$2,'[1]TABLEAU DE BORD'!$B$13:$B$2000,0),5)-(INDEX('[1]TABLEAU DE BORD'!$B$13:$R$2000,MATCH('Formalisme RTE'!$H$2,'[1]TABLEAU DE BORD'!$B$13:$B$2000,0),5)-INDEX('[1]TABLEAU DE BORD'!$B$13:$R$2000,MATCH('Formalisme RTE'!$H$2,'[1]TABLEAU DE BORD'!$B$13:$B$2000,0),11))*Q15/INDEX('[1]TABLEAU DE BORD'!$B$13:$R$2000,MATCH('Formalisme RTE'!$H$2,'[1]TABLEAU DE BORD'!$B$13:$B$2000,0),12) -> 2.7040063 | BR15: =BU15*CA15 -> 0 | BU15: =SQRT(1-(1/(SQRT((BY15*0.981)^2+(($B$30/10)*BW15*0.001)^2)/(BY15*0.981))^2)) -> 0.57588835 | BW15: =IF($BW$6="","",IF(ISERROR(INDEX([1]Base!$A$2:$C$207,MATCH($BW$6,[1]Base!$A$2:$A$207,0),2))=TRUE,"CABLE INCONNU",(INDEX([1]Base!$A$2:$C$207,MATCH($BW$6,[1]Base!$A$2:$A$207,0),3)))) -> 15.75 | BY15: =IF($BW$6="","",IF(ISERROR(INDEX([1]Base!$A$2:$C$207,MATCH($BW$6,[1]Base!$A$2:$A$207,0),2))=TRUE,"CABLE INCONNU",(INDEX([1]Base!$A$2:$C$207,MATCH($BW$6,[1]Base!$A$2:$A$207,0),2)))) -> 0.547 | CA15: =CD15-CC15 -> 0 | CC15: =$BB$28+$D$10*((EXP(($BB$26-Q15)/$D$10)+EXP(-($BB$26-Q15)/$D$10))/2-1) -> 237.96 | CD15: =(INDEX('[1]TABLEAU DE BORD'!$B$13:$R$2000,MATCH('Formalisme RTE'!$H$2,'[1]TABLEAU DE BORD'!$B$13:$B$2000,0),2)+INDEX($CF$15:$CG$2005,MATCH($H$2,$CF$15:$CF$2005,0),2)+INDEX('[1]TABLEAU DE BORD'!$B$13:$R$2000,MATCH('Formalisme RTE'!$H$2,'[1]TABLEAU DE BORD'!$B$13:$B$2000,0),3))-(((INDEX('[1]TABLEAU DE BORD'!$B$13:$R$2000,MATCH('Formalisme RTE'!$H$2,'[1]TABLEAU DE BORD'!$B$13:$B$2000,0),2)+INDEX($CF$15:$CG$2005,MATCH($H$2,$CF$15:$CF$2005,0),2)+INDEX('[1]TABLEAU DE BORD'!$B$13:$R$2000,MATCH('Formalisme RTE'!$H$2,'[1]TABLEAU DE BORD'!$B$13:$B$2000,0),3))-(INDEX('[1]TABLEAU DE BORD'!$B$13:$R$2000,MATCH('Formalisme RTE'!$H$2,'[1]TABLEAU DE BORD'!$B$13:$B$2000,0),8)+INDEX($CI$15:$CJ$2005,MATCH($J$2,$CI$15:$CI$2005,0),2)+INDEX('[1]TABLEAU DE BORD'!$B$13:$R$2000,MATCH('Formalisme RTE'!$H$2,'[1]TABLEAU DE BORD'!$B$13:$B$2000,0),9)))*Q15/$M$18) -> 237.96 | CF15: ='[1]TABLEAU DE BORD'!B13 -> 60 | CG15: ='[1]TABLEAU DE BORD'!E13-'[1]TABLEAU DE BORD'!C13 -> 18.7 | CI15: ='[1]TABLEAU DE BORD'!H13 -> 61 | CJ15: ='[1]TABLEAU DE BORD'!K13-'[1]TABLEAU DE BORD'!I13 -> 21.27
P16: =IF(OR(Q16="",$M$18=""),"",CONCATENATE($C$17,"-",R16)) -> 37-2 | Q16: =IF(Q11="",$M$18/V11,Q11) -> 50 | R16: 2 | S16: =BQ16+BR16+$BG$21+5 -> 13.862344 | W16: =IF(ISERROR(#REF!)=TRUE,"",IF(#REF!-(U16+V16)<=0,"Arbre à abattre",#REF!-(U16+V16))) | Y16: =IF(X16="","",IF(W16-(S16*X16)<=0,"A Abattre",W16-(S16*X16))) | Z16: =IF(X16="","",IF(W16+(S16*X16)<=0,"A Abattre",W16+(S16*X16))) | AC16: =IF(OR(AD16="",$M$18=""),"",CONCATENATE($C$17,"-",AE16)) -> 37-2 | AD16: =IF(AD11="",$M$18/AI11,AD11) -> 50 | AE16: 2 | AF16: =BQ16+BR16+'[1]TABLEAU DE BORD'!$O$6 -> 7.3623439 | AJ16: =IF(ISERROR(#REF!)=TRUE,"",IF(#REF!-(AH16+AI16)<=0,"Arbre à abattre",#REF!-(AH16+AI16))) | AL16: =IF(AK16="","",IF(AJ16-(AF16*AK16)<=0,"A Abattre",AJ16-(AF16*AK16))) | AM16: =IF(AK16="","",IF(AJ16+(AF16*AK16)<=0,"A Abattre",AJ16+(AF16*AK16))) | AO16: =IF(OR(AP16="",$M$18=""),"",CONCATENATE($C$17,"-",AQ16)) -> 37-2 | AP16: =IF(AP11="",$M$18/AU11,AP11) -> 15 | AQ16: 2 | AR16: =BQ16+$BG$7*CA16 -> 6.1100536 | AV16: =IF(ISERROR(#REF!)=TRUE,"",IF(#REF!-(AT16+AU16)<=0,"Arbre à abattre",#REF!-(AT16+AU16))) | AX16: =IF(AW16="","",IF(AV16-(AR16*AW16)<=0,"A Abattre",AV16-(AR16*AW16))) | AY16: =IF(AW16="","",IF(AV16+(AR16*AW16)<=0,"A Abattre",AV16+(AR16*AW16))) | BF16: CCG LA | BJ16: AT 2001 | BQ16: =INDEX('[1]TABLEAU DE BORD'!$B$13:$R$2000,MATCH('Formalisme RTE'!$H$2,'[1]TABLEAU DE BORD'!$B$13:$B$2000,0),5)-(INDEX('[1]TABLEAU DE BORD'!$B$13:$R$2000,MATCH('Formalisme RTE'!$H$2,'[1]TABLEAU DE BORD'!$B$13:$B$2000,0),5)-INDEX('[1]TABLEAU DE BORD'!$B$13:$R$2000,MATCH('Formalisme RTE'!$H$2,'[1]TABLEAU DE BORD'!$B$13:$B$2000,0),11))*Q16/INDEX('[1]TABLEAU DE BORD'!$B$13:$R$2000,MATCH('Formalisme RTE'!$H$2,'[1]TABLEAU DE BORD'!$B$13:$B$2000,0),12) -> 3.0979027 | BR16: =BU16*CA16 -> 2.2644412 | BU16: =SQRT(1-(1/(SQRT((BY16*0.981)^2+(($B$30/10)*BW16*0.001)^2)/(BY16*0.981))^2)) -> 0.57588835 | BW16: =IF($BW$6="","",IF(ISERROR(INDEX([1]Base!$A$2:$C$207,MATCH($BW$6,[1]Base!$A$2:$A$207,0),2))=TRUE,"CABLE INCONNU",(INDEX([1]Base!$A$2:$C$207,MATCH($BW$6,[1]Base!$A$2:$A$207,0),3)))) -> 15.75 | BY16: =IF($BW$6="","",IF(ISERROR(INDEX([1]Base!$A$2:$C$207,MATCH($BW$6,[1]Base!$A$2:$A$207,0),2))=TRUE,"CABLE INCONNU",(INDEX([1]Base!$A$2:$C$207,MATCH($BW$6,[1]Base!$A$2:$A$207,0),2)))) -> 0.547 | CA16: =CD16-CC16 -> 3.9320837 | CC16: =$BB$28+$D$10*((EXP(($BB$26-Q16)/$D$10)+EXP(-($BB$26-Q16)/$D$10))/2-1) -> 239.08255 | CD16: =(INDEX('[1]TABLEAU DE BORD'!$B$13:$R$2000,MATCH('Formalisme RTE'!$H$2,'[1]TABLEAU DE BORD'!$B$13:$B$2000,0),2)+INDEX($CF$15:$CG$2005,MATCH($H$2,$CF$15:$CF$2005,0),2)+INDEX('[1]TABLEAU DE BORD'!$B$13:$R$2000,MATCH('Formalisme RTE'!$H$2,'[1]TABLEAU DE BORD'!$B$13:$B$2000,0),3))-(((INDEX('[1]TABLEAU DE BORD'!$B$13:$R$2000,MATCH('Formalisme RTE'!$H$2,'[1]TABLEAU DE BORD'!$B$13:$B$2000,0),2)+INDEX($CF$15:$CG$2005,MATCH($H$2,$CF$15:$CF$2005,0),2)+INDEX('[1]TABLEAU DE BORD'!$B$13:$R$2000,MATCH('Formalisme RTE'!$H$2,'[1]TABLEAU DE BORD'!$B$13:$B$2000,0),3))-(INDEX('[1]TABLEAU DE BORD'!$B$13:$R$2000,MATCH('Formalisme RTE'!$H$2,'[1]TABLEAU DE BORD'!$B$13:$B$2000,0),8)+INDEX($CI$15:$CJ$2005,MATCH($J$2,$CI$15:$CI$2005,0),2)+INDEX('[1]TABLEAU DE BORD'!$B$13:$R$2000,MATCH('Formalisme RTE'!$H$2,'[1]TABLEAU DE BORD'!$B$13:$B$2000,0),9)))*Q16/$M$18) -> 243.01464 | CF16: ='[1]TABLEAU DE BORD'!B14 -> 61 | CG16: ='[1]TABLEAU DE BORD'!E14-'[1]TABLEAU DE BORD'!C14 -> 21.27 | CI16: ='[1]TABLEAU DE BORD'!H14 -> 62 | CJ16: ='[1]TABLEAU DE BORD'!K14-'[1]TABLEAU DE BORD'!I14 -> 13.76
B17: Points | C17: =H2 -> 37 | D17: =P16 -> 37-2 | E17: =P17 -> 37-3 | F17: =P18 -> 37-4 | G17: =P19 -> 37-5 | H17: =P20 | I17: =P21 | J17: =P22 | K17: =P23 | L17: =P24 | M17: =P25 | P17: =IF(OR(Q17="",$M$18=""),"",CONCATENATE($C$17,"-",R17)) -> 37-3 | Q17: =IF(OR(Q16=$M$18,$M$18=""),"",IF(Q16="","",IF(Q16>$M$18-$Q$11,$M$18,IF($Q$11="",IF(Q16>$M$18-$M$18/$V$11,"",Q16+$M$18/$V$11),Q16+$Q$11)))) -> 100 | R17: 3 | S17: =IF(Q17="","",BQ17+BR17+$BG$21+5) -> 14.901473 | W17: =IF(ISERROR(#REF!)=TRUE,"",IF(#REF!-(U17+V17)<=0,"Arbre à abattre",#REF!-(U17+V17))) | Y17: =IF(X17="","",IF(W17-(S17*X17)<=0,"A Abattre",W17-(S17*X17))) | Z17: =IF(X17="","",IF(W17+(S17*X17)<=0,"A Abattre",W17+(S17*X17))) | AC17: =IF(OR(AD17="",$M$18=""),"",CONCATENATE($C$17,"-",AE17)) -> 37-3 | AD17: =IF(OR(AD16=$M$18,$M$18=""),"",IF(AD16="","",IF(AD16>$M$18-$AD$11,$M$18,IF($AD$11="",IF(AD16>$M$18-$M$18/$AI$11,"",AD16+$M$18/$AI$11),AD16+$AD$11)))) -> 100 | AE17: 3 | AF17: =IF(AD17="","",BQ17+BR17+'[1]TABLEAU DE BORD'!$O$6) -> 8.4014733 | AJ17: =IF(ISERROR(#REF!)=TRUE,"",IF(#REF!-(AH17+AI17)<=0,"Arbre à abattre",#REF!-(AH17+AI17))) | AL17: =IF(AK17="","",IF(AJ17-(AF17*AK17)<=0,"A Abattre",AJ17-(AF17*AK17))) | AM17: =IF(AK17="","",IF(AJ17+(AF17*AK17)<=0,"A Abattre",AJ17+(AF17*AK17))) | AO17: =IF(OR(AP17="",$M$18=""),"",CONCATENATE($C$17,"-",AQ17)) -> 37-3 | AP17: =IF(OR(AP16=$M$18,$M$18=""),"",IF(AP16="","",IF(AP16>$M$18-$AP$11,$M$18,IF($AP$11="",IF(AP16>$M$18-$M$18/$AU$11,"",AP16+$M$18/$AU$11),AP16+$AP$11)))) -> 30 | AQ17: 3 | AR17: =IF(AP17="","",BQ17+$BG$7+CA17) -> 9.3103406 | AV17: =IF(ISERROR(#REF!)=TRUE,"",IF(#REF!-(AT17+AU17)<=0,"Arbre à abattre",#REF!-(AT17+AU17))) | AX17: =IF(AW17="","",IF(AV17-(AR17*AW17)<=0,"A Abattre",AV17-(AR17*AW17))) | AY17: =IF(AW17="","",IF(AV17+(AR17*AW17)<=0,"A Abattre",AV17+(AR17*AW17))) | BQ17: =INDEX('[1]TABLEAU DE BORD'!$B$13:$R$2000,MATCH('Formalisme RTE'!$H$2,'[1]TABLEAU DE BORD'!$B$13:$B$2000,0),5)-(INDEX('[1]TABLEAU DE BORD'!$B$13:$R$2000,MATCH('Formalisme RTE'!$H$2,'[1]TABLEAU DE BORD'!$B$13:$B$2000,0),5)-INDEX('[1]TABLEAU DE BORD'!$B$13:$R$2000,MATCH('Formalisme RTE'!$H$2,'[1]TABLEAU DE BORD'!$B$13:$B$2000,0),11))*Q17/INDEX('[1]TABLEAU DE BORD'!$B$13:$R$2000,MATCH('Formalisme RTE'!$H$2,'[1]TABLEAU DE BORD'!$B$13:$B$2000,0),12) -> 3.4917991 | BR17: =BU17*CA17 -> 2.9096742 | BU17: =SQRT(1-(1/(SQRT((BY17*0.981)^2+(($B$30/10)*BW17*0.001)^2)/(BY17*0.981))^2)) -> 0.57588835 | BW17: =IF($BW$6="","",IF(ISERROR(INDEX([1]Base!$A$2:$C$207,MATCH($BW$6,[1]Base!$A$2:$A$207,0),2))=TRUE,"CABLE INCONNU",(INDEX([1]Base!$A$2:$C$207,MATCH($BW$6,[1]Base!$A$2:$A$207,0),3)))) -> 15.75 | BY17: =IF($BW$6="","",IF(ISERROR(INDEX([1]Base!$A$2:$C$207,MATCH($BW$6,[1]Base!$A$2:$A$207,0),2))=TRUE,"CABLE INCONNU",(INDEX([1]Base!$A$2:$C$207,MATCH($BW$6,[1]Base!$A$2:$A$207,0),2)))) -> 0.547 | CA17: =CD17-CC17 -> 5.0524971 | CC17: =$BB$28+$D$10*((EXP(($BB$26-Q17)/$D$10)+EXP(-($BB$26-Q17)/$D$10))/2-1) -> 243.01678 | CD17: =(INDEX('[1]TABLEAU DE BORD'!$B$13:$R$2000,MATCH('Formalisme RTE'!$H$2,'[1]TABLEAU DE BORD'!$B$13:$B$2000,0),2)+INDEX($CF$15:$CG$2005,MATCH($H$2,$CF$15:$CF$2005,0),2)+INDEX('[1]TABLEAU DE BORD'!$B$13:$R$2000,MATCH('Formalisme RTE'!$H$2,'[1]TABLEAU DE BORD'!$B$13:$B$2000,0),3))-(((INDEX('[1]TABLEAU DE BORD'!$B$13:$R$2000,MATCH('Formalisme RTE'!$H$2,'[1]TABLEAU DE BORD'!$B$13:$B$2000,0),2)+INDEX($CF$15:$CG$2005,MATCH($H$2,$CF$15:$CF$2005,0),2)+INDEX('[1]TABLEAU DE BORD'!$B$13:$R$2000,MATCH('Formalisme RTE'!$H$2,'[1]TABLEAU DE BORD'!$B$13:$B$2000,0),3))-(INDEX('[1]TABLEAU DE BORD'!$B$13:$R$2000,MATCH('Formalisme RTE'!$H$2,'[1]TABLEAU DE BORD'!$B$13:$B$2000,0),8)+INDEX($CI$15:$CJ$2005,MATCH($J$2,$CI$15:$CI$2005,0),2)+INDEX('[1]TABLEAU DE BORD'!$B$13:$R$2000,MATCH('Formalisme RTE'!$H$2,'[1]TABLEAU DE BORD'!$B$13:$B$2000,0),9)))*Q17/$M$18) -> 248.06928 | CF17: ='[1]TABLEAU DE BORD'!B15 -> 62 | CG17: ='[1]TABLEAU DE BORD'!E15-'[1]TABLEAU DE BORD'!C15 -> 13.76 | CI17: ='[1]TABLEAU DE BORD'!H15 -> Madeleine | CJ17: ='[1]TABLEAU DE BORD'!K15-'[1]TABLEAU DE BORD'!I15 -> 8.92
B18: =CONCATENATE("Distance / Support n° ",H2,"") -> Distance / Support n° 37 | C18: 0 | D18: =Q16 -> 50 | E18: =Q17 -> 100 | F18: =Q18 -> 150 | G18: =Q19 -> 189.43 | H18: =Q20 | I18: =Q21 | J18: =Q22 | K18: =Q23 | L18: =Q24 | M18: =INDEX('[1]TABLEAU DE BORD'!B13:R2000,MATCH('Formalisme RTE'!H2,'[1]TABLEAU DE BORD'!B13:B2000,0),12) -> 189.43 | P18: =IF(OR(Q18="",$M$18=""),"",CONCATENATE($C$17,"-",R18)) -> 37-4 | Q18: =IF(OR(Q17=$M$18,$M$18=""),"",IF(Q17="","",IF(Q17>$M$18-$Q$11,$M$18,IF($Q$11="",IF(Q17>$M$18-$M$18/$V$11,"",Q17+$M$18/$V$11),Q17+$Q$11)))) -> 150 | R18: 4 | S18: =IF(Q18="","",BQ18+BR18+$BG$21+5) -> 14.31425 | W18: =IF(ISERROR(BP13)=TRUE,"",IF(BP13-(U18+V18)<=0,"Arbre à abattre",BP13-(U18+V18))) -> Arbre à abattre | Y18: =IF(X18="","",IF(W18-(S18*X18)<=0,"A Abattre",W18-(S18*X18))) | Z18: =IF(X18="","",IF(W18+(S18*X18)<=0,"A Abattre",W18+(S18*X18))) | AC18: =IF(OR(AD18="",$M$18=""),"",CONCATENATE($C$17,"-",AE18)) -> 37-4 | AD18: =IF(OR(AD17=$M$18,$M$18=""),"",IF(AD17="","",IF(AD17>$M$18-$AD$11,$M$18,IF($AD$11="",IF(AD17>$M$18-$M$18/$AI$11,"",AD17+$M$18/$AI$11),AD17+$AD$11)))) -> 150 | AE18: 4 | AF18: =IF(AD18="","",BQ18+BR18+'[1]TABLEAU DE BORD'!$O$6) -> 7.8142501 | AJ18: =IF(ISERROR(CC13)=TRUE,"",IF(CC13-(AH18+AI18)<=0,"Arbre à abattre",CC13-(AH18+AI18))) -> Arbre à abattre | AL18: =IF(AK18="","",IF(AJ18-(AF18*AK18)<=0,"A Abattre",AJ18-(AF18*AK18))) | AM18: =IF(AK18="","",IF(AJ18+(AF18*AK18)<=0,"A Abattre",AJ18+(AF18*AK18))) | AO18: =IF(OR(AP18="",$M$18=""),"",CONCATENATE($C$17,"-",AQ18)) -> 37-4 | AP18: =IF(OR(AP17=$M$18,$M$18=""),"",IF(AP17="","",IF(AP17>$M$18-$AP$11,$M$18,IF($AP$11="",IF(AP17>$M$18-$M$18/$AU$11,"",AP17+$M$18/$AU$11),AP17+$AP$11)))) -> 45 | AQ18: 4 | AR18: =IF(AP18="","",BQ18+$BG$7+CA18) -> 8.0005742 | AV18: =IF(ISERROR(CO13)=TRUE,"",IF(CO13-(AT18+AU18)<=0,"Arbre à abattre",CO13-(AT18+AU18))) -> Arbre à abattre | AX18: =IF(AW18="","",IF(AV18-(AR18*AW18)<=0,"A Abattre",AV18-(AR18*AW18))) | AY18: =IF(AW18="","",IF(AV18+(AR18*AW18)<=0,"A Abattre",AV18+(AR18*AW18))) | BQ18: =INDEX('[1]TABLEAU DE BORD'!$B$13:$R$2000,MATCH('Formalisme RTE'!$H$2,'[1]TABLEAU DE BORD'!$B$13:$B$2000,0),5)-(INDEX('[1]TABLEAU DE BORD'!$B$13:$R$2000,MATCH('Formalisme RTE'!$H$2,'[1]TABLEAU DE BORD'!$B$13:$B$2000,0),5)-INDEX('[1]TABLEAU DE BORD'!$B$13:$R$2000,MATCH('Formalisme RTE'!$H$2,'[1]TABLEAU DE BORD'!$B$13:$B$2000,0),11))*Q18/INDEX('[1]TABLEAU DE BORD'!$B$13:$R$2000,MATCH('Formalisme RTE'!$H$2,'[1]TABLEAU DE BORD'!$B$13:$B$2000,0),12) -> 3.8856955 | BR18: =BU18*CA18 -> 1.9285546 | BU18: =SQRT(1-(1/(SQRT((BY18*0.981)^2+(($B$30/10)*BW18*0.001)^2)/(BY18*0.981))^2)) -> 0.57588835 | BW18: =IF($BW$6="","",IF(ISERROR(INDEX([1]Base!$A$2:$C$207,MATCH($BW$6,[1]Base!$A$2:$A$207,0),2))=TRUE,"CABLE INCONNU",(INDEX([1]Base!$A$2:$C$207,MATCH($BW$6,[1]Base!$A$2:$A$207,0),3)))) -> 15.75 | BY18: =IF($BW$6="","",IF(ISERROR(INDEX([1]Base!$A$2:$C$207,MATCH($BW$6,[1]Base!$A$2:$A$207,0),2))=TRUE,"CABLE INCONNU",(INDEX([1]Base!$A$2:$C$207,MATCH($BW$6,[1]Base!$A$2:$A$207,0),2)))) -> 0.547 | CA18: =CD18-CC18 -> 3.3488343 | CC18: =$BB$28+$D$10*((EXP(($BB$26-Q18)/$D$10)+EXP(-($BB$26-Q18)/$D$10))/2-1) -> 249.77508 | CD18: =(INDEX('[1]TABLEAU DE BORD'!$B$13:$R$2000,MATCH('Formalisme RTE'!$H$2,'[1]TABLEAU DE BORD'!$B$13:$B$2000,0),2)+INDEX($CF$15:$CG$2005,MATCH($H$2,$CF$15:$CF$2005,0),2)+INDEX('[1]TABLEAU DE BORD'!$B$13:$R$2000,MATCH('Formalisme RTE'!$H$2,'[1]TABLEAU DE BORD'!$B$13:$B$2000,0),3))-(((INDEX('[1]TABLEAU DE BORD'!$B$13:$R$2000,MATCH('Formalisme RTE'!$H$2,'[1]TABLEAU DE BORD'!$B$13:$B$2000,0),2)+INDEX($CF$15:$CG$2005,MATCH($H$2,$CF$15:$CF$2005,0),2)+INDEX('[1]TABLEAU DE BORD'!$B$13:$R$2000,MATCH('Formalisme RTE'!$H$2,'[1]TABLEAU DE BORD'!$B$13:$B$2000,0),3))-(INDEX('[1]TABLEAU DE BORD'!$B$13:$R$2000,MATCH('Formalisme RTE'!$H$2,'[1]TABLEAU DE BORD'!$B$13:$B$2000,0),8)+INDEX($CI$15:$CJ$2005,MATCH($J$2,$CI$15:$CI$2005,0),2)+INDEX('[1]TABLEAU DE BORD'!$B$13:$R$2000,MATCH('Formalisme RTE'!$H$2,'[1]TABLEAU DE BORD'!$B$13:$B$2000,0),9)))*Q18/$M$18) -> 253.12391 | CF18: ='[1]TABLEAU DE BORD'!B16 -> Madeleine | CG18: ='[1]TABLEAU DE BORD'!E16-'[1]TABLEAU DE BORD'!C16 -> 8.92 | CI18: ='[1]TABLEAU DE BORD'!H16 -> 38 | CJ18: ='[1]TABLEAU DE BORD'!K16-'[1]TABLEAU DE BORD'!I16 -> 12.76
B19: Altitude (m) | P19: =IF(OR(Q19="",$M$18=""),"",CONCATENATE($C$17,"-",R19)) -> 37-5 | Q19: =IF(OR(Q18=$M$18,$M$18=""),"",IF(Q18="","",IF(Q18>$M$18-$Q$11,$M$18,IF($Q$11="",IF(Q18>$M$18-$M$18/$V$11,"",Q18+$M$18/$V$11),Q18+$Q$11)))) -> 189.43 | R19: 5 | S19: =IF(Q19="","",BQ19+BR19+$BG$21+5) -> 12.696322 | W19: =IF(ISERROR(BP14)=TRUE,"",IF(BP14-(U19+V19)<=0,"Arbre à abattre",BP14-(U19+V19))) -> Arbre à abattre | Y19: =IF(X19="","",IF(W19-(S19*X19)<=0,"A Abattre",W19-(S19*X19))) | Z19: =IF(X19="","",IF(W19+(S19*X19)<=0,"A Abattre",W19+(S19*X19))) | AC19: =IF(OR(AD19="",$M$18=""),"",CONCATENATE($C$17,"-",AE19)) -> 37-5 | AD19: =IF(OR(AD18=$M$18,$M$18=""),"",IF(AD18="","",IF(AD18>$M$18-$AD$11,$M$18,IF($AD$11="",IF(AD18>$M$18-$M$18/$AI$11,"",AD18+$M$18/$AI$11),AD18+$AD$11)))) -> 189.43 | AE19: 5 | AF19: =IF(AD19="","",BQ19+BR19+'[1]TABLEAU DE BORD'!$O$6) -> 6.1963222 | AJ19: =IF(ISERROR(CC14)=TRUE,"",IF(CC14-(AH19+AI19)<=0,"Arbre à abattre",CC14-(AH19+AI19))) -> Arbre à abattre | AL19: =IF(AK19="","",IF(AJ19-(AF19*AK19)<=0,"A Abattre",AJ19-(AF19*AK19))) | AM19: =IF(AK19="","",IF(AJ19+(AF19*AK19)<=0,"A Abattre",AJ19+(AF19*AK19))) | AO19: =IF(OR(AP19="",$M$18=""),"",CONCATENATE($C$17,"-",AQ19)) -> 37-5 | AP19: =IF(OR(AP18=$M$18,$M$18=""),"",IF(AP18="","",IF(AP18>$M$18-$AP$11,$M$18,IF($AP$11="",IF(AP18>$M$18-$M$18/$AU$11,"",AP18+$M$18/$AU$11),AP18+$AP$11)))) -> 60 | AQ19: 5 | AR19: =IF(AP19="","",BQ19+$BG$7+CA19) -> 4.9623666 | AV19: =IF(ISERROR(CO14)=TRUE,"",IF(CO14-(AT19+AU19)<=0,"Arbre à abattre",CO14-(AT19+AU19))) -> Arbre à abattre | AX19: =IF(AW19="","",IF(AV19-(AR19*AW19)<=0,"A Abattre",AV19-(AR19*AW19))) | AY19: =IF(AW19="","",IF(AV19+(AR19*AW19)<=0,"A Abattre",AV19+(AR19*AW19))) | BF19: G1= | BG19: =BG46 -> 3.5 | BH19: m | BJ19: T1+1m= | BK19: =IF('[1]TABLEAU DE BORD'!L2="AT 2001",2,"Non concerné") -> 2 | BL19: m | BQ19: =INDEX('[1]TABLEAU DE BORD'!$B$13:$R$2000,MATCH('Formalisme RTE'!$H$2,'[1]TABLEAU DE BORD'!$B$13:$B$2000,0),5)-(INDEX('[1]TABLEAU DE BORD'!$B$13:$R$2000,MATCH('Formalisme RTE'!$H$2,'[1]TABLEAU DE BORD'!$B$13:$B$2000,0),5)-INDEX('[1]TABLEAU DE BORD'!$B$13:$R$2000,MATCH('Formalisme RTE'!$H$2,'[1]TABLEAU DE BORD'!$B$13:$B$2000,0),11))*Q19/INDEX('[1]TABLEAU DE BORD'!$B$13:$R$2000,MATCH('Formalisme RTE'!$H$2,'[1]TABLEAU DE BORD'!$B$13:$B$2000,0),12) -> 4.1963222 | BR19: =BU19*CA19 -> 0 | BU19: =SQRT(1-(1/(SQRT((BY19*0.981)^2+(($B$30/10)*BW19*0.001)^2)/(BY19*0.981))^2)) -> 0.57588835 | BW19: =IF($BW$6="","",IF(ISERROR(INDEX([1]Base!$A$2:$C$207,MATCH($BW$6,[1]Base!$A$2:$A$207,0),2))=TRUE,"CABLE INCONNU",(INDEX([1]Base!$A$2:$C$207,MATCH($BW$6,[1]Base!$A$2:$A$207,0),3)))) -> 15.75 | BY19: =IF($BW$6="","",IF(ISERROR(INDEX([1]Base!$A$2:$C$207,MATCH($BW$6,[1]Base!$A$2:$A$207,0),2))=TRUE,"CABLE INCONNU",(INDEX([1]Base!$A$2:$C$207,MATCH($BW$6,[1]Base!$A$2:$A$207,0),2)))) -> 0.547 | CA19: =CD19-CC19 -> 0 | CC19: =$BB$28+$D$10*((EXP(($BB$26-Q19)/$D$10)+EXP(-($BB$26-Q19)/$D$10))/2-1) -> 257.11 | CD19: =(INDEX('[1]TABLEAU DE BORD'!$B$13:$R$2000,MATCH('Formalisme RTE'!$H$2,'[1]TABLEAU DE BORD'!$B$13:$B$2000,0),2)+INDEX($CF$15:$CG$2005,MATCH($H$2,$CF$15:$CF$2005,0),2)+INDEX('[1]TABLEAU DE BORD'!$B$13:$R$2000,MATCH('Formalisme RTE'!$H$2,'[1]TABLEAU DE BORD'!$B$13:$B$2000,0),3))-(((INDEX('[1]TABLEAU DE BORD'!$B$13:$R$2000,MATCH('Formalisme RTE'!$H$2,'[1]TABLEAU DE BORD'!$B$13:$B$2000,0),2)+INDEX($CF$15:$CG$2005,MATCH($H$2,$CF$15:$CF$2005,0),2)+INDEX('[1]TABLEAU DE BORD'!$B$13:$R$2000,MATCH('Formalisme RTE'!$H$2,'[1]TABLEAU DE BORD'!$B$13:$B$2000,0),3))-(INDEX('[1]TABLEAU DE BORD'!$B$13:$R$2000,MATCH('Formalisme RTE'!$H$2,'[1]TABLEAU DE BORD'!$B$13:$B$2000,0),8)+INDEX($CI$15:$CJ$2005,MATCH($J$2,$CI$15:$CI$2005,0),2)+INDEX('[1]TABLEAU DE BORD'!$B$13:$R$2000,MATCH('Formalisme RTE'!$H$2,'[1]TABLEAU DE BORD'!$B$13:$B$2000,0),9)))*Q19/$M$18) -> 257.11 | CF19: ='[1]TABLEAU DE BORD'!B17 -> 38 | CG19: ='[1]TABLEAU DE BORD'!E17-'[1]TABLEAU DE BORD'!C17 -> 12.76 | CI19: ='[1]TABLEAU DE BORD'!H17 -> 37 | CJ19: ='[1]TABLEAU DE BORD'!K17-'[1]TABLEAU DE BORD'!I17 -> 17.86
B20: Distance câble / axe à 15°C vent réduit (m) | C20: =C21-2 -> 2.7040063 | D20: =D21-2 -> 5.3623439 | E20: =IF(ISERROR(E21-2),"",E21-2) -> 6.4014733 | F20: =IF(ISERROR(F21-2),"",F21-2) -> 5.8142501 | G20: =IF(ISERROR(G21-2),"",G21-2) -> 4.1963222 | H20: =IF(ISERROR(H21-2),"",H21-2) | I20: =IF(ISERROR(I21-2),"",I21-2) | J20: =IF(ISERROR(J21-2),"",J21-2) | K20: =IF(ISERROR(K21-2),"",K21-2) | L20: =IF(ISERROR(L21-2),"",L21-2) | M20: =IF(ISERROR(M21-2),"",M21-2) | P20: =IF(OR(Q20="",$M$18=""),"",CONCATENATE($C$17,"-",R20)) | Q20: =IF(OR(Q19=$M$18,$M$18=""),"",IF(Q19="","",IF(Q19>$M$18-$Q$11,$M$18,IF($Q$11="",IF(Q19>$M$18-$M$18/$V$11,"",Q19+$M$18/$V$11),Q19+$Q$11)))) | R20: 6 | S20: =IF(Q20="","",BQ20+BR20+$BG$21+5) | W20: =IF(ISERROR(BP15)=TRUE,"",IF(BP15-(U20+V20)<=0,"Arbre à abattre",BP15-(U20+V20))) -> Arbre à abattre | Y20: =IF(X20="","",IF(W20-(S20*X20)<=0,"A Abattre",W20-(S20*X20))) | Z20: =IF(X20="","",IF(W20+(S20*X20)<=0,"A Abattre",W20+(S20*X20))) | AC20: =IF(OR(AD20="",$M$18=""),"",CONCATENATE($C$17,"-",AE20)) | AD20: =IF(OR(AD19=$M$18,$M$18=""),"",IF(AD19="","",IF(AD19>$M$18-$AD$11,$M$18,IF($AD$11="",IF(AD19>$M$18-$M$18/$AI$11,"",AD19+$M$18/$AI$11),AD19+$AD$11)))) | AE20: 6 | AF20: =IF(AD20="","",BQ20+BR20+'[1]TABLEAU DE BORD'!$O$6) | AJ20: =IF(ISERROR(CC15)=TRUE,"",IF(CC15-(AH20+AI20)<=0,"Arbre à abattre",CC15-(AH20+AI20))) -> 237.96 | AL20: =IF(AK20="","",IF(AJ20-(AF20*AK20)<=0,"A Abattre",AJ20-(AF20*AK20))) | AM20: =IF(AK20="","",IF(AJ20+(AF20*AK20)<=0,"A Abattre",AJ20+(AF20*AK20))) | AO20: =IF(OR(AP20="",$M$18=""),"",CONCATENATE($C$17,"-",AQ20)) -> 37-6 | AP20: =IF(OR(AP19=$M$18,$M$18=""),"",IF(AP19="","",IF(AP19>$M$18-$AP$11,$M$18,IF($AP$11="",IF(AP19>$M$18-$M$18/$AU$11,"",AP19+$M$18/$AU$11),AP19+$AP$11)))) -> 75 | AQ20: 6 | AR20: =IF(AP20="","",BQ20+$BG$7+CA20) -> #VALUE! | AV20: =IF(ISERROR(CO15)=TRUE,"",IF(CO15-(AT20+AU20)<=0,"Arbre à abattre",CO15-(AT20+AU20))) -> Arbre à abattre | AX20: =IF(AW20="","",IF(AV20-(AR20*AW20)<=0,"A Abattre",AV20-(AR20*AW20))) | AY20: =IF(AW20="","",IF(AV20+(AR20*AW20)<=0,"A Abattre",AV20+(AR20*AW20))) | BA20: - Dénivelée (droite - gauche):H=H2-H1 | BB20: =(INDEX('[1]TABLEAU DE BORD'!B13:R2000,MATCH('Formalisme RTE'!H2,'[1]TABLEAU DE BORD'!B13:B2000,0),10)-INDEX('[1]TABLEAU DE BORD'!B13:R2000,MATCH('Formalisme RTE'!H2,'[1]TABLEAU DE BORD'!B13:B2000,0),4)) -> 19.15 | BQ20: =INDEX('[1]TABLEAU DE BORD'!$B$13:$R$2000,MATCH('Formalisme RTE'!$H$2,'[1]TABLEAU DE BORD'!$B$13:$B$2000,0),5)-(INDEX('[1]TABLEAU DE BORD'!$B$13:$R$2000,MATCH('Formalisme RTE'!$H$2,'[1]TABLEAU DE BORD'!$B$13:$B$2000,0),5)-INDEX('[1]TABLEAU DE BORD'!$B$13:$R$2000,MATCH('Formalisme RTE'!$H$2,'[1]TABLEAU DE BORD'!$B$13:$B$2000,0),11))*Q20/INDEX('[1]TABLEAU DE BORD'!$B$13:$R$2000,MATCH('Formalisme RTE'!$H$2,'[1]TABLEAU DE BORD'!$B$13:$B$2000,0),12) -> #VALUE! | BR20: =BU20*CA20 -> #VALUE! | BU20: =SQRT(1-(1/(SQRT((BY20*0.981)^2+(($B$30/10)*BW20*0.001)^2)/(BY20*0.981))^2)) -> 0.57588835 | BW20: =IF($BW$6="","",IF(ISERROR(INDEX([1]Base!$A$2:$C$207,MATCH($BW$6,[1]Base!$A$2:$A$207,0),2))=TRUE,"CABLE INCONNU",(INDEX([1]Base!$A$2:$C$207,MATCH($BW$6,[1]Base!$A$2:$A$207,0),3)))) -> 15.75 | BY20: =IF($BW$6="","",IF(ISERROR(INDEX([1]Base!$A$2:$C$207,MATCH($BW$6,[1]Base!$A$2:$A$207,0),2))=TRUE,"CABLE INCONNU",(INDEX([1]Base!$A$2:$C$207,MATCH($BW$6,[1]Base!$A$2:$A$207,0),2)))) -> 0.547 | CA20: =CD20-CC20 -> #VALUE! | CC20: =$BB$28+$D$10*((EXP(($BB$26-Q20)/$D$10)+EXP(-($BB$26-Q20)/$D$10))/2-1) -> #VALUE! | CD20: =(INDEX('[1]TABLEAU DE BORD'!$B$13:$R$2000,MATCH('Formalisme RTE'!$H$2,'[1]TABLEAU DE BORD'!$B$13:$B$2000,0),2)+INDEX($CF$15:$CG$2005,MATCH($H$2,$CF$15:$CF$2005,0),2)+INDEX('[1]TABLEAU DE BORD'!$B$13:$R$2000,MATCH('Formalisme RTE'!$H$2,'[1]TABLEAU DE BORD'!$B$13:$B$2000,0),3))-(((INDEX('[1]TABLEAU DE BORD'!$B$13:$R$2000,MATCH('Formalisme RTE'!$H$2,'[1]TABLEAU DE BORD'!$B$13:$B$2000,0),2)+INDEX($CF$15:$CG$2005,MATCH($H$2,$CF$15:$CF$2005,0),2)+INDEX('[1]TABLEAU DE BORD'!$B$13:$R$2000,MATCH('Formalisme RTE'!$H$2,'[1]TABLEAU DE BORD'!$B$13:$B$2000,0),3))-(INDEX('[1]TABLEAU DE BORD'!$B$13:$R$2000,MATCH('Formalisme RTE'!$H$2,'[1]TABLEAU DE BORD'!$B$13:$B$2000,0),8)+INDEX($CI$15:$CJ$2005,MATCH($J$2,$CI$15:$CI$2005,0),2)+INDEX('[1]TABLEAU DE BORD'!$B$13:$R$2000,MATCH('Formalisme RTE'!$H$2,'[1]TABLEAU DE BORD'!$B$13:$B$2000,0),9)))*Q20/$M$18) -> #VALUE! | CF20: ='[1]TABLEAU DE BORD'!B18 -> 37 | CG20: ='[1]TABLEAU DE BORD'!E18-'[1]TABLEAU DE BORD'!C18 -> 17.86 | CI20: ='[1]TABLEAU DE BORD'!H18 -> 3N | CJ20: ='[1]TABLEAU DE BORD'!K18-'[1]TABLEAU DE BORD'!I18 -> 27
B21: 1/2 largeur / axe à l'AT 2001 (m) | C21: =AF15 -> 4.7040063 | D21: =AF16 -> 7.3623439 | E21: =AF17 -> 8.4014733 | F21: =AF18 -> 7.8142501 | G21: =AF19 -> 6.1963222 | H21: =AF20 | I21: =AF21 | J21: =AF22 | K21: =AF23 | L21: =AF24 | M21: =AF25 | P21: =IF(OR(Q21="",$M$18=""),"",CONCATENATE($C$17,"-",R21)) | Q21: =IF(OR(Q20=$M$18,$M$18=""),"",IF(Q20="","",IF(Q20>$M$18-$Q$11,$M$18,IF($Q$11="",IF(Q20>$M$18-$M$18/$V$11,"",Q20+$M$18/$V$11),Q20+$Q$11)))) | R21: 7 | S21: =IF(Q21="","",BQ21+BR21+$BG$21+5) | W21: =IF(ISERROR(BO15)=TRUE,"",IF(BO15-(U21+V21)<=0,"Arbre à abattre",BO15-(U21+V21))) -> Arbre à abattre | Y21: =IF(X21="","",IF(W21-(S21*X21)<=0,"A Abattre",W21-(S21*X21))) | Z21: =IF(X21="","",IF(W21+(S21*X21)<=0,"A Abattre",W21+(S21*X21))) | AC21: =IF(OR(AD21="",$M$18=""),"",CONCATENATE($C$17,"-",AE21)) | AD21: =IF(OR(AD20=$M$18,$M$18=""),"",IF(AD20="","",IF(AD20>$M$18-$AD$11,$M$18,IF($AD$11="",IF(AD20>$M$18-$M$18/$AI$11,"",AD20+$M$18/$AI$11),AD20+$AD$11)))) | AE21: 7 | AF21: =IF(AD21="","",BQ21+BR21+'[1]TABLEAU DE BORD'!$O$6) | AJ21: =IF(ISERROR(CB15)=TRUE,"",IF(CB15-(AH21+AI21)<=0,"Arbre à abattre",CB15-(AH21+AI21))) -> Arbre à abattre | AL21: =IF(AK21="","",IF(AJ21-(AF21*AK21)<=0,"A Abattre",AJ21-(AF21*AK21))) | AM21: =IF(AK21="","",IF(AJ21+(AF21*AK21)<=0,"A Abattre",AJ21+(AF21*AK21))) | AO21: =IF(OR(AP21="",$M$18=""),"",CONCATENATE($C$17,"-",AQ21)) -> 37-7 | AP21: =IF(OR(AP20=$M$18,$M$18=""),"",IF(AP20="","",IF(AP20>$M$18-$AP$11,$M$18,IF($AP$11="",IF(AP20>$M$18-$M$18/$AU$11,"",AP20+$M$18/$AU$11),AP20+$AP$11)))) -> 90 | AQ21: 7 | AR21: =IF(AP21="","",BQ21+$BG$7+CA21) -> #VALUE! | AV21: =IF(ISERROR(CN15)=TRUE,"",IF(CN15-(AT21+AU21)<=0,"Arbre à abattre",CN15-(AT21+AU21))) -> Arbre à abattre | AX21: =IF(AW21="","",IF(AV21-(AR21*AW21)<=0,"A Abattre",AV21-(AR21*AW21))) | AY21: =IF(AW21="","",IF(AV21+(AR21*AW21)<=0,"A Abattre",AV21+(AR21*AW21))) | BA21: - Demi-portée/param tre: A/2.P | BB21: =INDEX('[1]TABLEAU DE BORD'!B13:R2000,MATCH('Formalisme RTE'!H2,'[1]TABLEAU DE BORD'!B13:B2000,0),12)/(2*INDEX('[1]TABLEAU DE BORD'!B13:R2000,MATCH('Formalisme RTE'!H2,'[1]TABLEAU DE BORD'!B13:B2000,0),15)) -> 0.10635921 | BF21: G2= | BG21: =BG47 -> 3.5 | BH21: m | BJ21: T3+1m= | BK21: =IF('[1]TABLEAU DE BORD'!L2="AT 2001",INDEX('Formalisme RTE'!BM8:BO12,MATCH('Formalisme RTE'!D7,'Formalisme RTE'!BM8:BM12,0),3),"Non concerné") -> 2 | BL21: m | BQ21: =INDEX('[1]TABLEAU DE BORD'!$B$13:$R$2000,MATCH('Formalisme RTE'!$H$2,'[1]TABLEAU DE BORD'!$B$13:$B$2000,0),5)-(INDEX('[1]TABLEAU DE BORD'!$B$13:$R$2000,MATCH('Formalisme RTE'!$H$2,'[1]TABLEAU DE BORD'!$B$13:$B$2000,0),5)-INDEX('[1]TABLEAU DE BORD'!$B$13:$R$2000,MATCH('Formalisme RTE'!$H$2,'[1]TABLEAU DE BORD'!$B$13:$B$2000,0),11))*Q21/INDEX('[1]TABLEAU DE BORD'!$B$13:$R$2000,MATCH('Formalisme RTE'!$H$2,'[1]TABLEAU DE BORD'!$B$13:$B$2000,0),12) -> #VALUE! | BR21: =BU21*CA21 -> #VALUE! | BU21: =SQRT(1-(1/(SQRT((BY21*0.981)^2+(($B$30/10)*BW21*0.001)^2)/(BY21*0.981))^2)) -> 0.57588835 | BW21: =IF($BW$6="","",IF(ISERROR(INDEX([1]Base!$A$2:$C$207,MATCH($BW$6,[1]Base!$A$2:$A$207,0),2))=TRUE,"CABLE INCONNU",(INDEX([1]Base!$A$2:$C$207,MATCH($BW$6,[1]Base!$A$2:$A$207,0),3)))) -> 15.75 | BY21: =IF($BW$6="","",IF(ISERROR(INDEX([1]Base!$A$2:$C$207,MATCH($BW$6,[1]Base!$A$2:$A$207,0),2))=TRUE,"CABLE INCONNU",(INDEX([1]Base!$A$2:$C$207,MATCH($BW$6,[1]Base!$A$2:$A$207,0),2)))) -> 0.547 | CA21: =CD21-CC21 -> #VALUE! | CC21: =$BB$28+$D$10*((EXP(($BB$26-Q21)/$D$10)+EXP(-($BB$26-Q21)/$D$10))/2-1) -> #VALUE! | CD21: =(INDEX('[1]TABLEAU DE BORD'!$B$13:$R$2000,MATCH('Formalisme RTE'!$H$2,'[1]TABLEAU DE BORD'!$B$13:$B$2000,0),2)+INDEX($CF$15:$CG$2005,MATCH($H$2,$CF$15:$CF$2005,0),2)+INDEX('[1]TABLEAU DE BORD'!$B$13:$R$2000,MATCH('Formalisme RTE'!$H$2,'[1]TABLEAU DE BORD'!$B$13:$B$2000,0),3))-(((INDEX('[1]TABLEAU DE BORD'!$B$13:$R$2000,MATCH('Formalisme RTE'!$H$2,'[1]TABLEAU DE BORD'!$B$13:$B$2000,0),2)+INDEX($CF$15:$CG$2005,MATCH($H$2,$CF$15:$CF$2005,0),2)+INDEX('[1]TABLEAU DE BORD'!$B$13:$R$2000,MATCH('Formalisme RTE'!$H$2,'[1]TABLEAU DE BORD'!$B$13:$B$2000,0),3))-(INDEX('[1]TABLEAU DE BORD'!$B$13:$R$2000,MATCH('Formalisme RTE'!$H$2,'[1]TABLEAU DE BORD'!$B$13:$B$2000,0),8)+INDEX($CI$15:$CJ$2005,MATCH($J$2,$CI$15:$CI$2005,0),2)+INDEX('[1]TABLEAU DE BORD'!$B$13:$R$2000,MATCH('Formalisme RTE'!$H$2,'[1]TABLEAU DE BORD'!$B$13:$B$2000,0),9)))*Q21/$M$18) -> #VALUE! | CF21: ='[1]TABLEAU DE BORD'!B19 -> 3N | CG21: ='[1]TABLEAU DE BORD'!E19-'[1]TABLEAU DE BORD'!C19 -> 27 | CI21: ='[1]TABLEAU DE BORD'!H19 -> 4N | CJ21: ='[1]TABLEAU DE BORD'!K19-'[1]TABLEAU DE BORD'!I19 -> 14
B22: Distance câble / axe à T°répart. + vent (m) | C22: =C23-5-_xlfn.IFS($D$7=63,"3.5",$D$7=90,"3.5",$D$7=225,"4.5",$D$7=400,"6") -> 2.7040063 | D22: =D23-5-_xlfn.IFS($D$7=63,"3.5",$D$7=90,"3.5",$D$7=225,"4.5",$D$7=400,"6") -> 5.3623439 | E22: =IF(ISERROR(E23-5-_xlfn.IFS($D$7=63,"3.5",$D$7=90,"3.5",$D$7=225,"4.5",$D$7=400,"6")),"",E23-5-_xlfn.IFS($D$7=63,"3.5",$D$7=90,"3.5",$D$7=225,"4.5",$D$7=400,"6")) -> 6.4014733 | F22: =IF(ISERROR(F23-5-_xlfn.IFS($D$7=63,"3.5",$D$7=90,"3.5",$D$7=225,"4.5",$D$7=400,"6")),"",F23-5-_xlfn.IFS($D$7=63,"3.5",$D$7=90,"3.5",$D$7=225,"4.5",$D$7=400,"6")) -> 5.8142501 | G22: =IF(ISERROR(G23-5-_xlfn.IFS($D$7=63,"3.5",$D$7=90,"3.5",$D$7=225,"4.5",$D$7=400,"6")),"",G23-5-_xlfn.IFS($D$7=63,"3.5",$D$7=90,"3.5",$D$7=225,"4.5",$D$7=400,"6")) -> 4.1963222 | H22: =IF(ISERROR(H23-5-_xlfn.IFS($D$7=63,"3.5",$D$7=90,"3.5",$D$7=225,"4.5",$D$7=400,"6")),"",H23-5-_xlfn.IFS($D$7=63,"3.5",$D$7=90,"3.5",$D$7=225,"4.5",$D$7=400,"6")) | I22: =IF(ISERROR(I23-5-_xlfn.IFS($D$7=63,"3.5",$D$7=90,"3.5",$D$7=225,"4.5",$D$7=400,"6")),"",I23-5-_xlfn.IFS($D$7=63,"3.5",$D$7=90,"3.5",$D$7=225,"4.5",$D$7=400,"6")) | J22: =IF(ISERROR(J23-5-_xlfn.IFS($D$7=63,"3.5",$D$7=90,"3.5",$D$7=225,"4.5",$D$7=400,"6")),"",J23-5-_xlfn.IFS($D$7=63,"3.5",$D$7=90,"3.5",$D$7=225,"4.5",$D$7=400,"6")) | K22: =IF(ISERROR(K23-5-_xlfn.IFS($D$7=63,"3.5",$D$7=90,"3.5",$D$7=225,"4.5",$D$7=400,"6")),"",K23-5-_xlfn.IFS($D$7=63,"3.5",$D$7=90,"3.5",$D$7=225,"4.5",$D$7=400,"6")) | L22: =IF(ISERROR(L23-5-_xlfn.IFS($D$7=63,"3.5",$D$7=90,"3.5",$D$7=225,"4.5",$D$7=400,"6")),"",L23-5-_xlfn.IFS($D$7=63,"3.5",$D$7=90,"3.5",$D$7=225,"4.5",$D$7=400,"6")) | M22: =IF(ISERROR(M23-5-_xlfn.IFS($D$7=63,"3.5",$D$7=90,"3.5",$D$7=225,"4.5",$D$7=400,"6")),"",M23-5-_xlfn.IFS($D$7=63,"3.5",$D$7=90,"3.5",$D$7=225,"4.5",$D$7=400,"6")) | P22: =IF(OR(Q22="",$M$18=""),"",CONCATENATE($C$17,"-",R22)) | Q22: =IF(OR(Q21=$M$18,$M$18=""),"",IF(Q21="","",IF(Q21>$M$18-$Q$11,$M$18,IF($Q$11="",IF(Q21>$M$18-$M$18/$V$11,"",Q21+$M$18/$V$11),Q21+$Q$11)))) | R22: 8 | S22: =IF(Q22="","",BQ22+BR22+$BG$21+5) | W22: =IF(ISERROR(BX22)=TRUE,"",IF(BX22-(U22+V22)<=0,"Arbre à abattre",BX22-(U22+V22))) -> Arbre à abattre | Y22: =IF(X22="","",IF(W22-(S22*X22)<=0,"A Abattre",W22-(S22*X22))) | Z22: =IF(X22="","",IF(W22+(S22*X22)<=0,"A Abattre",W22+(S22*X22))) | AC22: =IF(OR(AD22="",$M$18=""),"",CONCATENATE($C$17,"-",AE22)) | AD22: =IF(OR(AD21=$M$18,$M$18=""),"",IF(AD21="","",IF(AD21>$M$18-$AD$11,$M$18,IF($AD$11="",IF(AD21>$M$18-$M$18/$AI$11,"",AD21+$M$18/$AI$11),AD21+$AD$11)))) | AE22: 8 | AF22: =IF(AD22="","",BQ22+BR22+'[1]TABLEAU DE BORD'!$O$6) | AJ22: =IF(ISERROR(CK22)=TRUE,"",IF(CK22-(AH22+AI22)<=0,"Arbre à abattre",CK22-(AH22+AI22))) -> Arbre à abattre | AL22: =IF(AK22="","",IF(AJ22-(AF22*AK22)<=0,"A Abattre",AJ22-(AF22*AK22))) | AM22: =IF(AK22="","",IF(AJ22+(AF22*AK22)<=0,"A Abattre",AJ22+(AF22*AK22))) | AO22: =IF(OR(AP22="",$M$18=""),"",CONCATENATE($C$17,"-",AQ22)) -> 37-8 | AP22: =IF(OR(AP21=$M$18,$M$18=""),"",IF(AP21="","",IF(AP21>$M$18-$AP$11,$M$18,IF($AP$11="",IF(AP21>$M$18-$M$18/$AU$11,"",AP21+$M$18/$AU$11),AP21+$AP$11)))) -> 105 | AQ22: 8 | AR22: =IF(AP22="","",BQ22+$BG$7+CA22) -> #VALUE! | AV22: =IF(ISERROR(CW22)=TRUE,"",IF(CW22-(AT22+AU22)<=0,"Arbre à abattre",CW22-(AT22+AU22))) -> Arbre à abattre | AX22: =IF(AW22="","",IF(AV22-(AR22*AW22)<=0,"A Abattre",AV22-(AR22*AW22))) | AY22: =IF(AW22="","",IF(AV22+(AR22*AW22)<=0,"A Abattre",AV22+(AR22*AW22))) | BA22: - K = H / (2.P.sh(A/2.P)) | BB22: =BB20/(2*INDEX('[1]TABLEAU DE BORD'!B13:R2000,MATCH('Formalisme RTE'!H2,'[1]TABLEAU DE BORD'!B13:B2000,0),15)*(EXP(BB21)-EXP(-BB21))/2) -> 0.1009024 | BQ22: =INDEX('[1]TABLEAU DE BORD'!$B$13:$R$2000,MATCH('Formalisme RTE'!$H$2,'[1]TABLEAU DE BORD'!$B$13:$B$2000,0),5)-(INDEX('[1]TABLEAU DE BORD'!$B$13:$R$2000,MATCH('Formalisme RTE'!$H$2,'[1]TABLEAU DE BORD'!$B$13:$B$2000,0),5)-INDEX('[1]TABLEAU DE BORD'!$B$13:$R$2000,MATCH('Formalisme RTE'!$H$2,'[1]TABLEAU DE BORD'!$B$13:$B$2000,0),11))*Q22/INDEX('[1]TABLEAU DE BORD'!$B$13:$R$2000,MATCH('Formalisme RTE'!$H$2,'[1]TABLEAU DE BORD'!$B$13:$B$2000,0),12) -> #VALUE! | BR22: =BU22*CA22 -> #VALUE! | BU22: =SQRT(1-(1/(SQRT((BY22*0.981)^2+(($B$30/10)*BW22*0.001)^2)/(BY22*0.981))^2)) -> 0.57588835 | BW22: =IF($BW$6="","",IF(ISERROR(INDEX([1]Base!$A$2:$C$207,MATCH($BW$6,[1]Base!$A$2:$A$207,0),2))=TRUE,"CABLE INCONNU",(INDEX([1]Base!$A$2:$C$207,MATCH($BW$6,[1]Base!$A$2:$A$207,0),3)))) -> 15.75 | BY22: =IF($BW$6="","",IF(ISERROR(INDEX([1]Base!$A$2:$C$207,MATCH($BW$6,[1]Base!$A$2:$A$207,0),2))=TRUE,"CABLE INCONNU",(INDEX([1]Base!$A$2:$C$207,MATCH($BW$6,[1]Base!$A$2:$A$207,0),2)))) -> 0.547 | CA22: =CD22-CC22 -> #VALUE! | CC22: =$BB$28+$D$10*((EXP(($BB$26-Q22)/$D$10)+EXP(-($BB$26-Q22)/$D$10))/2-1) -> #VALUE! | CD22: =(INDEX('[1]TABLEAU DE BORD'!$B$13:$R$2000,MATCH('Formalisme RTE'!$H$2,'[1]TABLEAU DE BORD'!$B$13:$B$2000,0),2)+INDEX($CF$15:$CG$2005,MATCH($H$2,$CF$15:$CF$2005,0),2)+INDEX('[1]TABLEAU DE BORD'!$B$13:$R$2000,MATCH('Formalisme RTE'!$H$2,'[1]TABLEAU DE BORD'!$B$13:$B$2000,0),3))-(((INDEX('[1]TABLEAU DE BORD'!$B$13:$R$2000,MATCH('Formalisme RTE'!$H$2,'[1]TABLEAU DE BORD'!$B$13:$B$2000,0),2)+INDEX($CF$15:$CG$2005,MATCH($H$2,$CF$15:$CF$2005,0),2)+INDEX('[1]TABLEAU DE BORD'!$B$13:$R$2000,MATCH('Formalisme RTE'!$H$2,'[1]TABLEAU DE BORD'!$B$13:$B$2000,0),3))-(INDEX('[1]TABLEAU DE BORD'!$B$13:$R$2000,MATCH('Formalisme RTE'!$H$2,'[1]TABLEAU DE BORD'!$B$13:$B$2000,0),8)+INDEX($CI$15:$CJ$2005,MATCH($J$2,$CI$15:$CI$2005,0),2)+INDEX('[1]TABLEAU DE BORD'!$B$13:$R$2000,MATCH('Formalisme RTE'!$H$2,'[1]TABLEAU DE BORD'!$B$13:$B$2000,0),9)))*Q22/$M$18) -> #VALUE! | CF22: ='[1]TABLEAU DE BORD'!B20 -> 4N | CG22: ='[1]TABLEAU DE BORD'!E20-'[1]TABLEAU DE BORD'!C20 -> 14 | CI22: ='[1]TABLEAU DE BORD'!H20 -> Madeleine2 | CJ22: ='[1]TABLEAU DE BORD'!K20-'[1]TABLEAU DE BORD'!I20 -> 15.3
B23: 1/2 largeur / axe selon DT (G2 + 5 m) | C23: =S15 -> 11.204006 | D23: =S16 -> 13.862344 | E23: =S17 -> 14.901473 | F23: =S18 -> 14.31425 | G23: =S19 -> 12.696322 | H23: =S20 | I23: =S21 | J23: =S22 | K23: =S23 | L23: =S24 | M23: =S25 | P23: =IF(OR(Q23="",$M$18=""),"",CONCATENATE($C$17,"-",R23)) | Q23: =IF(OR(Q22=$M$18,$M$18=""),"",IF(Q22="","",IF(Q22>$M$18-$Q$11,$M$18,IF($Q$11="",IF(Q22>$M$18-$M$18/$V$11,"",Q22+$M$18/$V$11),Q22+$Q$11)))) | R23: 9 | S23: =IF(Q23="","",BQ23+BR23+$BG$21+5) | W23: =IF(ISERROR(BX23)=TRUE,"",IF(BX23-(U23+V23)<=0,"Arbre à abattre",BX23-(U23+V23))) -> Arbre à abattre | Y23: =IF(X23="","",IF(W23-(S23*X23)<=0,"A Abattre",W23-(S23*X23))) | Z23: =IF(X23="","",IF(W23+(S23*X23)<=0,"A Abattre",W23+(S23*X23))) | AC23: =IF(OR(AD23="",$M$18=""),"",CONCATENATE($C$17,"-",AE23)) | AD23: =IF(OR(AD22=$M$18,$M$18=""),"",IF(AD22="","",IF(AD22>$M$18-$AD$11,$M$18,IF($AD$11="",IF(AD22>$M$18-$M$18/$AI$11,"",AD22+$M$18/$AI$11),AD22+$AD$11)))) | AE23: 9 | AF23: =IF(AD23="","",BQ23+BR23+'[1]TABLEAU DE BORD'!$O$6) | AJ23: =IF(ISERROR(CK23)=TRUE,"",IF(CK23-(AH23+AI23)<=0,"Arbre à abattre",CK23-(AH23+AI23))) -> Arbre à abattre | AL23: =IF(AK23="","",IF(AJ23-(AF23*AK23)<=0,"A Abattre",AJ23-(AF23*AK23))) | AM23: =IF(AK23="","",IF(AJ23+(AF23*AK23)<=0,"A Abattre",AJ23+(AF23*AK23))) | AO23: =IF(OR(AP23="",$M$18=""),"",CONCATENATE($C$17,"-",AQ23)) -> 37-9 | AP23: =IF(OR(AP22=$M$18,$M$18=""),"",IF(AP22="","",IF(AP22>$M$18-$AP$11,$M$18,IF($AP$11="",IF(AP22>$M$18-$M$18/$AU$11,"",AP22+$M$18/$AU$11),AP22+$AP$11)))) -> 120 | AQ23: 9 | AR23: =IF(AP23="","",BQ23+$BG$7+CA23) -> #VALUE! | AV23: =IF(ISERROR(CW23)=TRUE,"",IF(CW23-(AT23+AU23)<=0,"Arbre à abattre",CW23-(AT23+AU23))) -> Arbre à abattre | AX23: =IF(AW23="","",IF(AV23-(AR23*AW23)<=0,"A Abattre",AV23-(AR23*AW23))) | AY23: =IF(AW23="","",IF(AV23+(AR23*AW23)<=0,"A Abattre",AV23+(AR23*AW23))) | BA23: - X2 = K + racine(K²+1) | BB23: =BB22+SQRT(BB22*BB22+1) -> 1.1059802 | BF23: +5m | BH23: OUI | BQ23: =INDEX('[1]TABLEAU DE BORD'!$B$13:$R$2000,MATCH('Formalisme RTE'!$H$2,'[1]TABLEAU DE BORD'!$B$13:$B$2000,0),5)-(INDEX('[1]TABLEAU DE BORD'!$B$13:$R$2000,MATCH('Formalisme RTE'!$H$2,'[1]TABLEAU DE BORD'!$B$13:$B$2000,0),5)-INDEX('[1]TABLEAU DE BORD'!$B$13:$R$2000,MATCH('Formalisme RTE'!$H$2,'[1]TABLEAU DE BORD'!$B$13:$B$2000,0),11))*Q23/INDEX('[1]TABLEAU DE BORD'!$B$13:$R$2000,MATCH('Formalisme RTE'!$H$2,'[1]TABLEAU DE BORD'!$B$13:$B$2000,0),12) -> #VALUE! | BR23: =BU23*CA23 -> #VALUE! | BU23: =SQRT(1-(1/(SQRT((BY23*0.981)^2+(($B$30/10)*BW23*0.001)^2)/(BY23*0.981))^2)) -> 0.57588835 | BW23: =IF($BW$6="","",IF(ISERROR(INDEX([1]Base!$A$2:$C$207,MATCH($BW$6,[1]Base!$A$2:$A$207,0),2))=TRUE,"CABLE INCONNU",(INDEX([1]Base!$A$2:$C$207,MATCH($BW$6,[1]Base!$A$2:$A$207,0),3)))) -> 15.75 | BY23: =IF($BW$6="","",IF(ISERROR(INDEX([1]Base!$A$2:$C$207,MATCH($BW$6,[1]Base!$A$2:$A$207,0),2))=TRUE,"CABLE INCONNU",(INDEX([1]Base!$A$2:$C$207,MATCH($BW$6,[1]Base!$A$2:$A$207,0),2)))) -> 0.547 | CA23: =CD23-CC23 -> #VALUE! | CC23: =$BB$28+$D$10*((EXP(($BB$26-Q23)/$D$10)+EXP(-($BB$26-Q23)/$D$10))/2-1) -> #VALUE! | CD23: =(INDEX('[1]TABLEAU DE BORD'!$B$13:$R$2000,MATCH('Formalisme RTE'!$H$2,'[1]TABLEAU DE BORD'!$B$13:$B$2000,0),2)+INDEX($CF$15:$CG$2005,MATCH($H$2,$CF$15:$CF$2005,0),2)+INDEX('[1]TABLEAU DE BORD'!$B$13:$R$2000,MATCH('Formalisme RTE'!$H$2,'[1]TABLEAU DE BORD'!$B$13:$B$2000,0),3))-(((INDEX('[1]TABLEAU DE BORD'!$B$13:$R$2000,MATCH('Formalisme RTE'!$H$2,'[1]TABLEAU DE BORD'!$B$13:$B$2000,0),2)+INDEX($CF$15:$CG$2005,MATCH($H$2,$CF$15:$CF$2005,0),2)+INDEX('[1]TABLEAU DE BORD'!$B$13:$R$2000,MATCH('Formalisme RTE'!$H$2,'[1]TABLEAU DE BORD'!$B$13:$B$2000,0),3))-(INDEX('[1]TABLEAU DE BORD'!$B$13:$R$2000,MATCH('Formalisme RTE'!$H$2,'[1]TABLEAU DE BORD'!$B$13:$B$2000,0),8)+INDEX($CI$15:$CJ$2005,MATCH($J$2,$CI$15:$CI$2005,0),2)+INDEX('[1]TABLEAU DE BORD'!$B$13:$R$2000,MATCH('Formalisme RTE'!$H$2,'[1]TABLEAU DE BORD'!$B$13:$B$2000,0),9)))*Q23/$M$18) -> #VALUE! | CF23: ='[1]TABLEAU DE BORD'!B21 | CG23: ='[1]TABLEAU DE BORD'!E21-'[1]TABLEAU DE BORD'!C21 -> #VALUE! | CI23: ='[1]TABLEAU DE BORD'!H21 | CJ23: ='[1]TABLEAU DE BORD'!K21-'[1]TABLEAU DE BORD'!I21 -> #VALUE!
B24: Hauteur câble / altitude point à T°répart. (m) | P24: =IF(OR(Q24="",$M$18=""),"",CONCATENATE($C$17,"-",R24)) | Q24: =IF(OR(Q23=$M$18,$M$18=""),"",IF(Q23="","",IF(Q23>$M$18-$Q$11,$M$18,IF($Q$11="",IF(Q23>$M$18-$M$18/$V$11,"",Q23+$M$18/$V$11),Q23+$Q$11)))) | R24: 10 | S24: =IF(Q24="","",BQ24+BR24+$BG$21+5) | AC24: =IF(OR(AD24="",$M$18=""),"",CONCATENATE($C$17,"-",AE24)) | AD24: =IF(OR(AD23=$M$18,$M$18=""),"",IF(AD23="","",IF(AD23>$M$18-$AD$11,$M$18,IF($AD$11="",IF(AD23>$M$18-$M$18/$AI$11,"",AD23+$M$18/$AI$11),AD23+$AD$11)))) | AE24: 10 | AF24: =IF(AD24="","",BQ24+BR24+'[1]TABLEAU DE BORD'!$O$6) | AO24: =IF(OR(AP24="",$M$18=""),"",CONCATENATE($C$17,"-",AQ24)) -> 37-10 | AP24: =IF(OR(AP23=$M$18,$M$18=""),"",IF(AP23="","",IF(AP23>$M$18-$AP$11,$M$18,IF($AP$11="",IF(AP23>$M$18-$M$18/$AU$11,"",AP23+$M$18/$AU$11),AP23+$AP$11)))) -> 135 | AQ24: 10 | AR24: =IF(AP24="","",CC24+CD24+'[1]TABLEAU DE BORD'!$O$6) -> #VALUE! | BQ24: =INDEX('[1]TABLEAU DE BORD'!$B$13:$R$2000,MATCH('Formalisme RTE'!$H$2,'[1]TABLEAU DE BORD'!$B$13:$B$2000,0),5)-(INDEX('[1]TABLEAU DE BORD'!$B$13:$R$2000,MATCH('Formalisme RTE'!$H$2,'[1]TABLEAU DE BORD'!$B$13:$B$2000,0),5)-INDEX('[1]TABLEAU DE BORD'!$B$13:$R$2000,MATCH('Formalisme RTE'!$H$2,'[1]TABLEAU DE BORD'!$B$13:$B$2000,0),11))*Q24/INDEX('[1]TABLEAU DE BORD'!$B$13:$R$2000,MATCH('Formalisme RTE'!$H$2,'[1]TABLEAU DE BORD'!$B$13:$B$2000,0),12) -> #VALUE! | BR24: =BU24*CA24 -> #VALUE! | BU24: =SQRT(1-(1/(SQRT((BY24*0.981)^2+(($B$30/10)*BW24*0.001)^2)/(BY24*0.981))^2)) -> 0.57588835 | BW24: =IF($BW$6="","",IF(ISERROR(INDEX([1]Base!$A$2:$C$207,MATCH($BW$6,[1]Base!$A$2:$A$207,0),2))=TRUE,"CABLE INCONNU",(INDEX([1]Base!$A$2:$C$207,MATCH($BW$6,[1]Base!$A$2:$A$207,0),3)))) -> 15.75 | BY24: =IF($BW$6="","",IF(ISERROR(INDEX([1]Base!$A$2:$C$207,MATCH($BW$6,[1]Base!$A$2:$A$207,0),2))=TRUE,"CABLE INCONNU",(INDEX([1]Base!$A$2:$C$207,MATCH($BW$6,[1]Base!$A$2:$A$207,0),2)))) -> 0.547 | CA24: =CD24-CC24 -> #VALUE! | CC24: =$BB$28+$D$10*((EXP(($BB$26-Q24)/$D$10)+EXP(-($BB$26-Q24)/$D$10))/2-1) -> #VALUE! | CD24: =(INDEX('[1]TABLEAU DE BORD'!$B$13:$R$2000,MATCH('Formalisme RTE'!$H$2,'[1]TABLEAU DE BORD'!$B$13:$B$2000,0),2)+INDEX($CF$15:$CG$2005,MATCH($H$2,$CF$15:$CF$2005,0),2)+INDEX('[1]TABLEAU DE BORD'!$B$13:$R$2000,MATCH('Formalisme RTE'!$H$2,'[1]TABLEAU DE BORD'!$B$13:$B$2000,0),3))-(((INDEX('[1]TABLEAU DE BORD'!$B$13:$R$2000,MATCH('Formalisme RTE'!$H$2,'[1]TABLEAU DE BORD'!$B$13:$B$2000,0),2)+INDEX($CF$15:$CG$2005,MATCH($H$2,$CF$15:$CF$2005,0),2)+INDEX('[1]TABLEAU DE BORD'!$B$13:$R$2000,MATCH('Formalisme RTE'!$H$2,'[1]TABLEAU DE BORD'!$B$13:$B$2000,0),3))-(INDEX('[1]TABLEAU DE BORD'!$B$13:$R$2000,MATCH('Formalisme RTE'!$H$2,'[1]TABLEAU DE BORD'!$B$13:$B$2000,0),8)+INDEX($CI$15:$CJ$2005,MATCH($J$2,$CI$15:$CI$2005,0),2)+INDEX('[1]TABLEAU DE BORD'!$B$13:$R$2000,MATCH('Formalisme RTE'!$H$2,'[1]TABLEAU DE BORD'!$B$13:$B$2000,0),9)))*Q24/$M$18) -> #VALUE! | CF24: ='[1]TABLEAU DE BORD'!B22 | CG24: ='[1]TABLEAU DE BORD'!E22-'[1]TABLEAU DE BORD'!C22 -> #VALUE! | CI24: ='[1]TABLEAU DE BORD'!H22 | CJ24: ='[1]TABLEAU DE BORD'!K22-'[1]TABLEAU DE BORD'!I22 -> #VALUE!
B25: Hauteur tranchée / altitude point à l'AT 2001 (m) | P25: =IF(OR(Q25="",$M$18=""),"",CONCATENATE($C$17,"-",R25)) | Q25: =IF(OR(Q24=$M$18,$M$18=""),"",IF(Q24="","",IF(Q24>$M$18-$Q$11,$M$18,IF($Q$11="",IF(Q24>$M$18-$M$18/$V$11,"",Q24+$M$18/$V$11),Q24+$Q$11)))) | R25: 11 | S25: =IF(Q25="","",BQ25+BR25+$BG$21+5) | AC25: =IF(OR(AD25="",$M$18=""),"",CONCATENATE($C$17,"-",AE25)) | AD25: =IF(OR(AD24=$M$18,$M$18=""),"",IF(AD24="","",IF(AD24>$M$18-$AD$11,$M$18,IF($AD$11="",IF(AD24>$M$18-$M$18/$AI$11,"",AD24+$M$18/$AI$11),AD24+$AD$11)))) | AE25: 11 | AF25: =IF(AD25="","",BQ25+BR25+'[1]TABLEAU DE BORD'!$O$6) | AO25: =IF(OR(AP25="",$M$18=""),"",CONCATENATE($C$17,"-",AQ25)) -> 37-11 | AP25: =IF(OR(AP24=$M$18,$M$18=""),"",IF(AP24="","",IF(AP24>$M$18-$AP$11,$M$18,IF($AP$11="",IF(AP24>$M$18-$M$18/$AU$11,"",AP24+$M$18/$AU$11),AP24+$AP$11)))) -> 150 | AQ25: 11 | AR25: =IF(AP25="","",CC25+CD25+'[1]TABLEAU DE BORD'!$O$6) -> #VALUE! | BA25: - X1 = Ln(X2) | BB25: =LN(BB23) -> 0.10073197 | BQ25: =INDEX('[1]TABLEAU DE BORD'!$B$13:$R$2000,MATCH('Formalisme RTE'!$H$2,'[1]TABLEAU DE BORD'!$B$13:$B$2000,0),5)-(INDEX('[1]TABLEAU DE BORD'!$B$13:$R$2000,MATCH('Formalisme RTE'!$H$2,'[1]TABLEAU DE BORD'!$B$13:$B$2000,0),5)-INDEX('[1]TABLEAU DE BORD'!$B$13:$R$2000,MATCH('Formalisme RTE'!$H$2,'[1]TABLEAU DE BORD'!$B$13:$B$2000,0),11))*Q25/INDEX('[1]TABLEAU DE BORD'!$B$13:$R$2000,MATCH('Formalisme RTE'!$H$2,'[1]TABLEAU DE BORD'!$B$13:$B$2000,0),12) -> #VALUE! | BR25: =BU25*CA25 -> #VALUE! | BU25: =SQRT(1-(1/(SQRT((BY25*0.981)^2+(($B$30/10)*BW25*0.001)^2)/(BY25*0.981))^2)) -> 0.57588835 | BW25: =IF($BW$6="","",IF(ISERROR(INDEX([1]Base!$A$2:$C$207,MATCH($BW$6,[1]Base!$A$2:$A$207,0),2))=TRUE,"CABLE INCONNU",(INDEX([1]Base!$A$2:$C$207,MATCH($BW$6,[1]Base!$A$2:$A$207,0),3)))) -> 15.75 | BY25: =IF($BW$6="","",IF(ISERROR(INDEX([1]Base!$A$2:$C$207,MATCH($BW$6,[1]Base!$A$2:$A$207,0),2))=TRUE,"CABLE INCONNU",(INDEX([1]Base!$A$2:$C$207,MATCH($BW$6,[1]Base!$A$2:$A$207,0),2)))) -> 0.547 | CA25: =CD25-CC25 -> #VALUE! | CC25: =$BB$28+$D$10*((EXP(($BB$26-Q25)/$D$10)+EXP(-($BB$26-Q25)/$D$10))/2-1) -> #VALUE! | CD25: =(INDEX('[1]TABLEAU DE BORD'!$B$13:$R$2000,MATCH('Formalisme RTE'!$H$2,'[1]TABLEAU DE BORD'!$B$13:$B$2000,0),2)+INDEX($CF$15:$CG$2005,MATCH($H$2,$CF$15:$CF$2005,0),2)+INDEX('[1]TABLEAU DE BORD'!$B$13:$R$2000,MATCH('Formalisme RTE'!$H$2,'[1]TABLEAU DE BORD'!$B$13:$B$2000,0),3))-(((INDEX('[1]TABLEAU DE BORD'!$B$13:$R$2000,MATCH('Formalisme RTE'!$H$2,'[1]TABLEAU DE BORD'!$B$13:$B$2000,0),2)+INDEX($CF$15:$CG$2005,MATCH($H$2,$CF$15:$CF$2005,0),2)+INDEX('[1]TABLEAU DE BORD'!$B$13:$R$2000,MATCH('Formalisme RTE'!$H$2,'[1]TABLEAU DE BORD'!$B$13:$B$2000,0),3))-(INDEX('[1]TABLEAU DE BORD'!$B$13:$R$2000,MATCH('Formalisme RTE'!$H$2,'[1]TABLEAU DE BORD'!$B$13:$B$2000,0),8)+INDEX($CI$15:$CJ$2005,MATCH($J$2,$CI$15:$CI$2005,0),2)+INDEX('[1]TABLEAU DE BORD'!$B$13:$R$2000,MATCH('Formalisme RTE'!$H$2,'[1]TABLEAU DE BORD'!$B$13:$B$2000,0),9)))*Q25/$M$18) -> #VALUE! | CF25: ='[1]TABLEAU DE BORD'!B23 | CG25: ='[1]TABLEAU DE BORD'!E23-'[1]TABLEAU DE BORD'!C23 -> #VALUE! | CI25: ='[1]TABLEAU DE BORD'!H23 | CJ25: ='[1]TABLEAU DE BORD'!K23-'[1]TABLEAU DE BORD'!I23 -> #VALUE!
B26: Hauteur tranchée / altitude point selon DT (m) | P26: =IF(OR(Q26="",$M$18=""),"",CONCATENATE($C$17,"-",R26)) | Q26: =IF(OR(Q25=$M$18,$M$18=""),"",IF(Q25="","",IF(Q25>$M$18-$Q$11,$M$18,IF($Q$11="",IF(Q25>$M$18-$M$18/$V$11,"",Q25+$M$18/$V$11),Q25+$Q$11)))) | R26: 12 | S26: =IF(Q26="","",BQ26+BR26+$BG$21+5) | AC26: =IF(OR(AD26="",$M$18=""),"",CONCATENATE($C$17,"-",AE26)) | AD26: =IF(OR(AD25=$M$18,$M$18=""),"",IF(AD25="","",IF(AD25>$M$18-$AD$11,$M$18,IF($AD$11="",IF(AD25>$M$18-$M$18/$AI$11,"",AD25+$M$18/$AI$11),AD25+$AD$11)))) | AE26: 12 | AF26: =IF(AD26="","",BQ26+BR26+'[1]TABLEAU DE BORD'!$O$6) | AO26: =IF(OR(AP26="",$M$18=""),"",CONCATENATE($C$17,"-",AQ26)) -> 37-12 | AP26: =IF(OR(AP25=$M$18,$M$18=""),"",IF(AP25="","",IF(AP25>$M$18-$AP$11,$M$18,IF($AP$11="",IF(AP25>$M$18-$M$18/$AU$11,"",AP25+$M$18/$AU$11),AP25+$AP$11)))) -> 165 | AQ26: 12 | AR26: =IF(AP26="","",CC26+CD26+'[1]TABLEAU DE BORD'!$O$6) -> #VALUE! | BA26: - X0 = A/2 - X1*P | BB26: =INDEX('[1]TABLEAU DE BORD'!B13:R2000,MATCH('Formalisme RTE'!H2,'[1]TABLEAU DE BORD'!B13:B2000,0),12)/2-BB25*INDEX('[1]TABLEAU DE BORD'!B13:R2000,MATCH('Formalisme RTE'!H2,'[1]TABLEAU DE BORD'!B13:B2000,0),15) -> 5.0111704 | BQ26: =INDEX('[1]TABLEAU DE BORD'!$B$13:$R$2000,MATCH('Formalisme RTE'!$H$2,'[1]TABLEAU DE BORD'!$B$13:$B$2000,0),5)-(INDEX('[1]TABLEAU DE BORD'!$B$13:$R$2000,MATCH('Formalisme RTE'!$H$2,'[1]TABLEAU DE BORD'!$B$13:$B$2000,0),5)-INDEX('[1]TABLEAU DE BORD'!$B$13:$R$2000,MATCH('Formalisme RTE'!$H$2,'[1]TABLEAU DE BORD'!$B$13:$B$2000,0),11))*Q26/INDEX('[1]TABLEAU DE BORD'!$B$13:$R$2000,MATCH('Formalisme RTE'!$H$2,'[1]TABLEAU DE BORD'!$B$13:$B$2000,0),12) -> #VALUE! | BR26: =BU26*CA26 -> #VALUE! | BU26: =SQRT(1-(1/(SQRT((BY26*0.981)^2+(($B$30/10)*BW26*0.001)^2)/(BY26*0.981))^2)) -> 0.57588835 | BW26: =IF($BW$6="","",IF(ISERROR(INDEX([1]Base!$A$2:$C$207,MATCH($BW$6,[1]Base!$A$2:$A$207,0),2))=TRUE,"CABLE INCONNU",(INDEX([1]Base!$A$2:$C$207,MATCH($BW$6,[1]Base!$A$2:$A$207,0),3)))) -> 15.75 | BY26: =IF($BW$6="","",IF(ISERROR(INDEX([1]Base!$A$2:$C$207,MATCH($BW$6,[1]Base!$A$2:$A$207,0),2))=TRUE,"CABLE INCONNU",(INDEX([1]Base!$A$2:$C$207,MATCH($BW$6,[1]Base!$A$2:$A$207,0),2)))) -> 0.547 | CA26: =CD26-CC26 -> #VALUE! | CC26: =$BB$28+$D$10*((EXP(($BB$26-Q26)/$D$10)+EXP(-($BB$26-Q26)/$D$10))/2-1) -> #VALUE! | CD26: =(INDEX('[1]TABLEAU DE BORD'!$B$13:$R$2000,MATCH('Formalisme RTE'!$H$2,'[1]TABLEAU DE BORD'!$B$13:$B$2000,0),2)+INDEX($CF$15:$CG$2005,MATCH($H$2,$CF$15:$CF$2005,0),2)+INDEX('[1]TABLEAU DE BORD'!$B$13:$R$2000,MATCH('Formalisme RTE'!$H$2,'[1]TABLEAU DE BORD'!$B$13:$B$2000,0),3))-(((INDEX('[1]TABLEAU DE BORD'!$B$13:$R$2000,MATCH('Formalisme RTE'!$H$2,'[1]TABLEAU DE BORD'!$B$13:$B$2000,0),2)+INDEX($CF$15:$CG$2005,MATCH($H$2,$CF$15:$CF$2005,0),2)+INDEX('[1]TABLEAU DE BORD'!$B$13:$R$2000,MATCH('Formalisme RTE'!$H$2,'[1]TABLEAU DE BORD'!$B$13:$B$2000,0),3))-(INDEX('[1]TABLEAU DE BORD'!$B$13:$R$2000,MATCH('Formalisme RTE'!$H$2,'[1]TABLEAU DE BORD'!$B$13:$B$2000,0),8)+INDEX($CI$15:$CJ$2005,MATCH($J$2,$CI$15:$CI$2005,0),2)+INDEX('[1]TABLEAU DE BORD'!$B$13:$R$2000,MATCH('Formalisme RTE'!$H$2,'[1]TABLEAU DE BORD'!$B$13:$B$2000,0),9)))*Q26/$M$18) -> #VALUE! | CF26: ='[1]TABLEAU DE BORD'!B24 | CG26: ='[1]TABLEAU DE BORD'!E24-'[1]TABLEAU DE BORD'!C24 -> #VALUE! | CI26: ='[1]TABLEAU DE BORD'!H24 | CJ26: ='[1]TABLEAU DE BORD'!K24-'[1]TABLEAU DE BORD'!I24 -> #VALUE!
P27: =IF(OR(Q27="",$M$18=""),"",CONCATENATE($C$17,"-",R27)) | Q27: =IF(OR(Q26=$M$18,$M$18=""),"",IF(Q26="","",IF(Q26>$M$18-$Q$11,$M$18,IF($Q$11="",IF(Q26>$M$18-$M$18/$V$11,"",Q26+$M$18/$V$11),Q26+$Q$11)))) | R27: 13 | S27: =IF(Q27="","",BQ27+BR27+$BG$21+5) | AC27: =IF(OR(AD27="",$M$18=""),"",CONCATENATE($C$17,"-",AE27)) | AD27: =IF(OR(AD26=$M$18,$M$18=""),"",IF(AD26="","",IF(AD26>$M$18-$AD$11,$M$18,IF($AD$11="",IF(AD26>$M$18-$M$18/$AI$11,"",AD26+$M$18/$AI$11),AD26+$AD$11)))) | AE27: 13 | AF27: =IF(AD27="","",BQ27+BR27+'[1]TABLEAU DE BORD'!$O$6) | AO27: =IF(OR(AP27="",$M$18=""),"",CONCATENATE($C$17,"-",AQ27)) -> 37-13 | AP27: =IF(OR(AP26=$M$18,$M$18=""),"",IF(AP26="","",IF(AP26>$M$18-$AP$11,$M$18,IF($AP$11="",IF(AP26>$M$18-$M$18/$AU$11,"",AP26+$M$18/$AU$11),AP26+$AP$11)))) -> 180 | AQ27: 13 | AR27: =IF(AP27="","",CC27+CD27+'[1]TABLEAU DE BORD'!$O$6) -> #VALUE! | BA27: - X0/P | BB27: =BB26/INDEX('[1]TABLEAU DE BORD'!B13:R2000,MATCH('Formalisme RTE'!H2,'[1]TABLEAU DE BORD'!B13:B2000,0),15) -> 0.0056272407 | BQ27: =INDEX('[1]TABLEAU DE BORD'!$B$13:$R$2000,MATCH('Formalisme RTE'!$H$2,'[1]TABLEAU DE BORD'!$B$13:$B$2000,0),5)-(INDEX('[1]TABLEAU DE BORD'!$B$13:$R$2000,MATCH('Formalisme RTE'!$H$2,'[1]TABLEAU DE BORD'!$B$13:$B$2000,0),5)-INDEX('[1]TABLEAU DE BORD'!$B$13:$R$2000,MATCH('Formalisme RTE'!$H$2,'[1]TABLEAU DE BORD'!$B$13:$B$2000,0),11))*Q27/INDEX('[1]TABLEAU DE BORD'!$B$13:$R$2000,MATCH('Formalisme RTE'!$H$2,'[1]TABLEAU DE BORD'!$B$13:$B$2000,0),12) -> #VALUE! | BR27: =BU27*CA27 -> #VALUE! | BU27: =SQRT(1-(1/(SQRT((BY27*0.981)^2+(($B$30/10)*BW27*0.001)^2)/(BY27*0.981))^2)) -> 0.57588835 | BW27: =IF($BW$6="","",IF(ISERROR(INDEX([1]Base!$A$2:$C$207,MATCH($BW$6,[1]Base!$A$2:$A$207,0),2))=TRUE,"CABLE INCONNU",(INDEX([1]Base!$A$2:$C$207,MATCH($BW$6,[1]Base!$A$2:$A$207,0),3)))) -> 15.75 | BY27: =IF($BW$6="","",IF(ISERROR(INDEX([1]Base!$A$2:$C$207,MATCH($BW$6,[1]Base!$A$2:$A$207,0),2))=TRUE,"CABLE INCONNU",(INDEX([1]Base!$A$2:$C$207,MATCH($BW$6,[1]Base!$A$2:$A$207,0),2)))) -> 0.547 | CA27: =CD27-CC27 -> #VALUE! | CC27: =$BB$28+$D$10*((EXP(($BB$26-Q27)/$D$10)+EXP(-($BB$26-Q27)/$D$10))/2-1) -> #VALUE! | CD27: =(INDEX('[1]TABLEAU DE BORD'!$B$13:$R$2000,MATCH('Formalisme RTE'!$H$2,'[1]TABLEAU DE BORD'!$B$13:$B$2000,0),2)+INDEX($CF$15:$CG$2005,MATCH($H$2,$CF$15:$CF$2005,0),2)+INDEX('[1]TABLEAU DE BORD'!$B$13:$R$2000,MATCH('Formalisme RTE'!$H$2,'[1]TABLEAU DE BORD'!$B$13:$B$2000,0),3))-(((INDEX('[1]TABLEAU DE BORD'!$B$13:$R$2000,MATCH('Formalisme RTE'!$H$2,'[1]TABLEAU DE BORD'!$B$13:$B$2000,0),2)+INDEX($CF$15:$CG$2005,MATCH($H$2,$CF$15:$CF$2005,0),2)+INDEX('[1]TABLEAU DE BORD'!$B$13:$R$2000,MATCH('Formalisme RTE'!$H$2,'[1]TABLEAU DE BORD'!$B$13:$B$2000,0),3))-(INDEX('[1]TABLEAU DE BORD'!$B$13:$R$2000,MATCH('Formalisme RTE'!$H$2,'[1]TABLEAU DE BORD'!$B$13:$B$2000,0),8)+INDEX($CI$15:$CJ$2005,MATCH($J$2,$CI$15:$CI$2005,0),2)+INDEX('[1]TABLEAU DE BORD'!$B$13:$R$2000,MATCH('Formalisme RTE'!$H$2,'[1]TABLEAU DE BORD'!$B$13:$B$2000,0),9)))*Q27/$M$18) -> #VALUE! | CF27: ='[1]TABLEAU DE BORD'!B25 | CG27: ='[1]TABLEAU DE BORD'!E25-'[1]TABLEAU DE BORD'!C25 -> #VALUE! | CI27: ='[1]TABLEAU DE BORD'!H25 | CJ27: ='[1]TABLEAU DE BORD'!K25-'[1]TABLEAU DE BORD'!I25 -> #VALUE!
P28: =IF(OR(Q28="",$M$18=""),"",CONCATENATE($C$17,"-",R28)) | Q28: =IF(OR(Q27=$M$18,$M$18=""),"",IF(Q27="","",IF(Q27>$M$18-$Q$11,$M$18,IF($Q$11="",IF(Q27>$M$18-$M$18/$V$11,"",Q27+$M$18/$V$11),Q27+$Q$11)))) | R28: 14 | S28: =IF(Q28="","",BQ28+BR28+$BG$21+5) | AC28: =IF(OR(AD28="",$M$18=""),"",CONCATENATE($C$17,"-",AE28)) | AE28: 14 | AF28: =IF(AD28="","",BQ28+BR28+'[1]TABLEAU DE BORD'!$O$6) | AO28: =IF(OR(AP28="",$M$18=""),"",CONCATENATE($C$17,"-",AQ28)) -> 37-14 | AP28: =IF(OR(AP27=$M$18,$M$18=""),"",IF(AP27="","",IF(AP27>$M$18-$AP$11,$M$18,IF($AP$11="",IF(AP27>$M$18-$M$18/$AU$11,"",AP27+$M$18/$AU$11),AP27+$AP$11)))) -> 189.43 | AQ28: 14 | AR28: =IF(AP28="","",CC28+CD28+'[1]TABLEAU DE BORD'!$O$6) -> #VALUE! | BA28: - Y0 = H1 - P*(ch(X0/P)-1) | BB28: =INDEX('[1]TABLEAU DE BORD'!B13:R2000,MATCH('Formalisme RTE'!H2,'[1]TABLEAU DE BORD'!B13:B2000,0),4)-INDEX('[1]TABLEAU DE BORD'!B13:R2000,MATCH('Formalisme RTE'!H2,'[1]TABLEAU DE BORD'!B13:B2000,0),15)*((EXP(BB27)+EXP(-BB27))/2-1) -> 237.9459 | BQ28: =INDEX('[1]TABLEAU DE BORD'!$B$13:$R$2000,MATCH('Formalisme RTE'!$H$2,'[1]TABLEAU DE BORD'!$B$13:$B$2000,0),5)-(INDEX('[1]TABLEAU DE BORD'!$B$13:$R$2000,MATCH('Formalisme RTE'!$H$2,'[1]TABLEAU DE BORD'!$B$13:$B$2000,0),5)-INDEX('[1]TABLEAU DE BORD'!$B$13:$R$2000,MATCH('Formalisme RTE'!$H$2,'[1]TABLEAU DE BORD'!$B$13:$B$2000,0),11))*Q28/INDEX('[1]TABLEAU DE BORD'!$B$13:$R$2000,MATCH('Formalisme RTE'!$H$2,'[1]TABLEAU DE BORD'!$B$13:$B$2000,0),12) -> #VALUE! | BR28: =BU28*CA28 -> #VALUE! | BU28: =SQRT(1-(1/(SQRT((BY28*0.981)^2+(($B$30/10)*BW28*0.001)^2)/(BY28*0.981))^2)) -> 0.57588835 | BW28: =IF($BW$6="","",IF(ISERROR(INDEX([1]Base!$A$2:$C$207,MATCH($BW$6,[1]Base!$A$2:$A$207,0),2))=TRUE,"CABLE INCONNU",(INDEX([1]Base!$A$2:$C$207,MATCH($BW$6,[1]Base!$A$2:$A$207,0),3)))) -> 15.75 | BY28: =IF($BW$6="","",IF(ISERROR(INDEX([1]Base!$A$2:$C$207,MATCH($BW$6,[1]Base!$A$2:$A$207,0),2))=TRUE,"CABLE INCONNU",(INDEX([1]Base!$A$2:$C$207,MATCH($BW$6,[1]Base!$A$2:$A$207,0),2)))) -> 0.547 | CA28: =CD28-CC28 -> #VALUE! | CC28: =$BB$28+$D$10*((EXP(($BB$26-Q28)/$D$10)+EXP(-($BB$26-Q28)/$D$10))/2-1) -> #VALUE! | CD28: =(INDEX('[1]TABLEAU DE BORD'!$B$13:$R$2000,MATCH('Formalisme RTE'!$H$2,'[1]TABLEAU DE BORD'!$B$13:$B$2000,0),2)+INDEX($CF$15:$CG$2005,MATCH($H$2,$CF$15:$CF$2005,0),2)+INDEX('[1]TABLEAU DE BORD'!$B$13:$R$2000,MATCH('Formalisme RTE'!$H$2,'[1]TABLEAU DE BORD'!$B$13:$B$2000,0),3))-(((INDEX('[1]TABLEAU DE BORD'!$B$13:$R$2000,MATCH('Formalisme RTE'!$H$2,'[1]TABLEAU DE BORD'!$B$13:$B$2000,0),2)+INDEX($CF$15:$CG$2005,MATCH($H$2,$CF$15:$CF$2005,0),2)+INDEX('[1]TABLEAU DE BORD'!$B$13:$R$2000,MATCH('Formalisme RTE'!$H$2,'[1]TABLEAU DE BORD'!$B$13:$B$2000,0),3))-(INDEX('[1]TABLEAU DE BORD'!$B$13:$R$2000,MATCH('Formalisme RTE'!$H$2,'[1]TABLEAU DE BORD'!$B$13:$B$2000,0),8)+INDEX($CI$15:$CJ$2005,MATCH($J$2,$CI$15:$CI$2005,0),2)+INDEX('[1]TABLEAU DE BORD'!$B$13:$R$2000,MATCH('Formalisme RTE'!$H$2,'[1]TABLEAU DE BORD'!$B$13:$B$2000,0),9)))*Q28/$M$18) -> #VALUE! | CF28: ='[1]TABLEAU DE BORD'!B26 | CG28: ='[1]TABLEAU DE BORD'!E26-'[1]TABLEAU DE BORD'!C26 -> #VALUE! | CI28: ='[1]TABLEAU DE BORD'!H26 | CJ28: ='[1]TABLEAU DE BORD'!K26-'[1]TABLEAU DE BORD'!I26 -> #VALUE!
P29: =IF(OR(Q29="",$M$18=""),"",CONCATENATE($C$17,"-",R29)) | Q29: =IF(OR(Q28=$M$18,$M$18=""),"",IF(Q28="","",IF(Q28>$M$18-$Q$11,$M$18,IF($Q$11="",IF(Q28>$M$18-$M$18/$V$11,"",Q28+$M$18/$V$11),Q28+$Q$11)))) | R29: 15 | S29: =IF(Q29="","",BQ29+BR29+$BG$21+5) | AC29: =IF(OR(AD29="",$M$18=""),"",CONCATENATE($C$17,"-",AE29)) | AE29: 15 | AF29: =IF(AD29="","",BQ29+BR29+'[1]TABLEAU DE BORD'!$O$6) | AO29: =IF(OR(AP29="",$M$18=""),"",CONCATENATE($C$17,"-",AQ29)) | AP29: =IF(OR(AP28=$M$18,$M$18=""),"",IF(AP28="","",IF(AP28>$M$18-$AP$11,$M$18,IF($AP$11="",IF(AP28>$M$18-$M$18/$AU$11,"",AP28+$M$18/$AU$11),AP28+$AP$11)))) | AQ29: 15 | AR29: =IF(AP29="","",CC29+CD29+'[1]TABLEAU DE BORD'!$O$6) | BQ29: =INDEX('[1]TABLEAU DE BORD'!$B$13:$R$2000,MATCH('Formalisme RTE'!$H$2,'[1]TABLEAU DE BORD'!$B$13:$B$2000,0),5)-(INDEX('[1]TABLEAU DE BORD'!$B$13:$R$2000,MATCH('Formalisme RTE'!$H$2,'[1]TABLEAU DE BORD'!$B$13:$B$2000,0),5)-INDEX('[1]TABLEAU DE BORD'!$B$13:$R$2000,MATCH('Formalisme RTE'!$H$2,'[1]TABLEAU DE BORD'!$B$13:$B$2000,0),11))*Q29/INDEX('[1]TABLEAU DE BORD'!$B$13:$R$2000,MATCH('Formalisme RTE'!$H$2,'[1]TABLEAU DE BORD'!$B$13:$B$2000,0),12) -> #VALUE! | BR29: =BU29*CA29 -> #VALUE! | BU29: =SQRT(1-(1/(SQRT((BY29*0.981)^2+(($B$30/10)*BW29*0.001)^2)/(BY29*0.981))^2)) -> 0.57588835 | BW29: =IF($BW$6="","",IF(ISERROR(INDEX([1]Base!$A$2:$C$207,MATCH($BW$6,[1]Base!$A$2:$A$207,0),2))=TRUE,"CABLE INCONNU",(INDEX([1]Base!$A$2:$C$207,MATCH($BW$6,[1]Base!$A$2:$A$207,0),3)))) -> 15.75 | BY29: =IF($BW$6="","",IF(ISERROR(INDEX([1]Base!$A$2:$C$207,MATCH($BW$6,[1]Base!$A$2:$A$207,0),2))=TRUE,"CABLE INCONNU",(INDEX([1]Base!$A$2:$C$207,MATCH($BW$6,[1]Base!$A$2:$A$207,0),2)))) -> 0.547 | CA29: =CD29-CC29 -> #VALUE! | CC29: =$BB$28+$D$10*((EXP(($BB$26-Q29)/$D$10)+EXP(-($BB$26-Q29)/$D$10))/2-1) -> #VALUE! | CD29: =(INDEX('[1]TABLEAU DE BORD'!$B$13:$R$2000,MATCH('Formalisme RTE'!$H$2,'[1]TABLEAU DE BORD'!$B$13:$B$2000,0),2)+INDEX($CF$15:$CG$2005,MATCH($H$2,$CF$15:$CF$2005,0),2)+INDEX('[1]TABLEAU DE BORD'!$B$13:$R$2000,MATCH('Formalisme RTE'!$H$2,'[1]TABLEAU DE BORD'!$B$13:$B$2000,0),3))-(((INDEX('[1]TABLEAU DE BORD'!$B$13:$R$2000,MATCH('Formalisme RTE'!$H$2,'[1]TABLEAU DE BORD'!$B$13:$B$2000,0),2)+INDEX($CF$15:$CG$2005,MATCH($H$2,$CF$15:$CF$2005,0),2)+INDEX('[1]TABLEAU DE BORD'!$B$13:$R$2000,MATCH('Formalisme RTE'!$H$2,'[1]TABLEAU DE BORD'!$B$13:$B$2000,0),3))-(INDEX('[1]TABLEAU DE BORD'!$B$13:$R$2000,MATCH('Formalisme RTE'!$H$2,'[1]TABLEAU DE BORD'!$B$13:$B$2000,0),8)+INDEX($CI$15:$CJ$2005,MATCH($J$2,$CI$15:$CI$2005,0),2)+INDEX('[1]TABLEAU DE BORD'!$B$13:$R$2000,MATCH('Formalisme RTE'!$H$2,'[1]TABLEAU DE BORD'!$B$13:$B$2000,0),9)))*Q29/$M$18) -> #VALUE! | CF29: ='[1]TABLEAU DE BORD'!B27 | CG29: ='[1]TABLEAU DE BORD'!E27-'[1]TABLEAU DE BORD'!C27 -> #VALUE! | CI29: ='[1]TABLEAU DE BORD'!H27 | CJ29: ='[1]TABLEAU DE BORD'!K27-'[1]TABLEAU DE BORD'!I27 -> #VALUE!
B30: =IF(D8="240 Pa : ZVN zone normale",240,"360") -> 240 | P30: =IF(OR(Q30="",$M$18=""),"",CONCATENATE($C$17,"-",R30)) | Q30: =IF(OR(Q29=$M$18,$M$18=""),"",IF(Q29="","",IF(Q29>$M$18-$Q$11,$M$18,IF($Q$11="",IF(Q29>$M$18-$M$18/$V$11,"",Q29+$M$18/$V$11),Q29+$Q$11)))) | R30: 16 | S30: =IF(Q30="","",BQ30+BR30+$BG$21+5) | AC30: =IF(OR(AD30="",$M$18=""),"",CONCATENATE($C$17,"-",AE30)) | AE30: 16 | AF30: =IF(AD30="","",BQ30+BR30+'[1]TABLEAU DE BORD'!$O$6) | AO30: =IF(OR(AP30="",$M$18=""),"",CONCATENATE($C$17,"-",AQ30)) | AP30: =IF(OR(AP29=$M$18,$M$18=""),"",IF(AP29="","",IF(AP29>$M$18-$AP$11,$M$18,IF($AP$11="",IF(AP29>$M$18-$M$18/$AU$11,"",AP29+$M$18/$AU$11),AP29+$AP$11)))) | AQ30: 16 | AR30: =IF(AP30="","",CC30+CD30+'[1]TABLEAU DE BORD'!$O$6) | BA30: Flèche médiane | BB30: =(INDEX('[1]TABLEAU DE BORD'!B13:R2000,MATCH('Formalisme RTE'!H2,'[1]TABLEAU DE BORD'!B13:B2000,0),4)-(((INDEX('[1]TABLEAU DE BORD'!B13:R2000,MATCH('Formalisme RTE'!H2,'[1]TABLEAU DE BORD'!B13:B2000,0),4)-INDEX('[1]TABLEAU DE BORD'!B13:R2000,MATCH('Formalisme RTE'!H2,'[1]TABLEAU DE BORD'!B13:B2000,0),10))/2))-(BB28+INDEX('[1]TABLEAU DE BORD'!B13:R2000,MATCH('Formalisme RTE'!H2,'[1]TABLEAU DE BORD'!B13:B2000,0),15)*((EXP((BB26-(INDEX('[1]TABLEAU DE BORD'!B13:R2000,MATCH('Formalisme RTE'!H2,'[1]TABLEAU DE BORD'!B13:B2000,0),12)/2))/INDEX('[1]TABLEAU DE BORD'!B13:R2000,MATCH('Formalisme RTE'!H2,'[1]TABLEAU DE BORD'!B13:B2000,0),15))+EXP(-(BB26-(INDEX('[1]TABLEAU DE BORD'!B13:R2000,MATCH('Formalisme RTE'!H2,'[1]TABLEAU DE BORD'!B13:B2000,0),12)/2))/INDEX('[1]TABLEAU DE BORD'!B13:R2000,MATCH('Formalisme RTE'!H2,'[1]TABLEAU DE BORD'!B13:B2000,0),15)))/2-1))) -> 5.0672564 | BQ30: =INDEX('[1]TABLEAU DE BORD'!$B$13:$R$2000,MATCH('Formalisme RTE'!$H$2,'[1]TABLEAU DE BORD'!$B$13:$B$2000,0),5)-(INDEX('[1]TABLEAU DE BORD'!$B$13:$R$2000,MATCH('Formalisme RTE'!$H$2,'[1]TABLEAU DE BORD'!$B$13:$B$2000,0),5)-INDEX('[1]TABLEAU DE BORD'!$B$13:$R$2000,MATCH('Formalisme RTE'!$H$2,'[1]TABLEAU DE BORD'!$B$13:$B$2000,0),11))*Q30/INDEX('[1]TABLEAU DE BORD'!$B$13:$R$2000,MATCH('Formalisme RTE'!$H$2,'[1]TABLEAU DE BORD'!$B$13:$B$2000,0),12) -> #VALUE! | BR30: =BU30*CA30 -> #VALUE! | BU30: =SQRT(1-(1/(SQRT((BY30*0.981)^2+(($B$30/10)*BW30*0.001)^2)/(BY30*0.981))^2)) -> 0.57588835 | BW30: =IF($BW$6="","",IF(ISERROR(INDEX([1]Base!$A$2:$C$207,MATCH($BW$6,[1]Base!$A$2:$A$207,0),2))=TRUE,"CABLE INCONNU",(INDEX([1]Base!$A$2:$C$207,MATCH($BW$6,[1]Base!$A$2:$A$207,0),3)))) -> 15.75 | BY30: =IF($BW$6="","",IF(ISERROR(INDEX([1]Base!$A$2:$C$207,MATCH($BW$6,[1]Base!$A$2:$A$207,0),2))=TRUE,"CABLE INCONNU",(INDEX([1]Base!$A$2:$C$207,MATCH($BW$6,[1]Base!$A$2:$A$207,0),2)))) -> 0.547 | CA30: =CD30-CC30 -> #VALUE! | CC30: =$BB$28+$D$10*((EXP(($BB$26-Q30)/$D$10)+EXP(-($BB$26-Q30)/$D$10))/2-1) -> #VALUE! | CD30: =(INDEX('[1]TABLEAU DE BORD'!$B$13:$R$2000,MATCH('Formalisme RTE'!$H$2,'[1]TABLEAU DE BORD'!$B$13:$B$2000,0),2)+INDEX($CF$15:$CG$2005,MATCH($H$2,$CF$15:$CF$2005,0),2)+INDEX('[1]TABLEAU DE BORD'!$B$13:$R$2000,MATCH('Formalisme RTE'!$H$2,'[1]TABLEAU DE BORD'!$B$13:$B$2000,0),3))-(((INDEX('[1]TABLEAU DE BORD'!$B$13:$R$2000,MATCH('Formalisme RTE'!$H$2,'[1]TABLEAU DE BORD'!$B$13:$B$2000,0),2)+INDEX($CF$15:$CG$2005,MATCH($H$2,$CF$15:$CF$2005,0),2)+INDEX('[1]TABLEAU DE BORD'!$B$13:$R$2000,MATCH('Formalisme RTE'!$H$2,'[1]TABLEAU DE BORD'!$B$13:$B$2000,0),3))-(INDEX('[1]TABLEAU DE BORD'!$B$13:$R$2000,MATCH('Formalisme RTE'!$H$2,'[1]TABLEAU DE BORD'!$B$13:$B$2000,0),8)+INDEX($CI$15:$CJ$2005,MATCH($J$2,$CI$15:$CI$2005,0),2)+INDEX('[1]TABLEAU DE BORD'!$B$13:$R$2000,MATCH('Formalisme RTE'!$H$2,'[1]TABLEAU DE BORD'!$B$13:$B$2000,0),9)))*Q30/$M$18) -> #VALUE! | CF30: ='[1]TABLEAU DE BORD'!B28 | CG30: ='[1]TABLEAU DE BORD'!E28-'[1]TABLEAU DE BORD'!C28 -> #VALUE! | CI30: ='[1]TABLEAU DE BORD'!H28 | CJ30: ='[1]TABLEAU DE BORD'!K28-'[1]TABLEAU DE BORD'!I28 -> #VALUE!
B31: =CONCATENATE("1/",'[1]TABLEAU DE BORD'!U6) -> 1/ | P31: =IF(OR(Q31="",$M$18=""),"",CONCATENATE($C$17,"-",R31)) | Q31: =IF(OR(Q30=$M$18,$M$18=""),"",IF(Q30="","",IF(Q30>$M$18-$Q$11,$M$18,IF($Q$11="",IF(Q30>$M$18-$M$18/$V$11,"",Q30+$M$18/$V$11),Q30+$Q$11)))) | R31: 17 | S31: =IF(Q31="","",BQ31+BR31+$BG$21+5) | AC31: =IF(OR(AD31="",$M$18=""),"",CONCATENATE($C$17,"-",AE31)) | AE31: 17 | AF31: =IF(AD31="","",BQ31+BR31+'[1]TABLEAU DE BORD'!$O$6) | AO31: =IF(OR(AP31="",$M$18=""),"",CONCATENATE($C$17,"-",AQ31)) | AP31: =IF(OR(AP30=$M$18,$M$18=""),"",IF(AP30="","",IF(AP30>$M$18-$AP$11,$M$18,IF($AP$11="",IF(AP30>$M$18-$M$18/$AU$11,"",AP30+$M$18/$AU$11),AP30+$AP$11)))) | AQ31: 17 | AR31: =IF(AP31="","",CC31+CD31+'[1]TABLEAU DE BORD'!$O$6) | BQ31: =INDEX('[1]TABLEAU DE BORD'!$B$13:$R$2000,MATCH('Formalisme RTE'!$H$2,'[1]TABLEAU DE BORD'!$B$13:$B$2000,0),5)-(INDEX('[1]TABLEAU DE BORD'!$B$13:$R$2000,MATCH('Formalisme RTE'!$H$2,'[1]TABLEAU DE BORD'!$B$13:$B$2000,0),5)-INDEX('[1]TABLEAU DE BORD'!$B$13:$R$2000,MATCH('Formalisme RTE'!$H$2,'[1]TABLEAU DE BORD'!$B$13:$B$2000,0),11))*Q31/INDEX('[1]TABLEAU DE BORD'!$B$13:$R$2000,MATCH('Formalisme RTE'!$H$2,'[1]TABLEAU DE BORD'!$B$13:$B$2000,0),12) -> #VALUE! | BR31: =BU31*CA31 -> #VALUE! | BU31: =SQRT(1-(1/(SQRT((BY31*0.981)^2+(($B$30/10)*BW31*0.001)^2)/(BY31*0.981))^2)) -> 0.57588835 | BW31: =IF($BW$6="","",IF(ISERROR(INDEX([1]Base!$A$2:$C$207,MATCH($BW$6,[1]Base!$A$2:$A$207,0),2))=TRUE,"CABLE INCONNU",(INDEX([1]Base!$A$2:$C$207,MATCH($BW$6,[1]Base!$A$2:$A$207,0),3)))) -> 15.75 | BY31: =IF($BW$6="","",IF(ISERROR(INDEX([1]Base!$A$2:$C$207,MATCH($BW$6,[1]Base!$A$2:$A$207,0),2))=TRUE,"CABLE INCONNU",(INDEX([1]Base!$A$2:$C$207,MATCH($BW$6,[1]Base!$A$2:$A$207,0),2)))) -> 0.547 | CA31: =CD31-CC31 -> #VALUE! | CC31: =$BB$28+$D$10*((EXP(($BB$26-Q31)/$D$10)+EXP(-($BB$26-Q31)/$D$10))/2-1) -> #VALUE! | CD31: =(INDEX('[1]TABLEAU DE BORD'!$B$13:$R$2000,MATCH('Formalisme RTE'!$H$2,'[1]TABLEAU DE BORD'!$B$13:$B$2000,0),2)+INDEX($CF$15:$CG$2005,MATCH($H$2,$CF$15:$CF$2005,0),2)+INDEX('[1]TABLEAU DE BORD'!$B$13:$R$2000,MATCH('Formalisme RTE'!$H$2,'[1]TABLEAU DE BORD'!$B$13:$B$2000,0),3))-(((INDEX('[1]TABLEAU DE BORD'!$B$13:$R$2000,MATCH('Formalisme RTE'!$H$2,'[1]TABLEAU DE BORD'!$B$13:$B$2000,0),2)+INDEX($CF$15:$CG$2005,MATCH($H$2,$CF$15:$CF$2005,0),2)+INDEX('[1]TABLEAU DE BORD'!$B$13:$R$2000,MATCH('Formalisme RTE'!$H$2,'[1]TABLEAU DE BORD'!$B$13:$B$2000,0),3))-(INDEX('[1]TABLEAU DE BORD'!$B$13:$R$2000,MATCH('Formalisme RTE'!$H$2,'[1]TABLEAU DE BORD'!$B$13:$B$2000,0),8)+INDEX($CI$15:$CJ$2005,MATCH($J$2,$CI$15:$CI$2005,0),2)+INDEX('[1]TABLEAU DE BORD'!$B$13:$R$2000,MATCH('Formalisme RTE'!$H$2,'[1]TABLEAU DE BORD'!$B$13:$B$2000,0),9)))*Q31/$M$18) -> #VALUE! | CF31: ='[1]TABLEAU DE BORD'!B29 | CG31: ='[1]TABLEAU DE BORD'!E29-'[1]TABLEAU DE BORD'!C29 -> #VALUE! | CI31: ='[1]TABLEAU DE BORD'!H29 | CJ31: ='[1]TABLEAU DE BORD'!K29-'[1]TABLEAU DE BORD'!I29 -> #VALUE!
C32: 0 | D32: =_xlfn.IFS($B$31="1/8","1/8",$B$31="1/7","1/7",$B$31="1/6","1/6",$B$31="1/5","1/5",$B$31="1/4","1/4") -> #N/A | E32: =_xlfn.IFS($B$31="1/8","1/4",$B$31="1/7","2/7",$B$31="1/6","1/3",$B$31="1/5","2/5",$B$31="1/4","1/2") -> #N/A | F32: =_xlfn.IFS($B$31="1/8","3/8",$B$31="1/7","3/7",$B$31="1/6","1/2",$B$31="1/5","3/5",$B$31="1/4","3/4") -> #N/A | G32: =_xlfn.IFS($B$31="1/8","1/2",$B$31="1/7","4/7",$B$31="1/6","2/3",$B$31="1/5","4/5",$B$31="1/4","1") -> #N/A | H32: =_xlfn.IFS($B$31="1/8","5/8",$B$31="1/7","5/7",$B$31="1/6","5/6",$B$31="1/5","1",TRUE,"") | I32: =_xlfn.IFS($B$31="1/8","3/4",$B$31="1/7","6/7",$B$31="1/6","1",TRUE,"") | J32: =_xlfn.IFS($B$31="1/8","7/8",TRUE,"") | M32: 1 | P32: =IF(OR(Q32="",$M$18=""),"",CONCATENATE($M$17,"-",R32)) | Q32: =IF(OR(Q31=$M$18,$M$18=""),"",IF(Q31="","",IF(Q31>$M$18-$Q$11,$M$18,IF($Q$11="",IF(Q31>$M$18-$M$18/$V$11,"",Q31+$M$18/$V$11),Q31+$Q$11)))) | R32: 18 | S32: =IF(Q32="","",BQ32+BR32+$BG$21+5) | AC32: =IF(OR(AD32="",$M$18=""),"",CONCATENATE($C$17,"-",AE32)) | AE32: 18 | AF32: =IF(AD32="","",BQ32+BR32+'[1]TABLEAU DE BORD'!$O$6) | AO32: =IF(OR(AP32="",$M$18=""),"",CONCATENATE($C$17,"-",AQ32)) | AP32: =IF(OR(AP31=$M$18,$M$18=""),"",IF(AP31="","",IF(AP31>$M$18-$AP$11,$M$18,IF($AP$11="",IF(AP31>$M$18-$M$18/$AU$11,"",AP31+$M$18/$AU$11),AP31+$AP$11)))) | AQ32: 18 | AR32: =IF(AP32="","",CC32+CD32+'[1]TABLEAU DE BORD'!$O$6) | BQ32: =INDEX('[1]TABLEAU DE BORD'!$B$13:$R$2000,MATCH('Formalisme RTE'!$H$2,'[1]TABLEAU DE BORD'!$B$13:$B$2000,0),5)-(INDEX('[1]TABLEAU DE BORD'!$B$13:$R$2000,MATCH('Formalisme RTE'!$H$2,'[1]TABLEAU DE BORD'!$B$13:$B$2000,0),5)-INDEX('[1]TABLEAU DE BORD'!$B$13:$R$2000,MATCH('Formalisme RTE'!$H$2,'[1]TABLEAU DE BORD'!$B$13:$B$2000,0),11))*Q32/INDEX('[1]TABLEAU DE BORD'!$B$13:$R$2000,MATCH('Formalisme RTE'!$H$2,'[1]TABLEAU DE BORD'!$B$13:$B$2000,0),12) -> #VALUE! | BR32: =BU32*CA32 -> #VALUE! | BU32: =SQRT(1-(1/(SQRT((BY32*0.981)^2+(($B$30/10)*BW32*0.001)^2)/(BY32*0.981))^2)) -> 0.57588835 | BW32: =IF($BW$6="","",IF(ISERROR(INDEX([1]Base!$A$2:$C$207,MATCH($BW$6,[1]Base!$A$2:$A$207,0),2))=TRUE,"CABLE INCONNU",(INDEX([1]Base!$A$2:$C$207,MATCH($BW$6,[1]Base!$A$2:$A$207,0),3)))) -> 15.75 | BY32: =IF($BW$6="","",IF(ISERROR(INDEX([1]Base!$A$2:$C$207,MATCH($BW$6,[1]Base!$A$2:$A$207,0),2))=TRUE,"CABLE INCONNU",(INDEX([1]Base!$A$2:$C$207,MATCH($BW$6,[1]Base!$A$2:$A$207,0),2)))) -> 0.547 | CA32: =CD32-CC32 -> #VALUE! | CC32: =$BB$28+$D$10*((EXP(($BB$26-Q32)/$D$10)+EXP(-($BB$26-Q32)/$D$10))/2-1) -> #VALUE! | CD32: =(INDEX('[1]TABLEAU DE BORD'!$B$13:$R$2000,MATCH('Formalisme RTE'!$H$2,'[1]TABLEAU DE BORD'!$B$13:$B$2000,0),2)+INDEX($CF$15:$CG$2005,MATCH($H$2,$CF$15:$CF$2005,0),2)+INDEX('[1]TABLEAU DE BORD'!$B$13:$R$2000,MATCH('Formalisme RTE'!$H$2,'[1]TABLEAU DE BORD'!$B$13:$B$2000,0),3))-(((INDEX('[1]TABLEAU DE BORD'!$B$13:$R$2000,MATCH('Formalisme RTE'!$H$2,'[1]TABLEAU DE BORD'!$B$13:$B$2000,0),2)+INDEX($CF$15:$CG$2005,MATCH($H$2,$CF$15:$CF$2005,0),2)+INDEX('[1]TABLEAU DE BORD'!$B$13:$R$2000,MATCH('Formalisme RTE'!$H$2,'[1]TABLEAU DE BORD'!$B$13:$B$2000,0),3))-(INDEX('[1]TABLEAU DE BORD'!$B$13:$R$2000,MATCH('Formalisme RTE'!$H$2,'[1]TABLEAU DE BORD'!$B$13:$B$2000,0),8)+INDEX($CI$15:$CJ$2005,MATCH($J$2,$CI$15:$CI$2005,0),2)+INDEX('[1]TABLEAU DE BORD'!$B$13:$R$2000,MATCH('Formalisme RTE'!$H$2,'[1]TABLEAU DE BORD'!$B$13:$B$2000,0),9)))*Q32/$M$18) -> #VALUE! | CF32: ='[1]TABLEAU DE BORD'!B30 | CG32: ='[1]TABLEAU DE BORD'!E30-'[1]TABLEAU DE BORD'!C30 -> #VALUE! | CI32: ='[1]TABLEAU DE BORD'!H30 | CJ32: ='[1]TABLEAU DE BORD'!K30-'[1]TABLEAU DE BORD'!I30 -> #VALUE!
C33: =C32 -> 0 | D33: =_xlfn.IFS(D32="1/8","0.125",D32="1/7","0.1428",D32="1/6","0.1666",D32="1/5","0.2",D32="1/4","0.25") -> #N/A | E33: =_xlfn.IFS(E32="1/4","0.25",E32="2/7","0.2857",E32="1/3","0.333",E32="2/5","0.4",E32="1/2","0.5") -> #N/A | F33: =_xlfn.IFS(F32="3/8","0.375",F32="3/7","0.4285",F32="1/2","0.5",F32="3/5","0.6",F32="3/4","0.75") -> #N/A | G33: =_xlfn.IFS(G32="1/2","0.5",G32="4/7","0.5714",G32="2/3","0.666",G32="4/5","0.8",G32="1","1") -> #N/A | H33: =_xlfn.IFS(H32="5/8","0.625",H32="5/7","0.7142",H32="5/6","0.8333",H32="1","1") -> #N/A | I33: =_xlfn.IFS(I32="3/4","0.75",I32="6/7","0.8571",I32="1","1") -> #N/A | J33: =_xlfn.IFS(J32="7/8","0.875",J32="1","1") -> #N/A | M33: 1 | P33: =IF(OR(Q33="",$M$18=""),"",CONCATENATE($M$17,"-",R33)) | Q33: =IF(OR(Q32=$M$18,$M$18=""),"",IF(Q32="","",IF(Q32>$M$18-$Q$11,$M$18,IF($Q$11="",IF(Q32>$M$18-$M$18/$V$11,"",Q32+$M$18/$V$11),Q32+$Q$11)))) | R33: 19 | AC33: =IF(OR(AD33="",$M$18=""),"",CONCATENATE($C$17,"-",AE33)) | AE33: 19 | AF33: =IF(AD33="","",BQ33+BR33+'[1]TABLEAU DE BORD'!$O$6) | AO33: =IF(OR(AP33="",$M$18=""),"",CONCATENATE($C$17,"-",AQ33)) | AP33: =IF(OR(AP32=$M$18,$M$18=""),"",IF(AP32="","",IF(AP32>$M$18-$AP$11,$M$18,IF($AP$11="",IF(AP32>$M$18-$M$18/$AU$11,"",AP32+$M$18/$AU$11),AP32+$AP$11)))) | AQ33: 19 | AR33: =IF(AP33="","",CC33+CD33+'[1]TABLEAU DE BORD'!$O$6) | BQ33: =INDEX('[1]TABLEAU DE BORD'!$B$13:$R$2000,MATCH('Formalisme RTE'!$H$2,'[1]TABLEAU DE BORD'!$B$13:$B$2000,0),5)-(INDEX('[1]TABLEAU DE BORD'!$B$13:$R$2000,MATCH('Formalisme RTE'!$H$2,'[1]TABLEAU DE BORD'!$B$13:$B$2000,0),5)-INDEX('[1]TABLEAU DE BORD'!$B$13:$R$2000,MATCH('Formalisme RTE'!$H$2,'[1]TABLEAU DE BORD'!$B$13:$B$2000,0),11))*Q33/INDEX('[1]TABLEAU DE BORD'!$B$13:$R$2000,MATCH('Formalisme RTE'!$H$2,'[1]TABLEAU DE BORD'!$B$13:$B$2000,0),12) -> #VALUE! | BR33: =BU33*CA33 -> #VALUE! | BU33: =SQRT(1-(1/(SQRT((BY33*0.981)^2+(($B$30/10)*BW33*0.001)^2)/(BY33*0.981))^2)) -> 0.57588835 | BW33: =IF($BW$6="","",IF(ISERROR(INDEX([1]Base!$A$2:$C$207,MATCH($BW$6,[1]Base!$A$2:$A$207,0),2))=TRUE,"CABLE INCONNU",(INDEX([1]Base!$A$2:$C$207,MATCH($BW$6,[1]Base!$A$2:$A$207,0),3)))) -> 15.75 | BY33: =IF($BW$6="","",IF(ISERROR(INDEX([1]Base!$A$2:$C$207,MATCH($BW$6,[1]Base!$A$2:$A$207,0),2))=TRUE,"CABLE INCONNU",(INDEX([1]Base!$A$2:$C$207,MATCH($BW$6,[1]Base!$A$2:$A$207,0),2)))) -> 0.547 | CA33: =CD33-CC33 -> #VALUE! | CC33: =$BB$28+$D$10*((EXP(($BB$26-Q33)/$D$10)+EXP(-($BB$26-Q33)/$D$10))/2-1) -> #VALUE! | CD33: =(INDEX('[1]TABLEAU DE BORD'!$B$13:$R$2000,MATCH('Formalisme RTE'!$H$2,'[1]TABLEAU DE BORD'!$B$13:$B$2000,0),2)+INDEX($CF$15:$CG$2005,MATCH($H$2,$CF$15:$CF$2005,0),2)+INDEX('[1]TABLEAU DE BORD'!$B$13:$R$2000,MATCH('Formalisme RTE'!$H$2,'[1]TABLEAU DE BORD'!$B$13:$B$2000,0),3))-(((INDEX('[1]TABLEAU DE BORD'!$B$13:$R$2000,MATCH('Formalisme RTE'!$H$2,'[1]TABLEAU DE BORD'!$B$13:$B$2000,0),2)+INDEX($CF$15:$CG$2005,MATCH($H$2,$CF$15:$CF$2005,0),2)+INDEX('[1]TABLEAU DE BORD'!$B$13:$R$2000,MATCH('Formalisme RTE'!$H$2,'[1]TABLEAU DE BORD'!$B$13:$B$2000,0),3))-(INDEX('[1]TABLEAU DE BORD'!$B$13:$R$2000,MATCH('Formalisme RTE'!$H$2,'[1]TABLEAU DE BORD'!$B$13:$B$2000,0),8)+INDEX($CI$15:$CJ$2005,MATCH($J$2,$CI$15:$CI$2005,0),2)+INDEX('[1]TABLEAU DE BORD'!$B$13:$R$2000,MATCH('Formalisme RTE'!$H$2,'[1]TABLEAU DE BORD'!$B$13:$B$2000,0),9)))*Q33/$M$18) -> #VALUE! | CF33: ='[1]TABLEAU DE BORD'!B31 | CG33: ='[1]TABLEAU DE BORD'!E31-'[1]TABLEAU DE BORD'!C31 -> #VALUE! | CI33: ='[1]TABLEAU DE BORD'!H31 | CJ33: ='[1]TABLEAU DE BORD'!K31-'[1]TABLEAU DE BORD'!I31 -> #VALUE!
C34: =C33 -> 0 | D34: =$M$18*D33 -> #N/A | E34: =$M$18*E33 -> #N/A | F34: =$M$18*F33 -> #N/A | G34: =$M$18*G33 -> #N/A | H34: =$M$18*H33 -> #N/A | I34: =$M$18*I33 -> #N/A | J34: =$M$18*J33 -> #N/A | M34: =$M$18*M33 -> 189.43 | P34: =IF(OR(Q34="",$M$18=""),"",CONCATENATE($M$17,"-",R34)) | Q34: =IF(OR(Q33=$M$18,$M$18=""),"",IF(Q33="","",IF(Q33>$M$18-$Q$11,$M$18,IF($Q$11="",IF(Q33>$M$18-$M$18/$V$11,"",Q33+$M$18/$V$11),Q33+$Q$11)))) | R34: 20 | AC34: =IF(OR(AD34="",$M$18=""),"",CONCATENATE($M$17,"-",AE34)) | AE34: 20 | AF34: =IF(AD34="","",BQ34+BR34+'[1]TABLEAU DE BORD'!$O$6) | AO34: =IF(OR(AP34="",$M$18=""),"",CONCATENATE($M$17,"-",AQ34)) | AP34: =IF(OR(AP33=$M$18,$M$18=""),"",IF(AP33="","",IF(AP33>$M$18-$AP$11,$M$18,IF($AP$11="",IF(AP33>$M$18-$M$18/$AU$11,"",AP33+$M$18/$AU$11),AP33+$AP$11)))) | AQ34: 20 | AR34: =IF(AP34="","",CC34+CD34+'[1]TABLEAU DE BORD'!$O$6) | BQ34: =INDEX('[1]TABLEAU DE BORD'!$B$13:$R$2000,MATCH('Formalisme RTE'!$H$2,'[1]TABLEAU DE BORD'!$B$13:$B$2000,0),5)-(INDEX('[1]TABLEAU DE BORD'!$B$13:$R$2000,MATCH('Formalisme RTE'!$H$2,'[1]TABLEAU DE BORD'!$B$13:$B$2000,0),5)-INDEX('[1]TABLEAU DE BORD'!$B$13:$R$2000,MATCH('Formalisme RTE'!$H$2,'[1]TABLEAU DE BORD'!$B$13:$B$2000,0),11))*Q34/INDEX('[1]TABLEAU DE BORD'!$B$13:$R$2000,MATCH('Formalisme RTE'!$H$2,'[1]TABLEAU DE BORD'!$B$13:$B$2000,0),12) -> #VALUE! | BR34: =BU34*CA34 -> #VALUE! | BU34: =SQRT(1-(1/(SQRT((BY34*0.981)^2+(($B$30/10)*BW34*0.001)^2)/(BY34*0.981))^2)) -> 0.57588835 | BW34: =IF($BW$6="","",IF(ISERROR(INDEX([1]Base!$A$2:$C$207,MATCH($BW$6,[1]Base!$A$2:$A$207,0),2))=TRUE,"CABLE INCONNU",(INDEX([1]Base!$A$2:$C$207,MATCH($BW$6,[1]Base!$A$2:$A$207,0),3)))) -> 15.75 | BY34: =IF($BW$6="","",IF(ISERROR(INDEX([1]Base!$A$2:$C$207,MATCH($BW$6,[1]Base!$A$2:$A$207,0),2))=TRUE,"CABLE INCONNU",(INDEX([1]Base!$A$2:$C$207,MATCH($BW$6,[1]Base!$A$2:$A$207,0),2)))) -> 0.547 | CA34: =CD34-CC34 -> #VALUE! | CC34: =$BB$28+$D$10*((EXP(($BB$26-Q34)/$D$10)+EXP(-($BB$26-Q34)/$D$10))/2-1) -> #VALUE! | CD34: =(INDEX('[1]TABLEAU DE BORD'!$B$13:$R$2000,MATCH('Formalisme RTE'!$H$2,'[1]TABLEAU DE BORD'!$B$13:$B$2000,0),2)+INDEX($CF$15:$CG$2005,MATCH($H$2,$CF$15:$CF$2005,0),2)+INDEX('[1]TABLEAU DE BORD'!$B$13:$R$2000,MATCH('Formalisme RTE'!$H$2,'[1]TABLEAU DE BORD'!$B$13:$B$2000,0),3))-(((INDEX('[1]TABLEAU DE BORD'!$B$13:$R$2000,MATCH('Formalisme RTE'!$H$2,'[1]TABLEAU DE BORD'!$B$13:$B$2000,0),2)+INDEX($CF$15:$CG$2005,MATCH($H$2,$CF$15:$CF$2005,0),2)+INDEX('[1]TABLEAU DE BORD'!$B$13:$R$2000,MATCH('Formalisme RTE'!$H$2,'[1]TABLEAU DE BORD'!$B$13:$B$2000,0),3))-(INDEX('[1]TABLEAU DE BORD'!$B$13:$R$2000,MATCH('Formalisme RTE'!$H$2,'[1]TABLEAU DE BORD'!$B$13:$B$2000,0),8)+INDEX($CI$15:$CJ$2005,MATCH($J$2,$CI$15:$CI$2005,0),2)+INDEX('[1]TABLEAU DE BORD'!$B$13:$R$2000,MATCH('Formalisme RTE'!$H$2,'[1]TABLEAU DE BORD'!$B$13:$B$2000,0),9)))*Q34/$M$18) -> #VALUE! | CF34: ='[1]TABLEAU DE BORD'!B32 | CG34: ='[1]TABLEAU DE BORD'!E32-'[1]TABLEAU DE BORD'!C32 -> #VALUE! | CI34: ='[1]TABLEAU DE BORD'!H32 | CJ34: ='[1]TABLEAU DE BORD'!K32-'[1]TABLEAU DE BORD'!I32 -> #VALUE!
P35: =IF(OR(Q35="",$M$18=""),"",CONCATENATE($M$17,"-",R35)) | Q35: =IF(OR(Q34=$M$18,$M$18=""),"",IF(Q34="","",IF(Q34>$M$18-$Q$11,$M$18,IF($Q$11="",IF(Q34>$M$18-$M$18/$V$11,"",Q34+$M$18/$V$11),Q34+$Q$11)))) | R35: 21 | AC35: =IF(OR(AD35="",$M$18=""),"",CONCATENATE($M$17,"-",AE35)) | AE35: 21 | AF35: =IF(AD35="","",BQ35+BR35+'[1]TABLEAU DE BORD'!$O$6) | AO35: =IF(OR(AP35="",$M$18=""),"",CONCATENATE($M$17,"-",AQ35)) | AP35: =IF(OR(AP34=$M$18,$M$18=""),"",IF(AP34="","",IF(AP34>$M$18-$AP$11,$M$18,IF($AP$11="",IF(AP34>$M$18-$M$18/$AU$11,"",AP34+$M$18/$AU$11),AP34+$AP$11)))) | AQ35: 21 | AR35: =IF(AP35="","",CC35+CD35+'[1]TABLEAU DE BORD'!$O$6) | BL35: =ASIN(SQRT(1-(1/(SQRT((BY15*0.981)^2+((240/10)*BW15*0.001)^2)/(BY15*0.981))^2)))*180/PI() -> 35.161867 | BQ35: =INDEX('[1]TABLEAU DE BORD'!$B$13:$R$2000,MATCH('Formalisme RTE'!$H$2,'[1]TABLEAU DE BORD'!$B$13:$B$2000,0),5)-(INDEX('[1]TABLEAU DE BORD'!$B$13:$R$2000,MATCH('Formalisme RTE'!$H$2,'[1]TABLEAU DE BORD'!$B$13:$B$2000,0),5)-INDEX('[1]TABLEAU DE BORD'!$B$13:$R$2000,MATCH('Formalisme RTE'!$H$2,'[1]TABLEAU DE BORD'!$B$13:$B$2000,0),11))*Q35/INDEX('[1]TABLEAU DE BORD'!$B$13:$R$2000,MATCH('Formalisme RTE'!$H$2,'[1]TABLEAU DE BORD'!$B$13:$B$2000,0),12) -> #VALUE! | BR35: =BU35*CA35 -> #VALUE! | BU35: =SQRT(1-(1/(SQRT((BY35*0.981)^2+(($B$30/10)*BW35*0.001)^2)/(BY35*0.981))^2)) -> 0.57588835 | BW35: =IF($BW$6="","",IF(ISERROR(INDEX([1]Base!$A$2:$C$207,MATCH($BW$6,[1]Base!$A$2:$A$207,0),2))=TRUE,"CABLE INCONNU",(INDEX([1]Base!$A$2:$C$207,MATCH($BW$6,[1]Base!$A$2:$A$207,0),3)))) -> 15.75 | BY35: =IF($BW$6="","",IF(ISERROR(INDEX([1]Base!$A$2:$C$207,MATCH($BW$6,[1]Base!$A$2:$A$207,0),2))=TRUE,"CABLE INCONNU",(INDEX([1]Base!$A$2:$C$207,MATCH($BW$6,[1]Base!$A$2:$A$207,0),2)))) -> 0.547 | CA35: =CD35-CC35 -> #VALUE! | CC35: =$BB$28+$D$10*((EXP(($BB$26-Q35)/$D$10)+EXP(-($BB$26-Q35)/$D$10))/2-1) -> #VALUE! | CD35: =(INDEX('[1]TABLEAU DE BORD'!$B$13:$R$2000,MATCH('Formalisme RTE'!$H$2,'[1]TABLEAU DE BORD'!$B$13:$B$2000,0),2)+INDEX($CF$15:$CG$2005,MATCH($H$2,$CF$15:$CF$2005,0),2)+INDEX('[1]TABLEAU DE BORD'!$B$13:$R$2000,MATCH('Formalisme RTE'!$H$2,'[1]TABLEAU DE BORD'!$B$13:$B$2000,0),3))-(((INDEX('[1]TABLEAU DE BORD'!$B$13:$R$2000,MATCH('Formalisme RTE'!$H$2,'[1]TABLEAU DE BORD'!$B$13:$B$2000,0),2)+INDEX($CF$15:$CG$2005,MATCH($H$2,$CF$15:$CF$2005,0),2)+INDEX('[1]TABLEAU DE BORD'!$B$13:$R$2000,MATCH('Formalisme RTE'!$H$2,'[1]TABLEAU DE BORD'!$B$13:$B$2000,0),3))-(INDEX('[1]TABLEAU DE BORD'!$B$13:$R$2000,MATCH('Formalisme RTE'!$H$2,'[1]TABLEAU DE BORD'!$B$13:$B$2000,0),8)+INDEX($CI$15:$CJ$2005,MATCH($J$2,$CI$15:$CI$2005,0),2)+INDEX('[1]TABLEAU DE BORD'!$B$13:$R$2000,MATCH('Formalisme RTE'!$H$2,'[1]TABLEAU DE BORD'!$B$13:$B$2000,0),9)))*Q35/$M$18) -> #VALUE! | CF35: ='[1]TABLEAU DE BORD'!B33 | CG35: ='[1]TABLEAU DE BORD'!E33-'[1]TABLEAU DE BORD'!C33 -> #VALUE! | CI35: ='[1]TABLEAU DE BORD'!H33 | CJ35: ='[1]TABLEAU DE BORD'!K33-'[1]TABLEAU DE BORD'!I33 -> #VALUE!
P36: =IF(OR(Q36="",$M$18=""),"",CONCATENATE($M$17,"-",R36)) | Q36: =IF(OR(Q35=$M$18,$M$18=""),"",IF(Q35="","",IF(Q35>$M$18-$Q$11,$M$18,IF($Q$11="",IF(Q35>$M$18-$M$18/$V$11,"",Q35+$M$18/$V$11),Q35+$Q$11)))) | R36: 22 | AC36: =IF(OR(AD36="",$M$18=""),"",CONCATENATE($M$17,"-",AE36)) | AE36: 22 | AF36: =IF(AD36="","",BQ36+BR36+'[1]TABLEAU DE BORD'!$O$6) | AO36: =IF(OR(AP36="",$M$18=""),"",CONCATENATE($M$17,"-",AQ36)) | AP36: =IF(OR(AP35=$M$18,$M$18=""),"",IF(AP35="","",IF(AP35>$M$18-$AP$11,$M$18,IF($AP$11="",IF(AP35>$M$18-$M$18/$AU$11,"",AP35+$M$18/$AU$11),AP35+$AP$11)))) | AQ36: 22 | AR36: =IF(AP36="","",CC36+CD36+'[1]TABLEAU DE BORD'!$O$6) | BQ36: =INDEX('[1]TABLEAU DE BORD'!$B$13:$R$2000,MATCH('Formalisme RTE'!$H$2,'[1]TABLEAU DE BORD'!$B$13:$B$2000,0),5)-(INDEX('[1]TABLEAU DE BORD'!$B$13:$R$2000,MATCH('Formalisme RTE'!$H$2,'[1]TABLEAU DE BORD'!$B$13:$B$2000,0),5)-INDEX('[1]TABLEAU DE BORD'!$B$13:$R$2000,MATCH('Formalisme RTE'!$H$2,'[1]TABLEAU DE BORD'!$B$13:$B$2000,0),11))*Q36/INDEX('[1]TABLEAU DE BORD'!$B$13:$R$2000,MATCH('Formalisme RTE'!$H$2,'[1]TABLEAU DE BORD'!$B$13:$B$2000,0),12) -> #VALUE! | BR36: =BU36*CA36 -> #VALUE! | BU36: =SQRT(1-(1/(SQRT((BY36*0.981)^2+(($B$30/10)*BW36*0.001)^2)/(BY36*0.981))^2)) -> 0.57588835 | BW36: =IF($BW$6="","",IF(ISERROR(INDEX([1]Base!$A$2:$C$207,MATCH($BW$6,[1]Base!$A$2:$A$207,0),2))=TRUE,"CABLE INCONNU",(INDEX([1]Base!$A$2:$C$207,MATCH($BW$6,[1]Base!$A$2:$A$207,0),3)))) -> 15.75 | BY36: =IF($BW$6="","",IF(ISERROR(INDEX([1]Base!$A$2:$C$207,MATCH($BW$6,[1]Base!$A$2:$A$207,0),2))=TRUE,"CABLE INCONNU",(INDEX([1]Base!$A$2:$C$207,MATCH($BW$6,[1]Base!$A$2:$A$207,0),2)))) -> 0.547 | CA36: =CD36-CC36 -> #VALUE! | CC36: =$BB$28+$D$10*((EXP(($BB$26-Q36)/$D$10)+EXP(-($BB$26-Q36)/$D$10))/2-1) -> #VALUE! | CD36: =(INDEX('[1]TABLEAU DE BORD'!$B$13:$R$2000,MATCH('Formalisme RTE'!$H$2,'[1]TABLEAU DE BORD'!$B$13:$B$2000,0),2)+INDEX($CF$15:$CG$2005,MATCH($H$2,$CF$15:$CF$2005,0),2)+INDEX('[1]TABLEAU DE BORD'!$B$13:$R$2000,MATCH('Formalisme RTE'!$H$2,'[1]TABLEAU DE BORD'!$B$13:$B$2000,0),3))-(((INDEX('[1]TABLEAU DE BORD'!$B$13:$R$2000,MATCH('Formalisme RTE'!$H$2,'[1]TABLEAU DE BORD'!$B$13:$B$2000,0),2)+INDEX($CF$15:$CG$2005,MATCH($H$2,$CF$15:$CF$2005,0),2)+INDEX('[1]TABLEAU DE BORD'!$B$13:$R$2000,MATCH('Formalisme RTE'!$H$2,'[1]TABLEAU DE BORD'!$B$13:$B$2000,0),3))-(INDEX('[1]TABLEAU DE BORD'!$B$13:$R$2000,MATCH('Formalisme RTE'!$H$2,'[1]TABLEAU DE BORD'!$B$13:$B$2000,0),8)+INDEX($CI$15:$CJ$2005,MATCH($J$2,$CI$15:$CI$2005,0),2)+INDEX('[1]TABLEAU DE BORD'!$B$13:$R$2000,MATCH('Formalisme RTE'!$H$2,'[1]TABLEAU DE BORD'!$B$13:$B$2000,0),9)))*Q36/$M$18) -> #VALUE! | CF36: ='[1]TABLEAU DE BORD'!B34 | CG36: ='[1]TABLEAU DE BORD'!E34-'[1]TABLEAU DE BORD'!C34 -> #VALUE! | CI36: ='[1]TABLEAU DE BORD'!H34 | CJ36: ='[1]TABLEAU DE BORD'!K34-'[1]TABLEAU DE BORD'!I34 -> #VALUE!
P37: =IF(OR(Q37="",$M$18=""),"",CONCATENATE($M$17,"-",R37)) | Q37: =IF(OR(Q36=$M$18,$M$18=""),"",IF(Q36="","",IF(Q36>$M$18-$Q$11,$M$18,IF($Q$11="",IF(Q36>$M$18-$M$18/$V$11,"",Q36+$M$18/$V$11),Q36+$Q$11)))) | R37: 23 | AC37: =IF(OR(AD37="",$M$18=""),"",CONCATENATE($M$17,"-",AE37)) | AE37: 23 | AF37: =IF(AD37="","",BQ37+BR37+'[1]TABLEAU DE BORD'!$O$6) | AO37: =IF(OR(AP37="",$M$18=""),"",CONCATENATE($M$17,"-",AQ37)) | AP37: =IF(OR(AP36=$M$18,$M$18=""),"",IF(AP36="","",IF(AP36>$M$18-$AP$11,$M$18,IF($AP$11="",IF(AP36>$M$18-$M$18/$AU$11,"",AP36+$M$18/$AU$11),AP36+$AP$11)))) | AQ37: 23 | AR37: =IF(AP37="","",CC37+CD37+'[1]TABLEAU DE BORD'!$O$6) | BQ37: =INDEX('[1]TABLEAU DE BORD'!$B$13:$R$2000,MATCH('Formalisme RTE'!$H$2,'[1]TABLEAU DE BORD'!$B$13:$B$2000,0),5)-(INDEX('[1]TABLEAU DE BORD'!$B$13:$R$2000,MATCH('Formalisme RTE'!$H$2,'[1]TABLEAU DE BORD'!$B$13:$B$2000,0),5)-INDEX('[1]TABLEAU DE BORD'!$B$13:$R$2000,MATCH('Formalisme RTE'!$H$2,'[1]TABLEAU DE BORD'!$B$13:$B$2000,0),11))*Q37/INDEX('[1]TABLEAU DE BORD'!$B$13:$R$2000,MATCH('Formalisme RTE'!$H$2,'[1]TABLEAU DE BORD'!$B$13:$B$2000,0),12) -> #VALUE! | BR37: =BU37*CA37 -> #VALUE! | BU37: =SQRT(1-(1/(SQRT((BY37*0.981)^2+(($B$30/10)*BW37*0.001)^2)/(BY37*0.981))^2)) -> 0.57588835 | BW37: =IF($BW$6="","",IF(ISERROR(INDEX([1]Base!$A$2:$C$207,MATCH($BW$6,[1]Base!$A$2:$A$207,0),2))=TRUE,"CABLE INCONNU",(INDEX([1]Base!$A$2:$C$207,MATCH($BW$6,[1]Base!$A$2:$A$207,0),3)))) -> 15.75 | BY37: =IF($BW$6="","",IF(ISERROR(INDEX([1]Base!$A$2:$C$207,MATCH($BW$6,[1]Base!$A$2:$A$207,0),2))=TRUE,"CABLE INCONNU",(INDEX([1]Base!$A$2:$C$207,MATCH($BW$6,[1]Base!$A$2:$A$207,0),2)))) -> 0.547 | CA37: =CD37-CC37 -> #VALUE! | CC37: =$BB$28+$D$10*((EXP(($BB$26-Q37)/$D$10)+EXP(-($BB$26-Q37)/$D$10))/2-1) -> #VALUE! | CD37: =(INDEX('[1]TABLEAU DE BORD'!$B$13:$R$2000,MATCH('Formalisme RTE'!$H$2,'[1]TABLEAU DE BORD'!$B$13:$B$2000,0),2)+INDEX($CF$15:$CG$2005,MATCH($H$2,$CF$15:$CF$2005,0),2)+INDEX('[1]TABLEAU DE BORD'!$B$13:$R$2000,MATCH('Formalisme RTE'!$H$2,'[1]TABLEAU DE BORD'!$B$13:$B$2000,0),3))-(((INDEX('[1]TABLEAU DE BORD'!$B$13:$R$2000,MATCH('Formalisme RTE'!$H$2,'[1]TABLEAU DE BORD'!$B$13:$B$2000,0),2)+INDEX($CF$15:$CG$2005,MATCH($H$2,$CF$15:$CF$2005,0),2)+INDEX('[1]TABLEAU DE BORD'!$B$13:$R$2000,MATCH('Formalisme RTE'!$H$2,'[1]TABLEAU DE BORD'!$B$13:$B$2000,0),3))-(INDEX('[1]TABLEAU DE BORD'!$B$13:$R$2000,MATCH('Formalisme RTE'!$H$2,'[1]TABLEAU DE BORD'!$B$13:$B$2000,0),8)+INDEX($CI$15:$CJ$2005,MATCH($J$2,$CI$15:$CI$2005,0),2)+INDEX('[1]TABLEAU DE BORD'!$B$13:$R$2000,MATCH('Formalisme RTE'!$H$2,'[1]TABLEAU DE BORD'!$B$13:$B$2000,0),9)))*Q37/$M$18) -> #VALUE! | CF37: ='[1]TABLEAU DE BORD'!B35 | CG37: ='[1]TABLEAU DE BORD'!E35-'[1]TABLEAU DE BORD'!C35 -> #VALUE! | CI37: ='[1]TABLEAU DE BORD'!H35 | CJ37: ='[1]TABLEAU DE BORD'!K35-'[1]TABLEAU DE BORD'!I35 -> #VALUE!
P38: =IF(OR(Q38="",$M$18=""),"",CONCATENATE($M$17,"-",R38)) | Q38: =IF(OR(Q37=$M$18,$M$18=""),"",IF(Q37="","",IF(Q37>$M$18-$Q$11,$M$18,IF($Q$11="",IF(Q37>$M$18-$M$18/$V$11,"",Q37+$M$18/$V$11),Q37+$Q$11)))) | R38: 24 | AC38: =IF(OR(AD38="",$M$18=""),"",CONCATENATE($M$17,"-",AE38)) | AE38: 24 | AF38: =IF(AD38="","",BQ38+BR38+'[1]TABLEAU DE BORD'!$O$6) | AO38: =IF(OR(AP38="",$M$18=""),"",CONCATENATE($M$17,"-",AQ38)) | AP38: =IF(OR(AP37=$M$18,$M$18=""),"",IF(AP37="","",IF(AP37>$M$18-$AP$11,$M$18,IF($AP$11="",IF(AP37>$M$18-$M$18/$AU$11,"",AP37+$M$18/$AU$11),AP37+$AP$11)))) | AQ38: 24 | AR38: =IF(AP38="","",CC38+CD38+'[1]TABLEAU DE BORD'!$O$6) | BQ38: =INDEX('[1]TABLEAU DE BORD'!$B$13:$R$2000,MATCH('Formalisme RTE'!$H$2,'[1]TABLEAU DE BORD'!$B$13:$B$2000,0),5)-(INDEX('[1]TABLEAU DE BORD'!$B$13:$R$2000,MATCH('Formalisme RTE'!$H$2,'[1]TABLEAU DE BORD'!$B$13:$B$2000,0),5)-INDEX('[1]TABLEAU DE BORD'!$B$13:$R$2000,MATCH('Formalisme RTE'!$H$2,'[1]TABLEAU DE BORD'!$B$13:$B$2000,0),11))*Q38/INDEX('[1]TABLEAU DE BORD'!$B$13:$R$2000,MATCH('Formalisme RTE'!$H$2,'[1]TABLEAU DE BORD'!$B$13:$B$2000,0),12) -> #VALUE! | BR38: =BU38*CA38 -> #VALUE! | BU38: =SQRT(1-(1/(SQRT((BY38*0.981)^2+(($B$30/10)*BW38*0.001)^2)/(BY38*0.981))^2)) -> 0.57588835 | BW38: =IF($BW$6="","",IF(ISERROR(INDEX([1]Base!$A$2:$C$207,MATCH($BW$6,[1]Base!$A$2:$A$207,0),2))=TRUE,"CABLE INCONNU",(INDEX([1]Base!$A$2:$C$207,MATCH($BW$6,[1]Base!$A$2:$A$207,0),3)))) -> 15.75 | BY38: =IF($BW$6="","",IF(ISERROR(INDEX([1]Base!$A$2:$C$207,MATCH($BW$6,[1]Base!$A$2:$A$207,0),2))=TRUE,"CABLE INCONNU",(INDEX([1]Base!$A$2:$C$207,MATCH($BW$6,[1]Base!$A$2:$A$207,0),2)))) -> 0.547 | CA38: =CD38-CC38 -> #VALUE! | CC38: =$BB$28+$D$10*((EXP(($BB$26-Q38)/$D$10)+EXP(-($BB$26-Q38)/$D$10))/2-1) -> #VALUE! | CD38: =(INDEX('[1]TABLEAU DE BORD'!$B$13:$R$2000,MATCH('Formalisme RTE'!$H$2,'[1]TABLEAU DE BORD'!$B$13:$B$2000,0),2)+INDEX($CF$15:$CG$2005,MATCH($H$2,$CF$15:$CF$2005,0),2)+INDEX('[1]TABLEAU DE BORD'!$B$13:$R$2000,MATCH('Formalisme RTE'!$H$2,'[1]TABLEAU DE BORD'!$B$13:$B$2000,0),3))-(((INDEX('[1]TABLEAU DE BORD'!$B$13:$R$2000,MATCH('Formalisme RTE'!$H$2,'[1]TABLEAU DE BORD'!$B$13:$B$2000,0),2)+INDEX($CF$15:$CG$2005,MATCH($H$2,$CF$15:$CF$2005,0),2)+INDEX('[1]TABLEAU DE BORD'!$B$13:$R$2000,MATCH('Formalisme RTE'!$H$2,'[1]TABLEAU DE BORD'!$B$13:$B$2000,0),3))-(INDEX('[1]TABLEAU DE BORD'!$B$13:$R$2000,MATCH('Formalisme RTE'!$H$2,'[1]TABLEAU DE BORD'!$B$13:$B$2000,0),8)+INDEX($CI$15:$CJ$2005,MATCH($J$2,$CI$15:$CI$2005,0),2)+INDEX('[1]TABLEAU DE BORD'!$B$13:$R$2000,MATCH('Formalisme RTE'!$H$2,'[1]TABLEAU DE BORD'!$B$13:$B$2000,0),9)))*Q38/$M$18) -> #VALUE! | CF38: ='[1]TABLEAU DE BORD'!B36 | CG38: ='[1]TABLEAU DE BORD'!E36-'[1]TABLEAU DE BORD'!C36 -> #VALUE! | CI38: ='[1]TABLEAU DE BORD'!H36 | CJ38: ='[1]TABLEAU DE BORD'!K36-'[1]TABLEAU DE BORD'!I36 -> #VALUE!
P39: =IF(OR(Q39="",$M$18=""),"",CONCATENATE($M$17,"-",R39)) | Q39: =IF(OR(Q38=$M$18,$M$18=""),"",IF(Q38="","",IF(Q38>$M$18-$Q$11,$M$18,IF($Q$11="",IF(Q38>$M$18-$M$18/$V$11,"",Q38+$M$18/$V$11),Q38+$Q$11)))) | R39: 25 | AC39: =IF(OR(AD39="",$M$18=""),"",CONCATENATE($M$17,"-",AE39)) | AE39: 25 | AF39: =IF(AD39="","",BQ39+BR39+'[1]TABLEAU DE BORD'!$O$6) | AO39: =IF(OR(AP39="",$M$18=""),"",CONCATENATE($M$17,"-",AQ39)) | AP39: =IF(OR(AP38=$M$18,$M$18=""),"",IF(AP38="","",IF(AP38>$M$18-$AP$11,$M$18,IF($AP$11="",IF(AP38>$M$18-$M$18/$AU$11,"",AP38+$M$18/$AU$11),AP38+$AP$11)))) | AQ39: 25 | AR39: =IF(AP39="","",CC39+CD39+'[1]TABLEAU DE BORD'!$O$6) | BQ39: =INDEX('[1]TABLEAU DE BORD'!$B$13:$R$2000,MATCH('Formalisme RTE'!$H$2,'[1]TABLEAU DE BORD'!$B$13:$B$2000,0),5)-(INDEX('[1]TABLEAU DE BORD'!$B$13:$R$2000,MATCH('Formalisme RTE'!$H$2,'[1]TABLEAU DE BORD'!$B$13:$B$2000,0),5)-INDEX('[1]TABLEAU DE BORD'!$B$13:$R$2000,MATCH('Formalisme RTE'!$H$2,'[1]TABLEAU DE BORD'!$B$13:$B$2000,0),11))*Q39/INDEX('[1]TABLEAU DE BORD'!$B$13:$R$2000,MATCH('Formalisme RTE'!$H$2,'[1]TABLEAU DE BORD'!$B$13:$B$2000,0),12) -> #VALUE! | BR39: =BU39*CA39 -> #VALUE! | BU39: =SQRT(1-(1/(SQRT((BY39*0.981)^2+(($B$30/10)*BW39*0.001)^2)/(BY39*0.981))^2)) -> 0.57588835 | BW39: =IF($BW$6="","",IF(ISERROR(INDEX([1]Base!$A$2:$C$207,MATCH($BW$6,[1]Base!$A$2:$A$207,0),2))=TRUE,"CABLE INCONNU",(INDEX([1]Base!$A$2:$C$207,MATCH($BW$6,[1]Base!$A$2:$A$207,0),3)))) -> 15.75 | BY39: =IF($BW$6="","",IF(ISERROR(INDEX([1]Base!$A$2:$C$207,MATCH($BW$6,[1]Base!$A$2:$A$207,0),2))=TRUE,"CABLE INCONNU",(INDEX([1]Base!$A$2:$C$207,MATCH($BW$6,[1]Base!$A$2:$A$207,0),2)))) -> 0.547 | CA39: =CD39-CC39 -> #VALUE! | CC39: =$BB$28+$D$10*((EXP(($BB$26-Q39)/$D$10)+EXP(-($BB$26-Q39)/$D$10))/2-1) -> #VALUE! | CD39: =(INDEX('[1]TABLEAU DE BORD'!$B$13:$R$2000,MATCH('Formalisme RTE'!$H$2,'[1]TABLEAU DE BORD'!$B$13:$B$2000,0),2)+INDEX($CF$15:$CG$2005,MATCH($H$2,$CF$15:$CF$2005,0),2)+INDEX('[1]TABLEAU DE BORD'!$B$13:$R$2000,MATCH('Formalisme RTE'!$H$2,'[1]TABLEAU DE BORD'!$B$13:$B$2000,0),3))-(((INDEX('[1]TABLEAU DE BORD'!$B$13:$R$2000,MATCH('Formalisme RTE'!$H$2,'[1]TABLEAU DE BORD'!$B$13:$B$2000,0),2)+INDEX($CF$15:$CG$2005,MATCH($H$2,$CF$15:$CF$2005,0),2)+INDEX('[1]TABLEAU DE BORD'!$B$13:$R$2000,MATCH('Formalisme RTE'!$H$2,'[1]TABLEAU DE BORD'!$B$13:$B$2000,0),3))-(INDEX('[1]TABLEAU DE BORD'!$B$13:$R$2000,MATCH('Formalisme RTE'!$H$2,'[1]TABLEAU DE BORD'!$B$13:$B$2000,0),8)+INDEX($CI$15:$CJ$2005,MATCH($J$2,$CI$15:$CI$2005,0),2)+INDEX('[1]TABLEAU DE BORD'!$B$13:$R$2000,MATCH('Formalisme RTE'!$H$2,'[1]TABLEAU DE BORD'!$B$13:$B$2000,0),9)))*Q39/$M$18) -> #VALUE! | CF39: ='[1]TABLEAU DE BORD'!B37 | CG39: ='[1]TABLEAU DE BORD'!E37-'[1]TABLEAU DE BORD'!C37 -> #VALUE! | CI39: ='[1]TABLEAU DE BORD'!H37 | CJ39: ='[1]TABLEAU DE BORD'!K37-'[1]TABLEAU DE BORD'!I37 -> #VALUE!
P40: =IF(OR(Q40="",$M$18=""),"",CONCATENATE($M$17,"-",R40)) | Q40: =IF(OR(Q39=$M$18,$M$18=""),"",IF(Q39="","",IF(Q39>$M$18-$Q$11,$M$18,IF($Q$11="",IF(Q39>$M$18-$M$18/$V$11,"",Q39+$M$18/$V$11),Q39+$Q$11)))) | R40: 26 | AF40: =IF(AD40="","",BQ40+BR40+'[1]TABLEAU DE BORD'!$O$6) | AR40: =IF(AP40="","",CC40+CD40+'[1]TABLEAU DE BORD'!$O$6) | BQ40: =INDEX('[1]TABLEAU DE BORD'!$B$13:$R$2000,MATCH('Formalisme RTE'!$H$2,'[1]TABLEAU DE BORD'!$B$13:$B$2000,0),5)-(INDEX('[1]TABLEAU DE BORD'!$B$13:$R$2000,MATCH('Formalisme RTE'!$H$2,'[1]TABLEAU DE BORD'!$B$13:$B$2000,0),5)-INDEX('[1]TABLEAU DE BORD'!$B$13:$R$2000,MATCH('Formalisme RTE'!$H$2,'[1]TABLEAU DE BORD'!$B$13:$B$2000,0),11))*Q40/INDEX('[1]TABLEAU DE BORD'!$B$13:$R$2000,MATCH('Formalisme RTE'!$H$2,'[1]TABLEAU DE BORD'!$B$13:$B$2000,0),12) -> #VALUE! | BR40: =BU40*CA40 -> #VALUE! | BU40: =SQRT(1-(1/(SQRT((BY40*0.981)^2+(($B$30/10)*BW40*0.001)^2)/(BY40*0.981))^2)) -> 0.57588835 | BW40: =IF($BW$6="","",IF(ISERROR(INDEX([1]Base!$A$2:$C$207,MATCH($BW$6,[1]Base!$A$2:$A$207,0),2))=TRUE,"CABLE INCONNU",(INDEX([1]Base!$A$2:$C$207,MATCH($BW$6,[1]Base!$A$2:$A$207,0),3)))) -> 15.75 | BY40: =IF($BW$6="","",IF(ISERROR(INDEX([1]Base!$A$2:$C$207,MATCH($BW$6,[1]Base!$A$2:$A$207,0),2))=TRUE,"CABLE INCONNU",(INDEX([1]Base!$A$2:$C$207,MATCH($BW$6,[1]Base!$A$2:$A$207,0),2)))) -> 0.547 | CA40: =CD40-CC40 -> #VALUE! | CC40: =$BB$28+$D$10*((EXP(($BB$26-Q40)/$D$10)+EXP(-($BB$26-Q40)/$D$10))/2-1) -> #VALUE! | CD40: =(INDEX('[1]TABLEAU DE BORD'!$B$13:$R$2000,MATCH('Formalisme RTE'!$H$2,'[1]TABLEAU DE BORD'!$B$13:$B$2000,0),2)+INDEX($CF$15:$CG$2005,MATCH($H$2,$CF$15:$CF$2005,0),2)+INDEX('[1]TABLEAU DE BORD'!$B$13:$R$2000,MATCH('Formalisme RTE'!$H$2,'[1]TABLEAU DE BORD'!$B$13:$B$2000,0),3))-(((INDEX('[1]TABLEAU DE BORD'!$B$13:$R$2000,MATCH('Formalisme RTE'!$H$2,'[1]TABLEAU DE BORD'!$B$13:$B$2000,0),2)+INDEX($CF$15:$CG$2005,MATCH($H$2,$CF$15:$CF$2005,0),2)+INDEX('[1]TABLEAU DE BORD'!$B$13:$R$2000,MATCH('Formalisme RTE'!$H$2,'[1]TABLEAU DE BORD'!$B$13:$B$2000,0),3))-(INDEX('[1]TABLEAU DE BORD'!$B$13:$R$2000,MATCH('Formalisme RTE'!$H$2,'[1]TABLEAU DE BORD'!$B$13:$B$2000,0),8)+INDEX($CI$15:$CJ$2005,MATCH($J$2,$CI$15:$CI$2005,0),2)+INDEX('[1]TABLEAU DE BORD'!$B$13:$R$2000,MATCH('Formalisme RTE'!$H$2,'[1]TABLEAU DE BORD'!$B$13:$B$2000,0),9)))*Q40/$M$18) -> #VALUE! | CF40: ='[1]TABLEAU DE BORD'!B38 | CG40: ='[1]TABLEAU DE BORD'!E38-'[1]TABLEAU DE BORD'!C38 -> #VALUE! | CI40: ='[1]TABLEAU DE BORD'!H38 | CJ40: ='[1]TABLEAU DE BORD'!K38-'[1]TABLEAU DE BORD'!I38 -> #VALUE!
P41: =IF(OR(Q41="",$M$18=""),"",CONCATENATE($M$17,"-",R41)) | Q41: =IF(OR(Q40=$M$18,$M$18=""),"",IF(Q40="","",IF(Q40>$M$18-$Q$11,$M$18,IF($Q$11="",IF(Q40>$M$18-$M$18/$V$11,"",Q40+$M$18/$V$11),Q40+$Q$11)))) | R41: 27 | AF41: =IF(AD41="","",BQ41+BR41+'[1]TABLEAU DE BORD'!$O$6) | AR41: =IF(AP41="","",CC41+CD41+'[1]TABLEAU DE BORD'!$O$6) | BQ41: =INDEX('[1]TABLEAU DE BORD'!$B$13:$R$2000,MATCH('Formalisme RTE'!$H$2,'[1]TABLEAU DE BORD'!$B$13:$B$2000,0),5)-(INDEX('[1]TABLEAU DE BORD'!$B$13:$R$2000,MATCH('Formalisme RTE'!$H$2,'[1]TABLEAU DE BORD'!$B$13:$B$2000,0),5)-INDEX('[1]TABLEAU DE BORD'!$B$13:$R$2000,MATCH('Formalisme RTE'!$H$2,'[1]TABLEAU DE BORD'!$B$13:$B$2000,0),11))*Q41/INDEX('[1]TABLEAU DE BORD'!$B$13:$R$2000,MATCH('Formalisme RTE'!$H$2,'[1]TABLEAU DE BORD'!$B$13:$B$2000,0),12) -> #VALUE! | BR41: =BU41*CA41 -> #VALUE! | BU41: =SQRT(1-(1/(SQRT((BY41*0.981)^2+(($B$30/10)*BW41*0.001)^2)/(BY41*0.981))^2)) -> 0.57588835 | BW41: =IF($BW$6="","",IF(ISERROR(INDEX([1]Base!$A$2:$C$207,MATCH($BW$6,[1]Base!$A$2:$A$207,0),2))=TRUE,"CABLE INCONNU",(INDEX([1]Base!$A$2:$C$207,MATCH($BW$6,[1]Base!$A$2:$A$207,0),3)))) -> 15.75 | BY41: =IF($BW$6="","",IF(ISERROR(INDEX([1]Base!$A$2:$C$207,MATCH($BW$6,[1]Base!$A$2:$A$207,0),2))=TRUE,"CABLE INCONNU",(INDEX([1]Base!$A$2:$C$207,MATCH($BW$6,[1]Base!$A$2:$A$207,0),2)))) -> 0.547 | CA41: =CD41-CC41 -> #VALUE! | CC41: =$BB$28+$D$10*((EXP(($BB$26-Q41)/$D$10)+EXP(-($BB$26-Q41)/$D$10))/2-1) -> #VALUE! | CD41: =(INDEX('[1]TABLEAU DE BORD'!$B$13:$R$2000,MATCH('Formalisme RTE'!$H$2,'[1]TABLEAU DE BORD'!$B$13:$B$2000,0),2)+INDEX($CF$15:$CG$2005,MATCH($H$2,$CF$15:$CF$2005,0),2)+INDEX('[1]TABLEAU DE BORD'!$B$13:$R$2000,MATCH('Formalisme RTE'!$H$2,'[1]TABLEAU DE BORD'!$B$13:$B$2000,0),3))-(((INDEX('[1]TABLEAU DE BORD'!$B$13:$R$2000,MATCH('Formalisme RTE'!$H$2,'[1]TABLEAU DE BORD'!$B$13:$B$2000,0),2)+INDEX($CF$15:$CG$2005,MATCH($H$2,$CF$15:$CF$2005,0),2)+INDEX('[1]TABLEAU DE BORD'!$B$13:$R$2000,MATCH('Formalisme RTE'!$H$2,'[1]TABLEAU DE BORD'!$B$13:$B$2000,0),3))-(INDEX('[1]TABLEAU DE BORD'!$B$13:$R$2000,MATCH('Formalisme RTE'!$H$2,'[1]TABLEAU DE BORD'!$B$13:$B$2000,0),8)+INDEX($CI$15:$CJ$2005,MATCH($J$2,$CI$15:$CI$2005,0),2)+INDEX('[1]TABLEAU DE BORD'!$B$13:$R$2000,MATCH('Formalisme RTE'!$H$2,'[1]TABLEAU DE BORD'!$B$13:$B$2000,0),9)))*Q41/$M$18) -> #VALUE! | CF41: ='[1]TABLEAU DE BORD'!B39 | CG41: ='[1]TABLEAU DE BORD'!E39-'[1]TABLEAU DE BORD'!C39 -> #VALUE! | CI41: ='[1]TABLEAU DE BORD'!H39 | CJ41: ='[1]TABLEAU DE BORD'!K39-'[1]TABLEAU DE BORD'!I39 -> #VALUE!
P42: =IF(OR(Q42="",$M$18=""),"",CONCATENATE($M$17,"-",R42)) | Q42: =IF(OR(Q41=$M$18,$M$18=""),"",IF(Q41="","",IF(Q41>$M$18-$Q$11,$M$18,IF($Q$11="",IF(Q41>$M$18-$M$18/$V$11,"",Q41+$M$18/$V$11),Q41+$Q$11)))) | R42: 28 | AF42: =IF(AD42="","",BQ42+BR42+'[1]TABLEAU DE BORD'!$O$6) | AR42: =IF(AP42="","",CC42+CD42+'[1]TABLEAU DE BORD'!$O$6) | BQ42: =INDEX('[1]TABLEAU DE BORD'!$B$13:$R$2000,MATCH('Formalisme RTE'!$H$2,'[1]TABLEAU DE BORD'!$B$13:$B$2000,0),5)-(INDEX('[1]TABLEAU DE BORD'!$B$13:$R$2000,MATCH('Formalisme RTE'!$H$2,'[1]TABLEAU DE BORD'!$B$13:$B$2000,0),5)-INDEX('[1]TABLEAU DE BORD'!$B$13:$R$2000,MATCH('Formalisme RTE'!$H$2,'[1]TABLEAU DE BORD'!$B$13:$B$2000,0),11))*Q42/INDEX('[1]TABLEAU DE BORD'!$B$13:$R$2000,MATCH('Formalisme RTE'!$H$2,'[1]TABLEAU DE BORD'!$B$13:$B$2000,0),12) -> #VALUE! | BR42: =BU42*CA42 -> #VALUE! | BU42: =SQRT(1-(1/(SQRT((BY42*0.981)^2+(($B$30/10)*BW42*0.001)^2)/(BY42*0.981))^2)) -> 0.57588835 | BW42: =IF($BW$6="","",IF(ISERROR(INDEX([1]Base!$A$2:$C$207,MATCH($BW$6,[1]Base!$A$2:$A$207,0),2))=TRUE,"CABLE INCONNU",(INDEX([1]Base!$A$2:$C$207,MATCH($BW$6,[1]Base!$A$2:$A$207,0),3)))) -> 15.75 | BY42: =IF($BW$6="","",IF(ISERROR(INDEX([1]Base!$A$2:$C$207,MATCH($BW$6,[1]Base!$A$2:$A$207,0),2))=TRUE,"CABLE INCONNU",(INDEX([1]Base!$A$2:$C$207,MATCH($BW$6,[1]Base!$A$2:$A$207,0),2)))) -> 0.547 | CA42: =CD42-CC42 -> #VALUE! | CC42: =$BB$28+$D$10*((EXP(($BB$26-Q42)/$D$10)+EXP(-($BB$26-Q42)/$D$10))/2-1) -> #VALUE! | CD42: =(INDEX('[1]TABLEAU DE BORD'!$B$13:$R$2000,MATCH('Formalisme RTE'!$H$2,'[1]TABLEAU DE BORD'!$B$13:$B$2000,0),2)+INDEX($CF$15:$CG$2005,MATCH($H$2,$CF$15:$CF$2005,0),2)+INDEX('[1]TABLEAU DE BORD'!$B$13:$R$2000,MATCH('Formalisme RTE'!$H$2,'[1]TABLEAU DE BORD'!$B$13:$B$2000,0),3))-(((INDEX('[1]TABLEAU DE BORD'!$B$13:$R$2000,MATCH('Formalisme RTE'!$H$2,'[1]TABLEAU DE BORD'!$B$13:$B$2000,0),2)+INDEX($CF$15:$CG$2005,MATCH($H$2,$CF$15:$CF$2005,0),2)+INDEX('[1]TABLEAU DE BORD'!$B$13:$R$2000,MATCH('Formalisme RTE'!$H$2,'[1]TABLEAU DE BORD'!$B$13:$B$2000,0),3))-(INDEX('[1]TABLEAU DE BORD'!$B$13:$R$2000,MATCH('Formalisme RTE'!$H$2,'[1]TABLEAU DE BORD'!$B$13:$B$2000,0),8)+INDEX($CI$15:$CJ$2005,MATCH($J$2,$CI$15:$CI$2005,0),2)+INDEX('[1]TABLEAU DE BORD'!$B$13:$R$2000,MATCH('Formalisme RTE'!$H$2,'[1]TABLEAU DE BORD'!$B$13:$B$2000,0),9)))*Q42/$M$18) -> #VALUE! | CF42: ='[1]TABLEAU DE BORD'!B40 | CG42: ='[1]TABLEAU DE BORD'!E40-'[1]TABLEAU DE BORD'!C40 -> #VALUE! | CI42: ='[1]TABLEAU DE BORD'!H40 | CJ42: ='[1]TABLEAU DE BORD'!K40-'[1]TABLEAU DE BORD'!I40 -> #VALUE!
P43: =IF(OR(Q43="",$M$18=""),"",CONCATENATE($M$17,"-",R43)) | Q43: =IF(OR(Q42=$M$18,$M$18=""),"",IF(Q42="","",IF(Q42>$M$18-$Q$11,$M$18,IF($Q$11="",IF(Q42>$M$18-$M$18/$V$11,"",Q42+$M$18/$V$11),Q42+$Q$11)))) | R43: 29 | BQ43: =INDEX('[1]TABLEAU DE BORD'!$B$13:$R$2000,MATCH('Formalisme RTE'!$H$2,'[1]TABLEAU DE BORD'!$B$13:$B$2000,0),5)-(INDEX('[1]TABLEAU DE BORD'!$B$13:$R$2000,MATCH('Formalisme RTE'!$H$2,'[1]TABLEAU DE BORD'!$B$13:$B$2000,0),5)-INDEX('[1]TABLEAU DE BORD'!$B$13:$R$2000,MATCH('Formalisme RTE'!$H$2,'[1]TABLEAU DE BORD'!$B$13:$B$2000,0),11))*Q43/INDEX('[1]TABLEAU DE BORD'!$B$13:$R$2000,MATCH('Formalisme RTE'!$H$2,'[1]TABLEAU DE BORD'!$B$13:$B$2000,0),12) -> #VALUE! | BR43: =BU43*CA43 -> #VALUE! | BU43: =SQRT(1-(1/(SQRT((BY43*0.981)^2+(($B$30/10)*BW43*0.001)^2)/(BY43*0.981))^2)) -> 0.57588835 | BW43: =IF($BW$6="","",IF(ISERROR(INDEX([1]Base!$A$2:$C$207,MATCH($BW$6,[1]Base!$A$2:$A$207,0),2))=TRUE,"CABLE INCONNU",(INDEX([1]Base!$A$2:$C$207,MATCH($BW$6,[1]Base!$A$2:$A$207,0),3)))) -> 15.75 | BY43: =IF($BW$6="","",IF(ISERROR(INDEX([1]Base!$A$2:$C$207,MATCH($BW$6,[1]Base!$A$2:$A$207,0),2))=TRUE,"CABLE INCONNU",(INDEX([1]Base!$A$2:$C$207,MATCH($BW$6,[1]Base!$A$2:$A$207,0),2)))) -> 0.547 | CA43: =CD43-CC43 -> #VALUE! | CC43: =$BB$28+$D$10*((EXP(($BB$26-Q43)/$D$10)+EXP(-($BB$26-Q43)/$D$10))/2-1) -> #VALUE! | CD43: =(INDEX('[1]TABLEAU DE BORD'!$B$13:$R$2000,MATCH('Formalisme RTE'!$H$2,'[1]TABLEAU DE BORD'!$B$13:$B$2000,0),2)+INDEX($CF$15:$CG$2005,MATCH($H$2,$CF$15:$CF$2005,0),2)+INDEX('[1]TABLEAU DE BORD'!$B$13:$R$2000,MATCH('Formalisme RTE'!$H$2,'[1]TABLEAU DE BORD'!$B$13:$B$2000,0),3))-(((INDEX('[1]TABLEAU DE BORD'!$B$13:$R$2000,MATCH('Formalisme RTE'!$H$2,'[1]TABLEAU DE BORD'!$B$13:$B$2000,0),2)+INDEX($CF$15:$CG$2005,MATCH($H$2,$CF$15:$CF$2005,0),2)+INDEX('[1]TABLEAU DE BORD'!$B$13:$R$2000,MATCH('Formalisme RTE'!$H$2,'[1]TABLEAU DE BORD'!$B$13:$B$2000,0),3))-(INDEX('[1]TABLEAU DE BORD'!$B$13:$R$2000,MATCH('Formalisme RTE'!$H$2,'[1]TABLEAU DE BORD'!$B$13:$B$2000,0),8)+INDEX($CI$15:$CJ$2005,MATCH($J$2,$CI$15:$CI$2005,0),2)+INDEX('[1]TABLEAU DE BORD'!$B$13:$R$2000,MATCH('Formalisme RTE'!$H$2,'[1]TABLEAU DE BORD'!$B$13:$B$2000,0),9)))*Q43/$M$18) -> #VALUE! | CF43: ='[1]TABLEAU DE BORD'!B41 | CG43: ='[1]TABLEAU DE BORD'!E41-'[1]TABLEAU DE BORD'!C41 -> #VALUE! | CI43: ='[1]TABLEAU DE BORD'!H41 | CJ43: ='[1]TABLEAU DE BORD'!K41-'[1]TABLEAU DE BORD'!I41 -> #VALUE!
P44: =IF(OR(Q44="",$M$18=""),"",CONCATENATE($M$17,"-",R44)) | R44: 30 | BQ44: =INDEX('[1]TABLEAU DE BORD'!$B$13:$R$2000,MATCH('Formalisme RTE'!$H$2,'[1]TABLEAU DE BORD'!$B$13:$B$2000,0),5)-(INDEX('[1]TABLEAU DE BORD'!$B$13:$R$2000,MATCH('Formalisme RTE'!$H$2,'[1]TABLEAU DE BORD'!$B$13:$B$2000,0),5)-INDEX('[1]TABLEAU DE BORD'!$B$13:$R$2000,MATCH('Formalisme RTE'!$H$2,'[1]TABLEAU DE BORD'!$B$13:$B$2000,0),11))*Q44/INDEX('[1]TABLEAU DE BORD'!$B$13:$R$2000,MATCH('Formalisme RTE'!$H$2,'[1]TABLEAU DE BORD'!$B$13:$B$2000,0),12) -> 2.7040063 | BR44: =BU44*CA44 -> 0 | BU44: =SQRT(1-(1/(SQRT((BY44*0.981)^2+(($B$30/10)*BW44*0.001)^2)/(BY44*0.981))^2)) -> 0.57588835 | BW44: =IF($BW$6="","",IF(ISERROR(INDEX([1]Base!$A$2:$C$207,MATCH($BW$6,[1]Base!$A$2:$A$207,0),2))=TRUE,"CABLE INCONNU",(INDEX([1]Base!$A$2:$C$207,MATCH($BW$6,[1]Base!$A$2:$A$207,0),3)))) -> 15.75 | BY44: =IF($BW$6="","",IF(ISERROR(INDEX([1]Base!$A$2:$C$207,MATCH($BW$6,[1]Base!$A$2:$A$207,0),2))=TRUE,"CABLE INCONNU",(INDEX([1]Base!$A$2:$C$207,MATCH($BW$6,[1]Base!$A$2:$A$207,0),2)))) -> 0.547 | CA44: =CD44-CC44 -> 0 | CC44: =$BB$28+$D$10*((EXP(($BB$26-Q44)/$D$10)+EXP(-($BB$26-Q44)/$D$10))/2-1) -> 237.96 | CD44: =(INDEX('[1]TABLEAU DE BORD'!$B$13:$R$2000,MATCH('Formalisme RTE'!$H$2,'[1]TABLEAU DE BORD'!$B$13:$B$2000,0),2)+INDEX($CF$15:$CG$2005,MATCH($H$2,$CF$15:$CF$2005,0),2)+INDEX('[1]TABLEAU DE BORD'!$B$13:$R$2000,MATCH('Formalisme RTE'!$H$2,'[1]TABLEAU DE BORD'!$B$13:$B$2000,0),3))-(((INDEX('[1]TABLEAU DE BORD'!$B$13:$R$2000,MATCH('Formalisme RTE'!$H$2,'[1]TABLEAU DE BORD'!$B$13:$B$2000,0),2)+INDEX($CF$15:$CG$2005,MATCH($H$2,$CF$15:$CF$2005,0),2)+INDEX('[1]TABLEAU DE BORD'!$B$13:$R$2000,MATCH('Formalisme RTE'!$H$2,'[1]TABLEAU DE BORD'!$B$13:$B$2000,0),3))-(INDEX('[1]TABLEAU DE BORD'!$B$13:$R$2000,MATCH('Formalisme RTE'!$H$2,'[1]TABLEAU DE BORD'!$B$13:$B$2000,0),8)+INDEX($CI$15:$CJ$2005,MATCH($J$2,$CI$15:$CI$2005,0),2)+INDEX('[1]TABLEAU DE BORD'!$B$13:$R$2000,MATCH('Formalisme RTE'!$H$2,'[1]TABLEAU DE BORD'!$B$13:$B$2000,0),9)))*Q44/$M$18) -> 237.96 | CF44: ='[1]TABLEAU DE BORD'!B42 | CG44: ='[1]TABLEAU DE BORD'!E42-'[1]TABLEAU DE BORD'!C42 -> #VALUE! | CI44: ='[1]TABLEAU DE BORD'!H42 | CJ44: ='[1]TABLEAU DE BORD'!K42-'[1]TABLEAU DE BORD'!I42 -> #VALUE!
P45: =IF(OR(Q45="",$M$18=""),"",CONCATENATE($M$17,"-",R45)) | R45: 31 | BQ45: =INDEX('[1]TABLEAU DE BORD'!$B$13:$R$2000,MATCH('Formalisme RTE'!$H$2,'[1]TABLEAU DE BORD'!$B$13:$B$2000,0),5)-(INDEX('[1]TABLEAU DE BORD'!$B$13:$R$2000,MATCH('Formalisme RTE'!$H$2,'[1]TABLEAU DE BORD'!$B$13:$B$2000,0),5)-INDEX('[1]TABLEAU DE BORD'!$B$13:$R$2000,MATCH('Formalisme RTE'!$H$2,'[1]TABLEAU DE BORD'!$B$13:$B$2000,0),11))*Q45/INDEX('[1]TABLEAU DE BORD'!$B$13:$R$2000,MATCH('Formalisme RTE'!$H$2,'[1]TABLEAU DE BORD'!$B$13:$B$2000,0),12) -> 2.7040063 | BR45: =BU45*CA45 -> 0 | BU45: =SQRT(1-(1/(SQRT((BY45*0.981)^2+(($B$30/10)*BW45*0.001)^2)/(BY45*0.981))^2)) -> 0.57588835 | BW45: =IF($BW$6="","",IF(ISERROR(INDEX([1]Base!$A$2:$C$207,MATCH($BW$6,[1]Base!$A$2:$A$207,0),2))=TRUE,"CABLE INCONNU",(INDEX([1]Base!$A$2:$C$207,MATCH($BW$6,[1]Base!$A$2:$A$207,0),3)))) -> 15.75 | BY45: =IF($BW$6="","",IF(ISERROR(INDEX([1]Base!$A$2:$C$207,MATCH($BW$6,[1]Base!$A$2:$A$207,0),2))=TRUE,"CABLE INCONNU",(INDEX([1]Base!$A$2:$C$207,MATCH($BW$6,[1]Base!$A$2:$A$207,0),2)))) -> 0.547 | CA45: =CD45-CC45 -> 0 | CC45: =$BB$28+$D$10*((EXP(($BB$26-Q45)/$D$10)+EXP(-($BB$26-Q45)/$D$10))/2-1) -> 237.96 | CD45: =(INDEX('[1]TABLEAU DE BORD'!$B$13:$R$2000,MATCH('Formalisme RTE'!$H$2,'[1]TABLEAU DE BORD'!$B$13:$B$2000,0),2)+INDEX($CF$15:$CG$2005,MATCH($H$2,$CF$15:$CF$2005,0),2)+INDEX('[1]TABLEAU DE BORD'!$B$13:$R$2000,MATCH('Formalisme RTE'!$H$2,'[1]TABLEAU DE BORD'!$B$13:$B$2000,0),3))-(((INDEX('[1]TABLEAU DE BORD'!$B$13:$R$2000,MATCH('Formalisme RTE'!$H$2,'[1]TABLEAU DE BORD'!$B$13:$B$2000,0),2)+INDEX($CF$15:$CG$2005,MATCH($H$2,$CF$15:$CF$2005,0),2)+INDEX('[1]TABLEAU DE BORD'!$B$13:$R$2000,MATCH('Formalisme RTE'!$H$2,'[1]TABLEAU DE BORD'!$B$13:$B$2000,0),3))-(INDEX('[1]TABLEAU DE BORD'!$B$13:$R$2000,MATCH('Formalisme RTE'!$H$2,'[1]TABLEAU DE BORD'!$B$13:$B$2000,0),8)+INDEX($CI$15:$CJ$2005,MATCH($J$2,$CI$15:$CI$2005,0),2)+INDEX('[1]TABLEAU DE BORD'!$B$13:$R$2000,MATCH('Formalisme RTE'!$H$2,'[1]TABLEAU DE BORD'!$B$13:$B$2000,0),9)))*Q45/$M$18) -> 237.96 | CF45: ='[1]TABLEAU DE BORD'!B43 | CG45: ='[1]TABLEAU DE BORD'!E43-'[1]TABLEAU DE BORD'!C43 -> #VALUE! | CI45: ='[1]TABLEAU DE BORD'!H43 | CJ45: ='[1]TABLEAU DE BORD'!K43-'[1]TABLEAU DE BORD'!I43 -> #VALUE!
P46: =IF(OR(Q46="",$M$18=""),"",CONCATENATE($M$17,"-",R46)) | R46: 32 | BF46: G1= | BG46: =IF(D7=63,IF(D14<22,3.5,IF(D14>50,6.5,5)),IF(D7=90,IF(D14<22,3.5,IF(D14>50,6.5,5)),IF(D7=225,IF(D14<22,4.5,IF(D14>50,7.5,6)),IF(D7=400,IF(D14<22,6,IF(D14>50,9,7.5)))))) -> 3.5 | BH46: m | BQ46: =INDEX('[1]TABLEAU DE BORD'!$B$13:$R$2000,MATCH('Formalisme RTE'!$H$2,'[1]TABLEAU DE BORD'!$B$13:$B$2000,0),5)-(INDEX('[1]TABLEAU DE BORD'!$B$13:$R$2000,MATCH('Formalisme RTE'!$H$2,'[1]TABLEAU DE BORD'!$B$13:$B$2000,0),5)-INDEX('[1]TABLEAU DE BORD'!$B$13:$R$2000,MATCH('Formalisme RTE'!$H$2,'[1]TABLEAU DE BORD'!$B$13:$B$2000,0),11))*Q46/INDEX('[1]TABLEAU DE BORD'!$B$13:$R$2000,MATCH('Formalisme RTE'!$H$2,'[1]TABLEAU DE BORD'!$B$13:$B$2000,0),12) -> 2.7040063 | BR46: =BU46*CA46 -> 0 | BU46: =SQRT(1-(1/(SQRT((BY46*0.981)^2+(($B$30/10)*BW46*0.001)^2)/(BY46*0.981))^2)) -> 0.57588835 | BW46: =IF($BW$6="","",IF(ISERROR(INDEX([1]Base!$A$2:$C$207,MATCH($BW$6,[1]Base!$A$2:$A$207,0),2))=TRUE,"CABLE INCONNU",(INDEX([1]Base!$A$2:$C$207,MATCH($BW$6,[1]Base!$A$2:$A$207,0),3)))) -> 15.75 | BY46: =IF($BW$6="","",IF(ISERROR(INDEX([1]Base!$A$2:$C$207,MATCH($BW$6,[1]Base!$A$2:$A$207,0),2))=TRUE,"CABLE INCONNU",(INDEX([1]Base!$A$2:$C$207,MATCH($BW$6,[1]Base!$A$2:$A$207,0),2)))) -> 0.547 | CA46: =CD46-CC46 -> 0 | CC46: =$BB$28+$D$10*((EXP(($BB$26-Q46)/$D$10)+EXP(-($BB$26-Q46)/$D$10))/2-1) -> 237.96 | CD46: =(INDEX('[1]TABLEAU DE BORD'!$B$13:$R$2000,MATCH('Formalisme RTE'!$H$2,'[1]TABLEAU DE BORD'!$B$13:$B$2000,0),2)+INDEX($CF$15:$CG$2005,MATCH($H$2,$CF$15:$CF$2005,0),2)+INDEX('[1]TABLEAU DE BORD'!$B$13:$R$2000,MATCH('Formalisme RTE'!$H$2,'[1]TABLEAU DE BORD'!$B$13:$B$2000,0),3))-(((INDEX('[1]TABLEAU DE BORD'!$B$13:$R$2000,MATCH('Formalisme RTE'!$H$2,'[1]TABLEAU DE BORD'!$B$13:$B$2000,0),2)+INDEX($CF$15:$CG$2005,MATCH($H$2,$CF$15:$CF$2005,0),2)+INDEX('[1]TABLEAU DE BORD'!$B$13:$R$2000,MATCH('Formalisme RTE'!$H$2,'[1]TABLEAU DE BORD'!$B$13:$B$2000,0),3))-(INDEX('[1]TABLEAU DE BORD'!$B$13:$R$2000,MATCH('Formalisme RTE'!$H$2,'[1]TABLEAU DE BORD'!$B$13:$B$2000,0),8)+INDEX($CI$15:$CJ$2005,MATCH($J$2,$CI$15:$CI$2005,0),2)+INDEX('[1]TABLEAU DE BORD'!$B$13:$R$2000,MATCH('Formalisme RTE'!$H$2,'[1]TABLEAU DE BORD'!$B$13:$B$2000,0),9)))*Q46/$M$18) -> 237.96 | CF46: ='[1]TABLEAU DE BORD'!B44 | CG46: ='[1]TABLEAU DE BORD'!E44-'[1]TABLEAU DE BORD'!C44 -> #VALUE! | CI46: ='[1]TABLEAU DE BORD'!H44 | CJ46: ='[1]TABLEAU DE BORD'!K44-'[1]TABLEAU DE BORD'!I44 -> #VALUE!
P47: =IF(OR(Q47="",$M$18=""),"",CONCATENATE($M$17,"-",R47)) | R47: 33 | BF47: G2= | BG47: =IF(D7=225,4.5,IF(D7=400,6,3.5)) -> 3.5 | BH47: m | BQ47: =INDEX('[1]TABLEAU DE BORD'!$B$13:$R$2000,MATCH('Formalisme RTE'!$H$2,'[1]TABLEAU DE BORD'!$B$13:$B$2000,0),5)-(INDEX('[1]TABLEAU DE BORD'!$B$13:$R$2000,MATCH('Formalisme RTE'!$H$2,'[1]TABLEAU DE BORD'!$B$13:$B$2000,0),5)-INDEX('[1]TABLEAU DE BORD'!$B$13:$R$2000,MATCH('Formalisme RTE'!$H$2,'[1]TABLEAU DE BORD'!$B$13:$B$2000,0),11))*Q47/INDEX('[1]TABLEAU DE BORD'!$B$13:$R$2000,MATCH('Formalisme RTE'!$H$2,'[1]TABLEAU DE BORD'!$B$13:$B$2000,0),12) -> 2.7040063 | BR47: =BU47*CA47 -> 0 | BU47: =SQRT(1-(1/(SQRT((BY47*0.981)^2+(($B$30/10)*BW47*0.001)^2)/(BY47*0.981))^2)) -> 0.57588835 | BW47: =IF($BW$6="","",IF(ISERROR(INDEX([1]Base!$A$2:$C$207,MATCH($BW$6,[1]Base!$A$2:$A$207,0),2))=TRUE,"CABLE INCONNU",(INDEX([1]Base!$A$2:$C$207,MATCH($BW$6,[1]Base!$A$2:$A$207,0),3)))) -> 15.75 | BY47: =IF($BW$6="","",IF(ISERROR(INDEX([1]Base!$A$2:$C$207,MATCH($BW$6,[1]Base!$A$2:$A$207,0),2))=TRUE,"CABLE INCONNU",(INDEX([1]Base!$A$2:$C$207,MATCH($BW$6,[1]Base!$A$2:$A$207,0),2)))) -> 0.547 | CA47: =CD47-CC47 -> 0 | CC47: =$BB$28+$D$10*((EXP(($BB$26-Q47)/$D$10)+EXP(-($BB$26-Q47)/$D$10))/2-1) -> 237.96 | CD47: =(INDEX('[1]TABLEAU DE BORD'!$B$13:$R$2000,MATCH('Formalisme RTE'!$H$2,'[1]TABLEAU DE BORD'!$B$13:$B$2000,0),2)+INDEX($CF$15:$CG$2005,MATCH($H$2,$CF$15:$CF$2005,0),2)+INDEX('[1]TABLEAU DE BORD'!$B$13:$R$2000,MATCH('Formalisme RTE'!$H$2,'[1]TABLEAU DE BORD'!$B$13:$B$2000,0),3))-(((INDEX('[1]TABLEAU DE BORD'!$B$13:$R$2000,MATCH('Formalisme RTE'!$H$2,'[1]TABLEAU DE BORD'!$B$13:$B$2000,0),2)+INDEX($CF$15:$CG$2005,MATCH($H$2,$CF$15:$CF$2005,0),2)+INDEX('[1]TABLEAU DE BORD'!$B$13:$R$2000,MATCH('Formalisme RTE'!$H$2,'[1]TABLEAU DE BORD'!$B$13:$B$2000,0),3))-(INDEX('[1]TABLEAU DE BORD'!$B$13:$R$2000,MATCH('Formalisme RTE'!$H$2,'[1]TABLEAU DE BORD'!$B$13:$B$2000,0),8)+INDEX($CI$15:$CJ$2005,MATCH($J$2,$CI$15:$CI$2005,0),2)+INDEX('[1]TABLEAU DE BORD'!$B$13:$R$2000,MATCH('Formalisme RTE'!$H$2,'[1]TABLEAU DE BORD'!$B$13:$B$2000,0),9)))*Q47/$M$18) -> 237.96 | CF47: ='[1]TABLEAU DE BORD'!B45 | CG47: ='[1]TABLEAU DE BORD'!E45-'[1]TABLEAU DE BORD'!C45 -> #VALUE! | CI47: ='[1]TABLEAU DE BORD'!H45 | CJ47: ='[1]TABLEAU DE BORD'!K45-'[1]TABLEAU DE BORD'!I45 -> #VALUE!
P48: =IF(OR(Q48="",$M$18=""),"",CONCATENATE($M$17,"-",R48)) | R48: 34 | BQ48: =INDEX('[1]TABLEAU DE BORD'!$B$13:$R$2000,MATCH('Formalisme RTE'!$H$2,'[1]TABLEAU DE BORD'!$B$13:$B$2000,0),5)-(INDEX('[1]TABLEAU DE BORD'!$B$13:$R$2000,MATCH('Formalisme RTE'!$H$2,'[1]TABLEAU DE BORD'!$B$13:$B$2000,0),5)-INDEX('[1]TABLEAU DE BORD'!$B$13:$R$2000,MATCH('Formalisme RTE'!$H$2,'[1]TABLEAU DE BORD'!$B$13:$B$2000,0),11))*Q48/INDEX('[1]TABLEAU DE BORD'!$B$13:$R$2000,MATCH('Formalisme RTE'!$H$2,'[1]TABLEAU DE BORD'!$B$13:$B$2000,0),12) -> 2.7040063 | BR48: =BU48*CA48 -> 0 | BU48: =SQRT(1-(1/(SQRT((BY48*0.981)^2+(($B$30/10)*BW48*0.001)^2)/(BY48*0.981))^2)) -> 0.57588835 | BW48: =IF($BW$6="","",IF(ISERROR(INDEX([1]Base!$A$2:$C$207,MATCH($BW$6,[1]Base!$A$2:$A$207,0),2))=TRUE,"CABLE INCONNU",(INDEX([1]Base!$A$2:$C$207,MATCH($BW$6,[1]Base!$A$2:$A$207,0),3)))) -> 15.75 | BY48: =IF($BW$6="","",IF(ISERROR(INDEX([1]Base!$A$2:$C$207,MATCH($BW$6,[1]Base!$A$2:$A$207,0),2))=TRUE,"CABLE INCONNU",(INDEX([1]Base!$A$2:$C$207,MATCH($BW$6,[1]Base!$A$2:$A$207,0),2)))) -> 0.547 | CA48: =CD48-CC48 -> 0 | CC48: =$BB$28+$D$10*((EXP(($BB$26-Q48)/$D$10)+EXP(-($BB$26-Q48)/$D$10))/2-1) -> 237.96 | CD48: =(INDEX('[1]TABLEAU DE BORD'!$B$13:$R$2000,MATCH('Formalisme RTE'!$H$2,'[1]TABLEAU DE BORD'!$B$13:$B$2000,0),2)+INDEX($CF$15:$CG$2005,MATCH($H$2,$CF$15:$CF$2005,0),2)+INDEX('[1]TABLEAU DE BORD'!$B$13:$R$2000,MATCH('Formalisme RTE'!$H$2,'[1]TABLEAU DE BORD'!$B$13:$B$2000,0),3))-(((INDEX('[1]TABLEAU DE BORD'!$B$13:$R$2000,MATCH('Formalisme RTE'!$H$2,'[1]TABLEAU DE BORD'!$B$13:$B$2000,0),2)+INDEX($CF$15:$CG$2005,MATCH($H$2,$CF$15:$CF$2005,0),2)+INDEX('[1]TABLEAU DE BORD'!$B$13:$R$2000,MATCH('Formalisme RTE'!$H$2,'[1]TABLEAU DE BORD'!$B$13:$B$2000,0),3))-(INDEX('[1]TABLEAU DE BORD'!$B$13:$R$2000,MATCH('Formalisme RTE'!$H$2,'[1]TABLEAU DE BORD'!$B$13:$B$2000,0),8)+INDEX($CI$15:$CJ$2005,MATCH($J$2,$CI$15:$CI$2005,0),2)+INDEX('[1]TABLEAU DE BORD'!$B$13:$R$2000,MATCH('Formalisme RTE'!$H$2,'[1]TABLEAU DE BORD'!$B$13:$B$2000,0),9)))*Q48/$M$18) -> 237.96 | CF48: ='[1]TABLEAU DE BORD'!B46 | CG48: ='[1]TABLEAU DE BORD'!E46-'[1]TABLEAU DE BORD'!C46 -> #VALUE! | CI48: ='[1]TABLEAU DE BORD'!H46 | CJ48: ='[1]TABLEAU DE BORD'!K46-'[1]TABLEAU DE BORD'!I46 -> #VALUE!
P49: =IF(OR(Q49="",$M$18=""),"",CONCATENATE($M$17,"-",R49)) | R49: 35 | BQ49: =INDEX('[1]TABLEAU DE BORD'!$B$13:$R$2000,MATCH('Formalisme RTE'!$H$2,'[1]TABLEAU DE BORD'!$B$13:$B$2000,0),5)-(INDEX('[1]TABLEAU DE BORD'!$B$13:$R$2000,MATCH('Formalisme RTE'!$H$2,'[1]TABLEAU DE BORD'!$B$13:$B$2000,0),5)-INDEX('[1]TABLEAU DE BORD'!$B$13:$R$2000,MATCH('Formalisme RTE'!$H$2,'[1]TABLEAU DE BORD'!$B$13:$B$2000,0),11))*Q49/INDEX('[1]TABLEAU DE BORD'!$B$13:$R$2000,MATCH('Formalisme RTE'!$H$2,'[1]TABLEAU DE BORD'!$B$13:$B$2000,0),12) -> 2.7040063 | BR49: =BU49*CA49 -> 0 | BU49: =SQRT(1-(1/(SQRT((BY49*0.981)^2+(($B$30/10)*BW49*0.001)^2)/(BY49*0.981))^2)) -> 0.57588835 | BW49: =IF($BW$6="","",IF(ISERROR(INDEX([1]Base!$A$2:$C$207,MATCH($BW$6,[1]Base!$A$2:$A$207,0),2))=TRUE,"CABLE INCONNU",(INDEX([1]Base!$A$2:$C$207,MATCH($BW$6,[1]Base!$A$2:$A$207,0),3)))) -> 15.75 | BY49: =IF($BW$6="","",IF(ISERROR(INDEX([1]Base!$A$2:$C$207,MATCH($BW$6,[1]Base!$A$2:$A$207,0),2))=TRUE,"CABLE INCONNU",(INDEX([1]Base!$A$2:$C$207,MATCH($BW$6,[1]Base!$A$2:$A$207,0),2)))) -> 0.547 | CA49: =CD49-CC49 -> 0 | CC49: =$BB$28+$D$10*((EXP(($BB$26-Q49)/$D$10)+EXP(-($BB$26-Q49)/$D$10))/2-1) -> 237.96 | CD49: =(INDEX('[1]TABLEAU DE BORD'!$B$13:$R$2000,MATCH('Formalisme RTE'!$H$2,'[1]TABLEAU DE BORD'!$B$13:$B$2000,0),2)+INDEX($CF$15:$CG$2005,MATCH($H$2,$CF$15:$CF$2005,0),2)+INDEX('[1]TABLEAU DE BORD'!$B$13:$R$2000,MATCH('Formalisme RTE'!$H$2,'[1]TABLEAU DE BORD'!$B$13:$B$2000,0),3))-(((INDEX('[1]TABLEAU DE BORD'!$B$13:$R$2000,MATCH('Formalisme RTE'!$H$2,'[1]TABLEAU DE BORD'!$B$13:$B$2000,0),2)+INDEX($CF$15:$CG$2005,MATCH($H$2,$CF$15:$CF$2005,0),2)+INDEX('[1]TABLEAU DE BORD'!$B$13:$R$2000,MATCH('Formalisme RTE'!$H$2,'[1]TABLEAU DE BORD'!$B$13:$B$2000,0),3))-(INDEX('[1]TABLEAU DE BORD'!$B$13:$R$2000,MATCH('Formalisme RTE'!$H$2,'[1]TABLEAU DE BORD'!$B$13:$B$2000,0),8)+INDEX($CI$15:$CJ$2005,MATCH($J$2,$CI$15:$CI$2005,0),2)+INDEX('[1]TABLEAU DE BORD'!$B$13:$R$2000,MATCH('Formalisme RTE'!$H$2,'[1]TABLEAU DE BORD'!$B$13:$B$2000,0),9)))*Q49/$M$18) -> 237.96 | CF49: ='[1]TABLEAU DE BORD'!B47 | CG49: ='[1]TABLEAU DE BORD'!E47-'[1]TABLEAU DE BORD'!C47 -> #VALUE! | CI49: ='[1]TABLEAU DE BORD'!H47 | CJ49: ='[1]TABLEAU DE BORD'!K47-'[1]TABLEAU DE BORD'!I47 -> #VALUE!
P50: =IF(OR(Q50="",$M$18=""),"",CONCATENATE($M$17,"-",R50)) | R50: 36 | BQ50: =INDEX('[1]TABLEAU DE BORD'!$B$13:$R$2000,MATCH('Formalisme RTE'!$H$2,'[1]TABLEAU DE BORD'!$B$13:$B$2000,0),5)-(INDEX('[1]TABLEAU DE BORD'!$B$13:$R$2000,MATCH('Formalisme RTE'!$H$2,'[1]TABLEAU DE BORD'!$B$13:$B$2000,0),5)-INDEX('[1]TABLEAU DE BORD'!$B$13:$R$2000,MATCH('Formalisme RTE'!$H$2,'[1]TABLEAU DE BORD'!$B$13:$B$2000,0),11))*Q50/INDEX('[1]TABLEAU DE BORD'!$B$13:$R$2000,MATCH('Formalisme RTE'!$H$2,'[1]TABLEAU DE BORD'!$B$13:$B$2000,0),12) -> 2.7040063 | BR50: =BU50*CA50 -> 0 | BU50: =SQRT(1-(1/(SQRT((BY50*0.981)^2+(($B$30/10)*BW50*0.001)^2)/(BY50*0.981))^2)) -> 0.57588835 | BW50: =IF($BW$6="","",IF(ISERROR(INDEX([1]Base!$A$2:$C$207,MATCH($BW$6,[1]Base!$A$2:$A$207,0),2))=TRUE,"CABLE INCONNU",(INDEX([1]Base!$A$2:$C$207,MATCH($BW$6,[1]Base!$A$2:$A$207,0),3)))) -> 15.75 | BY50: =IF($BW$6="","",IF(ISERROR(INDEX([1]Base!$A$2:$C$207,MATCH($BW$6,[1]Base!$A$2:$A$207,0),2))=TRUE,"CABLE INCONNU",(INDEX([1]Base!$A$2:$C$207,MATCH($BW$6,[1]Base!$A$2:$A$207,0),2)))) -> 0.547 | CA50: =CD50-CC50 -> 0 | CC50: =$BB$28+$D$10*((EXP(($BB$26-Q50)/$D$10)+EXP(-($BB$26-Q50)/$D$10))/2-1) -> 237.96 | CD50: =(INDEX('[1]TABLEAU DE BORD'!$B$13:$R$2000,MATCH('Formalisme RTE'!$H$2,'[1]TABLEAU DE BORD'!$B$13:$B$2000,0),2)+INDEX($CF$15:$CG$2005,MATCH($H$2,$CF$15:$CF$2005,0),2)+INDEX('[1]TABLEAU DE BORD'!$B$13:$R$2000,MATCH('Formalisme RTE'!$H$2,'[1]TABLEAU DE BORD'!$B$13:$B$2000,0),3))-(((INDEX('[1]TABLEAU DE BORD'!$B$13:$R$2000,MATCH('Formalisme RTE'!$H$2,'[1]TABLEAU DE BORD'!$B$13:$B$2000,0),2)+INDEX($CF$15:$CG$2005,MATCH($H$2,$CF$15:$CF$2005,0),2)+INDEX('[1]TABLEAU DE BORD'!$B$13:$R$2000,MATCH('Formalisme RTE'!$H$2,'[1]TABLEAU DE BORD'!$B$13:$B$2000,0),3))-(INDEX('[1]TABLEAU DE BORD'!$B$13:$R$2000,MATCH('Formalisme RTE'!$H$2,'[1]TABLEAU DE BORD'!$B$13:$B$2000,0),8)+INDEX($CI$15:$CJ$2005,MATCH($J$2,$CI$15:$CI$2005,0),2)+INDEX('[1]TABLEAU DE BORD'!$B$13:$R$2000,MATCH('Formalisme RTE'!$H$2,'[1]TABLEAU DE BORD'!$B$13:$B$2000,0),9)))*Q50/$M$18) -> 237.96 | CF50: ='[1]TABLEAU DE BORD'!B48 | CG50: ='[1]TABLEAU DE BORD'!E48-'[1]TABLEAU DE BORD'!C48 -> #VALUE! | CI50: ='[1]TABLEAU DE BORD'!H48 | CJ50: ='[1]TABLEAU DE BORD'!K48-'[1]TABLEAU DE BORD'!I48 -> #VALUE!
P51: =IF(OR(Q51="",$M$18=""),"",CONCATENATE($M$17,"-",R51)) | R51: 37 | BQ51: =INDEX('[1]TABLEAU DE BORD'!$B$13:$R$2000,MATCH('Formalisme RTE'!$H$2,'[1]TABLEAU DE BORD'!$B$13:$B$2000,0),5)-(INDEX('[1]TABLEAU DE BORD'!$B$13:$R$2000,MATCH('Formalisme RTE'!$H$2,'[1]TABLEAU DE BORD'!$B$13:$B$2000,0),5)-INDEX('[1]TABLEAU DE BORD'!$B$13:$R$2000,MATCH('Formalisme RTE'!$H$2,'[1]TABLEAU DE BORD'!$B$13:$B$2000,0),11))*Q51/INDEX('[1]TABLEAU DE BORD'!$B$13:$R$2000,MATCH('Formalisme RTE'!$H$2,'[1]TABLEAU DE BORD'!$B$13:$B$2000,0),12) -> 2.7040063 | BR51: =BU51*CA51 -> 0 | BU51: =SQRT(1-(1/(SQRT((BY51*0.981)^2+(($B$30/10)*BW51*0.001)^2)/(BY51*0.981))^2)) -> 0.57588835 | BW51: =IF($BW$6="","",IF(ISERROR(INDEX([1]Base!$A$2:$C$207,MATCH($BW$6,[1]Base!$A$2:$A$207,0),2))=TRUE,"CABLE INCONNU",(INDEX([1]Base!$A$2:$C$207,MATCH($BW$6,[1]Base!$A$2:$A$207,0),3)))) -> 15.75 | BY51: =IF($BW$6="","",IF(ISERROR(INDEX([1]Base!$A$2:$C$207,MATCH($BW$6,[1]Base!$A$2:$A$207,0),2))=TRUE,"CABLE INCONNU",(INDEX([1]Base!$A$2:$C$207,MATCH($BW$6,[1]Base!$A$2:$A$207,0),2)))) -> 0.547 | CA51: =CD51-CC51 -> 0 | CC51: =$BB$28+$D$10*((EXP(($BB$26-Q51)/$D$10)+EXP(-($BB$26-Q51)/$D$10))/2-1) -> 237.96 | CD51: =(INDEX('[1]TABLEAU DE BORD'!$B$13:$R$2000,MATCH('Formalisme RTE'!$H$2,'[1]TABLEAU DE BORD'!$B$13:$B$2000,0),2)+INDEX($CF$15:$CG$2005,MATCH($H$2,$CF$15:$CF$2005,0),2)+INDEX('[1]TABLEAU DE BORD'!$B$13:$R$2000,MATCH('Formalisme RTE'!$H$2,'[1]TABLEAU DE BORD'!$B$13:$B$2000,0),3))-(((INDEX('[1]TABLEAU DE BORD'!$B$13:$R$2000,MATCH('Formalisme RTE'!$H$2,'[1]TABLEAU DE BORD'!$B$13:$B$2000,0),2)+INDEX($CF$15:$CG$2005,MATCH($H$2,$CF$15:$CF$2005,0),2)+INDEX('[1]TABLEAU DE BORD'!$B$13:$R$2000,MATCH('Formalisme RTE'!$H$2,'[1]TABLEAU DE BORD'!$B$13:$B$2000,0),3))-(INDEX('[1]TABLEAU DE BORD'!$B$13:$R$2000,MATCH('Formalisme RTE'!$H$2,'[1]TABLEAU DE BORD'!$B$13:$B$2000,0),8)+INDEX($CI$15:$CJ$2005,MATCH($J$2,$CI$15:$CI$2005,0),2)+INDEX('[1]TABLEAU DE BORD'!$B$13:$R$2000,MATCH('Formalisme RTE'!$H$2,'[1]TABLEAU DE BORD'!$B$13:$B$2000,0),9)))*Q51/$M$18) -> 237.96 | CF51: ='[1]TABLEAU DE BORD'!B49 | CG51: ='[1]TABLEAU DE BORD'!E49-'[1]TABLEAU DE BORD'!C49 -> #VALUE! | CI51: ='[1]TABLEAU DE BORD'!H49 | CJ51: ='[1]TABLEAU DE BORD'!K49-'[1]TABLEAU DE BORD'!I49 -> #VALUE!
P52: =IF(OR(Q52="",$M$18=""),"",CONCATENATE($M$17,"-",R52)) | R52: 38 | BQ52: =INDEX('[1]TABLEAU DE BORD'!$B$13:$R$2000,MATCH('Formalisme RTE'!$H$2,'[1]TABLEAU DE BORD'!$B$13:$B$2000,0),5)-(INDEX('[1]TABLEAU DE BORD'!$B$13:$R$2000,MATCH('Formalisme RTE'!$H$2,'[1]TABLEAU DE BORD'!$B$13:$B$2000,0),5)-INDEX('[1]TABLEAU DE BORD'!$B$13:$R$2000,MATCH('Formalisme RTE'!$H$2,'[1]TABLEAU DE BORD'!$B$13:$B$2000,0),11))*Q52/INDEX('[1]TABLEAU DE BORD'!$B$13:$R$2000,MATCH('Formalisme RTE'!$H$2,'[1]TABLEAU DE BORD'!$B$13:$B$2000,0),12) -> 2.7040063 | BR52: =BU52*CA52 -> 0 | BU52: =SQRT(1-(1/(SQRT((BY52*0.981)^2+(($B$30/10)*BW52*0.001)^2)/(BY52*0.981))^2)) -> 0.57588835 | BW52: =IF($BW$6="","",IF(ISERROR(INDEX([1]Base!$A$2:$C$207,MATCH($BW$6,[1]Base!$A$2:$A$207,0),2))=TRUE,"CABLE INCONNU",(INDEX([1]Base!$A$2:$C$207,MATCH($BW$6,[1]Base!$A$2:$A$207,0),3)))) -> 15.75 | BY52: =IF($BW$6="","",IF(ISERROR(INDEX([1]Base!$A$2:$C$207,MATCH($BW$6,[1]Base!$A$2:$A$207,0),2))=TRUE,"CABLE INCONNU",(INDEX([1]Base!$A$2:$C$207,MATCH($BW$6,[1]Base!$A$2:$A$207,0),2)))) -> 0.547 | CA52: =CD52-CC52 -> 0 | CC52: =$BB$28+$D$10*((EXP(($BB$26-Q52)/$D$10)+EXP(-($BB$26-Q52)/$D$10))/2-1) -> 237.96 | CD52: =(INDEX('[1]TABLEAU DE BORD'!$B$13:$R$2000,MATCH('Formalisme RTE'!$H$2,'[1]TABLEAU DE BORD'!$B$13:$B$2000,0),2)+INDEX($CF$15:$CG$2005,MATCH($H$2,$CF$15:$CF$2005,0),2)+INDEX('[1]TABLEAU DE BORD'!$B$13:$R$2000,MATCH('Formalisme RTE'!$H$2,'[1]TABLEAU DE BORD'!$B$13:$B$2000,0),3))-(((INDEX('[1]TABLEAU DE BORD'!$B$13:$R$2000,MATCH('Formalisme RTE'!$H$2,'[1]TABLEAU DE BORD'!$B$13:$B$2000,0),2)+INDEX($CF$15:$CG$2005,MATCH($H$2,$CF$15:$CF$2005,0),2)+INDEX('[1]TABLEAU DE BORD'!$B$13:$R$2000,MATCH('Formalisme RTE'!$H$2,'[1]TABLEAU DE BORD'!$B$13:$B$2000,0),3))-(INDEX('[1]TABLEAU DE BORD'!$B$13:$R$2000,MATCH('Formalisme RTE'!$H$2,'[1]TABLEAU DE BORD'!$B$13:$B$2000,0),8)+INDEX($CI$15:$CJ$2005,MATCH($J$2,$CI$15:$CI$2005,0),2)+INDEX('[1]TABLEAU DE BORD'!$B$13:$R$2000,MATCH('Formalisme RTE'!$H$2,'[1]TABLEAU DE BORD'!$B$13:$B$2000,0),9)))*Q52/$M$18) -> 237.96 | CF52: ='[1]TABLEAU DE BORD'!B50 | CG52: ='[1]TABLEAU DE BORD'!E50-'[1]TABLEAU DE BORD'!C50 -> #VALUE! | CI52: ='[1]TABLEAU DE BORD'!H50 | CJ52: ='[1]TABLEAU DE BORD'!K50-'[1]TABLEAU DE BORD'!I50 -> #VALUE!
P53: =IF(OR(Q53="",$M$18=""),"",CONCATENATE($M$17,"-",R53)) | R53: 39 | BQ53: =INDEX('[1]TABLEAU DE BORD'!$B$13:$R$2000,MATCH('Formalisme RTE'!$H$2,'[1]TABLEAU DE BORD'!$B$13:$B$2000,0),5)-(INDEX('[1]TABLEAU DE BORD'!$B$13:$R$2000,MATCH('Formalisme RTE'!$H$2,'[1]TABLEAU DE BORD'!$B$13:$B$2000,0),5)-INDEX('[1]TABLEAU DE BORD'!$B$13:$R$2000,MATCH('Formalisme RTE'!$H$2,'[1]TABLEAU DE BORD'!$B$13:$B$2000,0),11))*Q53/INDEX('[1]TABLEAU DE BORD'!$B$13:$R$2000,MATCH('Formalisme RTE'!$H$2,'[1]TABLEAU DE BORD'!$B$13:$B$2000,0),12) -> 2.7040063 | BR53: =BU53*CA53 -> 0 | BU53: =SQRT(1-(1/(SQRT((BY53*0.981)^2+(($B$30/10)*BW53*0.001)^2)/(BY53*0.981))^2)) -> 0.57588835 | BW53: =IF($BW$6="","",IF(ISERROR(INDEX([1]Base!$A$2:$C$207,MATCH($BW$6,[1]Base!$A$2:$A$207,0),2))=TRUE,"CABLE INCONNU",(INDEX([1]Base!$A$2:$C$207,MATCH($BW$6,[1]Base!$A$2:$A$207,0),3)))) -> 15.75 | BY53: =IF($BW$6="","",IF(ISERROR(INDEX([1]Base!$A$2:$C$207,MATCH($BW$6,[1]Base!$A$2:$A$207,0),2))=TRUE,"CABLE INCONNU",(INDEX([1]Base!$A$2:$C$207,MATCH($BW$6,[1]Base!$A$2:$A$207,0),2)))) -> 0.547 | CA53: =CD53-CC53 -> 0 | CC53: =$BB$28+$D$10*((EXP(($BB$26-Q53)/$D$10)+EXP(-($BB$26-Q53)/$D$10))/2-1) -> 237.96 | CD53: =(INDEX('[1]TABLEAU DE BORD'!$B$13:$R$2000,MATCH('Formalisme RTE'!$H$2,'[1]TABLEAU DE BORD'!$B$13:$B$2000,0),2)+INDEX($CF$15:$CG$2005,MATCH($H$2,$CF$15:$CF$2005,0),2)+INDEX('[1]TABLEAU DE BORD'!$B$13:$R$2000,MATCH('Formalisme RTE'!$H$2,'[1]TABLEAU DE BORD'!$B$13:$B$2000,0),3))-(((INDEX('[1]TABLEAU DE BORD'!$B$13:$R$2000,MATCH('Formalisme RTE'!$H$2,'[1]TABLEAU DE BORD'!$B$13:$B$2000,0),2)+INDEX($CF$15:$CG$2005,MATCH($H$2,$CF$15:$CF$2005,0),2)+INDEX('[1]TABLEAU DE BORD'!$B$13:$R$2000,MATCH('Formalisme RTE'!$H$2,'[1]TABLEAU DE BORD'!$B$13:$B$2000,0),3))-(INDEX('[1]TABLEAU DE BORD'!$B$13:$R$2000,MATCH('Formalisme RTE'!$H$2,'[1]TABLEAU DE BORD'!$B$13:$B$2000,0),8)+INDEX($CI$15:$CJ$2005,MATCH($J$2,$CI$15:$CI$2005,0),2)+INDEX('[1]TABLEAU DE BORD'!$B$13:$R$2000,MATCH('Formalisme RTE'!$H$2,'[1]TABLEAU DE BORD'!$B$13:$B$2000,0),9)))*Q53/$M$18) -> 237.96 | CF53: ='[1]TABLEAU DE BORD'!B51 | CG53: ='[1]TABLEAU DE BORD'!E51-'[1]TABLEAU DE BORD'!C51 -> #VALUE! | CI53: ='[1]TABLEAU DE BORD'!H51 | CJ53: ='[1]TABLEAU DE BORD'!K51-'[1]TABLEAU DE BORD'!I51 -> #VALUE!
P54: =IF(OR(Q54="",$M$18=""),"",CONCATENATE($M$17,"-",R54)) | R54: 40 | BQ54: =INDEX('[1]TABLEAU DE BORD'!$B$13:$R$2000,MATCH('Formalisme RTE'!$H$2,'[1]TABLEAU DE BORD'!$B$13:$B$2000,0),5)-(INDEX('[1]TABLEAU DE BORD'!$B$13:$R$2000,MATCH('Formalisme RTE'!$H$2,'[1]TABLEAU DE BORD'!$B$13:$B$2000,0),5)-INDEX('[1]TABLEAU DE BORD'!$B$13:$R$2000,MATCH('Formalisme RTE'!$H$2,'[1]TABLEAU DE BORD'!$B$13:$B$2000,0),11))*Q54/INDEX('[1]TABLEAU DE BORD'!$B$13:$R$2000,MATCH('Formalisme RTE'!$H$2,'[1]TABLEAU DE BORD'!$B$13:$B$2000,0),12) -> 2.7040063 | BR54: =BU54*CA54 -> 0 | BU54: =SQRT(1-(1/(SQRT((BY54*0.981)^2+(($B$30/10)*BW54*0.001)^2)/(BY54*0.981))^2)) -> 0.57588835 | BW54: =IF($BW$6="","",IF(ISERROR(INDEX([1]Base!$A$2:$C$207,MATCH($BW$6,[1]Base!$A$2:$A$207,0),2))=TRUE,"CABLE INCONNU",(INDEX([1]Base!$A$2:$C$207,MATCH($BW$6,[1]Base!$A$2:$A$207,0),3)))) -> 15.75 | BY54: =IF($BW$6="","",IF(ISERROR(INDEX([1]Base!$A$2:$C$207,MATCH($BW$6,[1]Base!$A$2:$A$207,0),2))=TRUE,"CABLE INCONNU",(INDEX([1]Base!$A$2:$C$207,MATCH($BW$6,[1]Base!$A$2:$A$207,0),2)))) -> 0.547 | CA54: =CD54-CC54 -> 0 | CC54: =$BB$28+$D$10*((EXP(($BB$26-Q54)/$D$10)+EXP(-($BB$26-Q54)/$D$10))/2-1) -> 237.96 | CD54: =(INDEX('[1]TABLEAU DE BORD'!$B$13:$R$2000,MATCH('Formalisme RTE'!$H$2,'[1]TABLEAU DE BORD'!$B$13:$B$2000,0),2)+INDEX($CF$15:$CG$2005,MATCH($H$2,$CF$15:$CF$2005,0),2)+INDEX('[1]TABLEAU DE BORD'!$B$13:$R$2000,MATCH('Formalisme RTE'!$H$2,'[1]TABLEAU DE BORD'!$B$13:$B$2000,0),3))-(((INDEX('[1]TABLEAU DE BORD'!$B$13:$R$2000,MATCH('Formalisme RTE'!$H$2,'[1]TABLEAU DE BORD'!$B$13:$B$2000,0),2)+INDEX($CF$15:$CG$2005,MATCH($H$2,$CF$15:$CF$2005,0),2)+INDEX('[1]TABLEAU DE BORD'!$B$13:$R$2000,MATCH('Formalisme RTE'!$H$2,'[1]TABLEAU DE BORD'!$B$13:$B$2000,0),3))-(INDEX('[1]TABLEAU DE BORD'!$B$13:$R$2000,MATCH('Formalisme RTE'!$H$2,'[1]TABLEAU DE BORD'!$B$13:$B$2000,0),8)+INDEX($CI$15:$CJ$2005,MATCH($J$2,$CI$15:$CI$2005,0),2)+INDEX('[1]TABLEAU DE BORD'!$B$13:$R$2000,MATCH('Formalisme RTE'!$H$2,'[1]TABLEAU DE BORD'!$B$13:$B$2000,0),9)))*Q54/$M$18) -> 237.96 | CF54: ='[1]TABLEAU DE BORD'!B52 | CG54: ='[1]TABLEAU DE BORD'!E52-'[1]TABLEAU DE BORD'!C52 -> #VALUE! | CI54: ='[1]TABLEAU DE BORD'!H52 | CJ54: ='[1]TABLEAU DE BORD'!K52-'[1]TABLEAU DE BORD'!I52 -> #VALUE!
P55: =IF(OR(Q55="",$M$18=""),"",CONCATENATE($M$17,"-",R55)) | R55: 41 | BQ55: =INDEX('[1]TABLEAU DE BORD'!$B$13:$R$2000,MATCH('Formalisme RTE'!$H$2,'[1]TABLEAU DE BORD'!$B$13:$B$2000,0),5)-(INDEX('[1]TABLEAU DE BORD'!$B$13:$R$2000,MATCH('Formalisme RTE'!$H$2,'[1]TABLEAU DE BORD'!$B$13:$B$2000,0),5)-INDEX('[1]TABLEAU DE BORD'!$B$13:$R$2000,MATCH('Formalisme RTE'!$H$2,'[1]TABLEAU DE BORD'!$B$13:$B$2000,0),11))*Q55/INDEX('[1]TABLEAU DE BORD'!$B$13:$R$2000,MATCH('Formalisme RTE'!$H$2,'[1]TABLEAU DE BORD'!$B$13:$B$2000,0),12) -> 2.7040063 | BR55: =BU55*CA55 -> 0 | BU55: =SQRT(1-(1/(SQRT((BY55*0.981)^2+(($B$30/10)*BW55*0.001)^2)/(BY55*0.981))^2)) -> 0.57588835 | BW55: =IF($BW$6="","",IF(ISERROR(INDEX([1]Base!$A$2:$C$207,MATCH($BW$6,[1]Base!$A$2:$A$207,0),2))=TRUE,"CABLE INCONNU",(INDEX([1]Base!$A$2:$C$207,MATCH($BW$6,[1]Base!$A$2:$A$207,0),3)))) -> 15.75 | BY55: =IF($BW$6="","",IF(ISERROR(INDEX([1]Base!$A$2:$C$207,MATCH($BW$6,[1]Base!$A$2:$A$207,0),2))=TRUE,"CABLE INCONNU",(INDEX([1]Base!$A$2:$C$207,MATCH($BW$6,[1]Base!$A$2:$A$207,0),2)))) -> 0.547 | CA55: =CD55-CC55 -> 0 | CC55: =$BB$28+$D$10*((EXP(($BB$26-Q55)/$D$10)+EXP(-($BB$26-Q55)/$D$10))/2-1) -> 237.96 | CD55: =(INDEX('[1]TABLEAU DE BORD'!$B$13:$R$2000,MATCH('Formalisme RTE'!$H$2,'[1]TABLEAU DE BORD'!$B$13:$B$2000,0),2)+INDEX($CF$15:$CG$2005,MATCH($H$2,$CF$15:$CF$2005,0),2)+INDEX('[1]TABLEAU DE BORD'!$B$13:$R$2000,MATCH('Formalisme RTE'!$H$2,'[1]TABLEAU DE BORD'!$B$13:$B$2000,0),3))-(((INDEX('[1]TABLEAU DE BORD'!$B$13:$R$2000,MATCH('Formalisme RTE'!$H$2,'[1]TABLEAU DE BORD'!$B$13:$B$2000,0),2)+INDEX($CF$15:$CG$2005,MATCH($H$2,$CF$15:$CF$2005,0),2)+INDEX('[1]TABLEAU DE BORD'!$B$13:$R$2000,MATCH('Formalisme RTE'!$H$2,'[1]TABLEAU DE BORD'!$B$13:$B$2000,0),3))-(INDEX('[1]TABLEAU DE BORD'!$B$13:$R$2000,MATCH('Formalisme RTE'!$H$2,'[1]TABLEAU DE BORD'!$B$13:$B$2000,0),8)+INDEX($CI$15:$CJ$2005,MATCH($J$2,$CI$15:$CI$2005,0),2)+INDEX('[1]TABLEAU DE BORD'!$B$13:$R$2000,MATCH('Formalisme RTE'!$H$2,'[1]TABLEAU DE BORD'!$B$13:$B$2000,0),9)))*Q55/$M$18) -> 237.96 | CF55: ='[1]TABLEAU DE BORD'!B53 | CG55: ='[1]TABLEAU DE BORD'!E53-'[1]TABLEAU DE BORD'!C53 -> #VALUE! | CI55: ='[1]TABLEAU DE BORD'!H53 | CJ55: ='[1]TABLEAU DE BORD'!K53-'[1]TABLEAU DE BORD'!I53 -> #VALUE!
P56: =IF(OR(Q56="",$M$18=""),"",CONCATENATE($M$17,"-",R56)) | R56: 42 | BQ56: =INDEX('[1]TABLEAU DE BORD'!$B$13:$R$2000,MATCH('Formalisme RTE'!$H$2,'[1]TABLEAU DE BORD'!$B$13:$B$2000,0),5)-(INDEX('[1]TABLEAU DE BORD'!$B$13:$R$2000,MATCH('Formalisme RTE'!$H$2,'[1]TABLEAU DE BORD'!$B$13:$B$2000,0),5)-INDEX('[1]TABLEAU DE BORD'!$B$13:$R$2000,MATCH('Formalisme RTE'!$H$2,'[1]TABLEAU DE BORD'!$B$13:$B$2000,0),11))*Q56/INDEX('[1]TABLEAU DE BORD'!$B$13:$R$2000,MATCH('Formalisme RTE'!$H$2,'[1]TABLEAU DE BORD'!$B$13:$B$2000,0),12) -> 2.7040063 | BR56: =BU56*CA56 -> 0 | BU56: =SQRT(1-(1/(SQRT((BY56*0.981)^2+(($B$30/10)*BW56*0.001)^2)/(BY56*0.981))^2)) -> 0.57588835 | BW56: =IF($BW$6="","",IF(ISERROR(INDEX([1]Base!$A$2:$C$207,MATCH($BW$6,[1]Base!$A$2:$A$207,0),2))=TRUE,"CABLE INCONNU",(INDEX([1]Base!$A$2:$C$207,MATCH($BW$6,[1]Base!$A$2:$A$207,0),3)))) -> 15.75 | BY56: =IF($BW$6="","",IF(ISERROR(INDEX([1]Base!$A$2:$C$207,MATCH($BW$6,[1]Base!$A$2:$A$207,0),2))=TRUE,"CABLE INCONNU",(INDEX([1]Base!$A$2:$C$207,MATCH($BW$6,[1]Base!$A$2:$A$207,0),2)))) -> 0.547 | CA56: =CD56-CC56 -> 0 | CC56: =$BB$28+$D$10*((EXP(($BB$26-Q56)/$D$10)+EXP(-($BB$26-Q56)/$D$10))/2-1) -> 237.96 | CD56: =(INDEX('[1]TABLEAU DE BORD'!$B$13:$R$2000,MATCH('Formalisme RTE'!$H$2,'[1]TABLEAU DE BORD'!$B$13:$B$2000,0),2)+INDEX($CF$15:$CG$2005,MATCH($H$2,$CF$15:$CF$2005,0),2)+INDEX('[1]TABLEAU DE BORD'!$B$13:$R$2000,MATCH('Formalisme RTE'!$H$2,'[1]TABLEAU DE BORD'!$B$13:$B$2000,0),3))-(((INDEX('[1]TABLEAU DE BORD'!$B$13:$R$2000,MATCH('Formalisme RTE'!$H$2,'[1]TABLEAU DE BORD'!$B$13:$B$2000,0),2)+INDEX($CF$15:$CG$2005,MATCH($H$2,$CF$15:$CF$2005,0),2)+INDEX('[1]TABLEAU DE BORD'!$B$13:$R$2000,MATCH('Formalisme RTE'!$H$2,'[1]TABLEAU DE BORD'!$B$13:$B$2000,0),3))-(INDEX('[1]TABLEAU DE BORD'!$B$13:$R$2000,MATCH('Formalisme RTE'!$H$2,'[1]TABLEAU DE BORD'!$B$13:$B$2000,0),8)+INDEX($CI$15:$CJ$2005,MATCH($J$2,$CI$15:$CI$2005,0),2)+INDEX('[1]TABLEAU DE BORD'!$B$13:$R$2000,MATCH('Formalisme RTE'!$H$2,'[1]TABLEAU DE BORD'!$B$13:$B$2000,0),9)))*Q56/$M$18) -> 237.96 | CF56: ='[1]TABLEAU DE BORD'!B54 | CG56: ='[1]TABLEAU DE BORD'!E54-'[1]TABLEAU DE BORD'!C54 -> #VALUE! | CI56: ='[1]TABLEAU DE BORD'!H54 | CJ56: ='[1]TABLEAU DE BORD'!K54-'[1]TABLEAU DE BORD'!I54 -> #VALUE!
P57: =IF(OR(Q57="",$M$18=""),"",CONCATENATE($M$17,"-",R57)) | R57: 43 | BQ57: =INDEX('[1]TABLEAU DE BORD'!$B$13:$R$2000,MATCH('Formalisme RTE'!$H$2,'[1]TABLEAU DE BORD'!$B$13:$B$2000,0),5)-(INDEX('[1]TABLEAU DE BORD'!$B$13:$R$2000,MATCH('Formalisme RTE'!$H$2,'[1]TABLEAU DE BORD'!$B$13:$B$2000,0),5)-INDEX('[1]TABLEAU DE BORD'!$B$13:$R$2000,MATCH('Formalisme RTE'!$H$2,'[1]TABLEAU DE BORD'!$B$13:$B$2000,0),11))*Q57/INDEX('[1]TABLEAU DE BORD'!$B$13:$R$2000,MATCH('Formalisme RTE'!$H$2,'[1]TABLEAU DE BORD'!$B$13:$B$2000,0),12) -> 2.7040063 | BR57: =BU57*CA57 -> 0 | BU57: =SQRT(1-(1/(SQRT((BY57*0.981)^2+(($B$30/10)*BW57*0.001)^2)/(BY57*0.981))^2)) -> 0.57588835 | BW57: =IF($BW$6="","",IF(ISERROR(INDEX([1]Base!$A$2:$C$207,MATCH($BW$6,[1]Base!$A$2:$A$207,0),2))=TRUE,"CABLE INCONNU",(INDEX([1]Base!$A$2:$C$207,MATCH($BW$6,[1]Base!$A$2:$A$207,0),3)))) -> 15.75 | BY57: =IF($BW$6="","",IF(ISERROR(INDEX([1]Base!$A$2:$C$207,MATCH($BW$6,[1]Base!$A$2:$A$207,0),2))=TRUE,"CABLE INCONNU",(INDEX([1]Base!$A$2:$C$207,MATCH($BW$6,[1]Base!$A$2:$A$207,0),2)))) -> 0.547 | CA57: =CD57-CC57 -> 0 | CC57: =$BB$28+$D$10*((EXP(($BB$26-Q57)/$D$10)+EXP(-($BB$26-Q57)/$D$10))/2-1) -> 237.96 | CD57: =(INDEX('[1]TABLEAU DE BORD'!$B$13:$R$2000,MATCH('Formalisme RTE'!$H$2,'[1]TABLEAU DE BORD'!$B$13:$B$2000,0),2)+INDEX($CF$15:$CG$2005,MATCH($H$2,$CF$15:$CF$2005,0),2)+INDEX('[1]TABLEAU DE BORD'!$B$13:$R$2000,MATCH('Formalisme RTE'!$H$2,'[1]TABLEAU DE BORD'!$B$13:$B$2000,0),3))-(((INDEX('[1]TABLEAU DE BORD'!$B$13:$R$2000,MATCH('Formalisme RTE'!$H$2,'[1]TABLEAU DE BORD'!$B$13:$B$2000,0),2)+INDEX($CF$15:$CG$2005,MATCH($H$2,$CF$15:$CF$2005,0),2)+INDEX('[1]TABLEAU DE BORD'!$B$13:$R$2000,MATCH('Formalisme RTE'!$H$2,'[1]TABLEAU DE BORD'!$B$13:$B$2000,0),3))-(INDEX('[1]TABLEAU DE BORD'!$B$13:$R$2000,MATCH('Formalisme RTE'!$H$2,'[1]TABLEAU DE BORD'!$B$13:$B$2000,0),8)+INDEX($CI$15:$CJ$2005,MATCH($J$2,$CI$15:$CI$2005,0),2)+INDEX('[1]TABLEAU DE BORD'!$B$13:$R$2000,MATCH('Formalisme RTE'!$H$2,'[1]TABLEAU DE BORD'!$B$13:$B$2000,0),9)))*Q57/$M$18) -> 237.96 | CF57: ='[1]TABLEAU DE BORD'!B55 | CG57: ='[1]TABLEAU DE BORD'!E55-'[1]TABLEAU DE BORD'!C55 -> #VALUE! | CI57: ='[1]TABLEAU DE BORD'!H55 | CJ57: ='[1]TABLEAU DE BORD'!K55-'[1]TABLEAU DE BORD'!I55 -> #VALUE!
P58: =IF(OR(Q58="",$M$18=""),"",CONCATENATE($M$17,"-",R58)) | R58: 44 | BQ58: =INDEX('[1]TABLEAU DE BORD'!$B$13:$R$2000,MATCH('Formalisme RTE'!$H$2,'[1]TABLEAU DE BORD'!$B$13:$B$2000,0),5)-(INDEX('[1]TABLEAU DE BORD'!$B$13:$R$2000,MATCH('Formalisme RTE'!$H$2,'[1]TABLEAU DE BORD'!$B$13:$B$2000,0),5)-INDEX('[1]TABLEAU DE BORD'!$B$13:$R$2000,MATCH('Formalisme RTE'!$H$2,'[1]TABLEAU DE BORD'!$B$13:$B$2000,0),11))*Q58/INDEX('[1]TABLEAU DE BORD'!$B$13:$R$2000,MATCH('Formalisme RTE'!$H$2,'[1]TABLEAU DE BORD'!$B$13:$B$2000,0),12) -> 2.7040063 | BR58: =BU58*CA58 -> 0 | BU58: =SQRT(1-(1/(SQRT((BY58*0.981)^2+(($B$30/10)*BW58*0.001)^2)/(BY58*0.981))^2)) -> 0.57588835 | BW58: =IF($BW$6="","",IF(ISERROR(INDEX([1]Base!$A$2:$C$207,MATCH($BW$6,[1]Base!$A$2:$A$207,0),2))=TRUE,"CABLE INCONNU",(INDEX([1]Base!$A$2:$C$207,MATCH($BW$6,[1]Base!$A$2:$A$207,0),3)))) -> 15.75 | BY58: =IF($BW$6="","",IF(ISERROR(INDEX([1]Base!$A$2:$C$207,MATCH($BW$6,[1]Base!$A$2:$A$207,0),2))=TRUE,"CABLE INCONNU",(INDEX([1]Base!$A$2:$C$207,MATCH($BW$6,[1]Base!$A$2:$A$207,0),2)))) -> 0.547 | CA58: =CD58-CC58 -> 0 | CC58: =$BB$28+$D$10*((EXP(($BB$26-Q58)/$D$10)+EXP(-($BB$26-Q58)/$D$10))/2-1) -> 237.96 | CD58: =(INDEX('[1]TABLEAU DE BORD'!$B$13:$R$2000,MATCH('Formalisme RTE'!$H$2,'[1]TABLEAU DE BORD'!$B$13:$B$2000,0),2)+INDEX($CF$15:$CG$2005,MATCH($H$2,$CF$15:$CF$2005,0),2)+INDEX('[1]TABLEAU DE BORD'!$B$13:$R$2000,MATCH('Formalisme RTE'!$H$2,'[1]TABLEAU DE BORD'!$B$13:$B$2000,0),3))-(((INDEX('[1]TABLEAU DE BORD'!$B$13:$R$2000,MATCH('Formalisme RTE'!$H$2,'[1]TABLEAU DE BORD'!$B$13:$B$2000,0),2)+INDEX($CF$15:$CG$2005,MATCH($H$2,$CF$15:$CF$2005,0),2)+INDEX('[1]TABLEAU DE BORD'!$B$13:$R$2000,MATCH('Formalisme RTE'!$H$2,'[1]TABLEAU DE BORD'!$B$13:$B$2000,0),3))-(INDEX('[1]TABLEAU DE BORD'!$B$13:$R$2000,MATCH('Formalisme RTE'!$H$2,'[1]TABLEAU DE BORD'!$B$13:$B$2000,0),8)+INDEX($CI$15:$CJ$2005,MATCH($J$2,$CI$15:$CI$2005,0),2)+INDEX('[1]TABLEAU DE BORD'!$B$13:$R$2000,MATCH('Formalisme RTE'!$H$2,'[1]TABLEAU DE BORD'!$B$13:$B$2000,0),9)))*Q58/$M$18) -> 237.96 | CF58: ='[1]TABLEAU DE BORD'!B56 | CG58: ='[1]TABLEAU DE BORD'!E56-'[1]TABLEAU DE BORD'!C56 -> #VALUE! | CI58: ='[1]TABLEAU DE BORD'!H56 | CJ58: ='[1]TABLEAU DE BORD'!K56-'[1]TABLEAU DE BORD'!I56 -> #VALUE!
P59: =IF(OR(Q59="",$M$18=""),"",CONCATENATE($M$17,"-",R59)) | R59: 45 | BQ59: =INDEX('[1]TABLEAU DE BORD'!$B$13:$R$2000,MATCH('Formalisme RTE'!$H$2,'[1]TABLEAU DE BORD'!$B$13:$B$2000,0),5)-(INDEX('[1]TABLEAU DE BORD'!$B$13:$R$2000,MATCH('Formalisme RTE'!$H$2,'[1]TABLEAU DE BORD'!$B$13:$B$2000,0),5)-INDEX('[1]TABLEAU DE BORD'!$B$13:$R$2000,MATCH('Formalisme RTE'!$H$2,'[1]TABLEAU DE BORD'!$B$13:$B$2000,0),11))*Q59/INDEX('[1]TABLEAU DE BORD'!$B$13:$R$2000,MATCH('Formalisme RTE'!$H$2,'[1]TABLEAU DE BORD'!$B$13:$B$2000,0),12) -> 2.7040063 | BR59: =BU59*CA59 -> 0 | BU59: =SQRT(1-(1/(SQRT((BY59*0.981)^2+(($B$30/10)*BW59*0.001)^2)/(BY59*0.981))^2)) -> 0.57588835 | BW59: =IF($BW$6="","",IF(ISERROR(INDEX([1]Base!$A$2:$C$207,MATCH($BW$6,[1]Base!$A$2:$A$207,0),2))=TRUE,"CABLE INCONNU",(INDEX([1]Base!$A$2:$C$207,MATCH($BW$6,[1]Base!$A$2:$A$207,0),3)))) -> 15.75 | BY59: =IF($BW$6="","",IF(ISERROR(INDEX([1]Base!$A$2:$C$207,MATCH($BW$6,[1]Base!$A$2:$A$207,0),2))=TRUE,"CABLE INCONNU",(INDEX([1]Base!$A$2:$C$207,MATCH($BW$6,[1]Base!$A$2:$A$207,0),2)))) -> 0.547 | CA59: =CD59-CC59 -> 0 | CC59: =$BB$28+$D$10*((EXP(($BB$26-Q59)/$D$10)+EXP(-($BB$26-Q59)/$D$10))/2-1) -> 237.96 | CD59: =(INDEX('[1]TABLEAU DE BORD'!$B$13:$R$2000,MATCH('Formalisme RTE'!$H$2,'[1]TABLEAU DE BORD'!$B$13:$B$2000,0),2)+INDEX($CF$15:$CG$2005,MATCH($H$2,$CF$15:$CF$2005,0),2)+INDEX('[1]TABLEAU DE BORD'!$B$13:$R$2000,MATCH('Formalisme RTE'!$H$2,'[1]TABLEAU DE BORD'!$B$13:$B$2000,0),3))-(((INDEX('[1]TABLEAU DE BORD'!$B$13:$R$2000,MATCH('Formalisme RTE'!$H$2,'[1]TABLEAU DE BORD'!$B$13:$B$2000,0),2)+INDEX($CF$15:$CG$2005,MATCH($H$2,$CF$15:$CF$2005,0),2)+INDEX('[1]TABLEAU DE BORD'!$B$13:$R$2000,MATCH('Formalisme RTE'!$H$2,'[1]TABLEAU DE BORD'!$B$13:$B$2000,0),3))-(INDEX('[1]TABLEAU DE BORD'!$B$13:$R$2000,MATCH('Formalisme RTE'!$H$2,'[1]TABLEAU DE BORD'!$B$13:$B$2000,0),8)+INDEX($CI$15:$CJ$2005,MATCH($J$2,$CI$15:$CI$2005,0),2)+INDEX('[1]TABLEAU DE BORD'!$B$13:$R$2000,MATCH('Formalisme RTE'!$H$2,'[1]TABLEAU DE BORD'!$B$13:$B$2000,0),9)))*Q59/$M$18) -> 237.96 | CF59: ='[1]TABLEAU DE BORD'!B57 | CG59: ='[1]TABLEAU DE BORD'!E57-'[1]TABLEAU DE BORD'!C57 -> #VALUE! | CI59: ='[1]TABLEAU DE BORD'!H57 | CJ59: ='[1]TABLEAU DE BORD'!K57-'[1]TABLEAU DE BORD'!I57 -> #VALUE!
... P64: =IF(OR(Q64="",$M$18=""),"",CONCATENATE($M$17,"-",R64)) | R64: 50 | BQ64: =INDEX('[1]TABLEAU DE BORD'!$B$13:$R$2000,MATCH('Formalisme RTE'!$H$2,'[1]TABLEAU DE BORD'!$B$13:$B$2000,0),5)-(INDEX('[1]TABLEAU DE BORD'!$B$13:$R$2000,MATCH('Formalisme RTE'!$H$2,'[1]TABLEAU DE BORD'!$B$13:$B$2000,0),5)-INDEX('[1]TABLEAU DE BORD'!$B$13:$R$2000,MATCH('Formalisme RTE'!$H$2,'[1]TABLEAU DE BORD'!$B$13:$B$2000,0),11))*Q64/INDEX('[1]TABLEAU DE BORD'!$B$13:$R$2000,MATCH('Formalisme RTE'!$H$2,'[1]TABLEAU DE BORD'!$B$13:$B$2000,0),12) -> 2.7040063 | BR64: =BU64*CA64 -> 0 | BU64: =SQRT(1-(1/(SQRT((BY64*0.981)^2+(($B$30/10)*BW64*0.001)^2)/(BY64*0.981))^2)) -> 0.57588835 | BW64: =IF($BW$6="","",IF(ISERROR(INDEX([1]Base!$A$2:$C$207,MATCH($BW$6,[1]Base!$A$2:$A$207,0),2))=TRUE,"CABLE INCONNU",(INDEX([1]Base!$A$2:$C$207,MATCH($BW$6,[1]Base!$A$2:$A$207,0),3)))) -> 15.75 | BY64: =IF($BW$6="","",IF(ISERROR(INDEX([1]Base!$A$2:$C$207,MATCH($BW$6,[1]Base!$A$2:$A$207,0),2))=TRUE,"CABLE INCONNU",(INDEX([1]Base!$A$2:$C$207,MATCH($BW$6,[1]Base!$A$2:$A$207,0),2)))) -> 0.547 | CA64: =CD64-CC64 -> 0 | CC64: =$BB$28+$D$10*((EXP(($BB$26-Q64)/$D$10)+EXP(-($BB$26-Q64)/$D$10))/2-1) -> 237.96 | CD64: =(INDEX('[1]TABLEAU DE BORD'!$B$13:$R$2000,MATCH('Formalisme RTE'!$H$2,'[1]TABLEAU DE BORD'!$B$13:$B$2000,0),2)+INDEX($CF$15:$CG$2005,MATCH($H$2,$CF$15:$CF$2005,0),2)+INDEX('[1]TABLEAU DE BORD'!$B$13:$R$2000,MATCH('Formalisme RTE'!$H$2,'[1]TABLEAU DE BORD'!$B$13:$B$2000,0),3))-(((INDEX('[1]TABLEAU DE BORD'!$B$13:$R$2000,MATCH('Formalisme RTE'!$H$2,'[1]TABLEAU DE BORD'!$B$13:$B$2000,0),2)+INDEX($CF$15:$CG$2005,MATCH($H$2,$CF$15:$CF$2005,0),2)+INDEX('[1]TABLEAU DE BORD'!$B$13:$R$2000,MATCH('Formalisme RTE'!$H$2,'[1]TABLEAU DE BORD'!$B$13:$B$2000,0),3))-(INDEX('[1]TABLEAU DE BORD'!$B$13:$R$2000,MATCH('Formalisme RTE'!$H$2,'[1]TABLEAU DE BORD'!$B$13:$B$2000,0),8)+INDEX($CI$15:$CJ$2005,MATCH($J$2,$CI$15:$CI$2005,0),2)+INDEX('[1]TABLEAU DE BORD'!$B$13:$R$2000,MATCH('Formalisme RTE'!$H$2,'[1]TABLEAU DE BORD'!$B$13:$B$2000,0),9)))*Q64/$M$18) -> 237.96 | CF64: ='[1]TABLEAU DE BORD'!B62 | CG64: ='[1]TABLEAU DE BORD'!E62-'[1]TABLEAU DE BORD'!C62 -> #VALUE! | CI64: ='[1]TABLEAU DE BORD'!H62 | CJ64: ='[1]TABLEAU DE BORD'!K62-'[1]TABLEAU DE BORD'!I62 -> #VALUE!
BQ65: =INDEX('[1]TABLEAU DE BORD'!$B$13:$R$2000,MATCH('Formalisme RTE'!$H$2,'[1]TABLEAU DE BORD'!$B$13:$B$2000,0),5)-(INDEX('[1]TABLEAU DE BORD'!$B$13:$R$2000,MATCH('Formalisme RTE'!$H$2,'[1]TABLEAU DE BORD'!$B$13:$B$2000,0),5)-INDEX('[1]TABLEAU DE BORD'!$B$13:$R$2000,MATCH('Formalisme RTE'!$H$2,'[1]TABLEAU DE BORD'!$B$13:$B$2000,0),11))*Q65/INDEX('[1]TABLEAU DE BORD'!$B$13:$R$2000,MATCH('Formalisme RTE'!$H$2,'[1]TABLEAU DE BORD'!$B$13:$B$2000,0),12) -> 2.7040063 | BR65: =BU65*CA65 -> 0 | BU65: =SQRT(1-(1/(SQRT((BY65*0.981)^2+(($B$30/10)*BW65*0.001)^2)/(BY65*0.981))^2)) -> 0.57588835 | BW65: =IF($BW$6="","",IF(ISERROR(INDEX([1]Base!$A$2:$C$207,MATCH($BW$6,[1]Base!$A$2:$A$207,0),2))=TRUE,"CABLE INCONNU",(INDEX([1]Base!$A$2:$C$207,MATCH($BW$6,[1]Base!$A$2:$A$207,0),3)))) -> 15.75 | BY65: =IF($BW$6="","",IF(ISERROR(INDEX([1]Base!$A$2:$C$207,MATCH($BW$6,[1]Base!$A$2:$A$207,0),2))=TRUE,"CABLE INCONNU",(INDEX([1]Base!$A$2:$C$207,MATCH($BW$6,[1]Base!$A$2:$A$207,0),2)))) -> 0.547 | CA65: =CD65-CC65 -> 0 | CC65: =$BB$28+$D$10*((EXP(($BB$26-Q65)/$D$10)+EXP(-($BB$26-Q65)/$D$10))/2-1) -> 237.96 | CD65: =(INDEX('[1]TABLEAU DE BORD'!$B$13:$R$2000,MATCH('Formalisme RTE'!$H$2,'[1]TABLEAU DE BORD'!$B$13:$B$2000,0),2)+INDEX($CF$15:$CG$2005,MATCH($H$2,$CF$15:$CF$2005,0),2)+INDEX('[1]TABLEAU DE BORD'!$B$13:$R$2000,MATCH('Formalisme RTE'!$H$2,'[1]TABLEAU DE BORD'!$B$13:$B$2000,0),3))-(((INDEX('[1]TABLEAU DE BORD'!$B$13:$R$2000,MATCH('Formalisme RTE'!$H$2,'[1]TABLEAU DE BORD'!$B$13:$B$2000,0),2)+INDEX($CF$15:$CG$2005,MATCH($H$2,$CF$15:$CF$2005,0),2)+INDEX('[1]TABLEAU DE BORD'!$B$13:$R$2000,MATCH('Formalisme RTE'!$H$2,'[1]TABLEAU DE BORD'!$B$13:$B$2000,0),3))-(INDEX('[1]TABLEAU DE BORD'!$B$13:$R$2000,MATCH('Formalisme RTE'!$H$2,'[1]TABLEAU DE BORD'!$B$13:$B$2000,0),8)+INDEX($CI$15:$CJ$2005,MATCH($J$2,$CI$15:$CI$2005,0),2)+INDEX('[1]TABLEAU DE BORD'!$B$13:$R$2000,MATCH('Formalisme RTE'!$H$2,'[1]TABLEAU DE BORD'!$B$13:$B$2000,0),9)))*Q65/$M$18) -> 237.96 | CF65: ='[1]TABLEAU DE BORD'!B63 | CG65: ='[1]TABLEAU DE BORD'!E63-'[1]TABLEAU DE BORD'!C63 -> #VALUE! | CI65: ='[1]TABLEAU DE BORD'!H63 | CJ65: ='[1]TABLEAU DE BORD'!K63-'[1]TABLEAU DE BORD'!I63 -> #VALUE!
BQ66: =INDEX('[1]TABLEAU DE BORD'!$B$13:$R$2000,MATCH('Formalisme RTE'!$H$2,'[1]TABLEAU DE BORD'!$B$13:$B$2000,0),5)-(INDEX('[1]TABLEAU DE BORD'!$B$13:$R$2000,MATCH('Formalisme RTE'!$H$2,'[1]TABLEAU DE BORD'!$B$13:$B$2000,0),5)-INDEX('[1]TABLEAU DE BORD'!$B$13:$R$2000,MATCH('Formalisme RTE'!$H$2,'[1]TABLEAU DE BORD'!$B$13:$B$2000,0),11))*Q66/INDEX('[1]TABLEAU DE BORD'!$B$13:$R$2000,MATCH('Formalisme RTE'!$H$2,'[1]TABLEAU DE BORD'!$B$13:$B$2000,0),12) -> 2.7040063 | BR66: =BU66*CA66 -> 0 | BU66: =SQRT(1-(1/(SQRT((BY66*0.981)^2+(($B$30/10)*BW66*0.001)^2)/(BY66*0.981))^2)) -> 0.57588835 | BW66: =IF($BW$6="","",IF(ISERROR(INDEX([1]Base!$A$2:$C$207,MATCH($BW$6,[1]Base!$A$2:$A$207,0),2))=TRUE,"CABLE INCONNU",(INDEX([1]Base!$A$2:$C$207,MATCH($BW$6,[1]Base!$A$2:$A$207,0),3)))) -> 15.75 | BY66: =IF($BW$6="","",IF(ISERROR(INDEX([1]Base!$A$2:$C$207,MATCH($BW$6,[1]Base!$A$2:$A$207,0),2))=TRUE,"CABLE INCONNU",(INDEX([1]Base!$A$2:$C$207,MATCH($BW$6,[1]Base!$A$2:$A$207,0),2)))) -> 0.547 | CA66: =CD66-CC66 -> 0 | CC66: =$BB$28+$D$10*((EXP(($BB$26-Q66)/$D$10)+EXP(-($BB$26-Q66)/$D$10))/2-1) -> 237.96 | CD66: =(INDEX('[1]TABLEAU DE BORD'!$B$13:$R$2000,MATCH('Formalisme RTE'!$H$2,'[1]TABLEAU DE BORD'!$B$13:$B$2000,0),2)+INDEX($CF$15:$CG$2005,MATCH($H$2,$CF$15:$CF$2005,0),2)+INDEX('[1]TABLEAU DE BORD'!$B$13:$R$2000,MATCH('Formalisme RTE'!$H$2,'[1]TABLEAU DE BORD'!$B$13:$B$2000,0),3))-(((INDEX('[1]TABLEAU DE BORD'!$B$13:$R$2000,MATCH('Formalisme RTE'!$H$2,'[1]TABLEAU DE BORD'!$B$13:$B$2000,0),2)+INDEX($CF$15:$CG$2005,MATCH($H$2,$CF$15:$CF$2005,0),2)+INDEX('[1]TABLEAU DE BORD'!$B$13:$R$2000,MATCH('Formalisme RTE'!$H$2,'[1]TABLEAU DE BORD'!$B$13:$B$2000,0),3))-(INDEX('[1]TABLEAU DE BORD'!$B$13:$R$2000,MATCH('Formalisme RTE'!$H$2,'[1]TABLEAU DE BORD'!$B$13:$B$2000,0),8)+INDEX($CI$15:$CJ$2005,MATCH($J$2,$CI$15:$CI$2005,0),2)+INDEX('[1]TABLEAU DE BORD'!$B$13:$R$2000,MATCH('Formalisme RTE'!$H$2,'[1]TABLEAU DE BORD'!$B$13:$B$2000,0),9)))*Q66/$M$18) -> 237.96 | CF66: ='[1]TABLEAU DE BORD'!B64 | CG66: ='[1]TABLEAU DE BORD'!E64-'[1]TABLEAU DE BORD'!C64 -> #VALUE! | CI66: ='[1]TABLEAU DE BORD'!H64 | CJ66: ='[1]TABLEAU DE BORD'!K64-'[1]TABLEAU DE BORD'!I64 -> #VALUE!
BQ67: =INDEX('[1]TABLEAU DE BORD'!$B$13:$R$2000,MATCH('Formalisme RTE'!$H$2,'[1]TABLEAU DE BORD'!$B$13:$B$2000,0),5)-(INDEX('[1]TABLEAU DE BORD'!$B$13:$R$2000,MATCH('Formalisme RTE'!$H$2,'[1]TABLEAU DE BORD'!$B$13:$B$2000,0),5)-INDEX('[1]TABLEAU DE BORD'!$B$13:$R$2000,MATCH('Formalisme RTE'!$H$2,'[1]TABLEAU DE BORD'!$B$13:$B$2000,0),11))*Q67/INDEX('[1]TABLEAU DE BORD'!$B$13:$R$2000,MATCH('Formalisme RTE'!$H$2,'[1]TABLEAU DE BORD'!$B$13:$B$2000,0),12) -> 2.7040063 | BR67: =BU67*CA67 -> 0 | BU67: =SQRT(1-(1/(SQRT((BY67*0.981)^2+(($B$30/10)*BW67*0.001)^2)/(BY67*0.981))^2)) -> 0.57588835 | BW67: =IF($BW$6="","",IF(ISERROR(INDEX([1]Base!$A$2:$C$207,MATCH($BW$6,[1]Base!$A$2:$A$207,0),2))=TRUE,"CABLE INCONNU",(INDEX([1]Base!$A$2:$C$207,MATCH($BW$6,[1]Base!$A$2:$A$207,0),3)))) -> 15.75 | BY67: =IF($BW$6="","",IF(ISERROR(INDEX([1]Base!$A$2:$C$207,MATCH($BW$6,[1]Base!$A$2:$A$207,0),2))=TRUE,"CABLE INCONNU",(INDEX([1]Base!$A$2:$C$207,MATCH($BW$6,[1]Base!$A$2:$A$207,0),2)))) -> 0.547 | CA67: =CD67-CC67 -> 0 | CC67: =$BB$28+$D$10*((EXP(($BB$26-Q67)/$D$10)+EXP(-($BB$26-Q67)/$D$10))/2-1) -> 237.96 | CD67: =(INDEX('[1]TABLEAU DE BORD'!$B$13:$R$2000,MATCH('Formalisme RTE'!$H$2,'[1]TABLEAU DE BORD'!$B$13:$B$2000,0),2)+INDEX($CF$15:$CG$2005,MATCH($H$2,$CF$15:$CF$2005,0),2)+INDEX('[1]TABLEAU DE BORD'!$B$13:$R$2000,MATCH('Formalisme RTE'!$H$2,'[1]TABLEAU DE BORD'!$B$13:$B$2000,0),3))-(((INDEX('[1]TABLEAU DE BORD'!$B$13:$R$2000,MATCH('Formalisme RTE'!$H$2,'[1]TABLEAU DE BORD'!$B$13:$B$2000,0),2)+INDEX($CF$15:$CG$2005,MATCH($H$2,$CF$15:$CF$2005,0),2)+INDEX('[1]TABLEAU DE BORD'!$B$13:$R$2000,MATCH('Formalisme RTE'!$H$2,'[1]TABLEAU DE BORD'!$B$13:$B$2000,0),3))-(INDEX('[1]TABLEAU DE BORD'!$B$13:$R$2000,MATCH('Formalisme RTE'!$H$2,'[1]TABLEAU DE BORD'!$B$13:$B$2000,0),8)+INDEX($CI$15:$CJ$2005,MATCH($J$2,$CI$15:$CI$2005,0),2)+INDEX('[1]TABLEAU DE BORD'!$B$13:$R$2000,MATCH('Formalisme RTE'!$H$2,'[1]TABLEAU DE BORD'!$B$13:$B$2000,0),9)))*Q67/$M$18) -> 237.96 | CF67: ='[1]TABLEAU DE BORD'!B65 | CG67: ='[1]TABLEAU DE BORD'!E65-'[1]TABLEAU DE BORD'!C65 -> #VALUE! | CI67: ='[1]TABLEAU DE BORD'!H65 | CJ67: ='[1]TABLEAU DE BORD'!K65-'[1]TABLEAU DE BORD'!I65 -> #VALUE!
BQ68: =INDEX('[1]TABLEAU DE BORD'!$B$13:$R$2000,MATCH('Formalisme RTE'!$H$2,'[1]TABLEAU DE BORD'!$B$13:$B$2000,0),5)-(INDEX('[1]TABLEAU DE BORD'!$B$13:$R$2000,MATCH('Formalisme RTE'!$H$2,'[1]TABLEAU DE BORD'!$B$13:$B$2000,0),5)-INDEX('[1]TABLEAU DE BORD'!$B$13:$R$2000,MATCH('Formalisme RTE'!$H$2,'[1]TABLEAU DE BORD'!$B$13:$B$2000,0),11))*Q68/INDEX('[1]TABLEAU DE BORD'!$B$13:$R$2000,MATCH('Formalisme RTE'!$H$2,'[1]TABLEAU DE BORD'!$B$13:$B$2000,0),12) -> 2.7040063 | BR68: =BU68*CA68 -> 0 | BU68: =SQRT(1-(1/(SQRT((BY68*0.981)^2+(($B$30/10)*BW68*0.001)^2)/(BY68*0.981))^2)) -> 0.57588835 | BW68: =IF($BW$6="","",IF(ISERROR(INDEX([1]Base!$A$2:$C$207,MATCH($BW$6,[1]Base!$A$2:$A$207,0),2))=TRUE,"CABLE INCONNU",(INDEX([1]Base!$A$2:$C$207,MATCH($BW$6,[1]Base!$A$2:$A$207,0),3)))) -> 15.75 | BY68: =IF($BW$6="","",IF(ISERROR(INDEX([1]Base!$A$2:$C$207,MATCH($BW$6,[1]Base!$A$2:$A$207,0),2))=TRUE,"CABLE INCONNU",(INDEX([1]Base!$A$2:$C$207,MATCH($BW$6,[1]Base!$A$2:$A$207,0),2)))) -> 0.547 | CA68: =CD68-CC68 -> 0 | CC68: =$BB$28+$D$10*((EXP(($BB$26-Q68)/$D$10)+EXP(-($BB$26-Q68)/$D$10))/2-1) -> 237.96 | CD68: =(INDEX('[1]TABLEAU DE BORD'!$B$13:$R$2000,MATCH('Formalisme RTE'!$H$2,'[1]TABLEAU DE BORD'!$B$13:$B$2000,0),2)+INDEX($CF$15:$CG$2005,MATCH($H$2,$CF$15:$CF$2005,0),2)+INDEX('[1]TABLEAU DE BORD'!$B$13:$R$2000,MATCH('Formalisme RTE'!$H$2,'[1]TABLEAU DE BORD'!$B$13:$B$2000,0),3))-(((INDEX('[1]TABLEAU DE BORD'!$B$13:$R$2000,MATCH('Formalisme RTE'!$H$2,'[1]TABLEAU DE BORD'!$B$13:$B$2000,0),2)+INDEX($CF$15:$CG$2005,MATCH($H$2,$CF$15:$CF$2005,0),2)+INDEX('[1]TABLEAU DE BORD'!$B$13:$R$2000,MATCH('Formalisme RTE'!$H$2,'[1]TABLEAU DE BORD'!$B$13:$B$2000,0),3))-(INDEX('[1]TABLEAU DE BORD'!$B$13:$R$2000,MATCH('Formalisme RTE'!$H$2,'[1]TABLEAU DE BORD'!$B$13:$B$2000,0),8)+INDEX($CI$15:$CJ$2005,MATCH($J$2,$CI$15:$CI$2005,0),2)+INDEX('[1]TABLEAU DE BORD'!$B$13:$R$2000,MATCH('Formalisme RTE'!$H$2,'[1]TABLEAU DE BORD'!$B$13:$B$2000,0),9)))*Q68/$M$18) -> 237.96 | CF68: ='[1]TABLEAU DE BORD'!B66 | CG68: ='[1]TABLEAU DE BORD'!E66-'[1]TABLEAU DE BORD'!C66 -> #VALUE! | CI68: ='[1]TABLEAU DE BORD'!H66 | CJ68: ='[1]TABLEAU DE BORD'!K66-'[1]TABLEAU DE BORD'!I66 -> #VALUE!
BQ69: =INDEX('[1]TABLEAU DE BORD'!$B$13:$R$2000,MATCH('Formalisme RTE'!$H$2,'[1]TABLEAU DE BORD'!$B$13:$B$2000,0),5)-(INDEX('[1]TABLEAU DE BORD'!$B$13:$R$2000,MATCH('Formalisme RTE'!$H$2,'[1]TABLEAU DE BORD'!$B$13:$B$2000,0),5)-INDEX('[1]TABLEAU DE BORD'!$B$13:$R$2000,MATCH('Formalisme RTE'!$H$2,'[1]TABLEAU DE BORD'!$B$13:$B$2000,0),11))*Q69/INDEX('[1]TABLEAU DE BORD'!$B$13:$R$2000,MATCH('Formalisme RTE'!$H$2,'[1]TABLEAU DE BORD'!$B$13:$B$2000,0),12) -> 2.7040063 | BR69: =BU69*CA69 -> 0 | BU69: =SQRT(1-(1/(SQRT((BY69*0.981)^2+(($B$30/10)*BW69*0.001)^2)/(BY69*0.981))^2)) -> 0.57588835 | BW69: =IF($BW$6="","",IF(ISERROR(INDEX([1]Base!$A$2:$C$207,MATCH($BW$6,[1]Base!$A$2:$A$207,0),2))=TRUE,"CABLE INCONNU",(INDEX([1]Base!$A$2:$C$207,MATCH($BW$6,[1]Base!$A$2:$A$207,0),3)))) -> 15.75 | BY69: =IF($BW$6="","",IF(ISERROR(INDEX([1]Base!$A$2:$C$207,MATCH($BW$6,[1]Base!$A$2:$A$207,0),2))=TRUE,"CABLE INCONNU",(INDEX([1]Base!$A$2:$C$207,MATCH($BW$6,[1]Base!$A$2:$A$207,0),2)))) -> 0.547 | CA69: =CD69-CC69 -> 0 | CC69: =$BB$28+$D$10*((EXP(($BB$26-Q69)/$D$10)+EXP(-($BB$26-Q69)/$D$10))/2-1) -> 237.96 | CD69: =(INDEX('[1]TABLEAU DE BORD'!$B$13:$R$2000,MATCH('Formalisme RTE'!$H$2,'[1]TABLEAU DE BORD'!$B$13:$B$2000,0),2)+INDEX($CF$15:$CG$2005,MATCH($H$2,$CF$15:$CF$2005,0),2)+INDEX('[1]TABLEAU DE BORD'!$B$13:$R$2000,MATCH('Formalisme RTE'!$H$2,'[1]TABLEAU DE BORD'!$B$13:$B$2000,0),3))-(((INDEX('[1]TABLEAU DE BORD'!$B$13:$R$2000,MATCH('Formalisme RTE'!$H$2,'[1]TABLEAU DE BORD'!$B$13:$B$2000,0),2)+INDEX($CF$15:$CG$2005,MATCH($H$2,$CF$15:$CF$2005,0),2)+INDEX('[1]TABLEAU DE BORD'!$B$13:$R$2000,MATCH('Formalisme RTE'!$H$2,'[1]TABLEAU DE BORD'!$B$13:$B$2000,0),3))-(INDEX('[1]TABLEAU DE BORD'!$B$13:$R$2000,MATCH('Formalisme RTE'!$H$2,'[1]TABLEAU DE BORD'!$B$13:$B$2000,0),8)+INDEX($CI$15:$CJ$2005,MATCH($J$2,$CI$15:$CI$2005,0),2)+INDEX('[1]TABLEAU DE BORD'!$B$13:$R$2000,MATCH('Formalisme RTE'!$H$2,'[1]TABLEAU DE BORD'!$B$13:$B$2000,0),9)))*Q69/$M$18) -> 237.96 | CF69: ='[1]TABLEAU DE BORD'!B67 | CG69: ='[1]TABLEAU DE BORD'!E67-'[1]TABLEAU DE BORD'!C67 -> #VALUE! | CI69: ='[1]TABLEAU DE BORD'!H67 | CJ69: ='[1]TABLEAU DE BORD'!K67-'[1]TABLEAU DE BORD'!I67 -> #VALUE!
BQ70: =INDEX('[1]TABLEAU DE BORD'!$B$13:$R$2000,MATCH('Formalisme RTE'!$H$2,'[1]TABLEAU DE BORD'!$B$13:$B$2000,0),5)-(INDEX('[1]TABLEAU DE BORD'!$B$13:$R$2000,MATCH('Formalisme RTE'!$H$2,'[1]TABLEAU DE BORD'!$B$13:$B$2000,0),5)-INDEX('[1]TABLEAU DE BORD'!$B$13:$R$2000,MATCH('Formalisme RTE'!$H$2,'[1]TABLEAU DE BORD'!$B$13:$B$2000,0),11))*Q70/INDEX('[1]TABLEAU DE BORD'!$B$13:$R$2000,MATCH('Formalisme RTE'!$H$2,'[1]TABLEAU DE BORD'!$B$13:$B$2000,0),12) -> 2.7040063 | BR70: =BU70*CA70 -> 0 | BU70: =SQRT(1-(1/(SQRT((BY70*0.981)^2+(($B$30/10)*BW70*0.001)^2)/(BY70*0.981))^2)) -> 0.57588835 | BW70: =IF($BW$6="","",IF(ISERROR(INDEX([1]Base!$A$2:$C$207,MATCH($BW$6,[1]Base!$A$2:$A$207,0),2))=TRUE,"CABLE INCONNU",(INDEX([1]Base!$A$2:$C$207,MATCH($BW$6,[1]Base!$A$2:$A$207,0),3)))) -> 15.75 | BY70: =IF($BW$6="","",IF(ISERROR(INDEX([1]Base!$A$2:$C$207,MATCH($BW$6,[1]Base!$A$2:$A$207,0),2))=TRUE,"CABLE INCONNU",(INDEX([1]Base!$A$2:$C$207,MATCH($BW$6,[1]Base!$A$2:$A$207,0),2)))) -> 0.547 | CA70: =CD70-CC70 -> 0 | CC70: =$BB$28+$D$10*((EXP(($BB$26-Q70)/$D$10)+EXP(-($BB$26-Q70)/$D$10))/2-1) -> 237.96 | CD70: =(INDEX('[1]TABLEAU DE BORD'!$B$13:$R$2000,MATCH('Formalisme RTE'!$H$2,'[1]TABLEAU DE BORD'!$B$13:$B$2000,0),2)+INDEX($CF$15:$CG$2005,MATCH($H$2,$CF$15:$CF$2005,0),2)+INDEX('[1]TABLEAU DE BORD'!$B$13:$R$2000,MATCH('Formalisme RTE'!$H$2,'[1]TABLEAU DE BORD'!$B$13:$B$2000,0),3))-(((INDEX('[1]TABLEAU DE BORD'!$B$13:$R$2000,MATCH('Formalisme RTE'!$H$2,'[1]TABLEAU DE BORD'!$B$13:$B$2000,0),2)+INDEX($CF$15:$CG$2005,MATCH($H$2,$CF$15:$CF$2005,0),2)+INDEX('[1]TABLEAU DE BORD'!$B$13:$R$2000,MATCH('Formalisme RTE'!$H$2,'[1]TABLEAU DE BORD'!$B$13:$B$2000,0),3))-(INDEX('[1]TABLEAU DE BORD'!$B$13:$R$2000,MATCH('Formalisme RTE'!$H$2,'[1]TABLEAU DE BORD'!$B$13:$B$2000,0),8)+INDEX($CI$15:$CJ$2005,MATCH($J$2,$CI$15:$CI$2005,0),2)+INDEX('[1]TABLEAU DE BORD'!$B$13:$R$2000,MATCH('Formalisme RTE'!$H$2,'[1]TABLEAU DE BORD'!$B$13:$B$2000,0),9)))*Q70/$M$18) -> 237.96 | CF70: ='[1]TABLEAU DE BORD'!B68 | CG70: ='[1]TABLEAU DE BORD'!E68-'[1]TABLEAU DE BORD'!C68 -> #VALUE! | CI70: ='[1]TABLEAU DE BORD'!H68 | CJ70: ='[1]TABLEAU DE BORD'!K68-'[1]TABLEAU DE BORD'!I68 -> #VALUE!
BQ71: =INDEX('[1]TABLEAU DE BORD'!$B$13:$R$2000,MATCH('Formalisme RTE'!$H$2,'[1]TABLEAU DE BORD'!$B$13:$B$2000,0),5)-(INDEX('[1]TABLEAU DE BORD'!$B$13:$R$2000,MATCH('Formalisme RTE'!$H$2,'[1]TABLEAU DE BORD'!$B$13:$B$2000,0),5)-INDEX('[1]TABLEAU DE BORD'!$B$13:$R$2000,MATCH('Formalisme RTE'!$H$2,'[1]TABLEAU DE BORD'!$B$13:$B$2000,0),11))*Q71/INDEX('[1]TABLEAU DE BORD'!$B$13:$R$2000,MATCH('Formalisme RTE'!$H$2,'[1]TABLEAU DE BORD'!$B$13:$B$2000,0),12) -> 2.7040063 | BR71: =BU71*CA71 -> 0 | BU71: =SQRT(1-(1/(SQRT((BY71*0.981)^2+(($B$30/10)*BW71*0.001)^2)/(BY71*0.981))^2)) -> 0.57588835 | BW71: =IF($BW$6="","",IF(ISERROR(INDEX([1]Base!$A$2:$C$207,MATCH($BW$6,[1]Base!$A$2:$A$207,0),2))=TRUE,"CABLE INCONNU",(INDEX([1]Base!$A$2:$C$207,MATCH($BW$6,[1]Base!$A$2:$A$207,0),3)))) -> 15.75 | BY71: =IF($BW$6="","",IF(ISERROR(INDEX([1]Base!$A$2:$C$207,MATCH($BW$6,[1]Base!$A$2:$A$207,0),2))=TRUE,"CABLE INCONNU",(INDEX([1]Base!$A$2:$C$207,MATCH($BW$6,[1]Base!$A$2:$A$207,0),2)))) -> 0.547 | CA71: =CD71-CC71 -> 0 | CC71: =$BB$28+$D$10*((EXP(($BB$26-Q71)/$D$10)+EXP(-($BB$26-Q71)/$D$10))/2-1) -> 237.96 | CD71: =(INDEX('[1]TABLEAU DE BORD'!$B$13:$R$2000,MATCH('Formalisme RTE'!$H$2,'[1]TABLEAU DE BORD'!$B$13:$B$2000,0),2)+INDEX($CF$15:$CG$2005,MATCH($H$2,$CF$15:$CF$2005,0),2)+INDEX('[1]TABLEAU DE BORD'!$B$13:$R$2000,MATCH('Formalisme RTE'!$H$2,'[1]TABLEAU DE BORD'!$B$13:$B$2000,0),3))-(((INDEX('[1]TABLEAU DE BORD'!$B$13:$R$2000,MATCH('Formalisme RTE'!$H$2,'[1]TABLEAU DE BORD'!$B$13:$B$2000,0),2)+INDEX($CF$15:$CG$2005,MATCH($H$2,$CF$15:$CF$2005,0),2)+INDEX('[1]TABLEAU DE BORD'!$B$13:$R$2000,MATCH('Formalisme RTE'!$H$2,'[1]TABLEAU DE BORD'!$B$13:$B$2000,0),3))-(INDEX('[1]TABLEAU DE BORD'!$B$13:$R$2000,MATCH('Formalisme RTE'!$H$2,'[1]TABLEAU DE BORD'!$B$13:$B$2000,0),8)+INDEX($CI$15:$CJ$2005,MATCH($J$2,$CI$15:$CI$2005,0),2)+INDEX('[1]TABLEAU DE BORD'!$B$13:$R$2000,MATCH('Formalisme RTE'!$H$2,'[1]TABLEAU DE BORD'!$B$13:$B$2000,0),9)))*Q71/$M$18) -> 237.96 | CF71: ='[1]TABLEAU DE BORD'!B69 | CG71: ='[1]TABLEAU DE BORD'!E69-'[1]TABLEAU DE BORD'!C69 -> #VALUE! | CI71: ='[1]TABLEAU DE BORD'!H69 | CJ71: ='[1]TABLEAU DE BORD'!K69-'[1]TABLEAU DE BORD'!I69 -> #VALUE!
BQ72: =INDEX('[1]TABLEAU DE BORD'!$B$13:$R$2000,MATCH('Formalisme RTE'!$H$2,'[1]TABLEAU DE BORD'!$B$13:$B$2000,0),5)-(INDEX('[1]TABLEAU DE BORD'!$B$13:$R$2000,MATCH('Formalisme RTE'!$H$2,'[1]TABLEAU DE BORD'!$B$13:$B$2000,0),5)-INDEX('[1]TABLEAU DE BORD'!$B$13:$R$2000,MATCH('Formalisme RTE'!$H$2,'[1]TABLEAU DE BORD'!$B$13:$B$2000,0),11))*Q72/INDEX('[1]TABLEAU DE BORD'!$B$13:$R$2000,MATCH('Formalisme RTE'!$H$2,'[1]TABLEAU DE BORD'!$B$13:$B$2000,0),12) -> 2.7040063 | BR72: =BU72*CA72 -> 0 | BU72: =SQRT(1-(1/(SQRT((BY72*0.981)^2+(($B$30/10)*BW72*0.001)^2)/(BY72*0.981))^2)) -> 0.57588835 | BW72: =IF($BW$6="","",IF(ISERROR(INDEX([1]Base!$A$2:$C$207,MATCH($BW$6,[1]Base!$A$2:$A$207,0),2))=TRUE,"CABLE INCONNU",(INDEX([1]Base!$A$2:$C$207,MATCH($BW$6,[1]Base!$A$2:$A$207,0),3)))) -> 15.75 | BY72: =IF($BW$6="","",IF(ISERROR(INDEX([1]Base!$A$2:$C$207,MATCH($BW$6,[1]Base!$A$2:$A$207,0),2))=TRUE,"CABLE INCONNU",(INDEX([1]Base!$A$2:$C$207,MATCH($BW$6,[1]Base!$A$2:$A$207,0),2)))) -> 0.547 | CA72: =CD72-CC72 -> 0 | CC72: =$BB$28+$D$10*((EXP(($BB$26-Q72)/$D$10)+EXP(-($BB$26-Q72)/$D$10))/2-1) -> 237.96 | CD72: =(INDEX('[1]TABLEAU DE BORD'!$B$13:$R$2000,MATCH('Formalisme RTE'!$H$2,'[1]TABLEAU DE BORD'!$B$13:$B$2000,0),2)+INDEX($CF$15:$CG$2005,MATCH($H$2,$CF$15:$CF$2005,0),2)+INDEX('[1]TABLEAU DE BORD'!$B$13:$R$2000,MATCH('Formalisme RTE'!$H$2,'[1]TABLEAU DE BORD'!$B$13:$B$2000,0),3))-(((INDEX('[1]TABLEAU DE BORD'!$B$13:$R$2000,MATCH('Formalisme RTE'!$H$2,'[1]TABLEAU DE BORD'!$B$13:$B$2000,0),2)+INDEX($CF$15:$CG$2005,MATCH($H$2,$CF$15:$CF$2005,0),2)+INDEX('[1]TABLEAU DE BORD'!$B$13:$R$2000,MATCH('Formalisme RTE'!$H$2,'[1]TABLEAU DE BORD'!$B$13:$B$2000,0),3))-(INDEX('[1]TABLEAU DE BORD'!$B$13:$R$2000,MATCH('Formalisme RTE'!$H$2,'[1]TABLEAU DE BORD'!$B$13:$B$2000,0),8)+INDEX($CI$15:$CJ$2005,MATCH($J$2,$CI$15:$CI$2005,0),2)+INDEX('[1]TABLEAU DE BORD'!$B$13:$R$2000,MATCH('Formalisme RTE'!$H$2,'[1]TABLEAU DE BORD'!$B$13:$B$2000,0),9)))*Q72/$M$18) -> 237.96 | CF72: ='[1]TABLEAU DE BORD'!B70 | CG72: ='[1]TABLEAU DE BORD'!E70-'[1]TABLEAU DE BORD'!C70 -> #VALUE! | CI72: ='[1]TABLEAU DE BORD'!H70 | CJ72: ='[1]TABLEAU DE BORD'!K70-'[1]TABLEAU DE BORD'!I70 -> #VALUE!
BQ73: =INDEX('[1]TABLEAU DE BORD'!$B$13:$R$2000,MATCH('Formalisme RTE'!$H$2,'[1]TABLEAU DE BORD'!$B$13:$B$2000,0),5)-(INDEX('[1]TABLEAU DE BORD'!$B$13:$R$2000,MATCH('Formalisme RTE'!$H$2,'[1]TABLEAU DE BORD'!$B$13:$B$2000,0),5)-INDEX('[1]TABLEAU DE BORD'!$B$13:$R$2000,MATCH('Formalisme RTE'!$H$2,'[1]TABLEAU DE BORD'!$B$13:$B$2000,0),11))*Q73/INDEX('[1]TABLEAU DE BORD'!$B$13:$R$2000,MATCH('Formalisme RTE'!$H$2,'[1]TABLEAU DE BORD'!$B$13:$B$2000,0),12) -> 2.7040063 | BR73: =BU73*CA73 -> 0 | BU73: =SQRT(1-(1/(SQRT((BY73*0.981)^2+(($B$30/10)*BW73*0.001)^2)/(BY73*0.981))^2)) -> 0.57588835 | BW73: =IF($BW$6="","",IF(ISERROR(INDEX([1]Base!$A$2:$C$207,MATCH($BW$6,[1]Base!$A$2:$A$207,0),2))=TRUE,"CABLE INCONNU",(INDEX([1]Base!$A$2:$C$207,MATCH($BW$6,[1]Base!$A$2:$A$207,0),3)))) -> 15.75 | BY73: =IF($BW$6="","",IF(ISERROR(INDEX([1]Base!$A$2:$C$207,MATCH($BW$6,[1]Base!$A$2:$A$207,0),2))=TRUE,"CABLE INCONNU",(INDEX([1]Base!$A$2:$C$207,MATCH($BW$6,[1]Base!$A$2:$A$207,0),2)))) -> 0.547 | CA73: =CD73-CC73 -> 0 | CC73: =$BB$28+$D$10*((EXP(($BB$26-Q73)/$D$10)+EXP(-($BB$26-Q73)/$D$10))/2-1) -> 237.96 | CD73: =(INDEX('[1]TABLEAU DE BORD'!$B$13:$R$2000,MATCH('Formalisme RTE'!$H$2,'[1]TABLEAU DE BORD'!$B$13:$B$2000,0),2)+INDEX($CF$15:$CG$2005,MATCH($H$2,$CF$15:$CF$2005,0),2)+INDEX('[1]TABLEAU DE BORD'!$B$13:$R$2000,MATCH('Formalisme RTE'!$H$2,'[1]TABLEAU DE BORD'!$B$13:$B$2000,0),3))-(((INDEX('[1]TABLEAU DE BORD'!$B$13:$R$2000,MATCH('Formalisme RTE'!$H$2,'[1]TABLEAU DE BORD'!$B$13:$B$2000,0),2)+INDEX($CF$15:$CG$2005,MATCH($H$2,$CF$15:$CF$2005,0),2)+INDEX('[1]TABLEAU DE BORD'!$B$13:$R$2000,MATCH('Formalisme RTE'!$H$2,'[1]TABLEAU DE BORD'!$B$13:$B$2000,0),3))-(INDEX('[1]TABLEAU DE BORD'!$B$13:$R$2000,MATCH('Formalisme RTE'!$H$2,'[1]TABLEAU DE BORD'!$B$13:$B$2000,0),8)+INDEX($CI$15:$CJ$2005,MATCH($J$2,$CI$15:$CI$2005,0),2)+INDEX('[1]TABLEAU DE BORD'!$B$13:$R$2000,MATCH('Formalisme RTE'!$H$2,'[1]TABLEAU DE BORD'!$B$13:$B$2000,0),9)))*Q73/$M$18) -> 237.96 | CF73: ='[1]TABLEAU DE BORD'!B71 | CG73: ='[1]TABLEAU DE BORD'!E71-'[1]TABLEAU DE BORD'!C71 -> #VALUE! | CI73: ='[1]TABLEAU DE BORD'!H71 | CJ73: ='[1]TABLEAU DE BORD'!K71-'[1]TABLEAU DE BORD'!I71 -> #VALUE!
BQ74: =INDEX('[1]TABLEAU DE BORD'!$B$13:$R$2000,MATCH('Formalisme RTE'!$H$2,'[1]TABLEAU DE BORD'!$B$13:$B$2000,0),5)-(INDEX('[1]TABLEAU DE BORD'!$B$13:$R$2000,MATCH('Formalisme RTE'!$H$2,'[1]TABLEAU DE BORD'!$B$13:$B$2000,0),5)-INDEX('[1]TABLEAU DE BORD'!$B$13:$R$2000,MATCH('Formalisme RTE'!$H$2,'[1]TABLEAU DE BORD'!$B$13:$B$2000,0),11))*Q74/INDEX('[1]TABLEAU DE BORD'!$B$13:$R$2000,MATCH('Formalisme RTE'!$H$2,'[1]TABLEAU DE BORD'!$B$13:$B$2000,0),12) -> 2.7040063 | BR74: =BU74*CA74 -> 0 | BU74: =SQRT(1-(1/(SQRT((BY74*0.981)^2+(($B$30/10)*BW74*0.001)^2)/(BY74*0.981))^2)) -> 0.57588835 | BW74: =IF($BW$6="","",IF(ISERROR(INDEX([1]Base!$A$2:$C$207,MATCH($BW$6,[1]Base!$A$2:$A$207,0),2))=TRUE,"CABLE INCONNU",(INDEX([1]Base!$A$2:$C$207,MATCH($BW$6,[1]Base!$A$2:$A$207,0),3)))) -> 15.75 | BY74: =IF($BW$6="","",IF(ISERROR(INDEX([1]Base!$A$2:$C$207,MATCH($BW$6,[1]Base!$A$2:$A$207,0),2))=TRUE,"CABLE INCONNU",(INDEX([1]Base!$A$2:$C$207,MATCH($BW$6,[1]Base!$A$2:$A$207,0),2)))) -> 0.547 | CA74: =CD74-CC74 -> 0 | CC74: =$BB$28+$D$10*((EXP(($BB$26-Q74)/$D$10)+EXP(-($BB$26-Q74)/$D$10))/2-1) -> 237.96 | CD74: =(INDEX('[1]TABLEAU DE BORD'!$B$13:$R$2000,MATCH('Formalisme RTE'!$H$2,'[1]TABLEAU DE BORD'!$B$13:$B$2000,0),2)+INDEX($CF$15:$CG$2005,MATCH($H$2,$CF$15:$CF$2005,0),2)+INDEX('[1]TABLEAU DE BORD'!$B$13:$R$2000,MATCH('Formalisme RTE'!$H$2,'[1]TABLEAU DE BORD'!$B$13:$B$2000,0),3))-(((INDEX('[1]TABLEAU DE BORD'!$B$13:$R$2000,MATCH('Formalisme RTE'!$H$2,'[1]TABLEAU DE BORD'!$B$13:$B$2000,0),2)+INDEX($CF$15:$CG$2005,MATCH($H$2,$CF$15:$CF$2005,0),2)+INDEX('[1]TABLEAU DE BORD'!$B$13:$R$2000,MATCH('Formalisme RTE'!$H$2,'[1]TABLEAU DE BORD'!$B$13:$B$2000,0),3))-(INDEX('[1]TABLEAU DE BORD'!$B$13:$R$2000,MATCH('Formalisme RTE'!$H$2,'[1]TABLEAU DE BORD'!$B$13:$B$2000,0),8)+INDEX($CI$15:$CJ$2005,MATCH($J$2,$CI$15:$CI$2005,0),2)+INDEX('[1]TABLEAU DE BORD'!$B$13:$R$2000,MATCH('Formalisme RTE'!$H$2,'[1]TABLEAU DE BORD'!$B$13:$B$2000,0),9)))*Q74/$M$18) -> 237.96 | CF74: ='[1]TABLEAU DE BORD'!B72 | CG74: ='[1]TABLEAU DE BORD'!E72-'[1]TABLEAU DE BORD'!C72 -> #VALUE! | CI74: ='[1]TABLEAU DE BORD'!H72 | CJ74: ='[1]TABLEAU DE BORD'!K72-'[1]TABLEAU DE BORD'!I72 -> #VALUE!
BQ75: =INDEX('[1]TABLEAU DE BORD'!$B$13:$R$2000,MATCH('Formalisme RTE'!$H$2,'[1]TABLEAU DE BORD'!$B$13:$B$2000,0),5)-(INDEX('[1]TABLEAU DE BORD'!$B$13:$R$2000,MATCH('Formalisme RTE'!$H$2,'[1]TABLEAU DE BORD'!$B$13:$B$2000,0),5)-INDEX('[1]TABLEAU DE BORD'!$B$13:$R$2000,MATCH('Formalisme RTE'!$H$2,'[1]TABLEAU DE BORD'!$B$13:$B$2000,0),11))*Q75/INDEX('[1]TABLEAU DE BORD'!$B$13:$R$2000,MATCH('Formalisme RTE'!$H$2,'[1]TABLEAU DE BORD'!$B$13:$B$2000,0),12) -> 2.7040063 | BR75: =BU75*CA75 -> 0 | BU75: =SQRT(1-(1/(SQRT((BY75*0.981)^2+(($B$30/10)*BW75*0.001)^2)/(BY75*0.981))^2)) -> 0.57588835 | BW75: =IF($BW$6="","",IF(ISERROR(INDEX([1]Base!$A$2:$C$207,MATCH($BW$6,[1]Base!$A$2:$A$207,0),2))=TRUE,"CABLE INCONNU",(INDEX([1]Base!$A$2:$C$207,MATCH($BW$6,[1]Base!$A$2:$A$207,0),3)))) -> 15.75 | BY75: =IF($BW$6="","",IF(ISERROR(INDEX([1]Base!$A$2:$C$207,MATCH($BW$6,[1]Base!$A$2:$A$207,0),2))=TRUE,"CABLE INCONNU",(INDEX([1]Base!$A$2:$C$207,MATCH($BW$6,[1]Base!$A$2:$A$207,0),2)))) -> 0.547 | CA75: =CD75-CC75 -> 0 | CC75: =$BB$28+$D$10*((EXP(($BB$26-Q75)/$D$10)+EXP(-($BB$26-Q75)/$D$10))/2-1) -> 237.96 | CD75: =(INDEX('[1]TABLEAU DE BORD'!$B$13:$R$2000,MATCH('Formalisme RTE'!$H$2,'[1]TABLEAU DE BORD'!$B$13:$B$2000,0),2)+INDEX($CF$15:$CG$2005,MATCH($H$2,$CF$15:$CF$2005,0),2)+INDEX('[1]TABLEAU DE BORD'!$B$13:$R$2000,MATCH('Formalisme RTE'!$H$2,'[1]TABLEAU DE BORD'!$B$13:$B$2000,0),3))-(((INDEX('[1]TABLEAU DE BORD'!$B$13:$R$2000,MATCH('Formalisme RTE'!$H$2,'[1]TABLEAU DE BORD'!$B$13:$B$2000,0),2)+INDEX($CF$15:$CG$2005,MATCH($H$2,$CF$15:$CF$2005,0),2)+INDEX('[1]TABLEAU DE BORD'!$B$13:$R$2000,MATCH('Formalisme RTE'!$H$2,'[1]TABLEAU DE BORD'!$B$13:$B$2000,0),3))-(INDEX('[1]TABLEAU DE BORD'!$B$13:$R$2000,MATCH('Formalisme RTE'!$H$2,'[1]TABLEAU DE BORD'!$B$13:$B$2000,0),8)+INDEX($CI$15:$CJ$2005,MATCH($J$2,$CI$15:$CI$2005,0),2)+INDEX('[1]TABLEAU DE BORD'!$B$13:$R$2000,MATCH('Formalisme RTE'!$H$2,'[1]TABLEAU DE BORD'!$B$13:$B$2000,0),9)))*Q75/$M$18) -> 237.96 | CF75: ='[1]TABLEAU DE BORD'!B73 | CG75: ='[1]TABLEAU DE BORD'!E73-'[1]TABLEAU DE BORD'!C73 -> #VALUE! | CI75: ='[1]TABLEAU DE BORD'!H73 | CJ75: ='[1]TABLEAU DE BORD'!K73-'[1]TABLEAU DE BORD'!I73 -> #VALUE!
BQ76: =INDEX('[1]TABLEAU DE BORD'!$B$13:$R$2000,MATCH('Formalisme RTE'!$H$2,'[1]TABLEAU DE BORD'!$B$13:$B$2000,0),5)-(INDEX('[1]TABLEAU DE BORD'!$B$13:$R$2000,MATCH('Formalisme RTE'!$H$2,'[1]TABLEAU DE BORD'!$B$13:$B$2000,0),5)-INDEX('[1]TABLEAU DE BORD'!$B$13:$R$2000,MATCH('Formalisme RTE'!$H$2,'[1]TABLEAU DE BORD'!$B$13:$B$2000,0),11))*Q76/INDEX('[1]TABLEAU DE BORD'!$B$13:$R$2000,MATCH('Formalisme RTE'!$H$2,'[1]TABLEAU DE BORD'!$B$13:$B$2000,0),12) -> 2.7040063 | BR76: =BU76*CA76 -> 0 | BU76: =SQRT(1-(1/(SQRT((BY76*0.981)^2+(($B$30/10)*BW76*0.001)^2)/(BY76*0.981))^2)) -> 0.57588835 | BW76: =IF($BW$6="","",IF(ISERROR(INDEX([1]Base!$A$2:$C$207,MATCH($BW$6,[1]Base!$A$2:$A$207,0),2))=TRUE,"CABLE INCONNU",(INDEX([1]Base!$A$2:$C$207,MATCH($BW$6,[1]Base!$A$2:$A$207,0),3)))) -> 15.75 | BY76: =IF($BW$6="","",IF(ISERROR(INDEX([1]Base!$A$2:$C$207,MATCH($BW$6,[1]Base!$A$2:$A$207,0),2))=TRUE,"CABLE INCONNU",(INDEX([1]Base!$A$2:$C$207,MATCH($BW$6,[1]Base!$A$2:$A$207,0),2)))) -> 0.547 | CA76: =CD76-CC76 -> 0 | CC76: =$BB$28+$D$10*((EXP(($BB$26-Q76)/$D$10)+EXP(-($BB$26-Q76)/$D$10))/2-1) -> 237.96 | CD76: =(INDEX('[1]TABLEAU DE BORD'!$B$13:$R$2000,MATCH('Formalisme RTE'!$H$2,'[1]TABLEAU DE BORD'!$B$13:$B$2000,0),2)+INDEX($CF$15:$CG$2005,MATCH($H$2,$CF$15:$CF$2005,0),2)+INDEX('[1]TABLEAU DE BORD'!$B$13:$R$2000,MATCH('Formalisme RTE'!$H$2,'[1]TABLEAU DE BORD'!$B$13:$B$2000,0),3))-(((INDEX('[1]TABLEAU DE BORD'!$B$13:$R$2000,MATCH('Formalisme RTE'!$H$2,'[1]TABLEAU DE BORD'!$B$13:$B$2000,0),2)+INDEX($CF$15:$CG$2005,MATCH($H$2,$CF$15:$CF$2005,0),2)+INDEX('[1]TABLEAU DE BORD'!$B$13:$R$2000,MATCH('Formalisme RTE'!$H$2,'[1]TABLEAU DE BORD'!$B$13:$B$2000,0),3))-(INDEX('[1]TABLEAU DE BORD'!$B$13:$R$2000,MATCH('Formalisme RTE'!$H$2,'[1]TABLEAU DE BORD'!$B$13:$B$2000,0),8)+INDEX($CI$15:$CJ$2005,MATCH($J$2,$CI$15:$CI$2005,0),2)+INDEX('[1]TABLEAU DE BORD'!$B$13:$R$2000,MATCH('Formalisme RTE'!$H$2,'[1]TABLEAU DE BORD'!$B$13:$B$2000,0),9)))*Q76/$M$18) -> 237.96 | CF76: ='[1]TABLEAU DE BORD'!B74 | CG76: ='[1]TABLEAU DE BORD'!E74-'[1]TABLEAU DE BORD'!C74 -> #VALUE! | CI76: ='[1]TABLEAU DE BORD'!H74 | CJ76: ='[1]TABLEAU DE BORD'!K74-'[1]TABLEAU DE BORD'!I74 -> #VALUE!
... BQ1730: =INDEX('[1]TABLEAU DE BORD'!$B$13:$R$2000,MATCH('Formalisme RTE'!$H$2,'[1]TABLEAU DE BORD'!$B$13:$B$2000,0),5)-(INDEX('[1]TABLEAU DE BORD'!$B$13:$R$2000,MATCH('Formalisme RTE'!$H$2,'[1]TABLEAU DE BORD'!$B$13:$B$2000,0),5)-INDEX('[1]TABLEAU DE BORD'!$B$13:$R$2000,MATCH('Formalisme RTE'!$H$2,'[1]TABLEAU DE BORD'!$B$13:$B$2000,0),11))*Q1730/INDEX('[1]TABLEAU DE BORD'!$B$13:$R$2000,MATCH('Formalisme RTE'!$H$2,'[1]TABLEAU DE BORD'!$B$13:$B$2000,0),12) -> 2.7040063 | BR1730: =BU1730*CA1730 -> 0 | BU1730: =SQRT(1-(1/(SQRT((BY1730*0.981)^2+(($B$30/10)*BW1730*0.001)^2)/(BY1730*0.981))^2)) -> 0.57588835 | BW1730: =IF($BW$6="","",IF(ISERROR(INDEX([1]Base!$A$2:$C$207,MATCH($BW$6,[1]Base!$A$2:$A$207,0),2))=TRUE,"CABLE INCONNU",(INDEX([1]Base!$A$2:$C$207,MATCH($BW$6,[1]Base!$A$2:$A$207,0),3)))) -> 15.75 | BY1730: =IF($BW$6="","",IF(ISERROR(INDEX([1]Base!$A$2:$C$207,MATCH($BW$6,[1]Base!$A$2:$A$207,0),2))=TRUE,"CABLE INCONNU",(INDEX([1]Base!$A$2:$C$207,MATCH($BW$6,[1]Base!$A$2:$A$207,0),2)))) -> 0.547 | CA1730: =CD1730-CC1730 -> 0 | CC1730: =$BB$28+$D$10*((EXP(($BB$26-Q1730)/$D$10)+EXP(-($BB$26-Q1730)/$D$10))/2-1) -> 237.96 | CD1730: =(INDEX('[1]TABLEAU DE BORD'!$B$13:$R$2000,MATCH('Formalisme RTE'!$H$2,'[1]TABLEAU DE BORD'!$B$13:$B$2000,0),2)+INDEX($CF$15:$CG$2005,MATCH($H$2,$CF$15:$CF$2005,0),2)+INDEX('[1]TABLEAU DE BORD'!$B$13:$R$2000,MATCH('Formalisme RTE'!$H$2,'[1]TABLEAU DE BORD'!$B$13:$B$2000,0),3))-(((INDEX('[1]TABLEAU DE BORD'!$B$13:$R$2000,MATCH('Formalisme RTE'!$H$2,'[1]TABLEAU DE BORD'!$B$13:$B$2000,0),2)+INDEX($CF$15:$CG$2005,MATCH($H$2,$CF$15:$CF$2005,0),2)+INDEX('[1]TABLEAU DE BORD'!$B$13:$R$2000,MATCH('Formalisme RTE'!$H$2,'[1]TABLEAU DE BORD'!$B$13:$B$2000,0),3))-(INDEX('[1]TABLEAU DE BORD'!$B$13:$R$2000,MATCH('Formalisme RTE'!$H$2,'[1]TABLEAU DE BORD'!$B$13:$B$2000,0),8)+INDEX($CI$15:$CJ$2005,MATCH($J$2,$CI$15:$CI$2005,0),2)+INDEX('[1]TABLEAU DE BORD'!$B$13:$R$2000,MATCH('Formalisme RTE'!$H$2,'[1]TABLEAU DE BORD'!$B$13:$B$2000,0),9)))*Q1730/$M$18) -> 237.96 | CF1730: ='[1]TABLEAU DE BORD'!B1728 -> 0 | CG1730: ='[1]TABLEAU DE BORD'!E1728-'[1]TABLEAU DE BORD'!C1728 -> 0 | CI1730: ='[1]TABLEAU DE BORD'!H1728 -> 0 | CJ1730: ='[1]TABLEAU DE BORD'!K1728-'[1]TABLEAU DE BORD'!I1728 -> 0
BQ1731: =INDEX('[1]TABLEAU DE BORD'!$B$13:$R$2000,MATCH('Formalisme RTE'!$H$2,'[1]TABLEAU DE BORD'!$B$13:$B$2000,0),5)-(INDEX('[1]TABLEAU DE BORD'!$B$13:$R$2000,MATCH('Formalisme RTE'!$H$2,'[1]TABLEAU DE BORD'!$B$13:$B$2000,0),5)-INDEX('[1]TABLEAU DE BORD'!$B$13:$R$2000,MATCH('Formalisme RTE'!$H$2,'[1]TABLEAU DE BORD'!$B$13:$B$2000,0),11))*Q1731/INDEX('[1]TABLEAU DE BORD'!$B$13:$R$2000,MATCH('Formalisme RTE'!$H$2,'[1]TABLEAU DE BORD'!$B$13:$B$2000,0),12) -> 2.7040063 | BR1731: =BU1731*CA1731 -> 137.03839 | BU1731: =SQRT(1-(1/(SQRT((BY1731*0.981)^2+(($B$30/10)*BW1731*0.001)^2)/(BY1731*0.981))^2)) -> 0.57588835 | BW1731: =IF($BW$6="","",IF(ISERROR(INDEX([1]Base!$A$2:$C$207,MATCH($BW$6,[1]Base!$A$2:$A$207,0),2))=TRUE,"CABLE INCONNU",(INDEX([1]Base!$A$2:$C$207,MATCH($BW$6,[1]Base!$A$2:$A$207,0),3)))) -> 15.75 | BY1731: =IF($BW$6="","",IF(ISERROR(INDEX([1]Base!$A$2:$C$207,MATCH($BW$6,[1]Base!$A$2:$A$207,0),2))=TRUE,"CABLE INCONNU",(INDEX([1]Base!$A$2:$C$207,MATCH($BW$6,[1]Base!$A$2:$A$207,0),2)))) -> 0.547 | CA1731: =CD1731-CC1731 -> 237.96 | CD1731: =(INDEX('[1]TABLEAU DE BORD'!$B$13:$R$2000,MATCH('Formalisme RTE'!$H$2,'[1]TABLEAU DE BORD'!$B$13:$B$2000,0),2)+INDEX($CF$15:$CG$2005,MATCH($H$2,$CF$15:$CF$2005,0),2)+INDEX('[1]TABLEAU DE BORD'!$B$13:$R$2000,MATCH('Formalisme RTE'!$H$2,'[1]TABLEAU DE BORD'!$B$13:$B$2000,0),3))-(((INDEX('[1]TABLEAU DE BORD'!$B$13:$R$2000,MATCH('Formalisme RTE'!$H$2,'[1]TABLEAU DE BORD'!$B$13:$B$2000,0),2)+INDEX($CF$15:$CG$2005,MATCH($H$2,$CF$15:$CF$2005,0),2)+INDEX('[1]TABLEAU DE BORD'!$B$13:$R$2000,MATCH('Formalisme RTE'!$H$2,'[1]TABLEAU DE BORD'!$B$13:$B$2000,0),3))-(INDEX('[1]TABLEAU DE BORD'!$B$13:$R$2000,MATCH('Formalisme RTE'!$H$2,'[1]TABLEAU DE BORD'!$B$13:$B$2000,0),8)+INDEX($CI$15:$CJ$2005,MATCH($J$2,$CI$15:$CI$2005,0),2)+INDEX('[1]TABLEAU DE BORD'!$B$13:$R$2000,MATCH('Formalisme RTE'!$H$2,'[1]TABLEAU DE BORD'!$B$13:$B$2000,0),9)))*Q1731/$M$18) -> 237.96 | CF1731: ='[1]TABLEAU DE BORD'!B1729 -> 0 | CG1731: ='[1]TABLEAU DE BORD'!E1729-'[1]TABLEAU DE BORD'!C1729 -> 0 | CI1731: ='[1]TABLEAU DE BORD'!H1729 -> 0 | CJ1731: ='[1]TABLEAU DE BORD'!K1729-'[1]TABLEAU DE BORD'!I1729 -> 0
BQ1732: =INDEX('[1]TABLEAU DE BORD'!$B$13:$R$2000,MATCH('Formalisme RTE'!$H$2,'[1]TABLEAU DE BORD'!$B$13:$B$2000,0),5)-(INDEX('[1]TABLEAU DE BORD'!$B$13:$R$2000,MATCH('Formalisme RTE'!$H$2,'[1]TABLEAU DE BORD'!$B$13:$B$2000,0),5)-INDEX('[1]TABLEAU DE BORD'!$B$13:$R$2000,MATCH('Formalisme RTE'!$H$2,'[1]TABLEAU DE BORD'!$B$13:$B$2000,0),11))*Q1732/INDEX('[1]TABLEAU DE BORD'!$B$13:$R$2000,MATCH('Formalisme RTE'!$H$2,'[1]TABLEAU DE BORD'!$B$13:$B$2000,0),12) -> 2.7040063 | BR1732: =BU1732*CA1732 -> 137.03839 | BU1732: =SQRT(1-(1/(SQRT((BY1732*0.981)^2+(($B$30/10)*BW1732*0.001)^2)/(BY1732*0.981))^2)) -> 0.57588835 | BW1732: =IF($BW$6="","",IF(ISERROR(INDEX([1]Base!$A$2:$C$207,MATCH($BW$6,[1]Base!$A$2:$A$207,0),2))=TRUE,"CABLE INCONNU",(INDEX([1]Base!$A$2:$C$207,MATCH($BW$6,[1]Base!$A$2:$A$207,0),3)))) -> 15.75 | BY1732: =IF($BW$6="","",IF(ISERROR(INDEX([1]Base!$A$2:$C$207,MATCH($BW$6,[1]Base!$A$2:$A$207,0),2))=TRUE,"CABLE INCONNU",(INDEX([1]Base!$A$2:$C$207,MATCH($BW$6,[1]Base!$A$2:$A$207,0),2)))) -> 0.547 | CA1732: =CD1732-CC1732 -> 237.96 | CD1732: =(INDEX('[1]TABLEAU DE BORD'!$B$13:$R$2000,MATCH('Formalisme RTE'!$H$2,'[1]TABLEAU DE BORD'!$B$13:$B$2000,0),2)+INDEX($CF$15:$CG$2005,MATCH($H$2,$CF$15:$CF$2005,0),2)+INDEX('[1]TABLEAU DE BORD'!$B$13:$R$2000,MATCH('Formalisme RTE'!$H$2,'[1]TABLEAU DE BORD'!$B$13:$B$2000,0),3))-(((INDEX('[1]TABLEAU DE BORD'!$B$13:$R$2000,MATCH('Formalisme RTE'!$H$2,'[1]TABLEAU DE BORD'!$B$13:$B$2000,0),2)+INDEX($CF$15:$CG$2005,MATCH($H$2,$CF$15:$CF$2005,0),2)+INDEX('[1]TABLEAU DE BORD'!$B$13:$R$2000,MATCH('Formalisme RTE'!$H$2,'[1]TABLEAU DE BORD'!$B$13:$B$2000,0),3))-(INDEX('[1]TABLEAU DE BORD'!$B$13:$R$2000,MATCH('Formalisme RTE'!$H$2,'[1]TABLEAU DE BORD'!$B$13:$B$2000,0),8)+INDEX($CI$15:$CJ$2005,MATCH($J$2,$CI$15:$CI$2005,0),2)+INDEX('[1]TABLEAU DE BORD'!$B$13:$R$2000,MATCH('Formalisme RTE'!$H$2,'[1]TABLEAU DE BORD'!$B$13:$B$2000,0),9)))*Q1732/$M$18) -> 237.96 | CF1732: ='[1]TABLEAU DE BORD'!B1730 -> 0 | CG1732: ='[1]TABLEAU DE BORD'!E1730-'[1]TABLEAU DE BORD'!C1730 -> 0 | CI1732: ='[1]TABLEAU DE BORD'!H1730 -> 0 | CJ1732: ='[1]TABLEAU DE BORD'!K1730-'[1]TABLEAU DE BORD'!I1730 -> 0
BQ1733: =INDEX('[1]TABLEAU DE BORD'!$B$13:$R$2000,MATCH('Formalisme RTE'!$H$2,'[1]TABLEAU DE BORD'!$B$13:$B$2000,0),5)-(INDEX('[1]TABLEAU DE BORD'!$B$13:$R$2000,MATCH('Formalisme RTE'!$H$2,'[1]TABLEAU DE BORD'!$B$13:$B$2000,0),5)-INDEX('[1]TABLEAU DE BORD'!$B$13:$R$2000,MATCH('Formalisme RTE'!$H$2,'[1]TABLEAU DE BORD'!$B$13:$B$2000,0),11))*Q1733/INDEX('[1]TABLEAU DE BORD'!$B$13:$R$2000,MATCH('Formalisme RTE'!$H$2,'[1]TABLEAU DE BORD'!$B$13:$B$2000,0),12) -> 2.7040063 | BR1733: =BU1733*CA1733 -> 137.03839 | BU1733: =SQRT(1-(1/(SQRT((BY1733*0.981)^2+(($B$30/10)*BW1733*0.001)^2)/(BY1733*0.981))^2)) -> 0.57588835 | BW1733: =IF($BW$6="","",IF(ISERROR(INDEX([1]Base!$A$2:$C$207,MATCH($BW$6,[1]Base!$A$2:$A$207,0),2))=TRUE,"CABLE INCONNU",(INDEX([1]Base!$A$2:$C$207,MATCH($BW$6,[1]Base!$A$2:$A$207,0),3)))) -> 15.75 | BY1733: =IF($BW$6="","",IF(ISERROR(INDEX([1]Base!$A$2:$C$207,MATCH($BW$6,[1]Base!$A$2:$A$207,0),2))=TRUE,"CABLE INCONNU",(INDEX([1]Base!$A$2:$C$207,MATCH($BW$6,[1]Base!$A$2:$A$207,0),2)))) -> 0.547 | CA1733: =CD1733-CC1733 -> 237.96 | CD1733: =(INDEX('[1]TABLEAU DE BORD'!$B$13:$R$2000,MATCH('Formalisme RTE'!$H$2,'[1]TABLEAU DE BORD'!$B$13:$B$2000,0),2)+INDEX($CF$15:$CG$2005,MATCH($H$2,$CF$15:$CF$2005,0),2)+INDEX('[1]TABLEAU DE BORD'!$B$13:$R$2000,MATCH('Formalisme RTE'!$H$2,'[1]TABLEAU DE BORD'!$B$13:$B$2000,0),3))-(((INDEX('[1]TABLEAU DE BORD'!$B$13:$R$2000,MATCH('Formalisme RTE'!$H$2,'[1]TABLEAU DE BORD'!$B$13:$B$2000,0),2)+INDEX($CF$15:$CG$2005,MATCH($H$2,$CF$15:$CF$2005,0),2)+INDEX('[1]TABLEAU DE BORD'!$B$13:$R$2000,MATCH('Formalisme RTE'!$H$2,'[1]TABLEAU DE BORD'!$B$13:$B$2000,0),3))-(INDEX('[1]TABLEAU DE BORD'!$B$13:$R$2000,MATCH('Formalisme RTE'!$H$2,'[1]TABLEAU DE BORD'!$B$13:$B$2000,0),8)+INDEX($CI$15:$CJ$2005,MATCH($J$2,$CI$15:$CI$2005,0),2)+INDEX('[1]TABLEAU DE BORD'!$B$13:$R$2000,MATCH('Formalisme RTE'!$H$2,'[1]TABLEAU DE BORD'!$B$13:$B$2000,0),9)))*Q1733/$M$18) -> 237.96 | CF1733: ='[1]TABLEAU DE BORD'!B1731 -> 0 | CG1733: ='[1]TABLEAU DE BORD'!E1731-'[1]TABLEAU DE BORD'!C1731 -> 0 | CI1733: ='[1]TABLEAU DE BORD'!H1731 -> 0 | CJ1733: ='[1]TABLEAU DE BORD'!K1731-'[1]TABLEAU DE BORD'!I1731 -> 0
BQ1734: =INDEX('[1]TABLEAU DE BORD'!$B$13:$R$2000,MATCH('Formalisme RTE'!$H$2,'[1]TABLEAU DE BORD'!$B$13:$B$2000,0),5)-(INDEX('[1]TABLEAU DE BORD'!$B$13:$R$2000,MATCH('Formalisme RTE'!$H$2,'[1]TABLEAU DE BORD'!$B$13:$B$2000,0),5)-INDEX('[1]TABLEAU DE BORD'!$B$13:$R$2000,MATCH('Formalisme RTE'!$H$2,'[1]TABLEAU DE BORD'!$B$13:$B$2000,0),11))*Q1734/INDEX('[1]TABLEAU DE BORD'!$B$13:$R$2000,MATCH('Formalisme RTE'!$H$2,'[1]TABLEAU DE BORD'!$B$13:$B$2000,0),12) -> 2.7040063 | BR1734: =BU1734*CA1734 -> 137.03839 | BU1734: =SQRT(1-(1/(SQRT((BY1734*0.981)^2+(($B$30/10)*BW1734*0.001)^2)/(BY1734*0.981))^2)) -> 0.57588835 | BW1734: =IF($BW$6="","",IF(ISERROR(INDEX([1]Base!$A$2:$C$207,MATCH($BW$6,[1]Base!$A$2:$A$207,0),2))=TRUE,"CABLE INCONNU",(INDEX([1]Base!$A$2:$C$207,MATCH($BW$6,[1]Base!$A$2:$A$207,0),3)))) -> 15.75 | BY1734: =IF($BW$6="","",IF(ISERROR(INDEX([1]Base!$A$2:$C$207,MATCH($BW$6,[1]Base!$A$2:$A$207,0),2))=TRUE,"CABLE INCONNU",(INDEX([1]Base!$A$2:$C$207,MATCH($BW$6,[1]Base!$A$2:$A$207,0),2)))) -> 0.547 | CA1734: =CD1734-CC1734 -> 237.96 | CD1734: =(INDEX('[1]TABLEAU DE BORD'!$B$13:$R$2000,MATCH('Formalisme RTE'!$H$2,'[1]TABLEAU DE BORD'!$B$13:$B$2000,0),2)+INDEX($CF$15:$CG$2005,MATCH($H$2,$CF$15:$CF$2005,0),2)+INDEX('[1]TABLEAU DE BORD'!$B$13:$R$2000,MATCH('Formalisme RTE'!$H$2,'[1]TABLEAU DE BORD'!$B$13:$B$2000,0),3))-(((INDEX('[1]TABLEAU DE BORD'!$B$13:$R$2000,MATCH('Formalisme RTE'!$H$2,'[1]TABLEAU DE BORD'!$B$13:$B$2000,0),2)+INDEX($CF$15:$CG$2005,MATCH($H$2,$CF$15:$CF$2005,0),2)+INDEX('[1]TABLEAU DE BORD'!$B$13:$R$2000,MATCH('Formalisme RTE'!$H$2,'[1]TABLEAU DE BORD'!$B$13:$B$2000,0),3))-(INDEX('[1]TABLEAU DE BORD'!$B$13:$R$2000,MATCH('Formalisme RTE'!$H$2,'[1]TABLEAU DE BORD'!$B$13:$B$2000,0),8)+INDEX($CI$15:$CJ$2005,MATCH($J$2,$CI$15:$CI$2005,0),2)+INDEX('[1]TABLEAU DE BORD'!$B$13:$R$2000,MATCH('Formalisme RTE'!$H$2,'[1]TABLEAU DE BORD'!$B$13:$B$2000,0),9)))*Q1734/$M$18) -> 237.96 | CF1734: ='[1]TABLEAU DE BORD'!B1732 -> 0 | CG1734: ='[1]TABLEAU DE BORD'!E1732-'[1]TABLEAU DE BORD'!C1732 -> 0 | CI1734: ='[1]TABLEAU DE BORD'!H1732 -> 0 | CJ1734: ='[1]TABLEAU DE BORD'!K1732-'[1]TABLEAU DE BORD'!I1732 -> 0
BQ1735: =INDEX('[1]TABLEAU DE BORD'!$B$13:$R$2000,MATCH('Formalisme RTE'!$H$2,'[1]TABLEAU DE BORD'!$B$13:$B$2000,0),5)-(INDEX('[1]TABLEAU DE BORD'!$B$13:$R$2000,MATCH('Formalisme RTE'!$H$2,'[1]TABLEAU DE BORD'!$B$13:$B$2000,0),5)-INDEX('[1]TABLEAU DE BORD'!$B$13:$R$2000,MATCH('Formalisme RTE'!$H$2,'[1]TABLEAU DE BORD'!$B$13:$B$2000,0),11))*Q1735/INDEX('[1]TABLEAU DE BORD'!$B$13:$R$2000,MATCH('Formalisme RTE'!$H$2,'[1]TABLEAU DE BORD'!$B$13:$B$2000,0),12) -> 2.7040063 | BR1735: =BU1735*CA1735 -> 137.03839 | BU1735: =SQRT(1-(1/(SQRT((BY1735*0.981)^2+(($B$30/10)*BW1735*0.001)^2)/(BY1735*0.981))^2)) -> 0.57588835 | BW1735: =IF($BW$6="","",IF(ISERROR(INDEX([1]Base!$A$2:$C$207,MATCH($BW$6,[1]Base!$A$2:$A$207,0),2))=TRUE,"CABLE INCONNU",(INDEX([1]Base!$A$2:$C$207,MATCH($BW$6,[1]Base!$A$2:$A$207,0),3)))) -> 15.75 | BY1735: =IF($BW$6="","",IF(ISERROR(INDEX([1]Base!$A$2:$C$207,MATCH($BW$6,[1]Base!$A$2:$A$207,0),2))=TRUE,"CABLE INCONNU",(INDEX([1]Base!$A$2:$C$207,MATCH($BW$6,[1]Base!$A$2:$A$207,0),2)))) -> 0.547 | CA1735: =CD1735-CC1735 -> 237.96 | CD1735: =(INDEX('[1]TABLEAU DE BORD'!$B$13:$R$2000,MATCH('Formalisme RTE'!$H$2,'[1]TABLEAU DE BORD'!$B$13:$B$2000,0),2)+INDEX($CF$15:$CG$2005,MATCH($H$2,$CF$15:$CF$2005,0),2)+INDEX('[1]TABLEAU DE BORD'!$B$13:$R$2000,MATCH('Formalisme RTE'!$H$2,'[1]TABLEAU DE BORD'!$B$13:$B$2000,0),3))-(((INDEX('[1]TABLEAU DE BORD'!$B$13:$R$2000,MATCH('Formalisme RTE'!$H$2,'[1]TABLEAU DE BORD'!$B$13:$B$2000,0),2)+INDEX($CF$15:$CG$2005,MATCH($H$2,$CF$15:$CF$2005,0),2)+INDEX('[1]TABLEAU DE BORD'!$B$13:$R$2000,MATCH('Formalisme RTE'!$H$2,'[1]TABLEAU DE BORD'!$B$13:$B$2000,0),3))-(INDEX('[1]TABLEAU DE BORD'!$B$13:$R$2000,MATCH('Formalisme RTE'!$H$2,'[1]TABLEAU DE BORD'!$B$13:$B$2000,0),8)+INDEX($CI$15:$CJ$2005,MATCH($J$2,$CI$15:$CI$2005,0),2)+INDEX('[1]TABLEAU DE BORD'!$B$13:$R$2000,MATCH('Formalisme RTE'!$H$2,'[1]TABLEAU DE BORD'!$B$13:$B$2000,0),9)))*Q1735/$M$18) -> 237.96 | CF1735: ='[1]TABLEAU DE BORD'!B1733 -> 0 | CG1735: ='[1]TABLEAU DE BORD'!E1733-'[1]TABLEAU DE BORD'!C1733 -> 0 | CI1735: ='[1]TABLEAU DE BORD'!H1733 -> 0 | CJ1735: ='[1]TABLEAU DE BORD'!K1733-'[1]TABLEAU DE BORD'!I1733 -> 0
BQ1736: =INDEX('[1]TABLEAU DE BORD'!$B$13:$R$2000,MATCH('Formalisme RTE'!$H$2,'[1]TABLEAU DE BORD'!$B$13:$B$2000,0),5)-(INDEX('[1]TABLEAU DE BORD'!$B$13:$R$2000,MATCH('Formalisme RTE'!$H$2,'[1]TABLEAU DE BORD'!$B$13:$B$2000,0),5)-INDEX('[1]TABLEAU DE BORD'!$B$13:$R$2000,MATCH('Formalisme RTE'!$H$2,'[1]TABLEAU DE BORD'!$B$13:$B$2000,0),11))*Q1736/INDEX('[1]TABLEAU DE BORD'!$B$13:$R$2000,MATCH('Formalisme RTE'!$H$2,'[1]TABLEAU DE BORD'!$B$13:$B$2000,0),12) -> 2.7040063 | BR1736: =BU1736*CA1736 -> 137.03839 | BU1736: =SQRT(1-(1/(SQRT((BY1736*0.981)^2+(($B$30/10)*BW1736*0.001)^2)/(BY1736*0.981))^2)) -> 0.57588835 | BW1736: =IF($BW$6="","",IF(ISERROR(INDEX([1]Base!$A$2:$C$207,MATCH($BW$6,[1]Base!$A$2:$A$207,0),2))=TRUE,"CABLE INCONNU",(INDEX([1]Base!$A$2:$C$207,MATCH($BW$6,[1]Base!$A$2:$A$207,0),3)))) -> 15.75 | BY1736: =IF($BW$6="","",IF(ISERROR(INDEX([1]Base!$A$2:$C$207,MATCH($BW$6,[1]Base!$A$2:$A$207,0),2))=TRUE,"CABLE INCONNU",(INDEX([1]Base!$A$2:$C$207,MATCH($BW$6,[1]Base!$A$2:$A$207,0),2)))) -> 0.547 | CA1736: =CD1736-CC1736 -> 237.96 | CD1736: =(INDEX('[1]TABLEAU DE BORD'!$B$13:$R$2000,MATCH('Formalisme RTE'!$H$2,'[1]TABLEAU DE BORD'!$B$13:$B$2000,0),2)+INDEX($CF$15:$CG$2005,MATCH($H$2,$CF$15:$CF$2005,0),2)+INDEX('[1]TABLEAU DE BORD'!$B$13:$R$2000,MATCH('Formalisme RTE'!$H$2,'[1]TABLEAU DE BORD'!$B$13:$B$2000,0),3))-(((INDEX('[1]TABLEAU DE BORD'!$B$13:$R$2000,MATCH('Formalisme RTE'!$H$2,'[1]TABLEAU DE BORD'!$B$13:$B$2000,0),2)+INDEX($CF$15:$CG$2005,MATCH($H$2,$CF$15:$CF$2005,0),2)+INDEX('[1]TABLEAU DE BORD'!$B$13:$R$2000,MATCH('Formalisme RTE'!$H$2,'[1]TABLEAU DE BORD'!$B$13:$B$2000,0),3))-(INDEX('[1]TABLEAU DE BORD'!$B$13:$R$2000,MATCH('Formalisme RTE'!$H$2,'[1]TABLEAU DE BORD'!$B$13:$B$2000,0),8)+INDEX($CI$15:$CJ$2005,MATCH($J$2,$CI$15:$CI$2005,0),2)+INDEX('[1]TABLEAU DE BORD'!$B$13:$R$2000,MATCH('Formalisme RTE'!$H$2,'[1]TABLEAU DE BORD'!$B$13:$B$2000,0),9)))*Q1736/$M$18) -> 237.96 | CF1736: ='[1]TABLEAU DE BORD'!B1734 -> 0 | CG1736: ='[1]TABLEAU DE BORD'!E1734-'[1]TABLEAU DE BORD'!C1734 -> 0 | CI1736: ='[1]TABLEAU DE BORD'!H1734 -> 0 | CJ1736: ='[1]TABLEAU DE BORD'!K1734-'[1]TABLEAU DE BORD'!I1734 -> 0
BQ1737: =INDEX('[1]TABLEAU DE BORD'!$B$13:$R$2000,MATCH('Formalisme RTE'!$H$2,'[1]TABLEAU DE BORD'!$B$13:$B$2000,0),5)-(INDEX('[1]TABLEAU DE BORD'!$B$13:$R$2000,MATCH('Formalisme RTE'!$H$2,'[1]TABLEAU DE BORD'!$B$13:$B$2000,0),5)-INDEX('[1]TABLEAU DE BORD'!$B$13:$R$2000,MATCH('Formalisme RTE'!$H$2,'[1]TABLEAU DE BORD'!$B$13:$B$2000,0),11))*Q1737/INDEX('[1]TABLEAU DE BORD'!$B$13:$R$2000,MATCH('Formalisme RTE'!$H$2,'[1]TABLEAU DE BORD'!$B$13:$B$2000,0),12) -> 2.7040063 | BR1737: =BU1737*CA1737 -> 137.03839 | BU1737: =SQRT(1-(1/(SQRT((BY1737*0.981)^2+(($B$30/10)*BW1737*0.001)^2)/(BY1737*0.981))^2)) -> 0.57588835 | BW1737: =IF($BW$6="","",IF(ISERROR(INDEX([1]Base!$A$2:$C$207,MATCH($BW$6,[1]Base!$A$2:$A$207,0),2))=TRUE,"CABLE INCONNU",(INDEX([1]Base!$A$2:$C$207,MATCH($BW$6,[1]Base!$A$2:$A$207,0),3)))) -> 15.75 | BY1737: =IF($BW$6="","",IF(ISERROR(INDEX([1]Base!$A$2:$C$207,MATCH($BW$6,[1]Base!$A$2:$A$207,0),2))=TRUE,"CABLE INCONNU",(INDEX([1]Base!$A$2:$C$207,MATCH($BW$6,[1]Base!$A$2:$A$207,0),2)))) -> 0.547 | CA1737: =CD1737-CC1737 -> 237.96 | CD1737: =(INDEX('[1]TABLEAU DE BORD'!$B$13:$R$2000,MATCH('Formalisme RTE'!$H$2,'[1]TABLEAU DE BORD'!$B$13:$B$2000,0),2)+INDEX($CF$15:$CG$2005,MATCH($H$2,$CF$15:$CF$2005,0),2)+INDEX('[1]TABLEAU DE BORD'!$B$13:$R$2000,MATCH('Formalisme RTE'!$H$2,'[1]TABLEAU DE BORD'!$B$13:$B$2000,0),3))-(((INDEX('[1]TABLEAU DE BORD'!$B$13:$R$2000,MATCH('Formalisme RTE'!$H$2,'[1]TABLEAU DE BORD'!$B$13:$B$2000,0),2)+INDEX($CF$15:$CG$2005,MATCH($H$2,$CF$15:$CF$2005,0),2)+INDEX('[1]TABLEAU DE BORD'!$B$13:$R$2000,MATCH('Formalisme RTE'!$H$2,'[1]TABLEAU DE BORD'!$B$13:$B$2000,0),3))-(INDEX('[1]TABLEAU DE BORD'!$B$13:$R$2000,MATCH('Formalisme RTE'!$H$2,'[1]TABLEAU DE BORD'!$B$13:$B$2000,0),8)+INDEX($CI$15:$CJ$2005,MATCH($J$2,$CI$15:$CI$2005,0),2)+INDEX('[1]TABLEAU DE BORD'!$B$13:$R$2000,MATCH('Formalisme RTE'!$H$2,'[1]TABLEAU DE BORD'!$B$13:$B$2000,0),9)))*Q1737/$M$18) -> 237.96 | CF1737: ='[1]TABLEAU DE BORD'!B1735 -> 0 | CG1737: ='[1]TABLEAU DE BORD'!E1735-'[1]TABLEAU DE BORD'!C1735 -> 0 | CI1737: ='[1]TABLEAU DE BORD'!H1735 -> 0 | CJ1737: ='[1]TABLEAU DE BORD'!K1735-'[1]TABLEAU DE BORD'!I1735 -> 0
BQ1738: =INDEX('[1]TABLEAU DE BORD'!$B$13:$R$2000,MATCH('Formalisme RTE'!$H$2,'[1]TABLEAU DE BORD'!$B$13:$B$2000,0),5)-(INDEX('[1]TABLEAU DE BORD'!$B$13:$R$2000,MATCH('Formalisme RTE'!$H$2,'[1]TABLEAU DE BORD'!$B$13:$B$2000,0),5)-INDEX('[1]TABLEAU DE BORD'!$B$13:$R$2000,MATCH('Formalisme RTE'!$H$2,'[1]TABLEAU DE BORD'!$B$13:$B$2000,0),11))*Q1738/INDEX('[1]TABLEAU DE BORD'!$B$13:$R$2000,MATCH('Formalisme RTE'!$H$2,'[1]TABLEAU DE BORD'!$B$13:$B$2000,0),12) -> 2.7040063 | BR1738: =BU1738*CA1738 -> 137.03839 | BU1738: =SQRT(1-(1/(SQRT((BY1738*0.981)^2+(($B$30/10)*BW1738*0.001)^2)/(BY1738*0.981))^2)) -> 0.57588835 | BW1738: =IF($BW$6="","",IF(ISERROR(INDEX([1]Base!$A$2:$C$207,MATCH($BW$6,[1]Base!$A$2:$A$207,0),2))=TRUE,"CABLE INCONNU",(INDEX([1]Base!$A$2:$C$207,MATCH($BW$6,[1]Base!$A$2:$A$207,0),3)))) -> 15.75 | BY1738: =IF($BW$6="","",IF(ISERROR(INDEX([1]Base!$A$2:$C$207,MATCH($BW$6,[1]Base!$A$2:$A$207,0),2))=TRUE,"CABLE INCONNU",(INDEX([1]Base!$A$2:$C$207,MATCH($BW$6,[1]Base!$A$2:$A$207,0),2)))) -> 0.547 | CA1738: =CD1738-CC1738 -> 237.96 | CD1738: =(INDEX('[1]TABLEAU DE BORD'!$B$13:$R$2000,MATCH('Formalisme RTE'!$H$2,'[1]TABLEAU DE BORD'!$B$13:$B$2000,0),2)+INDEX($CF$15:$CG$2005,MATCH($H$2,$CF$15:$CF$2005,0),2)+INDEX('[1]TABLEAU DE BORD'!$B$13:$R$2000,MATCH('Formalisme RTE'!$H$2,'[1]TABLEAU DE BORD'!$B$13:$B$2000,0),3))-(((INDEX('[1]TABLEAU DE BORD'!$B$13:$R$2000,MATCH('Formalisme RTE'!$H$2,'[1]TABLEAU DE BORD'!$B$13:$B$2000,0),2)+INDEX($CF$15:$CG$2005,MATCH($H$2,$CF$15:$CF$2005,0),2)+INDEX('[1]TABLEAU DE BORD'!$B$13:$R$2000,MATCH('Formalisme RTE'!$H$2,'[1]TABLEAU DE BORD'!$B$13:$B$2000,0),3))-(INDEX('[1]TABLEAU DE BORD'!$B$13:$R$2000,MATCH('Formalisme RTE'!$H$2,'[1]TABLEAU DE BORD'!$B$13:$B$2000,0),8)+INDEX($CI$15:$CJ$2005,MATCH($J$2,$CI$15:$CI$2005,0),2)+INDEX('[1]TABLEAU DE BORD'!$B$13:$R$2000,MATCH('Formalisme RTE'!$H$2,'[1]TABLEAU DE BORD'!$B$13:$B$2000,0),9)))*Q1738/$M$18) -> 237.96 | CF1738: ='[1]TABLEAU DE BORD'!B1736 -> 0 | CG1738: ='[1]TABLEAU DE BORD'!E1736-'[1]TABLEAU DE BORD'!C1736 -> 0 | CI1738: ='[1]TABLEAU DE BORD'!H1736 -> 0 | CJ1738: ='[1]TABLEAU DE BORD'!K1736-'[1]TABLEAU DE BORD'!I1736 -> 0
BQ1739: =INDEX('[1]TABLEAU DE BORD'!$B$13:$R$2000,MATCH('Formalisme RTE'!$H$2,'[1]TABLEAU DE BORD'!$B$13:$B$2000,0),5)-(INDEX('[1]TABLEAU DE BORD'!$B$13:$R$2000,MATCH('Formalisme RTE'!$H$2,'[1]TABLEAU DE BORD'!$B$13:$B$2000,0),5)-INDEX('[1]TABLEAU DE BORD'!$B$13:$R$2000,MATCH('Formalisme RTE'!$H$2,'[1]TABLEAU DE BORD'!$B$13:$B$2000,0),11))*Q1739/INDEX('[1]TABLEAU DE BORD'!$B$13:$R$2000,MATCH('Formalisme RTE'!$H$2,'[1]TABLEAU DE BORD'!$B$13:$B$2000,0),12) -> 2.7040063 | BR1739: =BU1739*CA1739 -> 137.03839 | BU1739: =SQRT(1-(1/(SQRT((BY1739*0.981)^2+(($B$30/10)*BW1739*0.001)^2)/(BY1739*0.981))^2)) -> 0.57588835 | BW1739: =IF($BW$6="","",IF(ISERROR(INDEX([1]Base!$A$2:$C$207,MATCH($BW$6,[1]Base!$A$2:$A$207,0),2))=TRUE,"CABLE INCONNU",(INDEX([1]Base!$A$2:$C$207,MATCH($BW$6,[1]Base!$A$2:$A$207,0),3)))) -> 15.75 | BY1739: =IF($BW$6="","",IF(ISERROR(INDEX([1]Base!$A$2:$C$207,MATCH($BW$6,[1]Base!$A$2:$A$207,0),2))=TRUE,"CABLE INCONNU",(INDEX([1]Base!$A$2:$C$207,MATCH($BW$6,[1]Base!$A$2:$A$207,0),2)))) -> 0.547 | CA1739: =CD1739-CC1739 -> 237.96 | CD1739: =(INDEX('[1]TABLEAU DE BORD'!$B$13:$R$2000,MATCH('Formalisme RTE'!$H$2,'[1]TABLEAU DE BORD'!$B$13:$B$2000,0),2)+INDEX($CF$15:$CG$2005,MATCH($H$2,$CF$15:$CF$2005,0),2)+INDEX('[1]TABLEAU DE BORD'!$B$13:$R$2000,MATCH('Formalisme RTE'!$H$2,'[1]TABLEAU DE BORD'!$B$13:$B$2000,0),3))-(((INDEX('[1]TABLEAU DE BORD'!$B$13:$R$2000,MATCH('Formalisme RTE'!$H$2,'[1]TABLEAU DE BORD'!$B$13:$B$2000,0),2)+INDEX($CF$15:$CG$2005,MATCH($H$2,$CF$15:$CF$2005,0),2)+INDEX('[1]TABLEAU DE BORD'!$B$13:$R$2000,MATCH('Formalisme RTE'!$H$2,'[1]TABLEAU DE BORD'!$B$13:$B$2000,0),3))-(INDEX('[1]TABLEAU DE BORD'!$B$13:$R$2000,MATCH('Formalisme RTE'!$H$2,'[1]TABLEAU DE BORD'!$B$13:$B$2000,0),8)+INDEX($CI$15:$CJ$2005,MATCH($J$2,$CI$15:$CI$2005,0),2)+INDEX('[1]TABLEAU DE BORD'!$B$13:$R$2000,MATCH('Formalisme RTE'!$H$2,'[1]TABLEAU DE BORD'!$B$13:$B$2000,0),9)))*Q1739/$M$18) -> 237.96 | CF1739: ='[1]TABLEAU DE BORD'!B1737 -> 0 | CG1739: ='[1]TABLEAU DE BORD'!E1737-'[1]TABLEAU DE BORD'!C1737 -> 0 | CI1739: ='[1]TABLEAU DE BORD'!H1737 -> 0 | CJ1739: ='[1]TABLEAU DE BORD'!K1737-'[1]TABLEAU DE BORD'!I1737 -> 0
BQ1740: =INDEX('[1]TABLEAU DE BORD'!$B$13:$R$2000,MATCH('Formalisme RTE'!$H$2,'[1]TABLEAU DE BORD'!$B$13:$B$2000,0),5)-(INDEX('[1]TABLEAU DE BORD'!$B$13:$R$2000,MATCH('Formalisme RTE'!$H$2,'[1]TABLEAU DE BORD'!$B$13:$B$2000,0),5)-INDEX('[1]TABLEAU DE BORD'!$B$13:$R$2000,MATCH('Formalisme RTE'!$H$2,'[1]TABLEAU DE BORD'!$B$13:$B$2000,0),11))*Q1740/INDEX('[1]TABLEAU DE BORD'!$B$13:$R$2000,MATCH('Formalisme RTE'!$H$2,'[1]TABLEAU DE BORD'!$B$13:$B$2000,0),12) -> 2.7040063 | BR1740: =BU1740*CA1740 -> 137.03839 | BU1740: =SQRT(1-(1/(SQRT((BY1740*0.981)^2+(($B$30/10)*BW1740*0.001)^2)/(BY1740*0.981))^2)) -> 0.57588835 | BW1740: =IF($BW$6="","",IF(ISERROR(INDEX([1]Base!$A$2:$C$207,MATCH($BW$6,[1]Base!$A$2:$A$207,0),2))=TRUE,"CABLE INCONNU",(INDEX([1]Base!$A$2:$C$207,MATCH($BW$6,[1]Base!$A$2:$A$207,0),3)))) -> 15.75 | BY1740: =IF($BW$6="","",IF(ISERROR(INDEX([1]Base!$A$2:$C$207,MATCH($BW$6,[1]Base!$A$2:$A$207,0),2))=TRUE,"CABLE INCONNU",(INDEX([1]Base!$A$2:$C$207,MATCH($BW$6,[1]Base!$A$2:$A$207,0),2)))) -> 0.547 | CA1740: =CD1740-CC1740 -> 237.96 | CD1740: =(INDEX('[1]TABLEAU DE BORD'!$B$13:$R$2000,MATCH('Formalisme RTE'!$H$2,'[1]TABLEAU DE BORD'!$B$13:$B$2000,0),2)+INDEX($CF$15:$CG$2005,MATCH($H$2,$CF$15:$CF$2005,0),2)+INDEX('[1]TABLEAU DE BORD'!$B$13:$R$2000,MATCH('Formalisme RTE'!$H$2,'[1]TABLEAU DE BORD'!$B$13:$B$2000,0),3))-(((INDEX('[1]TABLEAU DE BORD'!$B$13:$R$2000,MATCH('Formalisme RTE'!$H$2,'[1]TABLEAU DE BORD'!$B$13:$B$2000,0),2)+INDEX($CF$15:$CG$2005,MATCH($H$2,$CF$15:$CF$2005,0),2)+INDEX('[1]TABLEAU DE BORD'!$B$13:$R$2000,MATCH('Formalisme RTE'!$H$2,'[1]TABLEAU DE BORD'!$B$13:$B$2000,0),3))-(INDEX('[1]TABLEAU DE BORD'!$B$13:$R$2000,MATCH('Formalisme RTE'!$H$2,'[1]TABLEAU DE BORD'!$B$13:$B$2000,0),8)+INDEX($CI$15:$CJ$2005,MATCH($J$2,$CI$15:$CI$2005,0),2)+INDEX('[1]TABLEAU DE BORD'!$B$13:$R$2000,MATCH('Formalisme RTE'!$H$2,'[1]TABLEAU DE BORD'!$B$13:$B$2000,0),9)))*Q1740/$M$18) -> 237.96 | CF1740: ='[1]TABLEAU DE BORD'!B1738 -> 0 | CG1740: ='[1]TABLEAU DE BORD'!E1738-'[1]TABLEAU DE BORD'!C1738 -> 0 | CI1740: ='[1]TABLEAU DE BORD'!H1738 -> 0 | CJ1740: ='[1]TABLEAU DE BORD'!K1738-'[1]TABLEAU DE BORD'!I1738 -> 0
BQ1741: =INDEX('[1]TABLEAU DE BORD'!$B$13:$R$2000,MATCH('Formalisme RTE'!$H$2,'[1]TABLEAU DE BORD'!$B$13:$B$2000,0),5)-(INDEX('[1]TABLEAU DE BORD'!$B$13:$R$2000,MATCH('Formalisme RTE'!$H$2,'[1]TABLEAU DE BORD'!$B$13:$B$2000,0),5)-INDEX('[1]TABLEAU DE BORD'!$B$13:$R$2000,MATCH('Formalisme RTE'!$H$2,'[1]TABLEAU DE BORD'!$B$13:$B$2000,0),11))*Q1741/INDEX('[1]TABLEAU DE BORD'!$B$13:$R$2000,MATCH('Formalisme RTE'!$H$2,'[1]TABLEAU DE BORD'!$B$13:$B$2000,0),12) -> 2.7040063 | BR1741: =BU1741*CA1741 -> 137.03839 | BU1741: =SQRT(1-(1/(SQRT((BY1741*0.981)^2+(($B$30/10)*BW1741*0.001)^2)/(BY1741*0.981))^2)) -> 0.57588835 | BW1741: =IF($BW$6="","",IF(ISERROR(INDEX([1]Base!$A$2:$C$207,MATCH($BW$6,[1]Base!$A$2:$A$207,0),2))=TRUE,"CABLE INCONNU",(INDEX([1]Base!$A$2:$C$207,MATCH($BW$6,[1]Base!$A$2:$A$207,0),3)))) -> 15.75 | BY1741: =IF($BW$6="","",IF(ISERROR(INDEX([1]Base!$A$2:$C$207,MATCH($BW$6,[1]Base!$A$2:$A$207,0),2))=TRUE,"CABLE INCONNU",(INDEX([1]Base!$A$2:$C$207,MATCH($BW$6,[1]Base!$A$2:$A$207,0),2)))) -> 0.547 | CA1741: =CD1741-CC1741 -> 237.96 | CD1741: =(INDEX('[1]TABLEAU DE BORD'!$B$13:$R$2000,MATCH('Formalisme RTE'!$H$2,'[1]TABLEAU DE BORD'!$B$13:$B$2000,0),2)+INDEX($CF$15:$CG$2005,MATCH($H$2,$CF$15:$CF$2005,0),2)+INDEX('[1]TABLEAU DE BORD'!$B$13:$R$2000,MATCH('Formalisme RTE'!$H$2,'[1]TABLEAU DE BORD'!$B$13:$B$2000,0),3))-(((INDEX('[1]TABLEAU DE BORD'!$B$13:$R$2000,MATCH('Formalisme RTE'!$H$2,'[1]TABLEAU DE BORD'!$B$13:$B$2000,0),2)+INDEX($CF$15:$CG$2005,MATCH($H$2,$CF$15:$CF$2005,0),2)+INDEX('[1]TABLEAU DE BORD'!$B$13:$R$2000,MATCH('Formalisme RTE'!$H$2,'[1]TABLEAU DE BORD'!$B$13:$B$2000,0),3))-(INDEX('[1]TABLEAU DE BORD'!$B$13:$R$2000,MATCH('Formalisme RTE'!$H$2,'[1]TABLEAU DE BORD'!$B$13:$B$2000,0),8)+INDEX($CI$15:$CJ$2005,MATCH($J$2,$CI$15:$CI$2005,0),2)+INDEX('[1]TABLEAU DE BORD'!$B$13:$R$2000,MATCH('Formalisme RTE'!$H$2,'[1]TABLEAU DE BORD'!$B$13:$B$2000,0),9)))*Q1741/$M$18) -> 237.96 | CF1741: ='[1]TABLEAU DE BORD'!B1739 -> 0 | CG1741: ='[1]TABLEAU DE BORD'!E1739-'[1]TABLEAU DE BORD'!C1739 -> 0 | CI1741: ='[1]TABLEAU DE BORD'!H1739 -> 0 | CJ1741: ='[1]TABLEAU DE BORD'!K1739-'[1]TABLEAU DE BORD'!I1739 -> 0
BQ1742: =INDEX('[1]TABLEAU DE BORD'!$B$13:$R$2000,MATCH('Formalisme RTE'!$H$2,'[1]TABLEAU DE BORD'!$B$13:$B$2000,0),5)-(INDEX('[1]TABLEAU DE BORD'!$B$13:$R$2000,MATCH('Formalisme RTE'!$H$2,'[1]TABLEAU DE BORD'!$B$13:$B$2000,0),5)-INDEX('[1]TABLEAU DE BORD'!$B$13:$R$2000,MATCH('Formalisme RTE'!$H$2,'[1]TABLEAU DE BORD'!$B$13:$B$2000,0),11))*Q1742/INDEX('[1]TABLEAU DE BORD'!$B$13:$R$2000,MATCH('Formalisme RTE'!$H$2,'[1]TABLEAU DE BORD'!$B$13:$B$2000,0),12) -> 2.7040063 | BR1742: =BU1742*CA1742 -> 137.03839 | BU1742: =SQRT(1-(1/(SQRT((BY1742*0.981)^2+(($B$30/10)*BW1742*0.001)^2)/(BY1742*0.981))^2)) -> 0.57588835 | BW1742: =IF($BW$6="","",IF(ISERROR(INDEX([1]Base!$A$2:$C$207,MATCH($BW$6,[1]Base!$A$2:$A$207,0),2))=TRUE,"CABLE INCONNU",(INDEX([1]Base!$A$2:$C$207,MATCH($BW$6,[1]Base!$A$2:$A$207,0),3)))) -> 15.75 | BY1742: =IF($BW$6="","",IF(ISERROR(INDEX([1]Base!$A$2:$C$207,MATCH($BW$6,[1]Base!$A$2:$A$207,0),2))=TRUE,"CABLE INCONNU",(INDEX([1]Base!$A$2:$C$207,MATCH($BW$6,[1]Base!$A$2:$A$207,0),2)))) -> 0.547 | CA1742: =CD1742-CC1742 -> 237.96 | CD1742: =(INDEX('[1]TABLEAU DE BORD'!$B$13:$R$2000,MATCH('Formalisme RTE'!$H$2,'[1]TABLEAU DE BORD'!$B$13:$B$2000,0),2)+INDEX($CF$15:$CG$2005,MATCH($H$2,$CF$15:$CF$2005,0),2)+INDEX('[1]TABLEAU DE BORD'!$B$13:$R$2000,MATCH('Formalisme RTE'!$H$2,'[1]TABLEAU DE BORD'!$B$13:$B$2000,0),3))-(((INDEX('[1]TABLEAU DE BORD'!$B$13:$R$2000,MATCH('Formalisme RTE'!$H$2,'[1]TABLEAU DE BORD'!$B$13:$B$2000,0),2)+INDEX($CF$15:$CG$2005,MATCH($H$2,$CF$15:$CF$2005,0),2)+INDEX('[1]TABLEAU DE BORD'!$B$13:$R$2000,MATCH('Formalisme RTE'!$H$2,'[1]TABLEAU DE BORD'!$B$13:$B$2000,0),3))-(INDEX('[1]TABLEAU DE BORD'!$B$13:$R$2000,MATCH('Formalisme RTE'!$H$2,'[1]TABLEAU DE BORD'!$B$13:$B$2000,0),8)+INDEX($CI$15:$CJ$2005,MATCH($J$2,$CI$15:$CI$2005,0),2)+INDEX('[1]TABLEAU DE BORD'!$B$13:$R$2000,MATCH('Formalisme RTE'!$H$2,'[1]TABLEAU DE BORD'!$B$13:$B$2000,0),9)))*Q1742/$M$18) -> 237.96 | CF1742: ='[1]TABLEAU DE BORD'!B1740 -> 0 | CG1742: ='[1]TABLEAU DE BORD'!E1740-'[1]TABLEAU DE BORD'!C1740 -> 0 | CI1742: ='[1]TABLEAU DE BORD'!H1740 -> 0 | CJ1742: ='[1]TABLEAU DE BORD'!K1740-'[1]TABLEAU DE BORD'!I1740 -> 0
... BQ1930: =INDEX('[1]TABLEAU DE BORD'!$B$13:$R$2000,MATCH('Formalisme RTE'!$H$2,'[1]TABLEAU DE BORD'!$B$13:$B$2000,0),5)-(INDEX('[1]TABLEAU DE BORD'!$B$13:$R$2000,MATCH('Formalisme RTE'!$H$2,'[1]TABLEAU DE BORD'!$B$13:$B$2000,0),5)-INDEX('[1]TABLEAU DE BORD'!$B$13:$R$2000,MATCH('Formalisme RTE'!$H$2,'[1]TABLEAU DE BORD'!$B$13:$B$2000,0),11))*Q1930/INDEX('[1]TABLEAU DE BORD'!$B$13:$R$2000,MATCH('Formalisme RTE'!$H$2,'[1]TABLEAU DE BORD'!$B$13:$B$2000,0),12) -> 2.7040063 | BR1930: =BU1930*CA1930 -> 137.03839 | BU1930: =SQRT(1-(1/(SQRT((BY1930*0.981)^2+(($B$30/10)*BW1930*0.001)^2)/(BY1930*0.981))^2)) -> 0.57588835 | BW1930: =IF($BW$6="","",IF(ISERROR(INDEX([1]Base!$A$2:$C$207,MATCH($BW$6,[1]Base!$A$2:$A$207,0),2))=TRUE,"CABLE INCONNU",(INDEX([1]Base!$A$2:$C$207,MATCH($BW$6,[1]Base!$A$2:$A$207,0),3)))) -> 15.75 | BY1930: =IF($BW$6="","",IF(ISERROR(INDEX([1]Base!$A$2:$C$207,MATCH($BW$6,[1]Base!$A$2:$A$207,0),2))=TRUE,"CABLE INCONNU",(INDEX([1]Base!$A$2:$C$207,MATCH($BW$6,[1]Base!$A$2:$A$207,0),2)))) -> 0.547 | CA1930: =CD1930-CC1930 -> 237.96 | CD1930: =(INDEX('[1]TABLEAU DE BORD'!$B$13:$R$2000,MATCH('Formalisme RTE'!$H$2,'[1]TABLEAU DE BORD'!$B$13:$B$2000,0),2)+INDEX($CF$15:$CG$2005,MATCH($H$2,$CF$15:$CF$2005,0),2)+INDEX('[1]TABLEAU DE BORD'!$B$13:$R$2000,MATCH('Formalisme RTE'!$H$2,'[1]TABLEAU DE BORD'!$B$13:$B$2000,0),3))-(((INDEX('[1]TABLEAU DE BORD'!$B$13:$R$2000,MATCH('Formalisme RTE'!$H$2,'[1]TABLEAU DE BORD'!$B$13:$B$2000,0),2)+INDEX($CF$15:$CG$2005,MATCH($H$2,$CF$15:$CF$2005,0),2)+INDEX('[1]TABLEAU DE BORD'!$B$13:$R$2000,MATCH('Formalisme RTE'!$H$2,'[1]TABLEAU DE BORD'!$B$13:$B$2000,0),3))-(INDEX('[1]TABLEAU DE BORD'!$B$13:$R$2000,MATCH('Formalisme RTE'!$H$2,'[1]TABLEAU DE BORD'!$B$13:$B$2000,0),8)+INDEX($CI$15:$CJ$2005,MATCH($J$2,$CI$15:$CI$2005,0),2)+INDEX('[1]TABLEAU DE BORD'!$B$13:$R$2000,MATCH('Formalisme RTE'!$H$2,'[1]TABLEAU DE BORD'!$B$13:$B$2000,0),9)))*Q1930/$M$18) -> 237.96 | CF1930: ='[1]TABLEAU DE BORD'!B1928 -> 0 | CG1930: ='[1]TABLEAU DE BORD'!E1928-'[1]TABLEAU DE BORD'!C1928 -> 0 | CI1930: ='[1]TABLEAU DE BORD'!H1928 -> 0 | CJ1930: ='[1]TABLEAU DE BORD'!K1928-'[1]TABLEAU DE BORD'!I1928 -> 0
