Workbook
Name \a01: #REF!
Name \a02: #REF!
Name \a03: #REF!
Name \a04: #REF!
Name \a05: #REF!
Name \a06: #REF!
Name \a07: #REF!
Name \a08: #REF!
Name \a09: #REF!
Name \A1: #REF!
Name \a10: #REF!
Name \a11: #REF!
Name \a12: #REF!
Name \a13: #REF!
Name \a14: #REF!
Name \a15: #REF!
Name \a16: #REF!
Name \a17: #REF!
Name \a18: #REF!
Name \a19: #REF!
Name \a20: #REF!
Name __p21: #REF!
Name __p22: #REF!
Name __p25: #REF!
Name _p21: #REF!
Name _p22: #REF!
Name _p23: #REF!
Name _p24: #REF!
Name _p25: #REF!
Name CHEMIN_GEN: [2]DONNEES!$C$6
Name CHOIX_CABLE: [2]SUPPORTS!$C$2:$C$28
Name CHOIX_CHAINE: [2]SUPPORTS!$R$2:$R$42
Name CODE_LIT: [2]DONNEES!$C$5
Name DATA_CABLES: #REF!
Name DATA_CANTON: [2]SUPPORTS!$A$1:$I$1
Name DATA_CHAINE: [2]SUPPORTS!$Q$1:$W$1
Name DATA_DONNEES: [2]DONNEES!$A$9:$V$9
Name DATA_NAPPE: [2]SUPPORTS!$J$1:$L$1
Name DATA_SUPPORTS: [2]SUPPORTS!$A$59:$AB$59
Name DATA_TERRAIN: [2]TERRAIN!$A$1:$B$1
Name dist1: '[3]Réglages importants'!$R$23
Name dist2: '[3]Réglages importants'!$R$24
Name dist3: '[3]Réglages importants'!$R$25
Name FICHIER_ELIANE: [2]DONNEES!$C$4
Name Flèche: #REF!
Name Flèche_4: #REF!
Name GABARIT: [2]DONNEES!$L$1
Name gé1: '[4]Portée (1)'!$E$31
Name gé101: #REF!
Name gé102: #REF!
Name gé103: #REF!
Name gé104: #REF!
Name gé105: #REF!
Name gé106: #REF!
Name gé107: #REF!
Name gé108: #REF!
Name gé109: #REF!
Name gé110: #REF!
Name gé111: #REF!
Name gé112: #REF!

Sheet Formalisme RTE
G2: Support Gauche | H2: 37 | I2: Support droit | J2: 3N
B4: =CONCATENATE("Etude Ligne ",'[1]TABLEAU DE BORD'!D1," KV ",'[1]TABLEAU DE BORD'!L1) -> Etude Ligne 63 KV FRONTENAUD - GRAND CHENE
B5: Fichier : C:\APPLIRTE\ | BF5: 50 dégré en radians
B6: =CONCATENATE("Portée comprise entre le pylône n° ",H2," et le pylône n° ",J2,"") -> Portée comprise entre le pylône n° 37 et le pylône n° 3N | BF6: =RADIANS(50) -> 0.87266463 | BV6: Cable | BW6: =INDEX('[1]TABLEAU DE BORD'!B13:P5000,MATCH('Formalisme RTE'!H2,'[1]TABLEAU DE BORD'!B13:B5000,0),13) -> crocus147.1
B7: Tension de la ligne | D7: ='[1]TABLEAU DE BORD'!D1 -> 63 | E7: kV | BF7: sin(50) | BG7: =SIN(BF6) -> 0.76604444 | BM7: GABARIT AT
B8: Zone de vent | D8: =INDEX('[1]TABLEAU DE BORD'!B13:R2000,MATCH('Formalisme RTE'!H2,'[1]TABLEAU DE BORD'!B13:B2000,0),16) -> 240 Pa : ZVN zone normale | BL8: TENSION | BM8: 63 | BN8: 2 | BO8: 2 | BQ8: Balancement 50°
B9: Paramètre à 15 °C vent réduit | D9: =INDEX('[1]TABLEAU DE BORD'!B13:R2000,MATCH('Formalisme RTE'!H2,'[1]TABLEAU DE BORD'!B13:B2000,0),14) -> 1099.18 | E9: m | BM9: 90 | BN9: 2 | BO9: 2 | BQ9: L | BR9: B | BU9: Valeur caché | BW9: Diamètre | BY9: Masse au mètre | CA9: Flèche répart | CC9: Altitude cable répartition | CD9: Altitude corde | CF9: Hauteur Sous Pince Gauche | CI9: Hauteur Sous Pince Droit
B10: Paramètre à température répartition | D10: =INDEX('[1]TABLEAU DE BORD'!B13:R2000,MATCH('Formalisme RTE'!H2,'[1]TABLEAU DE BORD'!B13:B2000,0),15) -> 890.52 | E10: m | P10: CCG LA | AC10: AT 2001 | AO10: Cône 50°C | BM10: 150 | BN10: 2 | BO10: 2.1
B11: =CONCATENATE("Distance axe support n° ",H2," / accrochage") -> Distance axe support n° 37 / accrochage | D11: =INDEX('[1]TABLEAU DE BORD'!B13:R2000,MATCH('Formalisme RTE'!H2,'[1]TABLEAU DE BORD'!B13:B2000,0),5) -> 2.7040063 | E11: m | O11: ='[1]TABLEAU DE BORD'!U7 -> 15 | P11: Pas de calcul (m) : | Q11: 50 | S11: OU | T11: division de la portée : 1/ | V11: 8 | AB11: ='[1]TABLEAU DE BORD'!U7 -> 15 | AC11: Pas de calcul (m) : | AD11: =Q11 -> 50 | AF11: OU | AG11: division de la portée : 1/ | AI11: ='[1]TABLEAU DE BORD'!U6 -> 0 | AN11: ='[1]TABLEAU DE BORD'!U7 -> 15 | AO11: Pas de calcul (m) : | AP11: ='[1]TABLEAU DE BORD'!U7 -> 15 | AR11: OU | AS11: division de la portée : 1/ | AU11: ='[1]TABLEAU DE BORD'!U6 -> 0 | BM11: 225 | BN11: 2 | BO11: 2.7
B12: =CONCATENATE("Distance axe support n° ",J2," / accrochage") -> Distance axe support n° 3N / accrochage | D12: =INDEX('[1]TABLEAU DE BORD'!B13:R2000,MATCH('Formalisme RTE'!H2,'[1]TABLEAU DE BORD'!B13:B2000,0),11) -> 4.1963222 | E12: m | P12: =CONCATENATE("RESULTATS PORTEE ",#REF!,"-",#REF!) -> #REF! | U12: =IF(T10="","","f2+G3 conditione la tranchée :") | AC12: =CONCATENATE("RESULTATS PORTEE ",#REF!,"-",#REF!) -> #REF! | AH12: =IF(AG10="","","f2+G3 conditione la tranchée :") | AO12: =CONCATENATE("RESULTATS PORTEE ",#REF!,"-",#REF!) -> #REF! | AT12: =IF(AS10="","","f2+G3 conditione la tranchée :") | BM12: 400 | BN12: 2 | BO12: 4
B13: Option zone rouge | D13: NON | H13: =IF(D17="0.125","1/8","") | P13: Matricule | Q13: Distance / | S13: Demi largeur | U13: Z sol (axe) | V13: Hauteur d'arbre | W13: Hauteur libre | X13: CP | Y13: Hauteur libre | Z13: Hauteur libre | AC13: Matricule | AD13: Distance / | AF13: Demi largeur | AH13: Z sol (axe) | AI13: Hauteur d'arbre | AJ13: Hauteur libre | AK13: CP | AL13: Hauteur libre | AM13: Hauteur libre | AO13: Matricule | AP13: Distance / | AR13: Demi largeur | AT13: Z sol (axe) | AU13: Hauteur d'arbre | AV13: Hauteur libre | AW13: CP | AX13: Hauteur libre | AY13: Hauteur libre
B14: Flèche médiane F1 (m) | D14: =BB30 -> 5.0672564 | E14: m | P14: Point | Q14: =CONCATENATE("Pylône ",#REF!) -> #REF! | S14: de tranchée | U14: (m) | V14: à maturité | W14: (axe) | X14: (m/m) | Y14: (gauche) | Z14: (droite) | AC14: Point | AD14: =CONCATENATE("Pylône ",#REF!) -> #REF! | AF14: de tranchée | AH14: (m) | AI14: à maturité | AJ14: (axe) | AK14: (m/m) | AL14: (gauche) | AM14: (droite) | AO14: Point | AP14: =CONCATENATE("Pylône ",#REF!) -> #REF! | AR14: de tranchée | AT14: (m) | AU14: à maturité | AV14: (axe) | AW14: (m/m) | AX14: (gauche) | AY14: (droite)
P15: =IF(OR(Q15="",$M$18=""),"",CONCATENATE($C$17,"-",R15)) -> 37-1 | Q15: 0 | R15: 1 | S15: =BQ15+BR15+$BG$21+5 -> 11.204006 | W15: =IF(ISERROR(#REF!)=TRUE,"",IF(#REF!-(U15+V15)<=0,"Arbre à abattre",#REF!-(U15+V15))) | Y15: =IF(X15="","",IF(W15-(S15*X15)<=0,"A Abattre",W15-(S15*X15))) | Z15: =IF(X15="","",IF(W15+(S15*X15)<=0,"A Abattre",W15+(S15*X15))) | AC15: =IF(OR(AD15="",$M$18=""),"",CONCATENATE($C$17,"-",AE15)) -> 37-1 | AD15: 0 | AE15: 1 | AF15: =BQ15+BR15+'[1]TABLEAU DE BORD'!$O$6 -> 4.7040063 | AJ15: =IF(ISERROR(#REF!)=TRUE,"",IF(#REF!-(AH15+AI15)<=0,"Arbre à abattre",#REF!-(AH15+AI15))) | AL15: =IF(AK15="","",IF(AJ15-(AF15*AK15)<=0,"A Abattre",AJ15-(AF15*AK15))) | AM15: =IF(AK15="","",IF(AJ15+(AF15*AK15)<=0,"A Abattre",AJ15+(AF15*AK15))) | AO15: =IF(OR(AP15="",$M$18=""),"",CONCATENATE($C$17,"-",AQ15)) -> 37-1 | AP15: 0 | AQ15: 1 | AR15: =BQ15+$BG$7*CA15 -> 2.7040063 | AV15: =IF(ISERROR(#REF!)=TRUE,"",IF(#REF!-(AT15+AU15)<=0,"Arbre à abattre",#REF!-(AT15+AU15))) | AX15: =IF(AW15="","",IF(AV15-(AR15*AW15)<=0,"A Abattre",AV15-(AR15*AW15))) | AY15: =IF(AW15="","",IF(AV15+(AR15*AW15)<=0,"A Abattre",AV15+(AR15*AW15))) | BQ15: =INDEX('[1]TABLEAU DE BORD'!$B$13:$R$2000,MATCH('Formalisme RTE'!$H$2,'[1]TABLEAU DE BORD'!$B$13:$B$2000,0),5)-(INDEX('[1]TABLEAU DE BORD'!$B$13:$R$2000,MATCH('Formalisme RTE'!$H$2,'[1]TABLEAU DE BORD'!$B$13:$B$2000,0),5)-INDEX('[1]TABLEAU DE BORD'!$B$13:$R$2000,MATCH('Formalisme RTE'!$H$2,'[1]TABLEAU DE BORD'!$B$13:$B$2000,0),11))*Q15/INDEX('[1]TABLEAU DE BORD'!$B$13:$R$2000,MATCH('Formalisme RTE'!$H$2,'[1]TABLEAU DE BORD'!$B$13:$B$2000,0),12) -> 2.7040063 | BR15: =BU15*CA15 -> 0 | BU15: =SQRT(1-(1/(SQRT((BY15*0.981)^2+(($B$30/10)*BW15*0.001)^2)/(BY15*0.981))^2)) -> 0.57588835 | BW15: =IF($BW$6="","",IF(ISERROR(INDEX([1]Base!$A$2:$C$207,MATCH($BW$6,[1]Base!$A$2:$A$207,0),2))=TRUE,"CABLE INCONNU",(INDEX([1]Base!$A$2:$C$207,MATCH($BW$6,[1]Base!$A$2:$A$207,0),3)))) -> 15.75 | BY15: =IF($BW$6="","",IF(ISERROR(INDEX([1]Base!$A$2:$C$207,MATCH($BW$6,[1]Base!$A$2:$A$207,0),2))=TRUE,"CABLE INCONNU",(INDEX([1]Base!$A$2:$C$207,MATCH($BW$6,[1]Base!$A$2:$A$207,0),2)))) -> 0.547 | CA15: =CD15-CC15 -> 0 | CC15: =$BB$28+$D$10*((EXP(($BB$26-Q15)/$D$10)+EXP(-($BB$26-Q15)/$D$10))/2-1) -> 237.96 | CD15: =(INDEX('[1]TABLEAU DE BORD'!$B$13:$R$2000,MATCH('Formalisme RTE'!$H$2,'[1]TABLEAU DE BORD'!$B$13:$B$2000,0),2)+INDEX($CF$15:$CG$2005,MATCH($H$2,$CF$15:$CF$2005,0),2)+INDEX('[1]TABLEAU DE BORD'!$B$13:$R$2000,MATCH('Formalisme RTE'!$H$2,'[1]TABLEAU DE BORD'!$B$13:$B$2000,0),3))-(((INDEX('[1]TABLEAU DE BORD'!$B$13:$R$2000,MATCH('Formalisme RTE'!$H$2,'[1]TABLEAU DE BORD'!$B$13:$B$2000,0),2)+INDEX($CF$15:$CG$2005,MATCH($H$2,$CF$15:$CF$2005,0),2)+INDEX('[1]TABLEAU DE BORD'!$B$13:$R$2000,MATCH('Formalisme RTE'!$H$2,'[1]TABLEAU DE BORD'!$B$13:$B$2000,0),3))-(INDEX('[1]TABLEAU DE BORD'!$B$13:$R$2000,MATCH('Formalisme RTE'!$H$2,'[1]TABLEAU DE BORD'!$B$13:$B$2000,0),8)+INDEX($CI$15:$CJ$2005,MATCH($J$2,$CI$15:$CI$2005,0),2)+INDEX('[1]TABLEAU DE BORD'!$B$13:$R$2000,MATCH('Formalisme RTE'!$H$2,'[1]TABLEAU DE BORD'!$B$13:$B$2000,0),9)))*Q15/$M$18) -> 237.96 | CF15: ='[1]TABLEAU DE BORD'!B13 -> 60 | CG15: ='[1]TABLEAU DE BORD'!E13-'[1]TABLEAU DE BORD'!C13 -> 18.7 | CI15: ='[1]TABLEAU DE BORD'!H13 -> 61 | CJ15: ='[1]TABLEAU DE BORD'!K13-'[1]TABLEAU DE BORD'!I13 -> 21.27
P16: =IF(OR(Q16="",$M$18=""),"",CONCATENATE($C$17,"-",R16)) -> 37-2 | Q16: =IF(Q11="",$M$18/V11,Q11) -> 50 | R16: 2 | S16: =BQ16+BR16+$BG$21+5 -> 13.862344 | W16: =IF(ISERROR(#REF!)=TRUE,"",IF(#REF!-(U16+V16)<=0,"Arbre à abattre",#REF!-(U16+V16))) | Y16: =IF(X16="","",IF(W16-(S16*X16)<=0,"A Abattre",W16-(S16*X16))) | Z16: =IF(X16="","",IF(W16+(S16*X16)<=0,"A Abattre",W16+(S16*X16))) | AC16: =IF(OR(AD16="",$M$18=""),"",CONCATENATE($C$17,"-",AE16)) -> 37-2 | AD16: =IF(AD11="",$M$18/AI11,AD11) -> 50 | AE16: 2 | AF16: =BQ16+BR16+'[1]TABLEAU DE BORD'!$O$6 -> 7.3623439 | AJ16: =IF(ISERROR(#REF!)=TRUE,"",IF(#REF!-(AH16+AI16)<=0,"Arbre à abattre",#REF!-(AH16+AI16))) | AL16: =IF(AK16="","",IF(AJ16-(AF16*AK16)<=0,"A Abattre",AJ16-(AF16*AK16))) | AM16: =IF(AK16="","",IF(AJ16+(AF16*AK16)<=0,"A Abattre",AJ16+(AF16*AK16))) | AO16: =IF(OR(AP16="",$M$18=""),"",CONCATENATE($C$17,"-",AQ16)) -> 37-2 | AP16: =IF(AP11="",$M$18/AU11,AP11) -> 15 | AQ16: 2 | AR16: =BQ16+$BG$7*CA16 -> 6.1100536 | AV16: =IF(ISERROR(#REF!)=TRUE,"",IF(#REF!-(AT16+AU16)<=0,"Arbre à abattre",#REF!-(AT16+AU16))) | AX16: =IF(AW16="","",IF(AV16-(AR16*AW16)<=0,"A Abattre",AV16-(AR16*AW16))) | AY16: =IF(AW16="","",IF(AV16+(AR16*AW16)<=0,"A Abattre",AV16+(AR16*AW16))) | BF16: CCG LA | BJ16: AT 2001 | BQ16: =INDEX('[1]TABLEAU DE BORD'!$B$13:$R$2000,MATCH('Formalisme RTE'!$H$2,'[1]TABLEAU DE BORD'!$B$13:$B$2000,0),5)-(INDEX('[1]TABLEAU DE BORD'!$B$13:$R$2000,MATCH('Formalisme RTE'!$H$2,'[1]TABLEAU DE BORD'!$B$13:$B$2000,0),5)-INDEX('[1]TABLEAU DE BORD'!$B$13:$R$2000,MATCH('Formalisme RTE'!$H$2,'[1]TABLEAU DE BORD'!$B$13:$B$2000,0),11))*Q16/INDEX('[1]TABLEAU DE BORD'!$B$13:$R$2000,MATCH('Formalisme RTE'!$H$2,'[1]TABLEAU DE BORD'!$B$13:$B$2000,0),12) -> 3.0979027 | BR16: =BU16*CA16 -> 2.2644412 | BU16: =SQRT(1-(1/(SQRT((BY16*0.981)^2+(($B$30/10)*BW16*0.001)^2)/(BY16*0.981))^2)) -> 0.57588835 | BW16: =IF($BW$6="","",IF(ISERROR(INDEX([1]Base!$A$2:$C$207,MATCH($BW$6,[1]Base!$A$2:$A$207,0),2))=TRUE,"CABLE INCONNU",(INDEX([1]Base!$A$2:$C$207,MATCH($BW$6,[1]Base!$A$2:$A$207,0),3)))) -> 15.75 | BY16: =IF($BW$6="","",IF(ISERROR(INDEX([1]Base!$A$2:$C$207,MATCH($BW$6,[1]Base!$A$2:$A$207,0),2))=TRUE,"CABLE INCONNU",(INDEX([1]Base!$A$2:$C$207,MATCH($BW$6,[1]Base!$A$2:$A$207,0),2)))) -> 0.547 | CA16: =CD16-CC16 -> 3.9320837 | CC16: =$BB$28+$D$10*((EXP(($BB$26-Q16)/$D$10)+EXP(-($BB$26-Q16)/$D$10))/2-1) -> 239.08255 | CD16: =(INDEX('[1]TABLEAU DE BORD'!$B$13:$R$2000,MATCH('Formalisme RTE'!$H$2,'[1]TABLEAU DE BORD'!$B$13:$B$2000,0),2)+INDEX($CF$15:$CG$2005,MATCH($H$2,$CF$15:$CF$2005,0),2)+INDEX('[1]TABLEAU DE BORD'!$B$13:$R$2000,MATCH('Formalisme RTE'!$H$2,'[1]TABLEAU DE BORD'!$B$13:$B$2000,0),3))-(((INDEX('[1]TABLEAU DE BORD'!$B$13:$R$2000,MATCH('Formalisme RTE'!$H$2,'[1]TABLEAU DE BORD'!$B$13:$B$2000,0),2)+INDEX($CF$15:$CG$2005,MATCH($H$2,$CF$15:$CF$2005,0),2)+INDEX('[1]TABLEAU DE BORD'!$B$13:$R$2000,MATCH('Formalisme RTE'!$H$2,'[1]TABLEAU DE BORD'!$B$13:$B$2000,0),3))-(INDEX('[1]TABLEAU DE BORD'!$B$13:$R$2000,MATCH('Formalisme RTE'!$H$2,'[1]TABLEAU DE BORD'!$B$13:$B$2000,0),8)+INDEX($CI$15:$CJ$2005,MATCH($J$2,$CI$15:$CI$2005,0),2)+INDEX('[1]TABLEAU DE BORD'!$B$13:$R$2000,MATCH('Formalisme RTE'!$H$2,'[1]TABLEAU DE BORD'!$B$13:$B$2000,0),9)))*Q16/$M$18) -> 243.01464 | CF16: ='[1]TABLEAU DE BORD'!B14 -> 61 | CG16: ='[1]TABLEAU DE BORD'!E14-'[1]TABLEAU DE BORD'!C14 -> 21.27 | CI16: ='[1]TABLEAU DE BORD'!H14 -> 62 | CJ16: ='[1]TABLEAU DE BORD'!K14-'[1]TABLEAU DE BORD'!I14 -> 13.76
B17: Points | C17: =H2 -> 37 | D17: =P16 -> 37-2 | E17: =P17 -> 37-3 | F17: =P18 -> 37-4 | G17: =P19 -> 37-5 | H17: =P20 | I17: =P21 | J17: =P22 | K17: =P23 | L17: =P24 | M17: =P25 | P17: =IF(OR(Q17="",$M$18=""),"",CONCATENATE($C$17,"-",R17)) -> 37-3 | Q17: =IF(OR(Q16=$M$18,$M$18=""),"",IF(Q16="","",IF(Q16>$M$18-$Q$11,$M$18,IF($Q$11="",IF(Q16>$M$18-$M$18/$V$11,"",Q16+$M$18/$V$11),Q16+$Q$11)))) -> 100 | R17: 3 | S17: =IF(Q17="","",BQ17+BR17+$BG$21+5) -> 14.901473 | W17: =IF(ISERROR(#REF!)=TRUE,"",IF(#REF!-(U17+V17)<=0,"Arbre à abattre",#REF!-(U17+V17))) | Y17: =IF(X17="","",IF(W17-(S17*X17)<=0,"A Abattre",W17-(S17*X17))) | Z17: =IF(X17="","",IF(W17+(S17*X17)<=0,"A Abattre",W17+(S17*X17))) | AC17: =IF(OR(AD17="",$M$18=""),"",CONCATENATE($C$17,"-",AE17)) -> 37-3 | AD17: =IF(OR(AD16=$M$18,$M$18=""),"",IF(AD16="","",IF(AD16>$M$18-$AD$11,$M$18,IF($AD$11="",IF(AD16>$M$18-$M$18/$AI$11,"",AD16+$M$18/$AI$11),AD16+$AD$11)))) -> 100 | AE17: 3 | AF17: =IF(AD17="","",BQ17+BR17+'[1]TABLEAU DE BORD'!$O$6) -> 8.4014733 | AJ17: =IF(ISERROR(#REF!)=TRUE,"",IF(#REF!-(AH17+AI17)<=0,"Arbre à abattre",#REF!-(AH17+AI17))) | AL17: =IF(AK17="","",IF(AJ17-(AF17*AK17)<=0,"A Abattre",AJ17-(AF17*AK17))) | AM17: =IF(AK17="","",IF(AJ17+(AF17*AK17)<=0,"A Abattre",AJ17+(AF17*AK17))) | AO17: =IF(OR(AP17="",$M$18=""),"",CONCATENATE($C$17,"-",AQ17)) -> 37-3 | AP17: =IF(OR(AP16=$M$18,$M$18=""),"",IF(AP16="","",IF(AP16>$M$18-$AP$11,$M$18,IF($AP$11="",IF(AP16>$M$18-$M$18/$AU$11,"",AP16+$M$18/$AU$11),AP16+$AP$11)))) -> 30 | AQ17: 3 | AR17: =IF(AP17="","",BQ17+$BG$7+CA17) -> 9.3103406 | AV17: =IF(ISERROR(#REF!)=TRUE,"",IF(#REF!-(AT17+AU17)<=0,"Arbre à abattre",#REF!-(AT17+AU17))) | AX17: =IF(AW17="","",IF(AV17-(AR17*AW17)<=0,"A Abattre",AV17-(AR17*AW17))) | AY17: =IF(AW17="","",IF(AV17+(AR17*AW17)<=0,"A Abattre",AV17+(AR17*AW17))) | BQ17: =INDEX('[1]TABLEAU DE BORD'!$B$13:$R$2000,MATCH('Formalisme RTE'!$H$2,'[1]TABLEAU DE BORD'!$B$13:$B$2000,0),5)-(INDEX('[1]TABLEAU DE BORD'!$B$13:$R$2000,MATCH('Formalisme RTE'!$H$2,'[1]TABLEAU DE BORD'!$B$13:$B$2000,0),5)-INDEX('[1]TABLEAU DE BORD'!$B$13:$R$2000,MATCH('Formalisme RTE'!$H$2,'[1]TABLEAU DE BORD'!$B$13:$B$2000,0),11))*Q17/INDEX('[1]TABLEAU DE BORD'!$B$13:$R$2000,MATCH('Formalisme RTE'!$H$2,'[1]TABLEAU DE BORD'!$B$13:$B$2000,0),12) -> 3.4917991 | BR17: =BU17*CA17 -> 2.9096742 | BU17: =SQRT(1-(1/(SQRT((BY17*0.981)^2+(($B$30/10)*BW17*0.001)^2)/(BY17*0.981))^2)) -> 0.57588835 | BW17: =IF($BW$6="","",IF(ISERROR(INDEX([1]Base!$A$2:$C$207,MATCH($BW$6,[1]Base!$A$2:$A$207,0),2))=TRUE,"CABLE INCONNU",(INDEX([1]Base!$A$2:$C$207,MATCH($BW$6,[1]Base!$A$2:$A$207,0),3)))) -> 15.75 | BY17: =IF($BW$6="","",IF(ISERROR(INDEX([1]Base!$A$2:$C$207,MATCH($BW$6,[1]Base!$A$2:$A$207,0),2))=TRUE,"CABLE INCONNU",(INDEX([1]Base!$A$2:$C$207,MATCH($BW$6,[1]Base!$A$2:$A$207,0),2)))) -> 0.547 | CA17: =CD17-CC17 -> 5.0524971 | CC17: =$BB$28+$D$10*((EXP(($BB$26-Q17)/$D$10)+EXP(-($BB$26-Q17)/$D$10))/2-1) -> 243.01678 | CD17: =(INDEX('[1]TABLEAU DE BORD'!$B$13:$R$2000,MATCH('Formalisme RTE'!$H$2,'[1]TABLEAU DE BORD'!$B$13:$B$2000,0),2)+INDEX($CF$15:$CG$2005,MATCH($H$2,$CF$15:$CF$2005,0),2)+INDEX('[1]TABLEAU DE BORD'!$B$13:$R$2000,MATCH('Formalisme RTE'!$H$2,'[1]TABLEAU DE BORD'!$B$13:$B$2000,0),3))-(((INDEX('[1]TABLEAU DE BORD'!$B$13:$R$2000,MATCH('Formalisme RTE'!$H$2,'[1]TABLEAU DE BORD'!$B$13:$B$2000,0),2)+INDEX($CF$15:$CG$2005,MATCH($H$2,$CF$15:$CF$2005,0),2)+INDEX('[1]TABLEAU DE BORD'!$B$13:$R$2000,MATCH('Formalisme RTE'!$H$2,'[1]TABLEAU DE BORD'!$B$13:$B$2000,0),3))-(INDEX('[1]TABLEAU DE BORD'!$B$13:$R$2000,MATCH('Formalisme RTE'!$H$2,'[1]TABLEAU DE BORD'!$B$13:$B$2000,0),8)+INDEX($CI$15:$CJ$2005,MATCH($J$2,$CI$15:$CI$2005,0),2)+INDEX('[1]TABLEAU DE BORD'!$B$13:$R$2000,MATCH('Formalisme RTE'!$H$2,'[1]TABLEAU DE BORD'!$B$13:$B$2000,0),9)))*Q17/$M$18) -> 248.06928 | CF17: ='[1]TABLEAU DE BORD'!B15 -> 62 | CG17: ='[1]TABLEAU DE BORD'!E15-'[1]TABLEAU DE BORD'!C15 -> 13.76 | CI17: ='[1]TABLEAU DE BORD'!H15 -> Madeleine | CJ17: ='[1]TABLEAU DE BORD'!K15-'[1]TABLEAU DE BORD'!I15 -> 8.92
B18: =CONCATENATE("Distance / Support n° ",H2,"") -> Distance / Support n° 37 | C18: 0 | D18: =Q16 -> 50 | E18: =Q17 -> 100 | F18: =Q18 -> 150 | G18: =Q19 -> 189.43 | H18: =Q20 | I18: =Q21 | J18: =Q22 | K18: =Q23 | L18: =Q24 | M18: =INDEX('[1]TABLEAU DE BORD'!B13:R2000,MATCH('Formalisme RTE'!H2,'[1]TABLEAU DE BORD'!B13:B2000,0),12) -> 189.43 | P18: =IF(OR(Q18="",$M$18=""),"",CONCATENATE($C$17,"-",R18)) -> 37-4 | Q18: =IF(OR(Q17=$M$18,$M$18=""),"",IF(Q17="","",IF(Q17>$M$18-$Q$11,$M$18,IF($Q$11="",IF(Q17>$M$18-$M$18/$V$11,"",Q17+$M$18/$V$11),Q17+$Q$11)))) -> 150 | R18: 4 | S18: =IF(Q18="","",BQ18+BR18+$BG$21+5) -> 14.31425 | W18: =IF(ISERROR(BP13)=TRUE,"",IF(BP13-(U18+V18)<=0,"Arbre à abattre",BP13-(U18+V18))) -> Arbre à abattre | Y18: =IF(X18="","",IF(W18-(S18*X18)<=0,"A Abattre",W18-(S18*X18))) | Z18: =IF(X18="","",IF(W18+(S18*X18)<=0,"A Abattre",W18+(S18*X18))) | AC18: =IF(OR(AD18="",$M$18=""),"",CONCATENATE($C$17,"-",AE18)) -> 37-4 | AD18: =IF(OR(AD17=$M$18,$M$18=""),"",IF(AD17="","",IF(AD17>$M$18-$AD$11,$M$18,IF($AD$11="",IF(AD17>$M$18-$M$18/$AI$11,"",AD17+$M$18/$AI$11),AD17+$AD$11)))) -> 150 | AE18: 4 | AF18: =IF(AD18="","",BQ18+BR18+'[1]TABLEAU DE BORD'!$O$6) -> 7.8142501 | AJ18: =IF(ISERROR(CC13)=TRUE,"",IF(CC13-(AH18+AI18)<=0,"Arbre à abattre",CC13-(AH18+AI18))) -> Arbre à abattre | AL18: =IF(AK18="","",IF(AJ18-(AF18*AK18)<=0,"A Abattre",AJ18-(AF18*AK18))) | AM18: =IF(AK18="","",IF(AJ18+(AF18*AK18)<=0,"A Abattre",AJ18+(AF18*AK18))) | AO18: =IF(OR(AP18="",$M$18=""),"",CONCATENATE($C$17,"-",AQ18)) -> 37-4 | AP18: =IF(OR(AP17=$M$18,$M$18=""),"",IF(AP17="","",IF(AP17>$M$18-$AP$11,$M$18,IF($AP$11="",IF(AP17>$M$18-$M$18/$AU$11,"",AP17+$M$18/$AU$11),AP17+$AP$11)))) -> 45 | AQ18: 4 | AR18: =IF(AP18="","",BQ18+$BG$7+CA18) -> 8.0005742 | AV18: =IF(ISERROR(CO13)=TRUE,"",IF(CO13-(AT18+AU18)<=0,"Arbre à abattre",CO13-(AT18+AU18))) -> Arbre à abattre | AX18: =IF(AW18="","",IF(AV18-(AR18*AW18)<=0,"A Abattre",AV18-(AR18*AW18))) | AY18: =IF(AW18="","",IF(AV18+(AR18*AW18)<=0,"A Abattre",AV18+(AR18*AW18))) | BQ18: =INDEX('[1]TABLEAU DE BORD'!$B$13:$R$2000,MATCH('Formalisme RTE'!$H$2,'[1]TABLEAU DE BORD'!$B$13:$B$2000,0),5)-(INDEX('[1]TABLEAU DE BORD'!$B$13:$R$2000,MATCH('Formalisme RTE'!$H$2,'[1]TABLEAU DE BORD'!$B$13:$B$2000,0),5)-INDEX('[1]TABLEAU DE BORD'!$B$13:$R$2000,MATCH('Formalisme RTE'!$H$2,'[1]TABLEAU DE BORD'!$B$13:$B$2000,0),11))*Q18/INDEX('[1]TABLEAU DE BORD'!$B$13:$R$2000,MATCH('Formalisme RTE'!$H$2,'[1]TABLEAU DE BORD'!$B$13:$B$2000,0),12) -> 3.8856955 | BR18: =BU18*CA18 -> 1.9285546 | BU18: =SQRT(1-(1/(SQRT((BY18*0.981)^2+(($B$30/10)*BW18*0.001)^2)/(BY18*0.981))^2)) -> 0.57588835 | BW18: =IF($BW$6="","",IF(ISERROR(INDEX([1]Base!$A$2:$C$207,MATCH($BW$6,[1]Base!$A$2:$A$207,0),2))=TRUE,"CABLE INCONNU",(INDEX([1]Base!$A$2:$C$207,MATCH($BW$6,[1]Base!$A$2:$A$207,0),3)))) -> 15.75 | BY18: =IF($BW$6="","",IF(ISERROR(INDEX([1]Base!$A$2:$C$207,MATCH($BW$6,[1]Base!$A$2:$A$207,0),2))=TRUE,"CABLE INCONNU",(INDEX([1]Base!$A$2:$C$207,MATCH($BW$6,[1]Base!$A$2:$A$207,0),2)))) -> 0.547 | CA18: =CD18-CC18 -> 3.3488343 | CC18: =$BB$28+$D$10*((EXP(($BB$26-Q18)/$D$10)+EXP(-($BB$26-Q18)/$D$10))/2-1) -> 249.77508 | CD18: =(INDEX('[1]TABLEAU DE BORD'!$B$13:$R$2000,MATCH('Formalisme RTE'!$H$2,'[1]TABLEAU DE BORD'!$B$13:$B$2000,0),2)+INDEX($CF$15:$CG$2005,MATCH($H$2,$CF$15:$CF$2005,0),2)+INDEX('[1]TABLEAU DE BORD'!$B$13:$R$2000,MATCH('Formalisme RTE'!$H$2,'[1]TABLEAU DE BORD'!$B$13:$B$2000,0),3))-(((INDEX('[1]TABLEAU DE BORD'!$B$13:$R$2000,MATCH('Formalisme RTE'!$H$2,'[1]TABLEAU DE BORD'!$B$13:$B$2000,0),2)+INDEX($CF$15:$CG$2005,MATCH($H$2,$CF$15:$CF$2005,0),2)+INDEX('[1]TABLEAU DE BORD'!$B$13:$R$2000,MATCH('Formalisme RTE'!$H$2,'[1]TABLEAU DE BORD'!$B$13:$B$2000,0),3))-(INDEX('[1]TABLEAU DE BORD'!$B$13:$R$2000,MATCH('Formalisme RTE'!$H$2,'[1]TABLEAU DE BORD'!$B$13:$B$2000,0),8)+INDEX($CI$15:$CJ$2005,MATCH($J$2,$CI$15:$CI$2005,0),2)+INDEX('[1]TABLEAU DE BORD'!$B$13:$R$2000,MATCH('Formalisme RTE'!$H$2,'[1]TABLEAU DE BORD'!$B$13:$B$2000,0),9)))*Q18/$M$18) -> 253.12391 | CF18: ='[1]TABLEAU DE BORD'!B16 -> Madeleine | CG18: ='[1]TABLEAU DE BORD'!E16-'[1]TABLEAU DE BORD'!C16 -> 8.92 | CI18: ='[1]TABLEAU DE BORD'!H16 -> 38 | CJ18: ='[1]TABLEAU DE BORD'!K16-'[1]TABLEAU DE BORD'!I16 -> 12.76
B19: Altitude (m) | P19: =IF(OR(Q19="",$M$18=""),"",CONCATENATE($C$17,"-",R19)) -> 37-5 | Q19: =IF(OR(Q18=$M$18,$M$18=""),"",IF(Q18="","",IF(Q18>$M$18-$Q$11,$M$18,IF($Q$11="",IF(Q18>$M$18-$M$18/$V$11,"",Q18+$M$18/$V$11),Q18+$Q$11)))) -> 189.43 | R19: 5 | S19: =IF(Q19="","",BQ19+BR19+$BG$21+5) -> 12.696322 | W19: =IF(ISERROR(BP14)=TRUE,"",IF(BP14-(U19+V19)<=0,"Arbre à abattre",BP14-(U19+V19))) -> Arbre à abattre | Y19: =IF(X19="","",IF(W19-(S19*X19)<=0,"A Abattre",W19-(S19*X19))) | Z19: =IF(X19="","",IF(W19+(S19*X19)<=0,"A Abattre",W19+(S19*X19))) | AC19: =IF(OR(AD19="",$M$18=""),"",CONCATENATE($C$17,"-",AE19)) -> 37-5 | AD19: =IF(OR(AD18=$M$18,$M$18=""),"",IF(AD18="","",IF(AD18>$M$18-$AD$11,$M$18,IF($AD$11="",IF(AD18>$M$18-$M$18/$AI$11,"",AD18+$M$18/$AI$11),AD18+$AD$11)))) -> 189.43 | AE19: 5 | AF19: =IF(AD19="","",BQ19+BR19+'[1]TABLEAU DE BORD'!$O$6) -> 6.1963222 | AJ19: =IF(ISERROR(CC14)=TRUE,"",IF(CC14-(AH19+AI19)<=0,"Arbre à abattre",CC14-(AH19+AI19))) -> Arbre à abattre | AL19: =IF(AK19="","",IF(AJ19-(AF19*AK19)<=0,"A Abattre",AJ19-(AF19*AK19))) | AM19: =IF(AK19="","",IF(AJ19+(AF19*AK19)<=0,"A Abattre",AJ19+(AF19*AK19))) | AO19: =IF(OR(AP19="",$M$18=""),"",CONCATENATE($C$17,"-",AQ19)) -> 37-5 | AP19: =IF(OR(AP18=$M$18,$M$18=""),"",IF(AP18="","",IF(AP18>$M$18-$AP$11,$M$18,IF($AP$11="",IF(AP18>$M$18-$M$18/$AU$11,"",AP18+$M$18/$AU$11),AP18+$AP$11)))) -> 60 | AQ19: 5 | AR19: =IF(AP19="","",BQ19+$BG$7+CA19) -> 4.9623666 | AV19: =IF(ISERROR(CO14)=TRUE,"",IF(CO14-(AT19+AU19)<=0,"Arbre à abattre",CO14-(AT19+AU19))) -> Arbre à abattre | AX19: =IF(AW19="","",IF(AV19-(AR19*AW19)<=0,"A Abattre",AV19-(AR19*AW19))) | AY19: =IF(AW19="","",IF(AV19+(AR19*AW19)<=0,"A Abattre",AV19+(AR19*AW19))) | BF19: G1= | BG19: =BG46 -> 3.5 | BH19: m | BJ19: T1+1m= | BK19: =IF('[1]TABLEAU DE BORD'!L2="AT 2001",2,"Non concerné") -> 2 | BL19: m | BQ19: =INDEX('[1]TABLEAU DE BORD'!$B$13:$R$2000,MATCH('Formalisme RTE'!$H$2,'[1]TABLEAU DE BORD'!$B$13:$B$2000,0),5)-(INDEX('[1]TABLEAU DE BORD'!$B$13:$R$2000,MATCH('Formalisme RTE'!$H$2,'[1]TABLEAU DE BORD'!$B$13:$B$2000,0),5)-INDEX('[1]TABLEAU DE BORD'!$B$13:$R$2000,MATCH('Formalisme RTE'!$H$2,'[1]TABLEAU DE BORD'!$B$13:$B$2000,0),11))*Q19/INDEX('[1]TABLEAU DE BORD'!$B$13:$R$2000,MATCH('Formalisme RTE'!$H$2,'[1]TABLEAU DE BORD'!$B$13:$B$2000,0),12) -> 4.1963222 | BR19: =BU19*CA19 -> 0 | BU19: =SQRT(1-(1/(SQRT((BY19*0.981)^2+(($B$30/10)*BW19*0.001)^2)/(BY19*0.981))^2)) -> 0.57588835 | BW19: =IF($BW$6="","",IF(ISERROR(INDEX([1]Base!$A$2:$C$207,MATCH($BW$6,[1]Base!$A$2:$A$207,0),2))=TRUE,"CABLE INCONNU",(INDEX([1]Base!$A$2:$C$207,MATCH($BW$6,[1]Base!$A$2:$A$207,0),3)))) -> 15.75 | BY19: =IF($BW$6="","",IF(ISERROR(INDEX([1]Base!$A$2:$C$207,MATCH($BW$6,[1]Base!$A$2:$A$207,0),2))=TRUE,"CABLE INCONNU",(INDEX([1]Base!$A$2:$C$207,MATCH($BW$6,[1]Base!$A$2:$A$207,0),2)))) -> 0.547 | CA19: =CD19-CC19 -> 0 | CC19: =$BB$28+$D$10*((EXP(($BB$26-Q19)/$D$10)+EXP(-($BB$26-Q19)/$D$10))/2-1) -> 257.11 | CD19: =(INDEX('[1]TABLEAU DE BORD'!$B$13:$R$2000,MATCH('Formalisme RTE'!$H$2,'[1]TABLEAU DE BORD'!$B$13:$B$2000,0),2)+INDEX($CF$15:$CG$2005,MATCH($H$2,$CF$15:$CF$2005,0),2)+INDEX('[1]TABLEAU DE BORD'!$B$13:$R$2000,MATCH('Formalisme RTE'!$H$2,'[1]TABLEAU DE BORD'!$B$13:$B$2000,0),3))-(((INDEX('[1]TABLEAU DE BORD'!$B$13:$R$2000,MATCH('Formalisme RTE'!$H$2,'[1]TABLEAU DE BORD'!$B$13:$B$2000,0),2)+INDEX($CF$15:$CG$2005,MATCH($H$2,$CF$15:$CF$2005,0),2)+INDEX('[1]TABLEAU DE BORD'!$B$13:$R$2000,MATCH('Formalisme RTE'!$H$2,'[1]TABLEAU DE BORD'!$B$13:$B$2000,0),3))-(INDEX('[1]TABLEAU DE BORD'!$B$13:$R$2000,MATCH('Formalisme RTE'!$H$2,'[1]TABLEAU DE BORD'!$B$13:$B$2000,0),8)+INDEX($CI$15:$CJ$2005,MATCH($J$2,$CI$15:$CI$2005,0),2)+INDEX('[1]TABLEAU DE BORD'!$B$13:$R$2000,MATCH('Formalisme RTE'!$H$2,'[1]TABLEAU DE BORD'!$B$13:$B$2000,0),9)))*Q19/$M$18) -> 257.11 | CF19: ='[1]TABLEAU DE BORD'!B17 -> 38 | CG19: ='[1]TABLEAU DE BORD'!E17-'[1]TABLEAU DE BORD'!C17 -> 12.76 | CI19: ='[1]TABLEAU DE BORD'!H17 -> 37 | CJ19: ='[1]TABLEAU DE BORD'!K17-'[1]TABLEAU DE BORD'!I17 -> 17.86
B20: Distance câble / axe à 15°C vent réduit (m) | C20: =C21-2 -> 2.7040063 | D20: =D21-2 -> 5.3623439 | E20: =IF(ISERROR(E21-2),"",E21-2) -> 6.4014733 | F20: =IF(ISERROR(F21-2),"",F21-2) -> 5.8142501 | G20: =IF(ISERROR(G21-2),"",G21-2) -> 4.1963222 | H20: =IF(ISERROR(H21-2),"",H21-2) | I20: =IF(ISERROR(I21-2),"",I21-2) | J20: =IF(ISERROR(J21-2),"",J21-2) | K20: =IF(ISERROR(K21-2),"",K21-2) | L20: =IF(ISERROR(L21-2),"",L21-2) | M20: =IF(ISERROR(M21-2),"",M21-2) | P20: =IF(OR(Q20="",$M$18=""),"",CONCATENATE($C$17,"-",R20)) | Q20: =IF(OR(Q19=$M$18,$M$18=""),"",IF(Q19="","",IF(Q19>$M$18-$Q$11,$M$18,IF($Q$11="",IF(Q19>$M$18-$M$18/$V$11,"",Q19+$M$18/$V$11),Q19+$Q$11)))) | R20: 6 | S20: =IF(Q20="","",BQ20+BR20+$BG$21+5) | W20: =IF(ISERROR(BP15)=TRUE,"",IF(BP15-(U20+V20)<=0,"Arbre à abattre",BP15-(U20+V20))) -> Arbre à abattre | Y20: =IF(X20="","",IF(W20-(S20*X20)<=0,"A Abattre",W20-(S20*X20))) | Z20: =IF(X20="","",IF(W20+(S20*X20)<=0,"A Abattre",W20+(S20*X20))) | AC20: =IF(OR(AD20="",$M$18=""),"",CONCATENATE($C$17,"-",AE20)) | AD20: =IF(OR(AD19=$M$18,$M$18=""),"",IF(AD19="","",IF(AD19>$M$18-$AD$11,$M$18,IF($AD$11="",IF(AD19>$M$18-$M$18/$AI$11,"",AD19+$M$18/$AI$11),AD19+$AD$11)))) | AE20: 6 | AF20: =IF(AD20="","",BQ20+BR20+'[1]TABLEAU DE BORD'!$O$6) | AJ20: =IF(ISERROR(CC15)=TRUE,"",IF(CC15-(AH20+AI20)<=0,"Arbre à abattre",CC15-(AH20+AI20))) -> 237.96 | AL20: =IF(AK20="","",IF(AJ20-(AF20*AK20)<=0,"A Abattre",AJ20-(AF20*AK20))) | AM20: =IF(AK20="","",IF(AJ20+(AF20*AK20)<=0,"A Abattre",AJ20+(AF20*AK20))) | AO20: =IF(OR(AP20="",$M$18=""),"",CONCATENATE($C$17,"-",AQ20)) -> 37-6 | AP20: =IF(OR(AP19=$M$18,$M$18=""),"",IF(AP19="","",IF(AP19>$M$18-$AP$11,$M$18,IF($AP$11="",IF(AP19>$M$18-$M$18/$AU$11,"",AP19+$M$18/$AU$11),AP19+$AP$11)))) -> 75 | AQ20: 6 | AR20: =IF(AP20="","",BQ20+$BG$7+CA20) -> #VALUE! | AV20: =IF(ISERROR(CO15)=TRUE,"",IF(CO15-(AT20+AU20)<=0,"Arbre à abattre",CO15-(AT20+AU20))) -> Arbre à abattre | AX20: =IF(AW20="","",IF(AV20-(AR20*AW20)<=0,"A Abattre",AV20-(AR20*AW20))) | AY20: =IF(AW20="","",IF(AV20+(AR20*AW20)<=0,"A Abattre",AV20+(AR20*AW20))) | BA20: - Dénivelée (droite - gauche):H=H2-H1 | BB20: =(INDEX('[1]TABLEAU DE BORD'!B13:R2000,MATCH('Formalisme RTE'!H2,'[1]TABLEAU DE BORD'!B13:B2000,0),10)-INDEX('[1]TABLEAU DE BORD'!B13:R2000,MATCH('Formalisme RTE'!H2,'[1]TABLEAU DE BORD'!B13:B2000,0),4)) -> 19.15 | BQ20: =INDEX('[1]TABLEAU DE BORD'!$B$13:$R$2000,MATCH('Formalisme RTE'!$H$2,'[1]TABLEAU DE BORD'!$B$13:$B$2000,0),5)-(INDEX('[1]TABLEAU DE BORD'!$B$13:$R$2000,MATCH('Formalisme RTE'!$H$2,'[1]TABLEAU DE BORD'!$B$13:$B$2000,0),5)-INDEX('[1]TABLEAU DE BORD'!$B$13:$R$2000,MATCH('Formalisme RTE'!$H$2,'[1]TABLEAU DE BORD'!$B$13:$B$2000,0),11))*Q20/INDEX('[1]TABLEAU DE BORD'!$B$13:$R$2000,MATCH('Formalisme RTE'!$H$2,'[1]TABLEAU DE BORD'!$B$13:$B$2000,0),12) -> #VALUE! | BR20: =BU20*CA20 -> #VALUE! | BU20: =SQRT(1-(1/(SQRT((BY20*0.981)^2+(($B$30/10)*BW20*0.001)^2)/(BY20*0.981))^2)) -> 0.57588835 | BW20: =IF($BW$6="","",IF(ISERROR(INDEX([1]Base!$A$2:$C$207,MATCH($BW$6,[1]Base!$A$2:$A$207,0),2))=TRUE,"CABLE INCONNU",(INDEX([1]Base!$A$2:$C$207,MATCH($BW$6,[1]Base!$A$2:$A$207,0),3)))) -> 15.75 | BY20: =IF($BW$6="","",IF(ISERROR(INDEX([1]Base!$A$2:$C$207,MATCH($BW$6,[1]Base!$A$2:$A$207,0),2))=TRUE,"CABLE INCONNU",(INDEX([1]Base!$A$2:$C$207,MATCH($BW$6,[1]Base!$A$2:$A$207,0),2)))) -> 0.547 | CA20: =CD20-CC20 -> #VALUE! | CC20: =$BB$28+$D$10*((EXP(($BB$26-Q20)/$D$10)+EXP(-($BB$26-Q20)/$D$10))/2-1) -> #VALUE! | CD20: =(INDEX('[1]TABLEAU DE BORD'!$B$13:$R$2000,MATCH('Formalisme RTE'!$H$2,'[1]TABLEAU DE BORD'!$B$13:$B$2000,0),2)+INDEX($CF$15:$CG$2005,MATCH($H$2,$CF$15:$CF$2005,0),2)+INDEX('[1]TABLEAU DE BORD'!$B$13:$R$2000,MATCH('Formalisme RTE'!$H$2,'[1]TABLEAU DE BORD'!$B$13:$B$2000,0),3))-(((INDEX('[1]TABLEAU DE BORD'!$B$13:$R$2000,MATCH('Formalisme RTE'!$H$2,'[1]TABLEAU DE BORD'!$B$13:$B$2000,0),2)+INDEX($CF$15:$CG$2005,MATCH($H$2,$CF$15:$CF$2005,0),2)+INDEX('[1]TABLEAU DE BORD'!$B$13:$R$2000,MATCH('Formalisme RTE'!$H$2,'[1]TABLEAU DE BORD'!$B$13:$B$2000,0),3))-(INDEX('[1]TABLEAU DE BORD'!$B$13:$R$2000,MATCH('Formalisme RTE'!$H$2,'[1]TABLEAU DE BORD'!$B$13:$B$2000,0),8)+INDEX($CI$15:$CJ$2005,MATCH($J$2,$CI$15:$CI$2005,0),2)+INDEX('[1]TABLEAU DE BORD'!$B$13:$R$2000,MATCH('Formalisme RTE'!$H$2,'[1]TABLEAU DE BORD'!$B$13:$B$2000,0),9)))*Q20/$M$18) -> #VALUE! | CF20: ='[1]TABLEAU DE BORD'!B18 -> 37 | CG20: ='[1]TABLEAU DE BORD'!E18-'[1]TABLEAU DE BORD'!C18 -> 17.86 | CI20: ='[1]TABLEAU DE BORD'!H18 -> 3N | CJ20: ='[1]TABLEAU DE BORD'!K18-'[1]TABLEAU DE BORD'!I18 -> 27
B21: 1/2 largeur / axe à l'AT 2001 (m) | C21: =AF15 -> 4.7040063 | D21: =AF16 -> 7.3623439 | E21: =AF17 -> 8.4014733 | F21: =AF18 -> 7.8142501 | G21: =AF19 -> 6.1963222 | H21: =AF20 | I21: =AF21 | J21: =AF22 | K21: =AF23 | L21: =AF24 | M21: =AF25 | P21: =IF(OR(Q21="",$M$18=""),"",CONCATENATE($C$17,"-",R21)) | Q21: =IF(OR(Q20=$M$18,$M$18=""),"",IF(Q20="","",IF(Q20>$M$18-$Q$11,$M$18,IF($Q$11="",IF(Q20>$M$18-$M$18/$V$11,"",Q20+$M$18/$V$11),Q20+$Q$11)))) | R21: 7 | S21: =IF(Q21="","",BQ21+BR21+$BG$21+5) | W21: =IF(ISERROR(BO15)=TRUE,"",IF(BO15-(U21+V21)<=0,"Arbre à abattre",BO15-(U21+V21))) -> Arbre à abattre | Y21: =IF(X21="","",IF(W21-(S21*X21)<=0,"A Abattre",W21-(S21*X21))) | Z21: =IF(X21="","",IF(W21+(S21*X21)<=0,"A Abattre",W21+(S21*X21))) | AC21: =IF(OR(AD21="",$M$18=""),"",CONCATENATE($C$17,"-",AE21)) | AD21: =IF(OR(AD20=$M$18,$M$18=""),"",IF(AD20="","",IF(AD20>$M$18-$AD$11,$M$18,IF($AD$11="",IF(AD20>$M$18-$M$18/$AI$11,"",AD20+$M$18/$AI$11),AD20+$AD$11)))) | AE21: 7 | AF21: =IF(AD21="","",BQ21+BR21+'[1]TABLEAU DE BORD'!$O$6) | AJ21: =IF(ISERROR(CB15)=TRUE,"",IF(CB15-(AH21+AI21)<=0,"Arbre à abattre",CB15-(AH21+AI21))) -> Arbre à abattre | AL21: =IF(AK21="","",IF(AJ21-(AF21*AK21)<=0,"A Abattre",AJ21-(AF21*AK21))) | AM21: =IF(AK21="","",IF(AJ21+(AF21*AK21)<=0,"A Abattre",AJ21+(AF21*AK21))) | AO21: =IF(OR(AP21="",$M$18=""),"",CONCATENATE($C$17,"-",AQ21)) -> 37-7 | AP21: =IF(OR(AP20=$M$18,$M$18=""),"",IF(AP20="","",IF(AP20>$M$18-$AP$11,$M$18,IF($AP$11="",IF(AP20>$M$18-$M$18/$AU$11,"",AP20+$M$18/$AU$11),AP20+$AP$11)))) -> 90 | AQ21: 7 | AR21: =IF(AP21="","",BQ21+$BG$7+CA21) -> #VALUE! | AV21: =IF(ISERROR(CN15)=TRUE,"",IF(CN15-(AT21+AU21)<=0,"Arbre à abattre",CN15-(AT21+AU21))) -> Arbre à abattre | AX21: =IF(AW21="","",IF(AV21-(AR21*AW21)<=0,"A Abattre",AV21-(AR21*AW21))) | AY21: =IF(AW21="","",IF(AV21+(AR21*AW21)<=0,"A Abattre",AV21+(AR21*AW21))) | BA21: - Demi-portée/param tre: A/2.P | BB21: =INDEX('[1]TABLEAU DE BORD'!B13:R2000,MATCH('Formalisme RTE'!H2,'[1]TABLEAU DE BORD'!B13:B2000,0),12)/(2*INDEX('[1]TABLEAU DE BORD'!B13:R2000,MATCH('Formalisme RTE'!H2,'[1]TABLEAU DE BORD'!B13:B2000,0),15)) -> 0.10635921 | BF21: G2= | BG21: =BG47 -> 3.5 | BH21: m | BJ21: T3+1m= | BK21: =IF('[1]TABLEAU DE BORD'!L2="AT 2001",INDEX('Formalisme RTE'!BM8:BO12,MATCH('Formalisme RTE'!D7,'Formalisme RTE'!BM8:BM12,0),3),"Non concerné") -> 2 | BL21: m | BQ21: =INDEX('[1]TABLEAU DE BORD'!$B$13:$R$2000,MATCH('Formalisme RTE'!$H$2,'[1]TABLEAU DE BORD'!$B$13:$B$2000,0),5)-(INDEX('[1]TABLEAU DE BORD'!$B$13:$R$2000,MATCH('Formalisme RTE'!$H$2,'[1]TABLEAU DE BORD'!$B$13:$B$2000,0),5)-INDEX('[1]TABLEAU DE BORD'!$B$13:$R$2000,MATCH('Formalisme RTE'!$H$2,'[1]TABLEAU DE BORD'!$B$13:$B$2000,0),11))*Q21/INDEX('[1]TABLEAU DE BORD'!$B$13:$R$2000,MATCH('Formalisme RTE'!$H$2,'[1]TABLEAU DE BORD'!$B$13:$B$2000,0),12) -> #VALUE! | BR21: =BU21*CA21 -> #VALUE! | BU21: =SQRT(1-(1/(SQRT((BY21*0.981)^2+(($B$30/10)*BW21*0.001)^2)/(BY21*0.981))^2)) -> 0.57588835 | BW21: =IF($BW$6="","",IF(ISERROR(INDEX([1]Base!$A$2:$C$207,MATCH($BW$6,[1]Base!$A$2:$A$207,0),2))=TRUE,"CABLE INCONNU",(INDEX([1]Base!$A$2:$C$207,MATCH($BW$6,[1]Base!$A$2:$A$207,0),3)))) -> 15.75 | BY21: =IF($BW$6="","",IF(ISERROR(INDEX([1]Base!$A$2:$C$207,MATCH($BW$6,[1]Base!$A$2:$A$207,0),2))=TRUE,"CABLE INCONNU",(INDEX([1]Base!$A$2:$C$207,MATCH($BW$6,[1]Base!$A$2:$A$207,0),2)))) -> 0.547 | CA21: =CD21-CC21 -> #VALUE! | CC21: =$BB$28+$D$10*((EXP(($BB$26-Q21)/$D$10)+EXP(-($BB$26-Q21)/$D$10))/2-1) -> #VALUE! | CD21: =(INDEX('[1]TABLEAU DE BORD'!$B$13:$R$2000,MATCH('Formalisme RTE'!$H$2,'[1]TABLEAU DE BORD'!$B$13:$B$2000,0),2)+INDEX($CF$15:$CG$2005,MATCH($H$2,$CF$15:$CF$2005,0),2)+INDEX('[1]TABLEAU DE BORD'!$B$13:$R$2000,MATCH('Formalisme RTE'!$H$2,'[1]TABLEAU DE BORD'!$B$13:$B$2000,0),3))-(((INDEX('[1]TABLEAU DE BORD'!$B$13:$R$2000,MATCH('Formalisme RTE'!$H$2,'[1]TABLEAU DE BORD'!$B$13:$B$2000,0),2)+INDEX($CF$15:$CG$2005,MATCH($H$2,$CF$15:$CF$2005,0),2)+INDEX('[1]TABLEAU DE BORD'!$B$13:$R$2000,MATCH('Formalisme RTE'!$H$2,'[1]TABLEAU DE BORD'!$B$13:$B$2000,0),3))-(INDEX('[1]TABLEAU DE BORD'!$B$13:$R$2000,MATCH('Formalisme RTE'!$H$2,'[1]TABLEAU DE BORD'!$B$13:$B$2000,0),8)+INDEX($CI$15:$CJ$2005,MATCH($J$2,$CI$15:$CI$2005,0),2)+INDEX('[1]TABLEAU DE BORD'!$B$13:$R$2000,MATCH('Formalisme RTE'!$H$2,'[1]TABLEAU DE BORD'!$B$13:$B$2000,0),9)))*Q21/$M$18) -> #VALUE! | CF21: ='[1]TABLEAU DE BORD'!B19 -> 3N | CG21: ='[1]TABLEAU DE BORD'!E19-'[1]TABLEAU DE BORD'!C19 -> 27 | CI21: ='[1]TABLEAU DE BORD'!H19 -> 4N | CJ21: ='[1]TABLEAU DE BORD'!K19-'[1]TABLEAU DE BORD'!I19 -> 14
B22: Distance câble / axe à T°répart. + vent (m) | C22: =C23-5-_xlfn.IFS($D$7=63,"3.5",$D$7=90,"3.5",$D$7=225,"4.5",$D$7=400,"6") -> 2.7040063 | D22: =D23-5-_xlfn.IFS($D$7=63,"3.5",$D$7=90,"3.5",$D$7=225,"4.5",$D$7=400,"6") -> 5.3623439 | E22: =IF(ISERROR(E23-5-_xlfn.IFS($D$7=63,"3.5",$D$7=90,"3.5",$D$7=225,"4.5",$D$7=400,"6")),"",E23-5-_xlfn.IFS($D$7=63,"3.5",$D$7=90,"3.5",$D$7=225,"4.5",$D$7=400,"6")) -> 6.4014733 | F22: =IF(ISERROR(F23-5-_xlfn.IFS($D$7=63,"3.5",$D$7=90,"3.5",$D$7=225,"4.5",$D$7=400,"6")),"",F23-5-_xlfn.IFS($D$7=63,"3.5",$D$7=90,"3.5",$D$7=225,"4.5",$D$7=400,"6")) -> 5.8142501 | G22: =IF(ISERROR(G23-5-_xlfn.IFS($D$7=63,"3.5",$D$7=90,"3.5",$D$7=225,"4.5",$D$7=400,"6")),"",G23-5-_xlfn.IFS($D$7=63,"3.5",$D$7=90,"3.5",$D$7=225,"4.5",$D$7=400,"6")) -> 4.1963222 | H22: =IF(ISERROR(H23-5-_xlfn.IFS($D$7=63,"3.5",$D$7=90,"3.5",$D$7=225,"4.5",$D$7=400,"6")),"",H23-5-_xlfn.IFS($D$7=63,"3.5",$D$7=90,"3.5",$D$7=225,"4.5",$D$7=400,"6")) | I22: =IF(ISERROR(I23-5-_xlfn.IFS($D$7=63,"3.5",$D$7=90,"3.5",$D$7=225,"4.5",$D$7=400,"6")),"",I23-5-_xlfn.IFS($D$7=63,"3.5",$D$7=90,"3.5",$D$7=225,"4.5",$D$7=400,"6")) | J22: =IF(ISERROR(J23-5-_xlfn.IFS($D$7=63,"3.5",$D$7=90,"3.5",$D$7=225,"4.5",$D$7=400,"6")),"",J23-5-_xlfn.IFS($D$7=63,"3.5",$D$7=90,"3.5",$D$7=225,"4.5",$D$7=400,"6")) | K22: =IF(ISERROR(K23-5-_xlfn.IFS($D$7=63,"3.5",$D$7=90,"3.5",$D$7=225,"4.5",$D$7=400,"6")),"",K23-5-_xlfn.IFS($D$7=63,"3.5",$D$7=90,"3.5",$D$7=225,"4.5",$D$7=400,"6")) | L22: =IF(ISERROR(L23-5-_xlfn.IFS($D$7=63,"3.5",$D$7=90,"3.5",$D$7=225,"4.5",$D$7=400,"6")),"",L23-5-_xlfn.IFS($D$7=63,"3.5",$D$7=90,"3.5",$D$7=225,"4.5",$D$7=400,"6")) | M22: =IF(ISERROR(M23-5-_xlfn.IFS($D$7=63,"3.5",$D$7=90,"3.5",$D$7=225,"4.5",$D$7=400,"6")),"",M23-5-_xlfn.IFS($D$7=63,"3.5",$D$7=90,"3.5",$D$7=225,"4.5",$D$7=400,"6")) | P22: =IF(OR(Q22="",$M$18=""),"",CONCATENATE($C$17,"-",R22)) | Q22: =IF(OR(Q21=$M$18,$M$18=""),"",IF(Q21="","",IF(Q21>$M$18-$Q$11,$M$18,IF($Q$11="",IF(Q21>$M$18-$M$18/$V$11,"",Q21+$M$18/$V$11),Q21+$Q$11)))) | R22: 8 | S22: =IF(Q22="","",BQ22+BR22+$BG$21+5) | W22: =IF(ISERROR(BX22)=TRUE,"",IF(BX22-(U22+V22)<=0,"Arbre à abattre",BX22-(U22+V22))) -> Arbre à abattre | Y22: =IF(X22="","",IF(W22-(S22*X22)<=0,"A Abattre",W22-(S22*X22))) | Z22: =IF(X22="","",IF(W22+(S22*X22)<=0,"A Abattre",W22+(S22*X22))) | AC22: =IF(OR(AD22="",$M$18=""),"",CONCATENATE($C$17,"-",AE22)) | AD22: =IF(OR(AD21=$M$18,$M$18=""),"",IF(AD21="","",IF(AD21>$M$18-$AD$11,$M$18,IF($AD$11="",IF(AD21>$M$18-$M$18/$AI$11,"",AD21+$M$18/$AI$11),AD21+$AD$11)))) | AE22: 8 | AF22: =IF(AD22="","",BQ22+BR22+'[1]TABLEAU DE BORD'!$O$6) | AJ22: =IF(ISERROR(CK22)=TRUE,"",IF(CK22-(AH22+AI22)<=0,"Arbre à abattre",CK22-(AH22+AI22))) -> Arbre à abattre | AL22: =IF(AK22="","",IF(AJ22-(AF22*AK22)<=0,"A Abattre",AJ22-(AF22*AK22))) | AM22: =IF(AK22="","",IF(AJ22+(AF22*AK22)<=0,"A Abattre",AJ22+(AF22*AK22))) | AO22: =IF(OR(AP22="",$M$18=""),"",CONCATENATE($C$17,"-",AQ22)) -> 37-8 | AP22: =IF(OR(AP21=$M$18,$M$18=""),"",IF(AP21="","",IF(AP21>$M$18-$AP$11,$M$18,IF($AP$11="",IF(AP21>$M$18-$M$18/$AU$11,"",AP21+$M$18/$AU$11),AP21+$AP$11)))) -> 105 | AQ22: 8 | AR22: =IF(AP22="","",BQ22+$BG$7+CA22) -> #VALUE! | AV22: =IF(ISERROR(CW22)=TRUE,"",IF(CW22-(AT22+AU22)<=0,"Arbre à abattre",CW22-(AT22+AU22))) -> Arbre à abattre | AX22: =IF(AW22="","",IF(AV22-(AR22*AW22)<=0,"A Abattre",AV22-(AR22*AW22))) | AY22: =IF(AW22="","",IF(AV22+(AR22*AW22)<=0,"A Abattre",AV22+(AR22*AW22))) | BA22: - K = H / (2.P.sh(A/2.P)) | BB22: =BB20/(2*INDEX('[1]TABLEAU DE BORD'!B13:R2000,MATCH('Formalisme RTE'!H2,'[1]TABLEAU DE BORD'!B13:B2000,0),15)*(EXP(BB21)-EXP(-BB21))/2) -> 0.1009024 | BQ22: =INDEX('[1]TABLEAU DE BORD'!$B$13:$R$2000,MATCH('Formalisme RTE'!$H$2,'[1]TABLEAU DE BORD'!$B$13:$B$2000,0),5)-(INDEX('[1]TABLEAU DE BORD'!$B$13:$R$2000,MATCH('Formalisme RTE'!$H$2,'[1]TABLEAU DE BORD'!$B$13:$B$2000,0),5)-INDEX('[1]TABLEAU DE BORD'!$B$13:$R$2000,MATCH('Formalisme RTE'!$H$2,'[1]TABLEAU DE BORD'!$B$13:$B$2000,0),11))*Q22/INDEX('[1]TABLEAU DE BORD'!$B$13:$R$2000,MATCH('Formalisme RTE'!$H$2,'[1]TABLEAU DE BORD'!$B$13:$B$2000,0),12) -> #VALUE! | BR22: =BU22*CA22 -> #VALUE! | BU22: =SQRT(1-(1/(SQRT((BY22*0.981)^2+(($B$30/10)*BW22*0.001)^2)/(BY22*0.981))^2)) -> 0.57588835 | BW22: =IF($BW$6="","",IF(ISERROR(INDEX([1]Base!$A$2:$C$207,MATCH($BW$6,[1]Base!$A$2:$A$207,0),2))=TRUE,"CABLE INCONNU",(INDEX([1]Base!$A$2:$C$207,MATCH($BW$6,[1]Base!$A$2:$A$207,0),3)))) -> 15.75 | BY22: =IF($BW$6="","",IF(ISERROR(INDEX([1]Base!$A$2:$C$207,MATCH($BW$6,[1]Base!$A$2:$A$207,0),2))=TRUE,"CABLE INCONNU",(INDEX([1]Base!$A$2:$C$207,MATCH($BW$6,[1]Base!$A$2:$A$207,0),2)))) -> 0.547 | CA22: =CD22-CC22 -> #VALUE! | CC22: =$BB$28+$D$10*((EXP(($BB$26-Q22)/$D$10)+EXP(-($BB$26-Q22)/$D$10))/2-1) -> #VALUE! | CD22: =(INDEX('[1]TABLEAU DE BORD'!$B$13:$R$2000,MATCH('Formalisme RTE'!$H$2,'[1]TABLEAU DE BORD'!$B$13:$B$2000,0),2)+INDEX($CF$15:$CG$2005,MATCH($H$2,$CF$15:$CF$2005,0),2)+INDEX('[1]TABLEAU DE BORD'!$B$13:$R$2000,MATCH('Formalisme RTE'!$H$2,'[1]TABLEAU DE BORD'!$B$13:$B$2000,0),3))-(((INDEX('[1]TABLEAU DE BORD'!$B$13:$R$2000,MATCH('Formalisme RTE'!$H$2,'[1]TABLEAU DE BORD'!$B$13:$B$2000,0),2)+INDEX($CF$15:$CG$2005,MATCH($H$2,$CF$15:$CF$2005,0),2)+INDEX('[1]TABLEAU DE BORD'!$B$13:$R$2000,MATCH('Formalisme RTE'!$H$2,'[1]TABLEAU DE BORD'!$B$13:$B$2000,0),3))-(INDEX('[1]TABLEAU DE BORD'!$B$13:$R$2000,MATCH('Formalisme RTE'!$H$2,'[1]TABLEAU DE BORD'!$B$13:$B$2000,0),8)+INDEX($CI$15:$CJ$2005,MATCH($J$2,$CI$15:$CI$2005,0),2)+INDEX('[1]TABLEAU DE BORD'!$B$13:$R$2000,MATCH('Formalisme RTE'!$H$2,'[1]TABLEAU DE BORD'!$B$13:$B$2000,0),9)))*Q22/$M$18) -> #VALUE! | CF22: ='[1]TABLEAU DE BORD'!B20 -> 4N | CG22: ='[1]TABLEAU DE BORD'!E20-'[1]TABLEAU DE BORD'!C20 -> 14 | CI22: ='[1]TABLEAU DE BORD'!H20 -> Madeleine2 | CJ22: ='[1]TABLEAU DE BORD'!K20-'[1]TABLEAU DE BORD'!I20 -> 15.3
B23: 1/2 largeur / axe selon DT (G2 + 5 m) | C23: =S15 -> 11.204006 | D23: =S16 -> 13.862344 | E23: =S17 -> 14.901473 | F23: =S18 -> 14.31425 | G23: =S19 -> 12.696322 | H23: =S20 | I23: =S21 | J23: =S22 | K23: =S23 | L23: =S24 | M23: =S25 | P23: =IF(OR(Q23="",$M$18=""),"",CONCATENATE($C$17,"-",R23)) | Q23: =IF(OR(Q22=$M$18,$M$18=""),"",IF(Q22="","",IF(Q22>$M$18-$Q$11,$M$18,IF($Q$11="",IF(Q22>$M$18-$M$18/$V$11,"",Q22+$M$18/$V$11),Q22+$Q$11)))) | R23: 9 | S23: =IF(Q23="","",BQ23+BR23+$BG$21+5) | W23: =IF(ISERROR(BX23)=TRUE,"",IF(BX23-(U23+V23)<=0,"Arbre à abattre",BX23-(U23+V23))) -> Arbre à abattre | Y23: =IF(X23="","",IF(W23-(S23*X23)<=0,"A Abattre",W23-(S23*X23))) | Z23: =IF(X23="","",IF(W23+(S23*X23)<=0,"A Abattre",W23+(S23*X23))) | AC23: =IF(OR(AD23="",$M$18=""),"",CONCATENATE($C$17,"-",AE23)) | AD23: =IF(OR(AD22=$M$18,$M$18=""),"",IF(AD22="","",IF(AD22>$M$18-$AD$11,$M$18,IF($AD$11="",IF(AD22>$M$18-$M$18/$AI$11,"",AD22+$M$18/$AI$11),AD22+$AD$11)))) | AE23: 9 | AF23: =IF(AD23="","",BQ23+BR23+'[1]TABLEAU DE BORD'!$O$6) | AJ23: =IF(ISERROR(CK23)=TRUE,"",IF(CK23-(AH23+AI23)<=0,"Arbre à abattre",CK23-(AH23+AI23))) -> Arbre à abattre | AL23: =IF(AK23="","",IF(AJ23-(AF23*AK23)<=0,"A Abattre",AJ23-(AF23*AK23))) | AM23: =IF(AK23="","",IF(AJ23+(AF23*AK23)<=0,"A Abattre",AJ23+(AF23*AK23))) | AO23: =IF(OR(AP23="",$M$18=""),"",CONCATENATE($C$17,"-",AQ23)) -> 37-9 | AP23: =IF(OR(AP22=$M$18,$M$18=""),"",IF(AP22="","",IF(AP22>$M$18-$AP$11,$M$18,IF($AP$11="",IF(AP22>$M$18-$M$18/$AU$11,"",AP22+$M$18/$AU$11),AP22+$AP$11)))) -> 120 | AQ23: 9 | AR23: =IF(AP23="","",BQ23+$BG$7+CA23) -> #VALUE! | AV23: =IF(ISERROR(CW23)=TRUE,"",IF(CW23-(AT23+AU23)<=0,"Arbre à abattre",CW23-(AT23+AU23))) -> Arbre à abattre | AX23: =IF(AW23="","",IF(AV23-(AR23*AW23)<=0,"A Abattre",AV23-(AR23*AW23))) | AY23: =IF(AW23="","",IF(AV23+(AR23*AW23)<=0,"A Abattre",AV23+(AR23*AW23))) | BA23: - X2 = K + racine(K²+1) | BB23: =BB22+SQRT(BB22*BB22+1) -> 1.1059802 | BF23: +5m | BH23: OUI | BQ23: =INDEX('[1]TABLEAU DE BORD'!$B$13:$R$2000,MATCH('Formalisme RTE'!$H$2,'[1]TABLEAU DE BORD'!$B$13:$B$2000,0),5)-(INDEX('[1]TABLEAU DE BORD'!$B$13:$R$2000,MATCH('Formalisme RTE'!$H$2,'[1]TABLEAU DE BORD'!$B$13:$B$2000,0),5)-INDEX('[1]TABLEAU DE BORD'!$B$13:$R$2000,MATCH('Formalisme RTE'!$H$2,'[1]TABLEAU DE BORD'!$B$13:$B$2000,0),11))*Q23/INDEX('[1]TABLEAU DE BORD'!$B$13:$R$2000,MATCH('Formalisme RTE'!$H$2,'[1]TABLEAU DE BORD'!$B$13:$B$2000,0),12) -> #VALUE! | BR23: =BU23*CA23 -> #VALUE! | BU23: =SQRT(1-(1/(SQRT((BY23*0.981)^2+(($B$30/10)*BW23*0.001)^2)/(BY23*0.981))^2)) -> 0.57588835 | BW23: =IF($BW$6="","",IF(ISERROR(INDEX([1]Base!$A$2:$C$207,MATCH($BW$6,[1]Base!$A$2:$A$207,0),2))=TRUE,"CABLE INCONNU",(INDEX([1]Base!$A$2:$C$207,MATCH($BW$6,[1]Base!$A$2:$A$207,0),3)))) -> 15.75 | BY23: =IF($BW$6="","",IF(ISERROR(INDEX([1]Base!$A$2:$C$207,MATCH($BW$6,[1]Base!$A$2:$A$207,0),2))=TRUE,"CABLE INCONNU",(INDEX([1]Base!$A$2:$C$207,MATCH($BW$6,[1]Base!$A$2:$A$207,0),2)))) -> 0.547 | CA23: =CD23-CC23 -> #VALUE! | CC23: =$BB$28+$D$10*((EXP(($BB$26-Q23)/$D$10)+EXP(-($BB$26-Q23)/$D$10))/2-1) -> #VALUE! | CD23: =(INDEX('[1]TABLEAU DE BORD'!$B$13:$R$2000,MATCH('Formalisme RTE'!$H$2,'[1]TABLEAU DE BORD'!$B$13:$B$2000,0),2)+INDEX($CF$15:$CG$2005,MATCH($H$2,$CF$15:$CF$2005,0),2)+INDEX('[1]TABLEAU DE BORD'!$B$13:$R$2000,MATCH('Formalisme RTE'!$H$2,'[1]TABLEAU DE BORD'!$B$13:$B$2000,0),3))-(((INDEX('[1]TABLEAU DE BORD'!$B$13:$R$2000,MATCH('Formalisme RTE'!$H$2,'[1]TABLEAU DE BORD'!$B$13:$B$2000,0),2)+INDEX($CF$15:$CG$2005,MATCH($H$2,$CF$15:$CF$2005,0),2)+INDEX('[1]TABLEAU DE BORD'!$B$13:$R$2000,MATCH('Formalisme RTE'!$H$2,'[1]TABLEAU DE BORD'!$B$13:$B$2000,0),3))-(INDEX('[1]TABLEAU DE BORD'!$B$13:$R$2000,MATCH('Formalisme RTE'!$H$2,'[1]TABLEAU DE BORD'!$B$13:$B$2000,0),8)+INDEX($CI$15:$CJ$2005,MATCH($J$2,$CI$15:$CI$2005,0),2)+INDEX('[1]TABLEAU DE BORD'!$B$13:$R$2000,MATCH('Formalisme RTE'!$H$2,'[1]TABLEAU DE BORD'!$B$13:$B$2000,0),9)))*Q23/$M$18) -> #VALUE! | CF23: ='[1]TABLEAU DE BORD'!B21 | CG23: ='[1]TABLEAU DE BORD'!E21-'[1]TABLEAU DE BORD'!C21 -> #VALUE! | CI23: ='[1]TABLEAU DE BORD'!H21 | CJ23: ='[1]TABLEAU DE BORD'!K21-'[1]TABLEAU DE BORD'!I21 -> #VALUE!
B24: Hauteur câble / altitude point à T°répart. (m) | P24: =IF(OR(Q24="",$M$18=""),"",CONCATENATE($C$17,"-",R24)) | Q24: =IF(OR(Q23=$M$18,$M$18=""),"",IF(Q23="","",IF(Q23>$M$18-$Q$11,$M$18,IF($Q$11="",IF(Q23>$M$18-$M$18/$V$11,"",Q23+$M$18/$V$11),Q23+$Q$11)))) | R24: 10 | S24: =IF(Q24="","",BQ24+BR24+$BG$21+5) | AC24: =IF(OR(AD24="",$M$18=""),"",CONCATENATE($C$17,"-",AE24)) | AD24: =IF(OR(AD23=$M$18,$M$18=""),"",IF(AD23="","",IF(AD23>$M$18-$AD$11,$M$18,IF($AD$11="",IF(AD23>$M$18-$M$18/$AI$11,"",AD23+$M$18/$AI$11),AD23+$AD$11)))) | AE24: 10 | AF24: =IF(AD24="","",BQ24+BR24+'[1]TABLEAU DE BORD'!$O$6) | AO24: =IF(OR(AP24="",$M$18=""),"",CONCATENATE($C$17,"-",AQ24)) -> 37-10 | AP24: =IF(OR(AP23=$M$18,$M$18=""),"",IF(AP23="","",IF(AP23>$M$18-$AP$11,$M$18,IF($AP$11="",IF(AP23>$M$18-$M$18/$AU$11,"",AP23+$M$18/$AU$11),AP23+$AP$11)))) -> 135 | AQ24: 10 | AR24: =IF(AP24="","",CC24+CD24+'[1]TABLEAU DE BORD'!$O$6) -> #VALUE! | BQ24: =INDEX('[1]TABLEAU DE BORD'!$B$13:$R$2000,MATCH('Formalisme RTE'!$H$2,'[1]TABLEAU DE BORD'!$B$13:$B$2000,0),5)-(INDEX('[1]TABLEAU DE BORD'!$B$13:$R$2000,MATCH('Formalisme RTE'!$H$2,'[1]TABLEAU DE BORD'!$B$13:$B$2000,0),5)-INDEX('[1]TABLEAU DE BORD'!$B$13:$R$2000,MATCH('Formalisme RTE'!$H$2,'[1]TABLEAU DE BORD'!$B$13:$B$2000,0),11))*Q24/INDEX('[1]TABLEAU DE BORD'!$B$13:$R$2000,MATCH('Formalisme RTE'!$H$2,'[1]TABLEAU DE BORD'!$B$13:$B$2000,0),12) -> #VALUE! | BR24: =BU24*CA24 -> #VALUE! | BU24: =SQRT(1-(1/(SQRT((BY24*0.981)^2+(($B$30/10)*BW24*0.001)^2)/(BY24*0.981))^2)) -> 0.57588835 | BW24: =IF($BW$6="","",IF(ISERROR(INDEX([1]Base!$A$2:$C$207,MATCH($BW$6,[1]Base!$A$2:$A$207,0),2))=TRUE,"CABLE INCONNU",(INDEX([1]Base!$A$2:$C$207,MATCH($BW$6,[1]Base!$A$2:$A$207,0),3)))) -> 15.75 | BY24: =IF($BW$6="","",IF(ISERROR(INDEX([1]Base!$A$2:$C$207,MATCH($BW$6,[1]Base!$A$2:$A$207,0),2))=TRUE,"CABLE INCONNU",(INDEX([1]Base!$A$2:$C$207,MATCH($BW$6,[1]Base!$A$2:$A$207,0),2)))) -> 0.547 | CA24: =CD24-CC24 -> #VALUE! | CC24: =$BB$28+$D$10*((EXP(($BB$26-Q24)/$D$10)+EXP(-($BB$26-Q24)/$D$10))/2-1) -> #VALUE! | CD24: =(INDEX('[1]TABLEAU DE BORD'!$B$13:$R$2000,MATCH('Formalisme RTE'!$H$2,'[1]TABLEAU DE BORD'!$B$13:$B$2000,0),2)+INDEX($CF$15:$CG$2005,MATCH($H$2,$CF$15:$CF$2005,0),2)+INDEX('[1]TABLEAU DE BORD'!$B$13:$R$2000,MATCH('Formalisme RTE'!$H$2,'[1]TABLEAU DE BORD'!$B$13:$B$2000,0),3))-(((INDEX('[1]TABLEAU DE BORD'!$B$13:$R$2000,MATCH('Formalisme RTE'!$H$2,'[1]TABLEAU DE BORD'!$B$13:$B$2000,0),2)+INDEX($CF$15:$CG$2005,MATCH($H$2,$CF$15:$CF$2005,0),2)+INDEX('[1]TABLEAU DE BORD'!$B$13:$R$2000,MATCH('Formalisme RTE'!$H$2,'[1]TABLEAU DE BORD'!$B$13:$B$2000,0),3))-(INDEX('[1]TABLEAU DE BORD'!$B$13:$R$2000,MATCH('Formalisme RTE'!$H$2,'[1]TABLEAU DE BORD'!$B$13:$B$2000,0),8)+INDEX($CI$15:$CJ$2005,MATCH($J$2,$CI$15:$CI$2005,0),2)+INDEX('[1]TABLEAU DE BORD'!$B$13:$R$2000,MATCH('Formalisme RTE'!$H$2,'[1]TABLEAU DE BORD'!$B$13:$B$2000,0),9)))*Q24/$M$18) -> #VALUE! | CF24: ='[1]TABLEAU DE BORD'!B22 | CG24: ='[1]TABLEAU DE BORD'!E22-'[1]TABLEAU DE BORD'!C22 -> #VALUE! | CI24: ='[1]TABLEAU DE BORD'!H22 | CJ24: ='[1]TABLEAU DE BORD'!K22-'[1]TABLEAU DE BORD'!I22 -> #VALUE!
B25: Hauteur tranchée / altitude point à l'AT 2001 (m) | P25: =IF(OR(Q25="",$M$18=""),"",CONCATENATE($C$17,"-",R25)) | Q25: =IF(OR(Q24=$M$18,$M$18=""),"",IF(Q24="","",IF(Q24>$M$18-$Q$11,$M$18,IF($Q$11="",IF(Q24>$M$18-$M$18/$V$11,"",Q24+$M$18/$V$11),Q24+$Q$11)))) | R25: 11 | S25: =IF(Q25="","",BQ25+BR25+$BG$21+5) | AC25: =IF(OR(AD25="",$M$18=""),"",CONCATENATE($C$17,"-",AE25)) | AD25: =IF(OR(AD24=$M$18,$M$18=""),"",IF(AD24="","",IF(AD24>$M$18-$AD$11,$M$18,IF($AD$11="",IF(AD24>$M$18-$M$18/$AI$11,"",AD24+$M$18/$AI$11),AD24+$AD$11)))) | AE25: 11 | AF25: =IF(AD25="","",BQ25+BR25+'[1]TABLEAU DE BORD'!$O$6) | AO25: =IF(OR(AP25="",$M$18=""),"",CONCATENATE($C$17,"-",AQ25)) -> 37-11 | AP25: =IF(OR(AP24=$M$18,$M$18=""),"",IF(AP24="","",IF(AP24>$M$18-$AP$11,$M$18,IF($AP$11="",IF(AP24>$M$18-$M$18/$AU$11,"",AP24+$M$18/$AU$11),AP24+$AP$11)))) -> 150 | AQ25: 11 | AR25: =IF(AP25="","",CC25+CD25+'[1]TABLEAU DE BORD'!$O$6) -> #VALUE! | BA25: - X1 = Ln(X2) | BB25: =LN(BB23) -> 0.10073197 | BQ25: =INDEX('[1]TABLEAU DE BORD'!$B$13:$R$2000,MATCH('Formalisme RTE'!$H$2,'[1]TABLEAU DE BORD'!$B$13:$B$2000,0),5)-(INDEX('[1]TABLEAU DE BORD'!$B$13:$R$2000,MATCH('Formalisme RTE'!$H$2,'[1]TABLEAU DE BORD'!$B$13:$B$2000,0),5)-INDEX('[1]TABLEAU DE BORD'!$B$13:$R$2000,MATCH('Formalisme RTE'!$H$2,'[1]TABLEAU DE BORD'!$B$13:$B$2000,0),11))*Q25/INDEX('[1]TABLEAU DE BORD'!$B$13:$R$2000,MATCH('Formalisme RTE'!$H$2,'[1]TABLEAU DE BORD'!$B$13:$B$2000,0),12) -> #VALUE! | BR25: =BU25*CA25 -> #VALUE! | BU25: =SQRT(1-(1/(SQRT((BY25*0.981)^2+(($B$30/10)*BW25*0.001)^2)/(BY25*0.981))^2)) -> 0.57588835 | BW25: =IF($BW$6="","",IF(ISERROR(INDEX([1]Base!$A$2:$C$207,MATCH($BW$6,[1]Base!$A$2:$A$207,0),2))=TRUE,"CABLE INCONNU",(INDEX([1]Base!$A$2:$C$207,MATCH($BW$6,[1]Base!$A$2:$A$207,0),3)))) -> 15.75 | BY25: =IF($BW$6="","",IF(ISERROR(INDEX([1]Base!$A$2:$C$207,MATCH($BW$6,[1]Base!$A$2:$A$207,0),2))=TRUE,"CABLE INCONNU",(INDEX([1]Base!$A$2:$C$207,MATCH($BW$6,[1]Base!$A$2:$A$207,0),2)))) -> 0.547 | CA25: =CD25-CC25 -> #VALUE! | CC25: =$BB$28+$D$10*((EXP(($BB$26-Q25)/$D$10)+EXP(-($BB$26-Q25)/$D$10))/2-1) -> #VALUE! | CD25: =(INDEX('[1]TABLEAU DE BORD'!$B$13:$R$2000,MATCH('Formalisme RTE'!$H$2,'[1]TABLEAU DE BORD'!$B$13:$B$2000,0),2)+INDEX($CF$15:$CG$2005,MATCH($H$2,$CF$15:$CF$2005,0),2)+INDEX('[1]TABLEAU DE BORD'!$B$13:$R$2000,MATCH('Formalisme RTE'!$H$2,'[1]TABLEAU DE BORD'!$B$13:$B$2000,0),3))-(((INDEX('[1]TABLEAU DE BORD'!$B$13:$R$2000,MATCH('Formalisme RTE'!$H$2,'[1]TABLEAU DE BORD'!$B$13:$B$2000,0),2)+INDEX($CF$15:$CG$2005,MATCH($H$2,$CF$15:$CF$2005,0),2)+INDEX('[1]TABLEAU DE BORD'!$B$13:$R$2000,MATCH('Formalisme RTE'!$H$2,'[1]TABLEAU DE BORD'!$B$13:$B$2000,0),3))-(INDEX('[1]TABLEAU DE BORD'!$B$13:$R$2000,MATCH('Formalisme RTE'!$H$2,'[1]TABLEAU DE BORD'!$B$13:$B$2000,0),8)+INDEX($CI$15:$CJ$2005,MATCH($J$2,$CI$15:$CI$2005,0),2)+INDEX('[1]TABLEAU DE BORD'!$B$13:$R$2000,MATCH('Formalisme RTE'!$H$2,'[1]TABLEAU DE BORD'!$B$13:$B$2000,0),9)))*Q25/$M$18) -> #VALUE! | CF25: ='[1]TABLEAU DE BORD'!B23 | CG25: ='[1]TABLEAU DE BORD'!E23-'[1]TABLEAU DE BORD'!C23 -> #VALUE! | CI25: ='[1]TABLEAU DE BORD'!H23 | CJ25: ='[1]TABLEAU DE BORD'!K23-'[1]TABLEAU DE BORD'!I23 -> #VALUE!
B26: Hauteur tranchée / altitude point selon DT (m) | P26: =IF(OR(Q26="",$M$18=""),"",CONCATENATE($C$17,"-",R26)) | Q26: =IF(OR(Q25=$M$18,$M$18=""),"",IF(Q25="","",IF(Q25>$M$18-$Q$11,$M$18,IF($Q$11="",IF(Q25>$M$18-$M$18/$V$11,"",Q25+$M$18/$V$11),Q25+$Q$11)))) | R26: 12 | S26: =IF(Q26="","",BQ26+BR26+$BG$21+5) | AC26: =IF(OR(AD26="",$M$18=""),"",CONCATENATE($C$17,"-",AE26)) | AD26: =IF(OR(AD25=$M$18,$M$18=""),"",IF(AD25="","",IF(AD25>$M$18-$AD$11,$M$18,IF($AD$11="",IF(AD25>$M$18-$M$18/$AI$11,"",AD25+$M$18/$AI$11),AD25+$AD$11)))) | AE26: 12 | AF26: =IF(AD26="","",BQ26+BR26+'[1]TABLEAU DE BORD'!$O$6) | AO26: =IF(OR(AP26="",$M$18=""),"",CONCATENATE($C$17,"-",AQ26)) -> 37-12 | AP26: =IF(OR(AP25=$M$18,$M$18=""),"",IF(AP25="","",IF(AP25>$M$18-$AP$11,$M$18,IF($AP$11="",IF(AP25>$M$18-$M$18/$AU$11,"",AP25+$M$18/$AU$11),AP25+$AP$11)))) -> 165 | AQ26: 12 | AR26: =IF(AP26="","",CC26+CD26+'[1]TABLEAU DE BORD'!$O$6) -> #VALUE! | BA26: - X0 = A/2 - X1*P | BB26: =INDEX('[1]TABLEAU DE BORD'!B13:R2000,MATCH('Formalisme RTE'!H2,'[1]TABLEAU DE BORD'!B13:B2000,0),12)/2-BB25*INDEX('[1]TABLEAU DE BORD'!B13:R2000,MATCH('Formalisme RTE'!H2,'[1]TABLEAU DE BORD'!B13:B2000,0),15) -> 5.0111704 | BQ26: =INDEX('[1]TABLEAU DE BORD'!$B$13:$R$2000,MATCH('Formalisme RTE'!$H$2,'[1]TABLEAU DE BORD'!$B$13:$B$2000,0),5)-(INDEX('[1]TABLEAU DE BORD'!$B$13:$R$2000,MATCH('Formalisme RTE'!$H$2,'[1]TABLEAU DE BORD'!$B$13:$B$2000,0),5)-INDEX('[1]TABLEAU DE BORD'!$B$13:$R$2000,MATCH('Formalisme RTE'!$H$2,'[1]TABLEAU DE BORD'!$B$13:$B$2000,0),11))*Q26/INDEX('[1]TABLEAU DE BORD'!$B$13:$R$2000,MATCH('Formalisme RTE'!$H$2,'[1]TABLEAU DE BORD'!$B$13:$B$2000,0),12) -> #VALUE! | BR26: =BU26*CA26 -> #VALUE! | BU26: =SQRT(1-(1/(SQRT((BY26*0.981)^2+(($B$30/10)*BW26*0.001)^2)/(BY26*0.981))^2)) -> 0.57588835 | BW26: =IF($BW$6="","",IF(ISERROR(INDEX([1]Base!$A$2:$C$207,MATCH($BW$6,[1]Base!$A$2:$A$207,0),2))=TRUE,"CABLE INCONNU",(INDEX([1]Base!$A$2:$C$207,MATCH($BW$6,[1]Base!$A$2:$A$207,0),3)))) -> 15.75 | BY26: =IF($BW$6="","",IF(ISERROR(INDEX([1]Base!$A$2:$C$207,MATCH($BW$6,[1]Base!$A$2:$A$207,0),2))=TRUE,"CABLE INCONNU",(INDEX([1]Base!$A$2:$C$207,MATCH($BW$6,[1]Base!$A$2:$A$207,0),2)))) -> 0.547 | CA26: =CD26-CC26 -> #VALUE! | CC26: =$BB$28+$D$10*((EXP(($BB$26-Q26)/$D$10)+EXP(-($BB$26-Q26)/$D$10))/2-1) -> #VALUE! | CD26: =(INDEX('[1]TABLEAU DE BORD'!$B$13:$R$2000,MATCH('Formalisme RTE'!$H$2,'[1]TABLEAU DE BORD'!$B$13:$B$2000,0),2)+INDEX($CF$15:$CG$2005,MATCH($H$2,$CF$15:$CF$2005,0),2)+INDEX('[1]TABLEAU DE BORD'!$B$13:$R$2000,MATCH('Formalisme RTE'!$H$2,'[1]TABLEAU DE BORD'!$B$13:$B$2000,0),3))-(((INDEX('[1]TABLEAU DE BORD'!$B$13:$R$2000,MATCH('Formalisme RTE'!$H$2,'[1]TABLEAU DE BORD'!$B$13:$B$2000,0),2)+INDEX($CF$15:$CG$2005,MATCH($H$2,$CF$15:$CF$2005,0),2)+INDEX('[1]TABLEAU DE BORD'!$B$13:$R$2000,MATCH('Formalisme RTE'!$H$2,'[1]TABLEAU DE BORD'!$B$13:$B$2000,0),3))-(INDEX('[1]TABLEAU DE BORD'!$B$13:$R$2000,MATCH('Formalisme RTE'!$H$2,'[1]TABLEAU DE BORD'!$B$13:$B$2000,0),8)+INDEX($CI$15:$CJ$2005,MATCH($J$2,$CI$15:$CI$2005,0),2)+INDEX('[1]TABLEAU DE BORD'!$B$13:$R$2000,MATCH('Formalisme RTE'!$H$2,'[1]TABLEAU DE BORD'!$B$13:$B$2000,0),9)))*Q26/$M$18) -> #VALUE! | CF26: ='[1]TABLEAU DE BORD'!B24 | CG26: ='[1]TABLEAU DE BORD'!E24-'[1]TABLEAU DE BORD'!C24 -> #VALUE! | CI26: ='[1]TABLEAU DE BORD'!H24 | CJ26: ='[1]TABLEAU DE BORD'!K24-'[1]TABLEAU DE BORD'!I24 -> #VALUE!
P27: =IF(OR(Q27="",$M$18=""),"",CONCATENATE($C$17,"-",R27)) | Q27: =IF(OR(Q26=$M$18,$M$18=""),"",IF(Q26="","",IF(Q26>$M$18-$Q$11,$M$18,IF($Q$11="",IF(Q26>$M$18-$M$18/$V$11,"",Q26+$M$18/$V$11),Q26+$Q$11)))) | R27: 13 | S27: =IF(Q27="","",BQ27+BR27+$BG$21+5) | AC27: =IF(OR(AD27="",$M$18=""),"",CONCATENATE($C$17,"-",AE27)) | AD27: =IF(OR(AD26=$M$18,$M$18=""),"",IF(AD26="","",IF(AD26>$M$18-$AD$11,$M$18,IF($AD$11="",IF(AD26>$M$18-$M$18/$AI$11,"",AD26+$M$18/$AI$11),AD26+$AD$11)))) | AE27: 13 | AF27: =IF(AD27="","",BQ27+BR27+'[1]TABLEAU DE BORD'!$O$6) | AO27: =IF(OR(AP27="",$M$18=""),"",CONCATENATE($C$17,"-",AQ27)) -> 37-13 | AP27: =IF(OR(AP26=$M$18,$M$18=""),"",IF(AP26="","",IF(AP26>$M$18-$AP$11,$M$18,IF($AP$11="",IF(AP26>$M$18-$M$18/$AU$11,"",AP26+$M$18/$AU$11),AP26+$AP$11)))) -> 180 | AQ27: 13 | AR27: =IF(AP27="","",CC27+CD27+'[1]TABLEAU DE BORD'!$O$6) -> #VALUE! | BA27: - X0/P | BB27: =BB26/INDEX('[1]TABLEAU DE BORD'!B13:R2000,MATCH('Formalisme RTE'!H2,'[1]TABLEAU DE BORD'!B13:B2000,0),15) -> 0.0056272407 | BQ27: =INDEX('[1]TABLEAU DE BORD'!$B$13:$R$2000,MATCH('Formalisme RTE'!$H$2,'[1]TABLEAU DE BORD'!$B$13:$B$2000,0),5)-(INDEX('[1]TABLEAU DE BORD'!$B$13:$R$2000,MATCH('Formalisme RTE'!$H$2,'[1]TABLEAU DE BORD'!$B$13:$B$2000,0),5)-INDEX('[1]TABLEAU DE BORD'!$B$13:$R$2000,MATCH('Formalisme RTE'!$H$2,'[1]TABLEAU DE BORD'!$B$13:$B$2000,0),11))*Q27/INDEX('[1]TABLEAU DE BORD'!$B$13:$R$2000,MATCH('Formalisme RTE'!$H$2,'[1]TABLEAU DE BORD'!$B$13:$B$2000,0),12) -> #VALUE! | BR27: =BU27*CA27 -> #VALUE! | BU27: =SQRT(1-(1/(SQRT((BY27*0.981)^2+(($B$30/10)*BW27*0.001)^2)/(BY27*0.981))^2)) -> 0.57588835 | BW27: =IF($BW$6="","",IF(ISERROR(INDEX([1]Base!$A$2:$C$207,MATCH($BW$6,[1]Base!$A$2:$A$207,0),2))=TRUE,"CABLE INCONNU",(INDEX([1]Base!$A$2:$C$207,MATCH($BW$6,[1]Base!$A$2:$A$207,0),3)))) -> 15.75 | BY27: =IF($BW$6="","",IF(ISERROR(INDEX([1]Base!$A$2:$C$207,MATCH($BW$6,[1]Base!$A$2:$A$207,0),2))=TRUE,"CABLE INCONNU",(INDEX([1]Base!$A$2:$C$207,MATCH($BW$6,[1]Base!$A$2:$A$207,0),2)))) -> 0.547 | CA27: =CD27-CC27 -> #VALUE! | CC27: =$BB$28+$D$10*((EXP(($BB$26-Q27)/$D$10)+EXP(-($BB$26-Q27)/$D$10))/2-1) -> #VALUE! | CD27: =(INDEX('[1]TABLEAU DE BORD'!$B$13:$R$2000,MATCH('Formalisme RTE'!$H$2,'[1]TABLEAU DE BORD'!$B$13:$B$2000,0),2)+INDEX($CF$15:$CG$2005,MATCH($H$2,$CF$15:$CF$2005,0),2)+INDEX('[1]TABLEAU DE BORD'!$B$13:$R$2000,MATCH('Formalisme RTE'!$H$2,'[1]TABLEAU DE BORD'!$B$13:$B$2000,0),3))-(((INDEX('[1]TABLEAU DE BORD'!$B$13:$R$2000,MATCH('Formalisme RTE'!$H$2,'[1]TABLEAU DE BORD'!$B$13:$B$2000,0),2)+INDEX($CF$15:$CG$2005,MATCH($H$2,$CF$15:$CF$2005,0),2)+INDEX('[1]TABLEAU DE BORD'!$B$13:$R$2000,MATCH('Formalisme RTE'!$H$2,'[1]TABLEAU DE BORD'!$B$13:$B$2000,0),3))-(INDEX('[1]TABLEAU DE BORD'!$B$13:$R$2000,MATCH('Formalisme RTE'!$H$2,'[1]TABLEAU DE BORD'!$B$13:$B$2000,0),8)+INDEX($CI$15:$CJ$2005,MATCH($J$2,$CI$15:$CI$2005,0),2)+INDEX('[1]TABLEAU DE BORD'!$B$13:$R$2000,MATCH('Formalisme RTE'!$H$2,'[1]TABLEAU DE BORD'!$B$13:$B$2000,0),9)))*Q27/$M$18) -> #VALUE! | CF27: ='[1]TABLEAU DE BORD'!B25 | CG27: ='[1]TABLEAU DE BORD'!E25-'[1]TABLEAU DE BORD'!C25 -> #VALUE! | CI27: ='[1]TABLEAU DE BORD'!H25 | CJ27: ='[1]TABLEAU DE BORD'!K25-'[1]TABLEAU DE BORD'!I25 -> #VALUE!
P28: =IF(OR(Q28="",$M$18=""),"",CONCATENATE($C$17,"-",R28)) | Q28: =IF(OR(Q27=$M$18,$M$18=""),"",IF(Q27="","",IF(Q27>$M$18-$Q$11,$M$18,IF($Q$11="",IF(Q27>$M$18-$M$18/$V$11,"",Q27+$M$18/$V$11),Q27+$Q$11)))) | R28: 14 | S28: =IF(Q28="","",BQ28+BR28+$BG$21+5) | AC28: =IF(OR(AD28="",$M$18=""),"",CONCATENATE($C$17,"-",AE28)) | AE28: 14 | AF28: =IF(AD28="","",BQ28+BR28+'[1]TABLEAU DE BORD'!$O$6) | AO28: =IF(OR(AP28="",$M$18=""),"",CONCATENATE($C$17,"-",AQ28)) -> 37-14 | AP28: =IF(OR(AP27=$M$18,$M$18=""),"",IF(AP27="","",IF(AP27>$M$18-$AP$11,$M$18,IF($AP$11="",IF(AP27>$M$18-$M$18/$AU$11,"",AP27+$M$18/$AU$11),AP27+$AP$11)))) -> 189.43 | AQ28: 14 | AR28: =IF(AP28="","",CC28+CD28+'[1]TABLEAU DE BORD'!$O$6) -> #VALUE! | BA28: - Y0 = H1 - P*(ch(X0/P)-1) | BB28: =INDEX('[1]TABLEAU DE BORD'!B13:R2000,MATCH('Formalisme RTE'!H2,'[1]TABLEAU DE BORD'!B13:B2000,0),4)-INDEX('[1]TABLEAU DE BORD'!B13:R2000,MATCH('Formalisme RTE'!H2,'[1]TABLEAU DE BORD'!B13:B2000,0),15)*((EXP(BB27)+EXP(-BB27))/2-1) -> 237.9459 | BQ28: =INDEX('[1]TABLEAU DE BORD'!$B$13:$R$2000,MATCH('Formalisme RTE'!$H$2,'[1]TABLEAU DE BORD'!$B$13:$B$2000,0),5)-(INDEX('[1]TABLEAU DE BORD'!$B$13:$R$2000,MATCH('Formalisme RTE'!$H$2,'[1]TABLEAU DE BORD'!$B$13:$B$2000,0),5)-INDEX('[1]TABLEAU DE BORD'!$B$13:$R$2000,MATCH('Formalisme RTE'!$H$2,'[1]TABLEAU DE BORD'!$B$13:$B$2000,0),11))*Q28/INDEX('[1]TABLEAU DE BORD'!$B$13:$R$2000,MATCH('Formalisme RTE'!$H$2,'[1]TABLEAU DE BORD'!$B$13:$B$2000,0),12) -> #VALUE! | BR28: =BU28*CA28 -> #VALUE! | BU28: =SQRT(1-(1/(SQRT((BY28*0.981)^2+(($B$30/10)*BW28*0.001)^2)/(BY28*0.981))^2)) -> 0.57588835 | BW28: =IF($BW$6="","",IF(ISERROR(INDEX([1]Base!$A$2:$C$207,MATCH($BW$6,[1]Base!$A$2:$A$207,0),2))=TRUE,"CABLE INCONNU",(INDEX([1]Base!$A$2:$C$207,MATCH($BW$6,[1]Base!$A$2:$A$207,0),3)))) -> 15.75 | BY28: =IF($BW$6="","",IF(ISERROR(INDEX([1]Base!$A$2:$C$207,MATCH($BW$6,[1]Base!$A$2:$A$207,0),2))=TRUE,"CABLE INCONNU",(INDEX([1]Base!$A$2:$C$207,MATCH($BW$6,[1]Base!$A$2:$A$207,0),2)))) -> 0.547 | CA28: =CD28-CC28 -> #VALUE! | CC28: =$BB$28+$D$10*((EXP(($BB$26-Q28)/$D$10)+EXP(-($BB$26-Q28)/$D$10))/2-1) -> #VALUE! | CD28: =(INDEX('[1]TABLEAU DE BORD'!$B$13:$R$2000,MATCH('Formalisme RTE'!$H$2,'[1]TABLEAU DE BORD'!$B$13:$B$2000,0),2)+INDEX($CF$15:$CG$2005,MATCH($H$2,$CF$15:$CF$2005,0),2)+INDEX('[1]TABLEAU DE BORD'!$B$13:$R$2000,MATCH('Formalisme RTE'!$H$2,'[1]TABLEAU DE BORD'!$B$13:$B$2000,0),3))-(((INDEX('[1]TABLEAU DE BORD'!$B$13:$R$2000,MATCH('Formalisme RTE'!$H$2,'[1]TABLEAU DE BORD'!$B$13:$B$2000,0),2)+INDEX($CF$15:$CG$2005,MATCH($H$2,$CF$15:$CF$2005,0),2)+INDEX('[1]TABLEAU DE BORD'!$B$13:$R$2000,MATCH('Formalisme RTE'!$H$2,'[1]TABLEAU DE BORD'!$B$13:$B$2000,0),3))-(INDEX('[1]TABLEAU DE BORD'!$B$13:$R$2000,MATCH('Formalisme RTE'!$H$2,'[1]TABLEAU DE BORD'!$B$13:$B$2000,0),8)+INDEX($CI$15:$CJ$2005,MATCH($J$2,$CI$15:$CI$2005,0),2)+INDEX('[1]TABLEAU DE BORD'!$B$13:$R$2000,MATCH('Formalisme RTE'!$H$2,'[1]TABLEAU DE BORD'!$B$13:$B$2000,0),9)))*Q28/$M$18) -> #VALUE! | CF28: ='[1]TABLEAU DE BORD'!B26 | CG28: ='[1]TABLEAU DE BORD'!E26-'[1]TABLEAU DE BORD'!C26 -> #VALUE! | CI28: ='[1]TABLEAU DE BORD'!H26 | CJ28: ='[1]TABLEAU DE BORD'!K26-'[1]TABLEAU DE BORD'!I26 -> #VALUE!
