Workbook
Name N°defacture: FacturesPrincipal[N° commande]
Name rngFacture: 'Bon de commande'!$L$9

Sheet creation de commande
A2: commande
A4: index | B4: Site | C4: Fournisseurs | D4: Date de la commande | E4: N° commande | F4: Taux T.V.A. | G4: Autre | H4: Dépôt | I4: Total de la facture | J4: Notes
A5: 3 | B5: Osterode | C5: Best Hygiene | D5: 43193 | E5: =VLOOKUP(FacturesPrincipal[Site],Listedesclients[],2,FALSE)&"_"&VLOOKUP(FacturesPrincipal[Fournisseurs],Tableau3[#All],2,FALSE)&"_"&TEXT(FacturesPrincipal[Date de la commande],"mmm") -> Ost - CHU_BEST_avr
A6: 2 | B6: Bournay | C6: Carrefour Pro | D6: 43098 | E6: =VLOOKUP(FacturesPrincipal[Site],Listedesclients[],2,FALSE)&"_"&VLOOKUP(FacturesPrincipal[Fournisseurs],Tableau3[#All],2,FALSE)&"_"&TEXT(FacturesPrincipal[Date de la commande],"mmm") -> Bou - CHRS_CARR_déc
A7: 1 | B7: Osterode | C7: Madurin | D7: 43067 | E7: =VLOOKUP(FacturesPrincipal[Site],Listedesclients[],2,FALSE)&"_"&VLOOKUP(FacturesPrincipal[Fournisseurs],Tableau3[#All],2,FALSE)&"_"&TEXT(FacturesPrincipal[Date de la commande],"mmm") -> Ost - CHU_MADU_nov | F7: 0.196 | G7: 0 | H7: 0
A8: Total | G8: =SUBTOTAL(109,FacturesPrincipal[Autre]) -> 0 | H8: =SUBTOTAL(109,FacturesPrincipal[Dépôt]) -> 0 | I8: =SUBTOTAL(109,FacturesPrincipal[Total de la facture]) -> 0 | J8: =SUBTOTAL(103,FacturesPrincipal[Notes]) -> 0

Sheet Site
B3: Nom du site | C3: index | D3: Type | E3: Nom du contact | F3: Adresse | G3: Ville | H3: Département | I3: Code postal | J3: Téléphone | K3: E-mail | L3: Tel fixe | M3: Télécopie
B4: Osterode | C4: =LEFT(B4,3)& " - "&D4 -> Ost - CHU | D4: CHU | E4: Cabit Cyril | F4: 819 route du mas rillier | G4: Rillieux la pape | H4: RHÔNE | I4: 69140
B5: Bournay | C5: =LEFT(B5,3)& " - "&D5 -> Bou - CHRS | D5: CHRS | E5: NDOLI Marius | F5: 4 Route de Saint Jean de Bournay | G5: Bourgoin Jallieux | H5: Isere | I5: 38300
B6: Creuzots | C6: =LEFT(B6,3)& " - "&D6 -> Cre - CHU | D6: CHU | E6: CALVO Stephanie | F6: 1 bis rue des Creuzots | G6: Dijon | H6: Cote d'or | I6: 21000
B7: Caffareli | C7: =LEFT(B7,3)& " - "&D7 -> Caf - CHU | D7: CHU | E7: JASTALE Michel | F7: 57 Cours Caffarelli | G7: Caen | H7: Calvados | I7: 14000
B8: Marconi | C8: =LEFT(B8,3)& " - "&D8 -> Mar - CHU | D8: CHU | E8: MASSON-COURY Rodny | F8: 233 rue Guglielmo Marconi | G8: Monpetlier | H8: Herault | I8: 34000
C9: =LEFT(B9,3)& " - "&D9 -> - SAEL | D9: SAEL | G9: Bezier
C10: =LEFT(B10,3)& " - "&D10 -> - CAO | D10: CAO | E10: LAZLI Nadia | F10: Avenue de L'orne | G10: Caen | H10: Orne | I10: 14000
M11: =SUBTOTAL(103,Listedesclients[Télécopie]) -> 0

Sheet fournisseurs
A4: Nom | B4: Index | C4: Contact | D4: Adresse | E4: C. Postal | F4: Ville | G4: telephone | H4: Mail | I4: Site Web | J4: Frais de port | K4: remise F. | L4: Types
A5: Best Hygiene | B5: BEST | C5: Contact | D5: Route de Mont de Marsan Départementale 20E | E5: 40400 | F5: SAUGNAC ET MURET | G5: telephone | H5: service-client@best-hygiene.com | I5: http://www.best-hygiene.com/ | J5: >< 1 et 250E 20E gratuit >250 | L5: Hygiene
A6: Madurin | B6: MADU | C6: Hervé Deliot | D6: 8 allée du textile | E6: 69120 | F6: Vaulx en velin | G6: 472523323 | H6: herve.deliot@maduruin.fr | I6: http://www.maduruin.fr/home_news.aspx | L6: Fourn. Bureau
A7: Carrefour Pro | B7: CARR | C7: DARBOIS Sophie | D7: ZAE Saint Geurault 1 rue jean Mermoz CS60075 | E7: 91002 | F7: Evry Cedex | G7: 784394122 | H7: sophie_darbois@carrefour.com | J7: 6.88 | K7: -0.04 | L7: Cartes Carrefour
A8: Darty Pro | B8: DART | L8: Electro-ménager
A9: ticket service | B9: TICK | L9: Tickets Service

Sheet Catalogues
A5: fournisseur | B5: Description | C5: Ref: | D5: Quantité | E5: Prix unitaire | F5: lien Produit | G5: Groupe | H5: N° commande
A6: Best Hygiene | B6: colis 96 rouleaux papier toilette | C6: PH CLASSIC 2 | E6: 17.9 | F6: papier toilette | G6: Essuyage | H6: Ost - CHU_BEST_avr
A7: Best Hygiene | B7: Colis 28 rouleaux essuie tout menager | C7: EM-ME | E7: 11.97 | F7: essuie tout | G7: Essuyage | H7: N° commande
A8: Best Hygiene | B8: Colis 40 boites de 100 mouchoirs | C8: MOUCHOIRS | E8: 25.2 | F8: Mouchoirs | G8: Essuyage | H8: Ost - CHU_BEST_avr
A9: Best Hygiene | B9: Sac 20kg lessive linge sans phosphate | C9: LL-ECO | E9: 27.96 | F9: lessive SS Phosphate | G9: Produits ENT. | H9: N° commande
A10: Best Hygiene | B10: Sac 20kg lessive linge desinfectante | C10: LL-BACT | E10: 38.5 | F10: lessive desinfectante | G10: Produits ENT. | H10: N° commande
A11: Best Hygiene | B11: Bidon 5l détergent désodorisant desinfectant (vaisselle et sol) | C11: 3D-NOV | E11: 6.65 | F11: Détergent | G11: Produits ENT. | H11: N° commande
A12: Best Hygiene | B12: Bidon 5l Javel | C12: SANI-JAV5 | E12: 5.14 | F12: Javel | G12: Produits ENT. | H12: N° commande
A13: Best Hygiene | B13: Nettoyant vitre 500ml spray | C13: VIT-6 | E13: 1.54 | F13: Spray 500ml | G13: Produits ENT. | H13: N° commande
A14: Best Hygiene | B14: Nettoyant vitre 5L | C14: VITNOV | E14: 3.5 | F14: Net. VItre 5L | G14: Produits ENT. | H14: N° commande
A15: Best Hygiene | B15: Detartrant WC Gel | C15: SANINOV | E15: 1.13 | F15: Detratrant WC | G15: Produits ENT. | H15: N° commande
A16: Best Hygiene | B16: Decapant Four 5L | C16: DECAPOPTI | E16: 8.03 | F16: Décapant Four | G16: Produits ENT. | H16: N° commande
A17: Best Hygiene | B17: Balai coco 80cm | C17: BACO-80 | E17: 5.75 | F17: Balai COCO 80 | G17: Brosserie | H17: N° commande
... A32: Best Hygiene | B32: Boite 100 gants legerement poudré | C32: GV | E32: 2.94 | F32: Gant Latex P | G32: Protection Corp | H32: N° commande
A33: Madurin | B33: Toner Brother TN 2120 | C33: 785404 | F33: Gant Latex P | G33: Protection Corp | H33: N° commande
A34: Madurin | B34: Stylo Cristal Classique Noir boite 50 | C34: 901813 | E34: 7 | F34: bille noir | G34: ecriture | H34: N° commande
A35: Madurin | B35: stylo Cristal Classique bleu boite 50 | C35: 901791 | E35: 7 | F35: bille bleu | G35: ecriture | H35: Ost - CHU_MADU_nov
A36: Madurin | B36: stylo Cristal Classique vert Boite 50 | C36: 147965 | E36: 7 | F36: bille vert | G36: ecriture | H36: N° commande
A37: Madurin | B37: stylo cristal classique rouge boite 50 | C37: 901805 | E37: 7 | F37: bille Rouge | G37: ecriture | H37: N° commande
A38: Madurin | B38: Surligneur Jaune | C38: 296247 | E38: 11.96 | F38: Fluo jaune | G38: ecriture | H38: N° commande
A39: Madurin | B39: Surligneur vert | C39: 296263 | E39: 11.96 | F39: fluo Vert | G39: ecriture | H39: Ost - CHU_MADU_nov
A40: Madurin | B40: Pochette 4 fluo 4 couleurs | C40: 500836 | E40: 2.1 | F40: 4 fluo 4 couleurs | G40: ecriture | H40: N° commande
A41: Madurin | B41: boite 12 Crayons de papier HB | C41: 581408 | E41: 1.08 | F41: crayon papier hb | G41: ecriture | H41: N° commande
A42: Madurin | B42: boite de 12 Stylo 4 couleurs | C42: 646153 | E42: 27.84 | F42: 4 couleurs | G42: ecriture | H42: N° commande
A43: Madurin | B43: equerre 45° | C43: 208691 | E43: 0.43 | F43: equerre | G43: scolaire | H43: N° commande
A44: Madurin | B44: rapporteur | C44: 208723 | E44: 0.33 | F44: raporteur | G44: scolaire | H44: N° commande
A45: Madurin | B45: triple decimetre | C45: 208683 | E45: 0.45 | F45: regle | G45: scolaire | H45: N° commande
A46: Madurin | B46: 20 Gommes plastiques | C46: 332896 | E46: 8.8 | F46: gomme | G46: correction | H46: N° commande
A47: Madurin | B47: baton de colle | C47: 916981 | E47: 0.92 | G47: Adhesif | H47: N° commande
A48: Madurin | B48: 12 rouleaux de blanc | C48: 288522 | E48: 33.24 | F48: blanc | G48: correction | H48: N° commande
A49: Madurin | B49: Tour de 8 rouleaux de scotch | C49: 911550 | E49: 10.8 | F49: scotch | G49: Adhesif | H49: N° commande
A50: Madurin | B50: ciseaux lames 17 cm | C50: 960340 | E50: 2.7 | F50: ciseau 17cm | G50: decoupe perfo | H50: N° commande
A51: Madurin | B51: compas | C51: 688658 | E51: 2.45 | F51: compas | G51: scolaire | H51: N° commande
A52: Madurin | B52: Trombones boite de 100 | C52: 900389 | E52: 0.69 | F52: trombones | G52: agrafe trombone | H52: Ost - CHU_MADU_nov
A53: Madurin | B53: eplingles boite de 100 | C53: 925044 | E53: 1.89 | F53: epingle | G53: agrafe trombone | H53: N° commande
A54: Madurin | B54: Agrafeuse | C54: 29834 | E54: 24.45 | F54: agrafeuse | G54: agrafe trombone | H54: N° commande
A55: Madurin | B55: Agrafe 26/6 | C55: 581335 | E55: 0.59 | F55: agrafe | G55: agrafe trombone | H55: N° commande
A56: Madurin | B56: intercalaires A4+ 6 touches | C56: 962447 | E56: 1.63 | F56: intercalaire 6 | G56: classement | H56: N° commande
A57: Madurin | B57: intercalaires A4+ 12 touches | C57: 962450 | E57: 2.79 | F57: intercalaire 12 | G57: classement | H57: N° commande
A58: Madurin | B58: classeur 4 anneaux A4 | C58: 4889385 | E58: 2.45 | F58: classeur 4 anneau A4 | G58: classement | H58: N° commande
...

Sheet Bon de commande
B1: =VLOOKUP(L1,'creation de commande'!A4:J8,3,FALSE) -> Best Hygiene | K1: N° | L1: 3
B4: Adresse postale | C4: =VLOOKUP(B1,fournisseurs!A4:L9,4,FALSE) -> Route de Mont de Marsan Départementale 20E | E4: Contact | G4: =VLOOKUP(B1,fournisseurs!A4:L9,3,FALSE) -> Contact | I4: E-mail: | K4: =VLOOKUP(B1,fournisseurs!A4:L9,8,FALSE) -> service-client@best-hygiene.com
B5: Code postal | C5: =VLOOKUP(B1,fournisseurs!A4:L9,5,FALSE) -> 40400 | E5: Numéro de télécopie | G5: =VLOOKUP(B1,fournisseurs!A4:L9,7,FALSE) -> telephone | I5: Site web: | K5: =VLOOKUP(B1,fournisseurs!A4:L9,9,FALSE) -> http://www.best-hygiene.com/
B6: ville | C6: =VLOOKUP(B1,fournisseurs!A4:L9,6,FALSE) -> SAUGNAC ET MURET | E6: Numéro de téléphone | G6: =VLOOKUP(B1,fournisseurs!A4:L9,7,FALSE) -> telephone
B8: Facturer à : | C8: =VLOOKUP(L1,'creation de commande'!A4:J8,2,FALSE) -> Osterode | F8: Référent: | G8: =VLOOKUP(C8,Site!B3:M11,4,FALSE) -> Cabit Cyril | K8: N° de site : | L8: =VLOOKUP(C8,Site!B3:L11,11,FALSE) -> 0
B9: Adresse : | C9: =VLOOKUP(C8,Site!B3:M11,5,FALSE) -> 819 route du mas rillier | F9: Téléphone : | G9: =VLOOKUP(C8,Site!B3:M11,9,FALSE) -> 0 | K9: N° commande | L9: =VLOOKUP(L1,FacturesPrincipal[[#Headers],[#Data]],5,FALSE) -> Ost - CHU_BEST_avr
B10: Code postal | C10: =VLOOKUP(C8,Site!B3:M11,8,FALSE) -> 69140 | F10: Télécopie : | G10: =VLOOKUP(C8,Site!B3:M11,12,FALSE) -> 0
B11: Ville | C11: =VLOOKUP(C8,Site!B3:M11,6,FALSE) -> Rillieux la pape | F11: E-mail : | G11: =VLOOKUP(C8,Site!B3:M11,10,FALSE) -> 0
B12: ="Facture pour : "&IFERROR(VLOOKUP(rngFacture,'creation de commande'!A4:J9,5),"") -> Facture pour : N° commande
B14: Ref: | C14: Description | H14: Quantité | I14: Prix unitaire | K14: Remise | L14: Prix
B15: =IFERROR(INDEX(Détailsfacture[],SMALL(IF(Détailsfacture[N° commande]=rngFacture,ROW(Détailsfacture[])-ROW(Détailsfacture[#Headers])), ROW(1:1)), MATCH($B$14, Détailsfacture[#Headers], 0)),"") -> SANINOV | H15: {=IFERROR(INDEX([1]!Détailsfacture[#Data],SMALL(IF([1]!Détailsfacture[N° de commande]=rngFacture,ROW([1]!Détailsfacture[#Data])-ROW([1]!Détailsfacture[#Headers])), ROW(1:1)), MATCH($H$14, [1]!Détailsfacture[#Headers], 0)),"")} | I15: {=IFERROR(INDEX([1]!Détailsfacture[#Data],SMALL(IF([1]!Détailsfacture[N° de commande]=rngFacture,ROW([1]!Détailsfacture[#Data])-ROW([1]!Détailsfacture[#Headers])), ROW(1:1)), MATCH($I$14, [1]!Détailsfacture[#Headers], 0)),"")} | K15: =IFERROR(INDEX([1]!Détailsfacture[#Data],SMALL(IF([1]!Détailsfacture[N° de commande]=rngFacture,ROW([1]!Détailsfacture[#Data])-ROW([1]!Détailsfacture[#Headers])), ROW(1:1)), MATCH($K$14, [1]!Détailsfacture[#Headers], 0)),"") | L15: =IFERROR((H15*I15)-K15,"")
B16: =IFERROR(INDEX(Détailsfacture[],SMALL(IF(Détailsfacture[N° commande]=rngFacture,ROW(Détailsfacture[])-ROW(Détailsfacture[#Headers])), ROW(2:2)), MATCH($B$14, Détailsfacture[#Headers], 0)),"") | C16: {=IFERROR(INDEX([1]!Détailsfacture[#Data],SMALL(IF([1]!Détailsfacture[N° de commande]=rngFacture,ROW([1]!Détailsfacture[#Data])-ROW([1]!Détailsfacture[#Headers])), ROW(2:2)), MATCH($C$14, [1]!Détailsfacture[#Headers], 0)),"")} | H16: {=IFERROR(INDEX([1]!Détailsfacture[#Data],SMALL(IF([1]!Détailsfacture[N° de commande]=rngFacture,ROW([1]!Détailsfacture[#Data])-ROW([1]!Détailsfacture[#Headers])), ROW(2:2)), MATCH($H$14, [1]!Détailsfacture[#Headers], 0)),"")} | I16: {=IFERROR(INDEX([1]!Détailsfacture[#Data],SMALL(IF([1]!Détailsfacture[N° de commande]=rngFacture,ROW([1]!Détailsfacture[#Data])-ROW([1]!Détailsfacture[#Headers])), ROW(2:2)), MATCH($I$14, [1]!Détailsfacture[#Headers], 0)),"")} | K16: 0 | L16: =IFERROR((H16*I16)-K16,"")
B17: =IFERROR(INDEX(Détailsfacture[],SMALL(IF(Détailsfacture[N° commande]=rngFacture,ROW(Détailsfacture[])-ROW(Détailsfacture[#Headers])), ROW(3:3)), MATCH($B$14, Détailsfacture[#Headers], 0)),"") | C17: {=IFERROR(INDEX([1]!Détailsfacture[#Data],SMALL(IF([1]!Détailsfacture[N° de commande]=rngFacture,ROW([1]!Détailsfacture[#Data])-ROW([1]!Détailsfacture[#Headers])), ROW(3:3)), MATCH($C$14, [1]!Détailsfacture[#Headers], 0)),"")} | H17: {=IFERROR(INDEX([1]!Détailsfacture[#Data],SMALL(IF([1]!Détailsfacture[N° de commande]=rngFacture,ROW([1]!Détailsfacture[#Data])-ROW([1]!Détailsfacture[#Headers])), ROW(3:3)), MATCH($H$14, [1]!Détailsfacture[#Headers], 0)),"")} | I17: {=IFERROR(INDEX([1]!Détailsfacture[#Data],SMALL(IF([1]!Détailsfacture[N° de commande]=rngFacture,ROW([1]!Détailsfacture[#Data])-ROW([1]!Détailsfacture[#Headers])), ROW(3:3)), MATCH($I$14, [1]!Détailsfacture[#Headers], 0)),"")} | K17: 0 | L17: =IFERROR((H17*I17)-K17,"")
B18: =IFERROR(INDEX(Détailsfacture[],SMALL(IF(Détailsfacture[N° commande]=rngFacture,ROW(Détailsfacture[])-ROW(Détailsfacture[#Headers])), ROW(4:4)), MATCH($B$14, Détailsfacture[#Headers], 0)),"") | C18: {=IFERROR(INDEX([1]!Détailsfacture[#Data],SMALL(IF([1]!Détailsfacture[N° de commande]=rngFacture,ROW([1]!Détailsfacture[#Data])-ROW([1]!Détailsfacture[#Headers])), ROW(4:4)), MATCH($C$14, [1]!Détailsfacture[#Headers], 0)),"")} | H18: {=IFERROR(INDEX([1]!Détailsfacture[#Data],SMALL(IF([1]!Détailsfacture[N° de commande]=rngFacture,ROW([1]!Détailsfacture[#Data])-ROW([1]!Détailsfacture[#Headers])), ROW(4:4)), MATCH($H$14, [1]!Détailsfacture[#Headers], 0)),"")} | I18: {=IFERROR(INDEX([1]!Détailsfacture[#Data],SMALL(IF([1]!Détailsfacture[N° de commande]=rngFacture,ROW([1]!Détailsfacture[#Data])-ROW([1]!Détailsfacture[#Headers])), ROW(4:4)), MATCH($I$14, [1]!Détailsfacture[#Headers], 0)),"")} | K18: 0 | L18: =IFERROR((H18*I18)-K18,"")
B19: =IFERROR(INDEX(Détailsfacture[],SMALL(IF(Détailsfacture[N° commande]=rngFacture,ROW(Détailsfacture[])-ROW(Détailsfacture[#Headers])), ROW(5:5)), MATCH($B$14, Détailsfacture[#Headers], 0)),"") | C19: {=IFERROR(INDEX([1]!Détailsfacture[#Data],SMALL(IF([1]!Détailsfacture[N° de commande]=rngFacture,ROW([1]!Détailsfacture[#Data])-ROW([1]!Détailsfacture[#Headers])), ROW(5:5)), MATCH($C$14, [1]!Détailsfacture[#Headers], 0)),"")} | H19: {=IFERROR(INDEX([1]!Détailsfacture[#Data],SMALL(IF([1]!Détailsfacture[N° de commande]=rngFacture,ROW([1]!Détailsfacture[#Data])-ROW([1]!Détailsfacture[#Headers])), ROW(5:5)), MATCH($H$14, [1]!Détailsfacture[#Headers], 0)),"")} | I19: {=IFERROR(INDEX([1]!Détailsfacture[#Data],SMALL(IF([1]!Détailsfacture[N° de commande]=rngFacture,ROW([1]!Détailsfacture[#Data])-ROW([1]!Détailsfacture[#Headers])), ROW(5:5)), MATCH($I$14, [1]!Détailsfacture[#Headers], 0)),"")} | K19: 0 | L19: =IFERROR((H19*I19)-K19,"")
B20: =IFERROR(INDEX(Détailsfacture[],SMALL(IF(Détailsfacture[N° commande]=rngFacture,ROW(Détailsfacture[])-ROW(Détailsfacture[#Headers])), ROW(6:6)), MATCH($B$14, Détailsfacture[#Headers], 0)),"") | C20: {=IFERROR(INDEX([1]!Détailsfacture[#Data],SMALL(IF([1]!Détailsfacture[N° de commande]=rngFacture,ROW([1]!Détailsfacture[#Data])-ROW([1]!Détailsfacture[#Headers])), ROW(6:6)), MATCH($C$14, [1]!Détailsfacture[#Headers], 0)),"")} | H20: {=IFERROR(INDEX([1]!Détailsfacture[#Data],SMALL(IF([1]!Détailsfacture[N° de commande]=rngFacture,ROW([1]!Détailsfacture[#Data])-ROW([1]!Détailsfacture[#Headers])), ROW(6:6)), MATCH($H$14, [1]!Détailsfacture[#Headers], 0)),"")} | I20: {=IFERROR(INDEX([1]!Détailsfacture[#Data],SMALL(IF([1]!Détailsfacture[N° de commande]=rngFacture,ROW([1]!Détailsfacture[#Data])-ROW([1]!Détailsfacture[#Headers])), ROW(6:6)), MATCH($I$14, [1]!Détailsfacture[#Headers], 0)),"")} | K20: 0 | L20: =IFERROR((H20*I20)-K20,"")
B21: =IFERROR(INDEX(Détailsfacture[],SMALL(IF(Détailsfacture[N° commande]=rngFacture,ROW(Détailsfacture[])-ROW(Détailsfacture[#Headers])), ROW(7:7)), MATCH($B$14, Détailsfacture[#Headers], 0)),"") | C21: {=IFERROR(INDEX([1]!Détailsfacture[#Data],SMALL(IF([1]!Détailsfacture[N° de commande]=rngFacture,ROW([1]!Détailsfacture[#Data])-ROW([1]!Détailsfacture[#Headers])), ROW(7:7)), MATCH($C$14, [1]!Détailsfacture[#Headers], 0)),"")} | H21: {=IFERROR(INDEX([1]!Détailsfacture[#Data],SMALL(IF([1]!Détailsfacture[N° de commande]=rngFacture,ROW([1]!Détailsfacture[#Data])-ROW([1]!Détailsfacture[#Headers])), ROW(7:7)), MATCH($H$14, [1]!Détailsfacture[#Headers], 0)),"")} | I21: {=IFERROR(INDEX([1]!Détailsfacture[#Data],SMALL(IF([1]!Détailsfacture[N° de commande]=rngFacture,ROW([1]!Détailsfacture[#Data])-ROW([1]!Détailsfacture[#Headers])), ROW(7:7)), MATCH($I$14, [1]!Détailsfacture[#Headers], 0)),"")} | K21: 0 | L21: =IFERROR((H21*I21)-K21,"")
B22: =IFERROR(INDEX(Détailsfacture[],SMALL(IF(Détailsfacture[N° commande]=rngFacture,ROW(Détailsfacture[])-ROW(Détailsfacture[#Headers])), ROW(8:8)), MATCH($B$14, Détailsfacture[#Headers], 0)),"") | C22: {=IFERROR(INDEX([1]!Détailsfacture[#Data],SMALL(IF([1]!Détailsfacture[N° de commande]=rngFacture,ROW([1]!Détailsfacture[#Data])-ROW([1]!Détailsfacture[#Headers])), ROW(8:8)), MATCH($C$14, [1]!Détailsfacture[#Headers], 0)),"")} | H22: {=IFERROR(INDEX([1]!Détailsfacture[#Data],SMALL(IF([1]!Détailsfacture[N° de commande]=rngFacture,ROW([1]!Détailsfacture[#Data])-ROW([1]!Détailsfacture[#Headers])), ROW(8:8)), MATCH($H$14, [1]!Détailsfacture[#Headers], 0)),"")} | I22: {=IFERROR(INDEX([1]!Détailsfacture[#Data],SMALL(IF([1]!Détailsfacture[N° de commande]=rngFacture,ROW([1]!Détailsfacture[#Data])-ROW([1]!Détailsfacture[#Headers])), ROW(8:8)), MATCH($I$14, [1]!Détailsfacture[#Headers], 0)),"")} | K22: 0 | L22: =IFERROR((H22*I22)-K22,"")
B23: =IFERROR(INDEX(Détailsfacture[],SMALL(IF(Détailsfacture[N° commande]=rngFacture,ROW(Détailsfacture[])-ROW(Détailsfacture[#Headers])), ROW(9:9)), MATCH($B$14, Détailsfacture[#Headers], 0)),"") | C23: {=IFERROR(INDEX([1]!Détailsfacture[#Data],SMALL(IF([1]!Détailsfacture[N° de commande]=rngFacture,ROW([1]!Détailsfacture[#Data])-ROW([1]!Détailsfacture[#Headers])), ROW(9:9)), MATCH($C$14, [1]!Détailsfacture[#Headers], 0)),"")} | H23: {=IFERROR(INDEX([1]!Détailsfacture[#Data],SMALL(IF([1]!Détailsfacture[N° de commande]=rngFacture,ROW([1]!Détailsfacture[#Data])-ROW([1]!Détailsfacture[#Headers])), ROW(9:9)), MATCH($H$14, [1]!Détailsfacture[#Headers], 0)),"")} | I23: {=IFERROR(INDEX([1]!Détailsfacture[#Data],SMALL(IF([1]!Détailsfacture[N° de commande]=rngFacture,ROW([1]!Détailsfacture[#Data])-ROW([1]!Détailsfacture[#Headers])), ROW(9:9)), MATCH($I$14, [1]!Détailsfacture[#Headers], 0)),"")} | K23: 0 | L23: =IFERROR((H23*I23)-K23,"")
B24: =IFERROR(INDEX(Détailsfacture[],SMALL(IF(Détailsfacture[N° commande]=rngFacture,ROW(Détailsfacture[])-ROW(Détailsfacture[#Headers])), ROW(10:10)), MATCH($B$14, Détailsfacture[#Headers], 0)),"") | C24: {=IFERROR(INDEX([1]!Détailsfacture[#Data],SMALL(IF([1]!Détailsfacture[N° de commande]=rngFacture,ROW([1]!Détailsfacture[#Data])-ROW([1]!Détailsfacture[#Headers])), ROW(10:10)), MATCH($C$14, [1]!Détailsfacture[#Headers], 0)),"")} | H24: {=IFERROR(INDEX([1]!Détailsfacture[#Data],SMALL(IF([1]!Détailsfacture[N° de commande]=rngFacture,ROW([1]!Détailsfacture[#Data])-ROW([1]!Détailsfacture[#Headers])), ROW(10:10)), MATCH($H$14, [1]!Détailsfacture[#Headers], 0)),"")} | I24: {=IFERROR(INDEX([1]!Détailsfacture[#Data],SMALL(IF([1]!Détailsfacture[N° de commande]=rngFacture,ROW([1]!Détailsfacture[#Data])-ROW([1]!Détailsfacture[#Headers])), ROW(10:10)), MATCH($I$14, [1]!Détailsfacture[#Headers], 0)),"")} | K24: 0 | L24: =IFERROR((H24*I24)-K24,"")
B25: =IFERROR(INDEX(Détailsfacture[],SMALL(IF(Détailsfacture[N° commande]=rngFacture,ROW(Détailsfacture[])-ROW(Détailsfacture[#Headers])), ROW(11:11)), MATCH($B$14, Détailsfacture[#Headers], 0)),"") | C25: {=IFERROR(INDEX([1]!Détailsfacture[#Data],SMALL(IF([1]!Détailsfacture[N° de commande]=rngFacture,ROW([1]!Détailsfacture[#Data])-ROW([1]!Détailsfacture[#Headers])), ROW(11:11)), MATCH($C$14, [1]!Détailsfacture[#Headers], 0)),"")} | H25: {=IFERROR(INDEX([1]!Détailsfacture[#Data],SMALL(IF([1]!Détailsfacture[N° de commande]=rngFacture,ROW([1]!Détailsfacture[#Data])-ROW([1]!Détailsfacture[#Headers])), ROW(11:11)), MATCH($H$14, [1]!Détailsfacture[#Headers], 0)),"")} | I25: {=IFERROR(INDEX([1]!Détailsfacture[#Data],SMALL(IF([1]!Détailsfacture[N° de commande]=rngFacture,ROW([1]!Détailsfacture[#Data])-ROW([1]!Détailsfacture[#Headers])), ROW(11:11)), MATCH($I$14, [1]!Détailsfacture[#Headers], 0)),"")} | K25: 0 | L25: =IFERROR((H25*I25)-K25,"")
B26: =IFERROR(INDEX(Détailsfacture[],SMALL(IF(Détailsfacture[N° commande]=rngFacture,ROW(Détailsfacture[])-ROW(Détailsfacture[#Headers])), ROW(12:12)), MATCH($B$14, Détailsfacture[#Headers], 0)),"") | C26: {=IFERROR(INDEX([1]!Détailsfacture[#Data],SMALL(IF([1]!Détailsfacture[N° de commande]=rngFacture,ROW([1]!Détailsfacture[#Data])-ROW([1]!Détailsfacture[#Headers])), ROW(12:12)), MATCH($C$14, [1]!Détailsfacture[#Headers], 0)),"")} | H26: {=IFERROR(INDEX([1]!Détailsfacture[#Data],SMALL(IF([1]!Détailsfacture[N° de commande]=rngFacture,ROW([1]!Détailsfacture[#Data])-ROW([1]!Détailsfacture[#Headers])), ROW(12:12)), MATCH($H$14, [1]!Détailsfacture[#Headers], 0)),"")} | I26: {=IFERROR(INDEX([1]!Détailsfacture[#Data],SMALL(IF([1]!Détailsfacture[N° de commande]=rngFacture,ROW([1]!Détailsfacture[#Data])-ROW([1]!Détailsfacture[#Headers])), ROW(12:12)), MATCH($I$14, [1]!Détailsfacture[#Headers], 0)),"")} | K26: 0 | L26: =IFERROR((H26*I26)-K26,"")
B27: =IFERROR(INDEX(Détailsfacture[],SMALL(IF(Détailsfacture[N° commande]=rngFacture,ROW(Détailsfacture[])-ROW(Détailsfacture[#Headers])), ROW(13:13)), MATCH($B$14, Détailsfacture[#Headers], 0)),"") | C27: {=IFERROR(INDEX([1]!Détailsfacture[#Data],SMALL(IF([1]!Détailsfacture[N° de commande]=rngFacture,ROW([1]!Détailsfacture[#Data])-ROW([1]!Détailsfacture[#Headers])), ROW(14:14)), MATCH($C$14, [1]!Détailsfacture[#Headers], 0)),"")} | H27: {=IFERROR(INDEX([1]!Détailsfacture[#Data],SMALL(IF([1]!Détailsfacture[N° de commande]=rngFacture,ROW([1]!Détailsfacture[#Data])-ROW([1]!Détailsfacture[#Headers])), ROW(14:14)), MATCH($H$14, [1]!Détailsfacture[#Headers], 0)),"")} | I27: {=IFERROR(INDEX([1]!Détailsfacture[#Data],SMALL(IF([1]!Détailsfacture[N° de commande]=rngFacture,ROW([1]!Détailsfacture[#Data])-ROW([1]!Détailsfacture[#Headers])), ROW(14:14)), MATCH($I$14, [1]!Détailsfacture[#Headers], 0)),"")} | K27: 0 | L27: =IFERROR((H27*I27)-K27,"")
B28: =IFERROR(INDEX(Détailsfacture[],SMALL(IF(Détailsfacture[N° commande]=rngFacture,ROW(Détailsfacture[])-ROW(Détailsfacture[#Headers])), ROW(14:14)), MATCH($B$14, Détailsfacture[#Headers], 0)),"") | C28: {=IFERROR(INDEX([1]!Détailsfacture[#Data],SMALL(IF([1]!Détailsfacture[N° de commande]=rngFacture,ROW([1]!Détailsfacture[#Data])-ROW([1]!Détailsfacture[#Headers])), ROW(15:15)), MATCH($C$14, [1]!Détailsfacture[#Headers], 0)),"")} | H28: {=IFERROR(INDEX([1]!Détailsfacture[#Data],SMALL(IF([1]!Détailsfacture[N° de commande]=rngFacture,ROW([1]!Détailsfacture[#Data])-ROW([1]!Détailsfacture[#Headers])), ROW(15:15)), MATCH($H$14, [1]!Détailsfacture[#Headers], 0)),"")} | I28: {=IFERROR(INDEX([1]!Détailsfacture[#Data],SMALL(IF([1]!Détailsfacture[N° de commande]=rngFacture,ROW([1]!Détailsfacture[#Data])-ROW([1]!Détailsfacture[#Headers])), ROW(15:15)), MATCH($I$14, [1]!Détailsfacture[#Headers], 0)),"")} | K28: 0 | L28: =IFERROR((H28*I28)-K28,"")
B29: =IFERROR(INDEX(Détailsfacture[],SMALL(IF(Détailsfacture[N° commande]=rngFacture,ROW(Détailsfacture[])-ROW(Détailsfacture[#Headers])), ROW(15:15)), MATCH($B$14, Détailsfacture[#Headers], 0)),"") | C29: {=IFERROR(INDEX([1]!Détailsfacture[#Data],SMALL(IF([1]!Détailsfacture[N° de commande]=rngFacture,ROW([1]!Détailsfacture[#Data])-ROW([1]!Détailsfacture[#Headers])), ROW(16:16)), MATCH($C$14, [1]!Détailsfacture[#Headers], 0)),"")} | H29: {=IFERROR(INDEX([1]!Détailsfacture[#Data],SMALL(IF([1]!Détailsfacture[N° de commande]=rngFacture,ROW([1]!Détailsfacture[#Data])-ROW([1]!Détailsfacture[#Headers])), ROW(16:16)), MATCH($H$14, [1]!Détailsfacture[#Headers], 0)),"")} | I29: {=IFERROR(INDEX([1]!Détailsfacture[#Data],SMALL(IF([1]!Détailsfacture[N° de commande]=rngFacture,ROW([1]!Détailsfacture[#Data])-ROW([1]!Détailsfacture[#Headers])), ROW(16:16)), MATCH($I$14, [1]!Détailsfacture[#Headers], 0)),"")} | K29: 0 | L29: =IFERROR((H29*I29)-K29,"")
B30: =IFERROR(INDEX(Détailsfacture[],SMALL(IF(Détailsfacture[N° commande]=rngFacture,ROW(Détailsfacture[])-ROW(Détailsfacture[#Headers])), ROW(16:16)), MATCH($B$14, Détailsfacture[#Headers], 0)),"") | C30: {=IFERROR(INDEX([1]!Détailsfacture[#Data],SMALL(IF([1]!Détailsfacture[N° de commande]=rngFacture,ROW([1]!Détailsfacture[#Data])-ROW([1]!Détailsfacture[#Headers])), ROW(17:17)), MATCH($C$14, [1]!Détailsfacture[#Headers], 0)),"")} | H30: {=IFERROR(INDEX([1]!Détailsfacture[#Data],SMALL(IF([1]!Détailsfacture[N° de commande]=rngFacture,ROW([1]!Détailsfacture[#Data])-ROW([1]!Détailsfacture[#Headers])), ROW(17:17)), MATCH($H$14, [1]!Détailsfacture[#Headers], 0)),"")} | I30: {=IFERROR(INDEX([1]!Détailsfacture[#Data],SMALL(IF([1]!Détailsfacture[N° de commande]=rngFacture,ROW([1]!Détailsfacture[#Data])-ROW([1]!Détailsfacture[#Headers])), ROW(17:17)), MATCH($I$14, [1]!Détailsfacture[#Headers], 0)),"")} | K30: 0 | L30: =IFERROR((H30*I30)-K30,"")
B31: =IFERROR(INDEX(Détailsfacture[],SMALL(IF(Détailsfacture[N° commande]=rngFacture,ROW(Détailsfacture[])-ROW(Détailsfacture[#Headers])), ROW(17:17)), MATCH($B$14, Détailsfacture[#Headers], 0)),"") | C31: {=IFERROR(INDEX([1]!Détailsfacture[#Data],SMALL(IF([1]!Détailsfacture[N° de commande]=rngFacture,ROW([1]!Détailsfacture[#Data])-ROW([1]!Détailsfacture[#Headers])), ROW(18:18)), MATCH($C$14, [1]!Détailsfacture[#Headers], 0)),"")} | H31: {=IFERROR(INDEX([1]!Détailsfacture[#Data],SMALL(IF([1]!Détailsfacture[N° de commande]=rngFacture,ROW([1]!Détailsfacture[#Data])-ROW([1]!Détailsfacture[#Headers])), ROW(18:18)), MATCH($H$14, [1]!Détailsfacture[#Headers], 0)),"")} | I31: {=IFERROR(INDEX([1]!Détailsfacture[#Data],SMALL(IF([1]!Détailsfacture[N° de commande]=rngFacture,ROW([1]!Détailsfacture[#Data])-ROW([1]!Détailsfacture[#Headers])), ROW(18:18)), MATCH($I$14, [1]!Détailsfacture[#Headers], 0)),"")} | K31: 0 | L31: =IFERROR((H31*I31)-K31,"")
B32: =IFERROR(INDEX(Détailsfacture[],SMALL(IF(Détailsfacture[N° commande]=rngFacture,ROW(Détailsfacture[])-ROW(Détailsfacture[#Headers])), ROW(18:18)), MATCH($B$14, Détailsfacture[#Headers], 0)),"") | C32: {=IFERROR(INDEX([1]!Détailsfacture[#Data],SMALL(IF([1]!Détailsfacture[N° de commande]=rngFacture,ROW([1]!Détailsfacture[#Data])-ROW([1]!Détailsfacture[#Headers])), ROW(19:19)), MATCH($C$14, [1]!Détailsfacture[#Headers], 0)),"")} | H32: {=IFERROR(INDEX([1]!Détailsfacture[#Data],SMALL(IF([1]!Détailsfacture[N° de commande]=rngFacture,ROW([1]!Détailsfacture[#Data])-ROW([1]!Détailsfacture[#Headers])), ROW(19:19)), MATCH($H$14, [1]!Détailsfacture[#Headers], 0)),"")} | I32: {=IFERROR(INDEX([1]!Détailsfacture[#Data],SMALL(IF([1]!Détailsfacture[N° de commande]=rngFacture,ROW([1]!Détailsfacture[#Data])-ROW([1]!Détailsfacture[#Headers])), ROW(19:19)), MATCH($I$14, [1]!Détailsfacture[#Headers], 0)),"")} | K32: 0 | L32: =IFERROR((H32*I32)-K32,"")
B33: =IFERROR(INDEX(Détailsfacture[],SMALL(IF(Détailsfacture[N° commande]=rngFacture,ROW(Détailsfacture[])-ROW(Détailsfacture[#Headers])), ROW(19:19)), MATCH($B$14, Détailsfacture[#Headers], 0)),"") | C33: {=IFERROR(INDEX([1]!Détailsfacture[#Data],SMALL(IF([1]!Détailsfacture[N° de commande]=rngFacture,ROW([1]!Détailsfacture[#Data])-ROW([1]!Détailsfacture[#Headers])), ROW(20:20)), MATCH($C$14, [1]!Détailsfacture[#Headers], 0)),"")} | H33: {=IFERROR(INDEX([1]!Détailsfacture[#Data],SMALL(IF([1]!Détailsfacture[N° de commande]=rngFacture,ROW([1]!Détailsfacture[#Data])-ROW([1]!Détailsfacture[#Headers])), ROW(20:20)), MATCH($H$14, [1]!Détailsfacture[#Headers], 0)),"")} | I33: {=IFERROR(INDEX([1]!Détailsfacture[#Data],SMALL(IF([1]!Détailsfacture[N° de commande]=rngFacture,ROW([1]!Détailsfacture[#Data])-ROW([1]!Détailsfacture[#Headers])), ROW(20:20)), MATCH($I$14, [1]!Détailsfacture[#Headers], 0)),"")} | K33: 0 | L33: =IFERROR((H33*I33)-K33,"")
B34: =IFERROR(INDEX(Détailsfacture[],SMALL(IF(Détailsfacture[N° commande]=rngFacture,ROW(Détailsfacture[])-ROW(Détailsfacture[#Headers])), ROW(20:20)), MATCH($B$14, Détailsfacture[#Headers], 0)),"") | C34: {=IFERROR(INDEX([1]!Détailsfacture[#Data],SMALL(IF([1]!Détailsfacture[N° de commande]=rngFacture,ROW([1]!Détailsfacture[#Data])-ROW([1]!Détailsfacture[#Headers])), ROW(21:21)), MATCH($C$14, [1]!Détailsfacture[#Headers], 0)),"")} | H34: {=IFERROR(INDEX([1]!Détailsfacture[#Data],SMALL(IF([1]!Détailsfacture[N° de commande]=rngFacture,ROW([1]!Détailsfacture[#Data])-ROW([1]!Détailsfacture[#Headers])), ROW(21:21)), MATCH($H$14, [1]!Détailsfacture[#Headers], 0)),"")} | I34: {=IFERROR(INDEX([1]!Détailsfacture[#Data],SMALL(IF([1]!Détailsfacture[N° de commande]=rngFacture,ROW([1]!Détailsfacture[#Data])-ROW([1]!Détailsfacture[#Headers])), ROW(21:21)), MATCH($I$14, [1]!Détailsfacture[#Headers], 0)),"")} | K34: 0 | L34: =IFERROR((H34*I34)-K34,"")
B35: =IFERROR(INDEX(Détailsfacture[],SMALL(IF(Détailsfacture[N° commande]=rngFacture,ROW(Détailsfacture[])-ROW(Détailsfacture[#Headers])), ROW(21:21)), MATCH($B$14, Détailsfacture[#Headers], 0)),"") | C35: {=IFERROR(INDEX([1]!Détailsfacture[#Data],SMALL(IF([1]!Détailsfacture[N° de commande]=rngFacture,ROW([1]!Détailsfacture[#Data])-ROW([1]!Détailsfacture[#Headers])), ROW(22:22)), MATCH($C$14, [1]!Détailsfacture[#Headers], 0)),"")} | H35: {=IFERROR(INDEX([1]!Détailsfacture[#Data],SMALL(IF([1]!Détailsfacture[N° de commande]=rngFacture,ROW([1]!Détailsfacture[#Data])-ROW([1]!Détailsfacture[#Headers])), ROW(22:22)), MATCH($H$14, [1]!Détailsfacture[#Headers], 0)),"")} | I35: {=IFERROR(INDEX([1]!Détailsfacture[#Data],SMALL(IF([1]!Détailsfacture[N° de commande]=rngFacture,ROW([1]!Détailsfacture[#Data])-ROW([1]!Détailsfacture[#Headers])), ROW(22:22)), MATCH($I$14, [1]!Détailsfacture[#Headers], 0)),"")} | K35: 0 | L35: =IFERROR((H35*I35)-K35,"")
B36: =IFERROR(INDEX(Détailsfacture[],SMALL(IF(Détailsfacture[N° commande]=rngFacture,ROW(Détailsfacture[])-ROW(Détailsfacture[#Headers])), ROW(22:22)), MATCH($B$14, Détailsfacture[#Headers], 0)),"") | C36: {=IFERROR(INDEX([1]!Détailsfacture[#Data],SMALL(IF([1]!Détailsfacture[N° de commande]=rngFacture,ROW([1]!Détailsfacture[#Data])-ROW([1]!Détailsfacture[#Headers])), ROW(23:23)), MATCH($C$14, [1]!Détailsfacture[#Headers], 0)),"")} | H36: {=IFERROR(INDEX([1]!Détailsfacture[#Data],SMALL(IF([1]!Détailsfacture[N° de commande]=rngFacture,ROW([1]!Détailsfacture[#Data])-ROW([1]!Détailsfacture[#Headers])), ROW(23:23)), MATCH($H$14, [1]!Détailsfacture[#Headers], 0)),"")} | I36: {=IFERROR(INDEX([1]!Détailsfacture[#Data],SMALL(IF([1]!Détailsfacture[N° de commande]=rngFacture,ROW([1]!Détailsfacture[#Data])-ROW([1]!Détailsfacture[#Headers])), ROW(23:23)), MATCH($I$14, [1]!Détailsfacture[#Headers], 0)),"")} | K36: 0 | L36: =IFERROR((H36*I36)-K36,"")
B37: =IFERROR(INDEX(Détailsfacture[],SMALL(IF(Détailsfacture[N° commande]=rngFacture,ROW(Détailsfacture[])-ROW(Détailsfacture[#Headers])), ROW(23:23)), MATCH($B$14, Détailsfacture[#Headers], 0)),"") | C37: {=IFERROR(INDEX([1]!Détailsfacture[#Data],SMALL(IF([1]!Détailsfacture[N° de commande]=rngFacture,ROW([1]!Détailsfacture[#Data])-ROW([1]!Détailsfacture[#Headers])), ROW(24:24)), MATCH($C$14, [1]!Détailsfacture[#Headers], 0)),"")} | H37: {=IFERROR(INDEX([1]!Détailsfacture[#Data],SMALL(IF([1]!Détailsfacture[N° de commande]=rngFacture,ROW([1]!Détailsfacture[#Data])-ROW([1]!Détailsfacture[#Headers])), ROW(24:24)), MATCH($H$14, [1]!Détailsfacture[#Headers], 0)),"")} | I37: {=IFERROR(INDEX([1]!Détailsfacture[#Data],SMALL(IF([1]!Détailsfacture[N° de commande]=rngFacture,ROW([1]!Détailsfacture[#Data])-ROW([1]!Détailsfacture[#Headers])), ROW(24:24)), MATCH($I$14, [1]!Détailsfacture[#Headers], 0)),"")} | K37: 0 | L37: =IFERROR((H37*I37)-K37,"")
B38: =IFERROR(INDEX(Détailsfacture[],SMALL(IF(Détailsfacture[N° commande]=rngFacture,ROW(Détailsfacture[])-ROW(Détailsfacture[#Headers])), ROW(24:24)), MATCH($B$14, Détailsfacture[#Headers], 0)),"") | C38: {=IFERROR(INDEX([1]!Détailsfacture[#Data],SMALL(IF([1]!Détailsfacture[N° de commande]=rngFacture,ROW([1]!Détailsfacture[#Data])-ROW([1]!Détailsfacture[#Headers])), ROW(25:25)), MATCH($C$14, [1]!Détailsfacture[#Headers], 0)),"")} | H38: {=IFERROR(INDEX([1]!Détailsfacture[#Data],SMALL(IF([1]!Détailsfacture[N° de commande]=rngFacture,ROW([1]!Détailsfacture[#Data])-ROW([1]!Détailsfacture[#Headers])), ROW(25:25)), MATCH($H$14, [1]!Détailsfacture[#Headers], 0)),"")} | I38: {=IFERROR(INDEX([1]!Détailsfacture[#Data],SMALL(IF([1]!Détailsfacture[N° de commande]=rngFacture,ROW([1]!Détailsfacture[#Data])-ROW([1]!Détailsfacture[#Headers])), ROW(25:25)), MATCH($I$14, [1]!Détailsfacture[#Headers], 0)),"")} | K38: 0 | L38: =IFERROR((H38*I38)-K38,"")
B39: =IFERROR(INDEX(Détailsfacture[],SMALL(IF(Détailsfacture[N° commande]=rngFacture,ROW(Détailsfacture[])-ROW(Détailsfacture[#Headers])), ROW(25:25)), MATCH($B$14, Détailsfacture[#Headers], 0)),"") | C39: {=IFERROR(INDEX([1]!Détailsfacture[#Data],SMALL(IF([1]!Détailsfacture[N° de commande]=rngFacture,ROW([1]!Détailsfacture[#Data])-ROW([1]!Détailsfacture[#Headers])), ROW(26:26)), MATCH($C$14, [1]!Détailsfacture[#Headers], 0)),"")} | H39: {=IFERROR(INDEX([1]!Détailsfacture[#Data],SMALL(IF([1]!Détailsfacture[N° de commande]=rngFacture,ROW([1]!Détailsfacture[#Data])-ROW([1]!Détailsfacture[#Headers])), ROW(26:26)), MATCH($H$14, [1]!Détailsfacture[#Headers], 0)),"")} | I39: {=IFERROR(INDEX([1]!Détailsfacture[#Data],SMALL(IF([1]!Détailsfacture[N° de commande]=rngFacture,ROW([1]!Détailsfacture[#Data])-ROW([1]!Détailsfacture[#Headers])), ROW(26:26)), MATCH($I$14, [1]!Détailsfacture[#Headers], 0)),"")} | K39: ² | L39: =IFERROR((H39*I39)-K39,"")
K40: Sous-total de la facture | L40: =SUM(L15:L39) -> 0
K41: Taux T.V.A. | L41: =VLOOKUP(rngFacture,[1]!FacturesPrincipal[#Data],5) -> #REF!
K42: T.V.A. ventes | L42: =L40*L41 -> #REF!
K43: Autre | L43: =VLOOKUP(rngFacture,[1]!FacturesPrincipal[#Data],7) -> #REF!
B44: ="Définir tous les chèques à l’ordre de "&Nomdelasociété&"." -> #NAME? | K44: Dépôt reçu | L44: =VLOOKUP(rngFacture,[1]!FacturesPrincipal[#Data],6) -> #REF!
...

Sheet L.D.
A1: Listes déroulantes
A3: Types de sites | B3: Type Fourn. | C3: Type Fourn.2
A4: CHU | B4: Hygiene | C4: Essuyage
A5: CHRS | B5: Fourn. Bureau | C5: Brosserie
A6: CAO | B6: Alimentaire | C6: Produits ENT.
A7: IML | B7: Cartes Carrefour | C7: Anti Nuisible
A8: ACT | B8: Tickets Service | C8: Embalage
A9: PDF | B9: Blanchisserie | C9: Protection Corp
A10: SAEL | C10: ecriture
A11: ALT | B11: Electro-ménager | C11: Adhesif
B12: Mobilier | C12: decoupe perfo
C13: scolaire
C14: agrafe trombone
C15: classement
C16: poste
C17: fourniture scolaire
C18: impression
C19: cahier
C20: correction
C21: Alimentaire
